{"text_format":"1","workbook":"xlsx","n_sheets":9,"sheets":["注意事項","学校情報","出場選手エントリー票","大会申込用紙 男","大会申込用紙 女","女子七種走高跳","氏名データ","出場選手エントリー票　男","出場選手エントリー票　女"],"not_rendered":{"charts":0,"images":0,"macros":1,"external_links":0,"defined_names":20,"comments":0,"pivot_tables":0},"unopened":[],"bounds":{"document_bytes":16777216,"sheet_cells":100000,"rows_first":2000,"rows_last":500,"rows_between":2000,"halvings":0,"cell_chars":16384,"cell_head_chars":4096},"cells_cut":0,"cells_raw":0,"read":"whole","date_system":"1900"}

{"sheet":"注意事項","index":0,"n_rows":43,"n_cols":43,"rows_kept":43,"cut":false,"hidden":false,"merged":[[67,3,67,4],[63,2,63,4],[64,2,64,4],[62,6,62,8],[63,6,63,8],[62,2,62,4],[33,19,35,19],[33,20,33,22],[0,0,0,30],[6,0,6,2],[15,2,15,25],[14,8,14,9],[8,11,8,25],[33,24,33,26],[33,28,33,30],[5,1,5,2],[5,5,5,7],[14,5,14,6],[8,1,8,9],[5,3,5,4],[33,0,34,10],[6,3,6,9],[5,8,5,9],[14,2,14,3],[5,10,5,16],[7,4,7,11],[33,11,35,11],[33,12,33,14],[33,15,35,15],[33,16,33,18]]}
[{"$f":"出場選手エントリー票!I1&\"の申し込みについて \"","v":"東京都高体連　第５・６支部　秋季競技会の申し込みについて "},null,null,null,null,null,null,null,null,null,null,null,null,null,null,null,null,null,null,null,null,null,null,null,null,null,null,null,null,null,null,null,null,null,null,null,null,null,"kaneda"]
["⓪プログラム代は有料です。",null,null,null,null,null,null,null,null,null,"※学校で男女各1部（男女出場校は２部）のプログラム購入が必要です。"]
["①申し込み"]
["　大会の申し込みは、メールにて行います。下記のメールアドレスに申し込みファイルを添付して送信してください。"]
[null,null,null,null,null,null,null,null,null,null,null,null,null,null,null,null,null,null,null,null,null,null,null,null,null,null,null,null,null,null,null,null,null,null,null,null,"東京都高体連第一支部　春季競技会",null,"100m"]
[null,"2022-09-19",null,"～",null,"2022-09-23",null,null,"13:00:00",null,"までにお願いします。（期限厳守）",null,null,null,null,null,null,"＊受信されると返信のメールが届きます。",null,null,null,null,null,null,null,null,null,null,null,null,null,null,null,null,null,null,"東京都高体連第一支部　夏季競技会",null,"800m"]
["　メールの題名は",null,null,{"$f":"IF(学校情報!D1=\"\",\"学校番号＋○○○高等学校\",学校情報!D1&学校情報!D2)","v":"学校番号＋○○○高等学校"},null,null,null,null,null,null,null,null,null,null,null,null,null,null,null,null,null,null,null,null,null,null,null,null,null,null,null,"200m",null,null,null,null,"東京都高等学校新人陸上競技大会　第一支部予選会",null,"1500ｍ"]
["添付ファイルの名前は",null,null,null,{"$f":"IF(学校情報!D1=\"\",\"学校番号＋○○○高等学校\",学校情報!D1&学校情報!D2&\".xlsm\")","v":"学校番号＋○○○高等学校"}]
["5支部","tokyoriku5shibu@yahoo.co.jp",null,null,null,null,null,null,null,null,"6支部","tokyoriku6shibu@yahoo.co.jp"]
[null,null,null,null,null,null,null,null,null,null,null,null,null,null,null,null,null,null,null,null,null,null,null,null,null,null,null,null,null,null,null,"400m",null,null,null,null,"東京都高体連第一支部　秋季競技会",null,"5000m",null,null,{"$f":"CONCATENATE(AP12,\"\\\",AP11)","v":"\\\\10.111.19.244\\東京都立南多摩中等教育学校\\003_職員室フォルダ\\001. 共有フォルダ（元nas-1）\\021. 部活動\\各部活動フォルダ\\陸上競技部\\②　後期\\②　大会申込\\2022\\0920"},"都立多摩科学技術高校１階ｻｲｴﾝｽﾎｰﾙ（最寄り駅：JR武蔵小金井）にて"]
["②大会申込用紙・申し込み代金の支払い",null,null,null,null,null,null,null,null,null,null,null,null,null,null,null,null,null,null,null,null,null,null,null,null,null,null,null,null,null,null,"kaneda",null,null,null,null,null,null,null,null,null,{"$f":"学校情報!D1&学校情報!D2&注意事項!AP14","v":"0920"},"都立立川高等学校　多目的ホール（１階　正面から入って右奥）"]
["　メールにて申し込みをした上で、下記の日時に大会申込用紙と申し込み代金をご持参ください。",null,null,null,null,null,null,null,null,null,null,null,null,null,null,null,null,null,null,null,null,null,null,null,null,null,null,null,null,null,null,"3000m",null,null,null,null,null,null,"400mH",null,null,"\\\\10.111.19.244\\東京都立南多摩中等教育学校\\003_職員室フォルダ\\001. 共有フォルダ（元nas-1）\\021. 部活動\\各部活動フォルダ\\陸上競技部\\②　後期\\②　大会申込\\2022","都立府中工業高等学校（最寄り駅：京王線東府中駅）にて"]
["　「大会申込用紙　男」と「大会申込用紙　女」は、「出場選手エントリー票」（男女同一シート）に記入すると自動的に作成されます。",null,null,null,null,null,null,null,null,null,null,null,null,null,null,null,null,null,null,null,null,null,null,null,null,null,null,null,null,null,null,"800m",null,null,null,null,null,null,"100mH",null,null,{"$f":"NOW()","v":"2022-09-20T13:20:19.360"},"中央大学附属高校（最寄り駅：JR中央線武蔵小金井駅より中大循環10分）"]
[null,null,null,null,null,null,null,null,null,null,null,null,null,null,null,null,null,null,null,null,null,null,null,null,null,null,null,null,null,null,null,null,null,null,null,null,null,null,null,null,null,{"$f":"TEXT(AP13,\"mmdd\")","v":"0920"}]
[null,"日時","2022-09-27",null,"(火)","18:00:00",null,"から","18:30:00",null,"まで",null,null,null,null,null,null,null,null,null,null,null,null,null,null,null,null,null,null,null,null,null,null,null,null,null,null,null,null,null,null,"【支部新人】"]
[null,"場所","都立府中工業高等学校（最寄り駅：京王線東府中駅）にて",null,null,null,null,null,null,null,null,null,null,null,null,null,null,null,null,null,null,null,null,null,null,null,null,null,null,null,null,"5000m",null,null,null,null,null,null,"3000mSC"]
[null,null,"※大会申込用紙・申し込み代金を忘れないようにお願いします。",null,null,null,null,null,null,null,null,null,null,null,null,null,null,null,null,null,null,null,null,null,null,null,null,null,null,null,null,"100ｍH",null,null,null,null,null,null,"走高跳"]
[null,null,"※メールが届かなかった時のために、「出場選手エントリー票」も印刷してご持参下さい。",null,null,null,null,null,null,null,null,null,null,null,null,null,null,null,null,null,null,null,null,null,null,null,null,null,null,null,null,"110ｍH",null,null,null,null,null,null,"走幅跳"]
[]
["③「申し込みファイル」及び「大会申込用紙」の作成について"]
[null,"１　　「学校情報」シートに必要事項を記入してください。"]
[null,"２　　「出場選手エントリー票」シートに記入例を参考にして記入してください。"]
[null,null,"※大会要項をよく確認し記入してください。特に出場制限のある種目には注意してください。"]
[null,null,"※足りないときは、もう1つファイルを作成して下さい。その際、ファイルには学校名の後に1．2と番号をつけて下さい。",null,null,null,null,null,null,null,null,null,null,null,null,null,null,null,null,null,null,null,null,null,null,null,null,null,null,null,null,"3000W",null,null,null,null,null,null,"砲丸投"]
[null,null,null,"例：「学校番号＋○○○○高等学校1.xls」",null,null,null,null,null,null,null,null,null,null,null,null,null,null,null,null,null,null,null,null,null,null,null,null,null,null,null,null,null,null,null,null,null,null,"円盤投"]
[null,null,null,"　　 「学校番号＋○○○○高等学校2.xls」",null,null,null,null,null,null,null,null,null,null,null,null,null,null,null,null,null,null,null,null,null,null,null,null,null,null,null,null,null,null,null,null,null,null,"ﾊﾝﾏｰ投"]
[null,"３　　「出場選手エントリー票」シートの入力が完了したら「大会申込用紙 男」シートと「大会申込用紙 女」シートが完成します。"]
[null,null,"※「大会申込用紙 男」シートと「大会申込用紙 女」シートを印刷し、②に従って申し込み代金支払い当日に持参してください。"]
[null,"４　　右の「添付ファイル作成」ボタンを押すと、「申し込みファイル」が作成されます。①に従ってメールにて申し込みをしてください。"]
[null,null,"※添付ファイルは、現在このファイルが保存されている場所に保存されます。",null,null,null,null,null,null,null,null,null,null,null,null,null,null,null,null,null,null,null,null,null,null,null,null,null,null,null,null,null,null,null,null,null,null,null,"やり投"]
[null,"５　　女子七種競技に出場する学校は、走高跳の最初の記録と最高記録を「女子七種走高跳」ｼｰﾄに入力して下さい。"]
[null," "]
[]
["記入例",null,null,null,null,null,null,null,null,null,null,"種目1","資格記録",null,null,"種目2","資格記録",null,null,"種目3","資格記録",null,null,null,"資格記録",null,null,null,"資格記録"]
[null,null,null,null,null,null,null,null,null,null,null,null,"分","秒",null,null,"分","秒",null,null,"分","秒",null,null,"分","秒",null,null,"分","秒"]
["No.","姓","名","ﾌﾘｶﾞﾅ（姓）","ﾌﾘｶﾞﾅ（名）","英字（姓）","英字（名）","生年","学年","性別","所属",null,null,"m","cm",null,null,"m","cm",null,null,"m","cm","４R",null,"m","cm","１６R",null,"m","cm"]
[58421,"東京","太郎",{"$f":"ASC(PHONETIC(B37))","v":"ﾄｳｷｮｳ"},"ﾀﾛｳ","TOUKYOU","Taro","06",3,"男","都府中工","400mH","01","02","57",null,null,null,null,null,null,null,null,1,"0","48","50"]
[58422,"東京","治郎",{"$f":"ASC(PHONETIC(B38))","v":"ﾄｳｷｮｳ"},"ｼﾞﾛｳ","TOUKYOU","Jiro","07",2,"男","都府中工","100ｍ","00","12","50",null,null,null,null,null,null,null,null,1,"0","48","50"]
[58423,"東京","三郎",{"$f":"ASC(PHONETIC(B39))","v":"ﾄｳｷｮｳ"},"ｻﾌﾞﾛｳ","TOUKYOU","Saburo","08",1,"男","都府中工","砲丸投","0","11","91",null,null,null,null,null,null,null,null,1,"0","48","50"]
[58424,"東京","史郎","ﾄｳｷｮｳ","ｼﾛｳ","TOUKYOU","Shiro","08",1,"男","都府中工","1500m","05","08","10"]
[58422,"東京","碁郎",{"$f":"ASC(PHONETIC(B41))","v":"ﾄｳｷｮｳ"},"ｺﾞﾛｳ","TOUKYOU","Goro","07",2,"男","都府中工","100ｍ","00","12","50",null,null,null,null,null,null,null,null,1,"0","48","50"]
[58423,"東京","睦郎",{"$f":"ASC(PHONETIC(B42))","v":"ﾄｳｷｮｳ"},"ﾑﾂｵ","TOUKYOU","Mutsuo","08",1,"男","都府中工","砲丸投","0","11","91"]
[58424,"東京","質郎","ﾄｳｷｮｳ","ｼﾛｳ","TOUKYOU","Shiro","08",1,"男","都府中工","1500m","05","08","10"]

{"sheet":"学校情報","index":1,"n_rows":78,"n_cols":19,"rows_kept":78,"cut":false,"hidden":false,"merged":[[7,0,8,2],[11,3,11,5],[11,6,11,8],[1,8,1,9],[1,10,1,14],[4,8,4,9],[0,0,0,2],[0,3,0,4],[0,5,0,6],[4,3,6,7],[1,0,3,2],[1,3,3,7],[4,0,6,2],[7,23,7,25],[2,10,2,14],[4,10,4,14],[6,10,6,14],[2,8,2,9],[5,8,5,9],[5,10,5,14],[3,8,3,9],[3,10,3,14],[7,19,7,21],[6,8,6,9]]}
["学校番号(3桁)"]
["正式学校名\n（学校番号を入力すると表示されます）",null,null,{"$f":"IF(ISERROR(VLOOKUP(D1,氏名データ!$AC$2:$AJ$401,3,0)),\"\",VLOOKUP(D1,氏名データ!$AC$2:$AJ$401,3,0))","v":""},null,null,null,null,"学校所在地"]
[null,null,null,null,null,null,null,null,"電話"]
[null,null,null,null,null,null,null,null,"FAX"]
["学校長",null,null,null,null,null,null,null,"顧問氏名"]
[null,null,null,null,null,null,null,null,"顧問携帯"]
[null,null,null,null,null,null,null,null,"顧問Email"]
["プログラム",null,null,"男子",{"$f":"IF('大会申込用紙 男'!$A$34+'大会申込用紙 男'!$F$34+'大会申込用紙 男'!$G$34=0,0,1)","v":0},"冊"]
[null,null,null,"女子",{"$f":"IF('大会申込用紙 女'!$A$34+'大会申込用紙 女'!$F$34+'大会申込用紙 女'!$G$34=0,0,1)","v":0},"冊"]
[null,null,null,"※プログラムの追加購入の受付は大会当日に行います。"]
[null,null,null,"学校番号一覧（3桁：支部番号1桁+2桁）"]
[null,null,null,"５支部",null,null,"６支部"]
[null,null,null,501,"都武蔵",null,601,"都立川国際"]
[null,null,null,502,"都武蔵野北",null,602,"都砂川"]
[null,null,null,503,"聖徳学園",null,603,"都立川"]
[null,null,null,504,"成蹊",null,604,"都立川学園"]
[null,null,null,505,"法政",null,605,"昭和一学園"]
[null,null,null,506,"藤村女",null,606,"立川女"]
[null,null,null,507,"吉祥女",null,607,"都片倉"]
[null,null,null,508,"武蔵野東高専",null,608,"都翔陽"]
[null,null,null,509,"都三鷹中等",null,610,"都八王子北"]
[null,null,null,510,"大成",null,611,"都八王子桑志"]
[null,null,null,511,"明星学園",null,613,"都八王子東"]
[null,null,null,512,"都多摩科技",null,614,"都富士森"]
[null,null,null,513,"都小金井北",null,615,"都松が谷"]
[null,null,null,514,"ICU",null,616,"都南多摩中等"]
[null,null,null,515,"中大附",null,617,"穎明館"]
[null,null,null,516,"東京電機大",null,618,"共立女二"]
[null,null,null,517,"都小川",null,619,"工学院"]
[null,null,null,519,"都成瀬",null,621,"帝京八王子"]
[null,null,null,520,"都町田",null,622,"八王子"]
[null,null,null,521,"都野津田",null,623,"八王子実践"]
[null,null,null,522,"都山崎",null,624,"明中八王子"]
[null,null,null,523,"都町田工",null,626,"東京工業高専"]
[null,null,null,524,"桜美林",null,627,"都小平"]
[null,null,null,525,"玉川学園",null,628,"都小平西"]
[null,null,null,526,"日大三",null,629,"都小平南"]
[null,null,null,528,"和光",null,630,"錦城"]
[null,null,null,529,"都永山",null,631,"白梅学園"]
[null,null,null,530,"サレジオ高専",null,632,"創価"]
[null,null,null,531,"大妻多摩",null,633,"拓大一"]
[null,null,null,532,"多摩大聖ヶ丘",null,635,"都東大和"]
[null,null,null,534,"都神代",null,636,"都東大和南"]
[null,null,null,535,"都調布北",null,637,"都多摩工"]
[null,null,null,536,"都調布南",null,638,"都福生"]
[null,null,null,537,"桐朋女",null,640,"都多摩"]
[null,null,null,538,"晃華学園",null,642,"都昭和"]
[null,null,null,539,"都狛江",null,643,"都拝島"]
[null,null,null,540,"都若葉総合",null,644,"啓明学園"]
[null,null,null,541,"駒沢女",null,646,"都秋留台"]
[null,null,null,542,"都田無",null,647,"東海大菅生"]
[null,null,null,543,"都田無工",null,648,"都武蔵村山"]
[null,null,null,545,"都府中",null,649,"都上水"]
[null,null,null,546,"都府中東",null,650,"都東村山"]
[null,null,null,547,"都府中西",null,651,"都東村山西"]
[null,null,null,548,"都府中工",null,652,"日体大桜華"]
[null,null,null,549,"都農業",null,653,"明学東村山"]
[null,null,null,550,"明星",null,654,"明法"]
[null,null,null,552,"都保谷",null,655,"都羽村"]
[null,null,null,553,"武蔵野大",null,657,"都瑞穂農芸"]
[null,null,null,554,"都清瀬",null,658,"都青梅総合"]
[null,null,null,557,"都東久留米総",null,659,"帝京大"]
[null,null,null,558,"都久留米西",null,660,"都羽村特支"]
[null,null,null,560,"都国立"]
[null,null,null,561,"都五商"]
[null,null,null,562,"桐朋"]
[null,null,null,563,"都日野"]
[null,null,null,564,"都日野台"]
[null,null,null,565,"都南平"]
[null,null,null,567,"都国分寺"]
[null,null,null,568,"早稲田実",null,null,null,null,"男子人数","男子合計種目数","女子人数","女子総種目数","Ｍ４Ｒ","Ｗ４Ｒ","M16R","W16R"]
[{"$f":"D1","v":0},{"$f":"D2","v":""},{"$f":"D5","v":0},569,"明大明治",null,null,null,null,{"$f":"COUNT('出場選手エントリー票　男'!B2:B81)","v":0},{"$f":"COUNTIF(出場選手エントリー票!R5:R124,\"男*\")+COUNTIF(出場選手エントリー票!V5:V124,\"男*\")+COUNTIF(出場選手エントリー票!Z5:Z124,\"男*\")","v":0},{"$f":"COUNT('出場選手エントリー票　女'!B2:B81)","v":0},{"$f":"COUNTIF(出場選手エントリー票!R5:R124,\"女*\")+COUNTIF(出場選手エントリー票!V5:V124,\"女*\")+COUNTIF(出場選手エントリー票!Z5:Z124,\"女*\")","v":0},{"$f":"IF(SUMPRODUCT(1/COUNTIF('出場選手エントリー票　男'!N2:N81,'出場選手エントリー票　男'!N2:N81))-1<0.5,0,SUMPRODUCT(1/COUNTIF('出場選手エントリー票　男'!N2:N81,'出場選手エントリー票　男'!N2:N81))-1)","v":0},{"$f":"IF(SUMPRODUCT(1/COUNTIF('出場選手エントリー票　女'!N2:N81,'出場選手エントリー票　女'!N2:N81))-1<0.5,0,SUMPRODUCT(1/COUNTIF('出場選手エントリー票　女'!N2:N81,'出場選手エントリー票　女'!N2:N81))-1)","v":0},{"$f":"IF(SUMPRODUCT(1/COUNTIF('出場選手エントリー票　男'!O2:O81,'出場選手エントリー票　男'!O2:O81))-1<0.5,0,SUMPRODUCT(1/COUNTIF('出場選手エントリー票　男'!O2:O81,'出場選手エントリー票　男'!O2:O81))-1)","v":0},{"$f":"IF(SUMPRODUCT(1/COUNTIF('出場選手エントリー票　女'!O2:O81,'出場選手エントリー票　女'!O2:O81))-1<0.5,0,SUMPRODUCT(1/COUNTIF('出場選手エントリー票　男'!O2:O81,'出場選手エントリー票　男'!O2:O81))-1)","v":0}]
[null,null,null,570,"都町田総合"]
[null,null,null,571,"ドルトン東京"]
[]
["学校番号","校名","校長","学校所在地","電話","FAX","顧問氏名","顧問携帯","顧問Email","男個人","女個人",null,"男ﾘﾚｰ","女ﾘﾚｰ",null,"男混成","女混成",null,"部数"]
[null,null,null,null,null,null,null,null,null,null,"女"]
[{"$f":"D1","v":0},{"$f":"D2","v":""},{"$f":"D5","v":0},{"$f":"K2","v":"00:00:00"},{"$f":"K3","v":0},{"$f":"K4","v":0},{"$f":"K5","v":"00:00:00"},{"$f":"K6","v":0},{"$f":"K7","v":0},{"$f":"'大会申込用紙 男'!A34","v":0},{"$f":"'大会申込用紙 女'!A34","v":0},null,{"$f":"'大会申込用紙 男'!G34","v":0},{"$f":"'大会申込用紙 女'!G34","v":0},null,null,null,null,{"$f":"SUM(E8:E9)","v":0}]

{"sheet":"出場選手エントリー票","index":2,"n_rows":151,"n_cols":69,"rows_kept":151,"cut":false,"hidden":false,"merged":[[0,16,0,36],[1,25,3,25],[0,8,0,15],[126,4,126,5],[126,20,126,24],[1,5,2,5],[1,26,1,28],[143,28,143,29],[131,28,131,29],[132,28,132,29],[133,28,133,29],[134,28,134,29],[133,26,133,27],[1,30,1,32],[1,17,3,17],[1,34,1,36],[142,28,142,29],[141,28,141,29],[140,28,140,29],[1,18,1,20],[1,21,3,21],[1,22,1,24],[133,18,133,19],[1,29,3,29],[1,33,3,33],[127,4,127,5],[128,4,128,5],[129,4,129,5],[127,20,127,24],[128,20,128,24],[130,26,130,27],[128,26,128,27],[129,18,129,19],[130,18,130,19],[127,26,127,27],[125,16,125,36],[126,28,126,29],[126,30,126,36],[126,26,126,27],[127,30,127,36],[128,30,128,36],[126,18,126,19],[127,18,127,19],[127,28,127,29],[128,28,128,29],[141,20,141,24],[142,20,142,24],[144,26,144,27],[139,20,139,24],[143,20,143,24],[139,26,139,27],[143,26,143,27],[142,26,142,27],[132,26,132,27],[134,26,134,27],[135,26,135,27],[136,20,136,24],[144,30,144,36],[131,30,131,36],[132,30,132,36],[136,30,136,36],[137,30,137,36],[138,30,138,36],[139,30,139,36],[145,20,145,24],[128,18,128,19],[141,26,141,27],[130,20,130,24],[132,20,132,24],[138,20,138,24],[145,18,145,19],[131,26,131,27],[138,26,138,27],[129,26,129,27],[137,18,137,19],[139,18,139,19],[140,18,140,19],[141,18,141,19],[142,18,142,19],[143,18,143,19],[144,18,144,19],[135,18,135,19],[136,18,136,19],[132,18,132,19],[137,20,137,24],[140,26,140,27],[129,30,129,36],[130,30,130,36],[133,20,133,24],[140,20,140,24],[136,26,136,27],[137,26,137,27],[131,20,131,24],[136,28,136,29],[138,18,138,19],[131,18,131,19],[133,30,133,36],[134,30,134,36],[129,28,129,29],[130,28,130,29],[134,20,134,24],[129,20,129,24],[134,18,134,19],[147,18,147,19],[144,20,144,24],[146,26,146,27],[147,26,147,27],[147,20,147,24],[146,28,146,29],[144,28,144,29],[145,28,145,29],[146,20,146,24],[145,26,145,27],[146,18,146,19],[149,30,149,36],[135,20,135,24],[135,30,135,36],[148,18,148,19],[148,20,148,24],[148,26,148,27],[149,18,149,19],[149,20,149,24],[149,26,149,27],[149,28,149,29],[148,28,148,29],[148,30,148,36],[140,30,140,36],[141,30,141,36],[146,30,146,36],[147,30,147,36],[147,28,147,29],[142,30,142,36],[143,30,143,36],[145,30,145,36],[139,28,139,29],[138,28,138,29],[135,28,135,29],[137,28,137,29]]}
[null,null,null,null,"令和",4,null,"年度","東京都高体連　第５・６支部　秋季競技会",null,null,null,null,null,null,null,{"$f":"IF(OR(学校情報!D2=\"\",学校情報!K2=\"\",学校情報!K3=\"\",学校情報!D5=\"\",学校情報!K5=\"\",学校情報!K7=\"\",学校情報!K6=\"\"),\"このメッセージが消えるまで学校情報を入力してください\",\"保存は添付ファイル作成ボタンを押してください⇒⇒⇒⇒⇒⇒\")","v":"このメッセージが消えるまで学校情報を入力してください"}]
[null,null,null,null,null,"プログラム",null,"男子",{"$f":"学校情報!E8","v":0},"冊追加します。",null,null,null,null,null,null,null,"種目1","自己記録",null,null,"種目2","自己記録",null,null,"種目3","自己記録",null,null,"４R","自己記録",null,null,"１６R","自己記録"]
[null,null,null,null,null,null,null,"女子",{"$f":"学校情報!E9","v":0},"冊追加します。",null,null,null,null,null,null,null,null,"分","秒",null,null,"分","秒",null,null,"分","秒",null,null,"分","秒",null,null,"分","秒"]
[null,null,null,null,null,"No.",null,"姓","名","ﾌﾘｶﾞﾅ（姓）","ﾌﾘｶﾞﾅ（名）","英字（姓）","英字（名）","生年","学年","性別","所属",null,null,"m","cm",null,null,"m","cm",null,null,"m","cm",null,null,null,null,null,null,null,null,"正式学校名",null,null,null,null,null,null,null,null,null,null,null,null,"男子","２年","３年","女子","２年","３年",null,"男子","２年","３年","女子","２年","３年"]
[{"$f":"IF(ISERROR(RANK(B5,$B$5:$B$124,1)),\"\",RANK(B5,$B$5:$B$124,1))","v":""},{"$f":"IF(P5=\"男\",ROW(P5),\"\")","v":""},{"$f":"IF(ISERROR(RANK(D5,$D$5:$D$124,1)),\"\",RANK(D5,$D$5:$D$124,1))","v":""},{"$f":"IF(P5=\"女\",ROW(R5),\"\")","v":""},1,null,null,{"$f":"IF(ISERROR(VLOOKUP($F5,氏名データ!$2:$7000,4,0)),\"\",VLOOKUP($F5,氏名データ!$2:$7000,4,0))","v":"00:00:00"},{"$f":"IF(ISERROR(VLOOKUP($F5,氏名データ!$2:$7000,5,0)),\"\",VLOOKUP($F5,氏名データ!$2:$7000,5,0))","v":0},{"$f":"IF(ISERROR(VLOOKUP($F5,氏名データ!$2:$7000,6,0)),\"\",VLOOKUP($F5,氏名データ!$2:$7000,6,0))","v":0},{"$f":"IF(ISERROR(VLOOKUP($F5,氏名データ!$2:$7000,7,0)),\"\",VLOOKUP($F5,氏名データ!$2:$7000,7,0))","v":0},{"$f":"IF(ISERROR(VLOOKUP($F5,氏名データ!$2:$7000,8,0)),\"\",VLOOKUP($F5,氏名データ!$2:$7000,8,0))","v":0},{"$f":"IF(ISERROR(VLOOKUP($F5,氏名データ!$2:$7000,9,0)),\"\",VLOOKUP($F5,氏名データ!$2:$7000,9,0))","v":0},{"$f":"IF(ISERROR(VLOOKUP($F5,氏名データ!$2:$7000,10,0)),\"\",VLOOKUP($F5,氏名データ!$2:$7000,10,0))","v":0},{"$f":"IF(ISERROR(VLOOKUP($F5,氏名データ!$2:$7000,11,0)),\"\",VLOOKUP($F5,氏名データ!$2:$7000,11,0))","v":0},{"$f":"IF(ISERROR(VLOOKUP($F5,氏名データ!$2:$7000,14,0)),\"\",VLOOKUP($F5,氏名データ!$2:$7000,14,0))","v":0},{"$f":"IF(ISERROR(VLOOKUP($F5,氏名データ!$2:$7000,12,0)),\"\",VLOOKUP($F5,氏名データ!$2:$7000,12,0))","v":""},null,null,null,null,null,null,null,null,null,null,null,null,null,null,null,null,null,null,null,null,{"$f":"IF(F5=\"\",\"\",学校情報!$D$2)","v":""},0,"種目","年度","性別",null,"学年",null,null,null,null,null,null,null,null,null,null,null,null,null,"春季"]
[{"$f":"IF(ISERROR(RANK(B6,$B$5:$B$124,1)),\"\",RANK(B6,$B$5:$B$124,1))","v":""},{"$f":"IF(P6=\"男\",ROW(P6),\"\")","v":""},{"$f":"IF(ISERROR(RANK(D6,$D$5:$D$124,1)),\"\",RANK(D6,$D$5:$D$124,1))","v":""},"",2,null,null,{"$f":"IF(ISERROR(VLOOKUP($F6,氏名データ!$2:$7000,4,0)),\"\",VLOOKUP($F6,氏名データ!$2:$7000,4,0))","v":0},{"$f":"IF(ISERROR(VLOOKUP($F6,氏名データ!$2:$7000,5,0)),\"\",VLOOKUP($F6,氏名データ!$2:$7000,5,0))","v":0},{"$f":"IF(ISERROR(VLOOKUP($F6,氏名データ!$2:$7000,6,0)),\"\",VLOOKUP($F6,氏名データ!$2:$7000,6,0))","v":0},{"$f":"IF(ISERROR(VLOOKUP($F6,氏名データ!$2:$7000,7,0)),\"\",VLOOKUP($F6,氏名データ!$2:$7000,7,0))","v":0},{"$f":"IF(ISERROR(VLOOKUP($F6,氏名データ!$2:$7000,8,0)),\"\",VLOOKUP($F6,氏名データ!$2:$7000,8,0))","v":0},{"$f":"IF(ISERROR(VLOOKUP($F6,氏名データ!$2:$7000,9,0)),\"\",VLOOKUP($F6,氏名データ!$2:$7000,9,0))","v":0},{"$f":"IF(ISERROR(VLOOKUP($F6,氏名データ!$2:$7000,10,0)),\"\",VLOOKUP($F6,氏名データ!$2:$7000,10,0))","v":0},{"$f":"IF(ISERROR(VLOOKUP($F6,氏名データ!$2:$7000,11,0)),\"\",VLOOKUP($F6,氏名データ!$2:$7000,11,0))","v":0},{"$f":"IF(ISERROR(VLOOKUP($F6,氏名データ!$2:$7000,14,0)),\"\",VLOOKUP($F6,氏名データ!$2:$7000,14,0))","v":0},{"$f":"IF(ISERROR(VLOOKUP($F6,氏名データ!$2:$7000,12,0)),\"\",VLOOKUP($F6,氏名データ!$2:$7000,12,0))","v":""},null,null,null,null,null,null,null,null,null,null,null,null,null,null,null,null,null,null,null,null,{"$f":"IF(F6=\"\",\"\",学校情報!$D$2)","v":""},1,"男子100m","元","男",null,"1",null,null,1,"0",1,"東京都高体連　第５・６支部　春季競技会","男子100m","男子100m","男子100m","女子100m","女子100m","女子100m",null,"男子100m","男子100m","男子100m","女子100m","女子100m","女子100m"]
["",{"$f":"IF(P7=\"男\",ROW(P7),\"\")","v":""},"","",3,null,null,{"$f":"IF(ISERROR(VLOOKUP($F7,氏名データ!$2:$7000,4,0)),\"\",VLOOKUP($F7,氏名データ!$2:$7000,4,0))","v":0},{"$f":"IF(ISERROR(VLOOKUP($F7,氏名データ!$2:$7000,5,0)),\"\",VLOOKUP($F7,氏名データ!$2:$7000,5,0))","v":0},{"$f":"IF(ISERROR(VLOOKUP($F7,氏名データ!$2:$7000,6,0)),\"\",VLOOKUP($F7,氏名データ!$2:$7000,6,0))","v":0},{"$f":"IF(ISERROR(VLOOKUP($F7,氏名データ!$2:$7000,7,0)),\"\",VLOOKUP($F7,氏名データ!$2:$7000,7,0))","v":0},{"$f":"IF(ISERROR(VLOOKUP($F7,氏名データ!$2:$7000,8,0)),\"\",VLOOKUP($F7,氏名データ!$2:$7000,8,0))","v":0},{"$f":"IF(ISERROR(VLOOKUP($F7,氏名データ!$2:$7000,9,0)),\"\",VLOOKUP($F7,氏名データ!$2:$7000,9,0))","v":0},{"$f":"IF(ISERROR(VLOOKUP($F7,氏名データ!$2:$7000,10,0)),\"\",VLOOKUP($F7,氏名データ!$2:$7000,10,0))","v":0},{"$f":"IF(ISERROR(VLOOKUP($F7,氏名データ!$2:$7000,11,0)),\"\",VLOOKUP($F7,氏名データ!$2:$7000,11,0))","v":0},{"$f":"IF(ISERROR(VLOOKUP($F7,氏名データ!$2:$7000,14,0)),\"\",VLOOKUP($F7,氏名データ!$2:$7000,14,0))","v":0},{"$f":"IF(ISERROR(VLOOKUP($F7,氏名データ!$2:$7000,12,0)),\"\",VLOOKUP($F7,氏名データ!$2:$7000,12,0))","v":""},null,null,null,null,null,null,null,null,null,null,null,null,null,null,null,null,null,null,null,null,{"$f":"IF(F7=\"\",\"\",学校情報!$D$2)","v":""},2,"男子200m",2,"女",null,"2",null,null,2,"00",2,"東京都高等学校対校選手権大会　第５・６支部予選会","男子200m","男子200m","男子200m","女子200m","女子200m","女子200m",null,"男子200m","男子200m","男子200m","女子200m","女子200m","女子200m"]
["","","","",4,null,null,{"$f":"IF(ISERROR(VLOOKUP($F8,氏名データ!$2:$7000,4,0)),\"\",VLOOKUP($F8,氏名データ!$2:$7000,4,0))","v":0},{"$f":"IF(ISERROR(VLOOKUP($F8,氏名データ!$2:$7000,5,0)),\"\",VLOOKUP($F8,氏名データ!$2:$7000,5,0))","v":0},{"$f":"IF(ISERROR(VLOOKUP($F8,氏名データ!$2:$7000,6,0)),\"\",VLOOKUP($F8,氏名データ!$2:$7000,6,0))","v":0},{"$f":"IF(ISERROR(VLOOKUP($F8,氏名データ!$2:$7000,7,0)),\"\",VLOOKUP($F8,氏名データ!$2:$7000,7,0))","v":0},{"$f":"IF(ISERROR(VLOOKUP($F8,氏名データ!$2:$7000,8,0)),\"\",VLOOKUP($F8,氏名データ!$2:$7000,8,0))","v":0},{"$f":"IF(ISERROR(VLOOKUP($F8,氏名データ!$2:$7000,9,0)),\"\",VLOOKUP($F8,氏名データ!$2:$7000,9,0))","v":0},{"$f":"IF(ISERROR(VLOOKUP($F8,氏名データ!$2:$7000,10,0)),\"\",VLOOKUP($F8,氏名データ!$2:$7000,10,0))","v":0},{"$f":"IF(ISERROR(VLOOKUP($F8,氏名データ!$2:$7000,11,0)),\"\",VLOOKUP($F8,氏名データ!$2:$7000,11,0))","v":0},{"$f":"IF(ISERROR(VLOOKUP($F8,氏名データ!$2:$7000,14,0)),\"\",VLOOKUP($F8,氏名データ!$2:$7000,14,0))","v":0},{"$f":"IF(ISERROR(VLOOKUP($F8,氏名データ!$2:$7000,12,0)),\"\",VLOOKUP($F8,氏名データ!$2:$7000,12,0))","v":""},null,null,null,null,null,null,null,null,null,null,null,null,null,null,null,null,null,null,null,null,{"$f":"IF(F8=\"\",\"\",学校情報!$D$2)","v":""},3,"男子400m",3,null,null,"3",21,null,3,"01",3,"東京都高体連　第５・６支部　学年別大会","男子400m","男子400m","男子400m","女子400m","女子400m","女子400m",null,"男子400m","男子400m","男子400m","女子400m","女子400m","女子400m"]
["","","","",5,null,null,{"$f":"IF(ISERROR(VLOOKUP($F9,氏名データ!$2:$7000,4,0)),\"\",VLOOKUP($F9,氏名データ!$2:$7000,4,0))","v":0},{"$f":"IF(ISERROR(VLOOKUP($F9,氏名データ!$2:$7000,5,0)),\"\",VLOOKUP($F9,氏名データ!$2:$7000,5,0))","v":0},{"$f":"IF(ISERROR(VLOOKUP($F9,氏名データ!$2:$7000,6,0)),\"\",VLOOKUP($F9,氏名データ!$2:$7000,6,0))","v":0},{"$f":"IF(ISERROR(VLOOKUP($F9,氏名データ!$2:$7000,7,0)),\"\",VLOOKUP($F9,氏名データ!$2:$7000,7,0))","v":0},{"$f":"IF(ISERROR(VLOOKUP($F9,氏名データ!$2:$7000,8,0)),\"\",VLOOKUP($F9,氏名データ!$2:$7000,8,0))","v":0},{"$f":"IF(ISERROR(VLOOKUP($F9,氏名データ!$2:$7000,9,0)),\"\",VLOOKUP($F9,氏名データ!$2:$7000,9,0))","v":0},{"$f":"IF(ISERROR(VLOOKUP($F9,氏名データ!$2:$7000,10,0)),\"\",VLOOKUP($F9,氏名データ!$2:$7000,10,0))","v":0},{"$f":"IF(ISERROR(VLOOKUP($F9,氏名データ!$2:$7000,11,0)),\"\",VLOOKUP($F9,氏名データ!$2:$7000,11,0))","v":0},{"$f":"IF(ISERROR(VLOOKUP($F9,氏名データ!$2:$7000,14,0)),\"\",VLOOKUP($F9,氏名データ!$2:$7000,14,0))","v":0},{"$f":"IF(ISERROR(VLOOKUP($F9,氏名データ!$2:$7000,12,0)),\"\",VLOOKUP($F9,氏名データ!$2:$7000,12,0))","v":""},null,null,null,null,null,null,null,null,null,null,null,null,null,null,null,null,null,null,null,null,{"$f":"IF(F9=\"\",\"\",学校情報!$D$2)","v":""},4,"男子800m",4,null,null,"中1",22,null,4,"02",4,"東京都高体連　第５・６支部　多摩選手権","男子800m","男子800m","男子800m","女子800m","女子800m","女子800m",null,"男子800m","男子800m","男子800m","女子800m","女子800m","女子800m"]
["","","","",6,null,null,{"$f":"IF(ISERROR(VLOOKUP($F10,氏名データ!$2:$7000,4,0)),\"\",VLOOKUP($F10,氏名データ!$2:$7000,4,0))","v":0},{"$f":"IF(ISERROR(VLOOKUP($F10,氏名データ!$2:$7000,5,0)),\"\",VLOOKUP($F10,氏名データ!$2:$7000,5,0))","v":0},{"$f":"IF(ISERROR(VLOOKUP($F10,氏名データ!$2:$7000,6,0)),\"\",VLOOKUP($F10,氏名データ!$2:$7000,6,0))","v":0},{"$f":"IF(ISERROR(VLOOKUP($F10,氏名データ!$2:$7000,7,0)),\"\",VLOOKUP($F10,氏名データ!$2:$7000,7,0))","v":0},{"$f":"IF(ISERROR(VLOOKUP($F10,氏名データ!$2:$7000,8,0)),\"\",VLOOKUP($F10,氏名データ!$2:$7000,8,0))","v":0},{"$f":"IF(ISERROR(VLOOKUP($F10,氏名データ!$2:$7000,9,0)),\"\",VLOOKUP($F10,氏名データ!$2:$7000,9,0))","v":0},{"$f":"IF(ISERROR(VLOOKUP($F10,氏名データ!$2:$7000,10,0)),\"\",VLOOKUP($F10,氏名データ!$2:$7000,10,0))","v":0},{"$f":"IF(ISERROR(VLOOKUP($F10,氏名データ!$2:$7000,11,0)),\"\",VLOOKUP($F10,氏名データ!$2:$7000,11,0))","v":0},{"$f":"IF(ISERROR(VLOOKUP($F10,氏名データ!$2:$7000,14,0)),\"\",VLOOKUP($F10,氏名データ!$2:$7000,14,0))","v":0},{"$f":"IF(ISERROR(VLOOKUP($F10,氏名データ!$2:$7000,12,0)),\"\",VLOOKUP($F10,氏名データ!$2:$7000,12,0))","v":""},null,null,null,null,null,null,null,null,null,null,null,null,null,null,null,null,null,null,null,null,{"$f":"IF(F10=\"\",\"\",学校情報!$D$2)","v":""},5,"男子1500m",5,null,null,"中2",24,null,5,"03",5,"東京都高等学校新人陸上競技大会　第５・６支部予選会","男子1500m","男子1500m","男子1500m","女子1500m","女子1500m","女子1500m",null,"男子1500m","男子1500m","男子1500m","女子1500m","女子1500m","女子1500m"]
["","","","",7,null,null,{"$f":"IF(ISERROR(VLOOKUP($F11,氏名データ!$2:$7000,4,0)),\"\",VLOOKUP($F11,氏名データ!$2:$7000,4,0))","v":0},{"$f":"IF(ISERROR(VLOOKUP($F11,氏名データ!$2:$7000,5,0)),\"\",VLOOKUP($F11,氏名データ!$2:$7000,5,0))","v":0},{"$f":"IF(ISERROR(VLOOKUP($F11,氏名データ!$2:$7000,6,0)),\"\",VLOOKUP($F11,氏名データ!$2:$7000,6,0))","v":0},{"$f":"IF(ISERROR(VLOOKUP($F11,氏名データ!$2:$7000,7,0)),\"\",VLOOKUP($F11,氏名データ!$2:$7000,7,0))","v":0},{"$f":"IF(ISERROR(VLOOKUP($F11,氏名データ!$2:$7000,8,0)),\"\",VLOOKUP($F11,氏名データ!$2:$7000,8,0))","v":0},{"$f":"IF(ISERROR(VLOOKUP($F11,氏名データ!$2:$7000,9,0)),\"\",VLOOKUP($F11,氏名データ!$2:$7000,9,0))","v":0},{"$f":"IF(ISERROR(VLOOKUP($F11,氏名データ!$2:$7000,10,0)),\"\",VLOOKUP($F11,氏名データ!$2:$7000,10,0))","v":0},{"$f":"IF(ISERROR(VLOOKUP($F11,氏名データ!$2:$7000,11,0)),\"\",VLOOKUP($F11,氏名データ!$2:$7000,11,0))","v":0},{"$f":"IF(ISERROR(VLOOKUP($F11,氏名データ!$2:$7000,14,0)),\"\",VLOOKUP($F11,氏名データ!$2:$7000,14,0))","v":0},{"$f":"IF(ISERROR(VLOOKUP($F11,氏名データ!$2:$7000,12,0)),\"\",VLOOKUP($F11,氏名データ!$2:$7000,12,0))","v":""},null,null,null,null,null,null,null,null,null,null,null,null,null,null,null,null,null,null,null,null,{"$f":"IF(F11=\"\",\"\",学校情報!$D$2)","v":""},6,"男子5000m",6,null,null,"中3",25,null,null,"04",6,"東京都高体連　第５・６支部　秋季競技会","男子5000m","男子5000m","男子5000m","女子3000m","女子3000m","女子3000m",null,"男子5000m","男子5000m","男子5000m","女子3000m","女子3000m","女子3000m"]
["","","","",8,null,null,{"$f":"IF(ISERROR(VLOOKUP($F12,氏名データ!$2:$7000,4,0)),\"\",VLOOKUP($F12,氏名データ!$2:$7000,4,0))","v":0},{"$f":"IF(ISERROR(VLOOKUP($F12,氏名データ!$2:$7000,5,0)),\"\",VLOOKUP($F12,氏名データ!$2:$7000,5,0))","v":0},{"$f":"IF(ISERROR(VLOOKUP($F12,氏名データ!$2:$7000,6,0)),\"\",VLOOKUP($F12,氏名データ!$2:$7000,6,0))","v":0},{"$f":"IF(ISERROR(VLOOKUP($F12,氏名データ!$2:$7000,7,0)),\"\",VLOOKUP($F12,氏名データ!$2:$7000,7,0))","v":0},{"$f":"IF(ISERROR(VLOOKUP($F12,氏名データ!$2:$7000,8,0)),\"\",VLOOKUP($F12,氏名データ!$2:$7000,8,0))","v":0},{"$f":"IF(ISERROR(VLOOKUP($F12,氏名データ!$2:$7000,9,0)),\"\",VLOOKUP($F12,氏名データ!$2:$7000,9,0))","v":0},{"$f":"IF(ISERROR(VLOOKUP($F12,氏名データ!$2:$7000,10,0)),\"\",VLOOKUP($F12,氏名データ!$2:$7000,10,0))","v":0},{"$f":"IF(ISERROR(VLOOKUP($F12,氏名データ!$2:$7000,11,0)),\"\",VLOOKUP($F12,氏名データ!$2:$7000,11,0))","v":0},{"$f":"IF(ISERROR(VLOOKUP($F12,氏名データ!$2:$7000,14,0)),\"\",VLOOKUP($F12,氏名データ!$2:$7000,14,0))","v":0},{"$f":"IF(ISERROR(VLOOKUP($F12,氏名データ!$2:$7000,12,0)),\"\",VLOOKUP($F12,氏名データ!$2:$7000,12,0))","v":""},null,null,null,null,null,null,null,null,null,null,null,null,null,null,null,null,null,null,null,null,{"$f":"IF(F12=\"\",\"\",学校情報!$D$2)","v":""},7,"男子OP110mH",7,null,null,"一般",26,null,null,"05",7,null,"男子110mH","男子110mH","男子110mH","女子100mH","女子100mH","女子100mH",null,"男子110mH","男子110mH","男子110mH","女子100mH","女子100mH","女子100mH"]
["","","","",9,null,null,{"$f":"IF(ISERROR(VLOOKUP($F13,氏名データ!$2:$7000,4,0)),\"\",VLOOKUP($F13,氏名データ!$2:$7000,4,0))","v":0},{"$f":"IF(ISERROR(VLOOKUP($F13,氏名データ!$2:$7000,5,0)),\"\",VLOOKUP($F13,氏名データ!$2:$7000,5,0))","v":0},{"$f":"IF(ISERROR(VLOOKUP($F13,氏名データ!$2:$7000,6,0)),\"\",VLOOKUP($F13,氏名データ!$2:$7000,6,0))","v":0},{"$f":"IF(ISERROR(VLOOKUP($F13,氏名データ!$2:$7000,7,0)),\"\",VLOOKUP($F13,氏名データ!$2:$7000,7,0))","v":0},{"$f":"IF(ISERROR(VLOOKUP($F13,氏名データ!$2:$7000,8,0)),\"\",VLOOKUP($F13,氏名データ!$2:$7000,8,0))","v":0},{"$f":"IF(ISERROR(VLOOKUP($F13,氏名データ!$2:$7000,9,0)),\"\",VLOOKUP($F13,氏名データ!$2:$7000,9,0))","v":0},{"$f":"IF(ISERROR(VLOOKUP($F13,氏名データ!$2:$7000,10,0)),\"\",VLOOKUP($F13,氏名データ!$2:$7000,10,0))","v":0},{"$f":"IF(ISERROR(VLOOKUP($F13,氏名データ!$2:$7000,11,0)),\"\",VLOOKUP($F13,氏名データ!$2:$7000,11,0))","v":0},{"$f":"IF(ISERROR(VLOOKUP($F13,氏名データ!$2:$7000,14,0)),\"\",VLOOKUP($F13,氏名データ!$2:$7000,14,0))","v":0},{"$f":"IF(ISERROR(VLOOKUP($F13,氏名データ!$2:$7000,12,0)),\"\",VLOOKUP($F13,氏名データ!$2:$7000,12,0))","v":""},null,null,null,null,null,null,null,null,null,null,null,null,null,null,null,null,null,null,null,null,{"$f":"IF(F13=\"\",\"\",学校情報!$D$2)","v":""},8,"男子400mH",8,null,null,null,27,null,null,"06",8,null,"男子400mH","男子400mH","男子400mH","女子400mH","女子400mH","女子400mH",null,"男子400mH","男子400mH","男子400mH","女子400mH","女子400mH","女子400mH"]
["","","","",10,null,null,{"$f":"IF(ISERROR(VLOOKUP($F14,氏名データ!$2:$7000,4,0)),\"\",VLOOKUP($F14,氏名データ!$2:$7000,4,0))","v":0},{"$f":"IF(ISERROR(VLOOKUP($F14,氏名データ!$2:$7000,5,0)),\"\",VLOOKUP($F14,氏名データ!$2:$7000,5,0))","v":0},{"$f":"IF(ISERROR(VLOOKUP($F14,氏名データ!$2:$7000,6,0)),\"\",VLOOKUP($F14,氏名データ!$2:$7000,6,0))","v":0},{"$f":"IF(ISERROR(VLOOKUP($F14,氏名データ!$2:$7000,7,0)),\"\",VLOOKUP($F14,氏名データ!$2:$7000,7,0))","v":0},{"$f":"IF(ISERROR(VLOOKUP($F14,氏名データ!$2:$7000,8,0)),\"\",VLOOKUP($F14,氏名データ!$2:$7000,8,0))","v":0},{"$f":"IF(ISERROR(VLOOKUP($F14,氏名データ!$2:$7000,9,0)),\"\",VLOOKUP($F14,氏名データ!$2:$7000,9,0))","v":0},{"$f":"IF(ISERROR(VLOOKUP($F14,氏名データ!$2:$7000,10,0)),\"\",VLOOKUP($F14,氏名データ!$2:$7000,10,0))","v":0},{"$f":"IF(ISERROR(VLOOKUP($F14,氏名データ!$2:$7000,11,0)),\"\",VLOOKUP($F14,氏名データ!$2:$7000,11,0))","v":0},{"$f":"IF(ISERROR(VLOOKUP($F14,氏名データ!$2:$7000,14,0)),\"\",VLOOKUP($F14,氏名データ!$2:$7000,14,0))","v":0},{"$f":"IF(ISERROR(VLOOKUP($F14,氏名データ!$2:$7000,12,0)),\"\",VLOOKUP($F14,氏名データ!$2:$7000,12,0))","v":""},null,null,null,null,null,null,null,null,null,null,null,null,null,null,null,null,null,null,null,null,{"$f":"IF(F14=\"\",\"\",学校情報!$D$2)","v":""},9,"男子やり投",null,null,null,null,28,null,null,"07",9,null,"男子3000mSC","男子3000mSC","男子3000mSC","女子300m","女子300m","女子300m",null,"男子3000mSC","男子3000mSC","男子3000mSC","女子走高跳","女子走高跳","女子走高跳"]
["","","","",11,null,null,{"$f":"IF(ISERROR(VLOOKUP($F15,氏名データ!$2:$7000,4,0)),\"\",VLOOKUP($F15,氏名データ!$2:$7000,4,0))","v":0},{"$f":"IF(ISERROR(VLOOKUP($F15,氏名データ!$2:$7000,5,0)),\"\",VLOOKUP($F15,氏名データ!$2:$7000,5,0))","v":0},{"$f":"IF(ISERROR(VLOOKUP($F15,氏名データ!$2:$7000,6,0)),\"\",VLOOKUP($F15,氏名データ!$2:$7000,6,0))","v":0},{"$f":"IF(ISERROR(VLOOKUP($F15,氏名データ!$2:$7000,7,0)),\"\",VLOOKUP($F15,氏名データ!$2:$7000,7,0))","v":0},{"$f":"IF(ISERROR(VLOOKUP($F15,氏名データ!$2:$7000,8,0)),\"\",VLOOKUP($F15,氏名データ!$2:$7000,8,0))","v":0},{"$f":"IF(ISERROR(VLOOKUP($F15,氏名データ!$2:$7000,9,0)),\"\",VLOOKUP($F15,氏名データ!$2:$7000,9,0))","v":0},{"$f":"IF(ISERROR(VLOOKUP($F15,氏名データ!$2:$7000,10,0)),\"\",VLOOKUP($F15,氏名データ!$2:$7000,10,0))","v":0},{"$f":"IF(ISERROR(VLOOKUP($F15,氏名データ!$2:$7000,11,0)),\"\",VLOOKUP($F15,氏名データ!$2:$7000,11,0))","v":0},{"$f":"IF(ISERROR(VLOOKUP($F15,氏名データ!$2:$7000,14,0)),\"\",VLOOKUP($F15,氏名データ!$2:$7000,14,0))","v":0},{"$f":"IF(ISERROR(VLOOKUP($F15,氏名データ!$2:$7000,12,0)),\"\",VLOOKUP($F15,氏名データ!$2:$7000,12,0))","v":""},null,null,null,null,null,null,null,null,null,null,null,null,null,null,null,null,null,null,null,null,{"$f":"IF(F15=\"\",\"\",学校情報!$D$2)","v":""},10,"男子円盤投",null,null,null,null,29,null,null,"08",10,null,"男子300m","男子300m","男子300m","女子300mH","女子300mH","女子300mH",null,"男子走高跳","男子走高跳","男子走高跳","女子棒高跳","女子棒高跳","女子棒高跳"]
["","","","",12,null,null,{"$f":"IF(ISERROR(VLOOKUP($F16,氏名データ!$2:$7000,4,0)),\"\",VLOOKUP($F16,氏名データ!$2:$7000,4,0))","v":0},{"$f":"IF(ISERROR(VLOOKUP($F16,氏名データ!$2:$7000,5,0)),\"\",VLOOKUP($F16,氏名データ!$2:$7000,5,0))","v":0},{"$f":"IF(ISERROR(VLOOKUP($F16,氏名データ!$2:$7000,6,0)),\"\",VLOOKUP($F16,氏名データ!$2:$7000,6,0))","v":0},{"$f":"IF(ISERROR(VLOOKUP($F16,氏名データ!$2:$7000,7,0)),\"\",VLOOKUP($F16,氏名データ!$2:$7000,7,0))","v":0},{"$f":"IF(ISERROR(VLOOKUP($F16,氏名データ!$2:$7000,8,0)),\"\",VLOOKUP($F16,氏名データ!$2:$7000,8,0))","v":0},{"$f":"IF(ISERROR(VLOOKUP($F16,氏名データ!$2:$7000,9,0)),\"\",VLOOKUP($F16,氏名データ!$2:$7000,9,0))","v":0},{"$f":"IF(ISERROR(VLOOKUP($F16,氏名データ!$2:$7000,10,0)),\"\",VLOOKUP($F16,氏名データ!$2:$7000,10,0))","v":0},{"$f":"IF(ISERROR(VLOOKUP($F16,氏名データ!$2:$7000,11,0)),\"\",VLOOKUP($F16,氏名データ!$2:$7000,11,0))","v":0},{"$f":"IF(ISERROR(VLOOKUP($F16,氏名データ!$2:$7000,14,0)),\"\",VLOOKUP($F16,氏名データ!$2:$7000,14,0))","v":0},{"$f":"IF(ISERROR(VLOOKUP($F16,氏名データ!$2:$7000,12,0)),\"\",VLOOKUP($F16,氏名データ!$2:$7000,12,0))","v":""},null,null,null,null,null,null,null,null,null,null,null,null,null,null,null,null,null,null,null,null,{"$f":"IF(F16=\"\",\"\",学校情報!$D$2)","v":""},11,"男子三段跳",null,null,null,null,30,null,null,"09",11,null,"男子300mH","男子300mH","男子300mH","女子走高跳","女子走高跳","女子走高跳",null,"男子棒高跳","男子棒高跳","男子棒高跳","女子走幅跳","女子走幅跳","女子走幅跳"]
["","","","",13,null,null,{"$f":"IF(ISERROR(VLOOKUP($F17,氏名データ!$2:$7000,4,0)),\"\",VLOOKUP($F17,氏名データ!$2:$7000,4,0))","v":0},{"$f":"IF(ISERROR(VLOOKUP($F17,氏名データ!$2:$7000,5,0)),\"\",VLOOKUP($F17,氏名データ!$2:$7000,5,0))","v":0},{"$f":"IF(ISERROR(VLOOKUP($F17,氏名データ!$2:$7000,6,0)),\"\",VLOOKUP($F17,氏名データ!$2:$7000,6,0))","v":0},{"$f":"IF(ISERROR(VLOOKUP($F17,氏名データ!$2:$7000,7,0)),\"\",VLOOKUP($F17,氏名データ!$2:$7000,7,0))","v":0},{"$f":"IF(ISERROR(VLOOKUP($F17,氏名データ!$2:$7000,8,0)),\"\",VLOOKUP($F17,氏名データ!$2:$7000,8,0))","v":0},{"$f":"IF(ISERROR(VLOOKUP($F17,氏名データ!$2:$7000,9,0)),\"\",VLOOKUP($F17,氏名データ!$2:$7000,9,0))","v":0},{"$f":"IF(ISERROR(VLOOKUP($F17,氏名データ!$2:$7000,10,0)),\"\",VLOOKUP($F17,氏名データ!$2:$7000,10,0))","v":0},{"$f":"IF(ISERROR(VLOOKUP($F17,氏名データ!$2:$7000,11,0)),\"\",VLOOKUP($F17,氏名データ!$2:$7000,11,0))","v":0},{"$f":"IF(ISERROR(VLOOKUP($F17,氏名データ!$2:$7000,14,0)),\"\",VLOOKUP($F17,氏名データ!$2:$7000,14,0))","v":0},{"$f":"IF(ISERROR(VLOOKUP($F17,氏名データ!$2:$7000,12,0)),\"\",VLOOKUP($F17,氏名データ!$2:$7000,12,0))","v":""},null,null,null,null,null,null,null,null,null,null,null,null,null,null,null,null,null,null,null,null,{"$f":"IF(F17=\"\",\"\",学校情報!$D$2)","v":""},12,"男子走高跳","生年","月","日",null,31,null,null,"10",12,null,"男子走高跳","男子走高跳","男子走高跳","女子棒高跳","女子棒高跳","女子棒高跳",null,"男子走幅跳","男子走幅跳","男子走幅跳","女子三段跳","女子三段跳","女子三段跳"]
["","","","",14,null,null,{"$f":"IF(ISERROR(VLOOKUP($F18,氏名データ!$2:$7000,4,0)),\"\",VLOOKUP($F18,氏名データ!$2:$7000,4,0))","v":0},{"$f":"IF(ISERROR(VLOOKUP($F18,氏名データ!$2:$7000,5,0)),\"\",VLOOKUP($F18,氏名データ!$2:$7000,5,0))","v":0},{"$f":"IF(ISERROR(VLOOKUP($F18,氏名データ!$2:$7000,6,0)),\"\",VLOOKUP($F18,氏名データ!$2:$7000,6,0))","v":0},{"$f":"IF(ISERROR(VLOOKUP($F18,氏名データ!$2:$7000,7,0)),\"\",VLOOKUP($F18,氏名データ!$2:$7000,7,0))","v":0},{"$f":"IF(ISERROR(VLOOKUP($F18,氏名データ!$2:$7000,8,0)),\"\",VLOOKUP($F18,氏名データ!$2:$7000,8,0))","v":0},{"$f":"IF(ISERROR(VLOOKUP($F18,氏名データ!$2:$7000,9,0)),\"\",VLOOKUP($F18,氏名データ!$2:$7000,9,0))","v":0},{"$f":"IF(ISERROR(VLOOKUP($F18,氏名データ!$2:$7000,10,0)),\"\",VLOOKUP($F18,氏名データ!$2:$7000,10,0))","v":0},{"$f":"IF(ISERROR(VLOOKUP($F18,氏名データ!$2:$7000,11,0)),\"\",VLOOKUP($F18,氏名データ!$2:$7000,11,0))","v":0},{"$f":"IF(ISERROR(VLOOKUP($F18,氏名データ!$2:$7000,14,0)),\"\",VLOOKUP($F18,氏名データ!$2:$7000,14,0))","v":0},{"$f":"IF(ISERROR(VLOOKUP($F18,氏名データ!$2:$7000,12,0)),\"\",VLOOKUP($F18,氏名データ!$2:$7000,12,0))","v":""},null,null,null,null,null,null,null,null,null,null,null,null,null,null,null,null,null,null,null,null,{"$f":"IF(F18=\"\",\"\",学校情報!$D$2)","v":""},13,"男子走幅跳","00","01","01",null,32,null,null,"11",13,null,"男子棒高跳","男子棒高跳","男子棒高跳","女子走幅跳","女子走幅跳","女子走幅跳",null,"男子三段跳","男子三段跳","男子三段跳","女子砲丸投","女子砲丸投","女子砲丸投"]
["","","","",15,null,null,{"$f":"IF(ISERROR(VLOOKUP($F19,氏名データ!$2:$7000,4,0)),\"\",VLOOKUP($F19,氏名データ!$2:$7000,4,0))","v":0},{"$f":"IF(ISERROR(VLOOKUP($F19,氏名データ!$2:$7000,5,0)),\"\",VLOOKUP($F19,氏名データ!$2:$7000,5,0))","v":0},{"$f":"IF(ISERROR(VLOOKUP($F19,氏名データ!$2:$7000,6,0)),\"\",VLOOKUP($F19,氏名データ!$2:$7000,6,0))","v":0},{"$f":"IF(ISERROR(VLOOKUP($F19,氏名データ!$2:$7000,7,0)),\"\",VLOOKUP($F19,氏名データ!$2:$7000,7,0))","v":0},{"$f":"IF(ISERROR(VLOOKUP($F19,氏名データ!$2:$7000,8,0)),\"\",VLOOKUP($F19,氏名データ!$2:$7000,8,0))","v":0},{"$f":"IF(ISERROR(VLOOKUP($F19,氏名データ!$2:$7000,9,0)),\"\",VLOOKUP($F19,氏名データ!$2:$7000,9,0))","v":0},{"$f":"IF(ISERROR(VLOOKUP($F19,氏名データ!$2:$7000,10,0)),\"\",VLOOKUP($F19,氏名データ!$2:$7000,10,0))","v":0},{"$f":"IF(ISERROR(VLOOKUP($F19,氏名データ!$2:$7000,11,0)),\"\",VLOOKUP($F19,氏名データ!$2:$7000,11,0))","v":0},{"$f":"IF(ISERROR(VLOOKUP($F19,氏名データ!$2:$7000,14,0)),\"\",VLOOKUP($F19,氏名データ!$2:$7000,14,0))","v":0},{"$f":"IF(ISERROR(VLOOKUP($F19,氏名データ!$2:$7000,12,0)),\"\",VLOOKUP($F19,氏名データ!$2:$7000,12,0))","v":""},null,null,null,null,null,null,null,null,null,null,null,null,null,null,null,null,null,null,null,null,{"$f":"IF(F19=\"\",\"\",学校情報!$D$2)","v":""},14,"男子砲丸投","01","02","02",null,33,null,null,"12",14,null,"男子走幅跳","男子走幅跳","男子走幅跳","女子三段跳","女子三段跳","女子三段跳",null,"男子砲丸投","男子砲丸投","男子砲丸投","女子円盤投","女子円盤投","女子円盤投"]
["","","","",16,null,null,{"$f":"IF(ISERROR(VLOOKUP($F20,氏名データ!$2:$7000,4,0)),\"\",VLOOKUP($F20,氏名データ!$2:$7000,4,0))","v":0},{"$f":"IF(ISERROR(VLOOKUP($F20,氏名データ!$2:$7000,5,0)),\"\",VLOOKUP($F20,氏名データ!$2:$7000,5,0))","v":0},{"$f":"IF(ISERROR(VLOOKUP($F20,氏名データ!$2:$7000,6,0)),\"\",VLOOKUP($F20,氏名データ!$2:$7000,6,0))","v":0},{"$f":"IF(ISERROR(VLOOKUP($F20,氏名データ!$2:$7000,7,0)),\"\",VLOOKUP($F20,氏名データ!$2:$7000,7,0))","v":0},{"$f":"IF(ISERROR(VLOOKUP($F20,氏名データ!$2:$7000,8,0)),\"\",VLOOKUP($F20,氏名データ!$2:$7000,8,0))","v":0},{"$f":"IF(ISERROR(VLOOKUP($F20,氏名データ!$2:$7000,9,0)),\"\",VLOOKUP($F20,氏名データ!$2:$7000,9,0))","v":0},{"$f":"IF(ISERROR(VLOOKUP($F20,氏名データ!$2:$7000,10,0)),\"\",VLOOKUP($F20,氏名データ!$2:$7000,10,0))","v":0},{"$f":"IF(ISERROR(VLOOKUP($F20,氏名データ!$2:$7000,11,0)),\"\",VLOOKUP($F20,氏名データ!$2:$7000,11,0))","v":0},{"$f":"IF(ISERROR(VLOOKUP($F20,氏名データ!$2:$7000,14,0)),\"\",VLOOKUP($F20,氏名データ!$2:$7000,14,0))","v":0},{"$f":"IF(ISERROR(VLOOKUP($F20,氏名データ!$2:$7000,12,0)),\"\",VLOOKUP($F20,氏名データ!$2:$7000,12,0))","v":""},null,null,null,null,null,null,null,null,null,null,null,null,null,null,null,null,null,null,null,null,{"$f":"IF(F20=\"\",\"\",学校情報!$D$2)","v":""},15,"男子棒高跳","02","03","03",null,34,null,null,"13",15,null,"男子三段跳","男子三段跳","男子三段跳","女子砲丸投","女子砲丸投","女子砲丸投",null,"男子円盤投","男子円盤投","男子円盤投","女子やり投","女子やり投","女子やり投"]
["","","","",17,null,null,{"$f":"IF(ISERROR(VLOOKUP($F21,氏名データ!$2:$7000,4,0)),\"\",VLOOKUP($F21,氏名データ!$2:$7000,4,0))","v":0},{"$f":"IF(ISERROR(VLOOKUP($F21,氏名データ!$2:$7000,5,0)),\"\",VLOOKUP($F21,氏名データ!$2:$7000,5,0))","v":0},{"$f":"IF(ISERROR(VLOOKUP($F21,氏名データ!$2:$7000,6,0)),\"\",VLOOKUP($F21,氏名データ!$2:$7000,6,0))","v":0},{"$f":"IF(ISERROR(VLOOKUP($F21,氏名データ!$2:$7000,7,0)),\"\",VLOOKUP($F21,氏名データ!$2:$7000,7,0))","v":0},{"$f":"IF(ISERROR(VLOOKUP($F21,氏名データ!$2:$7000,8,0)),\"\",VLOOKUP($F21,氏名データ!$2:$7000,8,0))","v":0},{"$f":"IF(ISERROR(VLOOKUP($F21,氏名データ!$2:$7000,9,0)),\"\",VLOOKUP($F21,氏名データ!$2:$7000,9,0))","v":0},{"$f":"IF(ISERROR(VLOOKUP($F21,氏名データ!$2:$7000,10,0)),\"\",VLOOKUP($F21,氏名データ!$2:$7000,10,0))","v":0},{"$f":"IF(ISERROR(VLOOKUP($F21,氏名データ!$2:$7000,11,0)),\"\",VLOOKUP($F21,氏名データ!$2:$7000,11,0))","v":0},{"$f":"IF(ISERROR(VLOOKUP($F21,氏名データ!$2:$7000,14,0)),\"\",VLOOKUP($F21,氏名データ!$2:$7000,14,0))","v":0},{"$f":"IF(ISERROR(VLOOKUP($F21,氏名データ!$2:$7000,12,0)),\"\",VLOOKUP($F21,氏名データ!$2:$7000,12,0))","v":""},null,null,null,null,null,null,null,null,null,null,null,null,null,null,null,null,null,null,null,null,{"$f":"IF(F21=\"\",\"\",学校情報!$D$2)","v":""},16,null,"03","04","04",null,35,null,null,"14","混",null,"男子砲丸投","男子砲丸投","男子砲丸投","女子円盤投","女子円盤投","女子円盤投",null,"男子やり投","男子やり投","男子やり投"]
["","","","",18,null,null,{"$f":"IF(ISERROR(VLOOKUP($F22,氏名データ!$2:$7000,4,0)),\"\",VLOOKUP($F22,氏名データ!$2:$7000,4,0))","v":0},{"$f":"IF(ISERROR(VLOOKUP($F22,氏名データ!$2:$7000,5,0)),\"\",VLOOKUP($F22,氏名データ!$2:$7000,5,0))","v":0},{"$f":"IF(ISERROR(VLOOKUP($F22,氏名データ!$2:$7000,6,0)),\"\",VLOOKUP($F22,氏名データ!$2:$7000,6,0))","v":0},{"$f":"IF(ISERROR(VLOOKUP($F22,氏名データ!$2:$7000,7,0)),\"\",VLOOKUP($F22,氏名データ!$2:$7000,7,0))","v":0},{"$f":"IF(ISERROR(VLOOKUP($F22,氏名データ!$2:$7000,8,0)),\"\",VLOOKUP($F22,氏名データ!$2:$7000,8,0))","v":0},{"$f":"IF(ISERROR(VLOOKUP($F22,氏名データ!$2:$7000,9,0)),\"\",VLOOKUP($F22,氏名データ!$2:$7000,9,0))","v":0},{"$f":"IF(ISERROR(VLOOKUP($F22,氏名データ!$2:$7000,10,0)),\"\",VLOOKUP($F22,氏名データ!$2:$7000,10,0))","v":0},{"$f":"IF(ISERROR(VLOOKUP($F22,氏名データ!$2:$7000,11,0)),\"\",VLOOKUP($F22,氏名データ!$2:$7000,11,0))","v":0},{"$f":"IF(ISERROR(VLOOKUP($F22,氏名データ!$2:$7000,14,0)),\"\",VLOOKUP($F22,氏名データ!$2:$7000,14,0))","v":0},{"$f":"IF(ISERROR(VLOOKUP($F22,氏名データ!$2:$7000,12,0)),\"\",VLOOKUP($F22,氏名データ!$2:$7000,12,0))","v":""},null,null,null,null,null,null,null,null,null,null,null,null,null,null,null,null,null,null,null,null,{"$f":"IF(F22=\"\",\"\",学校情報!$D$2)","v":""},17,null,"04","05","05",null,null,null,null,"15",null,null,"男子円盤投","男子円盤投","男子円盤投","女子やり投","女子やり投","女子やり投",null,"支部予選"]
["","","","",19,null,null,{"$f":"IF(ISERROR(VLOOKUP($F23,氏名データ!$2:$7000,4,0)),\"\",VLOOKUP($F23,氏名データ!$2:$7000,4,0))","v":0},{"$f":"IF(ISERROR(VLOOKUP($F23,氏名データ!$2:$7000,5,0)),\"\",VLOOKUP($F23,氏名データ!$2:$7000,5,0))","v":0},{"$f":"IF(ISERROR(VLOOKUP($F23,氏名データ!$2:$7000,6,0)),\"\",VLOOKUP($F23,氏名データ!$2:$7000,6,0))","v":0},{"$f":"IF(ISERROR(VLOOKUP($F23,氏名データ!$2:$7000,7,0)),\"\",VLOOKUP($F23,氏名データ!$2:$7000,7,0))","v":0},{"$f":"IF(ISERROR(VLOOKUP($F23,氏名データ!$2:$7000,8,0)),\"\",VLOOKUP($F23,氏名データ!$2:$7000,8,0))","v":0},{"$f":"IF(ISERROR(VLOOKUP($F23,氏名データ!$2:$7000,9,0)),\"\",VLOOKUP($F23,氏名データ!$2:$7000,9,0))","v":0},{"$f":"IF(ISERROR(VLOOKUP($F23,氏名データ!$2:$7000,10,0)),\"\",VLOOKUP($F23,氏名データ!$2:$7000,10,0))","v":0},{"$f":"IF(ISERROR(VLOOKUP($F23,氏名データ!$2:$7000,11,0)),\"\",VLOOKUP($F23,氏名データ!$2:$7000,11,0))","v":0},{"$f":"IF(ISERROR(VLOOKUP($F23,氏名データ!$2:$7000,14,0)),\"\",VLOOKUP($F23,氏名データ!$2:$7000,14,0))","v":0},{"$f":"IF(ISERROR(VLOOKUP($F23,氏名データ!$2:$7000,12,0)),\"\",VLOOKUP($F23,氏名データ!$2:$7000,12,0))","v":""},null,null,null,null,null,null,null,null,null,null,null,null,null,null,null,null,null,null,null,null,{"$f":"IF(F23=\"\",\"\",学校情報!$D$2)","v":""},18,null,"05","06","06",null,null,null,null,"16","男女",null,"男子やり投","男子やり投","男子やり投",null,null,null,null,"男子5支部100m","男子5支部100m","男子5支部100m","女子5支部100m","女子5支部100m","女子5支部100m","男子6支部100m","男子6支部100m","男子6支部100m","女子6支部100m","女子6支部100m","女子6支部100m"]
["","","","",20,null,null,{"$f":"IF(ISERROR(VLOOKUP($F24,氏名データ!$2:$7000,4,0)),\"\",VLOOKUP($F24,氏名データ!$2:$7000,4,0))","v":0},{"$f":"IF(ISERROR(VLOOKUP($F24,氏名データ!$2:$7000,5,0)),\"\",VLOOKUP($F24,氏名データ!$2:$7000,5,0))","v":0},{"$f":"IF(ISERROR(VLOOKUP($F24,氏名データ!$2:$7000,6,0)),\"\",VLOOKUP($F24,氏名データ!$2:$7000,6,0))","v":0},{"$f":"IF(ISERROR(VLOOKUP($F24,氏名データ!$2:$7000,7,0)),\"\",VLOOKUP($F24,氏名データ!$2:$7000,7,0))","v":0},{"$f":"IF(ISERROR(VLOOKUP($F24,氏名データ!$2:$7000,8,0)),\"\",VLOOKUP($F24,氏名データ!$2:$7000,8,0))","v":0},{"$f":"IF(ISERROR(VLOOKUP($F24,氏名データ!$2:$7000,9,0)),\"\",VLOOKUP($F24,氏名データ!$2:$7000,9,0))","v":0},{"$f":"IF(ISERROR(VLOOKUP($F24,氏名データ!$2:$7000,10,0)),\"\",VLOOKUP($F24,氏名データ!$2:$7000,10,0))","v":0},{"$f":"IF(ISERROR(VLOOKUP($F24,氏名データ!$2:$7000,11,0)),\"\",VLOOKUP($F24,氏名データ!$2:$7000,11,0))","v":0},{"$f":"IF(ISERROR(VLOOKUP($F24,氏名データ!$2:$7000,14,0)),\"\",VLOOKUP($F24,氏名データ!$2:$7000,14,0))","v":0},{"$f":"IF(ISERROR(VLOOKUP($F24,氏名データ!$2:$7000,12,0)),\"\",VLOOKUP($F24,氏名データ!$2:$7000,12,0))","v":""},null,null,null,null,null,null,null,null,null,null,null,null,null,null,null,null,null,null,null,null,{"$f":"IF(F24=\"\",\"\",学校情報!$D$2)","v":""},19,null,null,"07","07",null,null,null,null,"17",null,null,null,null,null,null,null,null,null,"男子5支部200m","男子5支部200m","男子5支部200m","女子5支部200m","女子5支部200m","女子5支部200m","男子6支部200m","男子6支部200m","男子6支部200m","女子6支部200m","女子6支部200m","女子6支部200m"]
["","","","",21,null,null,{"$f":"IF(ISERROR(VLOOKUP($F25,氏名データ!$2:$7000,4,0)),\"\",VLOOKUP($F25,氏名データ!$2:$7000,4,0))","v":0},{"$f":"IF(ISERROR(VLOOKUP($F25,氏名データ!$2:$7000,5,0)),\"\",VLOOKUP($F25,氏名データ!$2:$7000,5,0))","v":0},{"$f":"IF(ISERROR(VLOOKUP($F25,氏名データ!$2:$7000,6,0)),\"\",VLOOKUP($F25,氏名データ!$2:$7000,6,0))","v":0},{"$f":"IF(ISERROR(VLOOKUP($F25,氏名データ!$2:$7000,7,0)),\"\",VLOOKUP($F25,氏名データ!$2:$7000,7,0))","v":0},{"$f":"IF(ISERROR(VLOOKUP($F25,氏名データ!$2:$7000,8,0)),\"\",VLOOKUP($F25,氏名データ!$2:$7000,8,0))","v":0},{"$f":"IF(ISERROR(VLOOKUP($F25,氏名データ!$2:$7000,9,0)),\"\",VLOOKUP($F25,氏名データ!$2:$7000,9,0))","v":0},{"$f":"IF(ISERROR(VLOOKUP($F25,氏名データ!$2:$7000,10,0)),\"\",VLOOKUP($F25,氏名データ!$2:$7000,10,0))","v":0},{"$f":"IF(ISERROR(VLOOKUP($F25,氏名データ!$2:$7000,11,0)),\"\",VLOOKUP($F25,氏名データ!$2:$7000,11,0))","v":0},{"$f":"IF(ISERROR(VLOOKUP($F25,氏名データ!$2:$7000,14,0)),\"\",VLOOKUP($F25,氏名データ!$2:$7000,14,0))","v":0},{"$f":"IF(ISERROR(VLOOKUP($F25,氏名データ!$2:$7000,12,0)),\"\",VLOOKUP($F25,氏名データ!$2:$7000,12,0))","v":""},null,null,null,null,null,null,null,null,null,null,null,null,null,null,null,null,null,null,null,null,{"$f":"IF(F25=\"\",\"\",学校情報!$D$2)","v":""},20,null,null,"08","08",null,null,null,null,"18",null,null,null,null,null,null,null,null,null,"男子5支部400m","男子5支部400m","男子5支部400m","女子5支部400m","女子5支部400m","女子5支部400m","男子6支部400m","男子6支部400m","男子6支部400m","女子6支部400m","女子6支部400m","女子6支部400m"]
["","","","",22,null,null,{"$f":"IF(ISERROR(VLOOKUP($F26,氏名データ!$2:$7000,4,0)),\"\",VLOOKUP($F26,氏名データ!$2:$7000,4,0))","v":0},{"$f":"IF(ISERROR(VLOOKUP($F26,氏名データ!$2:$7000,5,0)),\"\",VLOOKUP($F26,氏名データ!$2:$7000,5,0))","v":0},{"$f":"IF(ISERROR(VLOOKUP($F26,氏名データ!$2:$7000,6,0)),\"\",VLOOKUP($F26,氏名データ!$2:$7000,6,0))","v":0},{"$f":"IF(ISERROR(VLOOKUP($F26,氏名データ!$2:$7000,7,0)),\"\",VLOOKUP($F26,氏名データ!$2:$7000,7,0))","v":0},{"$f":"IF(ISERROR(VLOOKUP($F26,氏名データ!$2:$7000,8,0)),\"\",VLOOKUP($F26,氏名データ!$2:$7000,8,0))","v":0},{"$f":"IF(ISERROR(VLOOKUP($F26,氏名データ!$2:$7000,9,0)),\"\",VLOOKUP($F26,氏名データ!$2:$7000,9,0))","v":0},{"$f":"IF(ISERROR(VLOOKUP($F26,氏名データ!$2:$7000,10,0)),\"\",VLOOKUP($F26,氏名データ!$2:$7000,10,0))","v":0},{"$f":"IF(ISERROR(VLOOKUP($F26,氏名データ!$2:$7000,11,0)),\"\",VLOOKUP($F26,氏名データ!$2:$7000,11,0))","v":0},{"$f":"IF(ISERROR(VLOOKUP($F26,氏名データ!$2:$7000,14,0)),\"\",VLOOKUP($F26,氏名データ!$2:$7000,14,0))","v":0},{"$f":"IF(ISERROR(VLOOKUP($F26,氏名データ!$2:$7000,12,0)),\"\",VLOOKUP($F26,氏名データ!$2:$7000,12,0))","v":""},null,null,null,null,null,null,null,null,null,null,null,null,null,null,null,null,null,null,null,null,{"$f":"IF(F26=\"\",\"\",学校情報!$D$2)","v":""},21,null,null,"09","09",null,null,null,null,"19",null,null,null,null,null,null,null,null,null,"男子5支部800m","男子5支部800m","男子5支部800m","女子5支部800m","女子5支部800m","女子5支部800m","男子6支部800m","男子6支部800m","男子6支部800m","女子6支部800m","女子6支部800m","女子6支部800m"]
["","","","",23,null,null,{"$f":"IF(ISERROR(VLOOKUP($F27,氏名データ!$2:$7000,4,0)),\"\",VLOOKUP($F27,氏名データ!$2:$7000,4,0))","v":0},{"$f":"IF(ISERROR(VLOOKUP($F27,氏名データ!$2:$7000,5,0)),\"\",VLOOKUP($F27,氏名データ!$2:$7000,5,0))","v":0},{"$f":"IF(ISERROR(VLOOKUP($F27,氏名データ!$2:$7000,6,0)),\"\",VLOOKUP($F27,氏名データ!$2:$7000,6,0))","v":0},{"$f":"IF(ISERROR(VLOOKUP($F27,氏名データ!$2:$7000,7,0)),\"\",VLOOKUP($F27,氏名データ!$2:$7000,7,0))","v":0},{"$f":"IF(ISERROR(VLOOKUP($F27,氏名データ!$2:$7000,8,0)),\"\",VLOOKUP($F27,氏名データ!$2:$7000,8,0))","v":0},{"$f":"IF(ISERROR(VLOOKUP($F27,氏名データ!$2:$7000,9,0)),\"\",VLOOKUP($F27,氏名データ!$2:$7000,9,0))","v":0},{"$f":"IF(ISERROR(VLOOKUP($F27,氏名データ!$2:$7000,10,0)),\"\",VLOOKUP($F27,氏名データ!$2:$7000,10,0))","v":0},{"$f":"IF(ISERROR(VLOOKUP($F27,氏名データ!$2:$7000,11,0)),\"\",VLOOKUP($F27,氏名データ!$2:$7000,11,0))","v":0},{"$f":"IF(ISERROR(VLOOKUP($F27,氏名データ!$2:$7000,14,0)),\"\",VLOOKUP($F27,氏名データ!$2:$7000,14,0))","v":0},{"$f":"IF(ISERROR(VLOOKUP($F27,氏名データ!$2:$7000,12,0)),\"\",VLOOKUP($F27,氏名データ!$2:$7000,12,0))","v":""},null,null,null,null,null,null,null,null,null,null,null,null,null,null,null,null,null,null,null,null,{"$f":"IF(F27=\"\",\"\",学校情報!$D$2)","v":""},22,null,null,"10","10",null,null,null,null,"20",null,null,null,null,null,null,null,null,null,"男子5支部1500m","男子5支部1500m","男子5支部1500m","女子5支部1500m","女子5支部1500m","女子5支部1500m","男子6支部1500m","男子6支部1500m","男子6支部1500m","女子6支部1500m","女子6支部1500m","女子6支部1500m"]
["","","","",24,null,null,{"$f":"IF(ISERROR(VLOOKUP($F28,氏名データ!$2:$7000,4,0)),\"\",VLOOKUP($F28,氏名データ!$2:$7000,4,0))","v":0},{"$f":"IF(ISERROR(VLOOKUP($F28,氏名データ!$2:$7000,5,0)),\"\",VLOOKUP($F28,氏名データ!$2:$7000,5,0))","v":0},{"$f":"IF(ISERROR(VLOOKUP($F28,氏名データ!$2:$7000,6,0)),\"\",VLOOKUP($F28,氏名データ!$2:$7000,6,0))","v":0},{"$f":"IF(ISERROR(VLOOKUP($F28,氏名データ!$2:$7000,7,0)),\"\",VLOOKUP($F28,氏名データ!$2:$7000,7,0))","v":0},{"$f":"IF(ISERROR(VLOOKUP($F28,氏名データ!$2:$7000,8,0)),\"\",VLOOKUP($F28,氏名データ!$2:$7000,8,0))","v":0},{"$f":"IF(ISERROR(VLOOKUP($F28,氏名データ!$2:$7000,9,0)),\"\",VLOOKUP($F28,氏名データ!$2:$7000,9,0))","v":0},{"$f":"IF(ISERROR(VLOOKUP($F28,氏名データ!$2:$7000,10,0)),\"\",VLOOKUP($F28,氏名データ!$2:$7000,10,0))","v":0},{"$f":"IF(ISERROR(VLOOKUP($F28,氏名データ!$2:$7000,11,0)),\"\",VLOOKUP($F28,氏名データ!$2:$7000,11,0))","v":0},{"$f":"IF(ISERROR(VLOOKUP($F28,氏名データ!$2:$7000,14,0)),\"\",VLOOKUP($F28,氏名データ!$2:$7000,14,0))","v":0},{"$f":"IF(ISERROR(VLOOKUP($F28,氏名データ!$2:$7000,12,0)),\"\",VLOOKUP($F28,氏名データ!$2:$7000,12,0))","v":""},null,null,null,null,null,null,null,null,null,null,null,null,null,null,null,null,null,null,null,null,{"$f":"IF(F28=\"\",\"\",学校情報!$D$2)","v":""},23,null,null,"11","11",null,null,null,null,"21",null,null,null,null,null,null,null,null,null,"男子5支部5000m","男子5支部5000m","男子5支部5000m","女子5支部3000m","女子5支部3000m","女子5支部3000m","男子6支部5000m","男子6支部5000m","男子6支部5000m","女子6支部3000m","女子6支部3000m","女子6支部3000m"]
["","","","",25,null,null,{"$f":"IF(ISERROR(VLOOKUP($F29,氏名データ!$2:$7000,4,0)),\"\",VLOOKUP($F29,氏名データ!$2:$7000,4,0))","v":0},{"$f":"IF(ISERROR(VLOOKUP($F29,氏名データ!$2:$7000,5,0)),\"\",VLOOKUP($F29,氏名データ!$2:$7000,5,0))","v":0},{"$f":"IF(ISERROR(VLOOKUP($F29,氏名データ!$2:$7000,6,0)),\"\",VLOOKUP($F29,氏名データ!$2:$7000,6,0))","v":0},{"$f":"IF(ISERROR(VLOOKUP($F29,氏名データ!$2:$7000,7,0)),\"\",VLOOKUP($F29,氏名データ!$2:$7000,7,0))","v":0},{"$f":"IF(ISERROR(VLOOKUP($F29,氏名データ!$2:$7000,8,0)),\"\",VLOOKUP($F29,氏名データ!$2:$7000,8,0))","v":0},{"$f":"IF(ISERROR(VLOOKUP($F29,氏名データ!$2:$7000,9,0)),\"\",VLOOKUP($F29,氏名データ!$2:$7000,9,0))","v":0},{"$f":"IF(ISERROR(VLOOKUP($F29,氏名データ!$2:$7000,10,0)),\"\",VLOOKUP($F29,氏名データ!$2:$7000,10,0))","v":0},{"$f":"IF(ISERROR(VLOOKUP($F29,氏名データ!$2:$7000,11,0)),\"\",VLOOKUP($F29,氏名データ!$2:$7000,11,0))","v":0},{"$f":"IF(ISERROR(VLOOKUP($F29,氏名データ!$2:$7000,14,0)),\"\",VLOOKUP($F29,氏名データ!$2:$7000,14,0))","v":0},{"$f":"IF(ISERROR(VLOOKUP($F29,氏名データ!$2:$7000,12,0)),\"\",VLOOKUP($F29,氏名データ!$2:$7000,12,0))","v":""},null,null,null,null,null,null,null,null,null,null,null,null,null,null,null,null,null,null,null,null,{"$f":"IF(F29=\"\",\"\",学校情報!$D$2)","v":""},24,null,null,"12","12",null,null,null,null,"22",null,null,null,null,null,null,null,null,null,"男子OP110mH","男子OP110mH","男子OP110mH","女子OP100mH","女子OP100mH","女子OP100mH","男子OP110mH","男子OP110mH","男子OP110mH","女子OP100mH","女子OP100mH","女子OP100mH"]
["","","","",26,null,null,{"$f":"IF(ISERROR(VLOOKUP($F30,氏名データ!$2:$7000,4,0)),\"\",VLOOKUP($F30,氏名データ!$2:$7000,4,0))","v":0},{"$f":"IF(ISERROR(VLOOKUP($F30,氏名データ!$2:$7000,5,0)),\"\",VLOOKUP($F30,氏名データ!$2:$7000,5,0))","v":0},{"$f":"IF(ISERROR(VLOOKUP($F30,氏名データ!$2:$7000,6,0)),\"\",VLOOKUP($F30,氏名データ!$2:$7000,6,0))","v":0},{"$f":"IF(ISERROR(VLOOKUP($F30,氏名データ!$2:$7000,7,0)),\"\",VLOOKUP($F30,氏名データ!$2:$7000,7,0))","v":0},{"$f":"IF(ISERROR(VLOOKUP($F30,氏名データ!$2:$7000,8,0)),\"\",VLOOKUP($F30,氏名データ!$2:$7000,8,0))","v":0},{"$f":"IF(ISERROR(VLOOKUP($F30,氏名データ!$2:$7000,9,0)),\"\",VLOOKUP($F30,氏名データ!$2:$7000,9,0))","v":0},{"$f":"IF(ISERROR(VLOOKUP($F30,氏名データ!$2:$7000,10,0)),\"\",VLOOKUP($F30,氏名データ!$2:$7000,10,0))","v":0},{"$f":"IF(ISERROR(VLOOKUP($F30,氏名データ!$2:$7000,11,0)),\"\",VLOOKUP($F30,氏名データ!$2:$7000,11,0))","v":0},{"$f":"IF(ISERROR(VLOOKUP($F30,氏名データ!$2:$7000,14,0)),\"\",VLOOKUP($F30,氏名データ!$2:$7000,14,0))","v":0},{"$f":"IF(ISERROR(VLOOKUP($F30,氏名データ!$2:$7000,12,0)),\"\",VLOOKUP($F30,氏名データ!$2:$7000,12,0))","v":""},null,null,null,null,null,null,null,null,null,null,null,null,null,null,null,null,null,null,null,null,{"$f":"IF(F30=\"\",\"\",学校情報!$D$2)","v":""},25,null,null,null,"13",null,null,null,null,"23",null,null,null,null,null,null,null,null,null,"男子OP400mH","男子OP400mH","男子OP400mH","女子OP400mH","女子OP400mH","女子OP400mH","男子OP400mH","男子OP400mH","男子OP400mH","女子OP400mH","女子OP400mH","女子OP400mH"]
["","","","",27,null,null,{"$f":"IF(ISERROR(VLOOKUP($F31,氏名データ!$2:$7000,4,0)),\"\",VLOOKUP($F31,氏名データ!$2:$7000,4,0))","v":0},{"$f":"IF(ISERROR(VLOOKUP($F31,氏名データ!$2:$7000,5,0)),\"\",VLOOKUP($F31,氏名データ!$2:$7000,5,0))","v":0},{"$f":"IF(ISERROR(VLOOKUP($F31,氏名データ!$2:$7000,6,0)),\"\",VLOOKUP($F31,氏名データ!$2:$7000,6,0))","v":0},{"$f":"IF(ISERROR(VLOOKUP($F31,氏名データ!$2:$7000,7,0)),\"\",VLOOKUP($F31,氏名データ!$2:$7000,7,0))","v":0},{"$f":"IF(ISERROR(VLOOKUP($F31,氏名データ!$2:$7000,8,0)),\"\",VLOOKUP($F31,氏名データ!$2:$7000,8,0))","v":0},{"$f":"IF(ISERROR(VLOOKUP($F31,氏名データ!$2:$7000,9,0)),\"\",VLOOKUP($F31,氏名データ!$2:$7000,9,0))","v":0},{"$f":"IF(ISERROR(VLOOKUP($F31,氏名データ!$2:$7000,10,0)),\"\",VLOOKUP($F31,氏名データ!$2:$7000,10,0))","v":0},{"$f":"IF(ISERROR(VLOOKUP($F31,氏名データ!$2:$7000,11,0)),\"\",VLOOKUP($F31,氏名データ!$2:$7000,11,0))","v":0},{"$f":"IF(ISERROR(VLOOKUP($F31,氏名データ!$2:$7000,14,0)),\"\",VLOOKUP($F31,氏名データ!$2:$7000,14,0))","v":0},{"$f":"IF(ISERROR(VLOOKUP($F31,氏名データ!$2:$7000,12,0)),\"\",VLOOKUP($F31,氏名データ!$2:$7000,12,0))","v":""},null,null,null,null,null,null,null,null,null,null,null,null,null,null,null,null,null,null,null,null,{"$f":"IF(F31=\"\",\"\",学校情報!$D$2)","v":""},26,null,null,null,"14",null,null,null,null,"24",null,null,null,null,null,null,null,null,null,"男子OP3000mSC","男子OP3000mSC","男子OP3000mSC","女子5支部走高跳","女子5支部走高跳","女子5支部走高跳","男子OP3000mSC","男子OP3000mSC","男子OP3000mSC","女子6支部走高跳","女子6支部走高跳","女子6支部走高跳"]
["","","","",28,null,null,{"$f":"IF(ISERROR(VLOOKUP($F32,氏名データ!$2:$7000,4,0)),\"\",VLOOKUP($F32,氏名データ!$2:$7000,4,0))","v":0},{"$f":"IF(ISERROR(VLOOKUP($F32,氏名データ!$2:$7000,5,0)),\"\",VLOOKUP($F32,氏名データ!$2:$7000,5,0))","v":0},{"$f":"IF(ISERROR(VLOOKUP($F32,氏名データ!$2:$7000,6,0)),\"\",VLOOKUP($F32,氏名データ!$2:$7000,6,0))","v":0},{"$f":"IF(ISERROR(VLOOKUP($F32,氏名データ!$2:$7000,7,0)),\"\",VLOOKUP($F32,氏名データ!$2:$7000,7,0))","v":0},{"$f":"IF(ISERROR(VLOOKUP($F32,氏名データ!$2:$7000,8,0)),\"\",VLOOKUP($F32,氏名データ!$2:$7000,8,0))","v":0},{"$f":"IF(ISERROR(VLOOKUP($F32,氏名データ!$2:$7000,9,0)),\"\",VLOOKUP($F32,氏名データ!$2:$7000,9,0))","v":0},{"$f":"IF(ISERROR(VLOOKUP($F32,氏名データ!$2:$7000,10,0)),\"\",VLOOKUP($F32,氏名データ!$2:$7000,10,0))","v":0},{"$f":"IF(ISERROR(VLOOKUP($F32,氏名データ!$2:$7000,11,0)),\"\",VLOOKUP($F32,氏名データ!$2:$7000,11,0))","v":0},{"$f":"IF(ISERROR(VLOOKUP($F32,氏名データ!$2:$7000,14,0)),\"\",VLOOKUP($F32,氏名データ!$2:$7000,14,0))","v":0},{"$f":"IF(ISERROR(VLOOKUP($F32,氏名データ!$2:$7000,12,0)),\"\",VLOOKUP($F32,氏名データ!$2:$7000,12,0))","v":""},null,null,null,null,null,null,null,null,null,null,null,null,null,null,null,null,null,null,null,null,{"$f":"IF(F32=\"\",\"\",学校情報!$D$2)","v":""},27,null,null,null,"15",null,null,null,null,"25",null,null,null,null,null,null,null,null,null,"男子5支部走高跳","男子5支部走高跳","男子5支部走高跳","女子OP棒高跳","女子OP棒高跳","女子OP棒高跳","男子6支部走高跳","男子6支部走高跳","男子6支部走高跳","女子OP棒高跳","女子OP棒高跳","女子OP棒高跳"]
["","","","",29,null,null,{"$f":"IF(ISERROR(VLOOKUP($F33,氏名データ!$2:$7000,4,0)),\"\",VLOOKUP($F33,氏名データ!$2:$7000,4,0))","v":0},{"$f":"IF(ISERROR(VLOOKUP($F33,氏名データ!$2:$7000,5,0)),\"\",VLOOKUP($F33,氏名データ!$2:$7000,5,0))","v":0},{"$f":"IF(ISERROR(VLOOKUP($F33,氏名データ!$2:$7000,6,0)),\"\",VLOOKUP($F33,氏名データ!$2:$7000,6,0))","v":0},{"$f":"IF(ISERROR(VLOOKUP($F33,氏名データ!$2:$7000,7,0)),\"\",VLOOKUP($F33,氏名データ!$2:$7000,7,0))","v":0},{"$f":"IF(ISERROR(VLOOKUP($F33,氏名データ!$2:$7000,8,0)),\"\",VLOOKUP($F33,氏名データ!$2:$7000,8,0))","v":0},{"$f":"IF(ISERROR(VLOOKUP($F33,氏名データ!$2:$7000,9,0)),\"\",VLOOKUP($F33,氏名データ!$2:$7000,9,0))","v":0},{"$f":"IF(ISERROR(VLOOKUP($F33,氏名データ!$2:$7000,10,0)),\"\",VLOOKUP($F33,氏名データ!$2:$7000,10,0))","v":0},{"$f":"IF(ISERROR(VLOOKUP($F33,氏名データ!$2:$7000,11,0)),\"\",VLOOKUP($F33,氏名データ!$2:$7000,11,0))","v":0},{"$f":"IF(ISERROR(VLOOKUP($F33,氏名データ!$2:$7000,14,0)),\"\",VLOOKUP($F33,氏名データ!$2:$7000,14,0))","v":0},{"$f":"IF(ISERROR(VLOOKUP($F33,氏名データ!$2:$7000,12,0)),\"\",VLOOKUP($F33,氏名データ!$2:$7000,12,0))","v":""},null,null,null,null,null,null,null,null,null,null,null,null,null,null,null,null,null,null,null,null,{"$f":"IF(F33=\"\",\"\",学校情報!$D$2)","v":""},28,null,null,null,"16",null,null,null,null,"26",null,null,null,null,null,null,null,null,null,"男子OP棒高跳","男子OP棒高跳","男子OP棒高跳","女子5支部走幅跳","女子5支部走幅跳","女子5支部走幅跳","男子OP棒高跳","男子OP棒高跳","男子OP棒高跳","女子5支部走幅跳","女子5支部走幅跳","女子5支部走幅跳"]
["","","","",30,null,null,{"$f":"IF(ISERROR(VLOOKUP($F34,氏名データ!$2:$7000,4,0)),\"\",VLOOKUP($F34,氏名データ!$2:$7000,4,0))","v":0},{"$f":"IF(ISERROR(VLOOKUP($F34,氏名データ!$2:$7000,5,0)),\"\",VLOOKUP($F34,氏名データ!$2:$7000,5,0))","v":0},{"$f":"IF(ISERROR(VLOOKUP($F34,氏名データ!$2:$7000,6,0)),\"\",VLOOKUP($F34,氏名データ!$2:$7000,6,0))","v":0},{"$f":"IF(ISERROR(VLOOKUP($F34,氏名データ!$2:$7000,7,0)),\"\",VLOOKUP($F34,氏名データ!$2:$7000,7,0))","v":0},{"$f":"IF(ISERROR(VLOOKUP($F34,氏名データ!$2:$7000,8,0)),\"\",VLOOKUP($F34,氏名データ!$2:$7000,8,0))","v":0},{"$f":"IF(ISERROR(VLOOKUP($F34,氏名データ!$2:$7000,9,0)),\"\",VLOOKUP($F34,氏名データ!$2:$7000,9,0))","v":0},{"$f":"IF(ISERROR(VLOOKUP($F34,氏名データ!$2:$7000,10,0)),\"\",VLOOKUP($F34,氏名データ!$2:$7000,10,0))","v":0},{"$f":"IF(ISERROR(VLOOKUP($F34,氏名データ!$2:$7000,11,0)),\"\",VLOOKUP($F34,氏名データ!$2:$7000,11,0))","v":0},{"$f":"IF(ISERROR(VLOOKUP($F34,氏名データ!$2:$7000,14,0)),\"\",VLOOKUP($F34,氏名データ!$2:$7000,14,0))","v":0},{"$f":"IF(ISERROR(VLOOKUP($F34,氏名データ!$2:$7000,12,0)),\"\",VLOOKUP($F34,氏名データ!$2:$7000,12,0))","v":""},null,null,null,null,null,null,null,null,null,null,null,null,null,null,null,null,null,null,null,null,{"$f":"IF(F34=\"\",\"\",学校情報!$D$2)","v":""},29,null,null,null,"17",null,null,null,null,"27",null,null,null,null,null,null,null,null,null,"男子5支部走幅跳","男子5支部走幅跳","男子5支部走幅跳","女子OP三段跳","女子OP三段跳","女子OP三段跳","男子6支部走幅跳","男子6支部走幅跳","男子6支部走幅跳","女子OP三段跳","女子OP三段跳","女子OP三段跳"]
["","","","",31,null,null,{"$f":"IF(ISERROR(VLOOKUP($F35,氏名データ!$2:$7000,4,0)),\"\",VLOOKUP($F35,氏名データ!$2:$7000,4,0))","v":0},{"$f":"IF(ISERROR(VLOOKUP($F35,氏名データ!$2:$7000,5,0)),\"\",VLOOKUP($F35,氏名データ!$2:$7000,5,0))","v":0},{"$f":"IF(ISERROR(VLOOKUP($F35,氏名データ!$2:$7000,6,0)),\"\",VLOOKUP($F35,氏名データ!$2:$7000,6,0))","v":0},{"$f":"IF(ISERROR(VLOOKUP($F35,氏名データ!$2:$7000,7,0)),\"\",VLOOKUP($F35,氏名データ!$2:$7000,7,0))","v":0},{"$f":"IF(ISERROR(VLOOKUP($F35,氏名データ!$2:$7000,8,0)),\"\",VLOOKUP($F35,氏名データ!$2:$7000,8,0))","v":0},{"$f":"IF(ISERROR(VLOOKUP($F35,氏名データ!$2:$7000,9,0)),\"\",VLOOKUP($F35,氏名データ!$2:$7000,9,0))","v":0},{"$f":"IF(ISERROR(VLOOKUP($F35,氏名データ!$2:$7000,10,0)),\"\",VLOOKUP($F35,氏名データ!$2:$7000,10,0))","v":0},{"$f":"IF(ISERROR(VLOOKUP($F35,氏名データ!$2:$7000,11,0)),\"\",VLOOKUP($F35,氏名データ!$2:$7000,11,0))","v":0},{"$f":"IF(ISERROR(VLOOKUP($F35,氏名データ!$2:$7000,14,0)),\"\",VLOOKUP($F35,氏名データ!$2:$7000,14,0))","v":0},{"$f":"IF(ISERROR(VLOOKUP($F35,氏名データ!$2:$7000,12,0)),\"\",VLOOKUP($F35,氏名データ!$2:$7000,12,0))","v":""},null,null,null,null,null,null,null,null,null,null,null,null,null,null,null,null,null,null,null,null,{"$f":"IF(F35=\"\",\"\",学校情報!$D$2)","v":""},30,null,null,null,"18",null,null,null,null,"28",null,null,null,null,null,null,null,null,null,"男子5支部三段跳","男子5支部三段跳","男子5支部三段跳","女子5支部砲丸投","女子5支部砲丸投","女子5支部砲丸投","男子6支部三段跳","男子6支部三段跳","男子6支部三段跳","女子5支部砲丸投","女子5支部砲丸投","女子5支部砲丸投"]
["","","","",32,null,null,{"$f":"IF(ISERROR(VLOOKUP($F36,氏名データ!$2:$7000,4,0)),\"\",VLOOKUP($F36,氏名データ!$2:$7000,4,0))","v":0},{"$f":"IF(ISERROR(VLOOKUP($F36,氏名データ!$2:$7000,5,0)),\"\",VLOOKUP($F36,氏名データ!$2:$7000,5,0))","v":0},{"$f":"IF(ISERROR(VLOOKUP($F36,氏名データ!$2:$7000,6,0)),\"\",VLOOKUP($F36,氏名データ!$2:$7000,6,0))","v":0},{"$f":"IF(ISERROR(VLOOKUP($F36,氏名データ!$2:$7000,7,0)),\"\",VLOOKUP($F36,氏名データ!$2:$7000,7,0))","v":0},{"$f":"IF(ISERROR(VLOOKUP($F36,氏名データ!$2:$7000,8,0)),\"\",VLOOKUP($F36,氏名データ!$2:$7000,8,0))","v":0},{"$f":"IF(ISERROR(VLOOKUP($F36,氏名データ!$2:$7000,9,0)),\"\",VLOOKUP($F36,氏名データ!$2:$7000,9,0))","v":0},{"$f":"IF(ISERROR(VLOOKUP($F36,氏名データ!$2:$7000,10,0)),\"\",VLOOKUP($F36,氏名データ!$2:$7000,10,0))","v":0},{"$f":"IF(ISERROR(VLOOKUP($F36,氏名データ!$2:$7000,11,0)),\"\",VLOOKUP($F36,氏名データ!$2:$7000,11,0))","v":0},{"$f":"IF(ISERROR(VLOOKUP($F36,氏名データ!$2:$7000,14,0)),\"\",VLOOKUP($F36,氏名データ!$2:$7000,14,0))","v":0},{"$f":"IF(ISERROR(VLOOKUP($F36,氏名データ!$2:$7000,12,0)),\"\",VLOOKUP($F36,氏名データ!$2:$7000,12,0))","v":""},null,null,null,null,null,null,null,null,null,null,null,null,null,null,null,null,null,null,null,null,{"$f":"IF(F36=\"\",\"\",学校情報!$D$2)","v":""},31,null,null,null,"19",null,null,null,null,"29",null,null,null,null,null,null,null,null,null,"男子5支部砲丸投","男子5支部砲丸投","男子5支部砲丸投","女子5支部円盤投","女子5支部円盤投","女子5支部円盤投","男子6支部砲丸投","男子6支部砲丸投","男子6支部砲丸投","女子5支部円盤投","女子5支部円盤投","女子5支部円盤投"]
["","","",{"$f":"IF(P37=\"女\",ROW(R37),\"\")","v":""},33,null,null,{"$f":"IF(ISERROR(VLOOKUP($F37,氏名データ!$2:$7000,4,0)),\"\",VLOOKUP($F37,氏名データ!$2:$7000,4,0))","v":0},{"$f":"IF(ISERROR(VLOOKUP($F37,氏名データ!$2:$7000,5,0)),\"\",VLOOKUP($F37,氏名データ!$2:$7000,5,0))","v":0},{"$f":"IF(ISERROR(VLOOKUP($F37,氏名データ!$2:$7000,6,0)),\"\",VLOOKUP($F37,氏名データ!$2:$7000,6,0))","v":0},{"$f":"IF(ISERROR(VLOOKUP($F37,氏名データ!$2:$7000,7,0)),\"\",VLOOKUP($F37,氏名データ!$2:$7000,7,0))","v":0},{"$f":"IF(ISERROR(VLOOKUP($F37,氏名データ!$2:$7000,8,0)),\"\",VLOOKUP($F37,氏名データ!$2:$7000,8,0))","v":0},{"$f":"IF(ISERROR(VLOOKUP($F37,氏名データ!$2:$7000,9,0)),\"\",VLOOKUP($F37,氏名データ!$2:$7000,9,0))","v":0},{"$f":"IF(ISERROR(VLOOKUP($F37,氏名データ!$2:$7000,10,0)),\"\",VLOOKUP($F37,氏名データ!$2:$7000,10,0))","v":0},{"$f":"IF(ISERROR(VLOOKUP($F37,氏名データ!$2:$7000,11,0)),\"\",VLOOKUP($F37,氏名データ!$2:$7000,11,0))","v":0},{"$f":"IF(ISERROR(VLOOKUP($F37,氏名データ!$2:$7000,14,0)),\"\",VLOOKUP($F37,氏名データ!$2:$7000,14,0))","v":0},{"$f":"IF(ISERROR(VLOOKUP($F37,氏名データ!$2:$7000,12,0)),\"\",VLOOKUP($F37,氏名データ!$2:$7000,12,0))","v":""},null,null,null,null,null,null,null,null,null,null,null,null,null,null,null,null,null,null,null,null,{"$f":"IF(F37=\"\",\"\",学校情報!$D$2)","v":""},32,null,null,null,"20",null,null,null,null,"30",null,null,null,null,null,null,null,null,null,"男子5支部円盤投","男子5支部円盤投","男子5支部円盤投","女子5支部やり投","女子5支部やり投","女子5支部やり投","男子6支部円盤投","男子6支部円盤投","男子6支部円盤投","女子5支部やり投","女子5支部やり投","女子5支部やり投"]
["","","","",34,null,null,{"$f":"IF(ISERROR(VLOOKUP($F38,氏名データ!$2:$7000,4,0)),\"\",VLOOKUP($F38,氏名データ!$2:$7000,4,0))","v":0},{"$f":"IF(ISERROR(VLOOKUP($F38,氏名データ!$2:$7000,5,0)),\"\",VLOOKUP($F38,氏名データ!$2:$7000,5,0))","v":0},{"$f":"IF(ISERROR(VLOOKUP($F38,氏名データ!$2:$7000,6,0)),\"\",VLOOKUP($F38,氏名データ!$2:$7000,6,0))","v":0},{"$f":"IF(ISERROR(VLOOKUP($F38,氏名データ!$2:$7000,7,0)),\"\",VLOOKUP($F38,氏名データ!$2:$7000,7,0))","v":0},{"$f":"IF(ISERROR(VLOOKUP($F38,氏名データ!$2:$7000,8,0)),\"\",VLOOKUP($F38,氏名データ!$2:$7000,8,0))","v":0},{"$f":"IF(ISERROR(VLOOKUP($F38,氏名データ!$2:$7000,9,0)),\"\",VLOOKUP($F38,氏名データ!$2:$7000,9,0))","v":0},{"$f":"IF(ISERROR(VLOOKUP($F38,氏名データ!$2:$7000,10,0)),\"\",VLOOKUP($F38,氏名データ!$2:$7000,10,0))","v":0},{"$f":"IF(ISERROR(VLOOKUP($F38,氏名データ!$2:$7000,11,0)),\"\",VLOOKUP($F38,氏名データ!$2:$7000,11,0))","v":0},{"$f":"IF(ISERROR(VLOOKUP($F38,氏名データ!$2:$7000,14,0)),\"\",VLOOKUP($F38,氏名データ!$2:$7000,14,0))","v":0},{"$f":"IF(ISERROR(VLOOKUP($F38,氏名データ!$2:$7000,12,0)),\"\",VLOOKUP($F38,氏名データ!$2:$7000,12,0))","v":""},null,null,null,null,null,null,null,null,null,null,null,null,null,null,null,null,null,null,null,null,{"$f":"IF(F38=\"\",\"\",学校情報!$D$2)","v":""},33,null,null,null,"21",null,null,null,null,"31",null,null,null,null,null,null,null,null,null,"男子5支部やり投","男子5支部やり投","男子5支部やり投",null,null,null,"男子6支部やり投","男子6支部やり投","男子6支部やり投"]
["","","","",35,null,null,{"$f":"IF(ISERROR(VLOOKUP($F39,氏名データ!$2:$7000,4,0)),\"\",VLOOKUP($F39,氏名データ!$2:$7000,4,0))","v":0},{"$f":"IF(ISERROR(VLOOKUP($F39,氏名データ!$2:$7000,5,0)),\"\",VLOOKUP($F39,氏名データ!$2:$7000,5,0))","v":0},{"$f":"IF(ISERROR(VLOOKUP($F39,氏名データ!$2:$7000,6,0)),\"\",VLOOKUP($F39,氏名データ!$2:$7000,6,0))","v":0},{"$f":"IF(ISERROR(VLOOKUP($F39,氏名データ!$2:$7000,7,0)),\"\",VLOOKUP($F39,氏名データ!$2:$7000,7,0))","v":0},{"$f":"IF(ISERROR(VLOOKUP($F39,氏名データ!$2:$7000,8,0)),\"\",VLOOKUP($F39,氏名データ!$2:$7000,8,0))","v":0},{"$f":"IF(ISERROR(VLOOKUP($F39,氏名データ!$2:$7000,9,0)),\"\",VLOOKUP($F39,氏名データ!$2:$7000,9,0))","v":0},{"$f":"IF(ISERROR(VLOOKUP($F39,氏名データ!$2:$7000,10,0)),\"\",VLOOKUP($F39,氏名データ!$2:$7000,10,0))","v":0},{"$f":"IF(ISERROR(VLOOKUP($F39,氏名データ!$2:$7000,11,0)),\"\",VLOOKUP($F39,氏名データ!$2:$7000,11,0))","v":0},{"$f":"IF(ISERROR(VLOOKUP($F39,氏名データ!$2:$7000,14,0)),\"\",VLOOKUP($F39,氏名データ!$2:$7000,14,0))","v":0},{"$f":"IF(ISERROR(VLOOKUP($F39,氏名データ!$2:$7000,12,0)),\"\",VLOOKUP($F39,氏名データ!$2:$7000,12,0))","v":""},null,null,null,null,null,null,null,null,null,null,null,null,null,null,null,null,null,null,null,null,{"$f":"IF(F39=\"\",\"\",学校情報!$D$2)","v":""},34,null,null,null,"22",null,null,null,null,"32",null,null,null,null,null,null,null,null,null,"学年別"]
["","","","",36,null,null,{"$f":"IF(ISERROR(VLOOKUP($F40,氏名データ!$2:$7000,4,0)),\"\",VLOOKUP($F40,氏名データ!$2:$7000,4,0))","v":0},{"$f":"IF(ISERROR(VLOOKUP($F40,氏名データ!$2:$7000,5,0)),\"\",VLOOKUP($F40,氏名データ!$2:$7000,5,0))","v":0},{"$f":"IF(ISERROR(VLOOKUP($F40,氏名データ!$2:$7000,6,0)),\"\",VLOOKUP($F40,氏名データ!$2:$7000,6,0))","v":0},{"$f":"IF(ISERROR(VLOOKUP($F40,氏名データ!$2:$7000,7,0)),\"\",VLOOKUP($F40,氏名データ!$2:$7000,7,0))","v":0},{"$f":"IF(ISERROR(VLOOKUP($F40,氏名データ!$2:$7000,8,0)),\"\",VLOOKUP($F40,氏名データ!$2:$7000,8,0))","v":0},{"$f":"IF(ISERROR(VLOOKUP($F40,氏名データ!$2:$7000,9,0)),\"\",VLOOKUP($F40,氏名データ!$2:$7000,9,0))","v":0},{"$f":"IF(ISERROR(VLOOKUP($F40,氏名データ!$2:$7000,10,0)),\"\",VLOOKUP($F40,氏名データ!$2:$7000,10,0))","v":0},{"$f":"IF(ISERROR(VLOOKUP($F40,氏名データ!$2:$7000,11,0)),\"\",VLOOKUP($F40,氏名データ!$2:$7000,11,0))","v":0},{"$f":"IF(ISERROR(VLOOKUP($F40,氏名データ!$2:$7000,14,0)),\"\",VLOOKUP($F40,氏名データ!$2:$7000,14,0))","v":0},{"$f":"IF(ISERROR(VLOOKUP($F40,氏名データ!$2:$7000,12,0)),\"\",VLOOKUP($F40,氏名データ!$2:$7000,12,0))","v":""},null,null,null,null,null,null,null,null,null,null,null,null,null,null,null,null,null,null,null,null,{"$f":"IF(F40=\"\",\"\",学校情報!$D$2)","v":""},null,null,null,null,"23",null,null,null,null,"33",null,null,null,null,null,null,null,null,null,"男子1年100m","男子2年100m","男子3年100m","女子1年100m","女子2年100m","女子3年100m",null,"男子5支部共通5000m"]
["","","","",37,null,null,{"$f":"IF(ISERROR(VLOOKUP($F41,氏名データ!$2:$7000,4,0)),\"\",VLOOKUP($F41,氏名データ!$2:$7000,4,0))","v":0},{"$f":"IF(ISERROR(VLOOKUP($F41,氏名データ!$2:$7000,5,0)),\"\",VLOOKUP($F41,氏名データ!$2:$7000,5,0))","v":0},{"$f":"IF(ISERROR(VLOOKUP($F41,氏名データ!$2:$7000,6,0)),\"\",VLOOKUP($F41,氏名データ!$2:$7000,6,0))","v":0},{"$f":"IF(ISERROR(VLOOKUP($F41,氏名データ!$2:$7000,7,0)),\"\",VLOOKUP($F41,氏名データ!$2:$7000,7,0))","v":0},{"$f":"IF(ISERROR(VLOOKUP($F41,氏名データ!$2:$7000,8,0)),\"\",VLOOKUP($F41,氏名データ!$2:$7000,8,0))","v":0},{"$f":"IF(ISERROR(VLOOKUP($F41,氏名データ!$2:$7000,9,0)),\"\",VLOOKUP($F41,氏名データ!$2:$7000,9,0))","v":0},{"$f":"IF(ISERROR(VLOOKUP($F41,氏名データ!$2:$7000,10,0)),\"\",VLOOKUP($F41,氏名データ!$2:$7000,10,0))","v":0},{"$f":"IF(ISERROR(VLOOKUP($F41,氏名データ!$2:$7000,11,0)),\"\",VLOOKUP($F41,氏名データ!$2:$7000,11,0))","v":0},{"$f":"IF(ISERROR(VLOOKUP($F41,氏名データ!$2:$7000,14,0)),\"\",VLOOKUP($F41,氏名データ!$2:$7000,14,0))","v":0},{"$f":"IF(ISERROR(VLOOKUP($F41,氏名データ!$2:$7000,12,0)),\"\",VLOOKUP($F41,氏名データ!$2:$7000,12,0))","v":""},null,null,null,null,null,null,null,null,null,null,null,null,null,null,null,null,null,null,null,null,{"$f":"IF(F41=\"\",\"\",学校情報!$D$2)","v":""},null,null,null,null,"24",null,null,null,null,"34",null,null,null,null,null,null,null,null,null,"男子1年200m","男子2年400m","男子3年400m","女子1年200m","女子2年400m","女子3年400m",null,"男子6支部共通5000m"]
["","","","",38,null,null,{"$f":"IF(ISERROR(VLOOKUP($F42,氏名データ!$2:$7000,4,0)),\"\",VLOOKUP($F42,氏名データ!$2:$7000,4,0))","v":0},{"$f":"IF(ISERROR(VLOOKUP($F42,氏名データ!$2:$7000,5,0)),\"\",VLOOKUP($F42,氏名データ!$2:$7000,5,0))","v":0},{"$f":"IF(ISERROR(VLOOKUP($F42,氏名データ!$2:$7000,6,0)),\"\",VLOOKUP($F42,氏名データ!$2:$7000,6,0))","v":0},{"$f":"IF(ISERROR(VLOOKUP($F42,氏名データ!$2:$7000,7,0)),\"\",VLOOKUP($F42,氏名データ!$2:$7000,7,0))","v":0},{"$f":"IF(ISERROR(VLOOKUP($F42,氏名データ!$2:$7000,8,0)),\"\",VLOOKUP($F42,氏名データ!$2:$7000,8,0))","v":0},{"$f":"IF(ISERROR(VLOOKUP($F42,氏名データ!$2:$7000,9,0)),\"\",VLOOKUP($F42,氏名データ!$2:$7000,9,0))","v":0},{"$f":"IF(ISERROR(VLOOKUP($F42,氏名データ!$2:$7000,10,0)),\"\",VLOOKUP($F42,氏名データ!$2:$7000,10,0))","v":0},{"$f":"IF(ISERROR(VLOOKUP($F42,氏名データ!$2:$7000,11,0)),\"\",VLOOKUP($F42,氏名データ!$2:$7000,11,0))","v":0},{"$f":"IF(ISERROR(VLOOKUP($F42,氏名データ!$2:$7000,14,0)),\"\",VLOOKUP($F42,氏名データ!$2:$7000,14,0))","v":0},{"$f":"IF(ISERROR(VLOOKUP($F42,氏名データ!$2:$7000,12,0)),\"\",VLOOKUP($F42,氏名データ!$2:$7000,12,0))","v":""},null,null,null,null,null,null,null,null,null,null,null,null,null,null,null,null,null,null,null,null,{"$f":"IF(F42=\"\",\"\",学校情報!$D$2)","v":""},null,null,null,null,"25",null,null,null,null,"35",null,null,null,null,null,null,null,null,null,"男子1年800m","男子2年1500m","男子3年1500m","女子1年1500m","女子2年800m","女子3年800m"]
["","","","",39,null,null,{"$f":"IF(ISERROR(VLOOKUP($F43,氏名データ!$2:$7000,4,0)),\"\",VLOOKUP($F43,氏名データ!$2:$7000,4,0))","v":0},{"$f":"IF(ISERROR(VLOOKUP($F43,氏名データ!$2:$7000,5,0)),\"\",VLOOKUP($F43,氏名データ!$2:$7000,5,0))","v":0},{"$f":"IF(ISERROR(VLOOKUP($F43,氏名データ!$2:$7000,6,0)),\"\",VLOOKUP($F43,氏名データ!$2:$7000,6,0))","v":0},{"$f":"IF(ISERROR(VLOOKUP($F43,氏名データ!$2:$7000,7,0)),\"\",VLOOKUP($F43,氏名データ!$2:$7000,7,0))","v":0},{"$f":"IF(ISERROR(VLOOKUP($F43,氏名データ!$2:$7000,8,0)),\"\",VLOOKUP($F43,氏名データ!$2:$7000,8,0))","v":0},{"$f":"IF(ISERROR(VLOOKUP($F43,氏名データ!$2:$7000,9,0)),\"\",VLOOKUP($F43,氏名データ!$2:$7000,9,0))","v":0},{"$f":"IF(ISERROR(VLOOKUP($F43,氏名データ!$2:$7000,10,0)),\"\",VLOOKUP($F43,氏名データ!$2:$7000,10,0))","v":0},{"$f":"IF(ISERROR(VLOOKUP($F43,氏名データ!$2:$7000,11,0)),\"\",VLOOKUP($F43,氏名データ!$2:$7000,11,0))","v":0},{"$f":"IF(ISERROR(VLOOKUP($F43,氏名データ!$2:$7000,14,0)),\"\",VLOOKUP($F43,氏名データ!$2:$7000,14,0))","v":0},{"$f":"IF(ISERROR(VLOOKUP($F43,氏名データ!$2:$7000,12,0)),\"\",VLOOKUP($F43,氏名データ!$2:$7000,12,0))","v":""},null,null,null,null,null,null,null,null,null,null,null,null,null,null,null,null,null,null,null,null,{"$f":"IF(F43=\"\",\"\",学校情報!$D$2)","v":""},null,null,null,null,"26",null,null,null,null,"36",null,null,null,null,null,null,null,null,null,"男子1年3000m","男子2年走幅跳","男子3年走幅跳","女子1年100mYH","女子2年走幅跳","女子3年走幅跳"]
["","","","",40,null,null,{"$f":"IF(ISERROR(VLOOKUP($F44,氏名データ!$2:$7000,4,0)),\"\",VLOOKUP($F44,氏名データ!$2:$7000,4,0))","v":0},{"$f":"IF(ISERROR(VLOOKUP($F44,氏名データ!$2:$7000,5,0)),\"\",VLOOKUP($F44,氏名データ!$2:$7000,5,0))","v":0},{"$f":"IF(ISERROR(VLOOKUP($F44,氏名データ!$2:$7000,6,0)),\"\",VLOOKUP($F44,氏名データ!$2:$7000,6,0))","v":0},{"$f":"IF(ISERROR(VLOOKUP($F44,氏名データ!$2:$7000,7,0)),\"\",VLOOKUP($F44,氏名データ!$2:$7000,7,0))","v":0},{"$f":"IF(ISERROR(VLOOKUP($F44,氏名データ!$2:$7000,8,0)),\"\",VLOOKUP($F44,氏名データ!$2:$7000,8,0))","v":0},{"$f":"IF(ISERROR(VLOOKUP($F44,氏名データ!$2:$7000,9,0)),\"\",VLOOKUP($F44,氏名データ!$2:$7000,9,0))","v":0},{"$f":"IF(ISERROR(VLOOKUP($F44,氏名データ!$2:$7000,10,0)),\"\",VLOOKUP($F44,氏名データ!$2:$7000,10,0))","v":0},{"$f":"IF(ISERROR(VLOOKUP($F44,氏名データ!$2:$7000,11,0)),\"\",VLOOKUP($F44,氏名データ!$2:$7000,11,0))","v":0},{"$f":"IF(ISERROR(VLOOKUP($F44,氏名データ!$2:$7000,14,0)),\"\",VLOOKUP($F44,氏名データ!$2:$7000,14,0))","v":0},{"$f":"IF(ISERROR(VLOOKUP($F44,氏名データ!$2:$7000,12,0)),\"\",VLOOKUP($F44,氏名データ!$2:$7000,12,0))","v":""},null,null,null,null,null,null,null,null,null,null,null,null,null,null,null,null,null,null,null,null,{"$f":"IF(F44=\"\",\"\",学校情報!$D$2)","v":""},null,null,null,null,"27",null,null,null,null,"37",null,null,null,null,null,null,null,null,null,"男子1年110mJH","男子共通5000m","男子共通5000m","女子1年走幅跳","女子共通3000m","女子共通3000m"]
["","","","",41,null,null,{"$f":"IF(ISERROR(VLOOKUP($F45,氏名データ!$2:$7000,4,0)),\"\",VLOOKUP($F45,氏名データ!$2:$7000,4,0))","v":0},{"$f":"IF(ISERROR(VLOOKUP($F45,氏名データ!$2:$7000,5,0)),\"\",VLOOKUP($F45,氏名データ!$2:$7000,5,0))","v":0},{"$f":"IF(ISERROR(VLOOKUP($F45,氏名データ!$2:$7000,6,0)),\"\",VLOOKUP($F45,氏名データ!$2:$7000,6,0))","v":0},{"$f":"IF(ISERROR(VLOOKUP($F45,氏名データ!$2:$7000,7,0)),\"\",VLOOKUP($F45,氏名データ!$2:$7000,7,0))","v":0},{"$f":"IF(ISERROR(VLOOKUP($F45,氏名データ!$2:$7000,8,0)),\"\",VLOOKUP($F45,氏名データ!$2:$7000,8,0))","v":0},{"$f":"IF(ISERROR(VLOOKUP($F45,氏名データ!$2:$7000,9,0)),\"\",VLOOKUP($F45,氏名データ!$2:$7000,9,0))","v":0},{"$f":"IF(ISERROR(VLOOKUP($F45,氏名データ!$2:$7000,10,0)),\"\",VLOOKUP($F45,氏名データ!$2:$7000,10,0))","v":0},{"$f":"IF(ISERROR(VLOOKUP($F45,氏名データ!$2:$7000,11,0)),\"\",VLOOKUP($F45,氏名データ!$2:$7000,11,0))","v":0},{"$f":"IF(ISERROR(VLOOKUP($F45,氏名データ!$2:$7000,14,0)),\"\",VLOOKUP($F45,氏名データ!$2:$7000,14,0))","v":0},{"$f":"IF(ISERROR(VLOOKUP($F45,氏名データ!$2:$7000,12,0)),\"\",VLOOKUP($F45,氏名データ!$2:$7000,12,0))","v":""},null,null,null,null,null,null,null,null,null,null,null,null,null,null,null,null,null,null,null,null,{"$f":"IF(F45=\"\",\"\",学校情報!$D$2)","v":""},null,null,null,null,"28",null,null,null,null,"38",null,null,null,null,null,null,null,null,null,"男子1年走幅跳","男子共通110mH","男子共通110mH","女子1年砲丸投","女子共通100mH","女子共通100mH"]
["","","","",42,null,null,{"$f":"IF(ISERROR(VLOOKUP($F46,氏名データ!$2:$7000,4,0)),\"\",VLOOKUP($F46,氏名データ!$2:$7000,4,0))","v":0},{"$f":"IF(ISERROR(VLOOKUP($F46,氏名データ!$2:$7000,5,0)),\"\",VLOOKUP($F46,氏名データ!$2:$7000,5,0))","v":0},{"$f":"IF(ISERROR(VLOOKUP($F46,氏名データ!$2:$7000,6,0)),\"\",VLOOKUP($F46,氏名データ!$2:$7000,6,0))","v":0},{"$f":"IF(ISERROR(VLOOKUP($F46,氏名データ!$2:$7000,7,0)),\"\",VLOOKUP($F46,氏名データ!$2:$7000,7,0))","v":0},{"$f":"IF(ISERROR(VLOOKUP($F46,氏名データ!$2:$7000,8,0)),\"\",VLOOKUP($F46,氏名データ!$2:$7000,8,0))","v":0},{"$f":"IF(ISERROR(VLOOKUP($F46,氏名データ!$2:$7000,9,0)),\"\",VLOOKUP($F46,氏名データ!$2:$7000,9,0))","v":0},{"$f":"IF(ISERROR(VLOOKUP($F46,氏名データ!$2:$7000,10,0)),\"\",VLOOKUP($F46,氏名データ!$2:$7000,10,0))","v":0},{"$f":"IF(ISERROR(VLOOKUP($F46,氏名データ!$2:$7000,11,0)),\"\",VLOOKUP($F46,氏名データ!$2:$7000,11,0))","v":0},{"$f":"IF(ISERROR(VLOOKUP($F46,氏名データ!$2:$7000,14,0)),\"\",VLOOKUP($F46,氏名データ!$2:$7000,14,0))","v":0},{"$f":"IF(ISERROR(VLOOKUP($F46,氏名データ!$2:$7000,12,0)),\"\",VLOOKUP($F46,氏名データ!$2:$7000,12,0))","v":""},null,null,null,null,null,null,null,null,null,null,null,null,null,null,null,null,null,null,null,null,{"$f":"IF(F46=\"\",\"\",学校情報!$D$2)","v":""},null,null,null,null,"29",null,null,null,null,"39",null,null,null,null,null,null,null,null,null,"男子1年砲丸投(5kg)","男子共通走高跳","男子共通走高跳","女子共通3000m","女子共通走高跳","女子共通走高跳"]
["","","","",43,null,null,{"$f":"IF(ISERROR(VLOOKUP($F47,氏名データ!$2:$7000,4,0)),\"\",VLOOKUP($F47,氏名データ!$2:$7000,4,0))","v":0},{"$f":"IF(ISERROR(VLOOKUP($F47,氏名データ!$2:$7000,5,0)),\"\",VLOOKUP($F47,氏名データ!$2:$7000,5,0))","v":0},{"$f":"IF(ISERROR(VLOOKUP($F47,氏名データ!$2:$7000,6,0)),\"\",VLOOKUP($F47,氏名データ!$2:$7000,6,0))","v":0},{"$f":"IF(ISERROR(VLOOKUP($F47,氏名データ!$2:$7000,7,0)),\"\",VLOOKUP($F47,氏名データ!$2:$7000,7,0))","v":0},{"$f":"IF(ISERROR(VLOOKUP($F47,氏名データ!$2:$7000,8,0)),\"\",VLOOKUP($F47,氏名データ!$2:$7000,8,0))","v":0},{"$f":"IF(ISERROR(VLOOKUP($F47,氏名データ!$2:$7000,9,0)),\"\",VLOOKUP($F47,氏名データ!$2:$7000,9,0))","v":0},{"$f":"IF(ISERROR(VLOOKUP($F47,氏名データ!$2:$7000,10,0)),\"\",VLOOKUP($F47,氏名データ!$2:$7000,10,0))","v":0},{"$f":"IF(ISERROR(VLOOKUP($F47,氏名データ!$2:$7000,11,0)),\"\",VLOOKUP($F47,氏名データ!$2:$7000,11,0))","v":0},{"$f":"IF(ISERROR(VLOOKUP($F47,氏名データ!$2:$7000,14,0)),\"\",VLOOKUP($F47,氏名データ!$2:$7000,14,0))","v":0},{"$f":"IF(ISERROR(VLOOKUP($F47,氏名データ!$2:$7000,12,0)),\"\",VLOOKUP($F47,氏名データ!$2:$7000,12,0))","v":""},null,null,null,null,null,null,null,null,null,null,null,null,null,null,null,null,null,null,null,null,{"$f":"IF(F47=\"\",\"\",学校情報!$D$2)","v":""},null,null,null,null,"30",null,null,null,null,"40",null,null,null,null,null,null,null,null,null,"男子共通5000m","男子共通棒高跳","男子共通棒高跳","女子共通100mH","女子共通棒高跳","女子共通棒高跳"]
["","","","",44,null,null,{"$f":"IF(ISERROR(VLOOKUP($F48,氏名データ!$2:$7000,4,0)),\"\",VLOOKUP($F48,氏名データ!$2:$7000,4,0))","v":0},{"$f":"IF(ISERROR(VLOOKUP($F48,氏名データ!$2:$7000,5,0)),\"\",VLOOKUP($F48,氏名データ!$2:$7000,5,0))","v":0},{"$f":"IF(ISERROR(VLOOKUP($F48,氏名データ!$2:$7000,6,0)),\"\",VLOOKUP($F48,氏名データ!$2:$7000,6,0))","v":0},{"$f":"IF(ISERROR(VLOOKUP($F48,氏名データ!$2:$7000,7,0)),\"\",VLOOKUP($F48,氏名データ!$2:$7000,7,0))","v":0},{"$f":"IF(ISERROR(VLOOKUP($F48,氏名データ!$2:$7000,8,0)),\"\",VLOOKUP($F48,氏名データ!$2:$7000,8,0))","v":0},{"$f":"IF(ISERROR(VLOOKUP($F48,氏名データ!$2:$7000,9,0)),\"\",VLOOKUP($F48,氏名データ!$2:$7000,9,0))","v":0},{"$f":"IF(ISERROR(VLOOKUP($F48,氏名データ!$2:$7000,10,0)),\"\",VLOOKUP($F48,氏名データ!$2:$7000,10,0))","v":0},{"$f":"IF(ISERROR(VLOOKUP($F48,氏名データ!$2:$7000,11,0)),\"\",VLOOKUP($F48,氏名データ!$2:$7000,11,0))","v":0},{"$f":"IF(ISERROR(VLOOKUP($F48,氏名データ!$2:$7000,14,0)),\"\",VLOOKUP($F48,氏名データ!$2:$7000,14,0))","v":0},{"$f":"IF(ISERROR(VLOOKUP($F48,氏名データ!$2:$7000,12,0)),\"\",VLOOKUP($F48,氏名データ!$2:$7000,12,0))","v":""},null,null,null,null,null,null,null,null,null,null,null,null,null,null,null,null,null,null,null,null,{"$f":"IF(F48=\"\",\"\",学校情報!$D$2)","v":""},null,null,null,null,"31",null,null,null,null,"41",null,null,null,null,null,null,null,null,null,"男子共通110mH","男子共通三段跳","男子共通三段跳","女子共通走高跳","女子共通三段跳","女子共通三段跳"]
["","","","",45,null,null,{"$f":"IF(ISERROR(VLOOKUP($F49,氏名データ!$2:$7000,4,0)),\"\",VLOOKUP($F49,氏名データ!$2:$7000,4,0))","v":0},{"$f":"IF(ISERROR(VLOOKUP($F49,氏名データ!$2:$7000,5,0)),\"\",VLOOKUP($F49,氏名データ!$2:$7000,5,0))","v":0},{"$f":"IF(ISERROR(VLOOKUP($F49,氏名データ!$2:$7000,6,0)),\"\",VLOOKUP($F49,氏名データ!$2:$7000,6,0))","v":0},{"$f":"IF(ISERROR(VLOOKUP($F49,氏名データ!$2:$7000,7,0)),\"\",VLOOKUP($F49,氏名データ!$2:$7000,7,0))","v":0},{"$f":"IF(ISERROR(VLOOKUP($F49,氏名データ!$2:$7000,8,0)),\"\",VLOOKUP($F49,氏名データ!$2:$7000,8,0))","v":0},{"$f":"IF(ISERROR(VLOOKUP($F49,氏名データ!$2:$7000,9,0)),\"\",VLOOKUP($F49,氏名データ!$2:$7000,9,0))","v":0},{"$f":"IF(ISERROR(VLOOKUP($F49,氏名データ!$2:$7000,10,0)),\"\",VLOOKUP($F49,氏名データ!$2:$7000,10,0))","v":0},{"$f":"IF(ISERROR(VLOOKUP($F49,氏名データ!$2:$7000,11,0)),\"\",VLOOKUP($F49,氏名データ!$2:$7000,11,0))","v":0},{"$f":"IF(ISERROR(VLOOKUP($F49,氏名データ!$2:$7000,14,0)),\"\",VLOOKUP($F49,氏名データ!$2:$7000,14,0))","v":0},{"$f":"IF(ISERROR(VLOOKUP($F49,氏名データ!$2:$7000,12,0)),\"\",VLOOKUP($F49,氏名データ!$2:$7000,12,0))","v":""},null,null,null,null,null,null,null,null,null,null,null,null,null,null,null,null,null,null,null,null,{"$f":"IF(F49=\"\",\"\",学校情報!$D$2)","v":""},null,null,null,null,null,null,null,null,null,"42",null,null,null,null,null,null,null,null,null,"男子共通走高跳","男子共通砲丸投(6kg)","男子共通砲丸投(6kg)","女子共通棒高跳","女子共通砲丸投","女子共通砲丸投"]
["","","","",46,null,null,{"$f":"IF(ISERROR(VLOOKUP($F50,氏名データ!$2:$7000,4,0)),\"\",VLOOKUP($F50,氏名データ!$2:$7000,4,0))","v":0},{"$f":"IF(ISERROR(VLOOKUP($F50,氏名データ!$2:$7000,5,0)),\"\",VLOOKUP($F50,氏名データ!$2:$7000,5,0))","v":0},{"$f":"IF(ISERROR(VLOOKUP($F50,氏名データ!$2:$7000,6,0)),\"\",VLOOKUP($F50,氏名データ!$2:$7000,6,0))","v":0},{"$f":"IF(ISERROR(VLOOKUP($F50,氏名データ!$2:$7000,7,0)),\"\",VLOOKUP($F50,氏名データ!$2:$7000,7,0))","v":0},{"$f":"IF(ISERROR(VLOOKUP($F50,氏名データ!$2:$7000,8,0)),\"\",VLOOKUP($F50,氏名データ!$2:$7000,8,0))","v":0},{"$f":"IF(ISERROR(VLOOKUP($F50,氏名データ!$2:$7000,9,0)),\"\",VLOOKUP($F50,氏名データ!$2:$7000,9,0))","v":0},{"$f":"IF(ISERROR(VLOOKUP($F50,氏名データ!$2:$7000,10,0)),\"\",VLOOKUP($F50,氏名データ!$2:$7000,10,0))","v":0},{"$f":"IF(ISERROR(VLOOKUP($F50,氏名データ!$2:$7000,11,0)),\"\",VLOOKUP($F50,氏名データ!$2:$7000,11,0))","v":0},{"$f":"IF(ISERROR(VLOOKUP($F50,氏名データ!$2:$7000,14,0)),\"\",VLOOKUP($F50,氏名データ!$2:$7000,14,0))","v":0},{"$f":"IF(ISERROR(VLOOKUP($F50,氏名データ!$2:$7000,12,0)),\"\",VLOOKUP($F50,氏名データ!$2:$7000,12,0))","v":""},null,null,null,null,null,null,null,null,null,null,null,null,null,null,null,null,null,null,null,null,{"$f":"IF(F50=\"\",\"\",学校情報!$D$2)","v":""},null,null,null,null,null,null,null,null,null,"43",null,null,null,null,null,null,null,null,null,"男子共通棒高跳","男子共通円盤投(1.75kg)","男子共通円盤投(1.75kg)","女子共通三段跳","女子共通円盤投","女子共通円盤投"]
["","","","",47,null,null,{"$f":"IF(ISERROR(VLOOKUP($F51,氏名データ!$2:$7000,4,0)),\"\",VLOOKUP($F51,氏名データ!$2:$7000,4,0))","v":0},{"$f":"IF(ISERROR(VLOOKUP($F51,氏名データ!$2:$7000,5,0)),\"\",VLOOKUP($F51,氏名データ!$2:$7000,5,0))","v":0},{"$f":"IF(ISERROR(VLOOKUP($F51,氏名データ!$2:$7000,6,0)),\"\",VLOOKUP($F51,氏名データ!$2:$7000,6,0))","v":0},{"$f":"IF(ISERROR(VLOOKUP($F51,氏名データ!$2:$7000,7,0)),\"\",VLOOKUP($F51,氏名データ!$2:$7000,7,0))","v":0},{"$f":"IF(ISERROR(VLOOKUP($F51,氏名データ!$2:$7000,8,0)),\"\",VLOOKUP($F51,氏名データ!$2:$7000,8,0))","v":0},{"$f":"IF(ISERROR(VLOOKUP($F51,氏名データ!$2:$7000,9,0)),\"\",VLOOKUP($F51,氏名データ!$2:$7000,9,0))","v":0},{"$f":"IF(ISERROR(VLOOKUP($F51,氏名データ!$2:$7000,10,0)),\"\",VLOOKUP($F51,氏名データ!$2:$7000,10,0))","v":0},{"$f":"IF(ISERROR(VLOOKUP($F51,氏名データ!$2:$7000,11,0)),\"\",VLOOKUP($F51,氏名データ!$2:$7000,11,0))","v":0},{"$f":"IF(ISERROR(VLOOKUP($F51,氏名データ!$2:$7000,14,0)),\"\",VLOOKUP($F51,氏名データ!$2:$7000,14,0))","v":0},{"$f":"IF(ISERROR(VLOOKUP($F51,氏名データ!$2:$7000,12,0)),\"\",VLOOKUP($F51,氏名データ!$2:$7000,12,0))","v":""},null,null,null,null,null,null,null,null,null,null,null,null,null,null,null,null,null,null,null,null,{"$f":"IF(F51=\"\",\"\",学校情報!$D$2)","v":""},null,null,null,null,null,null,null,null,null,"44",null,null,null,null,null,null,null,null,null,"男子共通三段跳","男子共通やり投","男子共通やり投","女子共通砲丸投","女子共通やり投","女子共通やり投"]
["","","","",48,null,null,{"$f":"IF(ISERROR(VLOOKUP($F52,氏名データ!$2:$7000,4,0)),\"\",VLOOKUP($F52,氏名データ!$2:$7000,4,0))","v":0},{"$f":"IF(ISERROR(VLOOKUP($F52,氏名データ!$2:$7000,5,0)),\"\",VLOOKUP($F52,氏名データ!$2:$7000,5,0))","v":0},{"$f":"IF(ISERROR(VLOOKUP($F52,氏名データ!$2:$7000,6,0)),\"\",VLOOKUP($F52,氏名データ!$2:$7000,6,0))","v":0},{"$f":"IF(ISERROR(VLOOKUP($F52,氏名データ!$2:$7000,7,0)),\"\",VLOOKUP($F52,氏名データ!$2:$7000,7,0))","v":0},{"$f":"IF(ISERROR(VLOOKUP($F52,氏名データ!$2:$7000,8,0)),\"\",VLOOKUP($F52,氏名データ!$2:$7000,8,0))","v":0},{"$f":"IF(ISERROR(VLOOKUP($F52,氏名データ!$2:$7000,9,0)),\"\",VLOOKUP($F52,氏名データ!$2:$7000,9,0))","v":0},{"$f":"IF(ISERROR(VLOOKUP($F52,氏名データ!$2:$7000,10,0)),\"\",VLOOKUP($F52,氏名データ!$2:$7000,10,0))","v":0},{"$f":"IF(ISERROR(VLOOKUP($F52,氏名データ!$2:$7000,11,0)),\"\",VLOOKUP($F52,氏名データ!$2:$7000,11,0))","v":0},{"$f":"IF(ISERROR(VLOOKUP($F52,氏名データ!$2:$7000,14,0)),\"\",VLOOKUP($F52,氏名データ!$2:$7000,14,0))","v":0},{"$f":"IF(ISERROR(VLOOKUP($F52,氏名データ!$2:$7000,12,0)),\"\",VLOOKUP($F52,氏名データ!$2:$7000,12,0))","v":""},null,null,null,null,null,null,null,null,null,null,null,null,null,null,null,null,null,null,null,null,{"$f":"IF(F52=\"\",\"\",学校情報!$D$2)","v":""},null,null,null,null,null,null,null,null,null,"45",null,null,null,null,null,null,null,null,null,"男子共通砲丸投(6kg)",null,null,"女子共通円盤投"]
["","","","",49,null,null,{"$f":"IF(ISERROR(VLOOKUP($F53,氏名データ!$2:$7000,4,0)),\"\",VLOOKUP($F53,氏名データ!$2:$7000,4,0))","v":0},{"$f":"IF(ISERROR(VLOOKUP($F53,氏名データ!$2:$7000,5,0)),\"\",VLOOKUP($F53,氏名データ!$2:$7000,5,0))","v":0},{"$f":"IF(ISERROR(VLOOKUP($F53,氏名データ!$2:$7000,6,0)),\"\",VLOOKUP($F53,氏名データ!$2:$7000,6,0))","v":0},{"$f":"IF(ISERROR(VLOOKUP($F53,氏名データ!$2:$7000,7,0)),\"\",VLOOKUP($F53,氏名データ!$2:$7000,7,0))","v":0},{"$f":"IF(ISERROR(VLOOKUP($F53,氏名データ!$2:$7000,8,0)),\"\",VLOOKUP($F53,氏名データ!$2:$7000,8,0))","v":0},{"$f":"IF(ISERROR(VLOOKUP($F53,氏名データ!$2:$7000,9,0)),\"\",VLOOKUP($F53,氏名データ!$2:$7000,9,0))","v":0},{"$f":"IF(ISERROR(VLOOKUP($F53,氏名データ!$2:$7000,10,0)),\"\",VLOOKUP($F53,氏名データ!$2:$7000,10,0))","v":0},{"$f":"IF(ISERROR(VLOOKUP($F53,氏名データ!$2:$7000,11,0)),\"\",VLOOKUP($F53,氏名データ!$2:$7000,11,0))","v":0},{"$f":"IF(ISERROR(VLOOKUP($F53,氏名データ!$2:$7000,14,0)),\"\",VLOOKUP($F53,氏名データ!$2:$7000,14,0))","v":0},{"$f":"IF(ISERROR(VLOOKUP($F53,氏名データ!$2:$7000,12,0)),\"\",VLOOKUP($F53,氏名データ!$2:$7000,12,0))","v":""},null,null,null,null,null,null,null,null,null,null,null,null,null,null,null,null,null,null,null,null,{"$f":"IF(F53=\"\",\"\",学校情報!$D$2)","v":""},null,null,null,null,null,null,null,null,null,"46",null,null,null,null,null,null,null,null,null,"男子共通円盤投(1.75kg)",null,null,"女子共通やり投"]
["","","","",50,null,null,{"$f":"IF(ISERROR(VLOOKUP($F54,氏名データ!$2:$7000,4,0)),\"\",VLOOKUP($F54,氏名データ!$2:$7000,4,0))","v":0},{"$f":"IF(ISERROR(VLOOKUP($F54,氏名データ!$2:$7000,5,0)),\"\",VLOOKUP($F54,氏名データ!$2:$7000,5,0))","v":0},{"$f":"IF(ISERROR(VLOOKUP($F54,氏名データ!$2:$7000,6,0)),\"\",VLOOKUP($F54,氏名データ!$2:$7000,6,0))","v":0},{"$f":"IF(ISERROR(VLOOKUP($F54,氏名データ!$2:$7000,7,0)),\"\",VLOOKUP($F54,氏名データ!$2:$7000,7,0))","v":0},{"$f":"IF(ISERROR(VLOOKUP($F54,氏名データ!$2:$7000,8,0)),\"\",VLOOKUP($F54,氏名データ!$2:$7000,8,0))","v":0},{"$f":"IF(ISERROR(VLOOKUP($F54,氏名データ!$2:$7000,9,0)),\"\",VLOOKUP($F54,氏名データ!$2:$7000,9,0))","v":0},{"$f":"IF(ISERROR(VLOOKUP($F54,氏名データ!$2:$7000,10,0)),\"\",VLOOKUP($F54,氏名データ!$2:$7000,10,0))","v":0},{"$f":"IF(ISERROR(VLOOKUP($F54,氏名データ!$2:$7000,11,0)),\"\",VLOOKUP($F54,氏名データ!$2:$7000,11,0))","v":0},{"$f":"IF(ISERROR(VLOOKUP($F54,氏名データ!$2:$7000,14,0)),\"\",VLOOKUP($F54,氏名データ!$2:$7000,14,0))","v":0},{"$f":"IF(ISERROR(VLOOKUP($F54,氏名データ!$2:$7000,12,0)),\"\",VLOOKUP($F54,氏名データ!$2:$7000,12,0))","v":""},null,null,null,null,null,null,null,null,null,null,null,null,null,null,null,null,null,null,null,null,{"$f":"IF(F54=\"\",\"\",学校情報!$D$2)","v":""},null,null,null,null,null,null,null,null,null,"47",null,null,null,null,null,null,null,null,null,"男子共通やり投"]
["","","","",51,null,null,{"$f":"IF(ISERROR(VLOOKUP($F55,氏名データ!$2:$7000,4,0)),\"\",VLOOKUP($F55,氏名データ!$2:$7000,4,0))","v":0},{"$f":"IF(ISERROR(VLOOKUP($F55,氏名データ!$2:$7000,5,0)),\"\",VLOOKUP($F55,氏名データ!$2:$7000,5,0))","v":0},{"$f":"IF(ISERROR(VLOOKUP($F55,氏名データ!$2:$7000,6,0)),\"\",VLOOKUP($F55,氏名データ!$2:$7000,6,0))","v":0},{"$f":"IF(ISERROR(VLOOKUP($F55,氏名データ!$2:$7000,7,0)),\"\",VLOOKUP($F55,氏名データ!$2:$7000,7,0))","v":0},{"$f":"IF(ISERROR(VLOOKUP($F55,氏名データ!$2:$7000,8,0)),\"\",VLOOKUP($F55,氏名データ!$2:$7000,8,0))","v":0},{"$f":"IF(ISERROR(VLOOKUP($F55,氏名データ!$2:$7000,9,0)),\"\",VLOOKUP($F55,氏名データ!$2:$7000,9,0))","v":0},{"$f":"IF(ISERROR(VLOOKUP($F55,氏名データ!$2:$7000,10,0)),\"\",VLOOKUP($F55,氏名データ!$2:$7000,10,0))","v":0},{"$f":"IF(ISERROR(VLOOKUP($F55,氏名データ!$2:$7000,11,0)),\"\",VLOOKUP($F55,氏名データ!$2:$7000,11,0))","v":0},{"$f":"IF(ISERROR(VLOOKUP($F55,氏名データ!$2:$7000,14,0)),\"\",VLOOKUP($F55,氏名データ!$2:$7000,14,0))","v":0},{"$f":"IF(ISERROR(VLOOKUP($F55,氏名データ!$2:$7000,12,0)),\"\",VLOOKUP($F55,氏名データ!$2:$7000,12,0))","v":""},null,null,null,null,null,null,null,null,null,null,null,null,null,null,null,null,null,null,null,null,{"$f":"IF(F55=\"\",\"\",学校情報!$D$2)","v":""},null,"女子100m",null,null,null,null,null,null,null,"48"]
["","","","",52,null,null,{"$f":"IF(ISERROR(VLOOKUP($F56,氏名データ!$2:$7000,4,0)),\"\",VLOOKUP($F56,氏名データ!$2:$7000,4,0))","v":0},{"$f":"IF(ISERROR(VLOOKUP($F56,氏名データ!$2:$7000,5,0)),\"\",VLOOKUP($F56,氏名データ!$2:$7000,5,0))","v":0},{"$f":"IF(ISERROR(VLOOKUP($F56,氏名データ!$2:$7000,6,0)),\"\",VLOOKUP($F56,氏名データ!$2:$7000,6,0))","v":0},{"$f":"IF(ISERROR(VLOOKUP($F56,氏名データ!$2:$7000,7,0)),\"\",VLOOKUP($F56,氏名データ!$2:$7000,7,0))","v":0},{"$f":"IF(ISERROR(VLOOKUP($F56,氏名データ!$2:$7000,8,0)),\"\",VLOOKUP($F56,氏名データ!$2:$7000,8,0))","v":0},{"$f":"IF(ISERROR(VLOOKUP($F56,氏名データ!$2:$7000,9,0)),\"\",VLOOKUP($F56,氏名データ!$2:$7000,9,0))","v":0},{"$f":"IF(ISERROR(VLOOKUP($F56,氏名データ!$2:$7000,10,0)),\"\",VLOOKUP($F56,氏名データ!$2:$7000,10,0))","v":0},{"$f":"IF(ISERROR(VLOOKUP($F56,氏名データ!$2:$7000,11,0)),\"\",VLOOKUP($F56,氏名データ!$2:$7000,11,0))","v":0},{"$f":"IF(ISERROR(VLOOKUP($F56,氏名データ!$2:$7000,14,0)),\"\",VLOOKUP($F56,氏名データ!$2:$7000,14,0))","v":0},{"$f":"IF(ISERROR(VLOOKUP($F56,氏名データ!$2:$7000,12,0)),\"\",VLOOKUP($F56,氏名データ!$2:$7000,12,0))","v":""},null,null,null,null,null,null,null,null,null,null,null,null,null,null,null,null,null,null,null,null,{"$f":"IF(F56=\"\",\"\",学校情報!$D$2)","v":""},null,"女子200m",null,null,null,null,null,null,null,"49",null,null,null,null,null,null,null,null,null,"多摩選"]
["","","","",53,null,null,{"$f":"IF(ISERROR(VLOOKUP($F57,氏名データ!$2:$7000,4,0)),\"\",VLOOKUP($F57,氏名データ!$2:$7000,4,0))","v":0},{"$f":"IF(ISERROR(VLOOKUP($F57,氏名データ!$2:$7000,5,0)),\"\",VLOOKUP($F57,氏名データ!$2:$7000,5,0))","v":0},{"$f":"IF(ISERROR(VLOOKUP($F57,氏名データ!$2:$7000,6,0)),\"\",VLOOKUP($F57,氏名データ!$2:$7000,6,0))","v":0},{"$f":"IF(ISERROR(VLOOKUP($F57,氏名データ!$2:$7000,7,0)),\"\",VLOOKUP($F57,氏名データ!$2:$7000,7,0))","v":0},{"$f":"IF(ISERROR(VLOOKUP($F57,氏名データ!$2:$7000,8,0)),\"\",VLOOKUP($F57,氏名データ!$2:$7000,8,0))","v":0},{"$f":"IF(ISERROR(VLOOKUP($F57,氏名データ!$2:$7000,9,0)),\"\",VLOOKUP($F57,氏名データ!$2:$7000,9,0))","v":0},{"$f":"IF(ISERROR(VLOOKUP($F57,氏名データ!$2:$7000,10,0)),\"\",VLOOKUP($F57,氏名データ!$2:$7000,10,0))","v":0},{"$f":"IF(ISERROR(VLOOKUP($F57,氏名データ!$2:$7000,11,0)),\"\",VLOOKUP($F57,氏名データ!$2:$7000,11,0))","v":0},{"$f":"IF(ISERROR(VLOOKUP($F57,氏名データ!$2:$7000,14,0)),\"\",VLOOKUP($F57,氏名データ!$2:$7000,14,0))","v":0},{"$f":"IF(ISERROR(VLOOKUP($F57,氏名データ!$2:$7000,12,0)),\"\",VLOOKUP($F57,氏名データ!$2:$7000,12,0))","v":""},null,null,null,null,null,null,null,null,null,null,null,null,null,null,null,null,null,null,null,null,{"$f":"IF(F57=\"\",\"\",学校情報!$D$2)","v":""},null,"女子400m",null,null,null,null,null,null,null,"50",null,null,null,null,null,null,null,null,null,"男子100m","男子100m","男子100m","女子100m","女子100m","女子100m"]
["","","","",54,null,null,{"$f":"IF(ISERROR(VLOOKUP($F58,氏名データ!$2:$7000,4,0)),\"\",VLOOKUP($F58,氏名データ!$2:$7000,4,0))","v":0},{"$f":"IF(ISERROR(VLOOKUP($F58,氏名データ!$2:$7000,5,0)),\"\",VLOOKUP($F58,氏名データ!$2:$7000,5,0))","v":0},{"$f":"IF(ISERROR(VLOOKUP($F58,氏名データ!$2:$7000,6,0)),\"\",VLOOKUP($F58,氏名データ!$2:$7000,6,0))","v":0},{"$f":"IF(ISERROR(VLOOKUP($F58,氏名データ!$2:$7000,7,0)),\"\",VLOOKUP($F58,氏名データ!$2:$7000,7,0))","v":0},{"$f":"IF(ISERROR(VLOOKUP($F58,氏名データ!$2:$7000,8,0)),\"\",VLOOKUP($F58,氏名データ!$2:$7000,8,0))","v":0},{"$f":"IF(ISERROR(VLOOKUP($F58,氏名データ!$2:$7000,9,0)),\"\",VLOOKUP($F58,氏名データ!$2:$7000,9,0))","v":0},{"$f":"IF(ISERROR(VLOOKUP($F58,氏名データ!$2:$7000,10,0)),\"\",VLOOKUP($F58,氏名データ!$2:$7000,10,0))","v":0},{"$f":"IF(ISERROR(VLOOKUP($F58,氏名データ!$2:$7000,11,0)),\"\",VLOOKUP($F58,氏名データ!$2:$7000,11,0))","v":0},{"$f":"IF(ISERROR(VLOOKUP($F58,氏名データ!$2:$7000,14,0)),\"\",VLOOKUP($F58,氏名データ!$2:$7000,14,0))","v":0},{"$f":"IF(ISERROR(VLOOKUP($F58,氏名データ!$2:$7000,12,0)),\"\",VLOOKUP($F58,氏名データ!$2:$7000,12,0))","v":""},null,null,null,null,null,null,null,null,null,null,null,null,null,null,null,null,null,null,null,null,{"$f":"IF(F58=\"\",\"\",学校情報!$D$2)","v":""},null,"女子800m",null,null,null,null,null,null,null,"51",null,null,null,null,null,null,null,null,null,"男子200m","男子200m","男子200m","女子200m","女子200m","女子200m"]
["","","","",55,null,null,{"$f":"IF(ISERROR(VLOOKUP($F59,氏名データ!$2:$7000,4,0)),\"\",VLOOKUP($F59,氏名データ!$2:$7000,4,0))","v":0},{"$f":"IF(ISERROR(VLOOKUP($F59,氏名データ!$2:$7000,5,0)),\"\",VLOOKUP($F59,氏名データ!$2:$7000,5,0))","v":0},{"$f":"IF(ISERROR(VLOOKUP($F59,氏名データ!$2:$7000,6,0)),\"\",VLOOKUP($F59,氏名データ!$2:$7000,6,0))","v":0},{"$f":"IF(ISERROR(VLOOKUP($F59,氏名データ!$2:$7000,7,0)),\"\",VLOOKUP($F59,氏名データ!$2:$7000,7,0))","v":0},{"$f":"IF(ISERROR(VLOOKUP($F59,氏名データ!$2:$7000,8,0)),\"\",VLOOKUP($F59,氏名データ!$2:$7000,8,0))","v":0},{"$f":"IF(ISERROR(VLOOKUP($F59,氏名データ!$2:$7000,9,0)),\"\",VLOOKUP($F59,氏名データ!$2:$7000,9,0))","v":0},{"$f":"IF(ISERROR(VLOOKUP($F59,氏名データ!$2:$7000,10,0)),\"\",VLOOKUP($F59,氏名データ!$2:$7000,10,0))","v":0},{"$f":"IF(ISERROR(VLOOKUP($F59,氏名データ!$2:$7000,11,0)),\"\",VLOOKUP($F59,氏名データ!$2:$7000,11,0))","v":0},{"$f":"IF(ISERROR(VLOOKUP($F59,氏名データ!$2:$7000,14,0)),\"\",VLOOKUP($F59,氏名データ!$2:$7000,14,0))","v":0},{"$f":"IF(ISERROR(VLOOKUP($F59,氏名データ!$2:$7000,12,0)),\"\",VLOOKUP($F59,氏名データ!$2:$7000,12,0))","v":""},null,null,null,null,null,null,null,null,null,null,null,null,null,null,null,null,null,null,null,null,{"$f":"IF(F59=\"\",\"\",学校情報!$D$2)","v":""},null,"女子1500m",null,null,null,null,null,null,null,"52",null,null,null,null,null,null,null,null,null,"男子400m","男子400m","男子400m","女子400m","女子400m","女子400m"]
["","","","",56,null,null,{"$f":"IF(ISERROR(VLOOKUP($F60,氏名データ!$2:$7000,4,0)),\"\",VLOOKUP($F60,氏名データ!$2:$7000,4,0))","v":0},{"$f":"IF(ISERROR(VLOOKUP($F60,氏名データ!$2:$7000,5,0)),\"\",VLOOKUP($F60,氏名データ!$2:$7000,5,0))","v":0},{"$f":"IF(ISERROR(VLOOKUP($F60,氏名データ!$2:$7000,6,0)),\"\",VLOOKUP($F60,氏名データ!$2:$7000,6,0))","v":0},{"$f":"IF(ISERROR(VLOOKUP($F60,氏名データ!$2:$7000,7,0)),\"\",VLOOKUP($F60,氏名データ!$2:$7000,7,0))","v":0},{"$f":"IF(ISERROR(VLOOKUP($F60,氏名データ!$2:$7000,8,0)),\"\",VLOOKUP($F60,氏名データ!$2:$7000,8,0))","v":0},{"$f":"IF(ISERROR(VLOOKUP($F60,氏名データ!$2:$7000,9,0)),\"\",VLOOKUP($F60,氏名データ!$2:$7000,9,0))","v":0},{"$f":"IF(ISERROR(VLOOKUP($F60,氏名データ!$2:$7000,10,0)),\"\",VLOOKUP($F60,氏名データ!$2:$7000,10,0))","v":0},{"$f":"IF(ISERROR(VLOOKUP($F60,氏名データ!$2:$7000,11,0)),\"\",VLOOKUP($F60,氏名データ!$2:$7000,11,0))","v":0},{"$f":"IF(ISERROR(VLOOKUP($F60,氏名データ!$2:$7000,14,0)),\"\",VLOOKUP($F60,氏名データ!$2:$7000,14,0))","v":0},{"$f":"IF(ISERROR(VLOOKUP($F60,氏名データ!$2:$7000,12,0)),\"\",VLOOKUP($F60,氏名データ!$2:$7000,12,0))","v":""},null,null,null,null,null,null,null,null,null,null,null,null,null,null,null,null,null,null,null,null,{"$f":"IF(F60=\"\",\"\",学校情報!$D$2)","v":""},null,"女子3000m",null,null,null,null,null,null,null,"53",null,null,null,null,null,null,null,null,null,"男子800m","男子800m","男子800m","女子800m","女子800m","女子800m"]
["","","","",57,null,null,{"$f":"IF(ISERROR(VLOOKUP($F61,氏名データ!$2:$7000,4,0)),\"\",VLOOKUP($F61,氏名データ!$2:$7000,4,0))","v":0},{"$f":"IF(ISERROR(VLOOKUP($F61,氏名データ!$2:$7000,5,0)),\"\",VLOOKUP($F61,氏名データ!$2:$7000,5,0))","v":0},{"$f":"IF(ISERROR(VLOOKUP($F61,氏名データ!$2:$7000,6,0)),\"\",VLOOKUP($F61,氏名データ!$2:$7000,6,0))","v":0},{"$f":"IF(ISERROR(VLOOKUP($F61,氏名データ!$2:$7000,7,0)),\"\",VLOOKUP($F61,氏名データ!$2:$7000,7,0))","v":0},{"$f":"IF(ISERROR(VLOOKUP($F61,氏名データ!$2:$7000,8,0)),\"\",VLOOKUP($F61,氏名データ!$2:$7000,8,0))","v":0},{"$f":"IF(ISERROR(VLOOKUP($F61,氏名データ!$2:$7000,9,0)),\"\",VLOOKUP($F61,氏名データ!$2:$7000,9,0))","v":0},{"$f":"IF(ISERROR(VLOOKUP($F61,氏名データ!$2:$7000,10,0)),\"\",VLOOKUP($F61,氏名データ!$2:$7000,10,0))","v":0},{"$f":"IF(ISERROR(VLOOKUP($F61,氏名データ!$2:$7000,11,0)),\"\",VLOOKUP($F61,氏名データ!$2:$7000,11,0))","v":0},{"$f":"IF(ISERROR(VLOOKUP($F61,氏名データ!$2:$7000,14,0)),\"\",VLOOKUP($F61,氏名データ!$2:$7000,14,0))","v":0},{"$f":"IF(ISERROR(VLOOKUP($F61,氏名データ!$2:$7000,12,0)),\"\",VLOOKUP($F61,氏名データ!$2:$7000,12,0))","v":""},null,null,null,null,null,null,null,null,null,null,null,null,null,null,null,null,null,null,null,null,{"$f":"IF(F61=\"\",\"\",学校情報!$D$2)","v":""},null,"女子100mH",null,null,null,null,null,null,null,"54",null,null,null,null,null,null,null,null,null,"男子1500m","男子1500m","男子1500m","女子1500m","女子1500m","女子1500m"]
["","","","",58,null,null,{"$f":"IF(ISERROR(VLOOKUP($F62,氏名データ!$2:$7000,4,0)),\"\",VLOOKUP($F62,氏名データ!$2:$7000,4,0))","v":0},{"$f":"IF(ISERROR(VLOOKUP($F62,氏名データ!$2:$7000,5,0)),\"\",VLOOKUP($F62,氏名データ!$2:$7000,5,0))","v":0},{"$f":"IF(ISERROR(VLOOKUP($F62,氏名データ!$2:$7000,6,0)),\"\",VLOOKUP($F62,氏名データ!$2:$7000,6,0))","v":0},{"$f":"IF(ISERROR(VLOOKUP($F62,氏名データ!$2:$7000,7,0)),\"\",VLOOKUP($F62,氏名データ!$2:$7000,7,0))","v":0},{"$f":"IF(ISERROR(VLOOKUP($F62,氏名データ!$2:$7000,8,0)),\"\",VLOOKUP($F62,氏名データ!$2:$7000,8,0))","v":0},{"$f":"IF(ISERROR(VLOOKUP($F62,氏名データ!$2:$7000,9,0)),\"\",VLOOKUP($F62,氏名データ!$2:$7000,9,0))","v":0},{"$f":"IF(ISERROR(VLOOKUP($F62,氏名データ!$2:$7000,10,0)),\"\",VLOOKUP($F62,氏名データ!$2:$7000,10,0))","v":0},{"$f":"IF(ISERROR(VLOOKUP($F62,氏名データ!$2:$7000,11,0)),\"\",VLOOKUP($F62,氏名データ!$2:$7000,11,0))","v":0},{"$f":"IF(ISERROR(VLOOKUP($F62,氏名データ!$2:$7000,14,0)),\"\",VLOOKUP($F62,氏名データ!$2:$7000,14,0))","v":0},{"$f":"IF(ISERROR(VLOOKUP($F62,氏名データ!$2:$7000,12,0)),\"\",VLOOKUP($F62,氏名データ!$2:$7000,12,0))","v":""},null,null,null,null,null,null,null,null,null,null,null,null,null,null,null,null,null,null,null,null,{"$f":"IF(F62=\"\",\"\",学校情報!$D$2)","v":""},null,"女子400mH",null,null,null,null,null,null,null,"55",null,null,null,null,null,null,null,null,null,"男子3000m","男子3000m","男子3000m","女子100mH","女子100mH","女子100mH"]
["","","","",59,null,null,{"$f":"IF(ISERROR(VLOOKUP($F63,氏名データ!$2:$7000,4,0)),\"\",VLOOKUP($F63,氏名データ!$2:$7000,4,0))","v":0},{"$f":"IF(ISERROR(VLOOKUP($F63,氏名データ!$2:$7000,5,0)),\"\",VLOOKUP($F63,氏名データ!$2:$7000,5,0))","v":0},{"$f":"IF(ISERROR(VLOOKUP($F63,氏名データ!$2:$7000,6,0)),\"\",VLOOKUP($F63,氏名データ!$2:$7000,6,0))","v":0},{"$f":"IF(ISERROR(VLOOKUP($F63,氏名データ!$2:$7000,7,0)),\"\",VLOOKUP($F63,氏名データ!$2:$7000,7,0))","v":0},{"$f":"IF(ISERROR(VLOOKUP($F63,氏名データ!$2:$7000,8,0)),\"\",VLOOKUP($F63,氏名データ!$2:$7000,8,0))","v":0},{"$f":"IF(ISERROR(VLOOKUP($F63,氏名データ!$2:$7000,9,0)),\"\",VLOOKUP($F63,氏名データ!$2:$7000,9,0))","v":0},{"$f":"IF(ISERROR(VLOOKUP($F63,氏名データ!$2:$7000,10,0)),\"\",VLOOKUP($F63,氏名データ!$2:$7000,10,0))","v":0},{"$f":"IF(ISERROR(VLOOKUP($F63,氏名データ!$2:$7000,11,0)),\"\",VLOOKUP($F63,氏名データ!$2:$7000,11,0))","v":0},{"$f":"IF(ISERROR(VLOOKUP($F63,氏名データ!$2:$7000,14,0)),\"\",VLOOKUP($F63,氏名データ!$2:$7000,14,0))","v":0},{"$f":"IF(ISERROR(VLOOKUP($F63,氏名データ!$2:$7000,12,0)),\"\",VLOOKUP($F63,氏名データ!$2:$7000,12,0))","v":""},null,null,null,null,null,null,null,null,null,null,null,null,null,null,null,null,null,null,null,null,{"$f":"IF(F63=\"\",\"\",学校情報!$D$2)","v":""},null,"女子やり投",null,null,null,null,null,null,null,"56",null,null,null,null,null,null,null,null,null,"男子110mH","男子110mH","男子110mH","女子400mH","女子400mH","女子400mH"]
["","","","",60,null,null,{"$f":"IF(ISERROR(VLOOKUP($F64,氏名データ!$2:$7000,4,0)),\"\",VLOOKUP($F64,氏名データ!$2:$7000,4,0))","v":0},{"$f":"IF(ISERROR(VLOOKUP($F64,氏名データ!$2:$7000,5,0)),\"\",VLOOKUP($F64,氏名データ!$2:$7000,5,0))","v":0},{"$f":"IF(ISERROR(VLOOKUP($F64,氏名データ!$2:$7000,6,0)),\"\",VLOOKUP($F64,氏名データ!$2:$7000,6,0))","v":0},{"$f":"IF(ISERROR(VLOOKUP($F64,氏名データ!$2:$7000,7,0)),\"\",VLOOKUP($F64,氏名データ!$2:$7000,7,0))","v":0},{"$f":"IF(ISERROR(VLOOKUP($F64,氏名データ!$2:$7000,8,0)),\"\",VLOOKUP($F64,氏名データ!$2:$7000,8,0))","v":0},{"$f":"IF(ISERROR(VLOOKUP($F64,氏名データ!$2:$7000,9,0)),\"\",VLOOKUP($F64,氏名データ!$2:$7000,9,0))","v":0},{"$f":"IF(ISERROR(VLOOKUP($F64,氏名データ!$2:$7000,10,0)),\"\",VLOOKUP($F64,氏名データ!$2:$7000,10,0))","v":0},{"$f":"IF(ISERROR(VLOOKUP($F64,氏名データ!$2:$7000,11,0)),\"\",VLOOKUP($F64,氏名データ!$2:$7000,11,0))","v":0},{"$f":"IF(ISERROR(VLOOKUP($F64,氏名データ!$2:$7000,14,0)),\"\",VLOOKUP($F64,氏名データ!$2:$7000,14,0))","v":0},{"$f":"IF(ISERROR(VLOOKUP($F64,氏名データ!$2:$7000,12,0)),\"\",VLOOKUP($F64,氏名データ!$2:$7000,12,0))","v":""},null,null,null,null,null,null,null,null,null,null,null,null,null,null,null,null,null,null,null,null,{"$f":"IF(F64=\"\",\"\",学校情報!$D$2)","v":""},null,"女子円盤投",null,null,null,null,null,null,null,"57",null,null,null,null,null,null,null,null,null,"男子400mH","男子400mH","男子400mH","女子走高跳","女子走高跳","女子走高跳"]
["","","","",61,null,null,{"$f":"IF(ISERROR(VLOOKUP($F65,氏名データ!$2:$7000,4,0)),\"\",VLOOKUP($F65,氏名データ!$2:$7000,4,0))","v":0},{"$f":"IF(ISERROR(VLOOKUP($F65,氏名データ!$2:$7000,5,0)),\"\",VLOOKUP($F65,氏名データ!$2:$7000,5,0))","v":0},{"$f":"IF(ISERROR(VLOOKUP($F65,氏名データ!$2:$7000,6,0)),\"\",VLOOKUP($F65,氏名データ!$2:$7000,6,0))","v":0},{"$f":"IF(ISERROR(VLOOKUP($F65,氏名データ!$2:$7000,7,0)),\"\",VLOOKUP($F65,氏名データ!$2:$7000,7,0))","v":0},{"$f":"IF(ISERROR(VLOOKUP($F65,氏名データ!$2:$7000,8,0)),\"\",VLOOKUP($F65,氏名データ!$2:$7000,8,0))","v":0},{"$f":"IF(ISERROR(VLOOKUP($F65,氏名データ!$2:$7000,9,0)),\"\",VLOOKUP($F65,氏名データ!$2:$7000,9,0))","v":0},{"$f":"IF(ISERROR(VLOOKUP($F65,氏名データ!$2:$7000,10,0)),\"\",VLOOKUP($F65,氏名データ!$2:$7000,10,0))","v":0},{"$f":"IF(ISERROR(VLOOKUP($F65,氏名データ!$2:$7000,11,0)),\"\",VLOOKUP($F65,氏名データ!$2:$7000,11,0))","v":0},{"$f":"IF(ISERROR(VLOOKUP($F65,氏名データ!$2:$7000,14,0)),\"\",VLOOKUP($F65,氏名データ!$2:$7000,14,0))","v":0},{"$f":"IF(ISERROR(VLOOKUP($F65,氏名データ!$2:$7000,12,0)),\"\",VLOOKUP($F65,氏名データ!$2:$7000,12,0))","v":""},null,null,null,null,null,null,null,null,null,null,null,null,null,null,null,null,null,null,null,null,{"$f":"IF(F65=\"\",\"\",学校情報!$D$2)","v":""},null,"女子走高跳",null,null,null,null,null,null,null,"58",null,null,null,null,null,null,null,null,null,"男子3000mSC","男子3000mSC","男子3000mSC","女子走幅跳","女子走幅跳","女子走幅跳"]
["","","","",62,null,null,{"$f":"IF(ISERROR(VLOOKUP($F66,氏名データ!$2:$7000,4,0)),\"\",VLOOKUP($F66,氏名データ!$2:$7000,4,0))","v":0},{"$f":"IF(ISERROR(VLOOKUP($F66,氏名データ!$2:$7000,5,0)),\"\",VLOOKUP($F66,氏名データ!$2:$7000,5,0))","v":0},{"$f":"IF(ISERROR(VLOOKUP($F66,氏名データ!$2:$7000,6,0)),\"\",VLOOKUP($F66,氏名データ!$2:$7000,6,0))","v":0},{"$f":"IF(ISERROR(VLOOKUP($F66,氏名データ!$2:$7000,7,0)),\"\",VLOOKUP($F66,氏名データ!$2:$7000,7,0))","v":0},{"$f":"IF(ISERROR(VLOOKUP($F66,氏名データ!$2:$7000,8,0)),\"\",VLOOKUP($F66,氏名データ!$2:$7000,8,0))","v":0},{"$f":"IF(ISERROR(VLOOKUP($F66,氏名データ!$2:$7000,9,0)),\"\",VLOOKUP($F66,氏名データ!$2:$7000,9,0))","v":0},{"$f":"IF(ISERROR(VLOOKUP($F66,氏名データ!$2:$7000,10,0)),\"\",VLOOKUP($F66,氏名データ!$2:$7000,10,0))","v":0},{"$f":"IF(ISERROR(VLOOKUP($F66,氏名データ!$2:$7000,11,0)),\"\",VLOOKUP($F66,氏名データ!$2:$7000,11,0))","v":0},{"$f":"IF(ISERROR(VLOOKUP($F66,氏名データ!$2:$7000,14,0)),\"\",VLOOKUP($F66,氏名データ!$2:$7000,14,0))","v":0},{"$f":"IF(ISERROR(VLOOKUP($F66,氏名データ!$2:$7000,12,0)),\"\",VLOOKUP($F66,氏名データ!$2:$7000,12,0))","v":""},null,null,null,null,null,null,null,null,null,null,null,null,null,null,null,null,null,null,null,null,{"$f":"IF(F66=\"\",\"\",学校情報!$D$2)","v":""},null,"女子走幅跳",null,null,null,null,null,null,null,"59",null,null,null,null,null,null,null,null,null,"男子走高跳","男子走高跳","男子走高跳","女子三段跳","女子三段跳","女子三段跳"]
["","","","",63,null,null,{"$f":"IF(ISERROR(VLOOKUP($F67,氏名データ!$2:$7000,4,0)),\"\",VLOOKUP($F67,氏名データ!$2:$7000,4,0))","v":0},{"$f":"IF(ISERROR(VLOOKUP($F67,氏名データ!$2:$7000,5,0)),\"\",VLOOKUP($F67,氏名データ!$2:$7000,5,0))","v":0},{"$f":"IF(ISERROR(VLOOKUP($F67,氏名データ!$2:$7000,6,0)),\"\",VLOOKUP($F67,氏名データ!$2:$7000,6,0))","v":0},{"$f":"IF(ISERROR(VLOOKUP($F67,氏名データ!$2:$7000,7,0)),\"\",VLOOKUP($F67,氏名データ!$2:$7000,7,0))","v":0},{"$f":"IF(ISERROR(VLOOKUP($F67,氏名データ!$2:$7000,8,0)),\"\",VLOOKUP($F67,氏名データ!$2:$7000,8,0))","v":0},{"$f":"IF(ISERROR(VLOOKUP($F67,氏名データ!$2:$7000,9,0)),\"\",VLOOKUP($F67,氏名データ!$2:$7000,9,0))","v":0},{"$f":"IF(ISERROR(VLOOKUP($F67,氏名データ!$2:$7000,10,0)),\"\",VLOOKUP($F67,氏名データ!$2:$7000,10,0))","v":0},{"$f":"IF(ISERROR(VLOOKUP($F67,氏名データ!$2:$7000,11,0)),\"\",VLOOKUP($F67,氏名データ!$2:$7000,11,0))","v":0},{"$f":"IF(ISERROR(VLOOKUP($F67,氏名データ!$2:$7000,14,0)),\"\",VLOOKUP($F67,氏名データ!$2:$7000,14,0))","v":0},{"$f":"IF(ISERROR(VLOOKUP($F67,氏名データ!$2:$7000,12,0)),\"\",VLOOKUP($F67,氏名データ!$2:$7000,12,0))","v":""},null,null,null,null,null,null,null,null,null,null,null,null,null,null,null,null,null,null,null,null,{"$f":"IF(F67=\"\",\"\",学校情報!$D$2)","v":""},null,"女子三段跳",null,null,null,null,null,null,null,"60",null,null,null,null,null,null,null,null,null,"男子走幅跳","男子走幅跳","男子走幅跳","女子棒高跳","女子棒高跳","女子棒高跳"]
["","","","",64,null,null,{"$f":"IF(ISERROR(VLOOKUP($F68,氏名データ!$2:$7000,4,0)),\"\",VLOOKUP($F68,氏名データ!$2:$7000,4,0))","v":0},{"$f":"IF(ISERROR(VLOOKUP($F68,氏名データ!$2:$7000,5,0)),\"\",VLOOKUP($F68,氏名データ!$2:$7000,5,0))","v":0},{"$f":"IF(ISERROR(VLOOKUP($F68,氏名データ!$2:$7000,6,0)),\"\",VLOOKUP($F68,氏名データ!$2:$7000,6,0))","v":0},{"$f":"IF(ISERROR(VLOOKUP($F68,氏名データ!$2:$7000,7,0)),\"\",VLOOKUP($F68,氏名データ!$2:$7000,7,0))","v":0},{"$f":"IF(ISERROR(VLOOKUP($F68,氏名データ!$2:$7000,8,0)),\"\",VLOOKUP($F68,氏名データ!$2:$7000,8,0))","v":0},{"$f":"IF(ISERROR(VLOOKUP($F68,氏名データ!$2:$7000,9,0)),\"\",VLOOKUP($F68,氏名データ!$2:$7000,9,0))","v":0},{"$f":"IF(ISERROR(VLOOKUP($F68,氏名データ!$2:$7000,10,0)),\"\",VLOOKUP($F68,氏名データ!$2:$7000,10,0))","v":0},{"$f":"IF(ISERROR(VLOOKUP($F68,氏名データ!$2:$7000,11,0)),\"\",VLOOKUP($F68,氏名データ!$2:$7000,11,0))","v":0},{"$f":"IF(ISERROR(VLOOKUP($F68,氏名データ!$2:$7000,14,0)),\"\",VLOOKUP($F68,氏名データ!$2:$7000,14,0))","v":0},{"$f":"IF(ISERROR(VLOOKUP($F68,氏名データ!$2:$7000,12,0)),\"\",VLOOKUP($F68,氏名データ!$2:$7000,12,0))","v":""},null,null,null,null,null,null,null,null,null,null,null,null,null,null,null,null,null,null,null,null,{"$f":"IF(F68=\"\",\"\",学校情報!$D$2)","v":""},null,"女子砲丸投",null,null,null,null,null,null,null,"61",null,null,null,null,null,null,null,null,null,"男子三段跳","男子三段跳","男子三段跳","女子砲丸投","女子砲丸投","女子砲丸投"]
["","",{"$f":"IF(ISERROR(RANK(D69,$D$5:$D$124,1)),\"\",RANK(D69,$D$5:$D$124,1))","v":""},{"$f":"IF(P69=\"女\",ROW(R69),\"\")","v":""},65,null,null,{"$f":"IF(ISERROR(VLOOKUP($F69,氏名データ!$2:$7000,4,0)),\"\",VLOOKUP($F69,氏名データ!$2:$7000,4,0))","v":0},{"$f":"IF(ISERROR(VLOOKUP($F69,氏名データ!$2:$7000,5,0)),\"\",VLOOKUP($F69,氏名データ!$2:$7000,5,0))","v":0},{"$f":"IF(ISERROR(VLOOKUP($F69,氏名データ!$2:$7000,6,0)),\"\",VLOOKUP($F69,氏名データ!$2:$7000,6,0))","v":0},{"$f":"IF(ISERROR(VLOOKUP($F69,氏名データ!$2:$7000,7,0)),\"\",VLOOKUP($F69,氏名データ!$2:$7000,7,0))","v":0},{"$f":"IF(ISERROR(VLOOKUP($F69,氏名データ!$2:$7000,8,0)),\"\",VLOOKUP($F69,氏名データ!$2:$7000,8,0))","v":0},{"$f":"IF(ISERROR(VLOOKUP($F69,氏名データ!$2:$7000,9,0)),\"\",VLOOKUP($F69,氏名データ!$2:$7000,9,0))","v":0},{"$f":"IF(ISERROR(VLOOKUP($F69,氏名データ!$2:$7000,10,0)),\"\",VLOOKUP($F69,氏名データ!$2:$7000,10,0))","v":0},{"$f":"IF(ISERROR(VLOOKUP($F69,氏名データ!$2:$7000,11,0)),\"\",VLOOKUP($F69,氏名データ!$2:$7000,11,0))","v":0},{"$f":"IF(ISERROR(VLOOKUP($F69,氏名データ!$2:$7000,14,0)),\"\",VLOOKUP($F69,氏名データ!$2:$7000,14,0))","v":0},{"$f":"IF(ISERROR(VLOOKUP($F69,氏名データ!$2:$7000,12,0)),\"\",VLOOKUP($F69,氏名データ!$2:$7000,12,0))","v":""},null,null,null,null,null,null,null,null,null,null,null,null,null,null,null,null,null,null,null,null,{"$f":"IF(F69=\"\",\"\",学校情報!$D$2)","v":""},null,null,null,null,null,null,null,null,null,"62",null,null,null,null,null,null,null,null,null,"男子棒高跳","男子棒高跳","男子棒高跳","女子円盤投","女子円盤投","女子円盤投"]
[{"$f":"IF(ISERROR(RANK(B70,$B$5:$B$124,1)),\"\",RANK(B70,$B$5:$B$124,1))","v":""},"","","",66,null,null,{"$f":"IF(ISERROR(VLOOKUP($F70,氏名データ!$2:$7000,4,0)),\"\",VLOOKUP($F70,氏名データ!$2:$7000,4,0))","v":0},{"$f":"IF(ISERROR(VLOOKUP($F70,氏名データ!$2:$7000,5,0)),\"\",VLOOKUP($F70,氏名データ!$2:$7000,5,0))","v":0},{"$f":"IF(ISERROR(VLOOKUP($F70,氏名データ!$2:$7000,6,0)),\"\",VLOOKUP($F70,氏名データ!$2:$7000,6,0))","v":0},{"$f":"IF(ISERROR(VLOOKUP($F70,氏名データ!$2:$7000,7,0)),\"\",VLOOKUP($F70,氏名データ!$2:$7000,7,0))","v":0},{"$f":"IF(ISERROR(VLOOKUP($F70,氏名データ!$2:$7000,8,0)),\"\",VLOOKUP($F70,氏名データ!$2:$7000,8,0))","v":0},{"$f":"IF(ISERROR(VLOOKUP($F70,氏名データ!$2:$7000,9,0)),\"\",VLOOKUP($F70,氏名データ!$2:$7000,9,0))","v":0},{"$f":"IF(ISERROR(VLOOKUP($F70,氏名データ!$2:$7000,10,0)),\"\",VLOOKUP($F70,氏名データ!$2:$7000,10,0))","v":0},{"$f":"IF(ISERROR(VLOOKUP($F70,氏名データ!$2:$7000,11,0)),\"\",VLOOKUP($F70,氏名データ!$2:$7000,11,0))","v":0},{"$f":"IF(ISERROR(VLOOKUP($F70,氏名データ!$2:$7000,14,0)),\"\",VLOOKUP($F70,氏名データ!$2:$7000,14,0))","v":0},{"$f":"IF(ISERROR(VLOOKUP($F70,氏名データ!$2:$7000,12,0)),\"\",VLOOKUP($F70,氏名データ!$2:$7000,12,0))","v":""},null,null,null,null,null,null,null,null,null,null,null,null,null,null,null,null,null,null,null,null,{"$f":"IF(F70=\"\",\"\",学校情報!$D$2)","v":""},null,null,null,null,null,null,null,null,null,"63",null,null,null,null,null,null,null,null,null,"男子砲丸投","男子砲丸投","男子砲丸投","女子やり投","女子やり投","女子やり投"]
["",{"$f":"IF(P71=\"男\",ROW(P71),\"\")","v":""},"","",67,null,null,{"$f":"IF(ISERROR(VLOOKUP($F71,氏名データ!$2:$7000,4,0)),\"\",VLOOKUP($F71,氏名データ!$2:$7000,4,0))","v":0},{"$f":"IF(ISERROR(VLOOKUP($F71,氏名データ!$2:$7000,5,0)),\"\",VLOOKUP($F71,氏名データ!$2:$7000,5,0))","v":0},{"$f":"IF(ISERROR(VLOOKUP($F71,氏名データ!$2:$7000,6,0)),\"\",VLOOKUP($F71,氏名データ!$2:$7000,6,0))","v":0},{"$f":"IF(ISERROR(VLOOKUP($F71,氏名データ!$2:$7000,7,0)),\"\",VLOOKUP($F71,氏名データ!$2:$7000,7,0))","v":0},{"$f":"IF(ISERROR(VLOOKUP($F71,氏名データ!$2:$7000,8,0)),\"\",VLOOKUP($F71,氏名データ!$2:$7000,8,0))","v":0},{"$f":"IF(ISERROR(VLOOKUP($F71,氏名データ!$2:$7000,9,0)),\"\",VLOOKUP($F71,氏名データ!$2:$7000,9,0))","v":0},{"$f":"IF(ISERROR(VLOOKUP($F71,氏名データ!$2:$7000,10,0)),\"\",VLOOKUP($F71,氏名データ!$2:$7000,10,0))","v":0},{"$f":"IF(ISERROR(VLOOKUP($F71,氏名データ!$2:$7000,11,0)),\"\",VLOOKUP($F71,氏名データ!$2:$7000,11,0))","v":0},{"$f":"IF(ISERROR(VLOOKUP($F71,氏名データ!$2:$7000,14,0)),\"\",VLOOKUP($F71,氏名データ!$2:$7000,14,0))","v":0},{"$f":"IF(ISERROR(VLOOKUP($F71,氏名データ!$2:$7000,12,0)),\"\",VLOOKUP($F71,氏名データ!$2:$7000,12,0))","v":""},null,null,null,null,null,null,null,null,null,null,null,null,null,null,null,null,null,null,null,null,{"$f":"IF(F71=\"\",\"\",学校情報!$D$2)","v":""},null,null,null,null,null,null,null,null,null,"64",null,null,null,null,null,null,null,null,null,"男子円盤投","男子円盤投","男子円盤投"]
["","","","",68,null,null,{"$f":"IF(ISERROR(VLOOKUP($F72,氏名データ!$2:$7000,4,0)),\"\",VLOOKUP($F72,氏名データ!$2:$7000,4,0))","v":0},{"$f":"IF(ISERROR(VLOOKUP($F72,氏名データ!$2:$7000,5,0)),\"\",VLOOKUP($F72,氏名データ!$2:$7000,5,0))","v":0},{"$f":"IF(ISERROR(VLOOKUP($F72,氏名データ!$2:$7000,6,0)),\"\",VLOOKUP($F72,氏名データ!$2:$7000,6,0))","v":0},{"$f":"IF(ISERROR(VLOOKUP($F72,氏名データ!$2:$7000,7,0)),\"\",VLOOKUP($F72,氏名データ!$2:$7000,7,0))","v":0},{"$f":"IF(ISERROR(VLOOKUP($F72,氏名データ!$2:$7000,8,0)),\"\",VLOOKUP($F72,氏名データ!$2:$7000,8,0))","v":0},{"$f":"IF(ISERROR(VLOOKUP($F72,氏名データ!$2:$7000,9,0)),\"\",VLOOKUP($F72,氏名データ!$2:$7000,9,0))","v":0},{"$f":"IF(ISERROR(VLOOKUP($F72,氏名データ!$2:$7000,10,0)),\"\",VLOOKUP($F72,氏名データ!$2:$7000,10,0))","v":0},{"$f":"IF(ISERROR(VLOOKUP($F72,氏名データ!$2:$7000,11,0)),\"\",VLOOKUP($F72,氏名データ!$2:$7000,11,0))","v":0},{"$f":"IF(ISERROR(VLOOKUP($F72,氏名データ!$2:$7000,14,0)),\"\",VLOOKUP($F72,氏名データ!$2:$7000,14,0))","v":0},{"$f":"IF(ISERROR(VLOOKUP($F72,氏名データ!$2:$7000,12,0)),\"\",VLOOKUP($F72,氏名データ!$2:$7000,12,0))","v":""},null,null,null,null,null,null,null,null,null,null,null,null,null,null,null,null,null,null,null,null,{"$f":"IF(F72=\"\",\"\",学校情報!$D$2)","v":""},null,null,null,null,null,null,null,null,null,"65",null,null,null,null,null,null,null,null,null,"男子やり投","男子やり投","男子やり投"]
["","","","",69,null,null,{"$f":"IF(ISERROR(VLOOKUP($F73,氏名データ!$2:$7000,4,0)),\"\",VLOOKUP($F73,氏名データ!$2:$7000,4,0))","v":0},{"$f":"IF(ISERROR(VLOOKUP($F73,氏名データ!$2:$7000,5,0)),\"\",VLOOKUP($F73,氏名データ!$2:$7000,5,0))","v":0},{"$f":"IF(ISERROR(VLOOKUP($F73,氏名データ!$2:$7000,6,0)),\"\",VLOOKUP($F73,氏名データ!$2:$7000,6,0))","v":0},{"$f":"IF(ISERROR(VLOOKUP($F73,氏名データ!$2:$7000,7,0)),\"\",VLOOKUP($F73,氏名データ!$2:$7000,7,0))","v":0},{"$f":"IF(ISERROR(VLOOKUP($F73,氏名データ!$2:$7000,8,0)),\"\",VLOOKUP($F73,氏名データ!$2:$7000,8,0))","v":0},{"$f":"IF(ISERROR(VLOOKUP($F73,氏名データ!$2:$7000,9,0)),\"\",VLOOKUP($F73,氏名データ!$2:$7000,9,0))","v":0},{"$f":"IF(ISERROR(VLOOKUP($F73,氏名データ!$2:$7000,10,0)),\"\",VLOOKUP($F73,氏名データ!$2:$7000,10,0))","v":0},{"$f":"IF(ISERROR(VLOOKUP($F73,氏名データ!$2:$7000,11,0)),\"\",VLOOKUP($F73,氏名データ!$2:$7000,11,0))","v":0},{"$f":"IF(ISERROR(VLOOKUP($F73,氏名データ!$2:$7000,14,0)),\"\",VLOOKUP($F73,氏名データ!$2:$7000,14,0))","v":0},{"$f":"IF(ISERROR(VLOOKUP($F73,氏名データ!$2:$7000,12,0)),\"\",VLOOKUP($F73,氏名データ!$2:$7000,12,0))","v":""},null,null,null,null,null,null,null,null,null,null,null,null,null,null,null,null,null,null,null,null,{"$f":"IF(F73=\"\",\"\",学校情報!$D$2)","v":""},null,null,null,null,null,null,null,null,null,"66",null,null,null,null,null,null,null,null,null,"支部新人"]
["","","","",70,null,null,{"$f":"IF(ISERROR(VLOOKUP($F74,氏名データ!$2:$7000,4,0)),\"\",VLOOKUP($F74,氏名データ!$2:$7000,4,0))","v":0},{"$f":"IF(ISERROR(VLOOKUP($F74,氏名データ!$2:$7000,5,0)),\"\",VLOOKUP($F74,氏名データ!$2:$7000,5,0))","v":0},{"$f":"IF(ISERROR(VLOOKUP($F74,氏名データ!$2:$7000,6,0)),\"\",VLOOKUP($F74,氏名データ!$2:$7000,6,0))","v":0},{"$f":"IF(ISERROR(VLOOKUP($F74,氏名データ!$2:$7000,7,0)),\"\",VLOOKUP($F74,氏名データ!$2:$7000,7,0))","v":0},{"$f":"IF(ISERROR(VLOOKUP($F74,氏名データ!$2:$7000,8,0)),\"\",VLOOKUP($F74,氏名データ!$2:$7000,8,0))","v":0},{"$f":"IF(ISERROR(VLOOKUP($F74,氏名データ!$2:$7000,9,0)),\"\",VLOOKUP($F74,氏名データ!$2:$7000,9,0))","v":0},{"$f":"IF(ISERROR(VLOOKUP($F74,氏名データ!$2:$7000,10,0)),\"\",VLOOKUP($F74,氏名データ!$2:$7000,10,0))","v":0},{"$f":"IF(ISERROR(VLOOKUP($F74,氏名データ!$2:$7000,11,0)),\"\",VLOOKUP($F74,氏名データ!$2:$7000,11,0))","v":0},{"$f":"IF(ISERROR(VLOOKUP($F74,氏名データ!$2:$7000,14,0)),\"\",VLOOKUP($F74,氏名データ!$2:$7000,14,0))","v":0},{"$f":"IF(ISERROR(VLOOKUP($F74,氏名データ!$2:$7000,12,0)),\"\",VLOOKUP($F74,氏名データ!$2:$7000,12,0))","v":""},null,null,null,null,null,null,null,null,null,null,null,null,null,null,null,null,null,null,null,null,{"$f":"IF(F74=\"\",\"\",学校情報!$D$2)","v":""},null,null,null,null,null,null,null,null,null,"67",null,null,null,null,null,null,null,null,null,"男子100m","男子100m","男子OP110mH","女子100m","女子100m","女子OP100mH","男子6支部100m","男子6支部100m","男子OP110mH","女子6支部100m","女子6支部100m","女子OP100mH"]
["","","","",71,null,null,{"$f":"IF(ISERROR(VLOOKUP($F75,氏名データ!$2:$7000,4,0)),\"\",VLOOKUP($F75,氏名データ!$2:$7000,4,0))","v":0},{"$f":"IF(ISERROR(VLOOKUP($F75,氏名データ!$2:$7000,5,0)),\"\",VLOOKUP($F75,氏名データ!$2:$7000,5,0))","v":0},{"$f":"IF(ISERROR(VLOOKUP($F75,氏名データ!$2:$7000,6,0)),\"\",VLOOKUP($F75,氏名データ!$2:$7000,6,0))","v":0},{"$f":"IF(ISERROR(VLOOKUP($F75,氏名データ!$2:$7000,7,0)),\"\",VLOOKUP($F75,氏名データ!$2:$7000,7,0))","v":0},{"$f":"IF(ISERROR(VLOOKUP($F75,氏名データ!$2:$7000,8,0)),\"\",VLOOKUP($F75,氏名データ!$2:$7000,8,0))","v":0},{"$f":"IF(ISERROR(VLOOKUP($F75,氏名データ!$2:$7000,9,0)),\"\",VLOOKUP($F75,氏名データ!$2:$7000,9,0))","v":0},{"$f":"IF(ISERROR(VLOOKUP($F75,氏名データ!$2:$7000,10,0)),\"\",VLOOKUP($F75,氏名データ!$2:$7000,10,0))","v":0},{"$f":"IF(ISERROR(VLOOKUP($F75,氏名データ!$2:$7000,11,0)),\"\",VLOOKUP($F75,氏名データ!$2:$7000,11,0))","v":0},{"$f":"IF(ISERROR(VLOOKUP($F75,氏名データ!$2:$7000,14,0)),\"\",VLOOKUP($F75,氏名データ!$2:$7000,14,0))","v":0},{"$f":"IF(ISERROR(VLOOKUP($F75,氏名データ!$2:$7000,12,0)),\"\",VLOOKUP($F75,氏名データ!$2:$7000,12,0))","v":""},null,null,null,null,null,null,null,null,null,null,null,null,null,null,null,null,null,null,null,null,{"$f":"IF(F75=\"\",\"\",学校情報!$D$2)","v":""},null,null,null,null,null,null,null,null,null,"68",null,null,null,null,null,null,null,null,null,"男子200m","男子200m","男子OP400mH","女子200m","女子200m","女子OP400mH","男子6支部200m","男子6支部200m","男子OP400mH","女子6支部200m","女子6支部200m","女子OP400mH"]
["","","","",72,null,null,{"$f":"IF(ISERROR(VLOOKUP($F76,氏名データ!$2:$7000,4,0)),\"\",VLOOKUP($F76,氏名データ!$2:$7000,4,0))","v":0},{"$f":"IF(ISERROR(VLOOKUP($F76,氏名データ!$2:$7000,5,0)),\"\",VLOOKUP($F76,氏名データ!$2:$7000,5,0))","v":0},{"$f":"IF(ISERROR(VLOOKUP($F76,氏名データ!$2:$7000,6,0)),\"\",VLOOKUP($F76,氏名データ!$2:$7000,6,0))","v":0},{"$f":"IF(ISERROR(VLOOKUP($F76,氏名データ!$2:$7000,7,0)),\"\",VLOOKUP($F76,氏名データ!$2:$7000,7,0))","v":0},{"$f":"IF(ISERROR(VLOOKUP($F76,氏名データ!$2:$7000,8,0)),\"\",VLOOKUP($F76,氏名データ!$2:$7000,8,0))","v":0},{"$f":"IF(ISERROR(VLOOKUP($F76,氏名データ!$2:$7000,9,0)),\"\",VLOOKUP($F76,氏名データ!$2:$7000,9,0))","v":0},{"$f":"IF(ISERROR(VLOOKUP($F76,氏名データ!$2:$7000,10,0)),\"\",VLOOKUP($F76,氏名データ!$2:$7000,10,0))","v":0},{"$f":"IF(ISERROR(VLOOKUP($F76,氏名データ!$2:$7000,11,0)),\"\",VLOOKUP($F76,氏名データ!$2:$7000,11,0))","v":0},{"$f":"IF(ISERROR(VLOOKUP($F76,氏名データ!$2:$7000,14,0)),\"\",VLOOKUP($F76,氏名データ!$2:$7000,14,0))","v":0},{"$f":"IF(ISERROR(VLOOKUP($F76,氏名データ!$2:$7000,12,0)),\"\",VLOOKUP($F76,氏名データ!$2:$7000,12,0))","v":""},null,null,null,null,null,null,null,null,null,null,null,null,null,null,null,null,null,null,null,null,{"$f":"IF(F76=\"\",\"\",学校情報!$D$2)","v":""},null,null,null,null,null,null,null,null,null,"69",null,null,null,null,null,null,null,null,null,"男子400m","男子400m","男子OP3000mSC","女子400m","女子400m","女子OP棒高跳","男子6支部400m","男子6支部400m","男子OP3000mSC","女子6支部400m","女子6支部400m","女子OP棒高跳"]
["","","","",73,null,null,{"$f":"IF(ISERROR(VLOOKUP($F77,氏名データ!$2:$7000,4,0)),\"\",VLOOKUP($F77,氏名データ!$2:$7000,4,0))","v":0},{"$f":"IF(ISERROR(VLOOKUP($F77,氏名データ!$2:$7000,5,0)),\"\",VLOOKUP($F77,氏名データ!$2:$7000,5,0))","v":0},{"$f":"IF(ISERROR(VLOOKUP($F77,氏名データ!$2:$7000,6,0)),\"\",VLOOKUP($F77,氏名データ!$2:$7000,6,0))","v":0},{"$f":"IF(ISERROR(VLOOKUP($F77,氏名データ!$2:$7000,7,0)),\"\",VLOOKUP($F77,氏名データ!$2:$7000,7,0))","v":0},{"$f":"IF(ISERROR(VLOOKUP($F77,氏名データ!$2:$7000,8,0)),\"\",VLOOKUP($F77,氏名データ!$2:$7000,8,0))","v":0},{"$f":"IF(ISERROR(VLOOKUP($F77,氏名データ!$2:$7000,9,0)),\"\",VLOOKUP($F77,氏名データ!$2:$7000,9,0))","v":0},{"$f":"IF(ISERROR(VLOOKUP($F77,氏名データ!$2:$7000,10,0)),\"\",VLOOKUP($F77,氏名データ!$2:$7000,10,0))","v":0},{"$f":"IF(ISERROR(VLOOKUP($F77,氏名データ!$2:$7000,11,0)),\"\",VLOOKUP($F77,氏名データ!$2:$7000,11,0))","v":0},{"$f":"IF(ISERROR(VLOOKUP($F77,氏名データ!$2:$7000,14,0)),\"\",VLOOKUP($F77,氏名データ!$2:$7000,14,0))","v":0},{"$f":"IF(ISERROR(VLOOKUP($F77,氏名データ!$2:$7000,12,0)),\"\",VLOOKUP($F77,氏名データ!$2:$7000,12,0))","v":""},null,null,null,null,null,null,null,null,null,null,null,null,null,null,null,null,null,null,null,null,{"$f":"IF(F77=\"\",\"\",学校情報!$D$2)","v":""},null,null,null,null,null,null,null,null,null,"70",null,null,null,null,null,null,null,null,null,"男子800m","男子800m","男子OP棒高跳","女子800m","女子800m","女子OP三段跳","男子6支部800m","男子6支部800m","男子OP棒高跳","女子6支部800m","女子6支部800m","女子OP三段跳"]
["","","","",74,null,null,{"$f":"IF(ISERROR(VLOOKUP($F78,氏名データ!$2:$7000,4,0)),\"\",VLOOKUP($F78,氏名データ!$2:$7000,4,0))","v":0},{"$f":"IF(ISERROR(VLOOKUP($F78,氏名データ!$2:$7000,5,0)),\"\",VLOOKUP($F78,氏名データ!$2:$7000,5,0))","v":0},{"$f":"IF(ISERROR(VLOOKUP($F78,氏名データ!$2:$7000,6,0)),\"\",VLOOKUP($F78,氏名データ!$2:$7000,6,0))","v":0},{"$f":"IF(ISERROR(VLOOKUP($F78,氏名データ!$2:$7000,7,0)),\"\",VLOOKUP($F78,氏名データ!$2:$7000,7,0))","v":0},{"$f":"IF(ISERROR(VLOOKUP($F78,氏名データ!$2:$7000,8,0)),\"\",VLOOKUP($F78,氏名データ!$2:$7000,8,0))","v":0},{"$f":"IF(ISERROR(VLOOKUP($F78,氏名データ!$2:$7000,9,0)),\"\",VLOOKUP($F78,氏名データ!$2:$7000,9,0))","v":0},{"$f":"IF(ISERROR(VLOOKUP($F78,氏名データ!$2:$7000,10,0)),\"\",VLOOKUP($F78,氏名データ!$2:$7000,10,0))","v":0},{"$f":"IF(ISERROR(VLOOKUP($F78,氏名データ!$2:$7000,11,0)),\"\",VLOOKUP($F78,氏名データ!$2:$7000,11,0))","v":0},{"$f":"IF(ISERROR(VLOOKUP($F78,氏名データ!$2:$7000,14,0)),\"\",VLOOKUP($F78,氏名データ!$2:$7000,14,0))","v":0},{"$f":"IF(ISERROR(VLOOKUP($F78,氏名データ!$2:$7000,12,0)),\"\",VLOOKUP($F78,氏名データ!$2:$7000,12,0))","v":""},null,null,null,null,null,null,null,null,null,null,null,null,null,null,null,null,null,null,null,null,{"$f":"IF(F78=\"\",\"\",学校情報!$D$2)","v":""},null,null,null,null,null,null,null,null,null,"71",null,null,null,null,null,null,null,null,null,"男子1500m","男子1500m",null,"女子1500m","女子1500m",null,"男子6支部1500m","男子6支部1500m",null,"女子6支部1500m","女子6支部1500m"]
["","","","",75,null,null,{"$f":"IF(ISERROR(VLOOKUP($F79,氏名データ!$2:$7000,4,0)),\"\",VLOOKUP($F79,氏名データ!$2:$7000,4,0))","v":0},{"$f":"IF(ISERROR(VLOOKUP($F79,氏名データ!$2:$7000,5,0)),\"\",VLOOKUP($F79,氏名データ!$2:$7000,5,0))","v":0},{"$f":"IF(ISERROR(VLOOKUP($F79,氏名データ!$2:$7000,6,0)),\"\",VLOOKUP($F79,氏名データ!$2:$7000,6,0))","v":0},{"$f":"IF(ISERROR(VLOOKUP($F79,氏名データ!$2:$7000,7,0)),\"\",VLOOKUP($F79,氏名データ!$2:$7000,7,0))","v":0},{"$f":"IF(ISERROR(VLOOKUP($F79,氏名データ!$2:$7000,8,0)),\"\",VLOOKUP($F79,氏名データ!$2:$7000,8,0))","v":0},{"$f":"IF(ISERROR(VLOOKUP($F79,氏名データ!$2:$7000,9,0)),\"\",VLOOKUP($F79,氏名データ!$2:$7000,9,0))","v":0},{"$f":"IF(ISERROR(VLOOKUP($F79,氏名データ!$2:$7000,10,0)),\"\",VLOOKUP($F79,氏名データ!$2:$7000,10,0))","v":0},{"$f":"IF(ISERROR(VLOOKUP($F79,氏名データ!$2:$7000,11,0)),\"\",VLOOKUP($F79,氏名データ!$2:$7000,11,0))","v":0},{"$f":"IF(ISERROR(VLOOKUP($F79,氏名データ!$2:$7000,14,0)),\"\",VLOOKUP($F79,氏名データ!$2:$7000,14,0))","v":0},{"$f":"IF(ISERROR(VLOOKUP($F79,氏名データ!$2:$7000,12,0)),\"\",VLOOKUP($F79,氏名データ!$2:$7000,12,0))","v":""},null,null,null,null,null,null,null,null,null,null,null,null,null,null,null,null,null,null,null,null,{"$f":"IF(F79=\"\",\"\",学校情報!$D$2)","v":""},null,null,null,null,null,null,null,null,null,"72",null,null,null,null,null,null,null,null,null,"男子5000m","男子5000m",null,"女子3000m","女子3000m",null,"男子6支部5000m","男子6支部5000m",null,"女子6支部3000m","女子6支部3000m"]
["","","","",76,null,null,{"$f":"IF(ISERROR(VLOOKUP($F80,氏名データ!$2:$7000,4,0)),\"\",VLOOKUP($F80,氏名データ!$2:$7000,4,0))","v":0},{"$f":"IF(ISERROR(VLOOKUP($F80,氏名データ!$2:$7000,5,0)),\"\",VLOOKUP($F80,氏名データ!$2:$7000,5,0))","v":0},{"$f":"IF(ISERROR(VLOOKUP($F80,氏名データ!$2:$7000,6,0)),\"\",VLOOKUP($F80,氏名データ!$2:$7000,6,0))","v":0},{"$f":"IF(ISERROR(VLOOKUP($F80,氏名データ!$2:$7000,7,0)),\"\",VLOOKUP($F80,氏名データ!$2:$7000,7,0))","v":0},{"$f":"IF(ISERROR(VLOOKUP($F80,氏名データ!$2:$7000,8,0)),\"\",VLOOKUP($F80,氏名データ!$2:$7000,8,0))","v":0},{"$f":"IF(ISERROR(VLOOKUP($F80,氏名データ!$2:$7000,9,0)),\"\",VLOOKUP($F80,氏名データ!$2:$7000,9,0))","v":0},{"$f":"IF(ISERROR(VLOOKUP($F80,氏名データ!$2:$7000,10,0)),\"\",VLOOKUP($F80,氏名データ!$2:$7000,10,0))","v":0},{"$f":"IF(ISERROR(VLOOKUP($F80,氏名データ!$2:$7000,11,0)),\"\",VLOOKUP($F80,氏名データ!$2:$7000,11,0))","v":0},{"$f":"IF(ISERROR(VLOOKUP($F80,氏名データ!$2:$7000,14,0)),\"\",VLOOKUP($F80,氏名データ!$2:$7000,14,0))","v":0},{"$f":"IF(ISERROR(VLOOKUP($F80,氏名データ!$2:$7000,12,0)),\"\",VLOOKUP($F80,氏名データ!$2:$7000,12,0))","v":""},null,null,null,null,null,null,null,null,null,null,null,null,null,null,null,null,null,null,null,null,{"$f":"IF(F80=\"\",\"\",学校情報!$D$2)","v":""},null,null,null,null,null,null,null,null,null,"73",null,null,null,null,null,null,null,null,null,"男子OP110mH","男子OP110mH",null,"女子OP100mH","女子OP100mH",null,"男子OP110mH","男子OP110mH",null,"女子OP100mH","女子OP100mH"]
["","","","",77,null,null,{"$f":"IF(ISERROR(VLOOKUP($F81,氏名データ!$2:$7000,4,0)),\"\",VLOOKUP($F81,氏名データ!$2:$7000,4,0))","v":0},{"$f":"IF(ISERROR(VLOOKUP($F81,氏名データ!$2:$7000,5,0)),\"\",VLOOKUP($F81,氏名データ!$2:$7000,5,0))","v":0},{"$f":"IF(ISERROR(VLOOKUP($F81,氏名データ!$2:$7000,6,0)),\"\",VLOOKUP($F81,氏名データ!$2:$7000,6,0))","v":0},{"$f":"IF(ISERROR(VLOOKUP($F81,氏名データ!$2:$7000,7,0)),\"\",VLOOKUP($F81,氏名データ!$2:$7000,7,0))","v":0},{"$f":"IF(ISERROR(VLOOKUP($F81,氏名データ!$2:$7000,8,0)),\"\",VLOOKUP($F81,氏名データ!$2:$7000,8,0))","v":0},{"$f":"IF(ISERROR(VLOOKUP($F81,氏名データ!$2:$7000,9,0)),\"\",VLOOKUP($F81,氏名データ!$2:$7000,9,0))","v":0},{"$f":"IF(ISERROR(VLOOKUP($F81,氏名データ!$2:$7000,10,0)),\"\",VLOOKUP($F81,氏名データ!$2:$7000,10,0))","v":0},{"$f":"IF(ISERROR(VLOOKUP($F81,氏名データ!$2:$7000,11,0)),\"\",VLOOKUP($F81,氏名データ!$2:$7000,11,0))","v":0},{"$f":"IF(ISERROR(VLOOKUP($F81,氏名データ!$2:$7000,14,0)),\"\",VLOOKUP($F81,氏名データ!$2:$7000,14,0))","v":0},{"$f":"IF(ISERROR(VLOOKUP($F81,氏名データ!$2:$7000,12,0)),\"\",VLOOKUP($F81,氏名データ!$2:$7000,12,0))","v":""},null,null,null,null,null,null,null,null,null,null,null,null,null,null,null,null,null,null,null,null,{"$f":"IF(F81=\"\",\"\",学校情報!$D$2)","v":""},null,null,null,null,null,null,null,null,null,"74",null,null,null,null,null,null,null,null,null,"男子OP400mH","男子OP400mH",null,"女子OP400mH","女子OP400mH",null,"男子OP400mH","男子OP400mH",null,"女子OP400mH","女子OP400mH"]
["","","","",78,null,null,{"$f":"IF(ISERROR(VLOOKUP($F82,氏名データ!$2:$7000,4,0)),\"\",VLOOKUP($F82,氏名データ!$2:$7000,4,0))","v":0},{"$f":"IF(ISERROR(VLOOKUP($F82,氏名データ!$2:$7000,5,0)),\"\",VLOOKUP($F82,氏名データ!$2:$7000,5,0))","v":0},{"$f":"IF(ISERROR(VLOOKUP($F82,氏名データ!$2:$7000,6,0)),\"\",VLOOKUP($F82,氏名データ!$2:$7000,6,0))","v":0},{"$f":"IF(ISERROR(VLOOKUP($F82,氏名データ!$2:$7000,7,0)),\"\",VLOOKUP($F82,氏名データ!$2:$7000,7,0))","v":0},{"$f":"IF(ISERROR(VLOOKUP($F82,氏名データ!$2:$7000,8,0)),\"\",VLOOKUP($F82,氏名データ!$2:$7000,8,0))","v":0},{"$f":"IF(ISERROR(VLOOKUP($F82,氏名データ!$2:$7000,9,0)),\"\",VLOOKUP($F82,氏名データ!$2:$7000,9,0))","v":0},{"$f":"IF(ISERROR(VLOOKUP($F82,氏名データ!$2:$7000,10,0)),\"\",VLOOKUP($F82,氏名データ!$2:$7000,10,0))","v":0},{"$f":"IF(ISERROR(VLOOKUP($F82,氏名データ!$2:$7000,11,0)),\"\",VLOOKUP($F82,氏名データ!$2:$7000,11,0))","v":0},{"$f":"IF(ISERROR(VLOOKUP($F82,氏名データ!$2:$7000,14,0)),\"\",VLOOKUP($F82,氏名データ!$2:$7000,14,0))","v":0},{"$f":"IF(ISERROR(VLOOKUP($F82,氏名データ!$2:$7000,12,0)),\"\",VLOOKUP($F82,氏名データ!$2:$7000,12,0))","v":""},null,null,null,null,null,null,null,null,null,null,null,null,null,null,null,null,null,null,null,null,{"$f":"IF(F82=\"\",\"\",学校情報!$D$2)","v":""},null,null,null,null,null,null,36,null,null,"75",null,null,null,null,null,null,null,null,null,"男子OP3000mSC","男子OP3000mSC",null,"女子走高跳","女子走高跳",null,"男子OP3000mSC","男子OP3000mSC",null,"女子6支部走高跳","女子6支部走高跳"]
["","","","",79,null,null,{"$f":"IF(ISERROR(VLOOKUP($F83,氏名データ!$2:$7000,4,0)),\"\",VLOOKUP($F83,氏名データ!$2:$7000,4,0))","v":0},{"$f":"IF(ISERROR(VLOOKUP($F83,氏名データ!$2:$7000,5,0)),\"\",VLOOKUP($F83,氏名データ!$2:$7000,5,0))","v":0},{"$f":"IF(ISERROR(VLOOKUP($F83,氏名データ!$2:$7000,6,0)),\"\",VLOOKUP($F83,氏名データ!$2:$7000,6,0))","v":0},{"$f":"IF(ISERROR(VLOOKUP($F83,氏名データ!$2:$7000,7,0)),\"\",VLOOKUP($F83,氏名データ!$2:$7000,7,0))","v":0},{"$f":"IF(ISERROR(VLOOKUP($F83,氏名データ!$2:$7000,8,0)),\"\",VLOOKUP($F83,氏名データ!$2:$7000,8,0))","v":0},{"$f":"IF(ISERROR(VLOOKUP($F83,氏名データ!$2:$7000,9,0)),\"\",VLOOKUP($F83,氏名データ!$2:$7000,9,0))","v":0},{"$f":"IF(ISERROR(VLOOKUP($F83,氏名データ!$2:$7000,10,0)),\"\",VLOOKUP($F83,氏名データ!$2:$7000,10,0))","v":0},{"$f":"IF(ISERROR(VLOOKUP($F83,氏名データ!$2:$7000,11,0)),\"\",VLOOKUP($F83,氏名データ!$2:$7000,11,0))","v":0},{"$f":"IF(ISERROR(VLOOKUP($F83,氏名データ!$2:$7000,14,0)),\"\",VLOOKUP($F83,氏名データ!$2:$7000,14,0))","v":0},{"$f":"IF(ISERROR(VLOOKUP($F83,氏名データ!$2:$7000,12,0)),\"\",VLOOKUP($F83,氏名データ!$2:$7000,12,0))","v":""},null,null,null,null,null,null,null,null,null,null,null,null,null,null,null,null,null,null,null,null,{"$f":"IF(F83=\"\",\"\",学校情報!$D$2)","v":""},null,null,null,null,null,null,37,null,null,"76",null,null,null,null,null,null,null,null,null,"男子走高跳","男子走高跳",null,"男子OP棒高跳","男子OP棒高跳",null,"男子6支部走高跳","男子6支部走高跳",null,"女子OP棒高跳","女子OP棒高跳"]
["","","","",80,null,null,{"$f":"IF(ISERROR(VLOOKUP($F84,氏名データ!$2:$7000,4,0)),\"\",VLOOKUP($F84,氏名データ!$2:$7000,4,0))","v":0},{"$f":"IF(ISERROR(VLOOKUP($F84,氏名データ!$2:$7000,5,0)),\"\",VLOOKUP($F84,氏名データ!$2:$7000,5,0))","v":0},{"$f":"IF(ISERROR(VLOOKUP($F84,氏名データ!$2:$7000,6,0)),\"\",VLOOKUP($F84,氏名データ!$2:$7000,6,0))","v":0},{"$f":"IF(ISERROR(VLOOKUP($F84,氏名データ!$2:$7000,7,0)),\"\",VLOOKUP($F84,氏名データ!$2:$7000,7,0))","v":0},{"$f":"IF(ISERROR(VLOOKUP($F84,氏名データ!$2:$7000,8,0)),\"\",VLOOKUP($F84,氏名データ!$2:$7000,8,0))","v":0},{"$f":"IF(ISERROR(VLOOKUP($F84,氏名データ!$2:$7000,9,0)),\"\",VLOOKUP($F84,氏名データ!$2:$7000,9,0))","v":0},{"$f":"IF(ISERROR(VLOOKUP($F84,氏名データ!$2:$7000,10,0)),\"\",VLOOKUP($F84,氏名データ!$2:$7000,10,0))","v":0},{"$f":"IF(ISERROR(VLOOKUP($F84,氏名データ!$2:$7000,11,0)),\"\",VLOOKUP($F84,氏名データ!$2:$7000,11,0))","v":0},{"$f":"IF(ISERROR(VLOOKUP($F84,氏名データ!$2:$7000,14,0)),\"\",VLOOKUP($F84,氏名データ!$2:$7000,14,0))","v":0},{"$f":"IF(ISERROR(VLOOKUP($F84,氏名データ!$2:$7000,12,0)),\"\",VLOOKUP($F84,氏名データ!$2:$7000,12,0))","v":""},null,null,null,null,null,null,null,null,null,null,null,null,null,null,null,null,null,null,null,null,{"$f":"IF(F84=\"\",\"\",学校情報!$D$2)","v":""},null,null,null,null,null,null,null,null,null,"77",null,null,null,null,null,null,null,null,null,"男子OP棒高跳","男子OP棒高跳",null,"女子走幅跳","女子走幅跳",null,"男子OP棒高跳","男子OP棒高跳",null,"女子6支部走幅跳","女子6支部走幅跳"]
["","","","",81,null,null,{"$f":"IF(ISERROR(VLOOKUP($F85,氏名データ!$2:$7000,4,0)),\"\",VLOOKUP($F85,氏名データ!$2:$7000,4,0))","v":0},{"$f":"IF(ISERROR(VLOOKUP($F85,氏名データ!$2:$7000,5,0)),\"\",VLOOKUP($F85,氏名データ!$2:$7000,5,0))","v":0},{"$f":"IF(ISERROR(VLOOKUP($F85,氏名データ!$2:$7000,6,0)),\"\",VLOOKUP($F85,氏名データ!$2:$7000,6,0))","v":0},{"$f":"IF(ISERROR(VLOOKUP($F85,氏名データ!$2:$7000,7,0)),\"\",VLOOKUP($F85,氏名データ!$2:$7000,7,0))","v":0},{"$f":"IF(ISERROR(VLOOKUP($F85,氏名データ!$2:$7000,8,0)),\"\",VLOOKUP($F85,氏名データ!$2:$7000,8,0))","v":0},{"$f":"IF(ISERROR(VLOOKUP($F85,氏名データ!$2:$7000,9,0)),\"\",VLOOKUP($F85,氏名データ!$2:$7000,9,0))","v":0},{"$f":"IF(ISERROR(VLOOKUP($F85,氏名データ!$2:$7000,10,0)),\"\",VLOOKUP($F85,氏名データ!$2:$7000,10,0))","v":0},{"$f":"IF(ISERROR(VLOOKUP($F85,氏名データ!$2:$7000,11,0)),\"\",VLOOKUP($F85,氏名データ!$2:$7000,11,0))","v":0},{"$f":"IF(ISERROR(VLOOKUP($F85,氏名データ!$2:$7000,14,0)),\"\",VLOOKUP($F85,氏名データ!$2:$7000,14,0))","v":0},{"$f":"IF(ISERROR(VLOOKUP($F85,氏名データ!$2:$7000,12,0)),\"\",VLOOKUP($F85,氏名データ!$2:$7000,12,0))","v":""},null,null,null,null,null,null,null,null,null,null,null,null,null,null,null,null,null,null,null,null,{"$f":"IF(F85=\"\",\"\",学校情報!$D$2)","v":""},null,null,null,null,null,null,null,null,null,"78",null,null,null,null,null,null,null,null,null,"男子走幅跳","男子走幅跳",null,"女子OP三段跳","女子OP三段跳",null,"男子6支部走幅跳","男子6支部走幅跳",null,"女子OP三段跳","女子OP三段跳"]
["","","","",82,null,null,{"$f":"IF(ISERROR(VLOOKUP($F86,氏名データ!$2:$7000,4,0)),\"\",VLOOKUP($F86,氏名データ!$2:$7000,4,0))","v":0},{"$f":"IF(ISERROR(VLOOKUP($F86,氏名データ!$2:$7000,5,0)),\"\",VLOOKUP($F86,氏名データ!$2:$7000,5,0))","v":0},{"$f":"IF(ISERROR(VLOOKUP($F86,氏名データ!$2:$7000,6,0)),\"\",VLOOKUP($F86,氏名データ!$2:$7000,6,0))","v":0},{"$f":"IF(ISERROR(VLOOKUP($F86,氏名データ!$2:$7000,7,0)),\"\",VLOOKUP($F86,氏名データ!$2:$7000,7,0))","v":0},{"$f":"IF(ISERROR(VLOOKUP($F86,氏名データ!$2:$7000,8,0)),\"\",VLOOKUP($F86,氏名データ!$2:$7000,8,0))","v":0},{"$f":"IF(ISERROR(VLOOKUP($F86,氏名データ!$2:$7000,9,0)),\"\",VLOOKUP($F86,氏名データ!$2:$7000,9,0))","v":0},{"$f":"IF(ISERROR(VLOOKUP($F86,氏名データ!$2:$7000,10,0)),\"\",VLOOKUP($F86,氏名データ!$2:$7000,10,0))","v":0},{"$f":"IF(ISERROR(VLOOKUP($F86,氏名データ!$2:$7000,11,0)),\"\",VLOOKUP($F86,氏名データ!$2:$7000,11,0))","v":0},{"$f":"IF(ISERROR(VLOOKUP($F86,氏名データ!$2:$7000,14,0)),\"\",VLOOKUP($F86,氏名データ!$2:$7000,14,0))","v":0},{"$f":"IF(ISERROR(VLOOKUP($F86,氏名データ!$2:$7000,12,0)),\"\",VLOOKUP($F86,氏名データ!$2:$7000,12,0))","v":""},null,null,null,null,null,null,null,null,null,null,null,null,null,null,null,null,null,null,null,null,{"$f":"IF(F86=\"\",\"\",学校情報!$D$2)","v":""},null,null,null,null,null,null,null,null,null,"79",null,null,null,null,null,null,null,null,null,"男子三段跳","男子三段跳",null,"女子砲丸投","女子砲丸投",null,"男子6支部三段跳","男子6支部三段跳",null,"女子6支部砲丸投","女子6支部砲丸投"]
["","","","",83,null,null,{"$f":"IF(ISERROR(VLOOKUP($F87,氏名データ!$2:$7000,4,0)),\"\",VLOOKUP($F87,氏名データ!$2:$7000,4,0))","v":0},{"$f":"IF(ISERROR(VLOOKUP($F87,氏名データ!$2:$7000,5,0)),\"\",VLOOKUP($F87,氏名データ!$2:$7000,5,0))","v":0},{"$f":"IF(ISERROR(VLOOKUP($F87,氏名データ!$2:$7000,6,0)),\"\",VLOOKUP($F87,氏名データ!$2:$7000,6,0))","v":0},{"$f":"IF(ISERROR(VLOOKUP($F87,氏名データ!$2:$7000,7,0)),\"\",VLOOKUP($F87,氏名データ!$2:$7000,7,0))","v":0},{"$f":"IF(ISERROR(VLOOKUP($F87,氏名データ!$2:$7000,8,0)),\"\",VLOOKUP($F87,氏名データ!$2:$7000,8,0))","v":0},{"$f":"IF(ISERROR(VLOOKUP($F87,氏名データ!$2:$7000,9,0)),\"\",VLOOKUP($F87,氏名データ!$2:$7000,9,0))","v":0},{"$f":"IF(ISERROR(VLOOKUP($F87,氏名データ!$2:$7000,10,0)),\"\",VLOOKUP($F87,氏名データ!$2:$7000,10,0))","v":0},{"$f":"IF(ISERROR(VLOOKUP($F87,氏名データ!$2:$7000,11,0)),\"\",VLOOKUP($F87,氏名データ!$2:$7000,11,0))","v":0},{"$f":"IF(ISERROR(VLOOKUP($F87,氏名データ!$2:$7000,14,0)),\"\",VLOOKUP($F87,氏名データ!$2:$7000,14,0))","v":0},{"$f":"IF(ISERROR(VLOOKUP($F87,氏名データ!$2:$7000,12,0)),\"\",VLOOKUP($F87,氏名データ!$2:$7000,12,0))","v":""},null,null,null,null,null,null,null,null,null,null,null,null,null,null,null,null,null,null,null,null,{"$f":"IF(F87=\"\",\"\",学校情報!$D$2)","v":""},null,null,null,null,null,null,null,null,null,"80",null,null,null,null,null,null,null,null,null,"男子砲丸投","男子砲丸投",null,"女子円盤投","女子円盤投",null,"男子6支部砲丸投","男子6支部砲丸投",null,"女子6支部円盤投","女子6支部円盤投"]
["","","","",84,null,null,{"$f":"IF(ISERROR(VLOOKUP($F88,氏名データ!$2:$7000,4,0)),\"\",VLOOKUP($F88,氏名データ!$2:$7000,4,0))","v":0},{"$f":"IF(ISERROR(VLOOKUP($F88,氏名データ!$2:$7000,5,0)),\"\",VLOOKUP($F88,氏名データ!$2:$7000,5,0))","v":0},{"$f":"IF(ISERROR(VLOOKUP($F88,氏名データ!$2:$7000,6,0)),\"\",VLOOKUP($F88,氏名データ!$2:$7000,6,0))","v":0},{"$f":"IF(ISERROR(VLOOKUP($F88,氏名データ!$2:$7000,7,0)),\"\",VLOOKUP($F88,氏名データ!$2:$7000,7,0))","v":0},{"$f":"IF(ISERROR(VLOOKUP($F88,氏名データ!$2:$7000,8,0)),\"\",VLOOKUP($F88,氏名データ!$2:$7000,8,0))","v":0},{"$f":"IF(ISERROR(VLOOKUP($F88,氏名データ!$2:$7000,9,0)),\"\",VLOOKUP($F88,氏名データ!$2:$7000,9,0))","v":0},{"$f":"IF(ISERROR(VLOOKUP($F88,氏名データ!$2:$7000,10,0)),\"\",VLOOKUP($F88,氏名データ!$2:$7000,10,0))","v":0},{"$f":"IF(ISERROR(VLOOKUP($F88,氏名データ!$2:$7000,11,0)),\"\",VLOOKUP($F88,氏名データ!$2:$7000,11,0))","v":0},{"$f":"IF(ISERROR(VLOOKUP($F88,氏名データ!$2:$7000,14,0)),\"\",VLOOKUP($F88,氏名データ!$2:$7000,14,0))","v":0},{"$f":"IF(ISERROR(VLOOKUP($F88,氏名データ!$2:$7000,12,0)),\"\",VLOOKUP($F88,氏名データ!$2:$7000,12,0))","v":""},null,null,null,null,null,null,null,null,null,null,null,null,null,null,null,null,null,null,null,null,{"$f":"IF(F88=\"\",\"\",学校情報!$D$2)","v":""},null,null,null,null,null,null,null,null,null,"81",null,null,null,null,null,null,null,null,null,"男子円盤投","男子円盤投",null,"女子やり投","女子やり投",null,"男子6支部円盤投","男子6支部円盤投",null,"女子6支部やり投","女子6支部やり投"]
["","","","",85,null,null,{"$f":"IF(ISERROR(VLOOKUP($F89,氏名データ!$2:$7000,4,0)),\"\",VLOOKUP($F89,氏名データ!$2:$7000,4,0))","v":0},{"$f":"IF(ISERROR(VLOOKUP($F89,氏名データ!$2:$7000,5,0)),\"\",VLOOKUP($F89,氏名データ!$2:$7000,5,0))","v":0},{"$f":"IF(ISERROR(VLOOKUP($F89,氏名データ!$2:$7000,6,0)),\"\",VLOOKUP($F89,氏名データ!$2:$7000,6,0))","v":0},{"$f":"IF(ISERROR(VLOOKUP($F89,氏名データ!$2:$7000,7,0)),\"\",VLOOKUP($F89,氏名データ!$2:$7000,7,0))","v":0},{"$f":"IF(ISERROR(VLOOKUP($F89,氏名データ!$2:$7000,8,0)),\"\",VLOOKUP($F89,氏名データ!$2:$7000,8,0))","v":0},{"$f":"IF(ISERROR(VLOOKUP($F89,氏名データ!$2:$7000,9,0)),\"\",VLOOKUP($F89,氏名データ!$2:$7000,9,0))","v":0},{"$f":"IF(ISERROR(VLOOKUP($F89,氏名データ!$2:$7000,10,0)),\"\",VLOOKUP($F89,氏名データ!$2:$7000,10,0))","v":0},{"$f":"IF(ISERROR(VLOOKUP($F89,氏名データ!$2:$7000,11,0)),\"\",VLOOKUP($F89,氏名データ!$2:$7000,11,0))","v":0},{"$f":"IF(ISERROR(VLOOKUP($F89,氏名データ!$2:$7000,14,0)),\"\",VLOOKUP($F89,氏名データ!$2:$7000,14,0))","v":0},{"$f":"IF(ISERROR(VLOOKUP($F89,氏名データ!$2:$7000,12,0)),\"\",VLOOKUP($F89,氏名データ!$2:$7000,12,0))","v":""},null,null,null,null,null,null,null,null,null,null,null,null,null,null,null,null,null,null,null,null,{"$f":"IF(F89=\"\",\"\",学校情報!$D$2)","v":""},null,null,null,null,null,null,null,null,null,"82",null,null,null,null,null,null,null,null,null,"男子やり投","男子やり投",null,null,null,null,"男子6支部やり投","男子6支部やり投"]
["","","","",86,null,null,{"$f":"IF(ISERROR(VLOOKUP($F90,氏名データ!$2:$7000,4,0)),\"\",VLOOKUP($F90,氏名データ!$2:$7000,4,0))","v":0},{"$f":"IF(ISERROR(VLOOKUP($F90,氏名データ!$2:$7000,5,0)),\"\",VLOOKUP($F90,氏名データ!$2:$7000,5,0))","v":0},{"$f":"IF(ISERROR(VLOOKUP($F90,氏名データ!$2:$7000,6,0)),\"\",VLOOKUP($F90,氏名データ!$2:$7000,6,0))","v":0},{"$f":"IF(ISERROR(VLOOKUP($F90,氏名データ!$2:$7000,7,0)),\"\",VLOOKUP($F90,氏名データ!$2:$7000,7,0))","v":0},{"$f":"IF(ISERROR(VLOOKUP($F90,氏名データ!$2:$7000,8,0)),\"\",VLOOKUP($F90,氏名データ!$2:$7000,8,0))","v":0},{"$f":"IF(ISERROR(VLOOKUP($F90,氏名データ!$2:$7000,9,0)),\"\",VLOOKUP($F90,氏名データ!$2:$7000,9,0))","v":0},{"$f":"IF(ISERROR(VLOOKUP($F90,氏名データ!$2:$7000,10,0)),\"\",VLOOKUP($F90,氏名データ!$2:$7000,10,0))","v":0},{"$f":"IF(ISERROR(VLOOKUP($F90,氏名データ!$2:$7000,11,0)),\"\",VLOOKUP($F90,氏名データ!$2:$7000,11,0))","v":0},{"$f":"IF(ISERROR(VLOOKUP($F90,氏名データ!$2:$7000,14,0)),\"\",VLOOKUP($F90,氏名データ!$2:$7000,14,0))","v":0},{"$f":"IF(ISERROR(VLOOKUP($F90,氏名データ!$2:$7000,12,0)),\"\",VLOOKUP($F90,氏名データ!$2:$7000,12,0))","v":""},null,null,null,null,null,null,null,null,null,null,null,null,null,null,null,null,null,null,null,null,{"$f":"IF(F90=\"\",\"\",学校情報!$D$2)","v":""},null,null,null,null,null,null,null,null,null,"83",null,null,null,null,null,null,null,null,null,"秋季"]
["","","","",87,null,null,{"$f":"IF(ISERROR(VLOOKUP($F91,氏名データ!$2:$7000,4,0)),\"\",VLOOKUP($F91,氏名データ!$2:$7000,4,0))","v":0},{"$f":"IF(ISERROR(VLOOKUP($F91,氏名データ!$2:$7000,5,0)),\"\",VLOOKUP($F91,氏名データ!$2:$7000,5,0))","v":0},{"$f":"IF(ISERROR(VLOOKUP($F91,氏名データ!$2:$7000,6,0)),\"\",VLOOKUP($F91,氏名データ!$2:$7000,6,0))","v":0},{"$f":"IF(ISERROR(VLOOKUP($F91,氏名データ!$2:$7000,7,0)),\"\",VLOOKUP($F91,氏名データ!$2:$7000,7,0))","v":0},{"$f":"IF(ISERROR(VLOOKUP($F91,氏名データ!$2:$7000,8,0)),\"\",VLOOKUP($F91,氏名データ!$2:$7000,8,0))","v":0},{"$f":"IF(ISERROR(VLOOKUP($F91,氏名データ!$2:$7000,9,0)),\"\",VLOOKUP($F91,氏名データ!$2:$7000,9,0))","v":0},{"$f":"IF(ISERROR(VLOOKUP($F91,氏名データ!$2:$7000,10,0)),\"\",VLOOKUP($F91,氏名データ!$2:$7000,10,0))","v":0},{"$f":"IF(ISERROR(VLOOKUP($F91,氏名データ!$2:$7000,11,0)),\"\",VLOOKUP($F91,氏名データ!$2:$7000,11,0))","v":0},{"$f":"IF(ISERROR(VLOOKUP($F91,氏名データ!$2:$7000,14,0)),\"\",VLOOKUP($F91,氏名データ!$2:$7000,14,0))","v":0},{"$f":"IF(ISERROR(VLOOKUP($F91,氏名データ!$2:$7000,12,0)),\"\",VLOOKUP($F91,氏名データ!$2:$7000,12,0))","v":""},null,null,null,null,null,null,null,null,null,null,null,null,null,null,null,null,null,null,null,null,{"$f":"IF(F91=\"\",\"\",学校情報!$D$2)","v":""},null,null,null,null,null,null,null,null,null,"84",null,null,null,null,null,null,null,null,null,"男子100m","男子100m","男子100m","女子100m","女子100m","女子100m"]
["","","","",88,null,null,{"$f":"IF(ISERROR(VLOOKUP($F92,氏名データ!$2:$7000,4,0)),\"\",VLOOKUP($F92,氏名データ!$2:$7000,4,0))","v":0},{"$f":"IF(ISERROR(VLOOKUP($F92,氏名データ!$2:$7000,5,0)),\"\",VLOOKUP($F92,氏名データ!$2:$7000,5,0))","v":0},{"$f":"IF(ISERROR(VLOOKUP($F92,氏名データ!$2:$7000,6,0)),\"\",VLOOKUP($F92,氏名データ!$2:$7000,6,0))","v":0},{"$f":"IF(ISERROR(VLOOKUP($F92,氏名データ!$2:$7000,7,0)),\"\",VLOOKUP($F92,氏名データ!$2:$7000,7,0))","v":0},{"$f":"IF(ISERROR(VLOOKUP($F92,氏名データ!$2:$7000,8,0)),\"\",VLOOKUP($F92,氏名データ!$2:$7000,8,0))","v":0},{"$f":"IF(ISERROR(VLOOKUP($F92,氏名データ!$2:$7000,9,0)),\"\",VLOOKUP($F92,氏名データ!$2:$7000,9,0))","v":0},{"$f":"IF(ISERROR(VLOOKUP($F92,氏名データ!$2:$7000,10,0)),\"\",VLOOKUP($F92,氏名データ!$2:$7000,10,0))","v":0},{"$f":"IF(ISERROR(VLOOKUP($F92,氏名データ!$2:$7000,11,0)),\"\",VLOOKUP($F92,氏名データ!$2:$7000,11,0))","v":0},{"$f":"IF(ISERROR(VLOOKUP($F92,氏名データ!$2:$7000,14,0)),\"\",VLOOKUP($F92,氏名データ!$2:$7000,14,0))","v":0},{"$f":"IF(ISERROR(VLOOKUP($F92,氏名データ!$2:$7000,12,0)),\"\",VLOOKUP($F92,氏名データ!$2:$7000,12,0))","v":""},null,null,null,null,null,null,null,null,null,null,null,null,null,null,null,null,null,null,null,null,{"$f":"IF(F92=\"\",\"\",学校情報!$D$2)","v":""},null,null,null,null,null,null,null,null,null,"85",null,null,null,null,null,null,null,null,null,"男子200m","男子200m","男子200m","女子200m","女子200m","女子200m"]
["","","","",89,null,null,{"$f":"IF(ISERROR(VLOOKUP($F93,氏名データ!$2:$7000,4,0)),\"\",VLOOKUP($F93,氏名データ!$2:$7000,4,0))","v":0},{"$f":"IF(ISERROR(VLOOKUP($F93,氏名データ!$2:$7000,5,0)),\"\",VLOOKUP($F93,氏名データ!$2:$7000,5,0))","v":0},{"$f":"IF(ISERROR(VLOOKUP($F93,氏名データ!$2:$7000,6,0)),\"\",VLOOKUP($F93,氏名データ!$2:$7000,6,0))","v":0},{"$f":"IF(ISERROR(VLOOKUP($F93,氏名データ!$2:$7000,7,0)),\"\",VLOOKUP($F93,氏名データ!$2:$7000,7,0))","v":0},{"$f":"IF(ISERROR(VLOOKUP($F93,氏名データ!$2:$7000,8,0)),\"\",VLOOKUP($F93,氏名データ!$2:$7000,8,0))","v":0},{"$f":"IF(ISERROR(VLOOKUP($F93,氏名データ!$2:$7000,9,0)),\"\",VLOOKUP($F93,氏名データ!$2:$7000,9,0))","v":0},{"$f":"IF(ISERROR(VLOOKUP($F93,氏名データ!$2:$7000,10,0)),\"\",VLOOKUP($F93,氏名データ!$2:$7000,10,0))","v":0},{"$f":"IF(ISERROR(VLOOKUP($F93,氏名データ!$2:$7000,11,0)),\"\",VLOOKUP($F93,氏名データ!$2:$7000,11,0))","v":0},{"$f":"IF(ISERROR(VLOOKUP($F93,氏名データ!$2:$7000,14,0)),\"\",VLOOKUP($F93,氏名データ!$2:$7000,14,0))","v":0},{"$f":"IF(ISERROR(VLOOKUP($F93,氏名データ!$2:$7000,12,0)),\"\",VLOOKUP($F93,氏名データ!$2:$7000,12,0))","v":""},null,null,null,null,null,null,null,null,null,null,null,null,null,null,null,null,null,null,null,null,{"$f":"IF(F93=\"\",\"\",学校情報!$D$2)","v":""},null,null,null,null,null,null,null,null,null,"86",null,null,null,null,null,null,null,null,null,"男子400m","男子400m","男子400m","女子400m","女子400m","女子400m"]
["","","","",90,null,null,{"$f":"IF(ISERROR(VLOOKUP($F94,氏名データ!$2:$7000,4,0)),\"\",VLOOKUP($F94,氏名データ!$2:$7000,4,0))","v":0},{"$f":"IF(ISERROR(VLOOKUP($F94,氏名データ!$2:$7000,5,0)),\"\",VLOOKUP($F94,氏名データ!$2:$7000,5,0))","v":0},{"$f":"IF(ISERROR(VLOOKUP($F94,氏名データ!$2:$7000,6,0)),\"\",VLOOKUP($F94,氏名データ!$2:$7000,6,0))","v":0},{"$f":"IF(ISERROR(VLOOKUP($F94,氏名データ!$2:$7000,7,0)),\"\",VLOOKUP($F94,氏名データ!$2:$7000,7,0))","v":0},{"$f":"IF(ISERROR(VLOOKUP($F94,氏名データ!$2:$7000,8,0)),\"\",VLOOKUP($F94,氏名データ!$2:$7000,8,0))","v":0},{"$f":"IF(ISERROR(VLOOKUP($F94,氏名データ!$2:$7000,9,0)),\"\",VLOOKUP($F94,氏名データ!$2:$7000,9,0))","v":0},{"$f":"IF(ISERROR(VLOOKUP($F94,氏名データ!$2:$7000,10,0)),\"\",VLOOKUP($F94,氏名データ!$2:$7000,10,0))","v":0},{"$f":"IF(ISERROR(VLOOKUP($F94,氏名データ!$2:$7000,11,0)),\"\",VLOOKUP($F94,氏名データ!$2:$7000,11,0))","v":0},{"$f":"IF(ISERROR(VLOOKUP($F94,氏名データ!$2:$7000,14,0)),\"\",VLOOKUP($F94,氏名データ!$2:$7000,14,0))","v":0},{"$f":"IF(ISERROR(VLOOKUP($F94,氏名データ!$2:$7000,12,0)),\"\",VLOOKUP($F94,氏名データ!$2:$7000,12,0))","v":""},null,null,null,null,null,null,null,null,null,null,null,null,null,null,null,null,null,null,null,null,{"$f":"IF(F94=\"\",\"\",学校情報!$D$2)","v":""},null,null,null,null,null,null,null,null,null,"87",null,null,null,null,null,null,null,null,null,"男子800m","男子800m","男子800m","女子800m","女子800m","女子800m"]
["","","","",91,null,null,{"$f":"IF(ISERROR(VLOOKUP($F95,氏名データ!$2:$7000,4,0)),\"\",VLOOKUP($F95,氏名データ!$2:$7000,4,0))","v":0},{"$f":"IF(ISERROR(VLOOKUP($F95,氏名データ!$2:$7000,5,0)),\"\",VLOOKUP($F95,氏名データ!$2:$7000,5,0))","v":0},{"$f":"IF(ISERROR(VLOOKUP($F95,氏名データ!$2:$7000,6,0)),\"\",VLOOKUP($F95,氏名データ!$2:$7000,6,0))","v":0},{"$f":"IF(ISERROR(VLOOKUP($F95,氏名データ!$2:$7000,7,0)),\"\",VLOOKUP($F95,氏名データ!$2:$7000,7,0))","v":0},{"$f":"IF(ISERROR(VLOOKUP($F95,氏名データ!$2:$7000,8,0)),\"\",VLOOKUP($F95,氏名データ!$2:$7000,8,0))","v":0},{"$f":"IF(ISERROR(VLOOKUP($F95,氏名データ!$2:$7000,9,0)),\"\",VLOOKUP($F95,氏名データ!$2:$7000,9,0))","v":0},{"$f":"IF(ISERROR(VLOOKUP($F95,氏名データ!$2:$7000,10,0)),\"\",VLOOKUP($F95,氏名データ!$2:$7000,10,0))","v":0},{"$f":"IF(ISERROR(VLOOKUP($F95,氏名データ!$2:$7000,11,0)),\"\",VLOOKUP($F95,氏名データ!$2:$7000,11,0))","v":0},{"$f":"IF(ISERROR(VLOOKUP($F95,氏名データ!$2:$7000,14,0)),\"\",VLOOKUP($F95,氏名データ!$2:$7000,14,0))","v":0},{"$f":"IF(ISERROR(VLOOKUP($F95,氏名データ!$2:$7000,12,0)),\"\",VLOOKUP($F95,氏名データ!$2:$7000,12,0))","v":""},null,null,null,null,null,null,null,null,null,null,null,null,null,null,null,null,null,null,null,null,{"$f":"IF(F95=\"\",\"\",学校情報!$D$2)","v":""},null,null,null,null,null,null,null,null,null,"88",null,null,null,null,null,null,null,null,null,"男子1500m","男子1500m","男子1500m","女子1500m","女子1500m","女子1500m"]
["","","","",92,null,null,{"$f":"IF(ISERROR(VLOOKUP($F96,氏名データ!$2:$7000,4,0)),\"\",VLOOKUP($F96,氏名データ!$2:$7000,4,0))","v":0},{"$f":"IF(ISERROR(VLOOKUP($F96,氏名データ!$2:$7000,5,0)),\"\",VLOOKUP($F96,氏名データ!$2:$7000,5,0))","v":0},{"$f":"IF(ISERROR(VLOOKUP($F96,氏名データ!$2:$7000,6,0)),\"\",VLOOKUP($F96,氏名データ!$2:$7000,6,0))","v":0},{"$f":"IF(ISERROR(VLOOKUP($F96,氏名データ!$2:$7000,7,0)),\"\",VLOOKUP($F96,氏名データ!$2:$7000,7,0))","v":0},{"$f":"IF(ISERROR(VLOOKUP($F96,氏名データ!$2:$7000,8,0)),\"\",VLOOKUP($F96,氏名データ!$2:$7000,8,0))","v":0},{"$f":"IF(ISERROR(VLOOKUP($F96,氏名データ!$2:$7000,9,0)),\"\",VLOOKUP($F96,氏名データ!$2:$7000,9,0))","v":0},{"$f":"IF(ISERROR(VLOOKUP($F96,氏名データ!$2:$7000,10,0)),\"\",VLOOKUP($F96,氏名データ!$2:$7000,10,0))","v":0},{"$f":"IF(ISERROR(VLOOKUP($F96,氏名データ!$2:$7000,11,0)),\"\",VLOOKUP($F96,氏名データ!$2:$7000,11,0))","v":0},{"$f":"IF(ISERROR(VLOOKUP($F96,氏名データ!$2:$7000,14,0)),\"\",VLOOKUP($F96,氏名データ!$2:$7000,14,0))","v":0},{"$f":"IF(ISERROR(VLOOKUP($F96,氏名データ!$2:$7000,12,0)),\"\",VLOOKUP($F96,氏名データ!$2:$7000,12,0))","v":""},null,null,null,null,null,null,null,null,null,null,null,null,null,null,null,null,null,null,null,null,{"$f":"IF(F96=\"\",\"\",学校情報!$D$2)","v":""},null,null,null,null,null,null,null,null,null,"89",null,null,null,null,null,null,null,null,null,"男子5000m","男子5000m","男子5000m","女子3000m","女子3000m","女子3000m"]
["","","","",93,null,null,{"$f":"IF(ISERROR(VLOOKUP($F97,氏名データ!$2:$7000,4,0)),\"\",VLOOKUP($F97,氏名データ!$2:$7000,4,0))","v":0},{"$f":"IF(ISERROR(VLOOKUP($F97,氏名データ!$2:$7000,5,0)),\"\",VLOOKUP($F97,氏名データ!$2:$7000,5,0))","v":0},{"$f":"IF(ISERROR(VLOOKUP($F97,氏名データ!$2:$7000,6,0)),\"\",VLOOKUP($F97,氏名データ!$2:$7000,6,0))","v":0},{"$f":"IF(ISERROR(VLOOKUP($F97,氏名データ!$2:$7000,7,0)),\"\",VLOOKUP($F97,氏名データ!$2:$7000,7,0))","v":0},{"$f":"IF(ISERROR(VLOOKUP($F97,氏名データ!$2:$7000,8,0)),\"\",VLOOKUP($F97,氏名データ!$2:$7000,8,0))","v":0},{"$f":"IF(ISERROR(VLOOKUP($F97,氏名データ!$2:$7000,9,0)),\"\",VLOOKUP($F97,氏名データ!$2:$7000,9,0))","v":0},{"$f":"IF(ISERROR(VLOOKUP($F97,氏名データ!$2:$7000,10,0)),\"\",VLOOKUP($F97,氏名データ!$2:$7000,10,0))","v":0},{"$f":"IF(ISERROR(VLOOKUP($F97,氏名データ!$2:$7000,11,0)),\"\",VLOOKUP($F97,氏名データ!$2:$7000,11,0))","v":0},{"$f":"IF(ISERROR(VLOOKUP($F97,氏名データ!$2:$7000,14,0)),\"\",VLOOKUP($F97,氏名データ!$2:$7000,14,0))","v":0},{"$f":"IF(ISERROR(VLOOKUP($F97,氏名データ!$2:$7000,12,0)),\"\",VLOOKUP($F97,氏名データ!$2:$7000,12,0))","v":""},null,null,null,null,null,null,null,null,null,null,null,null,null,null,null,null,null,null,null,null,{"$f":"IF(F97=\"\",\"\",学校情報!$D$2)","v":""},null,null,null,null,null,null,null,null,null,"90",null,null,null,null,null,null,null,null,null,"男子110mH","男子110mH","男子110mH","女子100mH","女子100mH","女子100mH"]
["","","","",94,null,null,{"$f":"IF(ISERROR(VLOOKUP($F98,氏名データ!$2:$7000,4,0)),\"\",VLOOKUP($F98,氏名データ!$2:$7000,4,0))","v":0},{"$f":"IF(ISERROR(VLOOKUP($F98,氏名データ!$2:$7000,5,0)),\"\",VLOOKUP($F98,氏名データ!$2:$7000,5,0))","v":0},{"$f":"IF(ISERROR(VLOOKUP($F98,氏名データ!$2:$7000,6,0)),\"\",VLOOKUP($F98,氏名データ!$2:$7000,6,0))","v":0},{"$f":"IF(ISERROR(VLOOKUP($F98,氏名データ!$2:$7000,7,0)),\"\",VLOOKUP($F98,氏名データ!$2:$7000,7,0))","v":0},{"$f":"IF(ISERROR(VLOOKUP($F98,氏名データ!$2:$7000,8,0)),\"\",VLOOKUP($F98,氏名データ!$2:$7000,8,0))","v":0},{"$f":"IF(ISERROR(VLOOKUP($F98,氏名データ!$2:$7000,9,0)),\"\",VLOOKUP($F98,氏名データ!$2:$7000,9,0))","v":0},{"$f":"IF(ISERROR(VLOOKUP($F98,氏名データ!$2:$7000,10,0)),\"\",VLOOKUP($F98,氏名データ!$2:$7000,10,0))","v":0},{"$f":"IF(ISERROR(VLOOKUP($F98,氏名データ!$2:$7000,11,0)),\"\",VLOOKUP($F98,氏名データ!$2:$7000,11,0))","v":0},{"$f":"IF(ISERROR(VLOOKUP($F98,氏名データ!$2:$7000,14,0)),\"\",VLOOKUP($F98,氏名データ!$2:$7000,14,0))","v":0},{"$f":"IF(ISERROR(VLOOKUP($F98,氏名データ!$2:$7000,12,0)),\"\",VLOOKUP($F98,氏名データ!$2:$7000,12,0))","v":""},null,null,null,null,null,null,null,null,null,null,null,null,null,null,null,null,null,null,null,null,{"$f":"IF(F98=\"\",\"\",学校情報!$D$2)","v":""},null,null,null,null,null,null,null,null,null,"91",null,null,null,null,null,null,null,null,null,"男子400mH","男子400mH","男子400mH","女子400mH","女子400mH","女子400mH"]
["","","","",95,null,null,{"$f":"IF(ISERROR(VLOOKUP($F99,氏名データ!$2:$7000,4,0)),\"\",VLOOKUP($F99,氏名データ!$2:$7000,4,0))","v":0},{"$f":"IF(ISERROR(VLOOKUP($F99,氏名データ!$2:$7000,5,0)),\"\",VLOOKUP($F99,氏名データ!$2:$7000,5,0))","v":0},{"$f":"IF(ISERROR(VLOOKUP($F99,氏名データ!$2:$7000,6,0)),\"\",VLOOKUP($F99,氏名データ!$2:$7000,6,0))","v":0},{"$f":"IF(ISERROR(VLOOKUP($F99,氏名データ!$2:$7000,7,0)),\"\",VLOOKUP($F99,氏名データ!$2:$7000,7,0))","v":0},{"$f":"IF(ISERROR(VLOOKUP($F99,氏名データ!$2:$7000,8,0)),\"\",VLOOKUP($F99,氏名データ!$2:$7000,8,0))","v":0},{"$f":"IF(ISERROR(VLOOKUP($F99,氏名データ!$2:$7000,9,0)),\"\",VLOOKUP($F99,氏名データ!$2:$7000,9,0))","v":0},{"$f":"IF(ISERROR(VLOOKUP($F99,氏名データ!$2:$7000,10,0)),\"\",VLOOKUP($F99,氏名データ!$2:$7000,10,0))","v":0},{"$f":"IF(ISERROR(VLOOKUP($F99,氏名データ!$2:$7000,11,0)),\"\",VLOOKUP($F99,氏名データ!$2:$7000,11,0))","v":0},{"$f":"IF(ISERROR(VLOOKUP($F99,氏名データ!$2:$7000,14,0)),\"\",VLOOKUP($F99,氏名データ!$2:$7000,14,0))","v":0},{"$f":"IF(ISERROR(VLOOKUP($F99,氏名データ!$2:$7000,12,0)),\"\",VLOOKUP($F99,氏名データ!$2:$7000,12,0))","v":""},null,null,null,null,null,null,null,null,null,null,null,null,null,null,null,null,null,null,null,null,{"$f":"IF(F99=\"\",\"\",学校情報!$D$2)","v":""},null,null,null,null,null,null,null,null,null,"92",null,null,null,null,null,null,null,null,null,"男子3000mSC","男子3000mSC","男子3000mSC","女子走高跳","女子走高跳","女子走高跳"]
["","","","",96,null,null,{"$f":"IF(ISERROR(VLOOKUP($F100,氏名データ!$2:$7000,4,0)),\"\",VLOOKUP($F100,氏名データ!$2:$7000,4,0))","v":0},{"$f":"IF(ISERROR(VLOOKUP($F100,氏名データ!$2:$7000,5,0)),\"\",VLOOKUP($F100,氏名データ!$2:$7000,5,0))","v":0},{"$f":"IF(ISERROR(VLOOKUP($F100,氏名データ!$2:$7000,6,0)),\"\",VLOOKUP($F100,氏名データ!$2:$7000,6,0))","v":0},{"$f":"IF(ISERROR(VLOOKUP($F100,氏名データ!$2:$7000,7,0)),\"\",VLOOKUP($F100,氏名データ!$2:$7000,7,0))","v":0},{"$f":"IF(ISERROR(VLOOKUP($F100,氏名データ!$2:$7000,8,0)),\"\",VLOOKUP($F100,氏名データ!$2:$7000,8,0))","v":0},{"$f":"IF(ISERROR(VLOOKUP($F100,氏名データ!$2:$7000,9,0)),\"\",VLOOKUP($F100,氏名データ!$2:$7000,9,0))","v":0},{"$f":"IF(ISERROR(VLOOKUP($F100,氏名データ!$2:$7000,10,0)),\"\",VLOOKUP($F100,氏名データ!$2:$7000,10,0))","v":0},{"$f":"IF(ISERROR(VLOOKUP($F100,氏名データ!$2:$7000,11,0)),\"\",VLOOKUP($F100,氏名データ!$2:$7000,11,0))","v":0},{"$f":"IF(ISERROR(VLOOKUP($F100,氏名データ!$2:$7000,14,0)),\"\",VLOOKUP($F100,氏名データ!$2:$7000,14,0))","v":0},{"$f":"IF(ISERROR(VLOOKUP($F100,氏名データ!$2:$7000,12,0)),\"\",VLOOKUP($F100,氏名データ!$2:$7000,12,0))","v":""},null,null,null,null,null,null,null,null,null,null,null,null,null,null,null,null,null,null,null,null,{"$f":"IF(F100=\"\",\"\",学校情報!$D$2)","v":""},null,null,null,null,null,null,null,null,null,"93",null,null,null,null,null,null,null,null,null,"男子走高跳","男子走高跳","男子走高跳","女子棒高跳","女子棒高跳","女子棒高跳"]
["","","",{"$f":"IF(P101=\"女\",ROW(R101),\"\")","v":""},97,null,null,{"$f":"IF(ISERROR(VLOOKUP($F101,氏名データ!$2:$7000,4,0)),\"\",VLOOKUP($F101,氏名データ!$2:$7000,4,0))","v":0},{"$f":"IF(ISERROR(VLOOKUP($F101,氏名データ!$2:$7000,5,0)),\"\",VLOOKUP($F101,氏名データ!$2:$7000,5,0))","v":0},{"$f":"IF(ISERROR(VLOOKUP($F101,氏名データ!$2:$7000,6,0)),\"\",VLOOKUP($F101,氏名データ!$2:$7000,6,0))","v":0},{"$f":"IF(ISERROR(VLOOKUP($F101,氏名データ!$2:$7000,7,0)),\"\",VLOOKUP($F101,氏名データ!$2:$7000,7,0))","v":0},{"$f":"IF(ISERROR(VLOOKUP($F101,氏名データ!$2:$7000,8,0)),\"\",VLOOKUP($F101,氏名データ!$2:$7000,8,0))","v":0},{"$f":"IF(ISERROR(VLOOKUP($F101,氏名データ!$2:$7000,9,0)),\"\",VLOOKUP($F101,氏名データ!$2:$7000,9,0))","v":0},{"$f":"IF(ISERROR(VLOOKUP($F101,氏名データ!$2:$7000,10,0)),\"\",VLOOKUP($F101,氏名データ!$2:$7000,10,0))","v":0},{"$f":"IF(ISERROR(VLOOKUP($F101,氏名データ!$2:$7000,11,0)),\"\",VLOOKUP($F101,氏名データ!$2:$7000,11,0))","v":0},{"$f":"IF(ISERROR(VLOOKUP($F101,氏名データ!$2:$7000,14,0)),\"\",VLOOKUP($F101,氏名データ!$2:$7000,14,0))","v":0},{"$f":"IF(ISERROR(VLOOKUP($F101,氏名データ!$2:$7000,12,0)),\"\",VLOOKUP($F101,氏名データ!$2:$7000,12,0))","v":""},null,null,null,null,null,null,null,null,null,null,null,null,null,null,null,null,null,null,null,null,{"$f":"IF(F101=\"\",\"\",学校情報!$D$2)","v":""},null,null,null,null,null,null,null,null,null,"94",null,null,null,null,null,null,null,null,null,"男子棒高跳","男子棒高跳","男子棒高跳","女子走幅跳","女子走幅跳","女子走幅跳"]
["","","","",98,null,null,{"$f":"IF(ISERROR(VLOOKUP($F102,氏名データ!$2:$7000,4,0)),\"\",VLOOKUP($F102,氏名データ!$2:$7000,4,0))","v":0},{"$f":"IF(ISERROR(VLOOKUP($F102,氏名データ!$2:$7000,5,0)),\"\",VLOOKUP($F102,氏名データ!$2:$7000,5,0))","v":0},{"$f":"IF(ISERROR(VLOOKUP($F102,氏名データ!$2:$7000,6,0)),\"\",VLOOKUP($F102,氏名データ!$2:$7000,6,0))","v":0},{"$f":"IF(ISERROR(VLOOKUP($F102,氏名データ!$2:$7000,7,0)),\"\",VLOOKUP($F102,氏名データ!$2:$7000,7,0))","v":0},{"$f":"IF(ISERROR(VLOOKUP($F102,氏名データ!$2:$7000,8,0)),\"\",VLOOKUP($F102,氏名データ!$2:$7000,8,0))","v":0},{"$f":"IF(ISERROR(VLOOKUP($F102,氏名データ!$2:$7000,9,0)),\"\",VLOOKUP($F102,氏名データ!$2:$7000,9,0))","v":0},{"$f":"IF(ISERROR(VLOOKUP($F102,氏名データ!$2:$7000,10,0)),\"\",VLOOKUP($F102,氏名データ!$2:$7000,10,0))","v":0},{"$f":"IF(ISERROR(VLOOKUP($F102,氏名データ!$2:$7000,11,0)),\"\",VLOOKUP($F102,氏名データ!$2:$7000,11,0))","v":0},{"$f":"IF(ISERROR(VLOOKUP($F102,氏名データ!$2:$7000,14,0)),\"\",VLOOKUP($F102,氏名データ!$2:$7000,14,0))","v":0},{"$f":"IF(ISERROR(VLOOKUP($F102,氏名データ!$2:$7000,12,0)),\"\",VLOOKUP($F102,氏名データ!$2:$7000,12,0))","v":""},null,null,null,null,null,null,null,null,null,null,null,null,null,null,null,null,null,null,null,null,{"$f":"IF(F102=\"\",\"\",学校情報!$D$2)","v":""},null,null,null,null,null,null,null,null,null,"95",null,null,null,null,null,null,null,null,null,"男子走幅跳","男子走幅跳","男子走幅跳","女子三段跳","女子三段跳","女子三段跳"]
["","","","",99,null,null,{"$f":"IF(ISERROR(VLOOKUP($F103,氏名データ!$2:$7000,4,0)),\"\",VLOOKUP($F103,氏名データ!$2:$7000,4,0))","v":0},{"$f":"IF(ISERROR(VLOOKUP($F103,氏名データ!$2:$7000,5,0)),\"\",VLOOKUP($F103,氏名データ!$2:$7000,5,0))","v":0},{"$f":"IF(ISERROR(VLOOKUP($F103,氏名データ!$2:$7000,6,0)),\"\",VLOOKUP($F103,氏名データ!$2:$7000,6,0))","v":0},{"$f":"IF(ISERROR(VLOOKUP($F103,氏名データ!$2:$7000,7,0)),\"\",VLOOKUP($F103,氏名データ!$2:$7000,7,0))","v":0},{"$f":"IF(ISERROR(VLOOKUP($F103,氏名データ!$2:$7000,8,0)),\"\",VLOOKUP($F103,氏名データ!$2:$7000,8,0))","v":0},{"$f":"IF(ISERROR(VLOOKUP($F103,氏名データ!$2:$7000,9,0)),\"\",VLOOKUP($F103,氏名データ!$2:$7000,9,0))","v":0},{"$f":"IF(ISERROR(VLOOKUP($F103,氏名データ!$2:$7000,10,0)),\"\",VLOOKUP($F103,氏名データ!$2:$7000,10,0))","v":0},{"$f":"IF(ISERROR(VLOOKUP($F103,氏名データ!$2:$7000,11,0)),\"\",VLOOKUP($F103,氏名データ!$2:$7000,11,0))","v":0},{"$f":"IF(ISERROR(VLOOKUP($F103,氏名データ!$2:$7000,14,0)),\"\",VLOOKUP($F103,氏名データ!$2:$7000,14,0))","v":0},{"$f":"IF(ISERROR(VLOOKUP($F103,氏名データ!$2:$7000,12,0)),\"\",VLOOKUP($F103,氏名データ!$2:$7000,12,0))","v":""},null,null,null,null,null,null,null,null,null,null,null,null,null,null,null,null,null,null,null,null,{"$f":"IF(F103=\"\",\"\",学校情報!$D$2)","v":""},null,null,null,null,null,null,null,null,null,"96",null,null,null,null,null,null,null,null,null,"男子三段跳","男子三段跳","男子三段跳","女子砲丸投","女子砲丸投","女子砲丸投"]
["","","","",100,null,null,{"$f":"IF(ISERROR(VLOOKUP($F104,氏名データ!$2:$7000,4,0)),\"\",VLOOKUP($F104,氏名データ!$2:$7000,4,0))","v":0},{"$f":"IF(ISERROR(VLOOKUP($F104,氏名データ!$2:$7000,5,0)),\"\",VLOOKUP($F104,氏名データ!$2:$7000,5,0))","v":0},{"$f":"IF(ISERROR(VLOOKUP($F104,氏名データ!$2:$7000,6,0)),\"\",VLOOKUP($F104,氏名データ!$2:$7000,6,0))","v":0},{"$f":"IF(ISERROR(VLOOKUP($F104,氏名データ!$2:$7000,7,0)),\"\",VLOOKUP($F104,氏名データ!$2:$7000,7,0))","v":0},{"$f":"IF(ISERROR(VLOOKUP($F104,氏名データ!$2:$7000,8,0)),\"\",VLOOKUP($F104,氏名データ!$2:$7000,8,0))","v":0},{"$f":"IF(ISERROR(VLOOKUP($F104,氏名データ!$2:$7000,9,0)),\"\",VLOOKUP($F104,氏名データ!$2:$7000,9,0))","v":0},{"$f":"IF(ISERROR(VLOOKUP($F104,氏名データ!$2:$7000,10,0)),\"\",VLOOKUP($F104,氏名データ!$2:$7000,10,0))","v":0},{"$f":"IF(ISERROR(VLOOKUP($F104,氏名データ!$2:$7000,11,0)),\"\",VLOOKUP($F104,氏名データ!$2:$7000,11,0))","v":0},{"$f":"IF(ISERROR(VLOOKUP($F104,氏名データ!$2:$7000,14,0)),\"\",VLOOKUP($F104,氏名データ!$2:$7000,14,0))","v":0},{"$f":"IF(ISERROR(VLOOKUP($F104,氏名データ!$2:$7000,12,0)),\"\",VLOOKUP($F104,氏名データ!$2:$7000,12,0))","v":""},null,null,null,null,null,null,null,null,null,null,null,null,null,null,null,null,null,null,null,null,{"$f":"IF(F104=\"\",\"\",学校情報!$D$2)","v":""},null,null,null,null,null,null,null,null,null,"97",null,null,null,null,null,null,null,null,null,"男子砲丸投","男子砲丸投","男子砲丸投","女子円盤投","女子円盤投","女子円盤投"]
["","","","",101,null,null,{"$f":"IF(ISERROR(VLOOKUP($F105,氏名データ!$2:$7000,4,0)),\"\",VLOOKUP($F105,氏名データ!$2:$7000,4,0))","v":0},{"$f":"IF(ISERROR(VLOOKUP($F105,氏名データ!$2:$7000,5,0)),\"\",VLOOKUP($F105,氏名データ!$2:$7000,5,0))","v":0},{"$f":"IF(ISERROR(VLOOKUP($F105,氏名データ!$2:$7000,6,0)),\"\",VLOOKUP($F105,氏名データ!$2:$7000,6,0))","v":0},{"$f":"IF(ISERROR(VLOOKUP($F105,氏名データ!$2:$7000,7,0)),\"\",VLOOKUP($F105,氏名データ!$2:$7000,7,0))","v":0},{"$f":"IF(ISERROR(VLOOKUP($F105,氏名データ!$2:$7000,8,0)),\"\",VLOOKUP($F105,氏名データ!$2:$7000,8,0))","v":0},{"$f":"IF(ISERROR(VLOOKUP($F105,氏名データ!$2:$7000,9,0)),\"\",VLOOKUP($F105,氏名データ!$2:$7000,9,0))","v":0},{"$f":"IF(ISERROR(VLOOKUP($F105,氏名データ!$2:$7000,10,0)),\"\",VLOOKUP($F105,氏名データ!$2:$7000,10,0))","v":0},{"$f":"IF(ISERROR(VLOOKUP($F105,氏名データ!$2:$7000,11,0)),\"\",VLOOKUP($F105,氏名データ!$2:$7000,11,0))","v":0},{"$f":"IF(ISERROR(VLOOKUP($F105,氏名データ!$2:$7000,14,0)),\"\",VLOOKUP($F105,氏名データ!$2:$7000,14,0))","v":0},{"$f":"IF(ISERROR(VLOOKUP($F105,氏名データ!$2:$7000,12,0)),\"\",VLOOKUP($F105,氏名データ!$2:$7000,12,0))","v":""},null,null,null,null,null,null,null,null,null,null,null,null,null,null,null,null,null,null,null,null,{"$f":"IF(F105=\"\",\"\",学校情報!$D$2)","v":""},null,null,null,null,null,null,null,null,null,"98",null,null,null,null,null,null,null,null,null,"男子円盤投","男子円盤投","男子円盤投","女子やり投","女子やり投","女子やり投"]
["","","","",102,null,null,{"$f":"IF(ISERROR(VLOOKUP($F106,氏名データ!$2:$7000,4,0)),\"\",VLOOKUP($F106,氏名データ!$2:$7000,4,0))","v":0},{"$f":"IF(ISERROR(VLOOKUP($F106,氏名データ!$2:$7000,5,0)),\"\",VLOOKUP($F106,氏名データ!$2:$7000,5,0))","v":0},{"$f":"IF(ISERROR(VLOOKUP($F106,氏名データ!$2:$7000,6,0)),\"\",VLOOKUP($F106,氏名データ!$2:$7000,6,0))","v":0},{"$f":"IF(ISERROR(VLOOKUP($F106,氏名データ!$2:$7000,7,0)),\"\",VLOOKUP($F106,氏名データ!$2:$7000,7,0))","v":0},{"$f":"IF(ISERROR(VLOOKUP($F106,氏名データ!$2:$7000,8,0)),\"\",VLOOKUP($F106,氏名データ!$2:$7000,8,0))","v":0},{"$f":"IF(ISERROR(VLOOKUP($F106,氏名データ!$2:$7000,9,0)),\"\",VLOOKUP($F106,氏名データ!$2:$7000,9,0))","v":0},{"$f":"IF(ISERROR(VLOOKUP($F106,氏名データ!$2:$7000,10,0)),\"\",VLOOKUP($F106,氏名データ!$2:$7000,10,0))","v":0},{"$f":"IF(ISERROR(VLOOKUP($F106,氏名データ!$2:$7000,11,0)),\"\",VLOOKUP($F106,氏名データ!$2:$7000,11,0))","v":0},{"$f":"IF(ISERROR(VLOOKUP($F106,氏名データ!$2:$7000,14,0)),\"\",VLOOKUP($F106,氏名データ!$2:$7000,14,0))","v":0},{"$f":"IF(ISERROR(VLOOKUP($F106,氏名データ!$2:$7000,12,0)),\"\",VLOOKUP($F106,氏名データ!$2:$7000,12,0))","v":""},null,null,null,null,null,null,null,null,null,null,null,null,null,null,null,null,null,null,null,null,{"$f":"IF(F106=\"\",\"\",学校情報!$D$2)","v":""},null,null,null,null,null,null,null,null,null,"99",null,null,null,null,null,null,null,null,null,"男子やり投","男子やり投","男子やり投"]
["","","","",103,null,null,{"$f":"IF(ISERROR(VLOOKUP($F107,氏名データ!$2:$7000,4,0)),\"\",VLOOKUP($F107,氏名データ!$2:$7000,4,0))","v":0},{"$f":"IF(ISERROR(VLOOKUP($F107,氏名データ!$2:$7000,5,0)),\"\",VLOOKUP($F107,氏名データ!$2:$7000,5,0))","v":0},{"$f":"IF(ISERROR(VLOOKUP($F107,氏名データ!$2:$7000,6,0)),\"\",VLOOKUP($F107,氏名データ!$2:$7000,6,0))","v":0},{"$f":"IF(ISERROR(VLOOKUP($F107,氏名データ!$2:$7000,7,0)),\"\",VLOOKUP($F107,氏名データ!$2:$7000,7,0))","v":0},{"$f":"IF(ISERROR(VLOOKUP($F107,氏名データ!$2:$7000,8,0)),\"\",VLOOKUP($F107,氏名データ!$2:$7000,8,0))","v":0},{"$f":"IF(ISERROR(VLOOKUP($F107,氏名データ!$2:$7000,9,0)),\"\",VLOOKUP($F107,氏名データ!$2:$7000,9,0))","v":0},{"$f":"IF(ISERROR(VLOOKUP($F107,氏名データ!$2:$7000,10,0)),\"\",VLOOKUP($F107,氏名データ!$2:$7000,10,0))","v":0},{"$f":"IF(ISERROR(VLOOKUP($F107,氏名データ!$2:$7000,11,0)),\"\",VLOOKUP($F107,氏名データ!$2:$7000,11,0))","v":0},{"$f":"IF(ISERROR(VLOOKUP($F107,氏名データ!$2:$7000,14,0)),\"\",VLOOKUP($F107,氏名データ!$2:$7000,14,0))","v":0},{"$f":"IF(ISERROR(VLOOKUP($F107,氏名データ!$2:$7000,12,0)),\"\",VLOOKUP($F107,氏名データ!$2:$7000,12,0))","v":""},null,null,null,null,null,null,null,null,null,null,null,null,null,null,null,null,null,null,null,null,{"$f":"IF(F107=\"\",\"\",学校情報!$D$2)","v":""}]
["","","","",104,null,null,{"$f":"IF(ISERROR(VLOOKUP($F108,氏名データ!$2:$7000,4,0)),\"\",VLOOKUP($F108,氏名データ!$2:$7000,4,0))","v":0},{"$f":"IF(ISERROR(VLOOKUP($F108,氏名データ!$2:$7000,5,0)),\"\",VLOOKUP($F108,氏名データ!$2:$7000,5,0))","v":0},{"$f":"IF(ISERROR(VLOOKUP($F108,氏名データ!$2:$7000,6,0)),\"\",VLOOKUP($F108,氏名データ!$2:$7000,6,0))","v":0},{"$f":"IF(ISERROR(VLOOKUP($F108,氏名データ!$2:$7000,7,0)),\"\",VLOOKUP($F108,氏名データ!$2:$7000,7,0))","v":0},{"$f":"IF(ISERROR(VLOOKUP($F108,氏名データ!$2:$7000,8,0)),\"\",VLOOKUP($F108,氏名データ!$2:$7000,8,0))","v":0},{"$f":"IF(ISERROR(VLOOKUP($F108,氏名データ!$2:$7000,9,0)),\"\",VLOOKUP($F108,氏名データ!$2:$7000,9,0))","v":0},{"$f":"IF(ISERROR(VLOOKUP($F108,氏名データ!$2:$7000,10,0)),\"\",VLOOKUP($F108,氏名データ!$2:$7000,10,0))","v":0},{"$f":"IF(ISERROR(VLOOKUP($F108,氏名データ!$2:$7000,11,0)),\"\",VLOOKUP($F108,氏名データ!$2:$7000,11,0))","v":0},{"$f":"IF(ISERROR(VLOOKUP($F108,氏名データ!$2:$7000,14,0)),\"\",VLOOKUP($F108,氏名データ!$2:$7000,14,0))","v":0},{"$f":"IF(ISERROR(VLOOKUP($F108,氏名データ!$2:$7000,12,0)),\"\",VLOOKUP($F108,氏名データ!$2:$7000,12,0))","v":""},null,null,null,null,null,null,null,null,null,null,null,null,null,null,null,null,null,null,null,null,{"$f":"IF(F108=\"\",\"\",学校情報!$D$2)","v":""}]
["","","","",105,null,null,{"$f":"IF(ISERROR(VLOOKUP($F109,氏名データ!$2:$7000,4,0)),\"\",VLOOKUP($F109,氏名データ!$2:$7000,4,0))","v":0},{"$f":"IF(ISERROR(VLOOKUP($F109,氏名データ!$2:$7000,5,0)),\"\",VLOOKUP($F109,氏名データ!$2:$7000,5,0))","v":0},{"$f":"IF(ISERROR(VLOOKUP($F109,氏名データ!$2:$7000,6,0)),\"\",VLOOKUP($F109,氏名データ!$2:$7000,6,0))","v":0},{"$f":"IF(ISERROR(VLOOKUP($F109,氏名データ!$2:$7000,7,0)),\"\",VLOOKUP($F109,氏名データ!$2:$7000,7,0))","v":0},{"$f":"IF(ISERROR(VLOOKUP($F109,氏名データ!$2:$7000,8,0)),\"\",VLOOKUP($F109,氏名データ!$2:$7000,8,0))","v":0},{"$f":"IF(ISERROR(VLOOKUP($F109,氏名データ!$2:$7000,9,0)),\"\",VLOOKUP($F109,氏名データ!$2:$7000,9,0))","v":0},{"$f":"IF(ISERROR(VLOOKUP($F109,氏名データ!$2:$7000,10,0)),\"\",VLOOKUP($F109,氏名データ!$2:$7000,10,0))","v":0},{"$f":"IF(ISERROR(VLOOKUP($F109,氏名データ!$2:$7000,11,0)),\"\",VLOOKUP($F109,氏名データ!$2:$7000,11,0))","v":0},{"$f":"IF(ISERROR(VLOOKUP($F109,氏名データ!$2:$7000,14,0)),\"\",VLOOKUP($F109,氏名データ!$2:$7000,14,0))","v":0},{"$f":"IF(ISERROR(VLOOKUP($F109,氏名データ!$2:$7000,12,0)),\"\",VLOOKUP($F109,氏名データ!$2:$7000,12,0))","v":""},null,null,null,null,null,null,null,null,null,null,null,null,null,null,null,null,null,null,null,null,{"$f":"IF(F109=\"\",\"\",学校情報!$D$2)","v":""}]
["","","","",106,null,null,{"$f":"IF(ISERROR(VLOOKUP($F110,氏名データ!$2:$7000,4,0)),\"\",VLOOKUP($F110,氏名データ!$2:$7000,4,0))","v":0},{"$f":"IF(ISERROR(VLOOKUP($F110,氏名データ!$2:$7000,5,0)),\"\",VLOOKUP($F110,氏名データ!$2:$7000,5,0))","v":0},{"$f":"IF(ISERROR(VLOOKUP($F110,氏名データ!$2:$7000,6,0)),\"\",VLOOKUP($F110,氏名データ!$2:$7000,6,0))","v":0},{"$f":"IF(ISERROR(VLOOKUP($F110,氏名データ!$2:$7000,7,0)),\"\",VLOOKUP($F110,氏名データ!$2:$7000,7,0))","v":0},{"$f":"IF(ISERROR(VLOOKUP($F110,氏名データ!$2:$7000,8,0)),\"\",VLOOKUP($F110,氏名データ!$2:$7000,8,0))","v":0},{"$f":"IF(ISERROR(VLOOKUP($F110,氏名データ!$2:$7000,9,0)),\"\",VLOOKUP($F110,氏名データ!$2:$7000,9,0))","v":0},{"$f":"IF(ISERROR(VLOOKUP($F110,氏名データ!$2:$7000,10,0)),\"\",VLOOKUP($F110,氏名データ!$2:$7000,10,0))","v":0},{"$f":"IF(ISERROR(VLOOKUP($F110,氏名データ!$2:$7000,11,0)),\"\",VLOOKUP($F110,氏名データ!$2:$7000,11,0))","v":0},{"$f":"IF(ISERROR(VLOOKUP($F110,氏名データ!$2:$7000,14,0)),\"\",VLOOKUP($F110,氏名データ!$2:$7000,14,0))","v":0},{"$f":"IF(ISERROR(VLOOKUP($F110,氏名データ!$2:$7000,12,0)),\"\",VLOOKUP($F110,氏名データ!$2:$7000,12,0))","v":""},null,null,null,null,null,null,null,null,null,null,null,null,null,null,null,null,null,null,null,null,{"$f":"IF(F110=\"\",\"\",学校情報!$D$2)","v":""}]
["","","","",107,null,null,{"$f":"IF(ISERROR(VLOOKUP($F111,氏名データ!$2:$7000,4,0)),\"\",VLOOKUP($F111,氏名データ!$2:$7000,4,0))","v":0},{"$f":"IF(ISERROR(VLOOKUP($F111,氏名データ!$2:$7000,5,0)),\"\",VLOOKUP($F111,氏名データ!$2:$7000,5,0))","v":0},{"$f":"IF(ISERROR(VLOOKUP($F111,氏名データ!$2:$7000,6,0)),\"\",VLOOKUP($F111,氏名データ!$2:$7000,6,0))","v":0},{"$f":"IF(ISERROR(VLOOKUP($F111,氏名データ!$2:$7000,7,0)),\"\",VLOOKUP($F111,氏名データ!$2:$7000,7,0))","v":0},{"$f":"IF(ISERROR(VLOOKUP($F111,氏名データ!$2:$7000,8,0)),\"\",VLOOKUP($F111,氏名データ!$2:$7000,8,0))","v":0},{"$f":"IF(ISERROR(VLOOKUP($F111,氏名データ!$2:$7000,9,0)),\"\",VLOOKUP($F111,氏名データ!$2:$7000,9,0))","v":0},{"$f":"IF(ISERROR(VLOOKUP($F111,氏名データ!$2:$7000,10,0)),\"\",VLOOKUP($F111,氏名データ!$2:$7000,10,0))","v":0},{"$f":"IF(ISERROR(VLOOKUP($F111,氏名データ!$2:$7000,11,0)),\"\",VLOOKUP($F111,氏名データ!$2:$7000,11,0))","v":0},{"$f":"IF(ISERROR(VLOOKUP($F111,氏名データ!$2:$7000,14,0)),\"\",VLOOKUP($F111,氏名データ!$2:$7000,14,0))","v":0},{"$f":"IF(ISERROR(VLOOKUP($F111,氏名データ!$2:$7000,12,0)),\"\",VLOOKUP($F111,氏名データ!$2:$7000,12,0))","v":""},null,null,null,null,null,null,null,null,null,null,null,null,null,null,null,null,null,null,null,null,{"$f":"IF(F111=\"\",\"\",学校情報!$D$2)","v":""}]
["","","","",108,null,null,{"$f":"IF(ISERROR(VLOOKUP($F112,氏名データ!$2:$7000,4,0)),\"\",VLOOKUP($F112,氏名データ!$2:$7000,4,0))","v":0},{"$f":"IF(ISERROR(VLOOKUP($F112,氏名データ!$2:$7000,5,0)),\"\",VLOOKUP($F112,氏名データ!$2:$7000,5,0))","v":0},{"$f":"IF(ISERROR(VLOOKUP($F112,氏名データ!$2:$7000,6,0)),\"\",VLOOKUP($F112,氏名データ!$2:$7000,6,0))","v":0},{"$f":"IF(ISERROR(VLOOKUP($F112,氏名データ!$2:$7000,7,0)),\"\",VLOOKUP($F112,氏名データ!$2:$7000,7,0))","v":0},{"$f":"IF(ISERROR(VLOOKUP($F112,氏名データ!$2:$7000,8,0)),\"\",VLOOKUP($F112,氏名データ!$2:$7000,8,0))","v":0},{"$f":"IF(ISERROR(VLOOKUP($F112,氏名データ!$2:$7000,9,0)),\"\",VLOOKUP($F112,氏名データ!$2:$7000,9,0))","v":0},{"$f":"IF(ISERROR(VLOOKUP($F112,氏名データ!$2:$7000,10,0)),\"\",VLOOKUP($F112,氏名データ!$2:$7000,10,0))","v":0},{"$f":"IF(ISERROR(VLOOKUP($F112,氏名データ!$2:$7000,11,0)),\"\",VLOOKUP($F112,氏名データ!$2:$7000,11,0))","v":0},{"$f":"IF(ISERROR(VLOOKUP($F112,氏名データ!$2:$7000,14,0)),\"\",VLOOKUP($F112,氏名データ!$2:$7000,14,0))","v":0},{"$f":"IF(ISERROR(VLOOKUP($F112,氏名データ!$2:$7000,12,0)),\"\",VLOOKUP($F112,氏名データ!$2:$7000,12,0))","v":""},null,null,null,null,null,null,null,null,null,null,null,null,null,null,null,null,null,null,null,null,{"$f":"IF(F112=\"\",\"\",学校情報!$D$2)","v":""}]
["","","","",109,null,null,{"$f":"IF(ISERROR(VLOOKUP($F113,氏名データ!$2:$7000,4,0)),\"\",VLOOKUP($F113,氏名データ!$2:$7000,4,0))","v":0},{"$f":"IF(ISERROR(VLOOKUP($F113,氏名データ!$2:$7000,5,0)),\"\",VLOOKUP($F113,氏名データ!$2:$7000,5,0))","v":0},{"$f":"IF(ISERROR(VLOOKUP($F113,氏名データ!$2:$7000,6,0)),\"\",VLOOKUP($F113,氏名データ!$2:$7000,6,0))","v":0},{"$f":"IF(ISERROR(VLOOKUP($F113,氏名データ!$2:$7000,7,0)),\"\",VLOOKUP($F113,氏名データ!$2:$7000,7,0))","v":0},{"$f":"IF(ISERROR(VLOOKUP($F113,氏名データ!$2:$7000,8,0)),\"\",VLOOKUP($F113,氏名データ!$2:$7000,8,0))","v":0},{"$f":"IF(ISERROR(VLOOKUP($F113,氏名データ!$2:$7000,9,0)),\"\",VLOOKUP($F113,氏名データ!$2:$7000,9,0))","v":0},{"$f":"IF(ISERROR(VLOOKUP($F113,氏名データ!$2:$7000,10,0)),\"\",VLOOKUP($F113,氏名データ!$2:$7000,10,0))","v":0},{"$f":"IF(ISERROR(VLOOKUP($F113,氏名データ!$2:$7000,11,0)),\"\",VLOOKUP($F113,氏名データ!$2:$7000,11,0))","v":0},{"$f":"IF(ISERROR(VLOOKUP($F113,氏名データ!$2:$7000,14,0)),\"\",VLOOKUP($F113,氏名データ!$2:$7000,14,0))","v":0},{"$f":"IF(ISERROR(VLOOKUP($F113,氏名データ!$2:$7000,12,0)),\"\",VLOOKUP($F113,氏名データ!$2:$7000,12,0))","v":""},null,null,null,null,null,null,null,null,null,null,null,null,null,null,null,null,null,null,null,null,{"$f":"IF(F113=\"\",\"\",学校情報!$D$2)","v":""}]
["","","","",110,null,null,{"$f":"IF(ISERROR(VLOOKUP($F114,氏名データ!$2:$7000,4,0)),\"\",VLOOKUP($F114,氏名データ!$2:$7000,4,0))","v":0},{"$f":"IF(ISERROR(VLOOKUP($F114,氏名データ!$2:$7000,5,0)),\"\",VLOOKUP($F114,氏名データ!$2:$7000,5,0))","v":0},{"$f":"IF(ISERROR(VLOOKUP($F114,氏名データ!$2:$7000,6,0)),\"\",VLOOKUP($F114,氏名データ!$2:$7000,6,0))","v":0},{"$f":"IF(ISERROR(VLOOKUP($F114,氏名データ!$2:$7000,7,0)),\"\",VLOOKUP($F114,氏名データ!$2:$7000,7,0))","v":0},{"$f":"IF(ISERROR(VLOOKUP($F114,氏名データ!$2:$7000,8,0)),\"\",VLOOKUP($F114,氏名データ!$2:$7000,8,0))","v":0},{"$f":"IF(ISERROR(VLOOKUP($F114,氏名データ!$2:$7000,9,0)),\"\",VLOOKUP($F114,氏名データ!$2:$7000,9,0))","v":0},{"$f":"IF(ISERROR(VLOOKUP($F114,氏名データ!$2:$7000,10,0)),\"\",VLOOKUP($F114,氏名データ!$2:$7000,10,0))","v":0},{"$f":"IF(ISERROR(VLOOKUP($F114,氏名データ!$2:$7000,11,0)),\"\",VLOOKUP($F114,氏名データ!$2:$7000,11,0))","v":0},{"$f":"IF(ISERROR(VLOOKUP($F114,氏名データ!$2:$7000,14,0)),\"\",VLOOKUP($F114,氏名データ!$2:$7000,14,0))","v":0},{"$f":"IF(ISERROR(VLOOKUP($F114,氏名データ!$2:$7000,12,0)),\"\",VLOOKUP($F114,氏名データ!$2:$7000,12,0))","v":""},null,null,null,null,null,null,null,null,null,null,null,null,null,null,null,null,null,null,null,null,{"$f":"IF(F114=\"\",\"\",学校情報!$D$2)","v":""}]
["","","","",111,null,null,{"$f":"IF(ISERROR(VLOOKUP($F115,氏名データ!$2:$7000,4,0)),\"\",VLOOKUP($F115,氏名データ!$2:$7000,4,0))","v":0},{"$f":"IF(ISERROR(VLOOKUP($F115,氏名データ!$2:$7000,5,0)),\"\",VLOOKUP($F115,氏名データ!$2:$7000,5,0))","v":0},{"$f":"IF(ISERROR(VLOOKUP($F115,氏名データ!$2:$7000,6,0)),\"\",VLOOKUP($F115,氏名データ!$2:$7000,6,0))","v":0},{"$f":"IF(ISERROR(VLOOKUP($F115,氏名データ!$2:$7000,7,0)),\"\",VLOOKUP($F115,氏名データ!$2:$7000,7,0))","v":0},{"$f":"IF(ISERROR(VLOOKUP($F115,氏名データ!$2:$7000,8,0)),\"\",VLOOKUP($F115,氏名データ!$2:$7000,8,0))","v":0},{"$f":"IF(ISERROR(VLOOKUP($F115,氏名データ!$2:$7000,9,0)),\"\",VLOOKUP($F115,氏名データ!$2:$7000,9,0))","v":0},{"$f":"IF(ISERROR(VLOOKUP($F115,氏名データ!$2:$7000,10,0)),\"\",VLOOKUP($F115,氏名データ!$2:$7000,10,0))","v":0},{"$f":"IF(ISERROR(VLOOKUP($F115,氏名データ!$2:$7000,11,0)),\"\",VLOOKUP($F115,氏名データ!$2:$7000,11,0))","v":0},{"$f":"IF(ISERROR(VLOOKUP($F115,氏名データ!$2:$7000,14,0)),\"\",VLOOKUP($F115,氏名データ!$2:$7000,14,0))","v":0},{"$f":"IF(ISERROR(VLOOKUP($F115,氏名データ!$2:$7000,12,0)),\"\",VLOOKUP($F115,氏名データ!$2:$7000,12,0))","v":""},null,null,null,null,null,null,null,null,null,null,null,null,null,null,null,null,null,null,null,null,{"$f":"IF(F115=\"\",\"\",学校情報!$D$2)","v":""}]
["","","","",112,null,null,{"$f":"IF(ISERROR(VLOOKUP($F116,氏名データ!$2:$7000,4,0)),\"\",VLOOKUP($F116,氏名データ!$2:$7000,4,0))","v":0},{"$f":"IF(ISERROR(VLOOKUP($F116,氏名データ!$2:$7000,5,0)),\"\",VLOOKUP($F116,氏名データ!$2:$7000,5,0))","v":0},{"$f":"IF(ISERROR(VLOOKUP($F116,氏名データ!$2:$7000,6,0)),\"\",VLOOKUP($F116,氏名データ!$2:$7000,6,0))","v":0},{"$f":"IF(ISERROR(VLOOKUP($F116,氏名データ!$2:$7000,7,0)),\"\",VLOOKUP($F116,氏名データ!$2:$7000,7,0))","v":0},{"$f":"IF(ISERROR(VLOOKUP($F116,氏名データ!$2:$7000,8,0)),\"\",VLOOKUP($F116,氏名データ!$2:$7000,8,0))","v":0},{"$f":"IF(ISERROR(VLOOKUP($F116,氏名データ!$2:$7000,9,0)),\"\",VLOOKUP($F116,氏名データ!$2:$7000,9,0))","v":0},{"$f":"IF(ISERROR(VLOOKUP($F116,氏名データ!$2:$7000,10,0)),\"\",VLOOKUP($F116,氏名データ!$2:$7000,10,0))","v":0},{"$f":"IF(ISERROR(VLOOKUP($F116,氏名データ!$2:$7000,11,0)),\"\",VLOOKUP($F116,氏名データ!$2:$7000,11,0))","v":0},{"$f":"IF(ISERROR(VLOOKUP($F116,氏名データ!$2:$7000,14,0)),\"\",VLOOKUP($F116,氏名データ!$2:$7000,14,0))","v":0},{"$f":"IF(ISERROR(VLOOKUP($F116,氏名データ!$2:$7000,12,0)),\"\",VLOOKUP($F116,氏名データ!$2:$7000,12,0))","v":""},null,null,null,null,null,null,null,null,null,null,null,null,null,null,null,null,null,null,null,null,{"$f":"IF(F116=\"\",\"\",学校情報!$D$2)","v":""}]
["","","","",113,null,null,{"$f":"IF(ISERROR(VLOOKUP($F117,氏名データ!$2:$7000,4,0)),\"\",VLOOKUP($F117,氏名データ!$2:$7000,4,0))","v":0},{"$f":"IF(ISERROR(VLOOKUP($F117,氏名データ!$2:$7000,5,0)),\"\",VLOOKUP($F117,氏名データ!$2:$7000,5,0))","v":0},{"$f":"IF(ISERROR(VLOOKUP($F117,氏名データ!$2:$7000,6,0)),\"\",VLOOKUP($F117,氏名データ!$2:$7000,6,0))","v":0},{"$f":"IF(ISERROR(VLOOKUP($F117,氏名データ!$2:$7000,7,0)),\"\",VLOOKUP($F117,氏名データ!$2:$7000,7,0))","v":0},{"$f":"IF(ISERROR(VLOOKUP($F117,氏名データ!$2:$7000,8,0)),\"\",VLOOKUP($F117,氏名データ!$2:$7000,8,0))","v":0},{"$f":"IF(ISERROR(VLOOKUP($F117,氏名データ!$2:$7000,9,0)),\"\",VLOOKUP($F117,氏名データ!$2:$7000,9,0))","v":0},{"$f":"IF(ISERROR(VLOOKUP($F117,氏名データ!$2:$7000,10,0)),\"\",VLOOKUP($F117,氏名データ!$2:$7000,10,0))","v":0},{"$f":"IF(ISERROR(VLOOKUP($F117,氏名データ!$2:$7000,11,0)),\"\",VLOOKUP($F117,氏名データ!$2:$7000,11,0))","v":0},{"$f":"IF(ISERROR(VLOOKUP($F117,氏名データ!$2:$7000,14,0)),\"\",VLOOKUP($F117,氏名データ!$2:$7000,14,0))","v":0},{"$f":"IF(ISERROR(VLOOKUP($F117,氏名データ!$2:$7000,12,0)),\"\",VLOOKUP($F117,氏名データ!$2:$7000,12,0))","v":""},null,null,null,null,null,null,null,null,null,null,null,null,null,null,null,null,null,null,null,null,{"$f":"IF(F117=\"\",\"\",学校情報!$D$2)","v":""}]
["","","","",114,null,null,{"$f":"IF(ISERROR(VLOOKUP($F118,氏名データ!$2:$7000,4,0)),\"\",VLOOKUP($F118,氏名データ!$2:$7000,4,0))","v":0},{"$f":"IF(ISERROR(VLOOKUP($F118,氏名データ!$2:$7000,5,0)),\"\",VLOOKUP($F118,氏名データ!$2:$7000,5,0))","v":0},{"$f":"IF(ISERROR(VLOOKUP($F118,氏名データ!$2:$7000,6,0)),\"\",VLOOKUP($F118,氏名データ!$2:$7000,6,0))","v":0},{"$f":"IF(ISERROR(VLOOKUP($F118,氏名データ!$2:$7000,7,0)),\"\",VLOOKUP($F118,氏名データ!$2:$7000,7,0))","v":0},{"$f":"IF(ISERROR(VLOOKUP($F118,氏名データ!$2:$7000,8,0)),\"\",VLOOKUP($F118,氏名データ!$2:$7000,8,0))","v":0},{"$f":"IF(ISERROR(VLOOKUP($F118,氏名データ!$2:$7000,9,0)),\"\",VLOOKUP($F118,氏名データ!$2:$7000,9,0))","v":0},{"$f":"IF(ISERROR(VLOOKUP($F118,氏名データ!$2:$7000,10,0)),\"\",VLOOKUP($F118,氏名データ!$2:$7000,10,0))","v":0},{"$f":"IF(ISERROR(VLOOKUP($F118,氏名データ!$2:$7000,11,0)),\"\",VLOOKUP($F118,氏名データ!$2:$7000,11,0))","v":0},{"$f":"IF(ISERROR(VLOOKUP($F118,氏名データ!$2:$7000,14,0)),\"\",VLOOKUP($F118,氏名データ!$2:$7000,14,0))","v":0},{"$f":"IF(ISERROR(VLOOKUP($F118,氏名データ!$2:$7000,12,0)),\"\",VLOOKUP($F118,氏名データ!$2:$7000,12,0))","v":""},null,null,null,null,null,null,null,null,null,null,null,null,null,null,null,null,null,null,null,null,{"$f":"IF(F118=\"\",\"\",学校情報!$D$2)","v":""}]
["","","","",115,null,null,{"$f":"IF(ISERROR(VLOOKUP($F119,氏名データ!$2:$7000,4,0)),\"\",VLOOKUP($F119,氏名データ!$2:$7000,4,0))","v":0},{"$f":"IF(ISERROR(VLOOKUP($F119,氏名データ!$2:$7000,5,0)),\"\",VLOOKUP($F119,氏名データ!$2:$7000,5,0))","v":0},{"$f":"IF(ISERROR(VLOOKUP($F119,氏名データ!$2:$7000,6,0)),\"\",VLOOKUP($F119,氏名データ!$2:$7000,6,0))","v":0},{"$f":"IF(ISERROR(VLOOKUP($F119,氏名データ!$2:$7000,7,0)),\"\",VLOOKUP($F119,氏名データ!$2:$7000,7,0))","v":0},{"$f":"IF(ISERROR(VLOOKUP($F119,氏名データ!$2:$7000,8,0)),\"\",VLOOKUP($F119,氏名データ!$2:$7000,8,0))","v":0},{"$f":"IF(ISERROR(VLOOKUP($F119,氏名データ!$2:$7000,9,0)),\"\",VLOOKUP($F119,氏名データ!$2:$7000,9,0))","v":0},{"$f":"IF(ISERROR(VLOOKUP($F119,氏名データ!$2:$7000,10,0)),\"\",VLOOKUP($F119,氏名データ!$2:$7000,10,0))","v":0},{"$f":"IF(ISERROR(VLOOKUP($F119,氏名データ!$2:$7000,11,0)),\"\",VLOOKUP($F119,氏名データ!$2:$7000,11,0))","v":0},{"$f":"IF(ISERROR(VLOOKUP($F119,氏名データ!$2:$7000,14,0)),\"\",VLOOKUP($F119,氏名データ!$2:$7000,14,0))","v":0},{"$f":"IF(ISERROR(VLOOKUP($F119,氏名データ!$2:$7000,12,0)),\"\",VLOOKUP($F119,氏名データ!$2:$7000,12,0))","v":""},null,null,null,null,null,null,null,null,null,null,null,null,null,null,null,null,null,null,null,null,{"$f":"IF(F119=\"\",\"\",学校情報!$D$2)","v":""}]
["","","","",116,null,null,{"$f":"IF(ISERROR(VLOOKUP($F120,氏名データ!$2:$7000,4,0)),\"\",VLOOKUP($F120,氏名データ!$2:$7000,4,0))","v":0},{"$f":"IF(ISERROR(VLOOKUP($F120,氏名データ!$2:$7000,5,0)),\"\",VLOOKUP($F120,氏名データ!$2:$7000,5,0))","v":0},{"$f":"IF(ISERROR(VLOOKUP($F120,氏名データ!$2:$7000,6,0)),\"\",VLOOKUP($F120,氏名データ!$2:$7000,6,0))","v":0},{"$f":"IF(ISERROR(VLOOKUP($F120,氏名データ!$2:$7000,7,0)),\"\",VLOOKUP($F120,氏名データ!$2:$7000,7,0))","v":0},{"$f":"IF(ISERROR(VLOOKUP($F120,氏名データ!$2:$7000,8,0)),\"\",VLOOKUP($F120,氏名データ!$2:$7000,8,0))","v":0},{"$f":"IF(ISERROR(VLOOKUP($F120,氏名データ!$2:$7000,9,0)),\"\",VLOOKUP($F120,氏名データ!$2:$7000,9,0))","v":0},{"$f":"IF(ISERROR(VLOOKUP($F120,氏名データ!$2:$7000,10,0)),\"\",VLOOKUP($F120,氏名データ!$2:$7000,10,0))","v":0},{"$f":"IF(ISERROR(VLOOKUP($F120,氏名データ!$2:$7000,11,0)),\"\",VLOOKUP($F120,氏名データ!$2:$7000,11,0))","v":0},{"$f":"IF(ISERROR(VLOOKUP($F120,氏名データ!$2:$7000,14,0)),\"\",VLOOKUP($F120,氏名データ!$2:$7000,14,0))","v":0},{"$f":"IF(ISERROR(VLOOKUP($F120,氏名データ!$2:$7000,12,0)),\"\",VLOOKUP($F120,氏名データ!$2:$7000,12,0))","v":""},null,null,null,null,null,null,null,null,null,null,null,null,null,null,null,null,null,null,null,null,{"$f":"IF(F120=\"\",\"\",学校情報!$D$2)","v":""}]
["","","","",117,null,null,{"$f":"IF(ISERROR(VLOOKUP($F121,氏名データ!$2:$7000,4,0)),\"\",VLOOKUP($F121,氏名データ!$2:$7000,4,0))","v":0},{"$f":"IF(ISERROR(VLOOKUP($F121,氏名データ!$2:$7000,5,0)),\"\",VLOOKUP($F121,氏名データ!$2:$7000,5,0))","v":0},{"$f":"IF(ISERROR(VLOOKUP($F121,氏名データ!$2:$7000,6,0)),\"\",VLOOKUP($F121,氏名データ!$2:$7000,6,0))","v":0},{"$f":"IF(ISERROR(VLOOKUP($F121,氏名データ!$2:$7000,7,0)),\"\",VLOOKUP($F121,氏名データ!$2:$7000,7,0))","v":0},{"$f":"IF(ISERROR(VLOOKUP($F121,氏名データ!$2:$7000,8,0)),\"\",VLOOKUP($F121,氏名データ!$2:$7000,8,0))","v":0},{"$f":"IF(ISERROR(VLOOKUP($F121,氏名データ!$2:$7000,9,0)),\"\",VLOOKUP($F121,氏名データ!$2:$7000,9,0))","v":0},{"$f":"IF(ISERROR(VLOOKUP($F121,氏名データ!$2:$7000,10,0)),\"\",VLOOKUP($F121,氏名データ!$2:$7000,10,0))","v":0},{"$f":"IF(ISERROR(VLOOKUP($F121,氏名データ!$2:$7000,11,0)),\"\",VLOOKUP($F121,氏名データ!$2:$7000,11,0))","v":0},{"$f":"IF(ISERROR(VLOOKUP($F121,氏名データ!$2:$7000,14,0)),\"\",VLOOKUP($F121,氏名データ!$2:$7000,14,0))","v":0},{"$f":"IF(ISERROR(VLOOKUP($F121,氏名データ!$2:$7000,12,0)),\"\",VLOOKUP($F121,氏名データ!$2:$7000,12,0))","v":""},null,null,null,null,null,null,null,null,null,null,null,null,null,null,null,null,null,null,null,null,{"$f":"IF(F121=\"\",\"\",学校情報!$D$2)","v":""}]
["","","","",118,null,null,{"$f":"IF(ISERROR(VLOOKUP($F122,氏名データ!$2:$7000,4,0)),\"\",VLOOKUP($F122,氏名データ!$2:$7000,4,0))","v":0},{"$f":"IF(ISERROR(VLOOKUP($F122,氏名データ!$2:$7000,5,0)),\"\",VLOOKUP($F122,氏名データ!$2:$7000,5,0))","v":0},{"$f":"IF(ISERROR(VLOOKUP($F122,氏名データ!$2:$7000,6,0)),\"\",VLOOKUP($F122,氏名データ!$2:$7000,6,0))","v":0},{"$f":"IF(ISERROR(VLOOKUP($F122,氏名データ!$2:$7000,7,0)),\"\",VLOOKUP($F122,氏名データ!$2:$7000,7,0))","v":0},{"$f":"IF(ISERROR(VLOOKUP($F122,氏名データ!$2:$7000,8,0)),\"\",VLOOKUP($F122,氏名データ!$2:$7000,8,0))","v":0},{"$f":"IF(ISERROR(VLOOKUP($F122,氏名データ!$2:$7000,9,0)),\"\",VLOOKUP($F122,氏名データ!$2:$7000,9,0))","v":0},{"$f":"IF(ISERROR(VLOOKUP($F122,氏名データ!$2:$7000,10,0)),\"\",VLOOKUP($F122,氏名データ!$2:$7000,10,0))","v":0},{"$f":"IF(ISERROR(VLOOKUP($F122,氏名データ!$2:$7000,11,0)),\"\",VLOOKUP($F122,氏名データ!$2:$7000,11,0))","v":0},{"$f":"IF(ISERROR(VLOOKUP($F122,氏名データ!$2:$7000,14,0)),\"\",VLOOKUP($F122,氏名データ!$2:$7000,14,0))","v":0},{"$f":"IF(ISERROR(VLOOKUP($F122,氏名データ!$2:$7000,12,0)),\"\",VLOOKUP($F122,氏名データ!$2:$7000,12,0))","v":""},null,null,null,null,null,null,null,null,null,null,null,null,null,null,null,null,null,null,null,null,{"$f":"IF(F122=\"\",\"\",学校情報!$D$2)","v":""}]
["","","","",119,null,null,{"$f":"IF(ISERROR(VLOOKUP($F123,氏名データ!$2:$7000,4,0)),\"\",VLOOKUP($F123,氏名データ!$2:$7000,4,0))","v":0},{"$f":"IF(ISERROR(VLOOKUP($F123,氏名データ!$2:$7000,5,0)),\"\",VLOOKUP($F123,氏名データ!$2:$7000,5,0))","v":0},{"$f":"IF(ISERROR(VLOOKUP($F123,氏名データ!$2:$7000,6,0)),\"\",VLOOKUP($F123,氏名データ!$2:$7000,6,0))","v":0},{"$f":"IF(ISERROR(VLOOKUP($F123,氏名データ!$2:$7000,7,0)),\"\",VLOOKUP($F123,氏名データ!$2:$7000,7,0))","v":0},{"$f":"IF(ISERROR(VLOOKUP($F123,氏名データ!$2:$7000,8,0)),\"\",VLOOKUP($F123,氏名データ!$2:$7000,8,0))","v":0},{"$f":"IF(ISERROR(VLOOKUP($F123,氏名データ!$2:$7000,9,0)),\"\",VLOOKUP($F123,氏名データ!$2:$7000,9,0))","v":0},{"$f":"IF(ISERROR(VLOOKUP($F123,氏名データ!$2:$7000,10,0)),\"\",VLOOKUP($F123,氏名データ!$2:$7000,10,0))","v":0},{"$f":"IF(ISERROR(VLOOKUP($F123,氏名データ!$2:$7000,11,0)),\"\",VLOOKUP($F123,氏名データ!$2:$7000,11,0))","v":0},{"$f":"IF(ISERROR(VLOOKUP($F123,氏名データ!$2:$7000,14,0)),\"\",VLOOKUP($F123,氏名データ!$2:$7000,14,0))","v":0},{"$f":"IF(ISERROR(VLOOKUP($F123,氏名データ!$2:$7000,12,0)),\"\",VLOOKUP($F123,氏名データ!$2:$7000,12,0))","v":""},null,null,null,null,null,null,null,null,null,null,null,null,null,null,null,null,null,null,null,null,{"$f":"IF(F123=\"\",\"\",学校情報!$D$2)","v":""}]
["","",{"$f":"IF(ISERROR(RANK(D124,$D$5:$D$124,1)),\"\",RANK(D124,$D$5:$D$124,1))","v":""},"",120,null,null,{"$f":"IF(ISERROR(VLOOKUP($F124,氏名データ!$2:$7000,4,0)),\"\",VLOOKUP($F124,氏名データ!$2:$7000,4,0))","v":0},{"$f":"IF(ISERROR(VLOOKUP($F124,氏名データ!$2:$7000,5,0)),\"\",VLOOKUP($F124,氏名データ!$2:$7000,5,0))","v":0},{"$f":"IF(ISERROR(VLOOKUP($F124,氏名データ!$2:$7000,6,0)),\"\",VLOOKUP($F124,氏名データ!$2:$7000,6,0))","v":0},{"$f":"IF(ISERROR(VLOOKUP($F124,氏名データ!$2:$7000,7,0)),\"\",VLOOKUP($F124,氏名データ!$2:$7000,7,0))","v":0},{"$f":"IF(ISERROR(VLOOKUP($F124,氏名データ!$2:$7000,8,0)),\"\",VLOOKUP($F124,氏名データ!$2:$7000,8,0))","v":0},{"$f":"IF(ISERROR(VLOOKUP($F124,氏名データ!$2:$7000,9,0)),\"\",VLOOKUP($F124,氏名データ!$2:$7000,9,0))","v":0},{"$f":"IF(ISERROR(VLOOKUP($F124,氏名データ!$2:$7000,10,0)),\"\",VLOOKUP($F124,氏名データ!$2:$7000,10,0))","v":0},{"$f":"IF(ISERROR(VLOOKUP($F124,氏名データ!$2:$7000,11,0)),\"\",VLOOKUP($F124,氏名データ!$2:$7000,11,0))","v":0},{"$f":"IF(ISERROR(VLOOKUP($F124,氏名データ!$2:$7000,14,0)),\"\",VLOOKUP($F124,氏名データ!$2:$7000,14,0))","v":0},{"$f":"IF(ISERROR(VLOOKUP($F124,氏名データ!$2:$7000,12,0)),\"\",VLOOKUP($F124,氏名データ!$2:$7000,12,0))","v":""},null,null,null,null,null,null,null,null,null,null,null,null,null,null,null,null,null,null,null,null,{"$f":"IF(F124=\"\",\"\",学校情報!$D$2)","v":""}]
[]
[null,null,null,null,null,null,null,null,null,null,null,null,null,null,null,null,"出　場　人　数　　確　認　表　"]
[null,null,null,null,"男子４×１００ｍ",null,null,{"$f":"MAX('大会申込用紙 男'!$L$11:$L$30,'大会申込用紙 男'!$L$36:$L$75)","v":0},"ﾁｰﾑ",null,null,null,null,null,null,null,"種目","人数制限","人数",null,"コメント",null,null,null,null,"種目","人数制限",null,"人数",null,"コメント"]
[null,null,null,null,"男子４×４００ｍ",null,null,{"$f":"MAX('大会申込用紙 男'!$M$36:$M$75,'大会申込用紙 男'!$M$11:$M$30)","v":0},"ﾁｰﾑ",null,null,null,null,null,null,{"$f":"IF(R128=\"あり\",IF(S128>3,1,\"\"),\"\")","v":""},{"$f":"AY5","v":0},null,{"$f":"COUNTIF($V$5:$V$124,Q128)+COUNTIF($Z$5:$Z$124,Q128)+COUNTIF($R$5:$R$124,Q128)","v":0},null,{"$f":"IF(R128=\"あり\",IF(S128>3,\"人数を３人以下にしてください\",\"\"),\"\")","v":""},null,null,null,null,{"$f":"BB5","v":0},null,null,{"$f":"COUNTIF($V$5:$V$124,Z128)+COUNTIF($Z$5:$Z$124,Z128)+COUNTIF($R$5:$R$124,Z128)","v":0},null,{"$f":"IF(AA128=\"あり\",IF(AC128>3,\"人数を３人以下にしてください\",\"\"),\"\")","v":""},null,null,null,null,null,null,{"$f":"IF(AA128=\"あり\",IF(AC128>3,1,\"\"))","v":false}]
[null,null,null,null,"女子４×１００ｍ",null,null,{"$f":"MAX('大会申込用紙 女'!$L$11:$L$30,'大会申込用紙 女'!$L$36:$L$75)","v":0},"ﾁｰﾑ",null,null,null,null,null,null,{"$f":"IF(R129=\"あり\",IF(S129>3,1,\"\"),\"\")","v":""},"男子100m",null,{"$f":"COUNTIF($V$5:$V$124,Q129)+COUNTIF($Z$5:$Z$124,Q129)+COUNTIF($R$5:$R$124,Q129)","v":0},null,"",null,null,null,null,{"$f":"BB6","v":"女子100m"},null,null,{"$f":"COUNTIF($V$5:$V$124,Z129)+COUNTIF($Z$5:$Z$124,Z129)+COUNTIF($R$5:$R$124,Z129)","v":0},null,{"$f":"IF(AA129=\"あり\",IF(AC129>3,\"人数を３人以下にしてください\",\"\"),\"\")","v":""},null,null,null,null,null,null,{"$f":"IF(AA129=\"あり\",IF(AC129>3,1,\"\"))","v":false}]
[null,null,null,null,"女子４×４００ｍ",null,null,{"$f":"MAX('大会申込用紙 女'!$M$36:$M$75,'大会申込用紙 女'!$M$11:$M$30)","v":0},"ﾁｰﾑ",null,null,null,null,null,null,"","男子200m",null,0,null,"",null,null,null,null,"女子200m",null,null,{"$f":"COUNTIF($V$5:$V$124,Z130)+COUNTIF($Z$5:$Z$124,Z130)+COUNTIF($R$5:$R$124,Z130)","v":0},null,"",null,null,null,null,null,null,false]
[null,null,null,null,null,null,null,null,null,null,null,null,null,null,null,"","男子400m",null,0,null,"",null,null,null,null,"女子400m",null,null,0,null,"",null,null,null,null,null,null,false]
[null,null,null,null,null,null,null,null,null,null,null,null,null,null,null,"","男子800m",null,0,null,"",null,null,null,null,"女子800m",null,null,0,null,"",null,null,null,null,null,null,false]
[null,null,null,null,null,null,null,null,null,null,null,null,null,null,null,"","男子1500m",null,0,null,"",null,null,null,null,"女子1500m",null,null,0,null,"",null,null,null,null,null,null,false]
[null,null,null,null,null,null,null,null,null,null,null,null,null,null,null,"","男子5000m",null,0,null,"",null,null,null,null,"女子3000m",null,null,0,null,"",null,null,null,null,null,null,false]
[null,null,null,null,null,null,null,null,null,null,null,null,null,null,null,"","男子110mH",null,0,null,"",null,null,null,null,"女子100mH",null,null,{"$f":"COUNTIF($V$5:$V$124,Z135)+COUNTIF($Z$5:$Z$124,Z135)+COUNTIF($R$5:$R$124,Z135)","v":0},null,"",null,null,null,null,null,null,false]
[null,null,null,null,null,null,null,null,null,null,null,null,null,null,null,"","男子400mH",null,0,null,"",null,null,null,null,"女子400mH",null,null,0,null,"",null,null,null,null,null,null,false]
[null,null,null,null,null,null,null,null,null,null,null,null,null,null,null,"","男子3000mSC",null,0,null,"",null,null,null,null,"女子300m",null,null,0,null,"",null,null,null,null,null,null,false]
[null,null,null,null,null,null,null,null,null,null,null,null,null,null,null,"","男子300m",null,0,null,"",null,null,null,null,"女子300mH",null,null,0,null,"",null,null,null,null,null,null,false]
[null,null,null,null,null,null,null,null,null,null,null,null,null,null,null,"","男子300mH",null,0,null,"",null,null,null,null,"女子走高跳",null,null,0,null,"",null,null,null,null,null,null,false]
[null,null,null,null,null,null,null,null,null,null,null,null,null,null,null,"","男子走高跳",null,0,null,"",null,null,null,null,"女子棒高跳",null,null,0,null,"",null,null,null,null,null,null,false]
[null,null,null,null,null,null,null,null,null,null,null,null,null,null,null,"","男子棒高跳",null,0,null,"",null,null,null,null,"女子走幅跳",null,null,0,null,"",null,null,null,null,null,null,false]
[null,null,null,null,null,null,null,null,null,null,null,null,null,null,null,"","男子走幅跳",null,0,null,"",null,null,null,null,"女子三段跳",null,null,0,null,"",null,null,null,null,null,null,{"$f":"IF(AA142=\"あり\",IF(AC142>3,Z142,\"\"))","v":false}]
[null,null,null,null,null,null,null,null,null,null,null,null,null,null,null,"","男子三段跳",null,0,null,{"$f":"IF(R143=\"あり\",IF(S143>3,\"人数を３人以下にしてください\",\"\"),\"\")","v":""},null,null,null,null,"女子砲丸投",null,null,0,null,"",null,null,null,null,null,null,false]
[null,null,null,null,null,null,null,null,null,null,null,null,null,null,null,"","男子砲丸投",null,0,null,"",null,null,null,null,"女子円盤投",null,null,0,null,"",null,null,null,null,null,null,false]
[null,null,null,null,null,null,null,null,null,null,null,null,null,null,null,"","男子円盤投",null,0,null,"",null,null,null,null,"女子やり投",null,null,0,null,"",null,null,null,null,null,null,false]
[null,null,null,null,null,null,null,null,null,null,null,null,null,null,null,"","男子やり投",null,0,null,"",null,null,null,null,0,null,null,0,null,"",null,null,null,null,null,null,false]
[null,null,null,null,null,null,null,null,null,null,null,null,null,null,null,"",0,null,0,null,"",null,null,null,null,0,null,null,0,null,"",null,null,null,null,null,null,false]
[null,null,null,null,null,null,null,null,null,null,null,null,null,null,null,"",0,null,0,null,"",null,null,null,null,0,null,null,0,null,"",null,null,null,null,null,null,false]
[null,null,null,null,null,null,null,null,null,null,null,null,null,null,null,"",0,null,0,null,{"$f":"IF(R149=\"あり\",IF(S149>3,\"人数を３人以下にしてください\",\"\"),\"\")","v":""},null,null,null,null,0,null,null,0,null,{"$f":"IF(AA149=\"あり\",IF(AC149>3,\"人数を３人以下にしてください\",\"\"),\"\")","v":""},null,null,null,null,null,null,false]
[null,null,null,null,null,null,null,null,null,null,null,null,null,null,null,"",0,null,0,null,{"$f":"IF(R150=\"あり\",IF(S150>3,\"人数を３人以下にしてください\",\"\"),\"\")","v":""},null,null,null,null,0,null,null,0,null,{"$f":"IF(AA150=\"あり\",IF(AC150>3,\"人数を３人以下にしてください\",\"\"),\"\")","v":""},null,null,null,null,null,null,false]
[null,null,null,null,null,null,null,null,null,null,null,null,null,null,null,{"$f":"COUNTIF(P128:P150,1)","v":0},null,null,null,null,null,null,null,null,null,null,null,null,null,null,null,null,null,null,null,null,null,{"$f":"COUNTIF(AL128:AL150,1)","v":0}]

{"sheet":"大会申込用紙 男","index":3,"n_rows":75,"n_cols":24,"rows_kept":75,"cut":false,"hidden":false,"merged":[[74,5,74,6],[65,5,65,6],[66,5,66,6],[67,5,67,6],[68,5,68,6],[69,5,69,6],[63,5,63,6],[64,5,64,6],[70,5,70,6],[71,5,71,6],[25,5,25,6],[26,5,26,6],[27,5,27,6],[28,5,28,6],[29,5,29,6],[72,5,72,6],[73,5,73,6],[10,5,10,6],[11,5,11,6],[12,5,12,6],[13,5,13,6],[14,5,14,6],[60,5,60,6],[61,5,61,6],[62,5,62,6],[16,1,16,4],[10,1,10,4],[14,1,14,4],[11,1,11,4],[20,5,20,6],[21,5,21,6],[22,5,22,6],[23,5,23,6],[24,5,24,6],[15,5,15,6],[16,5,16,6],[17,5,17,6],[18,5,18,6],[19,5,19,6],[8,13,8,17],[0,14,0,15],[2,0,4,2],[8,8,8,12],[1,0,1,3],[1,15,1,17],[8,7,9,7],[8,0,9,0],[0,1,0,8],[8,5,9,6],[8,1,9,4],[5,0,7,2],[2,9,3,10],[2,11,3,17],[5,11,6,17],[5,9,6,10],[2,3,4,8],[7,9,7,10],[7,11,7,17],[5,3,7,8],[4,15,4,17],[4,9,4,10],[4,11,4,13],[73,1,73,4],[74,1,74,4],[67,1,67,4],[68,1,68,4],[69,1,69,4],[70,1,70,4],[71,1,71,4],[72,1,72,4],[66,1,66,4],[34,10,34,11],[57,1,57,4],[58,1,58,4],[38,1,38,4],[40,5,40,6],[41,5,41,6],[42,5,42,6],[43,5,43,6],[44,5,44,6],[35,5,35,6],[36,5,36,6],[37,5,37,6],[38,5,38,6],[39,5,39,6],[50,5,50,6],[51,5,51,6],[48,1,48,4],[53,1,53,4],[45,1,45,4],[37,1,37,4],[36,1,36,4],[51,1,51,4],[40,1,40,4],[49,1,49,4],[63,1,63,4],[64,1,64,4],[54,1,54,4],[65,1,65,4],[55,1,55,4],[56,1,56,4],[59,1,59,4],[60,1,60,4],[55,5,55,6],[56,5,56,6],[57,5,57,6],[58,5,58,6],[59,5,59,6],[61,1,61,4],[62,1,62,4],[34,8,34,9],[32,0,32,4],[31,0,31,4],[35,1,35,4],[34,0,34,4],[34,6,34,7],[52,5,52,6],[53,5,53,6],[54,5,54,6],[45,5,45,6],[46,5,46,6],[47,5,47,6],[48,5,48,6],[49,5,49,6],[50,1,50,4],[52,1,52,4],[47,1,47,4],[46,1,46,4],[43,1,43,4],[44,1,44,4],[39,1,39,4],[41,1,41,4],[42,1,42,4],[33,10,33,11],[12,1,12,4],[17,1,17,4],[13,1,13,4],[15,1,15,4],[18,1,18,4],[31,8,31,9],[19,1,19,4],[20,1,20,4],[23,1,23,4],[21,1,21,4],[22,1,22,4],[28,1,28,4],[26,1,26,4],[24,1,24,4],[25,1,25,4],[32,8,32,9],[31,6,31,7],[32,6,32,7],[33,8,33,9],[33,6,33,7],[27,1,27,4],[29,1,29,4],[33,0,33,4]]}
[null,{"$f":"出場選手エントリー票!I1","v":"東京都高体連　第５・６支部　秋季競技会"},null,null,null,null,null,null,null,null,"大会申込用紙",null,null,null,"男子・女子"]
[{"$f":"IF(出場選手エントリー票!F2=\"\",\"\",出場選手エントリー票!E1&出場選手エントリー票!F1&出場選手エントリー票!H1)","v":"令和4年度"},null,null,null,null,null,null,null,null,null,null,null,null,null,null,"　№　　　　　　　　　　"]
["学校名",null,null,{"$f":"IF(出場選手エントリー票!P151=0,学校情報!D2,\"人数制限を超える申し込みがあります\")","v":""},null,null,null,null,null,"学校所在地",null,{"$f":"学校情報!K2","v":"00:00:00"}]
[]
[null,null,null,null,null,null,null,null,null,"電　話",null,{"$f":"学校情報!K3","v":0},null,null,"FAX",{"$f":"学校情報!K4","v":0}]
["学校長\n氏名印",null,null,{"$f":"IF(OR(L2>6,M2>6),\"リレーは６人以内です　　　\",学校情報!D5)","v":0},null,null,null,null,null,"顧　問\n氏名印",null,{"$f":"学校情報!K5&\"　　㊞\"","v":"　　㊞"}]
[]
[null,null,null,null,null,null,null,null,null,"連絡先",null,{"$f":"学校情報!K6","v":0}]
["番号","ナンバー",null,null,null,"出場者氏名",null,"学年","予選種目",null,null,null,null,"都大会種目"]
[null,null,null,null,null,null,null,null,"個人","個人","個人","4x100","4x400","個人","個人","個人","4x100","4x400"]
[1,{"$f":"IF('出場選手エントリー票　男'!B2=\"\",\"\",IF(MID('出場選手エントリー票　男'!B2,2,1)=\"0\",RIGHTB('出場選手エントリー票　男'!B2,3),RIGHTB('出場選手エントリー票　男'!B2,4)))","v":""},null,null,null,{"$f":"IF(B11=\"\",\"\",('出場選手エントリー票　男'!C2&\" \"&'出場選手エントリー票　男'!D2))","v":""},null,{"$f":"IF(B11=\"\",\"\",'出場選手エントリー票　男'!H2)","v":""},{"$f":"IF('出場選手エントリー票　男'!K2=\"\",\"\",'出場選手エントリー票　男'!K2)","v":""},{"$f":"IF('出場選手エントリー票　男'!L2=\"\",\"\",'出場選手エントリー票　男'!L2)","v":""},{"$f":"IF('出場選手エントリー票　男'!M2=\"\",\"\",'出場選手エントリー票　男'!M2)","v":""},{"$f":"IF('出場選手エントリー票　男'!N2=\"\",\"\",VALUE('出場選手エントリー票　男'!N2))","v":""},{"$f":"IF('出場選手エントリー票　男'!O2=\"\",\"\",'出場選手エントリー票　男'!O2)","v":""},{"$f":"IF(I11=\"\",\"\",IF(COUNTIF(I11,\"*OP*\")>0,\"\",I11))","v":""},{"$f":"IF(J11=\"\",\"\",IF(COUNTIF(J11,\"*OP*\")>0,\"\",J11))","v":""},{"$f":"IF(K11=\"\",\"\",IF(COUNTIF(K11,\"*OP*\")>0,\"\",K11))","v":""},null,null,null,{"$f":"IF(I11=\"\",0,1)","v":0},{"$f":"IF(J11=\"\",0,1)","v":0},{"$f":"IF(K11=\"\",0,1)","v":0},{"$f":"IF(ISERROR(VALUE(L11)),0,VALUE(L11))","v":0},{"$f":"IF(ISERROR(VALUE(M11)),0,VALUE(M11))","v":0}]
[2,{"$f":"IF('出場選手エントリー票　男'!B3=\"\",\"\",IF(MID('出場選手エントリー票　男'!B3,2,1)=\"0\",RIGHTB('出場選手エントリー票　男'!B3,3),RIGHTB('出場選手エントリー票　男'!B3,4)))","v":""},null,null,null,{"$f":"IF(B12=\"\",\"\",('出場選手エントリー票　男'!C3&\" \"&'出場選手エントリー票　男'!D3))","v":""},null,{"$f":"IF(B12=\"\",\"\",'出場選手エントリー票　男'!H3)","v":""},{"$f":"IF('出場選手エントリー票　男'!K3=\"\",\"\",'出場選手エントリー票　男'!K3)","v":""},{"$f":"IF('出場選手エントリー票　男'!L3=\"\",\"\",'出場選手エントリー票　男'!L3)","v":""},{"$f":"IF('出場選手エントリー票　男'!M3=\"\",\"\",'出場選手エントリー票　男'!M3)","v":""},{"$f":"IF('出場選手エントリー票　男'!N3=\"\",\"\",VALUE('出場選手エントリー票　男'!N3))","v":""},{"$f":"IF('出場選手エントリー票　男'!O3=\"\",\"\",'出場選手エントリー票　男'!O3)","v":""},{"$f":"IF(I12=\"\",\"\",IF(COUNTIF(I12,\"*OP*\")>0,\"\",I12))","v":""},"","",null,null,null,{"$f":"IF(I12=\"\",0,1)","v":0},0,0,{"$f":"IF(ISERROR(VALUE(L12)),0,VALUE(L12))","v":0},{"$f":"IF(ISERROR(VALUE(M12)),0,VALUE(M12))","v":0}]
[3,{"$f":"IF('出場選手エントリー票　男'!B4=\"\",\"\",IF(MID('出場選手エントリー票　男'!B4,2,1)=\"0\",RIGHTB('出場選手エントリー票　男'!B4,3),RIGHTB('出場選手エントリー票　男'!B4,4)))","v":""},null,null,null,{"$f":"IF(B13=\"\",\"\",('出場選手エントリー票　男'!C4&\" \"&'出場選手エントリー票　男'!D4))","v":""},null,{"$f":"IF(B13=\"\",\"\",'出場選手エントリー票　男'!H4)","v":""},{"$f":"IF('出場選手エントリー票　男'!K4=\"\",\"\",'出場選手エントリー票　男'!K4)","v":""},{"$f":"IF('出場選手エントリー票　男'!L4=\"\",\"\",'出場選手エントリー票　男'!L4)","v":""},{"$f":"IF('出場選手エントリー票　男'!M4=\"\",\"\",'出場選手エントリー票　男'!M4)","v":""},{"$f":"IF('出場選手エントリー票　男'!N4=\"\",\"\",VALUE('出場選手エントリー票　男'!N4))","v":""},{"$f":"IF('出場選手エントリー票　男'!O4=\"\",\"\",'出場選手エントリー票　男'!O4)","v":""},"","","",null,null,null,0,0,0,0,0]
[4,{"$f":"IF('出場選手エントリー票　男'!B5=\"\",\"\",IF(MID('出場選手エントリー票　男'!B5,2,1)=\"0\",RIGHTB('出場選手エントリー票　男'!B5,3),RIGHTB('出場選手エントリー票　男'!B5,4)))","v":""},null,null,null,{"$f":"IF(B14=\"\",\"\",('出場選手エントリー票　男'!C5&\" \"&'出場選手エントリー票　男'!D5))","v":""},null,{"$f":"IF(B14=\"\",\"\",'出場選手エントリー票　男'!H5)","v":""},{"$f":"IF('出場選手エントリー票　男'!K5=\"\",\"\",'出場選手エントリー票　男'!K5)","v":""},{"$f":"IF('出場選手エントリー票　男'!L5=\"\",\"\",'出場選手エントリー票　男'!L5)","v":""},{"$f":"IF('出場選手エントリー票　男'!M5=\"\",\"\",'出場選手エントリー票　男'!M5)","v":""},{"$f":"IF('出場選手エントリー票　男'!N5=\"\",\"\",VALUE('出場選手エントリー票　男'!N5))","v":""},{"$f":"IF('出場選手エントリー票　男'!O5=\"\",\"\",'出場選手エントリー票　男'!O5)","v":""},"","","",null,null,null,0,0,0,0,0]
[5,{"$f":"IF('出場選手エントリー票　男'!B6=\"\",\"\",IF(MID('出場選手エントリー票　男'!B6,2,1)=\"0\",RIGHTB('出場選手エントリー票　男'!B6,3),RIGHTB('出場選手エントリー票　男'!B6,4)))","v":""},null,null,null,{"$f":"IF(B15=\"\",\"\",('出場選手エントリー票　男'!C6&\" \"&'出場選手エントリー票　男'!D6))","v":""},null,{"$f":"IF(B15=\"\",\"\",'出場選手エントリー票　男'!H6)","v":""},{"$f":"IF('出場選手エントリー票　男'!K6=\"\",\"\",'出場選手エントリー票　男'!K6)","v":""},{"$f":"IF('出場選手エントリー票　男'!L6=\"\",\"\",'出場選手エントリー票　男'!L6)","v":""},{"$f":"IF('出場選手エントリー票　男'!M6=\"\",\"\",'出場選手エントリー票　男'!M6)","v":""},{"$f":"IF('出場選手エントリー票　男'!N6=\"\",\"\",VALUE('出場選手エントリー票　男'!N6))","v":""},{"$f":"IF('出場選手エントリー票　男'!O6=\"\",\"\",'出場選手エントリー票　男'!O6)","v":""},"","","",null,null,null,0,0,0,0,0]
[6,{"$f":"IF('出場選手エントリー票　男'!B7=\"\",\"\",IF(MID('出場選手エントリー票　男'!B7,2,1)=\"0\",RIGHTB('出場選手エントリー票　男'!B7,3),RIGHTB('出場選手エントリー票　男'!B7,4)))","v":""},null,null,null,{"$f":"IF(B16=\"\",\"\",('出場選手エントリー票　男'!C7&\" \"&'出場選手エントリー票　男'!D7))","v":""},null,{"$f":"IF(B16=\"\",\"\",'出場選手エントリー票　男'!H7)","v":""},{"$f":"IF('出場選手エントリー票　男'!K7=\"\",\"\",'出場選手エントリー票　男'!K7)","v":""},{"$f":"IF('出場選手エントリー票　男'!L7=\"\",\"\",'出場選手エントリー票　男'!L7)","v":""},{"$f":"IF('出場選手エントリー票　男'!M7=\"\",\"\",'出場選手エントリー票　男'!M7)","v":""},{"$f":"IF('出場選手エントリー票　男'!N7=\"\",\"\",VALUE('出場選手エントリー票　男'!N7))","v":""},{"$f":"IF('出場選手エントリー票　男'!O7=\"\",\"\",'出場選手エントリー票　男'!O7)","v":""},"","","",null,null,null,0,0,0,0,0]
[7,{"$f":"IF('出場選手エントリー票　男'!B8=\"\",\"\",IF(MID('出場選手エントリー票　男'!B8,2,1)=\"0\",RIGHTB('出場選手エントリー票　男'!B8,3),RIGHTB('出場選手エントリー票　男'!B8,4)))","v":""},null,null,null,{"$f":"IF(B17=\"\",\"\",('出場選手エントリー票　男'!C8&\" \"&'出場選手エントリー票　男'!D8))","v":""},null,{"$f":"IF(B17=\"\",\"\",'出場選手エントリー票　男'!H8)","v":""},{"$f":"IF('出場選手エントリー票　男'!K8=\"\",\"\",'出場選手エントリー票　男'!K8)","v":""},{"$f":"IF('出場選手エントリー票　男'!L8=\"\",\"\",'出場選手エントリー票　男'!L8)","v":""},{"$f":"IF('出場選手エントリー票　男'!M8=\"\",\"\",'出場選手エントリー票　男'!M8)","v":""},{"$f":"IF('出場選手エントリー票　男'!N8=\"\",\"\",VALUE('出場選手エントリー票　男'!N8))","v":""},{"$f":"IF('出場選手エントリー票　男'!O8=\"\",\"\",'出場選手エントリー票　男'!O8)","v":""},"","","",null,null,null,0,0,0,0,0]
[8,{"$f":"IF('出場選手エントリー票　男'!B9=\"\",\"\",IF(MID('出場選手エントリー票　男'!B9,2,1)=\"0\",RIGHTB('出場選手エントリー票　男'!B9,3),RIGHTB('出場選手エントリー票　男'!B9,4)))","v":""},null,null,null,{"$f":"IF(B18=\"\",\"\",('出場選手エントリー票　男'!C9&\" \"&'出場選手エントリー票　男'!D9))","v":""},null,{"$f":"IF(B18=\"\",\"\",'出場選手エントリー票　男'!H9)","v":""},{"$f":"IF('出場選手エントリー票　男'!K9=\"\",\"\",'出場選手エントリー票　男'!K9)","v":""},{"$f":"IF('出場選手エントリー票　男'!L9=\"\",\"\",'出場選手エントリー票　男'!L9)","v":""},{"$f":"IF('出場選手エントリー票　男'!M9=\"\",\"\",'出場選手エントリー票　男'!M9)","v":""},{"$f":"IF('出場選手エントリー票　男'!N9=\"\",\"\",VALUE('出場選手エントリー票　男'!N9))","v":""},{"$f":"IF('出場選手エントリー票　男'!O9=\"\",\"\",'出場選手エントリー票　男'!O9)","v":""},"","","",null,null,null,0,0,0,0,0]
[9,{"$f":"IF('出場選手エントリー票　男'!B10=\"\",\"\",IF(MID('出場選手エントリー票　男'!B10,2,1)=\"0\",RIGHTB('出場選手エントリー票　男'!B10,3),RIGHTB('出場選手エントリー票　男'!B10,4)))","v":""},null,null,null,{"$f":"IF(B19=\"\",\"\",('出場選手エントリー票　男'!C10&\" \"&'出場選手エントリー票　男'!D10))","v":""},null,{"$f":"IF(B19=\"\",\"\",'出場選手エントリー票　男'!H10)","v":""},{"$f":"IF('出場選手エントリー票　男'!K10=\"\",\"\",'出場選手エントリー票　男'!K10)","v":""},{"$f":"IF('出場選手エントリー票　男'!L10=\"\",\"\",'出場選手エントリー票　男'!L10)","v":""},{"$f":"IF('出場選手エントリー票　男'!M10=\"\",\"\",'出場選手エントリー票　男'!M10)","v":""},{"$f":"IF('出場選手エントリー票　男'!N10=\"\",\"\",VALUE('出場選手エントリー票　男'!N10))","v":""},{"$f":"IF('出場選手エントリー票　男'!O10=\"\",\"\",'出場選手エントリー票　男'!O10)","v":""},"","","",null,null,null,0,0,0,0,0]
[10,{"$f":"IF('出場選手エントリー票　男'!B11=\"\",\"\",IF(MID('出場選手エントリー票　男'!B11,2,1)=\"0\",RIGHTB('出場選手エントリー票　男'!B11,3),RIGHTB('出場選手エントリー票　男'!B11,4)))","v":""},null,null,null,{"$f":"IF(B20=\"\",\"\",('出場選手エントリー票　男'!C11&\" \"&'出場選手エントリー票　男'!D11))","v":""},null,{"$f":"IF(B20=\"\",\"\",'出場選手エントリー票　男'!H11)","v":""},{"$f":"IF('出場選手エントリー票　男'!K11=\"\",\"\",'出場選手エントリー票　男'!K11)","v":""},{"$f":"IF('出場選手エントリー票　男'!L11=\"\",\"\",'出場選手エントリー票　男'!L11)","v":""},{"$f":"IF('出場選手エントリー票　男'!M11=\"\",\"\",'出場選手エントリー票　男'!M11)","v":""},{"$f":"IF('出場選手エントリー票　男'!N11=\"\",\"\",VALUE('出場選手エントリー票　男'!N11))","v":""},{"$f":"IF('出場選手エントリー票　男'!O11=\"\",\"\",'出場選手エントリー票　男'!O11)","v":""},"","","",null,null,null,0,0,0,0,0]
[11,{"$f":"IF('出場選手エントリー票　男'!B12=\"\",\"\",IF(MID('出場選手エントリー票　男'!B12,2,1)=\"0\",RIGHTB('出場選手エントリー票　男'!B12,3),RIGHTB('出場選手エントリー票　男'!B12,4)))","v":""},null,null,null,{"$f":"IF(B21=\"\",\"\",('出場選手エントリー票　男'!C12&\" \"&'出場選手エントリー票　男'!D12))","v":""},null,{"$f":"IF(B21=\"\",\"\",'出場選手エントリー票　男'!H12)","v":""},{"$f":"IF('出場選手エントリー票　男'!K12=\"\",\"\",'出場選手エントリー票　男'!K12)","v":""},{"$f":"IF('出場選手エントリー票　男'!L12=\"\",\"\",'出場選手エントリー票　男'!L12)","v":""},{"$f":"IF('出場選手エントリー票　男'!M12=\"\",\"\",'出場選手エントリー票　男'!M12)","v":""},{"$f":"IF('出場選手エントリー票　男'!N12=\"\",\"\",VALUE('出場選手エントリー票　男'!N12))","v":""},{"$f":"IF('出場選手エントリー票　男'!O12=\"\",\"\",'出場選手エントリー票　男'!O12)","v":""},"","","",null,null,null,0,0,0,0,0]
[12,{"$f":"IF('出場選手エントリー票　男'!B13=\"\",\"\",IF(MID('出場選手エントリー票　男'!B13,2,1)=\"0\",RIGHTB('出場選手エントリー票　男'!B13,3),RIGHTB('出場選手エントリー票　男'!B13,4)))","v":""},null,null,null,{"$f":"IF(B22=\"\",\"\",('出場選手エントリー票　男'!C13&\" \"&'出場選手エントリー票　男'!D13))","v":""},null,{"$f":"IF(B22=\"\",\"\",'出場選手エントリー票　男'!H13)","v":""},{"$f":"IF('出場選手エントリー票　男'!K13=\"\",\"\",'出場選手エントリー票　男'!K13)","v":""},{"$f":"IF('出場選手エントリー票　男'!L13=\"\",\"\",'出場選手エントリー票　男'!L13)","v":""},{"$f":"IF('出場選手エントリー票　男'!M13=\"\",\"\",'出場選手エントリー票　男'!M13)","v":""},{"$f":"IF('出場選手エントリー票　男'!N13=\"\",\"\",VALUE('出場選手エントリー票　男'!N13))","v":""},{"$f":"IF('出場選手エントリー票　男'!O13=\"\",\"\",'出場選手エントリー票　男'!O13)","v":""},"","","",null,null,null,0,0,0,0,0]
[13,{"$f":"IF('出場選手エントリー票　男'!B14=\"\",\"\",IF(MID('出場選手エントリー票　男'!B14,2,1)=\"0\",RIGHTB('出場選手エントリー票　男'!B14,3),RIGHTB('出場選手エントリー票　男'!B14,4)))","v":""},null,null,null,{"$f":"IF(B23=\"\",\"\",('出場選手エントリー票　男'!C14&\" \"&'出場選手エントリー票　男'!D14))","v":""},null,{"$f":"IF(B23=\"\",\"\",'出場選手エントリー票　男'!H14)","v":""},{"$f":"IF('出場選手エントリー票　男'!K14=\"\",\"\",'出場選手エントリー票　男'!K14)","v":""},{"$f":"IF('出場選手エントリー票　男'!L14=\"\",\"\",'出場選手エントリー票　男'!L14)","v":""},{"$f":"IF('出場選手エントリー票　男'!M14=\"\",\"\",'出場選手エントリー票　男'!M14)","v":""},{"$f":"IF('出場選手エントリー票　男'!N14=\"\",\"\",VALUE('出場選手エントリー票　男'!N14))","v":""},{"$f":"IF('出場選手エントリー票　男'!O14=\"\",\"\",'出場選手エントリー票　男'!O14)","v":""},"","","",null,null,null,0,0,0,0,0]
[14,{"$f":"IF('出場選手エントリー票　男'!B15=\"\",\"\",IF(MID('出場選手エントリー票　男'!B15,2,1)=\"0\",RIGHTB('出場選手エントリー票　男'!B15,3),RIGHTB('出場選手エントリー票　男'!B15,4)))","v":""},null,null,null,{"$f":"IF(B24=\"\",\"\",('出場選手エントリー票　男'!C15&\" \"&'出場選手エントリー票　男'!D15))","v":""},null,{"$f":"IF(B24=\"\",\"\",'出場選手エントリー票　男'!H15)","v":""},{"$f":"IF('出場選手エントリー票　男'!K15=\"\",\"\",'出場選手エントリー票　男'!K15)","v":""},{"$f":"IF('出場選手エントリー票　男'!L15=\"\",\"\",'出場選手エントリー票　男'!L15)","v":""},{"$f":"IF('出場選手エントリー票　男'!M15=\"\",\"\",'出場選手エントリー票　男'!M15)","v":""},{"$f":"IF('出場選手エントリー票　男'!N15=\"\",\"\",VALUE('出場選手エントリー票　男'!N15))","v":""},{"$f":"IF('出場選手エントリー票　男'!O15=\"\",\"\",'出場選手エントリー票　男'!O15)","v":""},"","","",null,null,null,0,0,0,0,0]
[15,{"$f":"IF('出場選手エントリー票　男'!B16=\"\",\"\",IF(MID('出場選手エントリー票　男'!B16,2,1)=\"0\",RIGHTB('出場選手エントリー票　男'!B16,3),RIGHTB('出場選手エントリー票　男'!B16,4)))","v":""},null,null,null,{"$f":"IF(B25=\"\",\"\",('出場選手エントリー票　男'!C16&\" \"&'出場選手エントリー票　男'!D16))","v":""},null,{"$f":"IF(B25=\"\",\"\",'出場選手エントリー票　男'!H16)","v":""},{"$f":"IF('出場選手エントリー票　男'!K16=\"\",\"\",'出場選手エントリー票　男'!K16)","v":""},{"$f":"IF('出場選手エントリー票　男'!L16=\"\",\"\",'出場選手エントリー票　男'!L16)","v":""},{"$f":"IF('出場選手エントリー票　男'!M16=\"\",\"\",'出場選手エントリー票　男'!M16)","v":""},{"$f":"IF('出場選手エントリー票　男'!N16=\"\",\"\",VALUE('出場選手エントリー票　男'!N16))","v":""},{"$f":"IF('出場選手エントリー票　男'!O16=\"\",\"\",'出場選手エントリー票　男'!O16)","v":""},"","","",null,null,null,0,0,0,0,0]
[16,{"$f":"IF('出場選手エントリー票　男'!B17=\"\",\"\",IF(MID('出場選手エントリー票　男'!B17,2,1)=\"0\",RIGHTB('出場選手エントリー票　男'!B17,3),RIGHTB('出場選手エントリー票　男'!B17,4)))","v":""},null,null,null,{"$f":"IF(B26=\"\",\"\",('出場選手エントリー票　男'!C17&\" \"&'出場選手エントリー票　男'!D17))","v":""},null,{"$f":"IF(B26=\"\",\"\",'出場選手エントリー票　男'!H17)","v":""},{"$f":"IF('出場選手エントリー票　男'!K17=\"\",\"\",'出場選手エントリー票　男'!K17)","v":""},{"$f":"IF('出場選手エントリー票　男'!L17=\"\",\"\",'出場選手エントリー票　男'!L17)","v":""},{"$f":"IF('出場選手エントリー票　男'!M17=\"\",\"\",'出場選手エントリー票　男'!M17)","v":""},{"$f":"IF('出場選手エントリー票　男'!N17=\"\",\"\",VALUE('出場選手エントリー票　男'!N17))","v":""},{"$f":"IF('出場選手エントリー票　男'!O17=\"\",\"\",'出場選手エントリー票　男'!O17)","v":""},"","","",null,null,null,0,0,0,0,0]
[17,{"$f":"IF('出場選手エントリー票　男'!B18=\"\",\"\",IF(MID('出場選手エントリー票　男'!B18,2,1)=\"0\",RIGHTB('出場選手エントリー票　男'!B18,3),RIGHTB('出場選手エントリー票　男'!B18,4)))","v":""},null,null,null,{"$f":"IF(B27=\"\",\"\",('出場選手エントリー票　男'!C18&\" \"&'出場選手エントリー票　男'!D18))","v":""},null,{"$f":"IF(B27=\"\",\"\",'出場選手エントリー票　男'!H18)","v":""},{"$f":"IF('出場選手エントリー票　男'!K18=\"\",\"\",'出場選手エントリー票　男'!K18)","v":""},{"$f":"IF('出場選手エントリー票　男'!L18=\"\",\"\",'出場選手エントリー票　男'!L18)","v":""},{"$f":"IF('出場選手エントリー票　男'!M18=\"\",\"\",'出場選手エントリー票　男'!M18)","v":""},{"$f":"IF('出場選手エントリー票　男'!N18=\"\",\"\",VALUE('出場選手エントリー票　男'!N18))","v":""},{"$f":"IF('出場選手エントリー票　男'!O18=\"\",\"\",'出場選手エントリー票　男'!O18)","v":""},"","","",null,null,null,0,0,0,0,0]
[18,{"$f":"IF('出場選手エントリー票　男'!B19=\"\",\"\",IF(MID('出場選手エントリー票　男'!B19,2,1)=\"0\",RIGHTB('出場選手エントリー票　男'!B19,3),RIGHTB('出場選手エントリー票　男'!B19,4)))","v":""},null,null,null,{"$f":"IF(B28=\"\",\"\",('出場選手エントリー票　男'!C19&\" \"&'出場選手エントリー票　男'!D19))","v":""},null,{"$f":"IF(B28=\"\",\"\",'出場選手エントリー票　男'!H19)","v":""},{"$f":"IF('出場選手エントリー票　男'!K19=\"\",\"\",'出場選手エントリー票　男'!K19)","v":""},{"$f":"IF('出場選手エントリー票　男'!L19=\"\",\"\",'出場選手エントリー票　男'!L19)","v":""},{"$f":"IF('出場選手エントリー票　男'!M19=\"\",\"\",'出場選手エントリー票　男'!M19)","v":""},{"$f":"IF('出場選手エントリー票　男'!N19=\"\",\"\",VALUE('出場選手エントリー票　男'!N19))","v":""},{"$f":"IF('出場選手エントリー票　男'!O19=\"\",\"\",'出場選手エントリー票　男'!O19)","v":""},"","","",null,null,null,0,0,0,0,0]
[19,{"$f":"IF('出場選手エントリー票　男'!B20=\"\",\"\",IF(MID('出場選手エントリー票　男'!B20,2,1)=\"0\",RIGHTB('出場選手エントリー票　男'!B20,3),RIGHTB('出場選手エントリー票　男'!B20,4)))","v":""},null,null,null,{"$f":"IF(B29=\"\",\"\",('出場選手エントリー票　男'!C20&\" \"&'出場選手エントリー票　男'!D20))","v":""},null,{"$f":"IF(B29=\"\",\"\",'出場選手エントリー票　男'!H20)","v":""},{"$f":"IF('出場選手エントリー票　男'!K20=\"\",\"\",'出場選手エントリー票　男'!K20)","v":""},{"$f":"IF('出場選手エントリー票　男'!L20=\"\",\"\",'出場選手エントリー票　男'!L20)","v":""},{"$f":"IF('出場選手エントリー票　男'!M20=\"\",\"\",'出場選手エントリー票　男'!M20)","v":""},{"$f":"IF('出場選手エントリー票　男'!N20=\"\",\"\",VALUE('出場選手エントリー票　男'!N20))","v":""},{"$f":"IF('出場選手エントリー票　男'!O20=\"\",\"\",'出場選手エントリー票　男'!O20)","v":""},"","","",null,null,null,0,0,0,0,0]
[20,{"$f":"IF('出場選手エントリー票　男'!B21=\"\",\"\",IF(MID('出場選手エントリー票　男'!B21,2,1)=\"0\",RIGHTB('出場選手エントリー票　男'!B21,3),RIGHTB('出場選手エントリー票　男'!B21,4)))","v":""},null,null,null,{"$f":"IF(B30=\"\",\"\",('出場選手エントリー票　男'!C21&\" \"&'出場選手エントリー票　男'!D21))","v":""},null,{"$f":"IF(B30=\"\",\"\",'出場選手エントリー票　男'!H21)","v":""},{"$f":"IF('出場選手エントリー票　男'!K21=\"\",\"\",'出場選手エントリー票　男'!K21)","v":""},{"$f":"IF('出場選手エントリー票　男'!L21=\"\",\"\",'出場選手エントリー票　男'!L21)","v":""},{"$f":"IF('出場選手エントリー票　男'!M21=\"\",\"\",'出場選手エントリー票　男'!M21)","v":""},{"$f":"IF('出場選手エントリー票　男'!N21=\"\",\"\",VALUE('出場選手エントリー票　男'!N21))","v":""},{"$f":"IF('出場選手エントリー票　男'!O21=\"\",\"\",'出場選手エントリー票　男'!O21)","v":""},"","","",null,null,null,0,0,0,0,0]
["　〈支部大会種目等〉",null,null,null,null,null,null,null,null,null,null,null,null,"　〈都大会種目等〉"]
["個人",null,null,null,null,"男女混合リレー","リレー",null,"ﾌﾟﾛｸﾞﾗﾑ",null,null,null,null,"個人","リレー","混成","ﾌﾟﾛｸﾞﾗﾑ"]
["＠６００円",null,null,null,null,"＠１２００円","＠１２００円",null,"＠６００円",null,null,null,null,"@1000円","@1600円","@2000円","@1000円"]
[{"$f":"COUNTIF($T$11:$V$75,1)","v":0},null,null,null,null,{"$f":"IF(COUNTIF('出場選手エントリー票　男'!$O$1:$O$65,\"混\")>0,1,0)","v":0},{"$f":"SUM(MAX($W$11:$W$75),MAX($X$11:$X$75))","v":0},null,{"$f":"出場選手エントリー票!I2","v":0},null,"合計",null,null,"種目","ﾁｰﾑ","名","冊","合計"]
[{"$f":"A34*600","v":0},null,null,null,null,{"$f":"F34*1200","v":0},{"$f":"G34*1200","v":0},null,{"$f":"I34*600","v":0},null,{"$f":"A35+F35+G35+I35","v":0},null,null,"円","円","円","円","円"]
[21,{"$f":"IF('出場選手エントリー票　男'!B22=\"\",\"\",IF(MID('出場選手エントリー票　男'!B22,2,1)=\"0\",RIGHTB('出場選手エントリー票　男'!B22,3),RIGHTB('出場選手エントリー票　男'!B22,4)))","v":""},null,null,null,{"$f":"IF(B36=\"\",\"\",('出場選手エントリー票　男'!C22&\" \"&'出場選手エントリー票　男'!D22))","v":""},null,{"$f":"IF(B36=\"\",\"\",'出場選手エントリー票　男'!H22)","v":""},{"$f":"IF('出場選手エントリー票　男'!K22=\"\",\"\",'出場選手エントリー票　男'!K22)","v":""},{"$f":"IF('出場選手エントリー票　男'!L22=\"\",\"\",'出場選手エントリー票　男'!L22)","v":""},{"$f":"IF('出場選手エントリー票　男'!M22=\"\",\"\",'出場選手エントリー票　男'!M22)","v":""},{"$f":"IF('出場選手エントリー票　男'!N22=\"\",\"\",VALUE('出場選手エントリー票　男'!N22))","v":""},{"$f":"IF('出場選手エントリー票　男'!O22=\"\",\"\",'出場選手エントリー票　男'!O22)","v":""},{"$f":"IF(I36=\"\",\"\",IF(COUNTIF(I36,\"*OP*\")>0,\"\",I36))","v":""},{"$f":"IF(J36=\"\",\"\",IF(COUNTIF(J36,\"*OP*\")>0,\"\",J36))","v":""},{"$f":"IF(K36=\"\",\"\",IF(COUNTIF(K36,\"*OP*\")>0,\"\",K36))","v":""},null,null,null,{"$f":"IF(I36=\"\",0,1)","v":0},{"$f":"IF(J36=\"\",0,1)","v":0},{"$f":"IF(K36=\"\",0,1)","v":0},{"$f":"IF(ISERROR(VALUE(L36)),0,VALUE(L36))","v":0},{"$f":"IF(ISERROR(VALUE(M36)),0,VALUE(M36))","v":0}]
[22,{"$f":"IF('出場選手エントリー票　男'!B23=\"\",\"\",IF(MID('出場選手エントリー票　男'!B23,2,1)=\"0\",RIGHTB('出場選手エントリー票　男'!B23,3),RIGHTB('出場選手エントリー票　男'!B23,4)))","v":""},null,null,null,{"$f":"IF(B37=\"\",\"\",('出場選手エントリー票　男'!C23&\" \"&'出場選手エントリー票　男'!D23))","v":""},null,{"$f":"IF(B37=\"\",\"\",'出場選手エントリー票　男'!H23)","v":""},{"$f":"IF('出場選手エントリー票　男'!K23=\"\",\"\",'出場選手エントリー票　男'!K23)","v":""},{"$f":"IF('出場選手エントリー票　男'!L23=\"\",\"\",'出場選手エントリー票　男'!L23)","v":""},{"$f":"IF('出場選手エントリー票　男'!M23=\"\",\"\",'出場選手エントリー票　男'!M23)","v":""},{"$f":"IF('出場選手エントリー票　男'!N23=\"\",\"\",VALUE('出場選手エントリー票　男'!N23))","v":""},{"$f":"IF('出場選手エントリー票　男'!O23=\"\",\"\",'出場選手エントリー票　男'!O23)","v":""},"","","",null,null,null,0,0,0,0,0]
[23,{"$f":"IF('出場選手エントリー票　男'!B24=\"\",\"\",IF(MID('出場選手エントリー票　男'!B24,2,1)=\"0\",RIGHTB('出場選手エントリー票　男'!B24,3),RIGHTB('出場選手エントリー票　男'!B24,4)))","v":""},null,null,null,{"$f":"IF(B38=\"\",\"\",('出場選手エントリー票　男'!C24&\" \"&'出場選手エントリー票　男'!D24))","v":""},null,{"$f":"IF(B38=\"\",\"\",'出場選手エントリー票　男'!H24)","v":""},{"$f":"IF('出場選手エントリー票　男'!K24=\"\",\"\",'出場選手エントリー票　男'!K24)","v":""},{"$f":"IF('出場選手エントリー票　男'!L24=\"\",\"\",'出場選手エントリー票　男'!L24)","v":""},{"$f":"IF('出場選手エントリー票　男'!M24=\"\",\"\",'出場選手エントリー票　男'!M24)","v":""},{"$f":"IF('出場選手エントリー票　男'!N24=\"\",\"\",VALUE('出場選手エントリー票　男'!N24))","v":""},{"$f":"IF('出場選手エントリー票　男'!O24=\"\",\"\",'出場選手エントリー票　男'!O24)","v":""},"","","",null,null,null,0,0,0,0,0]
[24,{"$f":"IF('出場選手エントリー票　男'!B25=\"\",\"\",IF(MID('出場選手エントリー票　男'!B25,2,1)=\"0\",RIGHTB('出場選手エントリー票　男'!B25,3),RIGHTB('出場選手エントリー票　男'!B25,4)))","v":""},null,null,null,{"$f":"IF(B39=\"\",\"\",('出場選手エントリー票　男'!C25&\" \"&'出場選手エントリー票　男'!D25))","v":""},null,{"$f":"IF(B39=\"\",\"\",'出場選手エントリー票　男'!H25)","v":""},{"$f":"IF('出場選手エントリー票　男'!K25=\"\",\"\",'出場選手エントリー票　男'!K25)","v":""},{"$f":"IF('出場選手エントリー票　男'!L25=\"\",\"\",'出場選手エントリー票　男'!L25)","v":""},{"$f":"IF('出場選手エントリー票　男'!M25=\"\",\"\",'出場選手エントリー票　男'!M25)","v":""},{"$f":"IF('出場選手エントリー票　男'!N25=\"\",\"\",VALUE('出場選手エントリー票　男'!N25))","v":""},{"$f":"IF('出場選手エントリー票　男'!O25=\"\",\"\",'出場選手エントリー票　男'!O25)","v":""},"","","",null,null,null,0,0,0,0,0]
[25,{"$f":"IF('出場選手エントリー票　男'!B26=\"\",\"\",IF(MID('出場選手エントリー票　男'!B26,2,1)=\"0\",RIGHTB('出場選手エントリー票　男'!B26,3),RIGHTB('出場選手エントリー票　男'!B26,4)))","v":""},null,null,null,{"$f":"IF(B40=\"\",\"\",('出場選手エントリー票　男'!C26&\" \"&'出場選手エントリー票　男'!D26))","v":""},null,{"$f":"IF(B40=\"\",\"\",'出場選手エントリー票　男'!H26)","v":""},{"$f":"IF('出場選手エントリー票　男'!K26=\"\",\"\",'出場選手エントリー票　男'!K26)","v":""},{"$f":"IF('出場選手エントリー票　男'!L26=\"\",\"\",'出場選手エントリー票　男'!L26)","v":""},{"$f":"IF('出場選手エントリー票　男'!M26=\"\",\"\",'出場選手エントリー票　男'!M26)","v":""},{"$f":"IF('出場選手エントリー票　男'!N26=\"\",\"\",VALUE('出場選手エントリー票　男'!N26))","v":""},{"$f":"IF('出場選手エントリー票　男'!O26=\"\",\"\",'出場選手エントリー票　男'!O26)","v":""},"","","",null,null,null,0,0,0,0,0]
[26,{"$f":"IF('出場選手エントリー票　男'!B27=\"\",\"\",IF(MID('出場選手エントリー票　男'!B27,2,1)=\"0\",RIGHTB('出場選手エントリー票　男'!B27,3),RIGHTB('出場選手エントリー票　男'!B27,4)))","v":""},null,null,null,{"$f":"IF(B41=\"\",\"\",('出場選手エントリー票　男'!C27&\" \"&'出場選手エントリー票　男'!D27))","v":""},null,{"$f":"IF(B41=\"\",\"\",'出場選手エントリー票　男'!H27)","v":""},{"$f":"IF('出場選手エントリー票　男'!K27=\"\",\"\",'出場選手エントリー票　男'!K27)","v":""},{"$f":"IF('出場選手エントリー票　男'!L27=\"\",\"\",'出場選手エントリー票　男'!L27)","v":""},{"$f":"IF('出場選手エントリー票　男'!M27=\"\",\"\",'出場選手エントリー票　男'!M27)","v":""},{"$f":"IF('出場選手エントリー票　男'!N27=\"\",\"\",VALUE('出場選手エントリー票　男'!N27))","v":""},{"$f":"IF('出場選手エントリー票　男'!O27=\"\",\"\",'出場選手エントリー票　男'!O27)","v":""},"","","",null,null,null,0,0,0,0,0]
[27,{"$f":"IF('出場選手エントリー票　男'!B28=\"\",\"\",IF(MID('出場選手エントリー票　男'!B28,2,1)=\"0\",RIGHTB('出場選手エントリー票　男'!B28,3),RIGHTB('出場選手エントリー票　男'!B28,4)))","v":""},null,null,null,{"$f":"IF(B42=\"\",\"\",('出場選手エントリー票　男'!C28&\" \"&'出場選手エントリー票　男'!D28))","v":""},null,{"$f":"IF(B42=\"\",\"\",'出場選手エントリー票　男'!H28)","v":""},{"$f":"IF('出場選手エントリー票　男'!K28=\"\",\"\",'出場選手エントリー票　男'!K28)","v":""},{"$f":"IF('出場選手エントリー票　男'!L28=\"\",\"\",'出場選手エントリー票　男'!L28)","v":""},{"$f":"IF('出場選手エントリー票　男'!M28=\"\",\"\",'出場選手エントリー票　男'!M28)","v":""},{"$f":"IF('出場選手エントリー票　男'!N28=\"\",\"\",VALUE('出場選手エントリー票　男'!N28))","v":""},{"$f":"IF('出場選手エントリー票　男'!O28=\"\",\"\",'出場選手エントリー票　男'!O28)","v":""},"","","",null,null,null,0,0,0,0,0]
[28,{"$f":"IF('出場選手エントリー票　男'!B29=\"\",\"\",IF(MID('出場選手エントリー票　男'!B29,2,1)=\"0\",RIGHTB('出場選手エントリー票　男'!B29,3),RIGHTB('出場選手エントリー票　男'!B29,4)))","v":""},null,null,null,{"$f":"IF(B43=\"\",\"\",('出場選手エントリー票　男'!C29&\" \"&'出場選手エントリー票　男'!D29))","v":""},null,{"$f":"IF(B43=\"\",\"\",'出場選手エントリー票　男'!H29)","v":""},{"$f":"IF('出場選手エントリー票　男'!K29=\"\",\"\",'出場選手エントリー票　男'!K29)","v":""},{"$f":"IF('出場選手エントリー票　男'!L29=\"\",\"\",'出場選手エントリー票　男'!L29)","v":""},{"$f":"IF('出場選手エントリー票　男'!M29=\"\",\"\",'出場選手エントリー票　男'!M29)","v":""},{"$f":"IF('出場選手エントリー票　男'!N29=\"\",\"\",VALUE('出場選手エントリー票　男'!N29))","v":""},{"$f":"IF('出場選手エントリー票　男'!O29=\"\",\"\",'出場選手エントリー票　男'!O29)","v":""},"","","",null,null,null,0,0,0,0,0]
[29,{"$f":"IF('出場選手エントリー票　男'!B30=\"\",\"\",IF(MID('出場選手エントリー票　男'!B30,2,1)=\"0\",RIGHTB('出場選手エントリー票　男'!B30,3),RIGHTB('出場選手エントリー票　男'!B30,4)))","v":""},null,null,null,{"$f":"IF(B44=\"\",\"\",('出場選手エントリー票　男'!C30&\" \"&'出場選手エントリー票　男'!D30))","v":""},null,{"$f":"IF(B44=\"\",\"\",'出場選手エントリー票　男'!H30)","v":""},{"$f":"IF('出場選手エントリー票　男'!K30=\"\",\"\",'出場選手エントリー票　男'!K30)","v":""},{"$f":"IF('出場選手エントリー票　男'!L30=\"\",\"\",'出場選手エントリー票　男'!L30)","v":""},{"$f":"IF('出場選手エントリー票　男'!M30=\"\",\"\",'出場選手エントリー票　男'!M30)","v":""},{"$f":"IF('出場選手エントリー票　男'!N30=\"\",\"\",VALUE('出場選手エントリー票　男'!N30))","v":""},{"$f":"IF('出場選手エントリー票　男'!O30=\"\",\"\",'出場選手エントリー票　男'!O30)","v":""},"","","",null,null,null,0,0,0,0,0]
[30,{"$f":"IF('出場選手エントリー票　男'!B31=\"\",\"\",IF(MID('出場選手エントリー票　男'!B31,2,1)=\"0\",RIGHTB('出場選手エントリー票　男'!B31,3),RIGHTB('出場選手エントリー票　男'!B31,4)))","v":""},null,null,null,{"$f":"IF(B45=\"\",\"\",('出場選手エントリー票　男'!C31&\" \"&'出場選手エントリー票　男'!D31))","v":""},null,{"$f":"IF(B45=\"\",\"\",'出場選手エントリー票　男'!H31)","v":""},{"$f":"IF('出場選手エントリー票　男'!K31=\"\",\"\",'出場選手エントリー票　男'!K31)","v":""},{"$f":"IF('出場選手エントリー票　男'!L31=\"\",\"\",'出場選手エントリー票　男'!L31)","v":""},{"$f":"IF('出場選手エントリー票　男'!M31=\"\",\"\",'出場選手エントリー票　男'!M31)","v":""},{"$f":"IF('出場選手エントリー票　男'!N31=\"\",\"\",VALUE('出場選手エントリー票　男'!N31))","v":""},{"$f":"IF('出場選手エントリー票　男'!O31=\"\",\"\",'出場選手エントリー票　男'!O31)","v":""},"","","",null,null,null,0,0,0,0,0]
[31,{"$f":"IF('出場選手エントリー票　男'!B32=\"\",\"\",IF(MID('出場選手エントリー票　男'!B32,2,1)=\"0\",RIGHTB('出場選手エントリー票　男'!B32,3),RIGHTB('出場選手エントリー票　男'!B32,4)))","v":""},null,null,null,{"$f":"IF(B46=\"\",\"\",('出場選手エントリー票　男'!C32&\" \"&'出場選手エントリー票　男'!D32))","v":""},null,{"$f":"IF(B46=\"\",\"\",'出場選手エントリー票　男'!H32)","v":""},{"$f":"IF('出場選手エントリー票　男'!K32=\"\",\"\",'出場選手エントリー票　男'!K32)","v":""},{"$f":"IF('出場選手エントリー票　男'!L32=\"\",\"\",'出場選手エントリー票　男'!L32)","v":""},{"$f":"IF('出場選手エントリー票　男'!M32=\"\",\"\",'出場選手エントリー票　男'!M32)","v":""},{"$f":"IF('出場選手エントリー票　男'!N32=\"\",\"\",VALUE('出場選手エントリー票　男'!N32))","v":""},{"$f":"IF('出場選手エントリー票　男'!O32=\"\",\"\",'出場選手エントリー票　男'!O32)","v":""},"","","",null,null,null,0,0,0,0,0]
[32,{"$f":"IF('出場選手エントリー票　男'!B33=\"\",\"\",IF(MID('出場選手エントリー票　男'!B33,2,1)=\"0\",RIGHTB('出場選手エントリー票　男'!B33,3),RIGHTB('出場選手エントリー票　男'!B33,4)))","v":""},null,null,null,{"$f":"IF(B47=\"\",\"\",('出場選手エントリー票　男'!C33&\" \"&'出場選手エントリー票　男'!D33))","v":""},null,{"$f":"IF(B47=\"\",\"\",'出場選手エントリー票　男'!H33)","v":""},{"$f":"IF('出場選手エントリー票　男'!K33=\"\",\"\",'出場選手エントリー票　男'!K33)","v":""},{"$f":"IF('出場選手エントリー票　男'!L33=\"\",\"\",'出場選手エントリー票　男'!L33)","v":""},{"$f":"IF('出場選手エントリー票　男'!M33=\"\",\"\",'出場選手エントリー票　男'!M33)","v":""},{"$f":"IF('出場選手エントリー票　男'!N33=\"\",\"\",VALUE('出場選手エントリー票　男'!N33))","v":""},{"$f":"IF('出場選手エントリー票　男'!O33=\"\",\"\",'出場選手エントリー票　男'!O33)","v":""},"","","",null,null,null,0,0,0,0,0]
[33,{"$f":"IF('出場選手エントリー票　男'!B34=\"\",\"\",IF(MID('出場選手エントリー票　男'!B34,2,1)=\"0\",RIGHTB('出場選手エントリー票　男'!B34,3),RIGHTB('出場選手エントリー票　男'!B34,4)))","v":""},null,null,null,{"$f":"IF(B48=\"\",\"\",('出場選手エントリー票　男'!C34&\" \"&'出場選手エントリー票　男'!D34))","v":""},null,{"$f":"IF(B48=\"\",\"\",'出場選手エントリー票　男'!H34)","v":""},{"$f":"IF('出場選手エントリー票　男'!K34=\"\",\"\",'出場選手エントリー票　男'!K34)","v":""},{"$f":"IF('出場選手エントリー票　男'!L34=\"\",\"\",'出場選手エントリー票　男'!L34)","v":""},{"$f":"IF('出場選手エントリー票　男'!M34=\"\",\"\",'出場選手エントリー票　男'!M34)","v":""},{"$f":"IF('出場選手エントリー票　男'!N34=\"\",\"\",VALUE('出場選手エントリー票　男'!N34))","v":""},{"$f":"IF('出場選手エントリー票　男'!O34=\"\",\"\",'出場選手エントリー票　男'!O34)","v":""},"","","",null,null,null,0,0,0,0,0]
[34,{"$f":"IF('出場選手エントリー票　男'!B35=\"\",\"\",IF(MID('出場選手エントリー票　男'!B35,2,1)=\"0\",RIGHTB('出場選手エントリー票　男'!B35,3),RIGHTB('出場選手エントリー票　男'!B35,4)))","v":""},null,null,null,{"$f":"IF(B49=\"\",\"\",('出場選手エントリー票　男'!C35&\" \"&'出場選手エントリー票　男'!D35))","v":""},null,{"$f":"IF(B49=\"\",\"\",'出場選手エントリー票　男'!H35)","v":""},{"$f":"IF('出場選手エントリー票　男'!K35=\"\",\"\",'出場選手エントリー票　男'!K35)","v":""},{"$f":"IF('出場選手エントリー票　男'!L35=\"\",\"\",'出場選手エントリー票　男'!L35)","v":""},{"$f":"IF('出場選手エントリー票　男'!M35=\"\",\"\",'出場選手エントリー票　男'!M35)","v":""},{"$f":"IF('出場選手エントリー票　男'!N35=\"\",\"\",VALUE('出場選手エントリー票　男'!N35))","v":""},{"$f":"IF('出場選手エントリー票　男'!O35=\"\",\"\",'出場選手エントリー票　男'!O35)","v":""},"","","",null,null,null,0,0,0,0,0]
[35,{"$f":"IF('出場選手エントリー票　男'!B36=\"\",\"\",IF(MID('出場選手エントリー票　男'!B36,2,1)=\"0\",RIGHTB('出場選手エントリー票　男'!B36,3),RIGHTB('出場選手エントリー票　男'!B36,4)))","v":""},null,null,null,{"$f":"IF(B50=\"\",\"\",('出場選手エントリー票　男'!C36&\" \"&'出場選手エントリー票　男'!D36))","v":""},null,{"$f":"IF(B50=\"\",\"\",'出場選手エントリー票　男'!H36)","v":""},{"$f":"IF('出場選手エントリー票　男'!K36=\"\",\"\",'出場選手エントリー票　男'!K36)","v":""},{"$f":"IF('出場選手エントリー票　男'!L36=\"\",\"\",'出場選手エントリー票　男'!L36)","v":""},{"$f":"IF('出場選手エントリー票　男'!M36=\"\",\"\",'出場選手エントリー票　男'!M36)","v":""},{"$f":"IF('出場選手エントリー票　男'!N36=\"\",\"\",VALUE('出場選手エントリー票　男'!N36))","v":""},{"$f":"IF('出場選手エントリー票　男'!O36=\"\",\"\",'出場選手エントリー票　男'!O36)","v":""},"","","",null,null,null,0,0,0,0,0]
[36,{"$f":"IF('出場選手エントリー票　男'!B37=\"\",\"\",IF(MID('出場選手エントリー票　男'!B37,2,1)=\"0\",RIGHTB('出場選手エントリー票　男'!B37,3),RIGHTB('出場選手エントリー票　男'!B37,4)))","v":""},null,null,null,{"$f":"IF(B51=\"\",\"\",('出場選手エントリー票　男'!C37&\" \"&'出場選手エントリー票　男'!D37))","v":""},null,{"$f":"IF(B51=\"\",\"\",'出場選手エントリー票　男'!H37)","v":""},{"$f":"IF('出場選手エントリー票　男'!K37=\"\",\"\",'出場選手エントリー票　男'!K37)","v":""},{"$f":"IF('出場選手エントリー票　男'!L37=\"\",\"\",'出場選手エントリー票　男'!L37)","v":""},{"$f":"IF('出場選手エントリー票　男'!M37=\"\",\"\",'出場選手エントリー票　男'!M37)","v":""},{"$f":"IF('出場選手エントリー票　男'!N37=\"\",\"\",VALUE('出場選手エントリー票　男'!N37))","v":""},{"$f":"IF('出場選手エントリー票　男'!O37=\"\",\"\",'出場選手エントリー票　男'!O37)","v":""},"","","",null,null,null,0,0,0,0,0]
[37,{"$f":"IF('出場選手エントリー票　男'!B38=\"\",\"\",IF(MID('出場選手エントリー票　男'!B38,2,1)=\"0\",RIGHTB('出場選手エントリー票　男'!B38,3),RIGHTB('出場選手エントリー票　男'!B38,4)))","v":""},null,null,null,{"$f":"IF(B52=\"\",\"\",('出場選手エントリー票　男'!C38&\" \"&'出場選手エントリー票　男'!D38))","v":""},null,{"$f":"IF(B52=\"\",\"\",'出場選手エントリー票　男'!H38)","v":""},{"$f":"IF('出場選手エントリー票　男'!K38=\"\",\"\",'出場選手エントリー票　男'!K38)","v":""},{"$f":"IF('出場選手エントリー票　男'!L38=\"\",\"\",'出場選手エントリー票　男'!L38)","v":""},{"$f":"IF('出場選手エントリー票　男'!M38=\"\",\"\",'出場選手エントリー票　男'!M38)","v":""},{"$f":"IF('出場選手エントリー票　男'!N38=\"\",\"\",VALUE('出場選手エントリー票　男'!N38))","v":""},{"$f":"IF('出場選手エントリー票　男'!O38=\"\",\"\",'出場選手エントリー票　男'!O38)","v":""},"","","",null,null,null,0,0,0,0,0]
[38,{"$f":"IF('出場選手エントリー票　男'!B39=\"\",\"\",IF(MID('出場選手エントリー票　男'!B39,2,1)=\"0\",RIGHTB('出場選手エントリー票　男'!B39,3),RIGHTB('出場選手エントリー票　男'!B39,4)))","v":""},null,null,null,{"$f":"IF(B53=\"\",\"\",('出場選手エントリー票　男'!C39&\" \"&'出場選手エントリー票　男'!D39))","v":""},null,{"$f":"IF(B53=\"\",\"\",'出場選手エントリー票　男'!H39)","v":""},{"$f":"IF('出場選手エントリー票　男'!K39=\"\",\"\",'出場選手エントリー票　男'!K39)","v":""},{"$f":"IF('出場選手エントリー票　男'!L39=\"\",\"\",'出場選手エントリー票　男'!L39)","v":""},{"$f":"IF('出場選手エントリー票　男'!M39=\"\",\"\",'出場選手エントリー票　男'!M39)","v":""},{"$f":"IF('出場選手エントリー票　男'!N39=\"\",\"\",VALUE('出場選手エントリー票　男'!N39))","v":""},{"$f":"IF('出場選手エントリー票　男'!O39=\"\",\"\",'出場選手エントリー票　男'!O39)","v":""},"","","",null,null,null,0,0,0,0,0]
[39,{"$f":"IF('出場選手エントリー票　男'!B40=\"\",\"\",IF(MID('出場選手エントリー票　男'!B40,2,1)=\"0\",RIGHTB('出場選手エントリー票　男'!B40,3),RIGHTB('出場選手エントリー票　男'!B40,4)))","v":""},null,null,null,{"$f":"IF(B54=\"\",\"\",('出場選手エントリー票　男'!C40&\" \"&'出場選手エントリー票　男'!D40))","v":""},null,{"$f":"IF(B54=\"\",\"\",'出場選手エントリー票　男'!H40)","v":""},{"$f":"IF('出場選手エントリー票　男'!K40=\"\",\"\",'出場選手エントリー票　男'!K40)","v":""},{"$f":"IF('出場選手エントリー票　男'!L40=\"\",\"\",'出場選手エントリー票　男'!L40)","v":""},{"$f":"IF('出場選手エントリー票　男'!M40=\"\",\"\",'出場選手エントリー票　男'!M40)","v":""},{"$f":"IF('出場選手エントリー票　男'!N40=\"\",\"\",VALUE('出場選手エントリー票　男'!N40))","v":""},{"$f":"IF('出場選手エントリー票　男'!O40=\"\",\"\",'出場選手エントリー票　男'!O40)","v":""},"","","",null,null,null,0,0,0,0,0]
[40,{"$f":"IF('出場選手エントリー票　男'!B41=\"\",\"\",IF(MID('出場選手エントリー票　男'!B41,2,1)=\"0\",RIGHTB('出場選手エントリー票　男'!B41,3),RIGHTB('出場選手エントリー票　男'!B41,4)))","v":""},null,null,null,{"$f":"IF(B55=\"\",\"\",('出場選手エントリー票　男'!C41&\" \"&'出場選手エントリー票　男'!D41))","v":""},null,{"$f":"IF(B55=\"\",\"\",'出場選手エントリー票　男'!H41)","v":""},{"$f":"IF('出場選手エントリー票　男'!K41=\"\",\"\",'出場選手エントリー票　男'!K41)","v":""},{"$f":"IF('出場選手エントリー票　男'!L41=\"\",\"\",'出場選手エントリー票　男'!L41)","v":""},{"$f":"IF('出場選手エントリー票　男'!M41=\"\",\"\",'出場選手エントリー票　男'!M41)","v":""},{"$f":"IF('出場選手エントリー票　男'!N41=\"\",\"\",VALUE('出場選手エントリー票　男'!N41))","v":""},{"$f":"IF('出場選手エントリー票　男'!O41=\"\",\"\",'出場選手エントリー票　男'!O41)","v":""},"","","",null,null,null,0,0,0,0,0]
[41,{"$f":"IF('出場選手エントリー票　男'!B42=\"\",\"\",IF(MID('出場選手エントリー票　男'!B42,2,1)=\"0\",RIGHTB('出場選手エントリー票　男'!B42,3),RIGHTB('出場選手エントリー票　男'!B42,4)))","v":""},null,null,null,{"$f":"IF(B56=\"\",\"\",('出場選手エントリー票　男'!C42&\" \"&'出場選手エントリー票　男'!D42))","v":""},null,{"$f":"IF(B56=\"\",\"\",'出場選手エントリー票　男'!H42)","v":""},{"$f":"IF('出場選手エントリー票　男'!K42=\"\",\"\",'出場選手エントリー票　男'!K42)","v":""},{"$f":"IF('出場選手エントリー票　男'!L42=\"\",\"\",'出場選手エントリー票　男'!L42)","v":""},{"$f":"IF('出場選手エントリー票　男'!M42=\"\",\"\",'出場選手エントリー票　男'!M42)","v":""},{"$f":"IF('出場選手エントリー票　男'!N42=\"\",\"\",VALUE('出場選手エントリー票　男'!N42))","v":""},{"$f":"IF('出場選手エントリー票　男'!O42=\"\",\"\",'出場選手エントリー票　男'!O42)","v":""},"","","",null,null,null,0,0,0,0,0]
[42,{"$f":"IF('出場選手エントリー票　男'!B43=\"\",\"\",IF(MID('出場選手エントリー票　男'!B43,2,1)=\"0\",RIGHTB('出場選手エントリー票　男'!B43,3),RIGHTB('出場選手エントリー票　男'!B43,4)))","v":""},null,null,null,{"$f":"IF(B57=\"\",\"\",('出場選手エントリー票　男'!C43&\" \"&'出場選手エントリー票　男'!D43))","v":""},null,{"$f":"IF(B57=\"\",\"\",'出場選手エントリー票　男'!H43)","v":""},{"$f":"IF('出場選手エントリー票　男'!K43=\"\",\"\",'出場選手エントリー票　男'!K43)","v":""},{"$f":"IF('出場選手エントリー票　男'!L43=\"\",\"\",'出場選手エントリー票　男'!L43)","v":""},{"$f":"IF('出場選手エントリー票　男'!M43=\"\",\"\",'出場選手エントリー票　男'!M43)","v":""},{"$f":"IF('出場選手エントリー票　男'!N43=\"\",\"\",VALUE('出場選手エントリー票　男'!N43))","v":""},{"$f":"IF('出場選手エントリー票　男'!O43=\"\",\"\",'出場選手エントリー票　男'!O43)","v":""},"","","",null,null,null,0,0,0,0,0]
[43,{"$f":"IF('出場選手エントリー票　男'!B44=\"\",\"\",IF(MID('出場選手エントリー票　男'!B44,2,1)=\"0\",RIGHTB('出場選手エントリー票　男'!B44,3),RIGHTB('出場選手エントリー票　男'!B44,4)))","v":""},null,null,null,{"$f":"IF(B58=\"\",\"\",('出場選手エントリー票　男'!C44&\" \"&'出場選手エントリー票　男'!D44))","v":""},null,{"$f":"IF(B58=\"\",\"\",'出場選手エントリー票　男'!H44)","v":""},{"$f":"IF('出場選手エントリー票　男'!K44=\"\",\"\",'出場選手エントリー票　男'!K44)","v":""},{"$f":"IF('出場選手エントリー票　男'!L44=\"\",\"\",'出場選手エントリー票　男'!L44)","v":""},{"$f":"IF('出場選手エントリー票　男'!M44=\"\",\"\",'出場選手エントリー票　男'!M44)","v":""},{"$f":"IF('出場選手エントリー票　男'!N44=\"\",\"\",VALUE('出場選手エントリー票　男'!N44))","v":""},{"$f":"IF('出場選手エントリー票　男'!O44=\"\",\"\",'出場選手エントリー票　男'!O44)","v":""},"","","",null,null,null,0,0,0,0,0]
[44,{"$f":"IF('出場選手エントリー票　男'!B45=\"\",\"\",IF(MID('出場選手エントリー票　男'!B45,2,1)=\"0\",RIGHTB('出場選手エントリー票　男'!B45,3),RIGHTB('出場選手エントリー票　男'!B45,4)))","v":""},null,null,null,{"$f":"IF(B59=\"\",\"\",('出場選手エントリー票　男'!C45&\" \"&'出場選手エントリー票　男'!D45))","v":""},null,{"$f":"IF(B59=\"\",\"\",'出場選手エントリー票　男'!H45)","v":""},{"$f":"IF('出場選手エントリー票　男'!K45=\"\",\"\",'出場選手エントリー票　男'!K45)","v":""},{"$f":"IF('出場選手エントリー票　男'!L45=\"\",\"\",'出場選手エントリー票　男'!L45)","v":""},{"$f":"IF('出場選手エントリー票　男'!M45=\"\",\"\",'出場選手エントリー票　男'!M45)","v":""},{"$f":"IF('出場選手エントリー票　男'!N45=\"\",\"\",VALUE('出場選手エントリー票　男'!N45))","v":""},{"$f":"IF('出場選手エントリー票　男'!O45=\"\",\"\",'出場選手エントリー票　男'!O45)","v":""},"","","",null,null,null,0,0,0,0,0]
[45,{"$f":"IF('出場選手エントリー票　男'!B46=\"\",\"\",IF(MID('出場選手エントリー票　男'!B46,2,1)=\"0\",RIGHTB('出場選手エントリー票　男'!B46,3),RIGHTB('出場選手エントリー票　男'!B46,4)))","v":""},null,null,null,{"$f":"IF(B60=\"\",\"\",('出場選手エントリー票　男'!C46&\" \"&'出場選手エントリー票　男'!D46))","v":""},null,{"$f":"IF(B60=\"\",\"\",'出場選手エントリー票　男'!H46)","v":""},{"$f":"IF('出場選手エントリー票　男'!K46=\"\",\"\",'出場選手エントリー票　男'!K46)","v":""},{"$f":"IF('出場選手エントリー票　男'!L46=\"\",\"\",'出場選手エントリー票　男'!L46)","v":""},{"$f":"IF('出場選手エントリー票　男'!M46=\"\",\"\",'出場選手エントリー票　男'!M46)","v":""},{"$f":"IF('出場選手エントリー票　男'!N46=\"\",\"\",VALUE('出場選手エントリー票　男'!N46))","v":""},{"$f":"IF('出場選手エントリー票　男'!O46=\"\",\"\",'出場選手エントリー票　男'!O46)","v":""},"","","",null,null,null,0,0,0,0,0]
[46,{"$f":"IF('出場選手エントリー票　男'!B47=\"\",\"\",IF(MID('出場選手エントリー票　男'!B47,2,1)=\"0\",RIGHTB('出場選手エントリー票　男'!B47,3),RIGHTB('出場選手エントリー票　男'!B47,4)))","v":""},null,null,null,{"$f":"IF(B61=\"\",\"\",('出場選手エントリー票　男'!C47&\" \"&'出場選手エントリー票　男'!D47))","v":""},null,{"$f":"IF(B61=\"\",\"\",'出場選手エントリー票　男'!H47)","v":""},{"$f":"IF('出場選手エントリー票　男'!K47=\"\",\"\",'出場選手エントリー票　男'!K47)","v":""},{"$f":"IF('出場選手エントリー票　男'!L47=\"\",\"\",'出場選手エントリー票　男'!L47)","v":""},{"$f":"IF('出場選手エントリー票　男'!M47=\"\",\"\",'出場選手エントリー票　男'!M47)","v":""},{"$f":"IF('出場選手エントリー票　男'!N47=\"\",\"\",VALUE('出場選手エントリー票　男'!N47))","v":""},{"$f":"IF('出場選手エントリー票　男'!O47=\"\",\"\",'出場選手エントリー票　男'!O47)","v":""},"","","",null,null,null,0,0,0,0,0]
[47,{"$f":"IF('出場選手エントリー票　男'!B48=\"\",\"\",IF(MID('出場選手エントリー票　男'!B48,2,1)=\"0\",RIGHTB('出場選手エントリー票　男'!B48,3),RIGHTB('出場選手エントリー票　男'!B48,4)))","v":""},null,null,null,{"$f":"IF(B62=\"\",\"\",('出場選手エントリー票　男'!C48&\" \"&'出場選手エントリー票　男'!D48))","v":""},null,{"$f":"IF(B62=\"\",\"\",'出場選手エントリー票　男'!H48)","v":""},{"$f":"IF('出場選手エントリー票　男'!K48=\"\",\"\",'出場選手エントリー票　男'!K48)","v":""},{"$f":"IF('出場選手エントリー票　男'!L48=\"\",\"\",'出場選手エントリー票　男'!L48)","v":""},{"$f":"IF('出場選手エントリー票　男'!M48=\"\",\"\",'出場選手エントリー票　男'!M48)","v":""},{"$f":"IF('出場選手エントリー票　男'!N48=\"\",\"\",VALUE('出場選手エントリー票　男'!N48))","v":""},{"$f":"IF('出場選手エントリー票　男'!O48=\"\",\"\",'出場選手エントリー票　男'!O48)","v":""},"","","",null,null,null,0,0,0,0,0]
[48,{"$f":"IF('出場選手エントリー票　男'!B49=\"\",\"\",IF(MID('出場選手エントリー票　男'!B49,2,1)=\"0\",RIGHTB('出場選手エントリー票　男'!B49,3),RIGHTB('出場選手エントリー票　男'!B49,4)))","v":""},null,null,null,{"$f":"IF(B63=\"\",\"\",('出場選手エントリー票　男'!C49&\" \"&'出場選手エントリー票　男'!D49))","v":""},null,{"$f":"IF(B63=\"\",\"\",'出場選手エントリー票　男'!H49)","v":""},{"$f":"IF('出場選手エントリー票　男'!K49=\"\",\"\",'出場選手エントリー票　男'!K49)","v":""},{"$f":"IF('出場選手エントリー票　男'!L49=\"\",\"\",'出場選手エントリー票　男'!L49)","v":""},{"$f":"IF('出場選手エントリー票　男'!M49=\"\",\"\",'出場選手エントリー票　男'!M49)","v":""},{"$f":"IF('出場選手エントリー票　男'!N49=\"\",\"\",VALUE('出場選手エントリー票　男'!N49))","v":""},{"$f":"IF('出場選手エントリー票　男'!O49=\"\",\"\",'出場選手エントリー票　男'!O49)","v":""},"","","",null,null,null,0,0,0,0,0]
[49,{"$f":"IF('出場選手エントリー票　男'!B50=\"\",\"\",IF(MID('出場選手エントリー票　男'!B50,2,1)=\"0\",RIGHTB('出場選手エントリー票　男'!B50,3),RIGHTB('出場選手エントリー票　男'!B50,4)))","v":""},null,null,null,{"$f":"IF(B64=\"\",\"\",('出場選手エントリー票　男'!C50&\" \"&'出場選手エントリー票　男'!D50))","v":""},null,{"$f":"IF(B64=\"\",\"\",'出場選手エントリー票　男'!H50)","v":""},{"$f":"IF('出場選手エントリー票　男'!K50=\"\",\"\",'出場選手エントリー票　男'!K50)","v":""},{"$f":"IF('出場選手エントリー票　男'!L50=\"\",\"\",'出場選手エントリー票　男'!L50)","v":""},{"$f":"IF('出場選手エントリー票　男'!M50=\"\",\"\",'出場選手エントリー票　男'!M50)","v":""},{"$f":"IF('出場選手エントリー票　男'!N50=\"\",\"\",VALUE('出場選手エントリー票　男'!N50))","v":""},{"$f":"IF('出場選手エントリー票　男'!O50=\"\",\"\",'出場選手エントリー票　男'!O50)","v":""},"","","",null,null,null,0,0,0,0,0]
[50,{"$f":"IF('出場選手エントリー票　男'!B51=\"\",\"\",IF(MID('出場選手エントリー票　男'!B51,2,1)=\"0\",RIGHTB('出場選手エントリー票　男'!B51,3),RIGHTB('出場選手エントリー票　男'!B51,4)))","v":""},null,null,null,{"$f":"IF(B65=\"\",\"\",('出場選手エントリー票　男'!C51&\" \"&'出場選手エントリー票　男'!D51))","v":""},null,{"$f":"IF(B65=\"\",\"\",'出場選手エントリー票　男'!H51)","v":""},{"$f":"IF('出場選手エントリー票　男'!K51=\"\",\"\",'出場選手エントリー票　男'!K51)","v":""},{"$f":"IF('出場選手エントリー票　男'!L51=\"\",\"\",'出場選手エントリー票　男'!L51)","v":""},{"$f":"IF('出場選手エントリー票　男'!M51=\"\",\"\",'出場選手エントリー票　男'!M51)","v":""},{"$f":"IF('出場選手エントリー票　男'!N51=\"\",\"\",VALUE('出場選手エントリー票　男'!N51))","v":""},{"$f":"IF('出場選手エントリー票　男'!O51=\"\",\"\",'出場選手エントリー票　男'!O51)","v":""},"","","",null,null,null,0,0,0,0,0]
[51,{"$f":"IF('出場選手エントリー票　男'!B52=\"\",\"\",IF(MID('出場選手エントリー票　男'!B52,2,1)=\"0\",RIGHTB('出場選手エントリー票　男'!B52,3),RIGHTB('出場選手エントリー票　男'!B52,4)))","v":""},null,null,null,{"$f":"IF(B66=\"\",\"\",('出場選手エントリー票　男'!C52&\" \"&'出場選手エントリー票　男'!D52))","v":""},null,{"$f":"IF(B66=\"\",\"\",'出場選手エントリー票　男'!H52)","v":""},{"$f":"IF('出場選手エントリー票　男'!K52=\"\",\"\",'出場選手エントリー票　男'!K52)","v":""},{"$f":"IF('出場選手エントリー票　男'!L52=\"\",\"\",'出場選手エントリー票　男'!L52)","v":""},{"$f":"IF('出場選手エントリー票　男'!M52=\"\",\"\",'出場選手エントリー票　男'!M52)","v":""},{"$f":"IF('出場選手エントリー票　男'!N52=\"\",\"\",VALUE('出場選手エントリー票　男'!N52))","v":""},{"$f":"IF('出場選手エントリー票　男'!O52=\"\",\"\",'出場選手エントリー票　男'!O52)","v":""},"","","",null,null,null,0,0,0,0,0]
[52,{"$f":"IF('出場選手エントリー票　男'!B53=\"\",\"\",IF(MID('出場選手エントリー票　男'!B53,2,1)=\"0\",RIGHTB('出場選手エントリー票　男'!B53,3),RIGHTB('出場選手エントリー票　男'!B53,4)))","v":""},null,null,null,{"$f":"IF(B67=\"\",\"\",('出場選手エントリー票　男'!C53&\" \"&'出場選手エントリー票　男'!D53))","v":""},null,{"$f":"IF(B67=\"\",\"\",'出場選手エントリー票　男'!H53)","v":""},{"$f":"IF('出場選手エントリー票　男'!K53=\"\",\"\",'出場選手エントリー票　男'!K53)","v":""},{"$f":"IF('出場選手エントリー票　男'!L53=\"\",\"\",'出場選手エントリー票　男'!L53)","v":""},{"$f":"IF('出場選手エントリー票　男'!M53=\"\",\"\",'出場選手エントリー票　男'!M53)","v":""},{"$f":"IF('出場選手エントリー票　男'!N53=\"\",\"\",VALUE('出場選手エントリー票　男'!N53))","v":""},{"$f":"IF('出場選手エントリー票　男'!O53=\"\",\"\",'出場選手エントリー票　男'!O53)","v":""},"","","",null,null,null,0,0,0,0,0]
[53,{"$f":"IF('出場選手エントリー票　男'!B54=\"\",\"\",IF(MID('出場選手エントリー票　男'!B54,2,1)=\"0\",RIGHTB('出場選手エントリー票　男'!B54,3),RIGHTB('出場選手エントリー票　男'!B54,4)))","v":""},null,null,null,{"$f":"IF(B68=\"\",\"\",('出場選手エントリー票　男'!C54&\" \"&'出場選手エントリー票　男'!D54))","v":""},null,{"$f":"IF(B68=\"\",\"\",'出場選手エントリー票　男'!H54)","v":""},{"$f":"IF('出場選手エントリー票　男'!K54=\"\",\"\",'出場選手エントリー票　男'!K54)","v":""},{"$f":"IF('出場選手エントリー票　男'!L54=\"\",\"\",'出場選手エントリー票　男'!L54)","v":""},{"$f":"IF('出場選手エントリー票　男'!M54=\"\",\"\",'出場選手エントリー票　男'!M54)","v":""},{"$f":"IF('出場選手エントリー票　男'!N54=\"\",\"\",VALUE('出場選手エントリー票　男'!N54))","v":""},{"$f":"IF('出場選手エントリー票　男'!O54=\"\",\"\",'出場選手エントリー票　男'!O54)","v":""},"","","",null,null,null,0,0,0,0,0]
[54,{"$f":"IF('出場選手エントリー票　男'!B55=\"\",\"\",IF(MID('出場選手エントリー票　男'!B55,2,1)=\"0\",RIGHTB('出場選手エントリー票　男'!B55,3),RIGHTB('出場選手エントリー票　男'!B55,4)))","v":""},null,null,null,{"$f":"IF(B69=\"\",\"\",('出場選手エントリー票　男'!C55&\" \"&'出場選手エントリー票　男'!D55))","v":""},null,{"$f":"IF(B69=\"\",\"\",'出場選手エントリー票　男'!H55)","v":""},{"$f":"IF('出場選手エントリー票　男'!K55=\"\",\"\",'出場選手エントリー票　男'!K55)","v":""},{"$f":"IF('出場選手エントリー票　男'!L55=\"\",\"\",'出場選手エントリー票　男'!L55)","v":""},{"$f":"IF('出場選手エントリー票　男'!M55=\"\",\"\",'出場選手エントリー票　男'!M55)","v":""},{"$f":"IF('出場選手エントリー票　男'!N55=\"\",\"\",VALUE('出場選手エントリー票　男'!N55))","v":""},{"$f":"IF('出場選手エントリー票　男'!O55=\"\",\"\",'出場選手エントリー票　男'!O55)","v":""},"","","",null,null,null,0,0,0,0,0]
[55,{"$f":"IF('出場選手エントリー票　男'!B56=\"\",\"\",IF(MID('出場選手エントリー票　男'!B56,2,1)=\"0\",RIGHTB('出場選手エントリー票　男'!B56,3),RIGHTB('出場選手エントリー票　男'!B56,4)))","v":""},null,null,null,{"$f":"IF(B70=\"\",\"\",('出場選手エントリー票　男'!C56&\" \"&'出場選手エントリー票　男'!D56))","v":""},null,{"$f":"IF(B70=\"\",\"\",'出場選手エントリー票　男'!H56)","v":""},{"$f":"IF('出場選手エントリー票　男'!K56=\"\",\"\",'出場選手エントリー票　男'!K56)","v":""},{"$f":"IF('出場選手エントリー票　男'!L56=\"\",\"\",'出場選手エントリー票　男'!L56)","v":""},{"$f":"IF('出場選手エントリー票　男'!M56=\"\",\"\",'出場選手エントリー票　男'!M56)","v":""},{"$f":"IF('出場選手エントリー票　男'!N56=\"\",\"\",VALUE('出場選手エントリー票　男'!N56))","v":""},{"$f":"IF('出場選手エントリー票　男'!O56=\"\",\"\",'出場選手エントリー票　男'!O56)","v":""},"","","",null,null,null,0,0,0,0,0]
[56,{"$f":"IF('出場選手エントリー票　男'!B57=\"\",\"\",IF(MID('出場選手エントリー票　男'!B57,2,1)=\"0\",RIGHTB('出場選手エントリー票　男'!B57,3),RIGHTB('出場選手エントリー票　男'!B57,4)))","v":""},null,null,null,{"$f":"IF(B71=\"\",\"\",('出場選手エントリー票　男'!C57&\" \"&'出場選手エントリー票　男'!D57))","v":""},null,{"$f":"IF(B71=\"\",\"\",'出場選手エントリー票　男'!H57)","v":""},{"$f":"IF('出場選手エントリー票　男'!K57=\"\",\"\",'出場選手エントリー票　男'!K57)","v":""},{"$f":"IF('出場選手エントリー票　男'!L57=\"\",\"\",'出場選手エントリー票　男'!L57)","v":""},{"$f":"IF('出場選手エントリー票　男'!M57=\"\",\"\",'出場選手エントリー票　男'!M57)","v":""},{"$f":"IF('出場選手エントリー票　男'!N57=\"\",\"\",VALUE('出場選手エントリー票　男'!N57))","v":""},{"$f":"IF('出場選手エントリー票　男'!O57=\"\",\"\",'出場選手エントリー票　男'!O57)","v":""},"","","",null,null,null,0,0,0,0,0]
[57,{"$f":"IF('出場選手エントリー票　男'!B58=\"\",\"\",IF(MID('出場選手エントリー票　男'!B58,2,1)=\"0\",RIGHTB('出場選手エントリー票　男'!B58,3),RIGHTB('出場選手エントリー票　男'!B58,4)))","v":""},null,null,null,{"$f":"IF(B72=\"\",\"\",('出場選手エントリー票　男'!C58&\" \"&'出場選手エントリー票　男'!D58))","v":""},null,{"$f":"IF(B72=\"\",\"\",'出場選手エントリー票　男'!H58)","v":""},{"$f":"IF('出場選手エントリー票　男'!K58=\"\",\"\",'出場選手エントリー票　男'!K58)","v":""},{"$f":"IF('出場選手エントリー票　男'!L58=\"\",\"\",'出場選手エントリー票　男'!L58)","v":""},{"$f":"IF('出場選手エントリー票　男'!M58=\"\",\"\",'出場選手エントリー票　男'!M58)","v":""},{"$f":"IF('出場選手エントリー票　男'!N58=\"\",\"\",VALUE('出場選手エントリー票　男'!N58))","v":""},{"$f":"IF('出場選手エントリー票　男'!O58=\"\",\"\",'出場選手エントリー票　男'!O58)","v":""},"","","",null,null,null,0,0,0,0,0]
[58,{"$f":"IF('出場選手エントリー票　男'!B59=\"\",\"\",IF(MID('出場選手エントリー票　男'!B59,2,1)=\"0\",RIGHTB('出場選手エントリー票　男'!B59,3),RIGHTB('出場選手エントリー票　男'!B59,4)))","v":""},null,null,null,{"$f":"IF(B73=\"\",\"\",('出場選手エントリー票　男'!C59&\" \"&'出場選手エントリー票　男'!D59))","v":""},null,{"$f":"IF(B73=\"\",\"\",'出場選手エントリー票　男'!H59)","v":""},{"$f":"IF('出場選手エントリー票　男'!K59=\"\",\"\",'出場選手エントリー票　男'!K59)","v":""},{"$f":"IF('出場選手エントリー票　男'!L59=\"\",\"\",'出場選手エントリー票　男'!L59)","v":""},{"$f":"IF('出場選手エントリー票　男'!M59=\"\",\"\",'出場選手エントリー票　男'!M59)","v":""},{"$f":"IF('出場選手エントリー票　男'!N59=\"\",\"\",VALUE('出場選手エントリー票　男'!N59))","v":""},{"$f":"IF('出場選手エントリー票　男'!O59=\"\",\"\",'出場選手エントリー票　男'!O59)","v":""},"","","",null,null,null,0,0,0,0,0]
[59,{"$f":"IF('出場選手エントリー票　男'!B60=\"\",\"\",IF(MID('出場選手エントリー票　男'!B60,2,1)=\"0\",RIGHTB('出場選手エントリー票　男'!B60,3),RIGHTB('出場選手エントリー票　男'!B60,4)))","v":""},null,null,null,{"$f":"IF(B74=\"\",\"\",('出場選手エントリー票　男'!C60&\" \"&'出場選手エントリー票　男'!D60))","v":""},null,{"$f":"IF(B74=\"\",\"\",'出場選手エントリー票　男'!H60)","v":""},{"$f":"IF('出場選手エントリー票　男'!K60=\"\",\"\",'出場選手エントリー票　男'!K60)","v":""},{"$f":"IF('出場選手エントリー票　男'!L60=\"\",\"\",'出場選手エントリー票　男'!L60)","v":""},{"$f":"IF('出場選手エントリー票　男'!M60=\"\",\"\",'出場選手エントリー票　男'!M60)","v":""},{"$f":"IF('出場選手エントリー票　男'!N60=\"\",\"\",VALUE('出場選手エントリー票　男'!N60))","v":""},{"$f":"IF('出場選手エントリー票　男'!O60=\"\",\"\",'出場選手エントリー票　男'!O60)","v":""},"","","",null,null,null,0,0,0,0,0]
[60,{"$f":"IF('出場選手エントリー票　男'!B61=\"\",\"\",IF(MID('出場選手エントリー票　男'!B61,2,1)=\"0\",RIGHTB('出場選手エントリー票　男'!B61,3),RIGHTB('出場選手エントリー票　男'!B61,4)))","v":""},null,null,null,{"$f":"IF(B75=\"\",\"\",('出場選手エントリー票　男'!C61&\" \"&'出場選手エントリー票　男'!D61))","v":""},null,{"$f":"IF(B75=\"\",\"\",'出場選手エントリー票　男'!H61)","v":""},{"$f":"IF('出場選手エントリー票　男'!K61=\"\",\"\",'出場選手エントリー票　男'!K61)","v":""},{"$f":"IF('出場選手エントリー票　男'!L61=\"\",\"\",'出場選手エントリー票　男'!L61)","v":""},{"$f":"IF('出場選手エントリー票　男'!M61=\"\",\"\",'出場選手エントリー票　男'!M61)","v":""},{"$f":"IF('出場選手エントリー票　男'!N61=\"\",\"\",VALUE('出場選手エントリー票　男'!N61))","v":""},{"$f":"IF('出場選手エントリー票　男'!O61=\"\",\"\",'出場選手エントリー票　男'!O61)","v":""},"","","",null,null,null,0,0,0,0,0]

{"sheet":"大会申込用紙 女","index":4,"n_rows":75,"n_cols":24,"rows_kept":75,"cut":false,"hidden":false,"merged":[[73,5,73,6],[74,5,74,6],[31,6,31,7],[32,6,32,7],[33,6,33,7],[34,6,34,7],[68,5,68,6],[69,5,69,6],[70,5,70,6],[71,5,71,6],[72,5,72,6],[63,5,63,6],[64,5,64,6],[65,5,65,6],[66,5,66,6],[67,5,67,6],[58,5,58,6],[59,5,59,6],[60,5,60,6],[61,5,61,6],[62,5,62,6],[53,5,53,6],[54,5,54,6],[55,5,55,6],[56,5,56,6],[57,5,57,6],[48,5,48,6],[49,5,49,6],[50,5,50,6],[51,5,51,6],[52,5,52,6],[43,5,43,6],[44,5,44,6],[45,5,45,6],[46,5,46,6],[47,5,47,6],[14,5,14,6],[15,5,15,6],[16,5,16,6],[17,5,17,6],[18,5,18,6],[38,5,38,6],[39,5,39,6],[40,5,40,6],[41,5,41,6],[19,5,19,6],[20,5,20,6],[21,5,21,6],[22,5,22,6],[24,5,24,6],[25,5,25,6],[26,5,26,6],[27,5,27,6],[28,5,28,6],[29,5,29,6],[35,5,35,6],[36,5,36,6],[37,5,37,6],[66,1,66,4],[51,1,51,4],[52,1,52,4],[45,1,45,4],[46,1,46,4],[50,1,50,4],[65,1,65,4],[48,1,48,4],[64,1,64,4],[63,1,63,4],[60,1,60,4],[57,1,57,4],[59,1,59,4],[58,1,58,4],[47,1,47,4],[62,1,62,4],[61,1,61,4],[56,1,56,4],[53,1,53,4],[49,1,49,4],[24,1,24,4],[33,10,33,11],[34,10,34,11],[33,8,33,9],[34,8,34,9],[32,8,32,9],[34,0,34,4],[33,0,33,4],[31,0,31,4],[32,0,32,4],[31,8,31,9],[42,5,42,6],[16,1,16,4],[27,1,27,4],[17,1,17,4],[35,1,35,4],[37,1,37,4],[40,1,40,4],[74,1,74,4],[67,1,67,4],[68,1,68,4],[69,1,69,4],[70,1,70,4],[71,1,71,4],[72,1,72,4],[73,1,73,4],[36,1,36,4],[43,1,43,4],[39,1,39,4],[41,1,41,4],[42,1,42,4],[44,1,44,4],[55,1,55,4],[54,1,54,4],[38,1,38,4],[0,14,0,15],[1,15,1,17],[8,0,9,0],[8,7,9,7],[1,0,1,3],[5,0,7,2],[2,0,4,2],[8,1,9,4],[0,1,0,8],[2,3,4,8],[5,3,7,8],[4,15,4,17],[4,11,4,13],[2,11,3,17],[2,9,3,10],[4,9,4,10],[5,11,6,17],[5,9,6,10],[7,9,7,10],[7,11,7,17],[13,5,13,6],[12,5,12,6],[29,1,29,4],[23,5,23,6],[10,1,10,4],[8,8,8,12],[8,13,8,17],[8,5,9,6],[10,5,10,6],[11,5,11,6],[11,1,11,4],[12,1,12,4],[18,1,18,4],[22,1,22,4],[25,1,25,4],[23,1,23,4],[28,1,28,4],[26,1,26,4],[21,1,21,4],[19,1,19,4],[20,1,20,4],[13,1,13,4],[14,1,14,4],[15,1,15,4]]}
[null,{"$f":"出場選手エントリー票!I1","v":"東京都高体連　第５・６支部　秋季競技会"},null,null,null,null,null,null,null,null,"大会申込用紙",null,null,null,"男子・女子"]
[{"$f":"IF(出場選手エントリー票!F2=\"\",\"\",出場選手エントリー票!E1&出場選手エントリー票!F1&出場選手エントリー票!H1)","v":"令和4年度"},null,null,null,null,null,null,null,null,null,null,null,null,null,null,"　№　　　　　　　　　　"]
["学校名",null,null,{"$f":"IF(出場選手エントリー票!AL151=0,学校情報!D2,\"人数制限を超える申し込みがあります\")","v":""},null,null,null,null,null,"学校所在地",null,{"$f":"'大会申込用紙 男'!K3:R4","v":0}]
[]
[null,null,null,null,null,null,null,null,null,"電　話",null,{"$f":"学校情報!K3","v":0},null,null,"FAX",{"$f":"学校情報!K4","v":0}]
["学校長\n氏名印",null,null,{"$f":"IF(OR(L2>6,M2>6),\"リレーは６人以内です　　　\",学校情報!D5)","v":0},null,null,null,null,null,"顧　問\n氏名印",null,{"$f":"学校情報!K5&\"　　㊞\"","v":"　　㊞"}]
[]
[null,null,null,null,null,null,null,null,null,"連絡先",null,{"$f":"学校情報!K6","v":0}]
["番号","ナンバー",null,null,null,"出場者氏名",null,"学年","予選種目",null,null,null,null,"都大会種目"]
[null,null,null,null,null,null,null,null,"個人","個人","個人","4x100","4x400","個人","個人","個人","4x100","4x400"]
[1,{"$f":"IF('出場選手エントリー票　女'!B2=\"\",\"\",IF(MID('出場選手エントリー票　女'!B2,2,1)=\"0\",RIGHTB('出場選手エントリー票　女'!B2,3),RIGHTB('出場選手エントリー票　女'!B2,4)))","v":""},null,null,null,{"$f":"IF(B11=\"\",\"\",('出場選手エントリー票　女'!C2&\" \"&'出場選手エントリー票　女'!D2))","v":""},null,{"$f":"IF(B11=\"\",\"\",'出場選手エントリー票　女'!H2)","v":""},{"$f":"IF('出場選手エントリー票　女'!K2=\"\",\"\",'出場選手エントリー票　女'!K2)","v":""},{"$f":"IF('出場選手エントリー票　女'!L2=\"\",\"\",'出場選手エントリー票　女'!L2)","v":""},{"$f":"IF('出場選手エントリー票　女'!M2=\"\",\"\",'出場選手エントリー票　女'!M2)","v":""},{"$f":"IF('出場選手エントリー票　女'!N2=\"\",\"\",VALUE('出場選手エントリー票　女'!N2))","v":""},{"$f":"IF('出場選手エントリー票　女'!O2=\"\",\"\",'出場選手エントリー票　女'!O2)","v":""},{"$f":"IF(I11=\"\",\"\",IF(COUNTIF(I11,\"*OP*\")>0,\"\",I11))","v":""},{"$f":"IF(J11=\"\",\"\",IF(COUNTIF(J11,\"*OP*\")>0,\"\",J11))","v":""},{"$f":"IF(K11=\"\",\"\",IF(COUNTIF(K11,\"*OP*\")>0,\"\",K11))","v":""},null,null,null,{"$f":"IF(I11=\"\",0,IF(I11=\"女子七種\",0,1))","v":0},{"$f":"IF(J11=\"\",0,IF(J11=\"女子七種\",0,1))","v":0},{"$f":"IF(K11=\"\",0,IF(K11=\"女子七種\",0,1))","v":0},{"$f":"IF(ISERROR(VALUE(L11)),0,VALUE(L11))","v":0},{"$f":"IF(ISERROR(VALUE(M11)),0,VALUE(M11))","v":0}]
[2,{"$f":"IF('出場選手エントリー票　女'!B3=\"\",\"\",IF(MID('出場選手エントリー票　女'!B3,2,1)=\"0\",RIGHTB('出場選手エントリー票　女'!B3,3),RIGHTB('出場選手エントリー票　女'!B3,4)))","v":""},null,null,null,{"$f":"IF(B12=\"\",\"\",('出場選手エントリー票　女'!C3&\" \"&'出場選手エントリー票　女'!D3))","v":""},null,{"$f":"IF(B12=\"\",\"\",'出場選手エントリー票　女'!H3)","v":""},{"$f":"IF('出場選手エントリー票　女'!K3=\"\",\"\",'出場選手エントリー票　女'!K3)","v":""},{"$f":"IF('出場選手エントリー票　女'!L3=\"\",\"\",'出場選手エントリー票　女'!L3)","v":""},{"$f":"IF('出場選手エントリー票　女'!M3=\"\",\"\",'出場選手エントリー票　女'!M3)","v":""},{"$f":"IF('出場選手エントリー票　女'!N3=\"\",\"\",VALUE('出場選手エントリー票　女'!N3))","v":""},{"$f":"IF('出場選手エントリー票　女'!O3=\"\",\"\",'出場選手エントリー票　女'!O3)","v":""},{"$f":"IF(I12=\"\",\"\",IF(COUNTIF(I12,\"*OP*\")>0,\"\",I12))","v":""},"","",null,null,null,0,0,0,0,0]
[3,{"$f":"IF('出場選手エントリー票　女'!B4=\"\",\"\",IF(MID('出場選手エントリー票　女'!B4,2,1)=\"0\",RIGHTB('出場選手エントリー票　女'!B4,3),RIGHTB('出場選手エントリー票　女'!B4,4)))","v":""},null,null,null,{"$f":"IF(B13=\"\",\"\",('出場選手エントリー票　女'!C4&\" \"&'出場選手エントリー票　女'!D4))","v":""},null,{"$f":"IF(B13=\"\",\"\",'出場選手エントリー票　女'!H4)","v":""},{"$f":"IF('出場選手エントリー票　女'!K4=\"\",\"\",'出場選手エントリー票　女'!K4)","v":""},{"$f":"IF('出場選手エントリー票　女'!L4=\"\",\"\",'出場選手エントリー票　女'!L4)","v":""},{"$f":"IF('出場選手エントリー票　女'!M4=\"\",\"\",'出場選手エントリー票　女'!M4)","v":""},{"$f":"IF('出場選手エントリー票　女'!N4=\"\",\"\",VALUE('出場選手エントリー票　女'!N4))","v":""},{"$f":"IF('出場選手エントリー票　女'!O4=\"\",\"\",'出場選手エントリー票　女'!O4)","v":""},"","","",null,null,null,0,0,0,0,0]
[4,{"$f":"IF('出場選手エントリー票　女'!B5=\"\",\"\",IF(MID('出場選手エントリー票　女'!B5,2,1)=\"0\",RIGHTB('出場選手エントリー票　女'!B5,3),RIGHTB('出場選手エントリー票　女'!B5,4)))","v":""},null,null,null,{"$f":"IF(B14=\"\",\"\",('出場選手エントリー票　女'!C5&\" \"&'出場選手エントリー票　女'!D5))","v":""},null,{"$f":"IF(B14=\"\",\"\",'出場選手エントリー票　女'!H5)","v":""},{"$f":"IF('出場選手エントリー票　女'!K5=\"\",\"\",'出場選手エントリー票　女'!K5)","v":""},{"$f":"IF('出場選手エントリー票　女'!L5=\"\",\"\",'出場選手エントリー票　女'!L5)","v":""},{"$f":"IF('出場選手エントリー票　女'!M5=\"\",\"\",'出場選手エントリー票　女'!M5)","v":""},{"$f":"IF('出場選手エントリー票　女'!N5=\"\",\"\",VALUE('出場選手エントリー票　女'!N5))","v":""},{"$f":"IF('出場選手エントリー票　女'!O5=\"\",\"\",'出場選手エントリー票　女'!O5)","v":""},"","","",null,null,null,0,0,0,0,0]
[5,{"$f":"IF('出場選手エントリー票　女'!B6=\"\",\"\",IF(MID('出場選手エントリー票　女'!B6,2,1)=\"0\",RIGHTB('出場選手エントリー票　女'!B6,3),RIGHTB('出場選手エントリー票　女'!B6,4)))","v":""},null,null,null,{"$f":"IF(B15=\"\",\"\",('出場選手エントリー票　女'!C6&\" \"&'出場選手エントリー票　女'!D6))","v":""},null,{"$f":"IF(B15=\"\",\"\",'出場選手エントリー票　女'!H6)","v":""},{"$f":"IF('出場選手エントリー票　女'!K6=\"\",\"\",'出場選手エントリー票　女'!K6)","v":""},{"$f":"IF('出場選手エントリー票　女'!L6=\"\",\"\",'出場選手エントリー票　女'!L6)","v":""},{"$f":"IF('出場選手エントリー票　女'!M6=\"\",\"\",'出場選手エントリー票　女'!M6)","v":""},{"$f":"IF('出場選手エントリー票　女'!N6=\"\",\"\",VALUE('出場選手エントリー票　女'!N6))","v":""},{"$f":"IF('出場選手エントリー票　女'!O6=\"\",\"\",'出場選手エントリー票　女'!O6)","v":""},"","","",null,null,null,0,0,0,0,0]
[6,{"$f":"IF('出場選手エントリー票　女'!B7=\"\",\"\",IF(MID('出場選手エントリー票　女'!B7,2,1)=\"0\",RIGHTB('出場選手エントリー票　女'!B7,3),RIGHTB('出場選手エントリー票　女'!B7,4)))","v":""},null,null,null,{"$f":"IF(B16=\"\",\"\",('出場選手エントリー票　女'!C7&\" \"&'出場選手エントリー票　女'!D7))","v":""},null,{"$f":"IF(B16=\"\",\"\",'出場選手エントリー票　女'!H7)","v":""},{"$f":"IF('出場選手エントリー票　女'!K7=\"\",\"\",'出場選手エントリー票　女'!K7)","v":""},{"$f":"IF('出場選手エントリー票　女'!L7=\"\",\"\",'出場選手エントリー票　女'!L7)","v":""},{"$f":"IF('出場選手エントリー票　女'!M7=\"\",\"\",'出場選手エントリー票　女'!M7)","v":""},{"$f":"IF('出場選手エントリー票　女'!N7=\"\",\"\",VALUE('出場選手エントリー票　女'!N7))","v":""},{"$f":"IF('出場選手エントリー票　女'!O7=\"\",\"\",'出場選手エントリー票　女'!O7)","v":""},"","","",null,null,null,0,0,0,0,0]
[7,{"$f":"IF('出場選手エントリー票　女'!B8=\"\",\"\",IF(MID('出場選手エントリー票　女'!B8,2,1)=\"0\",RIGHTB('出場選手エントリー票　女'!B8,3),RIGHTB('出場選手エントリー票　女'!B8,4)))","v":""},null,null,null,{"$f":"IF(B17=\"\",\"\",('出場選手エントリー票　女'!C8&\" \"&'出場選手エントリー票　女'!D8))","v":""},null,{"$f":"IF(B17=\"\",\"\",'出場選手エントリー票　女'!H8)","v":""},{"$f":"IF('出場選手エントリー票　女'!K8=\"\",\"\",'出場選手エントリー票　女'!K8)","v":""},{"$f":"IF('出場選手エントリー票　女'!L8=\"\",\"\",'出場選手エントリー票　女'!L8)","v":""},{"$f":"IF('出場選手エントリー票　女'!M8=\"\",\"\",'出場選手エントリー票　女'!M8)","v":""},{"$f":"IF('出場選手エントリー票　女'!N8=\"\",\"\",VALUE('出場選手エントリー票　女'!N8))","v":""},{"$f":"IF('出場選手エントリー票　女'!O8=\"\",\"\",'出場選手エントリー票　女'!O8)","v":""},"","","",null,null,null,0,0,0,0,0]
[8,{"$f":"IF('出場選手エントリー票　女'!B9=\"\",\"\",IF(MID('出場選手エントリー票　女'!B9,2,1)=\"0\",RIGHTB('出場選手エントリー票　女'!B9,3),RIGHTB('出場選手エントリー票　女'!B9,4)))","v":""},null,null,null,{"$f":"IF(B18=\"\",\"\",('出場選手エントリー票　女'!C9&\" \"&'出場選手エントリー票　女'!D9))","v":""},null,{"$f":"IF(B18=\"\",\"\",'出場選手エントリー票　女'!H9)","v":""},{"$f":"IF('出場選手エントリー票　女'!K9=\"\",\"\",'出場選手エントリー票　女'!K9)","v":""},{"$f":"IF('出場選手エントリー票　女'!L9=\"\",\"\",'出場選手エントリー票　女'!L9)","v":""},{"$f":"IF('出場選手エントリー票　女'!M9=\"\",\"\",'出場選手エントリー票　女'!M9)","v":""},{"$f":"IF('出場選手エントリー票　女'!N9=\"\",\"\",VALUE('出場選手エントリー票　女'!N9))","v":""},{"$f":"IF('出場選手エントリー票　女'!O9=\"\",\"\",'出場選手エントリー票　女'!O9)","v":""},"","","",null,null,null,0,0,0,0,0]
[9,{"$f":"IF('出場選手エントリー票　女'!B10=\"\",\"\",IF(MID('出場選手エントリー票　女'!B10,2,1)=\"0\",RIGHTB('出場選手エントリー票　女'!B10,3),RIGHTB('出場選手エントリー票　女'!B10,4)))","v":""},null,null,null,{"$f":"IF(B19=\"\",\"\",('出場選手エントリー票　女'!C10&\" \"&'出場選手エントリー票　女'!D10))","v":""},null,{"$f":"IF(B19=\"\",\"\",'出場選手エントリー票　女'!H10)","v":""},{"$f":"IF('出場選手エントリー票　女'!K10=\"\",\"\",'出場選手エントリー票　女'!K10)","v":""},{"$f":"IF('出場選手エントリー票　女'!L10=\"\",\"\",'出場選手エントリー票　女'!L10)","v":""},{"$f":"IF('出場選手エントリー票　女'!M10=\"\",\"\",'出場選手エントリー票　女'!M10)","v":""},{"$f":"IF('出場選手エントリー票　女'!N10=\"\",\"\",VALUE('出場選手エントリー票　女'!N10))","v":""},{"$f":"IF('出場選手エントリー票　女'!O10=\"\",\"\",'出場選手エントリー票　女'!O10)","v":""},"","","",null,null,null,0,0,0,0,0]
[10,{"$f":"IF('出場選手エントリー票　女'!B11=\"\",\"\",IF(MID('出場選手エントリー票　女'!B11,2,1)=\"0\",RIGHTB('出場選手エントリー票　女'!B11,3),RIGHTB('出場選手エントリー票　女'!B11,4)))","v":""},null,null,null,{"$f":"IF(B20=\"\",\"\",('出場選手エントリー票　女'!C11&\" \"&'出場選手エントリー票　女'!D11))","v":""},null,{"$f":"IF(B20=\"\",\"\",'出場選手エントリー票　女'!H11)","v":""},{"$f":"IF('出場選手エントリー票　女'!K11=\"\",\"\",'出場選手エントリー票　女'!K11)","v":""},{"$f":"IF('出場選手エントリー票　女'!L11=\"\",\"\",'出場選手エントリー票　女'!L11)","v":""},{"$f":"IF('出場選手エントリー票　女'!M11=\"\",\"\",'出場選手エントリー票　女'!M11)","v":""},{"$f":"IF('出場選手エントリー票　女'!N11=\"\",\"\",VALUE('出場選手エントリー票　女'!N11))","v":""},{"$f":"IF('出場選手エントリー票　女'!O11=\"\",\"\",'出場選手エントリー票　女'!O11)","v":""},"","","",null,null,null,0,0,0,0,0]
[11,{"$f":"IF('出場選手エントリー票　女'!B12=\"\",\"\",IF(MID('出場選手エントリー票　女'!B12,2,1)=\"0\",RIGHTB('出場選手エントリー票　女'!B12,3),RIGHTB('出場選手エントリー票　女'!B12,4)))","v":""},null,null,null,{"$f":"IF(B21=\"\",\"\",('出場選手エントリー票　女'!C12&\" \"&'出場選手エントリー票　女'!D12))","v":""},null,{"$f":"IF(B21=\"\",\"\",'出場選手エントリー票　女'!H12)","v":""},{"$f":"IF('出場選手エントリー票　女'!K12=\"\",\"\",'出場選手エントリー票　女'!K12)","v":""},{"$f":"IF('出場選手エントリー票　女'!L12=\"\",\"\",'出場選手エントリー票　女'!L12)","v":""},{"$f":"IF('出場選手エントリー票　女'!M12=\"\",\"\",'出場選手エントリー票　女'!M12)","v":""},{"$f":"IF('出場選手エントリー票　女'!N12=\"\",\"\",VALUE('出場選手エントリー票　女'!N12))","v":""},{"$f":"IF('出場選手エントリー票　女'!O12=\"\",\"\",'出場選手エントリー票　女'!O12)","v":""},"","","",null,null,null,0,0,0,0,0]
[12,{"$f":"IF('出場選手エントリー票　女'!B13=\"\",\"\",IF(MID('出場選手エントリー票　女'!B13,2,1)=\"0\",RIGHTB('出場選手エントリー票　女'!B13,3),RIGHTB('出場選手エントリー票　女'!B13,4)))","v":""},null,null,null,{"$f":"IF(B22=\"\",\"\",('出場選手エントリー票　女'!C13&\" \"&'出場選手エントリー票　女'!D13))","v":""},null,{"$f":"IF(B22=\"\",\"\",'出場選手エントリー票　女'!H13)","v":""},{"$f":"IF('出場選手エントリー票　女'!K13=\"\",\"\",'出場選手エントリー票　女'!K13)","v":""},{"$f":"IF('出場選手エントリー票　女'!L13=\"\",\"\",'出場選手エントリー票　女'!L13)","v":""},{"$f":"IF('出場選手エントリー票　女'!M13=\"\",\"\",'出場選手エントリー票　女'!M13)","v":""},{"$f":"IF('出場選手エントリー票　女'!N13=\"\",\"\",VALUE('出場選手エントリー票　女'!N13))","v":""},{"$f":"IF('出場選手エントリー票　女'!O13=\"\",\"\",'出場選手エントリー票　女'!O13)","v":""},"","","",null,null,null,0,0,0,0,0]
[13,{"$f":"IF('出場選手エントリー票　女'!B14=\"\",\"\",IF(MID('出場選手エントリー票　女'!B14,2,1)=\"0\",RIGHTB('出場選手エントリー票　女'!B14,3),RIGHTB('出場選手エントリー票　女'!B14,4)))","v":""},null,null,null,{"$f":"IF(B23=\"\",\"\",('出場選手エントリー票　女'!C14&\" \"&'出場選手エントリー票　女'!D14))","v":""},null,{"$f":"IF(B23=\"\",\"\",'出場選手エントリー票　女'!H14)","v":""},{"$f":"IF('出場選手エントリー票　女'!K14=\"\",\"\",'出場選手エントリー票　女'!K14)","v":""},{"$f":"IF('出場選手エントリー票　女'!L14=\"\",\"\",'出場選手エントリー票　女'!L14)","v":""},{"$f":"IF('出場選手エントリー票　女'!M14=\"\",\"\",'出場選手エントリー票　女'!M14)","v":""},{"$f":"IF('出場選手エントリー票　女'!N14=\"\",\"\",VALUE('出場選手エントリー票　女'!N14))","v":""},{"$f":"IF('出場選手エントリー票　女'!O14=\"\",\"\",'出場選手エントリー票　女'!O14)","v":""},"","","",null,null,null,0,0,0,0,0]
[14,{"$f":"IF('出場選手エントリー票　女'!B15=\"\",\"\",IF(MID('出場選手エントリー票　女'!B15,2,1)=\"0\",RIGHTB('出場選手エントリー票　女'!B15,3),RIGHTB('出場選手エントリー票　女'!B15,4)))","v":""},null,null,null,{"$f":"IF(B24=\"\",\"\",('出場選手エントリー票　女'!C15&\" \"&'出場選手エントリー票　女'!D15))","v":""},null,{"$f":"IF(B24=\"\",\"\",'出場選手エントリー票　女'!H15)","v":""},{"$f":"IF('出場選手エントリー票　女'!K15=\"\",\"\",'出場選手エントリー票　女'!K15)","v":""},{"$f":"IF('出場選手エントリー票　女'!L15=\"\",\"\",'出場選手エントリー票　女'!L15)","v":""},{"$f":"IF('出場選手エントリー票　女'!M15=\"\",\"\",'出場選手エントリー票　女'!M15)","v":""},{"$f":"IF('出場選手エントリー票　女'!N15=\"\",\"\",VALUE('出場選手エントリー票　女'!N15))","v":""},{"$f":"IF('出場選手エントリー票　女'!O15=\"\",\"\",'出場選手エントリー票　女'!O15)","v":""},"","","",null,null,null,0,0,0,0,0]
[15,{"$f":"IF('出場選手エントリー票　女'!B16=\"\",\"\",IF(MID('出場選手エントリー票　女'!B16,2,1)=\"0\",RIGHTB('出場選手エントリー票　女'!B16,3),RIGHTB('出場選手エントリー票　女'!B16,4)))","v":""},null,null,null,{"$f":"IF(B25=\"\",\"\",('出場選手エントリー票　女'!C16&\" \"&'出場選手エントリー票　女'!D16))","v":""},null,{"$f":"IF(B25=\"\",\"\",'出場選手エントリー票　女'!H16)","v":""},{"$f":"IF('出場選手エントリー票　女'!K16=\"\",\"\",'出場選手エントリー票　女'!K16)","v":""},{"$f":"IF('出場選手エントリー票　女'!L16=\"\",\"\",'出場選手エントリー票　女'!L16)","v":""},{"$f":"IF('出場選手エントリー票　女'!M16=\"\",\"\",'出場選手エントリー票　女'!M16)","v":""},{"$f":"IF('出場選手エントリー票　女'!N16=\"\",\"\",VALUE('出場選手エントリー票　女'!N16))","v":""},{"$f":"IF('出場選手エントリー票　女'!O16=\"\",\"\",'出場選手エントリー票　女'!O16)","v":""},"","","",null,null,null,0,0,0,0,0]
[16,{"$f":"IF('出場選手エントリー票　女'!B17=\"\",\"\",IF(MID('出場選手エントリー票　女'!B17,2,1)=\"0\",RIGHTB('出場選手エントリー票　女'!B17,3),RIGHTB('出場選手エントリー票　女'!B17,4)))","v":""},null,null,null,{"$f":"IF(B26=\"\",\"\",('出場選手エントリー票　女'!C17&\" \"&'出場選手エントリー票　女'!D17))","v":""},null,{"$f":"IF(B26=\"\",\"\",'出場選手エントリー票　女'!H17)","v":""},{"$f":"IF('出場選手エントリー票　女'!K17=\"\",\"\",'出場選手エントリー票　女'!K17)","v":""},{"$f":"IF('出場選手エントリー票　女'!L17=\"\",\"\",'出場選手エントリー票　女'!L17)","v":""},{"$f":"IF('出場選手エントリー票　女'!M17=\"\",\"\",'出場選手エントリー票　女'!M17)","v":""},{"$f":"IF('出場選手エントリー票　女'!N17=\"\",\"\",VALUE('出場選手エントリー票　女'!N17))","v":""},{"$f":"IF('出場選手エントリー票　女'!O17=\"\",\"\",'出場選手エントリー票　女'!O17)","v":""},"","","",null,null,null,0,0,0,0,0]
[17,{"$f":"IF('出場選手エントリー票　女'!B18=\"\",\"\",IF(MID('出場選手エントリー票　女'!B18,2,1)=\"0\",RIGHTB('出場選手エントリー票　女'!B18,3),RIGHTB('出場選手エントリー票　女'!B18,4)))","v":""},null,null,null,{"$f":"IF(B27=\"\",\"\",('出場選手エントリー票　女'!C18&\" \"&'出場選手エントリー票　女'!D18))","v":""},null,{"$f":"IF(B27=\"\",\"\",'出場選手エントリー票　女'!H18)","v":""},{"$f":"IF('出場選手エントリー票　女'!K18=\"\",\"\",'出場選手エントリー票　女'!K18)","v":""},{"$f":"IF('出場選手エントリー票　女'!L18=\"\",\"\",'出場選手エントリー票　女'!L18)","v":""},{"$f":"IF('出場選手エントリー票　女'!M18=\"\",\"\",'出場選手エントリー票　女'!M18)","v":""},{"$f":"IF('出場選手エントリー票　女'!N18=\"\",\"\",VALUE('出場選手エントリー票　女'!N18))","v":""},{"$f":"IF('出場選手エントリー票　女'!O18=\"\",\"\",'出場選手エントリー票　女'!O18)","v":""},"","","",null,null,null,0,0,0,0,0]
[18,{"$f":"IF('出場選手エントリー票　女'!B19=\"\",\"\",IF(MID('出場選手エントリー票　女'!B19,2,1)=\"0\",RIGHTB('出場選手エントリー票　女'!B19,3),RIGHTB('出場選手エントリー票　女'!B19,4)))","v":""},null,null,null,{"$f":"IF(B28=\"\",\"\",('出場選手エントリー票　女'!C19&\" \"&'出場選手エントリー票　女'!D19))","v":""},null,{"$f":"IF(B28=\"\",\"\",'出場選手エントリー票　女'!H19)","v":""},{"$f":"IF('出場選手エントリー票　女'!K19=\"\",\"\",'出場選手エントリー票　女'!K19)","v":""},{"$f":"IF('出場選手エントリー票　女'!L19=\"\",\"\",'出場選手エントリー票　女'!L19)","v":""},{"$f":"IF('出場選手エントリー票　女'!M19=\"\",\"\",'出場選手エントリー票　女'!M19)","v":""},{"$f":"IF('出場選手エントリー票　女'!N19=\"\",\"\",VALUE('出場選手エントリー票　女'!N19))","v":""},{"$f":"IF('出場選手エントリー票　女'!O19=\"\",\"\",'出場選手エントリー票　女'!O19)","v":""},"","","",null,null,null,0,0,0,0,0]
[19,{"$f":"IF('出場選手エントリー票　女'!B20=\"\",\"\",IF(MID('出場選手エントリー票　女'!B20,2,1)=\"0\",RIGHTB('出場選手エントリー票　女'!B20,3),RIGHTB('出場選手エントリー票　女'!B20,4)))","v":""},null,null,null,{"$f":"IF(B29=\"\",\"\",('出場選手エントリー票　女'!C20&\" \"&'出場選手エントリー票　女'!D20))","v":""},null,{"$f":"IF(B29=\"\",\"\",'出場選手エントリー票　女'!H20)","v":""},{"$f":"IF('出場選手エントリー票　女'!K20=\"\",\"\",'出場選手エントリー票　女'!K20)","v":""},{"$f":"IF('出場選手エントリー票　女'!L20=\"\",\"\",'出場選手エントリー票　女'!L20)","v":""},{"$f":"IF('出場選手エントリー票　女'!M20=\"\",\"\",'出場選手エントリー票　女'!M20)","v":""},{"$f":"IF('出場選手エントリー票　女'!N20=\"\",\"\",VALUE('出場選手エントリー票　女'!N20))","v":""},{"$f":"IF('出場選手エントリー票　女'!O20=\"\",\"\",'出場選手エントリー票　女'!O20)","v":""},"","","",null,null,null,0,0,0,0,0]
[20,{"$f":"IF('出場選手エントリー票　女'!B21=\"\",\"\",IF(MID('出場選手エントリー票　女'!B21,2,1)=\"0\",RIGHTB('出場選手エントリー票　女'!B21,3),RIGHTB('出場選手エントリー票　女'!B21,4)))","v":""},null,null,null,{"$f":"IF(B30=\"\",\"\",('出場選手エントリー票　女'!C21&\" \"&'出場選手エントリー票　女'!D21))","v":""},null,{"$f":"IF(B30=\"\",\"\",'出場選手エントリー票　女'!H21)","v":""},{"$f":"IF('出場選手エントリー票　女'!K21=\"\",\"\",'出場選手エントリー票　女'!K21)","v":""},{"$f":"IF('出場選手エントリー票　女'!L21=\"\",\"\",'出場選手エントリー票　女'!L21)","v":""},{"$f":"IF('出場選手エントリー票　女'!M21=\"\",\"\",'出場選手エントリー票　女'!M21)","v":""},{"$f":"IF('出場選手エントリー票　女'!N21=\"\",\"\",VALUE('出場選手エントリー票　女'!N21))","v":""},{"$f":"IF('出場選手エントリー票　女'!O21=\"\",\"\",'出場選手エントリー票　女'!O21)","v":""},"","","",null,null,null,0,0,0,0,0]
["　〈支部大会種目等〉※混合リレーは男子の大会申込用紙の混合リレーの欄に記載されます。",null,null,null,null,null,null,null,null,null,null,null,null,"　〈都大会種目等〉"]
["個人",null,null,null,null,"混成","リレー",null,"ﾌﾟﾛｸﾞﾗﾑ",null,null,null,null,"個人","リレー","混成","ﾌﾟﾛｸﾞﾗﾑ"]
["＠６００円",null,null,null,null,"＠２０００円","＠１２００円",null,"＠６００円",null,null,null,null,"@1000円","@1600円","@2000円","@1000円"]
[{"$f":"COUNTIF($T$11:$V$75,1)-F34","v":0},null,null,null,null,{"$f":"COUNTIF('出場選手エントリー票　女'!$K$1:$K$65,\"男子八種\")+COUNTIF('出場選手エントリー票　女'!$L$1:$L$65,\"男子八種\")+COUNTIF('出場選手エントリー票　女'!$M$1:$M$65,\"男子八種\")+COUNTIF('出場選手エントリー票　女'!$K$1:$K$65,\"女子七種競技\")+COUNTIF('出場選手エントリー票　女'!$L$1:$L$65,\"女子七種競技\")+COUNTIF('出場選手エントリー票　女'!$M$1:$M$65,\"女子七種競技\")","v":0},{"$f":"SUM(MAX($W$11:$W$75),MAX($X$11:$X$75))","v":0},null,{"$f":"出場選手エントリー票!I3","v":0},null,"合計",null,null,"種目","ﾁｰﾑ","名","冊","合計"]
[{"$f":"A34*600","v":0},null,null,null,null,{"$f":"F34*2000","v":0},{"$f":"G34*1200","v":0},null,{"$f":"I34*600","v":0},null,{"$f":"A35+F35+G35+I35","v":0},null,null,"円","円","円","円","円"]
[21,{"$f":"IF('出場選手エントリー票　女'!B22=\"\",\"\",IF(MID('出場選手エントリー票　女'!B22,2,1)=\"0\",RIGHTB('出場選手エントリー票　女'!B22,3),RIGHTB('出場選手エントリー票　女'!B22,4)))","v":""},null,null,null,{"$f":"IF(B36=\"\",\"\",('出場選手エントリー票　女'!C22&\" \"&'出場選手エントリー票　女'!D22))","v":""},null,{"$f":"IF(B36=\"\",\"\",'出場選手エントリー票　女'!H22)","v":""},{"$f":"IF('出場選手エントリー票　女'!K22=\"\",\"\",'出場選手エントリー票　女'!K22)","v":""},{"$f":"IF('出場選手エントリー票　女'!L22=\"\",\"\",'出場選手エントリー票　女'!L22)","v":""},{"$f":"IF('出場選手エントリー票　女'!M22=\"\",\"\",'出場選手エントリー票　女'!M22)","v":""},{"$f":"IF('出場選手エントリー票　女'!N22=\"\",\"\",VALUE('出場選手エントリー票　女'!N22))","v":""},{"$f":"IF('出場選手エントリー票　女'!O22=\"\",\"\",'出場選手エントリー票　女'!O22)","v":""},{"$f":"IF(I36=\"\",\"\",IF(COUNTIF(I36,\"*OP*\")>0,\"\",I36))","v":""},{"$f":"IF(J36=\"\",\"\",IF(COUNTIF(J36,\"*OP*\")>0,\"\",J36))","v":""},{"$f":"IF(K36=\"\",\"\",IF(COUNTIF(K36,\"*OP*\")>0,\"\",K36))","v":""},null,null,null,{"$f":"IF(I36=\"\",0,IF(I36=\"女子七種\",0,1))","v":0},{"$f":"IF(J36=\"\",0,IF(J36=\"女子七種\",0,1))","v":0},{"$f":"IF(K36=\"\",0,IF(K36=\"女子七種\",0,1))","v":0},{"$f":"IF(ISERROR(VALUE(L36)),0,VALUE(L36))","v":0},{"$f":"IF(ISERROR(VALUE(M36)),0,VALUE(M36))","v":0}]
[22,{"$f":"IF('出場選手エントリー票　女'!B23=\"\",\"\",IF(MID('出場選手エントリー票　女'!B23,2,1)=\"0\",RIGHTB('出場選手エントリー票　女'!B23,3),RIGHTB('出場選手エントリー票　女'!B23,4)))","v":""},null,null,null,{"$f":"IF(B37=\"\",\"\",('出場選手エントリー票　女'!C23&\" \"&'出場選手エントリー票　女'!D23))","v":""},null,{"$f":"IF(B37=\"\",\"\",'出場選手エントリー票　女'!H23)","v":""},{"$f":"IF('出場選手エントリー票　女'!K23=\"\",\"\",'出場選手エントリー票　女'!K23)","v":""},{"$f":"IF('出場選手エントリー票　女'!L23=\"\",\"\",'出場選手エントリー票　女'!L23)","v":""},{"$f":"IF('出場選手エントリー票　女'!M23=\"\",\"\",'出場選手エントリー票　女'!M23)","v":""},{"$f":"IF('出場選手エントリー票　女'!N23=\"\",\"\",VALUE('出場選手エントリー票　女'!N23))","v":""},{"$f":"IF('出場選手エントリー票　女'!O23=\"\",\"\",'出場選手エントリー票　女'!O23)","v":""},"","","",null,null,null,0,0,0,0,0]
[23,{"$f":"IF('出場選手エントリー票　女'!B24=\"\",\"\",IF(MID('出場選手エントリー票　女'!B24,2,1)=\"0\",RIGHTB('出場選手エントリー票　女'!B24,3),RIGHTB('出場選手エントリー票　女'!B24,4)))","v":""},null,null,null,{"$f":"IF(B38=\"\",\"\",('出場選手エントリー票　女'!C24&\" \"&'出場選手エントリー票　女'!D24))","v":""},null,{"$f":"IF(B38=\"\",\"\",'出場選手エントリー票　女'!H24)","v":""},{"$f":"IF('出場選手エントリー票　女'!K24=\"\",\"\",'出場選手エントリー票　女'!K24)","v":""},{"$f":"IF('出場選手エントリー票　女'!L24=\"\",\"\",'出場選手エントリー票　女'!L24)","v":""},{"$f":"IF('出場選手エントリー票　女'!M24=\"\",\"\",'出場選手エントリー票　女'!M24)","v":""},{"$f":"IF('出場選手エントリー票　女'!N24=\"\",\"\",VALUE('出場選手エントリー票　女'!N24))","v":""},{"$f":"IF('出場選手エントリー票　女'!O24=\"\",\"\",'出場選手エントリー票　女'!O24)","v":""},"","","",null,null,null,0,0,0,0,0]
[24,{"$f":"IF('出場選手エントリー票　女'!B25=\"\",\"\",IF(MID('出場選手エントリー票　女'!B25,2,1)=\"0\",RIGHTB('出場選手エントリー票　女'!B25,3),RIGHTB('出場選手エントリー票　女'!B25,4)))","v":""},null,null,null,{"$f":"IF(B39=\"\",\"\",('出場選手エントリー票　女'!C25&\" \"&'出場選手エントリー票　女'!D25))","v":""},null,{"$f":"IF(B39=\"\",\"\",'出場選手エントリー票　女'!H25)","v":""},{"$f":"IF('出場選手エントリー票　女'!K25=\"\",\"\",'出場選手エントリー票　女'!K25)","v":""},{"$f":"IF('出場選手エントリー票　女'!L25=\"\",\"\",'出場選手エントリー票　女'!L25)","v":""},{"$f":"IF('出場選手エントリー票　女'!M25=\"\",\"\",'出場選手エントリー票　女'!M25)","v":""},{"$f":"IF('出場選手エントリー票　女'!N25=\"\",\"\",VALUE('出場選手エントリー票　女'!N25))","v":""},{"$f":"IF('出場選手エントリー票　女'!O25=\"\",\"\",'出場選手エントリー票　女'!O25)","v":""},"","","",null,null,null,0,0,0,0,0]
[25,{"$f":"IF('出場選手エントリー票　女'!B26=\"\",\"\",IF(MID('出場選手エントリー票　女'!B26,2,1)=\"0\",RIGHTB('出場選手エントリー票　女'!B26,3),RIGHTB('出場選手エントリー票　女'!B26,4)))","v":""},null,null,null,{"$f":"IF(B40=\"\",\"\",('出場選手エントリー票　女'!C26&\" \"&'出場選手エントリー票　女'!D26))","v":""},null,{"$f":"IF(B40=\"\",\"\",'出場選手エントリー票　女'!H26)","v":""},{"$f":"IF('出場選手エントリー票　女'!K26=\"\",\"\",'出場選手エントリー票　女'!K26)","v":""},{"$f":"IF('出場選手エントリー票　女'!L26=\"\",\"\",'出場選手エントリー票　女'!L26)","v":""},{"$f":"IF('出場選手エントリー票　女'!M26=\"\",\"\",'出場選手エントリー票　女'!M26)","v":""},{"$f":"IF('出場選手エントリー票　女'!N26=\"\",\"\",VALUE('出場選手エントリー票　女'!N26))","v":""},{"$f":"IF('出場選手エントリー票　女'!O26=\"\",\"\",'出場選手エントリー票　女'!O26)","v":""},"","","",null,null,null,0,0,0,0,0]
[26,{"$f":"IF('出場選手エントリー票　女'!B27=\"\",\"\",IF(MID('出場選手エントリー票　女'!B27,2,1)=\"0\",RIGHTB('出場選手エントリー票　女'!B27,3),RIGHTB('出場選手エントリー票　女'!B27,4)))","v":""},null,null,null,{"$f":"IF(B41=\"\",\"\",('出場選手エントリー票　女'!C27&\" \"&'出場選手エントリー票　女'!D27))","v":""},null,{"$f":"IF(B41=\"\",\"\",'出場選手エントリー票　女'!H27)","v":""},{"$f":"IF('出場選手エントリー票　女'!K27=\"\",\"\",'出場選手エントリー票　女'!K27)","v":""},{"$f":"IF('出場選手エントリー票　女'!L27=\"\",\"\",'出場選手エントリー票　女'!L27)","v":""},{"$f":"IF('出場選手エントリー票　女'!M27=\"\",\"\",'出場選手エントリー票　女'!M27)","v":""},{"$f":"IF('出場選手エントリー票　女'!N27=\"\",\"\",VALUE('出場選手エントリー票　女'!N27))","v":""},{"$f":"IF('出場選手エントリー票　女'!O27=\"\",\"\",'出場選手エントリー票　女'!O27)","v":""},"","","",null,null,null,0,0,0,0,0]
[27,{"$f":"IF('出場選手エントリー票　女'!B28=\"\",\"\",IF(MID('出場選手エントリー票　女'!B28,2,1)=\"0\",RIGHTB('出場選手エントリー票　女'!B28,3),RIGHTB('出場選手エントリー票　女'!B28,4)))","v":""},null,null,null,{"$f":"IF(B42=\"\",\"\",('出場選手エントリー票　女'!C28&\" \"&'出場選手エントリー票　女'!D28))","v":""},null,{"$f":"IF(B42=\"\",\"\",'出場選手エントリー票　女'!H28)","v":""},{"$f":"IF('出場選手エントリー票　女'!K28=\"\",\"\",'出場選手エントリー票　女'!K28)","v":""},{"$f":"IF('出場選手エントリー票　女'!L28=\"\",\"\",'出場選手エントリー票　女'!L28)","v":""},{"$f":"IF('出場選手エントリー票　女'!M28=\"\",\"\",'出場選手エントリー票　女'!M28)","v":""},{"$f":"IF('出場選手エントリー票　女'!N28=\"\",\"\",VALUE('出場選手エントリー票　女'!N28))","v":""},{"$f":"IF('出場選手エントリー票　女'!O28=\"\",\"\",'出場選手エントリー票　女'!O28)","v":""},"","","",null,null,null,0,0,0,0,0]
[28,{"$f":"IF('出場選手エントリー票　女'!B29=\"\",\"\",IF(MID('出場選手エントリー票　女'!B29,2,1)=\"0\",RIGHTB('出場選手エントリー票　女'!B29,3),RIGHTB('出場選手エントリー票　女'!B29,4)))","v":""},null,null,null,{"$f":"IF(B43=\"\",\"\",('出場選手エントリー票　女'!C29&\" \"&'出場選手エントリー票　女'!D29))","v":""},null,{"$f":"IF(B43=\"\",\"\",'出場選手エントリー票　女'!H29)","v":""},{"$f":"IF('出場選手エントリー票　女'!K29=\"\",\"\",'出場選手エントリー票　女'!K29)","v":""},{"$f":"IF('出場選手エントリー票　女'!L29=\"\",\"\",'出場選手エントリー票　女'!L29)","v":""},{"$f":"IF('出場選手エントリー票　女'!M29=\"\",\"\",'出場選手エントリー票　女'!M29)","v":""},{"$f":"IF('出場選手エントリー票　女'!N29=\"\",\"\",VALUE('出場選手エントリー票　女'!N29))","v":""},{"$f":"IF('出場選手エントリー票　女'!O29=\"\",\"\",'出場選手エントリー票　女'!O29)","v":""},"","","",null,null,null,0,0,0,0,0]
[29,{"$f":"IF('出場選手エントリー票　女'!B30=\"\",\"\",IF(MID('出場選手エントリー票　女'!B30,2,1)=\"0\",RIGHTB('出場選手エントリー票　女'!B30,3),RIGHTB('出場選手エントリー票　女'!B30,4)))","v":""},null,null,null,{"$f":"IF(B44=\"\",\"\",('出場選手エントリー票　女'!C30&\" \"&'出場選手エントリー票　女'!D30))","v":""},null,{"$f":"IF(B44=\"\",\"\",'出場選手エントリー票　女'!H30)","v":""},{"$f":"IF('出場選手エントリー票　女'!K30=\"\",\"\",'出場選手エントリー票　女'!K30)","v":""},{"$f":"IF('出場選手エントリー票　女'!L30=\"\",\"\",'出場選手エントリー票　女'!L30)","v":""},{"$f":"IF('出場選手エントリー票　女'!M30=\"\",\"\",'出場選手エントリー票　女'!M30)","v":""},{"$f":"IF('出場選手エントリー票　女'!N30=\"\",\"\",VALUE('出場選手エントリー票　女'!N30))","v":""},{"$f":"IF('出場選手エントリー票　女'!O30=\"\",\"\",'出場選手エントリー票　女'!O30)","v":""},"","","",null,null,null,0,0,0,0,0]
[30,{"$f":"IF('出場選手エントリー票　女'!B31=\"\",\"\",IF(MID('出場選手エントリー票　女'!B31,2,1)=\"0\",RIGHTB('出場選手エントリー票　女'!B31,3),RIGHTB('出場選手エントリー票　女'!B31,4)))","v":""},null,null,null,{"$f":"IF(B45=\"\",\"\",('出場選手エントリー票　女'!C31&\" \"&'出場選手エントリー票　女'!D31))","v":""},null,{"$f":"IF(B45=\"\",\"\",'出場選手エントリー票　女'!H31)","v":""},{"$f":"IF('出場選手エントリー票　女'!K31=\"\",\"\",'出場選手エントリー票　女'!K31)","v":""},{"$f":"IF('出場選手エントリー票　女'!L31=\"\",\"\",'出場選手エントリー票　女'!L31)","v":""},{"$f":"IF('出場選手エントリー票　女'!M31=\"\",\"\",'出場選手エントリー票　女'!M31)","v":""},{"$f":"IF('出場選手エントリー票　女'!N31=\"\",\"\",VALUE('出場選手エントリー票　女'!N31))","v":""},{"$f":"IF('出場選手エントリー票　女'!O31=\"\",\"\",'出場選手エントリー票　女'!O31)","v":""},"","","",null,null,null,0,0,0,0,0]
[31,{"$f":"IF('出場選手エントリー票　女'!B32=\"\",\"\",IF(MID('出場選手エントリー票　女'!B32,2,1)=\"0\",RIGHTB('出場選手エントリー票　女'!B32,3),RIGHTB('出場選手エントリー票　女'!B32,4)))","v":""},null,null,null,{"$f":"IF(B46=\"\",\"\",('出場選手エントリー票　女'!C32&\" \"&'出場選手エントリー票　女'!D32))","v":""},null,{"$f":"IF(B46=\"\",\"\",'出場選手エントリー票　女'!H32)","v":""},{"$f":"IF('出場選手エントリー票　女'!K32=\"\",\"\",'出場選手エントリー票　女'!K32)","v":""},{"$f":"IF('出場選手エントリー票　女'!L32=\"\",\"\",'出場選手エントリー票　女'!L32)","v":""},{"$f":"IF('出場選手エントリー票　女'!M32=\"\",\"\",'出場選手エントリー票　女'!M32)","v":""},{"$f":"IF('出場選手エントリー票　女'!N32=\"\",\"\",VALUE('出場選手エントリー票　女'!N32))","v":""},{"$f":"IF('出場選手エントリー票　女'!O32=\"\",\"\",'出場選手エントリー票　女'!O32)","v":""},"","","",null,null,null,0,0,0,0,0]
[32,{"$f":"IF('出場選手エントリー票　女'!B33=\"\",\"\",IF(MID('出場選手エントリー票　女'!B33,2,1)=\"0\",RIGHTB('出場選手エントリー票　女'!B33,3),RIGHTB('出場選手エントリー票　女'!B33,4)))","v":""},null,null,null,{"$f":"IF(B47=\"\",\"\",('出場選手エントリー票　女'!C33&\" \"&'出場選手エントリー票　女'!D33))","v":""},null,{"$f":"IF(B47=\"\",\"\",'出場選手エントリー票　女'!H33)","v":""},{"$f":"IF('出場選手エントリー票　女'!K33=\"\",\"\",'出場選手エントリー票　女'!K33)","v":""},{"$f":"IF('出場選手エントリー票　女'!L33=\"\",\"\",'出場選手エントリー票　女'!L33)","v":""},{"$f":"IF('出場選手エントリー票　女'!M33=\"\",\"\",'出場選手エントリー票　女'!M33)","v":""},{"$f":"IF('出場選手エントリー票　女'!N33=\"\",\"\",VALUE('出場選手エントリー票　女'!N33))","v":""},{"$f":"IF('出場選手エントリー票　女'!O33=\"\",\"\",'出場選手エントリー票　女'!O33)","v":""},"","","",null,null,null,0,0,0,0,0]
[33,{"$f":"IF('出場選手エントリー票　女'!B34=\"\",\"\",IF(MID('出場選手エントリー票　女'!B34,2,1)=\"0\",RIGHTB('出場選手エントリー票　女'!B34,3),RIGHTB('出場選手エントリー票　女'!B34,4)))","v":""},null,null,null,{"$f":"IF(B48=\"\",\"\",('出場選手エントリー票　女'!C34&\" \"&'出場選手エントリー票　女'!D34))","v":""},null,{"$f":"IF(B48=\"\",\"\",'出場選手エントリー票　女'!H34)","v":""},{"$f":"IF('出場選手エントリー票　女'!K34=\"\",\"\",'出場選手エントリー票　女'!K34)","v":""},{"$f":"IF('出場選手エントリー票　女'!L34=\"\",\"\",'出場選手エントリー票　女'!L34)","v":""},{"$f":"IF('出場選手エントリー票　女'!M34=\"\",\"\",'出場選手エントリー票　女'!M34)","v":""},{"$f":"IF('出場選手エントリー票　女'!N34=\"\",\"\",VALUE('出場選手エントリー票　女'!N34))","v":""},{"$f":"IF('出場選手エントリー票　女'!O34=\"\",\"\",'出場選手エントリー票　女'!O34)","v":""},"","","",null,null,null,0,0,0,0,0]
[34,{"$f":"IF('出場選手エントリー票　女'!B35=\"\",\"\",IF(MID('出場選手エントリー票　女'!B35,2,1)=\"0\",RIGHTB('出場選手エントリー票　女'!B35,3),RIGHTB('出場選手エントリー票　女'!B35,4)))","v":""},null,null,null,{"$f":"IF(B49=\"\",\"\",('出場選手エントリー票　女'!C35&\" \"&'出場選手エントリー票　女'!D35))","v":""},null,{"$f":"IF(B49=\"\",\"\",'出場選手エントリー票　女'!H35)","v":""},{"$f":"IF('出場選手エントリー票　女'!K35=\"\",\"\",'出場選手エントリー票　女'!K35)","v":""},{"$f":"IF('出場選手エントリー票　女'!L35=\"\",\"\",'出場選手エントリー票　女'!L35)","v":""},{"$f":"IF('出場選手エントリー票　女'!M35=\"\",\"\",'出場選手エントリー票　女'!M35)","v":""},{"$f":"IF('出場選手エントリー票　女'!N35=\"\",\"\",VALUE('出場選手エントリー票　女'!N35))","v":""},{"$f":"IF('出場選手エントリー票　女'!O35=\"\",\"\",'出場選手エントリー票　女'!O35)","v":""},"","","",null,null,null,0,0,0,0,0]
[35,{"$f":"IF('出場選手エントリー票　女'!B36=\"\",\"\",IF(MID('出場選手エントリー票　女'!B36,2,1)=\"0\",RIGHTB('出場選手エントリー票　女'!B36,3),RIGHTB('出場選手エントリー票　女'!B36,4)))","v":""},null,null,null,{"$f":"IF(B50=\"\",\"\",('出場選手エントリー票　女'!C36&\" \"&'出場選手エントリー票　女'!D36))","v":""},null,{"$f":"IF(B50=\"\",\"\",'出場選手エントリー票　女'!H36)","v":""},{"$f":"IF('出場選手エントリー票　女'!K36=\"\",\"\",'出場選手エントリー票　女'!K36)","v":""},{"$f":"IF('出場選手エントリー票　女'!L36=\"\",\"\",'出場選手エントリー票　女'!L36)","v":""},{"$f":"IF('出場選手エントリー票　女'!M36=\"\",\"\",'出場選手エントリー票　女'!M36)","v":""},{"$f":"IF('出場選手エントリー票　女'!N36=\"\",\"\",VALUE('出場選手エントリー票　女'!N36))","v":""},{"$f":"IF('出場選手エントリー票　女'!O36=\"\",\"\",'出場選手エントリー票　女'!O36)","v":""},"","","",null,null,null,0,0,0,0,0]
[36,{"$f":"IF('出場選手エントリー票　女'!B37=\"\",\"\",IF(MID('出場選手エントリー票　女'!B37,2,1)=\"0\",RIGHTB('出場選手エントリー票　女'!B37,3),RIGHTB('出場選手エントリー票　女'!B37,4)))","v":""},null,null,null,{"$f":"IF(B51=\"\",\"\",('出場選手エントリー票　女'!C37&\" \"&'出場選手エントリー票　女'!D37))","v":""},null,{"$f":"IF(B51=\"\",\"\",'出場選手エントリー票　女'!H37)","v":""},{"$f":"IF('出場選手エントリー票　女'!K37=\"\",\"\",'出場選手エントリー票　女'!K37)","v":""},{"$f":"IF('出場選手エントリー票　女'!L37=\"\",\"\",'出場選手エントリー票　女'!L37)","v":""},{"$f":"IF('出場選手エントリー票　女'!M37=\"\",\"\",'出場選手エントリー票　女'!M37)","v":""},{"$f":"IF('出場選手エントリー票　女'!N37=\"\",\"\",VALUE('出場選手エントリー票　女'!N37))","v":""},{"$f":"IF('出場選手エントリー票　女'!O37=\"\",\"\",'出場選手エントリー票　女'!O37)","v":""},"","","",null,null,null,0,0,0,0,0]
[37,{"$f":"IF('出場選手エントリー票　女'!B38=\"\",\"\",IF(MID('出場選手エントリー票　女'!B38,2,1)=\"0\",RIGHTB('出場選手エントリー票　女'!B38,3),RIGHTB('出場選手エントリー票　女'!B38,4)))","v":""},null,null,null,{"$f":"IF(B52=\"\",\"\",('出場選手エントリー票　女'!C38&\" \"&'出場選手エントリー票　女'!D38))","v":""},null,{"$f":"IF(B52=\"\",\"\",'出場選手エントリー票　女'!H38)","v":""},{"$f":"IF('出場選手エントリー票　女'!K38=\"\",\"\",'出場選手エントリー票　女'!K38)","v":""},{"$f":"IF('出場選手エントリー票　女'!L38=\"\",\"\",'出場選手エントリー票　女'!L38)","v":""},{"$f":"IF('出場選手エントリー票　女'!M38=\"\",\"\",'出場選手エントリー票　女'!M38)","v":""},{"$f":"IF('出場選手エントリー票　女'!N38=\"\",\"\",VALUE('出場選手エントリー票　女'!N38))","v":""},{"$f":"IF('出場選手エントリー票　女'!O38=\"\",\"\",'出場選手エントリー票　女'!O38)","v":""},"","","",null,null,null,0,0,0,0,0]
[38,{"$f":"IF('出場選手エントリー票　女'!B39=\"\",\"\",IF(MID('出場選手エントリー票　女'!B39,2,1)=\"0\",RIGHTB('出場選手エントリー票　女'!B39,3),RIGHTB('出場選手エントリー票　女'!B39,4)))","v":""},null,null,null,{"$f":"IF(B53=\"\",\"\",('出場選手エントリー票　女'!C39&\" \"&'出場選手エントリー票　女'!D39))","v":""},null,{"$f":"IF(B53=\"\",\"\",'出場選手エントリー票　女'!H39)","v":""},{"$f":"IF('出場選手エントリー票　女'!K39=\"\",\"\",'出場選手エントリー票　女'!K39)","v":""},{"$f":"IF('出場選手エントリー票　女'!L39=\"\",\"\",'出場選手エントリー票　女'!L39)","v":""},{"$f":"IF('出場選手エントリー票　女'!M39=\"\",\"\",'出場選手エントリー票　女'!M39)","v":""},{"$f":"IF('出場選手エントリー票　女'!N39=\"\",\"\",VALUE('出場選手エントリー票　女'!N39))","v":""},{"$f":"IF('出場選手エントリー票　女'!O39=\"\",\"\",'出場選手エントリー票　女'!O39)","v":""},"","","",null,null,null,0,0,0,0,0]
[39,{"$f":"IF('出場選手エントリー票　女'!B40=\"\",\"\",IF(MID('出場選手エントリー票　女'!B40,2,1)=\"0\",RIGHTB('出場選手エントリー票　女'!B40,3),RIGHTB('出場選手エントリー票　女'!B40,4)))","v":""},null,null,null,{"$f":"IF(B54=\"\",\"\",('出場選手エントリー票　女'!C40&\" \"&'出場選手エントリー票　女'!D40))","v":""},null,{"$f":"IF(B54=\"\",\"\",'出場選手エントリー票　女'!H40)","v":""},{"$f":"IF('出場選手エントリー票　女'!K40=\"\",\"\",'出場選手エントリー票　女'!K40)","v":""},{"$f":"IF('出場選手エントリー票　女'!L40=\"\",\"\",'出場選手エントリー票　女'!L40)","v":""},{"$f":"IF('出場選手エントリー票　女'!M40=\"\",\"\",'出場選手エントリー票　女'!M40)","v":""},{"$f":"IF('出場選手エントリー票　女'!N40=\"\",\"\",VALUE('出場選手エントリー票　女'!N40))","v":""},{"$f":"IF('出場選手エントリー票　女'!O40=\"\",\"\",'出場選手エントリー票　女'!O40)","v":""},"","","",null,null,null,0,0,0,0,0]
[40,{"$f":"IF('出場選手エントリー票　女'!B41=\"\",\"\",IF(MID('出場選手エントリー票　女'!B41,2,1)=\"0\",RIGHTB('出場選手エントリー票　女'!B41,3),RIGHTB('出場選手エントリー票　女'!B41,4)))","v":""},null,null,null,{"$f":"IF(B55=\"\",\"\",('出場選手エントリー票　女'!C41&\" \"&'出場選手エントリー票　女'!D41))","v":""},null,{"$f":"IF(B55=\"\",\"\",'出場選手エントリー票　女'!H41)","v":""},{"$f":"IF('出場選手エントリー票　女'!K41=\"\",\"\",'出場選手エントリー票　女'!K41)","v":""},{"$f":"IF('出場選手エントリー票　女'!L41=\"\",\"\",'出場選手エントリー票　女'!L41)","v":""},{"$f":"IF('出場選手エントリー票　女'!M41=\"\",\"\",'出場選手エントリー票　女'!M41)","v":""},{"$f":"IF('出場選手エントリー票　女'!N41=\"\",\"\",VALUE('出場選手エントリー票　女'!N41))","v":""},{"$f":"IF('出場選手エントリー票　女'!O41=\"\",\"\",'出場選手エントリー票　女'!O41)","v":""},"","","",null,null,null,0,0,0,0,0]
[41,{"$f":"IF('出場選手エントリー票　女'!B42=\"\",\"\",IF(MID('出場選手エントリー票　女'!B42,2,1)=\"0\",RIGHTB('出場選手エントリー票　女'!B42,3),RIGHTB('出場選手エントリー票　女'!B42,4)))","v":""},null,null,null,{"$f":"IF(B56=\"\",\"\",('出場選手エントリー票　女'!C42&\" \"&'出場選手エントリー票　女'!D42))","v":""},null,{"$f":"IF(B56=\"\",\"\",'出場選手エントリー票　女'!H42)","v":""},{"$f":"IF('出場選手エントリー票　女'!K42=\"\",\"\",'出場選手エントリー票　女'!K42)","v":""},{"$f":"IF('出場選手エントリー票　女'!L42=\"\",\"\",'出場選手エントリー票　女'!L42)","v":""},{"$f":"IF('出場選手エントリー票　女'!M42=\"\",\"\",'出場選手エントリー票　女'!M42)","v":""},{"$f":"IF('出場選手エントリー票　女'!N42=\"\",\"\",VALUE('出場選手エントリー票　女'!N42))","v":""},{"$f":"IF('出場選手エントリー票　女'!O42=\"\",\"\",'出場選手エントリー票　女'!O42)","v":""},"","","",null,null,null,0,0,0,0,0]
[42,{"$f":"IF('出場選手エントリー票　女'!B43=\"\",\"\",IF(MID('出場選手エントリー票　女'!B43,2,1)=\"0\",RIGHTB('出場選手エントリー票　女'!B43,3),RIGHTB('出場選手エントリー票　女'!B43,4)))","v":""},null,null,null,{"$f":"IF(B57=\"\",\"\",('出場選手エントリー票　女'!C43&\" \"&'出場選手エントリー票　女'!D43))","v":""},null,{"$f":"IF(B57=\"\",\"\",'出場選手エントリー票　女'!H43)","v":""},{"$f":"IF('出場選手エントリー票　女'!K43=\"\",\"\",'出場選手エントリー票　女'!K43)","v":""},{"$f":"IF('出場選手エントリー票　女'!L43=\"\",\"\",'出場選手エントリー票　女'!L43)","v":""},{"$f":"IF('出場選手エントリー票　女'!M43=\"\",\"\",'出場選手エントリー票　女'!M43)","v":""},{"$f":"IF('出場選手エントリー票　女'!N43=\"\",\"\",VALUE('出場選手エントリー票　女'!N43))","v":""},{"$f":"IF('出場選手エントリー票　女'!O43=\"\",\"\",'出場選手エントリー票　女'!O43)","v":""},"","","",null,null,null,0,0,0,0,0]
[43,{"$f":"IF('出場選手エントリー票　女'!B44=\"\",\"\",IF(MID('出場選手エントリー票　女'!B44,2,1)=\"0\",RIGHTB('出場選手エントリー票　女'!B44,3),RIGHTB('出場選手エントリー票　女'!B44,4)))","v":""},null,null,null,{"$f":"IF(B58=\"\",\"\",('出場選手エントリー票　女'!C44&\" \"&'出場選手エントリー票　女'!D44))","v":""},null,{"$f":"IF(B58=\"\",\"\",'出場選手エントリー票　女'!H44)","v":""},{"$f":"IF('出場選手エントリー票　女'!K44=\"\",\"\",'出場選手エントリー票　女'!K44)","v":""},{"$f":"IF('出場選手エントリー票　女'!L44=\"\",\"\",'出場選手エントリー票　女'!L44)","v":""},{"$f":"IF('出場選手エントリー票　女'!M44=\"\",\"\",'出場選手エントリー票　女'!M44)","v":""},{"$f":"IF('出場選手エントリー票　女'!N44=\"\",\"\",VALUE('出場選手エントリー票　女'!N44))","v":""},{"$f":"IF('出場選手エントリー票　女'!O44=\"\",\"\",'出場選手エントリー票　女'!O44)","v":""},"","","",null,null,null,0,0,0,0,0]
[44,{"$f":"IF('出場選手エントリー票　女'!B45=\"\",\"\",IF(MID('出場選手エントリー票　女'!B45,2,1)=\"0\",RIGHTB('出場選手エントリー票　女'!B45,3),RIGHTB('出場選手エントリー票　女'!B45,4)))","v":""},null,null,null,{"$f":"IF(B59=\"\",\"\",('出場選手エントリー票　女'!C45&\" \"&'出場選手エントリー票　女'!D45))","v":""},null,{"$f":"IF(B59=\"\",\"\",'出場選手エントリー票　女'!H45)","v":""},{"$f":"IF('出場選手エントリー票　女'!K45=\"\",\"\",'出場選手エントリー票　女'!K45)","v":""},{"$f":"IF('出場選手エントリー票　女'!L45=\"\",\"\",'出場選手エントリー票　女'!L45)","v":""},{"$f":"IF('出場選手エントリー票　女'!M45=\"\",\"\",'出場選手エントリー票　女'!M45)","v":""},{"$f":"IF('出場選手エントリー票　女'!N45=\"\",\"\",VALUE('出場選手エントリー票　女'!N45))","v":""},{"$f":"IF('出場選手エントリー票　女'!O45=\"\",\"\",'出場選手エントリー票　女'!O45)","v":""},"","","",null,null,null,0,0,0,0,0]
[45,{"$f":"IF('出場選手エントリー票　女'!B46=\"\",\"\",IF(MID('出場選手エントリー票　女'!B46,2,1)=\"0\",RIGHTB('出場選手エントリー票　女'!B46,3),RIGHTB('出場選手エントリー票　女'!B46,4)))","v":""},null,null,null,{"$f":"IF(B60=\"\",\"\",('出場選手エントリー票　女'!C46&\" \"&'出場選手エントリー票　女'!D46))","v":""},null,{"$f":"IF(B60=\"\",\"\",'出場選手エントリー票　女'!H46)","v":""},{"$f":"IF('出場選手エントリー票　女'!K46=\"\",\"\",'出場選手エントリー票　女'!K46)","v":""},{"$f":"IF('出場選手エントリー票　女'!L46=\"\",\"\",'出場選手エントリー票　女'!L46)","v":""},{"$f":"IF('出場選手エントリー票　女'!M46=\"\",\"\",'出場選手エントリー票　女'!M46)","v":""},{"$f":"IF('出場選手エントリー票　女'!N46=\"\",\"\",VALUE('出場選手エントリー票　女'!N46))","v":""},{"$f":"IF('出場選手エントリー票　女'!O46=\"\",\"\",'出場選手エントリー票　女'!O46)","v":""},"","","",null,null,null,0,0,0,0,0]
[46,{"$f":"IF('出場選手エントリー票　女'!B47=\"\",\"\",IF(MID('出場選手エントリー票　女'!B47,2,1)=\"0\",RIGHTB('出場選手エントリー票　女'!B47,3),RIGHTB('出場選手エントリー票　女'!B47,4)))","v":""},null,null,null,{"$f":"IF(B61=\"\",\"\",('出場選手エントリー票　女'!C47&\" \"&'出場選手エントリー票　女'!D47))","v":""},null,{"$f":"IF(B61=\"\",\"\",'出場選手エントリー票　女'!H47)","v":""},{"$f":"IF('出場選手エントリー票　女'!K47=\"\",\"\",'出場選手エントリー票　女'!K47)","v":""},{"$f":"IF('出場選手エントリー票　女'!L47=\"\",\"\",'出場選手エントリー票　女'!L47)","v":""},{"$f":"IF('出場選手エントリー票　女'!M47=\"\",\"\",'出場選手エントリー票　女'!M47)","v":""},{"$f":"IF('出場選手エントリー票　女'!N47=\"\",\"\",VALUE('出場選手エントリー票　女'!N47))","v":""},{"$f":"IF('出場選手エントリー票　女'!O47=\"\",\"\",'出場選手エントリー票　女'!O47)","v":""},"","","",null,null,null,0,0,0,0,0]
[47,{"$f":"IF('出場選手エントリー票　女'!B48=\"\",\"\",IF(MID('出場選手エントリー票　女'!B48,2,1)=\"0\",RIGHTB('出場選手エントリー票　女'!B48,3),RIGHTB('出場選手エントリー票　女'!B48,4)))","v":""},null,null,null,{"$f":"IF(B62=\"\",\"\",('出場選手エントリー票　女'!C48&\" \"&'出場選手エントリー票　女'!D48))","v":""},null,{"$f":"IF(B62=\"\",\"\",'出場選手エントリー票　女'!H48)","v":""},{"$f":"IF('出場選手エントリー票　女'!K48=\"\",\"\",'出場選手エントリー票　女'!K48)","v":""},{"$f":"IF('出場選手エントリー票　女'!L48=\"\",\"\",'出場選手エントリー票　女'!L48)","v":""},{"$f":"IF('出場選手エントリー票　女'!M48=\"\",\"\",'出場選手エントリー票　女'!M48)","v":""},{"$f":"IF('出場選手エントリー票　女'!N48=\"\",\"\",VALUE('出場選手エントリー票　女'!N48))","v":""},{"$f":"IF('出場選手エントリー票　女'!O48=\"\",\"\",'出場選手エントリー票　女'!O48)","v":""},"","","",null,null,null,0,0,0,0,0]
[48,{"$f":"IF('出場選手エントリー票　女'!B49=\"\",\"\",IF(MID('出場選手エントリー票　女'!B49,2,1)=\"0\",RIGHTB('出場選手エントリー票　女'!B49,3),RIGHTB('出場選手エントリー票　女'!B49,4)))","v":""},null,null,null,{"$f":"IF(B63=\"\",\"\",('出場選手エントリー票　女'!C49&\" \"&'出場選手エントリー票　女'!D49))","v":""},null,{"$f":"IF(B63=\"\",\"\",'出場選手エントリー票　女'!H49)","v":""},{"$f":"IF('出場選手エントリー票　女'!K49=\"\",\"\",'出場選手エントリー票　女'!K49)","v":""},{"$f":"IF('出場選手エントリー票　女'!L49=\"\",\"\",'出場選手エントリー票　女'!L49)","v":""},{"$f":"IF('出場選手エントリー票　女'!M49=\"\",\"\",'出場選手エントリー票　女'!M49)","v":""},{"$f":"IF('出場選手エントリー票　女'!N49=\"\",\"\",VALUE('出場選手エントリー票　女'!N49))","v":""},{"$f":"IF('出場選手エントリー票　女'!O49=\"\",\"\",'出場選手エントリー票　女'!O49)","v":""},"","","",null,null,null,0,0,0,0,0]
[49,{"$f":"IF('出場選手エントリー票　女'!B50=\"\",\"\",IF(MID('出場選手エントリー票　女'!B50,2,1)=\"0\",RIGHTB('出場選手エントリー票　女'!B50,3),RIGHTB('出場選手エントリー票　女'!B50,4)))","v":""},null,null,null,{"$f":"IF(B64=\"\",\"\",('出場選手エントリー票　女'!C50&\" \"&'出場選手エントリー票　女'!D50))","v":""},null,{"$f":"IF(B64=\"\",\"\",'出場選手エントリー票　女'!H50)","v":""},{"$f":"IF('出場選手エントリー票　女'!K50=\"\",\"\",'出場選手エントリー票　女'!K50)","v":""},{"$f":"IF('出場選手エントリー票　女'!L50=\"\",\"\",'出場選手エントリー票　女'!L50)","v":""},{"$f":"IF('出場選手エントリー票　女'!M50=\"\",\"\",'出場選手エントリー票　女'!M50)","v":""},{"$f":"IF('出場選手エントリー票　女'!N50=\"\",\"\",VALUE('出場選手エントリー票　女'!N50))","v":""},{"$f":"IF('出場選手エントリー票　女'!O50=\"\",\"\",'出場選手エントリー票　女'!O50)","v":""},"","","",null,null,null,0,0,0,0,0]
[50,{"$f":"IF('出場選手エントリー票　女'!B51=\"\",\"\",IF(MID('出場選手エントリー票　女'!B51,2,1)=\"0\",RIGHTB('出場選手エントリー票　女'!B51,3),RIGHTB('出場選手エントリー票　女'!B51,4)))","v":""},null,null,null,{"$f":"IF(B65=\"\",\"\",('出場選手エントリー票　女'!C51&\" \"&'出場選手エントリー票　女'!D51))","v":""},null,{"$f":"IF(B65=\"\",\"\",'出場選手エントリー票　女'!H51)","v":""},{"$f":"IF('出場選手エントリー票　女'!K51=\"\",\"\",'出場選手エントリー票　女'!K51)","v":""},{"$f":"IF('出場選手エントリー票　女'!L51=\"\",\"\",'出場選手エントリー票　女'!L51)","v":""},{"$f":"IF('出場選手エントリー票　女'!M51=\"\",\"\",'出場選手エントリー票　女'!M51)","v":""},{"$f":"IF('出場選手エントリー票　女'!N51=\"\",\"\",VALUE('出場選手エントリー票　女'!N51))","v":""},{"$f":"IF('出場選手エントリー票　女'!O51=\"\",\"\",'出場選手エントリー票　女'!O51)","v":""},"","","",null,null,null,0,0,0,0,0]
[51,{"$f":"IF('出場選手エントリー票　女'!B52=\"\",\"\",IF(MID('出場選手エントリー票　女'!B52,2,1)=\"0\",RIGHTB('出場選手エントリー票　女'!B52,3),RIGHTB('出場選手エントリー票　女'!B52,4)))","v":""},null,null,null,{"$f":"IF(B66=\"\",\"\",('出場選手エントリー票　女'!C52&\" \"&'出場選手エントリー票　女'!D52))","v":""},null,{"$f":"IF(B66=\"\",\"\",'出場選手エントリー票　女'!H52)","v":""},{"$f":"IF('出場選手エントリー票　女'!K52=\"\",\"\",'出場選手エントリー票　女'!K52)","v":""},{"$f":"IF('出場選手エントリー票　女'!L52=\"\",\"\",'出場選手エントリー票　女'!L52)","v":""},{"$f":"IF('出場選手エントリー票　女'!M52=\"\",\"\",'出場選手エントリー票　女'!M52)","v":""},{"$f":"IF('出場選手エントリー票　女'!N52=\"\",\"\",VALUE('出場選手エントリー票　女'!N52))","v":""},{"$f":"IF('出場選手エントリー票　女'!O52=\"\",\"\",'出場選手エントリー票　女'!O52)","v":""},"","","",null,null,null,0,0,0,0,0]
[52,{"$f":"IF('出場選手エントリー票　女'!B53=\"\",\"\",IF(MID('出場選手エントリー票　女'!B53,2,1)=\"0\",RIGHTB('出場選手エントリー票　女'!B53,3),RIGHTB('出場選手エントリー票　女'!B53,4)))","v":""},null,null,null,{"$f":"IF(B67=\"\",\"\",('出場選手エントリー票　女'!C53&\" \"&'出場選手エントリー票　女'!D53))","v":""},null,{"$f":"IF(B67=\"\",\"\",'出場選手エントリー票　女'!H53)","v":""},{"$f":"IF('出場選手エントリー票　女'!K53=\"\",\"\",'出場選手エントリー票　女'!K53)","v":""},{"$f":"IF('出場選手エントリー票　女'!L53=\"\",\"\",'出場選手エントリー票　女'!L53)","v":""},{"$f":"IF('出場選手エントリー票　女'!M53=\"\",\"\",'出場選手エントリー票　女'!M53)","v":""},{"$f":"IF('出場選手エントリー票　女'!N53=\"\",\"\",VALUE('出場選手エントリー票　女'!N53))","v":""},{"$f":"IF('出場選手エントリー票　女'!O53=\"\",\"\",'出場選手エントリー票　女'!O53)","v":""},"","","",null,null,null,0,0,0,0,0]
[53,{"$f":"IF('出場選手エントリー票　女'!B54=\"\",\"\",IF(MID('出場選手エントリー票　女'!B54,2,1)=\"0\",RIGHTB('出場選手エントリー票　女'!B54,3),RIGHTB('出場選手エントリー票　女'!B54,4)))","v":""},null,null,null,{"$f":"IF(B68=\"\",\"\",('出場選手エントリー票　女'!C54&\" \"&'出場選手エントリー票　女'!D54))","v":""},null,{"$f":"IF(B68=\"\",\"\",'出場選手エントリー票　女'!H54)","v":""},{"$f":"IF('出場選手エントリー票　女'!K54=\"\",\"\",'出場選手エントリー票　女'!K54)","v":""},{"$f":"IF('出場選手エントリー票　女'!L54=\"\",\"\",'出場選手エントリー票　女'!L54)","v":""},{"$f":"IF('出場選手エントリー票　女'!M54=\"\",\"\",'出場選手エントリー票　女'!M54)","v":""},{"$f":"IF('出場選手エントリー票　女'!N54=\"\",\"\",VALUE('出場選手エントリー票　女'!N54))","v":""},{"$f":"IF('出場選手エントリー票　女'!O54=\"\",\"\",'出場選手エントリー票　女'!O54)","v":""},"","","",null,null,null,0,0,0,0,0]
[54,{"$f":"IF('出場選手エントリー票　女'!B55=\"\",\"\",IF(MID('出場選手エントリー票　女'!B55,2,1)=\"0\",RIGHTB('出場選手エントリー票　女'!B55,3),RIGHTB('出場選手エントリー票　女'!B55,4)))","v":""},null,null,null,{"$f":"IF(B69=\"\",\"\",('出場選手エントリー票　女'!C55&\" \"&'出場選手エントリー票　女'!D55))","v":""},null,{"$f":"IF(B69=\"\",\"\",'出場選手エントリー票　女'!H55)","v":""},{"$f":"IF('出場選手エントリー票　女'!K55=\"\",\"\",'出場選手エントリー票　女'!K55)","v":""},{"$f":"IF('出場選手エントリー票　女'!L55=\"\",\"\",'出場選手エントリー票　女'!L55)","v":""},{"$f":"IF('出場選手エントリー票　女'!M55=\"\",\"\",'出場選手エントリー票　女'!M55)","v":""},{"$f":"IF('出場選手エントリー票　女'!N55=\"\",\"\",VALUE('出場選手エントリー票　女'!N55))","v":""},{"$f":"IF('出場選手エントリー票　女'!O55=\"\",\"\",'出場選手エントリー票　女'!O55)","v":""},"","","",null,null,null,0,0,0,0,0]
[55,{"$f":"IF('出場選手エントリー票　女'!B56=\"\",\"\",IF(MID('出場選手エントリー票　女'!B56,2,1)=\"0\",RIGHTB('出場選手エントリー票　女'!B56,3),RIGHTB('出場選手エントリー票　女'!B56,4)))","v":""},null,null,null,{"$f":"IF(B70=\"\",\"\",('出場選手エントリー票　女'!C56&\" \"&'出場選手エントリー票　女'!D56))","v":""},null,{"$f":"IF(B70=\"\",\"\",'出場選手エントリー票　女'!H56)","v":""},{"$f":"IF('出場選手エントリー票　女'!K56=\"\",\"\",'出場選手エントリー票　女'!K56)","v":""},{"$f":"IF('出場選手エントリー票　女'!L56=\"\",\"\",'出場選手エントリー票　女'!L56)","v":""},{"$f":"IF('出場選手エントリー票　女'!M56=\"\",\"\",'出場選手エントリー票　女'!M56)","v":""},{"$f":"IF('出場選手エントリー票　女'!N56=\"\",\"\",VALUE('出場選手エントリー票　女'!N56))","v":""},{"$f":"IF('出場選手エントリー票　女'!O56=\"\",\"\",'出場選手エントリー票　女'!O56)","v":""},"","","",null,null,null,0,0,0,0,0]
[56,{"$f":"IF('出場選手エントリー票　女'!B57=\"\",\"\",IF(MID('出場選手エントリー票　女'!B57,2,1)=\"0\",RIGHTB('出場選手エントリー票　女'!B57,3),RIGHTB('出場選手エントリー票　女'!B57,4)))","v":""},null,null,null,{"$f":"IF(B71=\"\",\"\",('出場選手エントリー票　女'!C57&\" \"&'出場選手エントリー票　女'!D57))","v":""},null,{"$f":"IF(B71=\"\",\"\",'出場選手エントリー票　女'!H57)","v":""},{"$f":"IF('出場選手エントリー票　女'!K57=\"\",\"\",'出場選手エントリー票　女'!K57)","v":""},{"$f":"IF('出場選手エントリー票　女'!L57=\"\",\"\",'出場選手エントリー票　女'!L57)","v":""},{"$f":"IF('出場選手エントリー票　女'!M57=\"\",\"\",'出場選手エントリー票　女'!M57)","v":""},{"$f":"IF('出場選手エントリー票　女'!N57=\"\",\"\",VALUE('出場選手エントリー票　女'!N57))","v":""},{"$f":"IF('出場選手エントリー票　女'!O57=\"\",\"\",'出場選手エントリー票　女'!O57)","v":""},"","","",null,null,null,0,0,0,0,0]
[57,{"$f":"IF('出場選手エントリー票　女'!B58=\"\",\"\",IF(MID('出場選手エントリー票　女'!B58,2,1)=\"0\",RIGHTB('出場選手エントリー票　女'!B58,3),RIGHTB('出場選手エントリー票　女'!B58,4)))","v":""},null,null,null,{"$f":"IF(B72=\"\",\"\",('出場選手エントリー票　女'!C58&\" \"&'出場選手エントリー票　女'!D58))","v":""},null,{"$f":"IF(B72=\"\",\"\",'出場選手エントリー票　女'!H58)","v":""},{"$f":"IF('出場選手エントリー票　女'!K58=\"\",\"\",'出場選手エントリー票　女'!K58)","v":""},{"$f":"IF('出場選手エントリー票　女'!L58=\"\",\"\",'出場選手エントリー票　女'!L58)","v":""},{"$f":"IF('出場選手エントリー票　女'!M58=\"\",\"\",'出場選手エントリー票　女'!M58)","v":""},{"$f":"IF('出場選手エントリー票　女'!N58=\"\",\"\",VALUE('出場選手エントリー票　女'!N58))","v":""},{"$f":"IF('出場選手エントリー票　女'!O58=\"\",\"\",'出場選手エントリー票　女'!O58)","v":""},"","","",null,null,null,0,0,0,0,0]
[58,{"$f":"IF('出場選手エントリー票　女'!B59=\"\",\"\",IF(MID('出場選手エントリー票　女'!B59,2,1)=\"0\",RIGHTB('出場選手エントリー票　女'!B59,3),RIGHTB('出場選手エントリー票　女'!B59,4)))","v":""},null,null,null,{"$f":"IF(B73=\"\",\"\",('出場選手エントリー票　女'!C59&\" \"&'出場選手エントリー票　女'!D59))","v":""},null,{"$f":"IF(B73=\"\",\"\",'出場選手エントリー票　女'!H59)","v":""},{"$f":"IF('出場選手エントリー票　女'!K59=\"\",\"\",'出場選手エントリー票　女'!K59)","v":""},{"$f":"IF('出場選手エントリー票　女'!L59=\"\",\"\",'出場選手エントリー票　女'!L59)","v":""},{"$f":"IF('出場選手エントリー票　女'!M59=\"\",\"\",'出場選手エントリー票　女'!M59)","v":""},{"$f":"IF('出場選手エントリー票　女'!N59=\"\",\"\",VALUE('出場選手エントリー票　女'!N59))","v":""},{"$f":"IF('出場選手エントリー票　女'!O59=\"\",\"\",'出場選手エントリー票　女'!O59)","v":""},"","","",null,null,null,0,0,0,0,0]
[59,{"$f":"IF('出場選手エントリー票　女'!B60=\"\",\"\",IF(MID('出場選手エントリー票　女'!B60,2,1)=\"0\",RIGHTB('出場選手エントリー票　女'!B60,3),RIGHTB('出場選手エントリー票　女'!B60,4)))","v":""},null,null,null,{"$f":"IF(B74=\"\",\"\",('出場選手エントリー票　女'!C60&\" \"&'出場選手エントリー票　女'!D60))","v":""},null,{"$f":"IF(B74=\"\",\"\",'出場選手エントリー票　女'!H60)","v":""},{"$f":"IF('出場選手エントリー票　女'!K60=\"\",\"\",'出場選手エントリー票　女'!K60)","v":""},{"$f":"IF('出場選手エントリー票　女'!L60=\"\",\"\",'出場選手エントリー票　女'!L60)","v":""},{"$f":"IF('出場選手エントリー票　女'!M60=\"\",\"\",'出場選手エントリー票　女'!M60)","v":""},{"$f":"IF('出場選手エントリー票　女'!N60=\"\",\"\",VALUE('出場選手エントリー票　女'!N60))","v":""},{"$f":"IF('出場選手エントリー票　女'!O60=\"\",\"\",'出場選手エントリー票　女'!O60)","v":""},"","","",null,null,null,0,0,0,0,0]
[60,{"$f":"IF('出場選手エントリー票　女'!B61=\"\",\"\",IF(MID('出場選手エントリー票　女'!B61,2,1)=\"0\",RIGHTB('出場選手エントリー票　女'!B61,3),RIGHTB('出場選手エントリー票　女'!B61,4)))","v":""},null,null,null,{"$f":"IF(B75=\"\",\"\",('出場選手エントリー票　女'!C61&\" \"&'出場選手エントリー票　女'!D61))","v":""},null,{"$f":"IF(B75=\"\",\"\",'出場選手エントリー票　女'!H61)","v":""},{"$f":"IF('出場選手エントリー票　女'!K61=\"\",\"\",'出場選手エントリー票　女'!K61)","v":""},{"$f":"IF('出場選手エントリー票　女'!L61=\"\",\"\",'出場選手エントリー票　女'!L61)","v":""},{"$f":"IF('出場選手エントリー票　女'!M61=\"\",\"\",'出場選手エントリー票　女'!M61)","v":""},{"$f":"IF('出場選手エントリー票　女'!N61=\"\",\"\",VALUE('出場選手エントリー票　女'!N61))","v":""},{"$f":"IF('出場選手エントリー票　女'!O61=\"\",\"\",'出場選手エントリー票　女'!O61)","v":""},"","","",null,null,null,0,0,0,0,0]

{"sheet":"女子七種走高跳","index":5,"n_rows":11,"n_cols":9,"rows_kept":11,"cut":false,"hidden":true,"merged":[[1,6,1,7],[1,4,1,5]]}
[{"$f":"IF(A4=\"\",\"\",学校情報!$D$2)","v":""}]
[null,null,null,null,"最初の記録",null,"最高記録"]
["No.",null,"姓","名","m","cm","m","cm","所属"]
[null,null,{"$f":"IF(ISERROR(VLOOKUP($A4,氏名データ!$2:$7000,4,0)),\"\",VLOOKUP($A4,氏名データ!$2:$7000,4,0))","v":0},{"$f":"IF(ISERROR(VLOOKUP($A4,氏名データ!$2:$7000,5,0)),\"\",VLOOKUP($A4,氏名データ!$2:$7000,5,0))","v":0},null,null,null,null,{"$f":"IF(ISERROR(VLOOKUP($A4,氏名データ!$2:$7000,9,0)),\"\",VLOOKUP($A4,氏名データ!$2:$7000,9,0))","v":0}]
[null,null,{"$f":"IF(ISERROR(VLOOKUP($A5,氏名データ!$2:$7000,4,0)),\"\",VLOOKUP($A5,氏名データ!$2:$7000,4,0))","v":0},{"$f":"IF(ISERROR(VLOOKUP($A5,氏名データ!$2:$7000,5,0)),\"\",VLOOKUP($A5,氏名データ!$2:$7000,5,0))","v":0},null,null,null,null,{"$f":"IF(ISERROR(VLOOKUP($A5,氏名データ!$2:$7000,9,0)),\"\",VLOOKUP($A5,氏名データ!$2:$7000,9,0))","v":0}]
[null,null,{"$f":"IF(ISERROR(VLOOKUP($A6,氏名データ!$2:$7000,4,0)),\"\",VLOOKUP($A6,氏名データ!$2:$7000,4,0))","v":0},{"$f":"IF(ISERROR(VLOOKUP($A6,氏名データ!$2:$7000,5,0)),\"\",VLOOKUP($A6,氏名データ!$2:$7000,5,0))","v":0},null,null,null,null,{"$f":"IF(ISERROR(VLOOKUP($A6,氏名データ!$2:$7000,9,0)),\"\",VLOOKUP($A6,氏名データ!$2:$7000,9,0))","v":0}]
[null,null,{"$f":"IF(ISERROR(VLOOKUP($A7,氏名データ!$2:$7000,4,0)),\"\",VLOOKUP($A7,氏名データ!$2:$7000,4,0))","v":0},{"$f":"IF(ISERROR(VLOOKUP($A7,氏名データ!$2:$7000,5,0)),\"\",VLOOKUP($A7,氏名データ!$2:$7000,5,0))","v":0},null,null,null,null,{"$f":"IF(ISERROR(VLOOKUP($A7,氏名データ!$2:$7000,9,0)),\"\",VLOOKUP($A7,氏名データ!$2:$7000,9,0))","v":0}]
[null,null,{"$f":"IF(ISERROR(VLOOKUP($A8,氏名データ!$2:$7000,4,0)),\"\",VLOOKUP($A8,氏名データ!$2:$7000,4,0))","v":0},{"$f":"IF(ISERROR(VLOOKUP($A8,氏名データ!$2:$7000,5,0)),\"\",VLOOKUP($A8,氏名データ!$2:$7000,5,0))","v":0},null,null,null,null,{"$f":"IF(ISERROR(VLOOKUP($A8,氏名データ!$2:$7000,9,0)),\"\",VLOOKUP($A8,氏名データ!$2:$7000,9,0))","v":0}]
[null,null,{"$f":"IF(ISERROR(VLOOKUP($A9,氏名データ!$2:$7000,4,0)),\"\",VLOOKUP($A9,氏名データ!$2:$7000,4,0))","v":0},{"$f":"IF(ISERROR(VLOOKUP($A9,氏名データ!$2:$7000,5,0)),\"\",VLOOKUP($A9,氏名データ!$2:$7000,5,0))","v":0},null,null,null,null,{"$f":"IF(ISERROR(VLOOKUP($A9,氏名データ!$2:$7000,9,0)),\"\",VLOOKUP($A9,氏名データ!$2:$7000,9,0))","v":0}]
[null,null,{"$f":"IF(ISERROR(VLOOKUP($A10,氏名データ!$2:$7000,4,0)),\"\",VLOOKUP($A10,氏名データ!$2:$7000,4,0))","v":0},{"$f":"IF(ISERROR(VLOOKUP($A10,氏名データ!$2:$7000,5,0)),\"\",VLOOKUP($A10,氏名データ!$2:$7000,5,0))","v":0},null,null,null,null,{"$f":"IF(ISERROR(VLOOKUP($A10,氏名データ!$2:$7000,9,0)),\"\",VLOOKUP($A10,氏名データ!$2:$7000,9,0))","v":0}]
[null,null,{"$f":"IF(ISERROR(VLOOKUP($A11,氏名データ!$2:$7000,4,0)),\"\",VLOOKUP($A11,氏名データ!$2:$7000,4,0))","v":0},{"$f":"IF(ISERROR(VLOOKUP($A11,氏名データ!$2:$7000,5,0)),\"\",VLOOKUP($A11,氏名データ!$2:$7000,5,0))","v":0},null,null,null,null,{"$f":"IF(ISERROR(VLOOKUP($A11,氏名データ!$2:$7000,9,0)),\"\",VLOOKUP($A11,氏名データ!$2:$7000,9,0))","v":0}]

{"sheet":"氏名データ","index":6,"n_rows":7000,"n_cols":36,"rows_kept":4500,"cut":true,"hidden":true,"merged":[],"bounds":{"rows_first":2000,"rows_last":500,"rows_between":2000,"halvings":0}}
[null,"支部","学校番号","氏名",null,"ﾌﾘｶﾞﾅ",null,null,null,null,"学年","学校名",null,"性別","CSV貼付→","登録番号","氏名",null,"ﾌﾘｶﾞﾅ",null,"会員名英字(姓)","会員名英字(名)","性別","生年","学年",null,null,"支部","学校番号","所属（略称）","所属（正式）",null,null,"住所","電話","FAX"]
[{"$f":"P2","v":50101},{"$f":"ROUNDDOWN(A2/10000,0)","v":5},{"$f":"ROUNDDOWN((A2-B2*10000)/100,0)","v":1},{"$f":"Q2","v":"新藤"},"源生","ｼﾝﾄﾞｳ","ﾓﾄｷ","SHINDO","Motoki",{"$f":"X2","v":"04"},{"$f":"Y2","v":3},{"$f":"VLOOKUP(B2*100+C2,氏名データ!$AC$2:$AJ$401,2,0)","v":"都武蔵"},null,{"$f":"W2","v":"男"},null,50101,"新藤","源生","ｼﾝﾄﾞｳ","ﾓﾄｷ","SHINDO","Motoki","男","04",3,null,{"$f":"130000+AC2","v":130101},{"$f":"LEFT(AC2,1)","v":"1"},101,"東工大附","東京工業大学附属科学技術高校",null,"東京工業大学附属科学技術高校"]
[{"$f":"P3","v":50102},{"$f":"ROUNDDOWN(A3/10000,0)","v":5},{"$f":"ROUNDDOWN((A3-B3*10000)/100,0)","v":1},{"$f":"Q3","v":"田山"},{"$f":"R3","v":"舷斗"},{"$f":"S3","v":"ﾀﾔﾏ"},{"$f":"T3","v":"ｹﾞﾝﾄ"},{"$f":"U3","v":"TAYAMA"},{"$f":"V3","v":"Gento"},{"$f":"X3","v":"04"},{"$f":"Y3","v":3},{"$f":"VLOOKUP(B3*100+C3,氏名データ!$AC$2:$AJ$401,2,0)","v":"都武蔵"},null,{"$f":"W3","v":"男"},null,50102,"田山","舷斗","ﾀﾔﾏ","ｹﾞﾝﾄ","TAYAMA","Gento","男","04",3,null,{"$f":"130000+AB3*100+AC3","v":130203},{"$f":"LEFT(AC3,1)","v":"1"},103,"都芝商","東京都立芝商業高等学校",null,"都立芝商業高等学校"]
[50103,5,1,"西端","良平","ﾆｼﾊﾀ","ﾘｮｳﾍｲ","NISHIHATA","Ryohei","04",3,{"$f":"VLOOKUP(B4*100+C4,氏名データ!$AC$2:$AJ$401,2,0)","v":"都武蔵"},null,"男",null,50103,"西端","良平","ﾆｼﾊﾀ","ﾘｮｳﾍｲ","NISHIHATA","Ryohei","男","04",3,null,130205,"1",105,"都三田","東京都立三田高等学校",null,"都立三田高等学校"]
[50104,5,1,"村越","公紀","ﾑﾗｺｼ","ﾏｻｷ","MURAKOSHI","Masaki","04",3,{"$f":"VLOOKUP(B5*100+C5,氏名データ!$AC$2:$AJ$401,2,0)","v":"都武蔵"},null,"男",null,50104,"村越","公紀","ﾑﾗｺｼ","ﾏｻｷ","MURAKOSHI","Masaki","男","04",3,null,130206,"1",106,"九段中等","千代田区立九段中等教育学校",null,"千代田区立九段中等教育学校"]
[50106,5,1,"有川","紘樹","ｱﾘｶﾜ","ﾋﾛｷ","ARIKAWA","Hiroki","04",3,{"$f":"VLOOKUP(B6*100+C6,氏名データ!$AC$2:$AJ$401,2,0)","v":"都武蔵"},null,"男",null,50106,"有川","紘樹","ｱﾘｶﾜ","ﾋﾛｷ","ARIKAWA","Hiroki","男","04",3,null,130207,"1",107,"麻布","麻布高等学校",null,"麻布高等学校"]
[50108,5,1,"川崎","友裕","ｶﾜｻｷ","ﾄﾓﾋﾛ","KAWASAKI","Tomohiro","05",2,{"$f":"VLOOKUP(B7*100+C7,氏名データ!$AC$2:$AJ$401,2,0)","v":"都武蔵"},null,"男",null,50108,"川崎","友裕","ｶﾜｻｷ","ﾄﾓﾋﾛ","KAWASAKI","Tomohiro","男","05",2,null,130208,"1",108,"慶應女","慶應女子高等学校",null,"慶應女子高等学校"]
[50109,5,1,"羅","斐格","ﾛｳ","ﾖｼﾉﾘ","ROU","Yoshinori","05",2,{"$f":"VLOOKUP(B8*100+C8,氏名データ!$AC$2:$AJ$401,2,0)","v":"都武蔵"},null,"男",null,50109,"羅","斐格","ﾛｳ","ﾖｼﾉﾘ","ROU","Yoshinori","男","05",2,null,130209,"1",109,"芝","芝高等学校",null,"芝高等学校"]
[50110,5,1,"棚町","俊亮","ﾀﾅﾏﾁ","ｼｭﾝｽｹ","TANAMACHI","Shunsuke","07",1,{"$f":"VLOOKUP(B9*100+C9,氏名データ!$AC$2:$AJ$401,2,0)","v":"都武蔵"},null,"男",null,50110,"棚町","俊亮","ﾀﾅﾏﾁ","ｼｭﾝｽｹ","TANAMACHI","Shunsuke","男","07",1,null,130210,"1",110,"広尾学園","広尾学園高等学校",null,"広尾学園高等学校"]
[50111,5,1,"石井","駿乃介","ｲｼｲ","ｼｭﾝﾉｽｹ","ISHII","Shunnosuke","06",1,{"$f":"VLOOKUP(B10*100+C10,氏名データ!$AC$2:$AJ$401,2,0)","v":"都武蔵"},null,"男",null,50111,"石井","駿乃介","ｲｼｲ","ｼｭﾝﾉｽｹ","ISHII","Shunnosuke","男","06",1,null,130211,"1",111,"頌栄女","頌栄女子学院高等学校",null,"頌栄女子学院高等学校"]
[50148,5,1,"石井","陽葵","ｲｼｲ","ﾊﾙｷ","ISHII","Haruki","04",3,{"$f":"VLOOKUP(B11*100+C11,氏名データ!$AC$2:$AJ$401,2,0)","v":"都武蔵"},null,"男",null,50148,"石井","陽葵","ｲｼｲ","ﾊﾙｷ","ISHII","Haruki","男","04",3,null,130212,"1",112,"正則","正則高等学校",null,"正則高等学校"]
[50149,5,1,"工藤","彰悟","ｸﾄﾞｳ","ｼｮｳｺﾞ","KUDO","Shogo","05",3,{"$f":"VLOOKUP(B12*100+C12,氏名データ!$AC$2:$AJ$401,2,0)","v":"都武蔵"},null,"男",null,50149,"工藤","彰悟","ｸﾄﾞｳ","ｼｮｳｺﾞ","KUDO","Shogo","男","05",3,null,130213,"1",113,"聖心女","聖心女子学院高等学校",null,"聖心女子学院高等学校"]
[50150,5,1,"小池","勇貴","ｺｲｹ","ﾕｳｷ","KOIKE","Yuki","04",3,{"$f":"VLOOKUP(B13*100+C13,氏名データ!$AC$2:$AJ$401,2,0)","v":"都武蔵"},null,"男",null,50150,"小池","勇貴","ｺｲｹ","ﾕｳｷ","KOIKE","Yuki","男","04",3,null,130214,"1",114,"高輪","高輪高等学校",null,"高輪高等学校"]
[50180,5,1,"山﨑","絢水","ﾔﾏｻﾞｷ","ｱﾔﾅ","YAMAZAKI","Ayana","04",3,{"$f":"VLOOKUP(B14*100+C14,氏名データ!$AC$2:$AJ$401,2,0)","v":"都武蔵"},null,"女",null,50180,"山﨑","絢水","ﾔﾏｻﾞｷ","ｱﾔﾅ","YAMAZAKI","Ayana","女","04",3,null,130215,"1",115,"東海大高輪台","東海大高輪台高等学校",null,"東海大高輪台高等学校"]
[50181,5,1,"権田","和泉","ｺﾞﾝﾀﾞ","ｲｽﾞﾐ","GONDA","Izumi","05",3,{"$f":"VLOOKUP(B15*100+C15,氏名データ!$AC$2:$AJ$401,2,0)","v":"都武蔵"},null,"女",null,50181,"権田","和泉","ｺﾞﾝﾀﾞ","ｲｽﾞﾐ","GONDA","Izumi","女","05",3,null,130218,"1",118,"普連土","普連土学園高等学校",null,"普連土学園高等学校"]
[50182,5,1,"比嘉","結","ﾋｶﾞ","ﾕｲ","HIGA","Yui","05",3,{"$f":"VLOOKUP(B16*100+C16,氏名データ!$AC$2:$AJ$401,2,0)","v":"都武蔵"},null,"女",null,50182,"比嘉","結","ﾋｶﾞ","ﾕｲ","HIGA","Yui","女","05",3,null,130219,"1",119,"明治学院","明治学院高等学校",null,"明治学院高等学校"]
[50183,5,1,"福代","美乃里","ﾌｸｼﾛ","ﾐﾉﾘ","FUKUSHIRO","Minori","05",2,{"$f":"VLOOKUP(B17*100+C17,氏名データ!$AC$2:$AJ$401,2,0)","v":"都武蔵"},null,"女",null,50183,"福代","美乃里","ﾌｸｼﾛ","ﾐﾉﾘ","FUKUSHIRO","Minori","女","05",2,null,130221,"1",121,"都大田桜台","東京都立大田桜台高等学校",null,"都立大田桜台高等学校"]
[50185,5,1,"飯野","はる","ｲｲﾉ","ﾊﾙ","IINO","Haru","06",1,{"$f":"VLOOKUP(B18*100+C18,氏名データ!$AC$2:$AJ$401,2,0)","v":"都武蔵"},null,"女",null,50185,"飯野","はる","ｲｲﾉ","ﾊﾙ","IINO","Haru","女","06",1,null,130222,"1",122,"都大森","東京都立大森高等学校",null,"都立大森高等学校"]
[50186,5,1,"平山","瑞稀","ﾋﾗﾔﾏ","ﾐｽﾞｷ","HIRAYAMA","Mizuki","06",1,{"$f":"VLOOKUP(B19*100+C19,氏名データ!$AC$2:$AJ$401,2,0)","v":"都武蔵"},null,"女",null,50186,"平山","瑞稀","ﾋﾗﾔﾏ","ﾐｽﾞｷ","HIRAYAMA","Mizuki","女","06",1,null,130223,"1",123,"都美原","東京都立美原高等学校",null,"都立美原高等学校"]
[50187,5,1,"伊藤","萌衣","ｲﾄｳ","ﾒｲ","ITO","Mei","06",1,{"$f":"VLOOKUP(B20*100+C20,氏名データ!$AC$2:$AJ$401,2,0)","v":"都武蔵"},null,"女",null,50187,"伊藤","萌衣","ｲﾄｳ","ﾒｲ","ITO","Mei","女","06",1,null,130224,"1",124,"都蒲田","東京都立蒲田高等学校",null,"都立蒲田高等学校"]
[50188,5,1,"鈴木",{"$f":"R21","v":"菜央"},"ｽｽﾞｷ","ﾅｵ","SUZUKI","Nao","06",1,{"$f":"VLOOKUP(B21*100+C21,氏名データ!$AC$2:$AJ$401,2,0)","v":"都武蔵"},null,"女",null,50188,"鈴木","菜央","ｽｽﾞｷ","ﾅｵ","SUZUKI","Nao","女","06",1,null,130225,"1",125,"都田園調布","東京都立田園調布高等学校",null,"都立田園調布高等学校"]
[50189,5,1,"岩間","蒼佳","ｲﾜﾏ","ｿｳｶ","IWAMA","Soka","06",2,{"$f":"VLOOKUP(B22*100+C22,氏名データ!$AC$2:$AJ$401,2,0)","v":"都武蔵"},null,"女",null,50189,"岩間","蒼佳","ｲﾜﾏ","ｿｳｶ","IWAMA","Soka","女","06",2,null,130227,"1",127,"都つばさ総合","東京都立つばさ総合高等学校",null,"都立つばさ総合高等学校"]
[50201,5,2,"渡部","颯太","ﾜﾀﾅﾍﾞ","ｿｳﾀ","WATANABE","Sota","05",2,{"$f":"VLOOKUP(B23*100+C23,氏名データ!$AC$2:$AJ$401,2,0)","v":"都武蔵野北"},null,"男",null,50201,"渡部","颯太","ﾜﾀﾅﾍﾞ","ｿｳﾀ","WATANABE","Sota","男","05",2,null,130228,"1",128,"都六郷工科","東京都立六郷工科高等学校",null,"都立六郷工科高等学校"]
[50202,5,2,"石川","瑛都","ｲｼｶﾜ","ｴｲﾄ","ISHIKAWA","Eito","06",1,{"$f":"VLOOKUP(B24*100+C24,氏名データ!$AC$2:$AJ$401,2,0)","v":"都武蔵野北"},null,"男",null,50202,"石川","瑛都","ｲｼｶﾜ","ｴｲﾄ","ISHIKAWA","Eito","男","06",1,null,130229,"1",129,"都雪谷","東京都立雪谷高等学校",null,"都立雪谷高等学校"]
[50203,5,2,"岩田","聡太","ｲﾜﾀ","ｿｳﾀ","IWATA","Sota","06",1,{"$f":"VLOOKUP(B25*100+C25,氏名データ!$AC$2:$AJ$401,2,0)","v":"都武蔵野北"},null,"男",null,50203,"岩田","聡太","ｲﾜﾀ","ｿｳﾀ","IWATA","Sota","男","06",1,null,130230,"1",130,"大森学園","大森学園高等学校",null,"大森学園高等学校"]
[50204,5,2,"大井","友喜","ｵｵｲ","ﾄﾓｷ","OI","Tomoki","06",1,{"$f":"VLOOKUP(B26*100+C26,氏名データ!$AC$2:$AJ$401,2,0)","v":"都武蔵野北"},null,"男",null,50204,"大井","友喜","ｵｵｲ","ﾄﾓｷ","OI","Tomoki","男","06",1,null,130231,"1",131,"東京","東京高等学校",null,"東京高等学校"]
[50205,5,2,"栗山","弘豊","ｸﾘﾔﾏ","ﾋﾛﾄ","KURIYAMA","Hiroto","07",1,{"$f":"VLOOKUP(B27*100+C27,氏名データ!$AC$2:$AJ$401,2,0)","v":"都武蔵野北"},null,"男",null,50205,"栗山","弘豊","ｸﾘﾔﾏ","ﾋﾛﾄ","KURIYAMA","Hiroto","男","07",1,null,130232,"1",132,"東京","東京高等学校",null,"東京高等学校"]
[50206,5,2,"小松","悠河","ｺﾏﾂ","ﾕｳｶﾞ","KOMATSU","Yuga","06",1,{"$f":"VLOOKUP(B28*100+C28,氏名データ!$AC$2:$AJ$401,2,0)","v":"都武蔵野北"},null,"男",null,50206,"小松","悠河","ｺﾏﾂ","ﾕｳｶﾞ","KOMATSU","Yuga","男","06",1,null,130233,"1",133,"東京実","東京実業高等学校",null,"東京実業高等学校"]
[50207,5,2,"高橋","遼","ﾀｶﾊｼ","ﾘｮｳ","TAKAHASHI","Ryo","06",1,{"$f":"VLOOKUP(B29*100+C29,氏名データ!$AC$2:$AJ$401,2,0)","v":"都武蔵野北"},null,"男",null,50207,"高橋","遼","ﾀｶﾊｼ","ﾘｮｳ","TAKAHASHI","Ryo","男","06",1,null,130234,"1",134,"日体大荏原","日本体育大学荏原高等学校",null,"日本体育大学荏原高等学校"]
[50208,5,2,"中釜","駿","ﾅｶｶﾞﾏ","ｼｭﾝ","NAKAGAMA","Shun","06",1,{"$f":"VLOOKUP(B30*100+C30,氏名データ!$AC$2:$AJ$401,2,0)","v":"都武蔵野北"},null,"男",null,50208,"中釜","駿","ﾅｶｶﾞﾏ","ｼｭﾝ","NAKAGAMA","Shun","男","06",1,null,130235,"1",135,"蒲田女","蒲田女子高等学校",null,"都立国際高等学校"]
[50209,5,2,"ハンソン","仁","ﾊﾝｿﾝ","ｼﾞｪｲﾀﾞﾝ","HANSON","Jayden","06",1,{"$f":"VLOOKUP(B31*100+C31,氏名データ!$AC$2:$AJ$401,2,0)","v":"都武蔵野北"},null,"男",null,50209,"ハンソン","仁","ﾊﾝｿﾝ","ｼﾞｪｲﾀﾞﾝ","HANSON","Jayden","男","06",1,null,130236,"1",136,"都国際","東京都立国際高等学校",null,"都立駒場高等学校"]
[50210,5,2,"福士","琉司","ﾌｸｼ","ﾘｭｳｼﾞ","FUKUSHI","Ryuji","06",1,{"$f":"VLOOKUP(B32*100+C32,氏名データ!$AC$2:$AJ$401,2,0)","v":"都武蔵野北"},null,"男",null,50210,"福士","琉司","ﾌｸｼ","ﾘｭｳｼﾞ","FUKUSHI","Ryuji","男","06",1,null,130237,"1",137,"都駒場","東京都立駒場高等学校",null,"蒲田女子高等学校"]
[50211,5,2,"堀井","政徳","ﾎﾘｲ","ﾏｻﾉﾘ","HORII","Masanori","06",1,{"$f":"VLOOKUP(B33*100+C33,氏名データ!$AC$2:$AJ$401,2,0)","v":"都武蔵野北"},null,"男",null,50211,"堀井","政徳","ﾎﾘｲ","ﾏｻﾉﾘ","HORII","Masanori","男","06",1,null,130238,"1",138,"都駒場","東京都立駒場高等学校",null,"都立目黒高等学校"]
[50234,5,2,"北浦","一樹","ｷﾀｳﾗ","ｶｽﾞｷ","KITAURA","Kazuki","04",3,{"$f":"VLOOKUP(B34*100+C34,氏名データ!$AC$2:$AJ$401,2,0)","v":"都武蔵野北"},null,"男",null,50234,"北浦","一樹","ｷﾀｳﾗ","ｶｽﾞｷ","KITAURA","Kazuki","男","04",3,null,130239,"1",139,"都目黒","東京都立目黒高等学校",null,"自由ヶ丘学園高等学校"]
[50235,5,2,"河野","泰幸","ｺｳﾉ","ﾔｽﾕｷ","KONO","Yasuyuki","04",3,{"$f":"VLOOKUP(B35*100+C35,氏名データ!$AC$2:$AJ$401,2,0)","v":"都武蔵野北"},null,"男",null,50235,"河野","泰幸","ｺｳﾉ","ﾔｽﾕｷ","KONO","Yasuyuki","男","04",3,null,130240,"1",140,"自由ヶ丘学園","自由ヶ丘学園高等学校",null,"都立桜修館中等教育学校"]
[50236,5,2,"佐藤","宏明","ｻﾄｳ","ﾋﾛｱｷ","SATO","Hiroaki","04",3,{"$f":"VLOOKUP(B36*100+C36,氏名データ!$AC$2:$AJ$401,2,0)","v":"都武蔵野北"},null,"男",null,50236,"佐藤","宏明","ｻﾄｳ","ﾋﾛｱｷ","SATO","Hiroaki","男","04",3,null,130241,"1",141,"都桜修館中等","東京都立桜修館中等教育学校",null,"日本工業大学駒場高等学校"]
[50237,5,2,"平田","昇大","ﾋﾗﾀ","ｼｮｳﾀ","HIRATA","Shota","04",3,{"$f":"VLOOKUP(B37*100+C37,氏名データ!$AC$2:$AJ$401,2,0)","v":"都武蔵野北"},null,"男",null,50237,"平田","昇大","ﾋﾗﾀ","ｼｮｳﾀ","HIRATA","Shota","男","04",3,null,130242,"1",142,"日本工大駒場","日本工業大学駒場高等学校",null,"東京学園高等学校"]
[50238,5,2,"真島","健人","ﾏｼﾞﾏ","ｹﾝﾄ","MAJIMA","Kento","04",3,{"$f":"VLOOKUP(B38*100+C38,氏名データ!$AC$2:$AJ$401,2,0)","v":"都武蔵野北"},null,"男",null,50238,"真島","健人","ﾏｼﾞﾏ","ｹﾝﾄ","MAJIMA","Kento","男","04",3,null,130243,"1",143,"東京学園","東京学園高等学校",null,"目黒日本大学高等学校"]
[50239,5,2,"柳生","浩明","ﾔｷﾞｭｳ","ﾋﾛｱｷ","YAGYU","Hiroaki","04",3,{"$f":"VLOOKUP(B39*100+C39,氏名データ!$AC$2:$AJ$401,2,0)","v":"都武蔵野北"},null,"男",null,50239,"柳生","浩明","ﾔｷﾞｭｳ","ﾋﾛｱｷ","YAGYU","Hiroaki","男","04",3,null,130245,"1",145,"目黒日大","目黒日本大学高等学校",null,"目黒学院高等学校"]
[50240,5,2,"吉田","悠翔","ﾖｼﾀﾞ","ﾊﾙﾄ","YOSHIDA","Haruto","04",3,{"$f":"VLOOKUP(B40*100+C40,氏名データ!$AC$2:$AJ$401,2,0)","v":"都武蔵野北"},null,"男",null,50240,"吉田","悠翔","ﾖｼﾀﾞ","ﾊﾙﾄ","YOSHIDA","Haruto","男","04",3,null,130246,"1",146,"目黒学院","目黒学院高等学校",null,"多摩大学目黒高等学校"]
[50241,5,2,"木下","裕生","ｷﾉｼﾀ","ﾕｳｷ","KINOSHITA","Yuki","05",3,{"$f":"VLOOKUP(B41*100+C41,氏名データ!$AC$2:$AJ$401,2,0)","v":"都武蔵野北"},null,"男",null,50241,"木下","裕生","ｷﾉｼﾀ","ﾕｳｷ","KINOSHITA","Yuki","男","05",3,null,130247,"1",147,"多摩大目黒","多摩大学目黒高等学校",null,"八雲学園高等学校"]
[50242,5,2,"庄司","碧伊","ｼｮｳｼﾞ","ｱｵｲ","SHOJI","Aoi","05",2,{"$f":"VLOOKUP(B42*100+C42,氏名データ!$AC$2:$AJ$401,2,0)","v":"都武蔵野北"},null,"男",null,50242,"庄司","碧伊","ｼｮｳｼﾞ","ｱｵｲ","SHOJI","Aoi","男","05",2,null,130248,"1",148,"八雲学園","八雲学園高等学校",null,"都立大崎高等学校"]
[50243,5,2,"森岡","右京","ﾓﾘｵｶ","ｳｷｮｳ","MORIOKA","Ukyo","06",2,{"$f":"VLOOKUP(B43*100+C43,氏名データ!$AC$2:$AJ$401,2,0)","v":"都武蔵野北"},null,"男",null,50243,"森岡","右京","ﾓﾘｵｶ","ｳｷｮｳ","MORIOKA","Ukyo","男","06",2,null,130249,"1",149,"都大崎","東京都立大崎高等学校",null,"都立小山台高等学校"]
[50244,5,2,"森","柚貴","ﾓﾘ","ﾕｽﾞｷ","MORI","Yuzuki","05",2,{"$f":"VLOOKUP(B44*100+C44,氏名データ!$AC$2:$AJ$401,2,0)","v":"都武蔵野北"},null,"男",null,50244,"森","柚貴","ﾓﾘ","ﾕｽﾞｷ","MORI","Yuzuki","男","05",2,null,130250,"1",150,"都小山台","東京都立小山台高等学校",null,"都立八潮高等学校"]
[50245,5,2,"山崎","遼平","ﾔﾏｻﾞｷ","ﾘｮｳﾍｲ","YAMAZAKI","Ryohei","05",2,{"$f":"VLOOKUP(B45*100+C45,氏名データ!$AC$2:$AJ$401,2,0)","v":"都武蔵野北"},null,"男",null,50245,"山崎","遼平","ﾔﾏｻﾞｷ","ﾘｮｳﾍｲ","YAMAZAKI","Ryohei","男","05",2,null,130252,"1",152,"都八潮","東京都立八潮高等学校",null,"都立産業技術高等専門学校品川"]
[50246,5,2,"伊藤","悠音","ｲﾄｳ","ﾕｳﾄ","ITO","Yuto","06",2,{"$f":"VLOOKUP(B46*100+C46,氏名データ!$AC$2:$AJ$401,2,0)","v":"都武蔵野北"},null,"男",null,50246,"伊藤","悠音","ｲﾄｳ","ﾕｳﾄ","ITO","Yuto","男","06",2,null,130253,"1",153,"産技高専品川","東京都立産業技術高等専門学校品川",null,"攻玉社高等学校"]
[50247,5,2,"内田","龍稀","ｳﾁﾀﾞ","ﾘｭｳｷ","UCHIDA","Ryuki","05",2,{"$f":"VLOOKUP(B47*100+C47,氏名データ!$AC$2:$AJ$401,2,0)","v":"都武蔵野北"},null,"男",null,50247,"内田","龍稀","ｳﾁﾀﾞ","ﾘｭｳｷ","UCHIDA","Ryuki","男","05",2,null,130552,"1",154,"品川翔英","品川翔英高等学校",null,"香蘭女学校"]
[50248,5,2,"岸田","耀","ｷｼﾀﾞ","ﾖｳ","KISHIDA","You","06",2,{"$f":"VLOOKUP(B48*100+C48,氏名データ!$AC$2:$AJ$401,2,0)","v":"都武蔵野北"},null,"男",null,50248,"岸田","耀","ｷｼﾀﾞ","ﾖｳ","KISHIDA","You","男","06",2,null,{"$f":"130000+AB48*100+AC48","v":130255},"1",155,"攻玉社","攻玉社高等学校",null,"青稜高等学校"]
[50250,5,2,"藤沼","友希","ﾌｼﾞﾇﾏ","ﾄﾓｷ","FUJINUMA","Tomoki","05",2,{"$f":"VLOOKUP(B49*100+C49,氏名データ!$AC$2:$AJ$401,2,0)","v":"都武蔵野北"},null,"男",null,50250,"藤沼","友希","ﾌｼﾞﾇﾏ","ﾄﾓｷ","FUJINUMA","Tomoki","男","05",2,null,130256,"1",156,"香蘭女","香蘭女学校",null,"朋優学院高等学校"]
[50259,5,2,"秋元","ゆう加","ｱｷﾓﾄ","ﾕｳｶ","AKIMOTO","Yuka","05",3,{"$f":"VLOOKUP(B50*100+C50,氏名データ!$AC$2:$AJ$401,2,0)","v":"都武蔵野北"},null,"女",null,50259,"秋元","ゆう加","ｱｷﾓﾄ","ﾕｳｶ","AKIMOTO","Yuka","女","05",3,null,130258,"1",158,"青稜","青稜高等学校",null,"立正高等学校"]
[50260,5,2,"関元","春菜","ｾｷﾓﾄ","ﾊﾙﾅ","SEKIMOTO","Haruna","05",3,{"$f":"VLOOKUP(B51*100+C51,氏名データ!$AC$2:$AJ$401,2,0)","v":"都武蔵野北"},null,"女",null,50260,"関元","春菜","ｾｷﾓﾄ","ﾊﾙﾅ","SEKIMOTO","Haruna","女","05",3,null,130259,"1",159,"朋優","朋優学院高等学校",null,"文教大学付属高等学校"]
[50261,5,2,"高橋","史佳","ﾀｶﾊｼ","ﾌﾐｶ","TAKAHASHI","Fumika","05",3,{"$f":"VLOOKUP(B52*100+C52,氏名データ!$AC$2:$AJ$401,2,0)","v":"都武蔵野北"},null,"女",null,50261,"高橋","史佳","ﾀｶﾊｼ","ﾌﾐｶ","TAKAHASHI","Fumika","女","05",3,null,130261,"1",161,"立正","立正高等学校",null,"都立日比谷高等学校"]
[50262,5,2,"仲田","萌絵","ﾅｶﾀﾞ","ﾓｴ","NAKADA","Moe","04",3,{"$f":"VLOOKUP(B53*100+C53,氏名データ!$AC$2:$AJ$401,2,0)","v":"都武蔵野北"},null,"女",null,50262,"仲田","萌絵","ﾅｶﾀﾞ","ﾓｴ","NAKADA","Moe","女","04",3,null,130262,"1",162,"文教大付","文教大学付属高等学校",null,"大妻高等学校"]
[50263,5,2,"松尾","すみれ","ﾏﾂｵ","ｽﾐﾚ","MATSUO","Sumire","04",3,{"$f":"VLOOKUP(B54*100+C54,氏名データ!$AC$2:$AJ$401,2,0)","v":"都武蔵野北"},null,"女",null,50263,"松尾","すみれ","ﾏﾂｵ","ｽﾐﾚ","MATSUO","Sumire","女","04",3,null,130266,"1",166,"都日比谷","東京都立日比谷高等学校",null,"共立女子高等学校"]
[50264,5,2,"五十嵐","優姫","ｲｶﾞﾗｼ","ﾕｳｷ","IGARASHI","Yuki","05",2,{"$f":"VLOOKUP(B55*100+C55,氏名データ!$AC$2:$AJ$401,2,0)","v":"都武蔵野北"},null,"女",null,50264,"五十嵐","優姫","ｲｶﾞﾗｼ","ﾕｳｷ","IGARASHI","Yuki","女","05",2,null,130267,"1",167,"大妻","大妻高等学校",null,"錦城学園高等学校"]
[50265,5,2,"岡田","奈月","ｵｶﾀﾞ","ﾅﾂｷ","OKADA","Natsuki","05",2,{"$f":"VLOOKUP(B56*100+C56,氏名データ!$AC$2:$AJ$401,2,0)","v":"都武蔵野北"},null,"女",null,50265,"岡田","奈月","ｵｶﾀﾞ","ﾅﾂｷ","OKADA","Natsuki","女","05",2,null,130270,"1",170,"共立女","共立女子高等学校",null,"暁星高等学校"]
[50266,5,2,"小林","夏芽","ｺﾊﾞﾔｼ","ﾅﾂﾒ","KOBAYASHI","Natsume","05",2,{"$f":"VLOOKUP(B57*100+C57,氏名データ!$AC$2:$AJ$401,2,0)","v":"都武蔵野北"},null,"女",null,50266,"小林","夏芽","ｺﾊﾞﾔｼ","ﾅﾂﾒ","KOBAYASHI","Natsume","女","05",2,null,130271,"1",171,"錦城学園","錦城学園高等学校",null,"白百合学園高等学校"]
[50267,5,2,"澤﨑","水咲","ｻﾜｻﾞｷ","ﾐｻｷ","SAWAZAKI","Misaki","05",2,{"$f":"VLOOKUP(B58*100+C58,氏名データ!$AC$2:$AJ$401,2,0)","v":"都武蔵野北"},null,"女",null,50267,"澤﨑","水咲","ｻﾜｻﾞｷ","ﾐｻｷ","SAWAZAKI","Misaki","女","05",2,null,130272,"1",172,"暁星","暁星高等学校",null,"女子学院高等学校"]
[50268,5,2,"谷合","愛可","ﾀﾆｱｲ","ﾏﾅｶ","TANIAI","Manaka","05",2,{"$f":"VLOOKUP(B59*100+C59,氏名データ!$AC$2:$AJ$401,2,0)","v":"都武蔵野北"},null,"女",null,50268,"谷合","愛可","ﾀﾆｱｲ","ﾏﾅｶ","TANIAI","Manaka","女","05",2,null,130274,"1",174,"白百合","白百合学園高等学校",null,"正則学園高等学校"]
[50269,5,2,"千田","菜央","ﾁﾀﾞ","ﾅｵ","CHIDA","Nao","05",2,{"$f":"VLOOKUP(B60*100+C60,氏名データ!$AC$2:$AJ$401,2,0)","v":"都武蔵野北"},null,"女",null,50269,"千田","菜央","ﾁﾀﾞ","ﾅｵ","CHIDA","Nao","女","05",2,null,130275,"1",175,"女子学院","女子学院高等学校",null,"東洋高等学校"]
[50270,5,2,"矢野","陽菜","ﾔﾉ","ﾊﾙﾅ","YANO","Haruna","06",2,{"$f":"VLOOKUP(B61*100+C61,氏名データ!$AC$2:$AJ$401,2,0)","v":"都武蔵野北"},null,"女",null,50270,"矢野","陽菜","ﾔﾉ","ﾊﾙﾅ","YANO","Haruna","女","06",2,null,130276,"1",176,"正則学園","正則学園高等学校",null,"二松學舍大学附属高等学校"]
[50271,5,2,"髙橋","乃愛","ﾀｶﾊｼ","ﾉｱ","TAKAHASHI","Noa","05",2,{"$f":"VLOOKUP(B62*100+C62,氏名データ!$AC$2:$AJ$401,2,0)","v":"都武蔵野北"},null,"女",null,50271,"髙橋","乃愛","ﾀｶﾊｼ","ﾉｱ","TAKAHASHI","Noa","女","05",2,null,130279,"1",179,"東洋","東洋高等学校",null,"和洋九段女子高等学校"]
[50272,5,2,"福島","那菜","ﾌｸｼﾏ","ﾅﾅ","FUKUSHIMA","Nana","05",2,{"$f":"VLOOKUP(B63*100+C63,氏名データ!$AC$2:$AJ$401,2,0)","v":"都武蔵野北"},null,"女",null,50272,"福島","那菜","ﾌｸｼﾏ","ﾅﾅ","FUKUSHIMA","Nana","女","05",2,null,130280,"1",180,"二松學舍大附","二松學舍大学附属高等学校",null,"都立晴海総合高等学校"]
[50273,5,2,"上野","真奈美","ｳｴﾉ","ﾏﾅﾐ","UENO","Manami","06",1,{"$f":"VLOOKUP(B64*100+C64,氏名データ!$AC$2:$AJ$401,2,0)","v":"都武蔵野北"},null,"女",null,50273,"上野","真奈美","ｳｴﾉ","ﾏﾅﾐ","UENO","Manami","女","06",1,null,130284,"1",184,"和洋九段女","和洋九段女子高等学校",null,"開智日本橋高等学校"]
[50274,5,2,"梅本","遥加","ｳﾒﾓﾄ","ﾊﾙｶ","UMEMOTO","Haruka","06",1,{"$f":"VLOOKUP(B65*100+C65,氏名データ!$AC$2:$AJ$401,2,0)","v":"都武蔵野北"},null,"女",null,50274,"梅本","遥加","ｳﾒﾓﾄ","ﾊﾙｶ","UMEMOTO","Haruka","女","06",1,null,130286,"1",186,"都晴海総合","東京都立晴海総合高等学校",null,"都立青山高等学校"]
[50275,5,2,"荻野","真侑","ｵｷﾞﾉ","ﾐﾕｳ","OGINO","Miyu","06",1,{"$f":"VLOOKUP(B66*100+C66,氏名データ!$AC$2:$AJ$401,2,0)","v":"都武蔵野北"},null,"女",null,50275,"荻野","真侑","ｵｷﾞﾉ","ﾐﾕｳ","OGINO","Miyu","女","06",1,null,130288,"1",188,"開智日本橋","開智日本橋学園高等学校",null,"都立広尾高等学校"]
[{"$f":"P67","v":50276},{"$f":"ROUNDDOWN(A67/10000,0)","v":5},{"$f":"ROUNDDOWN((A67-B67*10000)/100,0)","v":2},{"$f":"Q67","v":"櫻井"},{"$f":"R67","v":"美萌紗"},{"$f":"S67","v":"ｻｸﾗｲ"},{"$f":"T67","v":"ﾐﾓｻﾞ"},{"$f":"U67","v":"SAKURAI"},{"$f":"V67","v":"Mimoza"},{"$f":"X67","v":"06"},{"$f":"Y67","v":1},{"$f":"VLOOKUP(B67*100+C67,氏名データ!$AC$2:$AJ$401,2,0)","v":"都武蔵野北"},null,{"$f":"W67","v":"女"},null,50276,"櫻井","美萌紗","ｻｸﾗｲ","ﾐﾓｻﾞ","SAKURAI","Mimoza","女","06",1,null,130289,{"$f":"LEFT(AC67,1)","v":"1"},189,"都青山","東京都立青山高等学校",null,"青山学院高等学校"]
[50277,5,2,"深田","かなで","ﾌｶﾀ","ｶﾅﾃﾞ","FUKATA","Kanade","06",1,{"$f":"VLOOKUP(B68*100+C68,氏名データ!$AC$2:$AJ$401,2,0)","v":"都武蔵野北"},null,"女",null,50277,"深田","かなで","ﾌｶﾀ","ｶﾅﾃﾞ","FUKATA","Kanade","女","06",1,null,130292,"1",192,"都広尾","東京都立広尾高等学校",null,"関東国際高等学校"]
[50278,5,2,"吉澤","明来","ﾖｼｻﾞﾜ","ｱｷ","YOSHIZAWA","Aki","06",1,{"$f":"VLOOKUP(B69*100+C69,氏名データ!$AC$2:$AJ$401,2,0)","v":"都武蔵野北"},null,"女",null,50278,"吉澤","明来","ﾖｼｻﾞﾜ","ｱｷ","YOSHIZAWA","Aki","女","06",1,null,130294,"1",194,"青山学院","青山学院高等学校",null,"國學院高等学校"]
[50279,5,2,"川手","来心","ｶﾜﾃ","ｸﾐ","KAWATE","Kumi","07",1,{"$f":"VLOOKUP(B70*100+C70,氏名データ!$AC$2:$AJ$401,2,0)","v":"都武蔵野北"},null,"女",null,50279,"川手","来心","ｶﾜﾃ","ｸﾐ","KAWATE","Kumi","女","07",1,null,130295,"1",195,"関東国際","関東国際高等学校",null,"渋谷教育学園渋谷高等学校"]
[50301,5,3,"亀井","優作","ｶﾒｲ","ﾕｳｻｸ","KAMEI","Yusaku","05",2,{"$f":"VLOOKUP(B71*100+C71,氏名データ!$AC$2:$AJ$401,2,0)","v":"聖徳学園"},null,"男",null,50301,"亀井","優作","ｶﾒｲ","ﾕｳｻｸ","KAMEI","Yusaku","男","05",2,null,130296,"1",196,"國學院","國學院高等学校",null,"東京都立青井高等学校"]
[50302,5,3,"菊池","亮祐","ｷｸﾁ","ﾘｮｳｽｹ","KIKUCHI","Ryosuke","05",2,{"$f":"VLOOKUP(B72*100+C72,氏名データ!$AC$2:$AJ$401,2,0)","v":"聖徳学園"},null,"男",null,50302,"菊池","亮祐","ｷｸﾁ","ﾘｮｳｽｹ","KIKUCHI","Ryosuke","男","05",2,null,130299,"1",199,"渋谷","渋谷教育学園渋谷高等学校",null,"東京都立足立高等学校"]
[50303,5,3,"南井","洋人","ﾐﾅｲ","ﾋﾛﾄ","MINAI","Hiroto","06",1,{"$f":"VLOOKUP(B73*100+C73,氏名データ!$AC$2:$AJ$401,2,0)","v":"聖徳学園"},null,"男",null,50303,"南井","洋人","ﾐﾅｲ","ﾋﾛﾄ","MINAI","Hiroto","男","06",1,null,130401,"2",201,"都青井","東京都立青井高等学校",null,"東京都立足立工業高等学校"]
[50304,5,3,"中島","賢明","ﾅｶｼﾞﾏ","ﾏｻｱｷ","NAKAJIMA","Masaaki","06",1,{"$f":"VLOOKUP(B74*100+C74,氏名データ!$AC$2:$AJ$401,2,0)","v":"聖徳学園"},null,"男",null,50304,"中島","賢明","ﾅｶｼﾞﾏ","ﾏｻｱｷ","NAKAJIMA","Masaaki","男","06",1,null,130402,"2",202,"都足立","東京都立足立高等学校",null,"東京都立足立新田高等学校"]
[50419,5,4,"岡本","悠大","ｵｶﾓﾄ","ﾊﾙﾄ","OKAMOTO","Haruto","04",3,{"$f":"VLOOKUP(B75*100+C75,氏名データ!$AC$2:$AJ$401,2,0)","v":"成蹊"},null,"男",null,50419,"岡本","悠大","ｵｶﾓﾄ","ﾊﾙﾄ","OKAMOTO","Haruto","男","04",3,null,130403,"2",203,"都足立工","東京都立足立工業高等学校",null,"東京都立足立西高等学校"]
[50421,5,4,"渡辺","敬耀","ﾜﾀﾅﾍﾞ","ｶｲ","WATANABE","Kai","04",3,{"$f":"VLOOKUP(B76*100+C76,氏名データ!$AC$2:$AJ$401,2,0)","v":"成蹊"},null,"男",null,50421,"渡辺","敬耀","ﾜﾀﾅﾍﾞ","ｶｲ","WATANABE","Kai","男","04",3,null,130404,"2",204,"都足立新田","東京都立足立新田高等学校",null,"東京都立足立東高等学校"]
[50423,5,4,"小林","竜大","ｺﾊﾞﾔｼ","ﾘｭｳﾀ","KOBAYASHI","Ryuta","04",3,{"$f":"VLOOKUP(B77*100+C77,氏名データ!$AC$2:$AJ$401,2,0)","v":"成蹊"},null,"男",null,50423,"小林","竜大","ｺﾊﾞﾔｼ","ﾘｭｳﾀ","KOBAYASHI","Ryuta","男","04",3,null,130405,"2",205,"都足立西","東京都立足立西高等学校",null,"東京都立荒川商業高等学校"]
[50424,5,4,"森","光輝","ﾓﾘ","ｺｳｷ","MORI","Koki","04",3,{"$f":"VLOOKUP(B78*100+C78,氏名データ!$AC$2:$AJ$401,2,0)","v":"成蹊"},null,"男",null,50424,"森","光輝","ﾓﾘ","ｺｳｷ","MORI","Koki","男","04",3,null,130406,"2",206,"都足立東","東京都立足立東高等学校",null,"東京都立江北高等学校"]
[50425,5,4,"山本","雄大","ﾔﾏﾓﾄ","ﾕｳﾀﾞｲ","YAMAMOTO","Yudai","05",2,{"$f":"VLOOKUP(B79*100+C79,氏名データ!$AC$2:$AJ$401,2,0)","v":"成蹊"},null,"男",null,50425,"山本","雄大","ﾔﾏﾓﾄ","ﾕｳﾀﾞｲ","YAMAMOTO","Yudai","男","05",2,null,130407,"2",207,"都荒川商","東京都立荒川商業高等学校",null,"東京都立淵江高等学校"]
[50426,5,4,"五十嵐","俊介","ｲｶﾞﾗｼ","ｼｭﾝｽｹ","IGARASHI","Syunsuke","05",3,{"$f":"VLOOKUP(B80*100+C80,氏名データ!$AC$2:$AJ$401,2,0)","v":"成蹊"},null,"男",null,50426,"五十嵐","俊介","ｲｶﾞﾗｼ","ｼｭﾝｽｹ","IGARASHI","Syunsuke","男","05",3,null,130408,"2",208,"都江北","東京都立江北高等学校",null,"足立学園高等学校"]
[50426,5,4,"三好","悠斗","ﾐﾖｼ","ﾕｳﾄ","MIYOSHI","Yuto","05",2,{"$f":"VLOOKUP(B81*100+C81,氏名データ!$AC$2:$AJ$401,2,0)","v":"成蹊"},null,"男",null,50426,"三好","悠斗","ﾐﾖｼ","ﾕｳﾄ","MIYOSHI","Yuto","男","05",2,null,130409,"2",209,"都淵江","東京都立淵江高等学校",null,"東京都立荒川工業高等学校"]
[50427,5,4,"小泉","諒祐","ｺｲｽﾞﾐ","ﾘｮｳｽｹ","KOIZUMI","Ryosuke","05",2,{"$f":"VLOOKUP(B82*100+C82,氏名データ!$AC$2:$AJ$401,2,0)","v":"成蹊"},null,"男",null,50427,"小泉","諒祐","ｺｲｽﾞﾐ","ﾘｮｳｽｹ","KOIZUMI","Ryosuke","男","05",2,null,130410,"2",210,"足立学園","足立学園高等学校",null,"東京都立竹台高等学校"]
[50428,5,4,"野村","俊輔","ﾉﾑﾗ","ｼｭﾝｽｹ","NOMURA","Shunsuke","05",2,{"$f":"VLOOKUP(B83*100+C83,氏名データ!$AC$2:$AJ$401,2,0)","v":"成蹊"},null,"男",null,50428,"野村","俊輔","ﾉﾑﾗ","ｼｭﾝｽｹ","NOMURA","Shunsuke","男","05",2,null,130412,"2",212,"都荒川工","東京都立荒川工業高等学校",null,"開成高等学校"]
[50429,5,4,"西川","颯","ﾆｼｶﾜ","ｿｳ","NISHIKAWA","Soh","05",2,{"$f":"VLOOKUP(B84*100+C84,氏名データ!$AC$2:$AJ$401,2,0)","v":"成蹊"},null,"男",null,50429,"西川","颯","ﾆｼｶﾜ","ｿｳ","NISHIKAWA","Soh","男","05",2,null,130413,"2",213,"都竹台","東京都立竹台高等学校",null,"東京都立江戸川高等学校"]
[50430,5,4,"前田","宗太","ﾏｴﾀﾞ","ｿｳﾀ","MAEDA","Souta","06",1,{"$f":"VLOOKUP(B85*100+C85,氏名データ!$AC$2:$AJ$401,2,0)","v":"成蹊"},null,"男",null,50430,"前田","宗太","ﾏｴﾀﾞ","ｿｳﾀ","MAEDA","Souta","男","06",1,null,130628,"2",214,"開成","開成高等学校",null,"東京都立葛西工業高等学校"]
[50431,5,4,"河合","泰吾","ｶﾜｲ","ﾀｲｺﾞ","KAWAI","Taigo","06",1,{"$f":"VLOOKUP(B86*100+C86,氏名データ!$AC$2:$AJ$401,2,0)","v":"成蹊"},null,"男",null,50431,"河合","泰吾","ｶﾜｲ","ﾀｲｺﾞ","KAWAI","Taigo","男","06",1,null,{"$f":"130000+AB86*100+AC86","v":130420},"2",220,"都江戸川","東京都立江戸川高等学校",null,"東京都立葛西南高等学校"]
[50432,5,4,"志村","天飛","ｼﾑﾗ","ﾀｶﾄ","SHIMURA","Takato","06",1,{"$f":"VLOOKUP(B87*100+C87,氏名データ!$AC$2:$AJ$401,2,0)","v":"成蹊"},null,"男",null,50432,"志村","天飛","ｼﾑﾗ","ﾀｶﾄ","SHIMURA","Takato","男","06",1,null,130421,"2",221,"都葛西工","東京都立葛西工業高等学校",null,"東京都立小岩高等学校"]
[50475,5,4,"細渕","恋音","ﾎｿﾌﾞﾁ","ﾚﾝｶ","HOSOBUCHI","Renka","05",2,{"$f":"VLOOKUP(B88*100+C88,氏名データ!$AC$2:$AJ$401,2,0)","v":"成蹊"},null,"女",null,50475,"細渕","恋音","ﾎｿﾌﾞﾁ","ﾚﾝｶ","HOSOBUCHI","Renka","女","05",2,null,130422,"2",222,"都葛西南","東京都立葛西南高等学校",null,"東京都立小松川高等学校"]
[50476,5,4,"萩原","知衣子","ﾊｷﾞﾜﾗ","ﾁｲｺ","HAGIWARA","Chiiko","05",2,{"$f":"VLOOKUP(B89*100+C89,氏名データ!$AC$2:$AJ$401,2,0)","v":"成蹊"},null,"女",null,50476,"萩原","知衣子","ﾊｷﾞﾜﾗ","ﾁｲｺ","HAGIWARA","Chiiko","女","05",2,null,130423,"2",223,"都小岩","東京都立小岩高等学校",null,"東京都立篠崎高等学校"]
[50477,5,4,"中雄","晴菜","ﾅｶｵ","ﾊﾙﾅ","NAKAO","Haruna","05",2,{"$f":"VLOOKUP(B90*100+C90,氏名データ!$AC$2:$AJ$401,2,0)","v":"成蹊"},null,"女",null,50477,"中雄","晴菜","ﾅｶｵ","ﾊﾙﾅ","NAKAO","Haruna","女","05",2,null,130424,"2",224,"都小松川","東京都立小松川高等学校",null,"東京都立紅葉川高等学校"]
[50478,5,4,"河村","里咲","ｶﾜﾑﾗ","ﾘｻ","KAWAMURA","Risa","05",2,{"$f":"VLOOKUP(B91*100+C91,氏名データ!$AC$2:$AJ$401,2,0)","v":"成蹊"},null,"女",null,50478,"河村","里咲","ｶﾜﾑﾗ","ﾘｻ","KAWAMURA","Risa","女","05",2,null,130425,"2",225,"都篠崎","東京都立篠崎高等学校",null,"愛国高等学校"]
[50479,5,4,"尾林","実佳","ｵﾊﾞﾔｼ","ﾐｶ","OBAYASHI","Mika","05",2,{"$f":"VLOOKUP(B92*100+C92,氏名データ!$AC$2:$AJ$401,2,0)","v":"成蹊"},null,"女",null,50479,"尾林","実佳","ｵﾊﾞﾔｼ","ﾐｶ","OBAYASHI","Mika","女","05",2,null,130426,"2",226,"都紅葉川","東京都立紅葉川高等学校",null,"江戸川女子高等学校"]
[50480,5,4,"田頭","美李","ﾃﾞﾝﾄﾞｳ","ﾐﾘ","DENDO","Miri","06",1,{"$f":"VLOOKUP(B93*100+C93,氏名データ!$AC$2:$AJ$401,2,0)","v":"成蹊"},null,"女",null,50480,"田頭","美李","ﾃﾞﾝﾄﾞｳ","ﾐﾘ","DENDO","Miri","女","06",1,null,130427,"2",227,"愛国","愛国高等学校",null,"関東一高等学校"]
[50481,5,4,"澤山","あおい","ｻﾜﾔﾏ","ｱｵｲ","SAWAYAMA","Aoi","06",1,{"$f":"VLOOKUP(B94*100+C94,氏名データ!$AC$2:$AJ$401,2,0)","v":"成蹊"},null,"女",null,50481,"澤山","あおい","ｻﾜﾔﾏ","ｱｵｲ","SAWAYAMA","Aoi","女","06",1,null,130428,"2",228,"江戸川女","江戸川女子高等学校",null,"東京都立葛飾商業高等学校"]
[50482,5,4,"今井","杏","ｲﾏｲ","ｱﾝ","IMAI","Anne","06",1,{"$f":"VLOOKUP(B95*100+C95,氏名データ!$AC$2:$AJ$401,2,0)","v":"成蹊"},null,"女",null,50482,"今井","杏","ｲﾏｲ","ｱﾝ","IMAI","Anne","女","06",1,null,130429,"2",229,"関東一","関東一高等学校",null,"東京都立葛飾野高等学校"]
[50483,5,4,"原","叶芽","ﾊﾗ","ｶﾅﾒ","HARA","Kaname","07",1,{"$f":"VLOOKUP(B96*100+C96,氏名データ!$AC$2:$AJ$401,2,0)","v":"成蹊"},null,"女",null,50483,"原","叶芽","ﾊﾗ","ｶﾅﾒ","HARA","Kaname","女","07",1,null,130430,"2",230,"都葛飾商","東京都立葛飾商業高等学校",null,"東京都立葛飾ろう学校"]
[50484,5,4,"谷","悠莉菜","ﾀﾆ","ﾕﾘﾅ","TANI","Yurina","07",1,{"$f":"VLOOKUP(B97*100+C97,氏名データ!$AC$2:$AJ$401,2,0)","v":"成蹊"},null,"女",null,50484,"谷","悠莉菜","ﾀﾆ","ﾕﾘﾅ","TANI","Yurina","女","07",1,null,130431,"2",231,"都葛飾野","東京都立葛飾野高等学校",null,"東京都立農産高等学校"]
[50485,5,4,"堺野","結衣","ｻｶｲﾉ","ﾕｲ","SAKAINO","Yui","06",1,{"$f":"VLOOKUP(B98*100+C98,氏名データ!$AC$2:$AJ$401,2,0)","v":"成蹊"},null,"女",null,50485,"堺野","結衣","ｻｶｲﾉ","ﾕｲ","SAKAINO","Yui","女","06",1,null,130432,"2",232,"都葛飾ろう","東京都立葛飾ろう学校",null,"東京都立葛飾総合高等学校"]
[50486,5,4,"高木","理菜","ﾀｶｷﾞ","ﾘﾅ","TAKAGI","Rina","07",1,{"$f":"VLOOKUP(B99*100+C99,氏名データ!$AC$2:$AJ$401,2,0)","v":"成蹊"},null,"女",null,50486,"高木","理菜","ﾀｶｷﾞ","ﾘﾅ","TAKAGI","Rina","女","07",1,null,130433,"2",233,"都農産","東京都立農産高等学校",null,"東京都立南葛飾高等学校"]
[50487,5,4,"鶴田","花梨","ﾂﾙﾀ","ｶﾘﾝ","TSURUTA","Karin","07",1,{"$f":"VLOOKUP(B100*100+C100,氏名データ!$AC$2:$AJ$401,2,0)","v":"成蹊"},null,"女",null,50487,"鶴田","花梨","ﾂﾙﾀ","ｶﾘﾝ","TSURUTA","Karin","女","07",1,null,130434,"2",234,"都葛飾総合","東京都立葛飾総合高等学校",null,"共栄学園高等学校"]
[50501,5,5,"齊木","捷人","ｻｲｷ","ﾊﾔﾄ","SAIKI","Hayato","04",3,{"$f":"VLOOKUP(B101*100+C101,氏名データ!$AC$2:$AJ$401,2,0)","v":"法政"},null,"男",null,50501,"齊木","捷人","ｻｲｷ","ﾊﾔﾄ","SAIKI","Hayato","男","04",3,null,130436,"2",236,"都南葛飾","東京都立南葛飾高等学校",null,"修徳高等学校"]
[50502,5,5,"黒部","希沙良","ｸﾛﾍﾞ","ｷｻﾗ","KUROBE","Kisara","04",3,{"$f":"VLOOKUP(B102*100+C102,氏名データ!$AC$2:$AJ$401,2,0)","v":"法政"},null,"男",null,50502,"黒部","希沙良","ｸﾛﾍﾞ","ｷｻﾗ","KUROBE","Kisara","男","04",3,null,130437,"2",237,"共栄","共栄学園高等学校",null,"芝浦工業大学附属高等学校"]
[50503,5,5,"福澤","智哉","ﾌｸｻﾞﾜ","ﾄﾓﾔ","HUKUZAWA","Tomoya","05",2,{"$f":"VLOOKUP(B103*100+C103,氏名データ!$AC$2:$AJ$401,2,0)","v":"法政"},null,"男",null,50503,"福澤","智哉","ﾌｸｻﾞﾜ","ﾄﾓﾔ","HUKUZAWA","Tomoya","男","05",2,null,130438,"2",238,"修徳","修徳高等学校",null,"東京都立科学技術高等学校"]
[50504,5,5,"内田","隼人","ｳﾁﾀﾞ","ﾊﾔﾄ","UCHIDA","Hayato","06",2,{"$f":"VLOOKUP(B104*100+C104,氏名データ!$AC$2:$AJ$401,2,0)","v":"法政"},null,"男",null,50504,"内田","隼人","ｳﾁﾀﾞ","ﾊﾔﾄ","UCHIDA","Hayato","男","06",2,null,130439,"2",239,"芝浦工大附","芝浦工業大学附属高等学校",null,"東京都立城東高等学校"]
[50505,5,5,"堀田","勇輝","ﾎｯﾀ","ﾕｳｷ","HOTTA","Yuki","06",1,{"$f":"VLOOKUP(B105*100+C105,氏名データ!$AC$2:$AJ$401,2,0)","v":"法政"},null,"男",null,50505,"堀田","勇輝","ﾎｯﾀ","ﾕｳｷ","HOTTA","Yuki","男","06",1,null,130440,"2",240,"都科学技術","東京都立科学技術高等学校",null,"東京都立墨田工業高等学校"]
[50572,5,5,"小林","真緒","ｺﾊﾞﾔｼ","ﾏｵ","KOBAYASHI","Mao","04",3,{"$f":"VLOOKUP(B106*100+C106,氏名データ!$AC$2:$AJ$401,2,0)","v":"法政"},null,"女",null,50572,"小林","真緒","ｺﾊﾞﾔｼ","ﾏｵ","KOBAYASHI","Mao","女","04",3,null,130442,"2",242,"都城東","東京都立城東高等学校",null,"東京都立第三商業高等学校"]
[50573,5,5,"山岡","麻里奈","ﾔﾏｵｶ","ﾏﾘﾅ","YAMAOKA","Marina","04",3,{"$f":"VLOOKUP(B107*100+C107,氏名データ!$AC$2:$AJ$401,2,0)","v":"法政"},null,"女",null,50573,"山岡","麻里奈","ﾔﾏｵｶ","ﾏﾘﾅ","YAMAOKA","Marina","女","04",3,null,130443,"2",243,"都墨田工","東京都立墨田工業高等学校",null,"東京都立東高等学校"]
[50574,5,5,"落合","美羽","ｵﾁｱｲ","ﾐｳ","OCHIAI","Miu","04",3,{"$f":"VLOOKUP(B108*100+C108,氏名データ!$AC$2:$AJ$401,2,0)","v":"法政"},null,"女",null,50574,"落合","美羽","ｵﾁｱｲ","ﾐｳ","OCHIAI","Miu","女","04",3,null,130444,"2",244,"都三商","東京都立第三商業高等学校",null,"東京都立深川高等学校"]
[50575,5,5,"秋田","奈名美","ｱｷﾀ","ﾅﾅﾐ","AKITA","Nanami","04",3,{"$f":"VLOOKUP(B109*100+C109,氏名データ!$AC$2:$AJ$401,2,0)","v":"法政"},null,"女",null,50575,"秋田","奈名美","ｱｷﾀ","ﾅﾅﾐ","AKITA","Nanami","女","04",3,null,130445,"2",245,"都東","東京都立東高等学校",null,"中央学院大学中央高等学校"]
[50576,5,5,"佐藤","吏桜","ｻﾄｳ","ﾘｵ","SATO","Rio","05",3,{"$f":"VLOOKUP(B110*100+C110,氏名データ!$AC$2:$AJ$401,2,0)","v":"法政"},null,"女",null,50576,"佐藤","吏桜","ｻﾄｳ","ﾘｵ","SATO","Rio","女","05",3,null,130446,"2",246,"都深川","東京都立深川高等学校",null,"かえつ有明高等学校"]
[50578,5,5,"大澤","めぐみ","ｵｵｻﾜ","ﾒｸﾞﾐ","OSAWA","Megumi","04",3,{"$f":"VLOOKUP(B111*100+C111,氏名データ!$AC$2:$AJ$401,2,0)","v":"法政"},null,"女",null,50578,"大澤","めぐみ","ｵｵｻﾜ","ﾒｸﾞﾐ","OSAWA","Megumi","女","04",3,null,130448,"2",248,"中央学大中央","中央学院大学中央高等学校",null,"東京都立墨田川高等学校"]
[50579,5,5,"安藤","柚香","ｱﾝﾄﾞｳ","ﾕｳｶ","ANDO","Yuuka","07",1,{"$f":"VLOOKUP(B112*100+C112,氏名データ!$AC$2:$AJ$401,2,0)","v":"法政"},null,"女",null,50579,"安藤","柚香","ｱﾝﾄﾞｳ","ﾕｳｶ","ANDO","Yuuka","女","07",1,null,130449,"2",249,"かえつ有明","かえつ有明高等学校",null,"東京都立本所高等学校"]
[50580,5,5,"岩田","優那","ｲﾜﾀ","ﾕｳﾅ","IWATA","Yuuna","07",1,{"$f":"VLOOKUP(B113*100+C113,氏名データ!$AC$2:$AJ$401,2,0)","v":"法政"},null,"女",null,50580,"岩田","優那","ｲﾜﾀ","ﾕｳﾅ","IWATA","Yuuna","女","07",1,null,130450,"2",250,"都墨田川","東京都立墨田川高等学校",null,"東京都立橘高等学校"]
[50581,5,5,"松田","理歩子","ﾏﾂﾀﾞ","ﾘﾎｺ","MATSUDA","Rihoko","06",1,{"$f":"VLOOKUP(B114*100+C114,氏名データ!$AC$2:$AJ$401,2,0)","v":"法政"},null,"女",null,50581,"松田","理歩子","ﾏﾂﾀﾞ","ﾘﾎｺ","MATSUDA","Rihoko","女","06",1,null,130451,"2",251,"都本所","東京都立本所高等学校",null,"東京都立両国高等学校"]
[50582,5,5,"萬歳","今日子","ﾊﾞﾝｻﾞｲ","ｷｮｳｺ","BANZAI","Kyouko","06",1,{"$f":"VLOOKUP(B115*100+C115,氏名データ!$AC$2:$AJ$401,2,0)","v":"法政"},null,"女",null,50582,"萬歳","今日子","ﾊﾞﾝｻﾞｲ","ｷｮｳｺ","BANZAI","Kyouko","女","06",1,null,130452,"2",252,"都橘","東京都立橘高等学校",null,"日本大学第一高等学校"]
[50583,5,5,"大沼","葵","ｵｵﾇﾏ","ｱｵｲ","OONUMA","Aoi","06",1,{"$f":"VLOOKUP(B116*100+C116,氏名データ!$AC$2:$AJ$401,2,0)","v":"法政"},null,"女",null,50583,"大沼","葵","ｵｵﾇﾏ","ｱｵｲ","OONUMA","Aoi","女","06",1,null,130454,"2",254,"都両国","東京都立両国高等学校",null,"安田学園高等学校"]
[50584,5,5,"座間","咲雪","ｻﾞﾏ","ｻﾕｷ","ZAMA","Sayuki","07",1,{"$f":"VLOOKUP(B117*100+C117,氏名データ!$AC$2:$AJ$401,2,0)","v":"法政"},null,"女",null,50584,"座間","咲雪","ｻﾞﾏ","ｻﾕｷ","ZAMA","Sayuki","女","07",1,null,130455,"2",255,"日大一","日本大学第一高等学校",null,"立志舎高等学校"]
[50651,5,6,"原","琉歌","ﾊﾗ","ﾘｭｳｶ","HARA","Ryuka","05",2,{"$f":"VLOOKUP(B118*100+C118,氏名データ!$AC$2:$AJ$401,2,0)","v":"藤村女"},null,"女",null,50651,"原","琉歌","ﾊﾗ","ﾘｭｳｶ","HARA","Ryuka","女","05",2,null,130456,"2",256,"安田","安田学園高等学校",null,"東京都立日本橋高等学校"]
[50652,5,6,"小田","菜々海","ｵﾀﾞ","ﾅﾅﾐ","ODA","Nanami","06",2,{"$f":"VLOOKUP(B119*100+C119,氏名データ!$AC$2:$AJ$401,2,0)","v":"藤村女"},null,"女",null,50652,"小田","菜々海","ｵﾀﾞ","ﾅﾅﾐ","ODA","Nanami","女","06",2,null,130457,"2",257,"立志舎","立志舎高等学校",null,"東京都立上野高等学校"]
[50653,5,6,"石田","千尋","ｲｼﾀﾞ","ﾁﾋﾛ","ISHIDA","Chihiro","05",2,{"$f":"VLOOKUP(B120*100+C120,氏名データ!$AC$2:$AJ$401,2,0)","v":"藤村女"},null,"女",null,50653,"石田","千尋","ｲｼﾀﾞ","ﾁﾋﾛ","ISHIDA","Chihiro","女","05",2,null,130459,"2",259,"都日本橋","東京都立日本橋高等学校",null,"東京都立蔵前工業高等学校"]
[50654,5,6,"照井","美里","ﾃﾙｲ","ﾐｻﾄ","TERUI","Misato","05",2,{"$f":"VLOOKUP(B121*100+C121,氏名データ!$AC$2:$AJ$401,2,0)","v":"藤村女"},null,"女",null,50654,"照井","美里","ﾃﾙｲ","ﾐｻﾄ","TERUI","Misato","女","05",2,null,130460,"2",260,"都上野","東京都立上野高等学校",null,"東京都立忍岡高等学校"]
[50655,5,6,"三浦","ななみ","ﾐｳﾗ","ﾅﾅﾐ","MIURA","Nanami","05",2,{"$f":"VLOOKUP(B122*100+C122,氏名データ!$AC$2:$AJ$401,2,0)","v":"藤村女"},null,"女",null,50655,"三浦","ななみ","ﾐｳﾗ","ﾅﾅﾐ","MIURA","Nanami","女","05",2,null,130461,"2",261,"都蔵前工","東京都立蔵前工業高等学校",null,"東京都立白高等学校"]
[50656,5,6,"猿谷","歩香","ｻﾙﾔ","ｱﾙｶ","SARUYA","Aruka","05",2,{"$f":"VLOOKUP(B123*100+C123,氏名データ!$AC$2:$AJ$401,2,0)","v":"藤村女"},null,"女",null,50656,"猿谷","歩香","ｻﾙﾔ","ｱﾙｶ","SARUYA","Aruka","女","05",2,null,130462,"2",262,"都忍岡","東京都立忍岡高等学校",null,"岩倉高等学校"]
[50657,5,6,"野澤","光希ニコル","ﾉｻﾞﾜ","ﾐﾂｷﾆｺﾙ","NOZAWA","Mitsukinicole","06",2,{"$f":"VLOOKUP(B124*100+C124,氏名データ!$AC$2:$AJ$401,2,0)","v":"藤村女"},null,"女",null,50657,"野澤","光希ニコル","ﾉｻﾞﾜ","ﾐﾂｷﾆｺﾙ","NOZAWA","Mitsukinicole","女","06",2,null,130463,"2",263,"都白","東京都立白高等学校",null,"上野学園高等学校"]
[50671,5,6,"小俣","音琶","ｵﾏﾀ","ｵﾄﾊ","OMATA","Otoha","07",1,{"$f":"VLOOKUP(B125*100+C125,氏名データ!$AC$2:$AJ$401,2,0)","v":"藤村女"},null,"女",null,50671,"小俣","音琶","ｵﾏﾀ","ｵﾄﾊ","OMATA","Otoha","女","07",1,null,130464,"2",264,"岩倉","岩倉高等学校",null,"筑波大学附属高等学校"]
[50672,5,6,"清原","美帆","ｷﾖﾊﾗ","ﾐﾎ","KIYOHARA","Miho","06",1,{"$f":"VLOOKUP(B126*100+C126,氏名データ!$AC$2:$AJ$401,2,0)","v":"藤村女"},null,"女",null,50672,"清原","美帆","ｷﾖﾊﾗ","ﾐﾎ","KIYOHARA","Miho","女","06",1,null,130465,"2",265,"上野学園","上野学園高等学校",null,"東京都立小石川中等教育学校"]
[50673,5,6,"福田","悠来","ﾌｸﾀﾞ","ﾕﾗ","FUKUDA","Yura","06",1,{"$f":"VLOOKUP(B127*100+C127,氏名データ!$AC$2:$AJ$401,2,0)","v":"藤村女"},null,"女",null,50673,"福田","悠来","ﾌｸﾀﾞ","ﾕﾗ","FUKUDA","Yura","女","06",1,null,130466,"2",266,"岩倉","岩倉高等学校",null,"東京都立工芸高等学校"]
[50682,5,6,"小俣","彩音","ｵﾏﾀ","ｱﾔﾈ","OMATA","Ayane","04",3,{"$f":"VLOOKUP(B128*100+C128,氏名データ!$AC$2:$AJ$401,2,0)","v":"藤村女"},null,"女",null,50682,"小俣","彩音","ｵﾏﾀ","ｱﾔﾈ","OMATA","Ayane","女","04",3,null,130470,"2",270,"筑波大附","筑波大学附属高等学校",null,"東京都立竹早高等学校"]
[50683,5,6,"吉岡","彩夏","ﾖｼｵｶ","ｱﾔｶ","YOSHIOKA","Ayaka","04",3,{"$f":"VLOOKUP(B129*100+C129,氏名データ!$AC$2:$AJ$401,2,0)","v":"藤村女"},null,"女",null,50683,"吉岡","彩夏","ﾖｼｵｶ","ｱﾔｶ","YOSHIOKA","Ayaka","女","04",3,null,130471,"2",271,"都小石川中等","東京都立小石川中等教育学校",null,"東京都立向丘高等学校"]
[50684,5,6,"板垣","みずき","ｲﾀｶﾞｷ","ﾐｽﾞｷ","ITAGAKI","Mizuki","04",3,{"$f":"VLOOKUP(B130*100+C130,氏名データ!$AC$2:$AJ$401,2,0)","v":"藤村女"},null,"女",null,50684,"板垣","みずき","ｲﾀｶﾞｷ","ﾐｽﾞｷ","ITAGAKI","Mizuki","女","04",3,null,130472,"2",272,"都工芸","東京都立工芸高等学校",null,"郁文館高等学校"]
[{"$f":"P131","v":50687},{"$f":"ROUNDDOWN(A131/10000,0)","v":5},{"$f":"ROUNDDOWN((A131-B131*10000)/100,0)","v":6},{"$f":"Q131","v":"出雲"},{"$f":"R131","v":"香菜子"},{"$f":"S131","v":"ｲｽﾞﾓ"},{"$f":"T131","v":"ｶﾅｺ"},{"$f":"U131","v":"IZUMO"},{"$f":"V131","v":"Kanako"},{"$f":"X131","v":"04"},{"$f":"Y131","v":3},{"$f":"VLOOKUP(B131*100+C131,氏名データ!$AC$2:$AJ$401,2,0)","v":"藤村女"},null,{"$f":"W131","v":"女"},null,50687,"出雲","香菜子","ｲｽﾞﾓ","ｶﾅｺ","IZUMO","Kanako","女","04",3,null,130473,{"$f":"LEFT(AC131,1)","v":"2"},273,"都竹早","東京都立竹早高等学校",null,"京華高等学校"]
[50688,5,6,"道田","衣舞","ﾐﾁﾀﾞ","ｴﾏ","MICHIDA","Ema","04",3,{"$f":"VLOOKUP(B132*100+C132,氏名データ!$AC$2:$AJ$401,2,0)","v":"藤村女"},null,"女",null,50688,"道田","衣舞","ﾐﾁﾀﾞ","ｴﾏ","MICHIDA","Ema","女","04",3,null,130474,"2",274,"都向丘","東京都立向丘高等学校",null,"東洋大学京北高等学校"]
[50786,5,7,"岩淵","愛花","ｲﾜﾌﾞﾁ","ﾏﾅｶ","IWABUCHI","Manaka","05",2,{"$f":"VLOOKUP(B133*100+C133,氏名データ!$AC$2:$AJ$401,2,0)","v":"吉祥女"},null,"女",null,50786,"岩淵","愛花","ｲﾜﾌﾞﾁ","ﾏﾅｶ","IWABUCHI","Manaka","女","05",2,null,130475,"2",275,"郁文館","郁文館高等学校",null,"駒込高等学校"]
[50787,5,7,"中竹","七々実","ﾅｶﾀｹ","ﾅﾅﾐ","NAKATAKE","Nanami","05",2,{"$f":"VLOOKUP(B134*100+C134,氏名データ!$AC$2:$AJ$401,2,0)","v":"吉祥女"},null,"女",null,50787,"中竹","七々実","ﾅｶﾀｹ","ﾅﾅﾐ","NAKATAKE","Nanami","女","05",2,null,130476,"2",276,"京華","京華高等学校",null,"昭和第一高等学校"]
[50788,5,7,"久保","友乃","ｸﾎﾞ","ﾄﾓﾉ","KUBO","Tomono","05",2,{"$f":"VLOOKUP(B135*100+C135,氏名データ!$AC$2:$AJ$401,2,0)","v":"吉祥女"},null,"女",null,50788,"久保","友乃","ｸﾎﾞ","ﾄﾓﾉ","KUBO","Tomono","女","05",2,null,130477,"2",277,"東洋大京北","東洋大学京北高等学校",null,"獨協高等学校"]
[50793,5,7,"内野","紗矢香","ｳﾁﾉ","ｻﾔｶ","UCHINO","Sayaka","06",1,{"$f":"VLOOKUP(B136*100+C136,氏名データ!$AC$2:$AJ$401,2,0)","v":"吉祥女"},null,"女",null,50793,"内野","紗矢香","ｳﾁﾉ","ｻﾔｶ","UCHINO","Sayaka","女","06",1,null,130478,"2",278,"郁文館G","郁文館グローバル高等学校",null,"日本大学豊山高等学校"]
[50794,5,7,"渡辺","菜々子","ﾜﾀﾅﾍﾞ","ﾅﾅｺ","WATANABE","Nanako","07",1,{"$f":"VLOOKUP(B137*100+C137,氏名データ!$AC$2:$AJ$401,2,0)","v":"吉祥女"},null,"女",null,50794,"渡辺","菜々子","ﾜﾀﾅﾍﾞ","ﾅﾅｺ","WATANABE","Nanako","女","07",1,null,130479,"2",279,"駒込","駒込高等学校",null,"文京学院大学女子高等学校"]
[50839,5,8,"大野","稜平","ｵｵﾉ","ﾘｮｳﾍｲ","ONO","Ryohei","05",3,{"$f":"VLOOKUP(B138*100+C138,氏名データ!$AC$2:$AJ$401,2,0)","v":"武蔵野東高専"},null,"男",null,50839,"大野","稜平","ｵｵﾉ","ﾘｮｳﾍｲ","ONO","Ryohei","男","05",3,null,130480,"2",280,"昭和一","昭和第一高等学校",null,"京華商業高等学校"]
[50840,5,8,"小川","陸玖","ｵｶﾞﾜ","ﾘｸ","OGAWA","Riku","04",3,{"$f":"VLOOKUP(B139*100+C139,氏名データ!$AC$2:$AJ$401,2,0)","v":"武蔵野東高専"},null,"男",null,50840,"小川","陸玖","ｵｶﾞﾜ","ﾘｸ","OGAWA","Riku","男","04",3,null,130482,"2",282,"獨協","獨協高等学校",null,"京華女子高等学校"]
[50841,5,8,"藤原","成陽","ﾌｼﾞﾊﾗ","ﾅﾙﾋ","FUJIHARA","Naruhi","04",3,{"$f":"VLOOKUP(B140*100+C140,氏名データ!$AC$2:$AJ$401,2,0)","v":"武蔵野東高専"},null,"男",null,50841,"藤原","成陽","ﾌｼﾞﾊﾗ","ﾅﾙﾋ","FUJIHARA","Naruhi","男","04",3,null,130483,"2",283,"日大豊山","日本大学豊山高等学校",null,"東京都立大島高等学校"]
[50842,5,8,"遠藤","淳之佑","ｴﾝﾄﾞｳ","ｼﾞｭﾝﾉｽｹ","ENDO","Junnosuke","06",2,{"$f":"VLOOKUP(B141*100+C141,氏名データ!$AC$2:$AJ$401,2,0)","v":"武蔵野東高専"},null,"男",null,50842,"遠藤","淳之佑","ｴﾝﾄﾞｳ","ｼﾞｭﾝﾉｽｹ","ENDO","Junnosuke","男","06",2,null,130484,"2",284,"文京学院","文京学院大学女子高等学校",null,"東京都立八丈高等学校"]
[50845,5,8,"内藤","樹","ﾅｲﾄｳ","ｲﾂｷ","NAITO","Itsuki","04",3,{"$f":"VLOOKUP(B142*100+C142,氏名データ!$AC$2:$AJ$401,2,0)","v":"武蔵野東高専"},null,"男",null,50845,"内藤","樹","ﾅｲﾄｳ","ｲﾂｷ","NAITO","Itsuki","男","04",3,null,130485,"2",285,"京華商","京華商業高等学校",null,"都立産業技術高等専門学校荒川"]
[50846,5,8,"松田","侑大","ﾏﾂﾀﾞ","ﾕｳﾀﾞｲ","MATSUDA","Yudai","06",1,{"$f":"VLOOKUP(B143*100+C143,氏名データ!$AC$2:$AJ$401,2,0)","v":"武蔵野東高専"},null,"男",null,50846,"松田","侑大","ﾏﾂﾀﾞ","ﾕｳﾀﾞｲ","MATSUDA","Yudai","男","06",1,null,130488,"2",288,"京華女","京華女子高等学校",null,"東京都立大島海洋国際高等学校"]
[50851,5,8,"野間","遥","ﾉﾏ","ﾊﾙｶ","NOMA","Haruka","05",3,{"$f":"VLOOKUP(B144*100+C144,氏名データ!$AC$2:$AJ$401,2,0)","v":"武蔵野東高専"},null,"女",null,50851,"野間","遥","ﾉﾏ","ﾊﾙｶ","NOMA","Haruka","女","05",3,null,130490,"2",290,"都大島","東京都立大島高等学校",null,"跡見学園高等学校"]
[50852,5,8,"一番ケ瀨","桜","ｲﾁﾊﾞﾝｶﾞｾ","ｻｸﾗ","ICHIBANGASE","Sakura","05",3,{"$f":"VLOOKUP(B145*100+C145,氏名データ!$AC$2:$AJ$401,2,0)","v":"武蔵野東高専"},null,"女",null,50852,"一番ケ瀨","桜","ｲﾁﾊﾞﾝｶﾞｾ","ｻｸﾗ","ICHIBANGASE","Sakura","女","05",3,null,130491,"2",291,"都八丈","東京都立八丈高等学校",null,"お茶の水女子大学附属高等学校"]
[50901,5,9,"鎌倉","悠羽","ｶﾏｸﾗ","ﾕｳﾜ","KAMAKURA","Yuuwa","04",3,{"$f":"VLOOKUP(B146*100+C146,氏名データ!$AC$2:$AJ$401,2,0)","v":"都三鷹中等"},null,"男",null,50901,"鎌倉","悠羽","ｶﾏｸﾗ","ﾕｳﾜ","KAMAKURA","Yuuwa","男","04",3,null,130492,"2",292,"産技高専荒川","東京都立産業技術高等専門学校荒川",null,"東京学芸大附属国際中等教育学校"]
[50902,5,9,"武山","陽飛","ﾀｹﾔﾏ","ﾊﾙﾄ","TAKEYAMA","Haruto","06",1,{"$f":"VLOOKUP(B147*100+C147,氏名データ!$AC$2:$AJ$401,2,0)","v":"都三鷹中等"},null,"男",null,50902,"武山","陽飛","ﾀｹﾔﾏ","ﾊﾙﾄ","TAKEYAMA","Haruto","男","06",1,null,130493,"2",293,"都海洋国際","東京都立大島海洋国際高等学校",null,"東京都立板橋高等学校"]
[50903,5,9,"山川","創祐","ﾔﾏｶﾜ","ｿｳｽｹ","YAMAKAWA","Sousuke","07",1,{"$f":"VLOOKUP(B148*100+C148,氏名データ!$AC$2:$AJ$401,2,0)","v":"都三鷹中等"},null,"男",null,50903,"山川","創祐","ﾔﾏｶﾜ","ｿｳｽｹ","YAMAKAWA","Sousuke","男","07",1,null,130498,"2",298,"跡見学園","跡見学園高等学校",null,"東京都立大山高等学校"]
[50904,5,9,"佐々木","哲矢","ｻｻｷ","ﾃﾂﾔ","SASAKI","Tetsuya","06",1,{"$f":"VLOOKUP(B149*100+C149,氏名データ!$AC$2:$AJ$401,2,0)","v":"都三鷹中等"},null,"男",null,50904,"佐々木","哲矢","ｻｻｷ","ﾃﾂﾔ","SASAKI","Tetsuya","男","06",1,null,130499,"2",299,"お茶大附","お茶の水女子大学附属高等学校",null,"東京都立北園高等学校"]
[50907,5,9,"富崎","勇貴","ﾄﾐｻﾞｷ","ﾕｳｷ","TOMIZAKI","Yuuki","06",2,{"$f":"VLOOKUP(B150*100+C150,氏名データ!$AC$2:$AJ$401,2,0)","v":"都三鷹中等"},null,"男",null,50907,"富崎","勇貴","ﾄﾐｻﾞｷ","ﾕｳｷ","TOMIZAKI","Yuuki","男","06",2,null,{"$f":"130000+AB150*100+AC150","v":130601},"3",301,"学大国際","東京学芸大附属国際中等教育学校",null,"東京都立北豊島工業高等学校"]
[50910,5,9,"吉村","優希","ﾖｼﾑﾗ","ﾕｳｷ","YOSHIMURA","Yuuki","06",1,{"$f":"VLOOKUP(B151*100+C151,氏名データ!$AC$2:$AJ$401,2,0)","v":"都三鷹中等"},null,"男",null,50910,"吉村","優希","ﾖｼﾑﾗ","ﾕｳｷ","YOSHIMURA","Yuuki","男","06",1,null,130602,"3",302,"都板橋","東京都立板橋高等学校",null,"東京都立板橋有徳高等学校"]
[50952,5,9,"大槻","茉央","ｵｵﾂｷ","ﾏｵ","OTSUKI","Mao","06",1,{"$f":"VLOOKUP(B152*100+C152,氏名データ!$AC$2:$AJ$401,2,0)","v":"都三鷹中等"},null,"女",null,50952,"大槻","茉央","ｵｵﾂｷ","ﾏｵ","OTSUKI","Mao","女","06",1,null,130603,"3",303,"都大山","東京都立大山高等学校",null,"東京都立高島高等学校"]
[50953,5,9,"山崎","結生","ﾔﾏｻﾞｷ","ﾕｳｷ","YAMAZAKI","Yuuki","04",3,{"$f":"VLOOKUP(B153*100+C153,氏名データ!$AC$2:$AJ$401,2,0)","v":"都三鷹中等"},null,"女",null,50953,"山崎","結生","ﾔﾏｻﾞｷ","ﾕｳｷ","YAMAZAKI","Yuuki","女","04",3,null,130604,"3",304,"都北園","東京都立北園高等学校",null,"淑徳高等学校"]
[50955,5,9,"古垣","美桜","ﾌﾙｶﾞｷ","ﾐｵ","FURUGAKI","Mio","04",3,{"$f":"VLOOKUP(B154*100+C154,氏名データ!$AC$2:$AJ$401,2,0)","v":"都三鷹中等"},null,"女",null,50955,"古垣","美桜","ﾌﾙｶﾞｷ","ﾐｵ","FURUGAKI","Mio","女","04",3,null,130605,"3",305,"都北豊島工","東京都立北豊島工業高等学校",null,"城北高等学校"]
[50956,5,9,"嘉村","マリー","ｶﾑﾗ","ﾏﾘｰ","KAMURA","Mari","05",2,{"$f":"VLOOKUP(B155*100+C155,氏名データ!$AC$2:$AJ$401,2,0)","v":"都三鷹中等"},null,"女",null,50956,"嘉村","マリー","ｶﾑﾗ","ﾏﾘｰ","KAMURA","Mari","女","05",2,null,130606,"3",306,"都板橋有徳","東京都立板橋有徳高等学校",null,"大東文化大学第一高等学校"]
[50957,5,9,"芹田","咲楽","ｾﾘﾀ","ｻﾗ","SERITA","Sara","06",2,{"$f":"VLOOKUP(B156*100+C156,氏名データ!$AC$2:$AJ$401,2,0)","v":"都三鷹中等"},null,"女",null,50957,"芹田","咲楽","ｾﾘﾀ","ｻﾗ","SERITA","Sara","女","06",2,null,130608,"3",308,"都高島","東京都立高島高等学校",null,"帝京高等学校"]
[50959,5,9,"石田","笑紅","ｲｼﾀﾞ","ｴｸ","ISHIDA","Eku","06",1,{"$f":"VLOOKUP(B157*100+C157,氏名データ!$AC$2:$AJ$401,2,0)","v":"都三鷹中等"},null,"女",null,50959,"石田","笑紅","ｲｼﾀﾞ","ｴｸ","ISHIDA","Eku","女","06",1,null,130610,"3",310,"淑徳","淑徳高等学校",null,"東京家政大学附属女子高等学校"]
[51001,5,10,"桑島","渉","ｸﾜｼﾞﾏ","ﾜﾀﾙ","KUWAZIMA","Wataru","07",1,{"$f":"VLOOKUP(B158*100+C158,氏名データ!$AC$2:$AJ$401,2,0)","v":"大成"},null,"男",null,51001,"桑島","渉","ｸﾜｼﾞﾏ","ﾜﾀﾙ","KUWAZIMA","Wataru","男","07",1,null,130611,"3",311,"城北","城北高等学校",null,"日本大学豊山女子高等学校"]
[51002,5,10,"金","秀太","ｺﾝ","ｼｭｳﾀ","KON","Shuta","06",1,{"$f":"VLOOKUP(B159*100+C159,氏名データ!$AC$2:$AJ$401,2,0)","v":"大成"},null,"男",null,51002,"金","秀太","ｺﾝ","ｼｭｳﾀ","KON","Shuta","男","06",1,null,130612,"3",312,"大東一","大東文化大学第一高等学校",null,"東京都立赤羽商業高等学校"]
[51003,5,10,"竹田","匠","ﾀｹﾀﾞ","ﾀｸﾐ","TAKEDA","Takumi","06",1,{"$f":"VLOOKUP(B160*100+C160,氏名データ!$AC$2:$AJ$401,2,0)","v":"大成"},null,"男",null,51003,"竹田","匠","ﾀｹﾀﾞ","ﾀｸﾐ","TAKEDA","Takumi","男","06",1,null,130613,"3",313,"帝京","帝京高等学校",null,"東京都立飛鳥高等学校"]
[51004,5,10,"坪内","須佐","ﾂﾎﾞｳﾁ","ｽｻ","TSUBOUCHI","Susa","06",1,{"$f":"VLOOKUP(B161*100+C161,氏名データ!$AC$2:$AJ$401,2,0)","v":"大成"},null,"男",null,51004,"坪内","須佐","ﾂﾎﾞｳﾁ","ｽｻ","TSUBOUCHI","Susa","男","06",1,null,130614,"3",314,"東京家政大附","東京家政大学附属女子高等学校",null,"東京都立王子総合高等学校"]
[51005,5,10,"土井","祐磨","ﾄﾞｲ","ﾕｳﾏ","DOI","Yuma","06",1,{"$f":"VLOOKUP(B162*100+C162,氏名データ!$AC$2:$AJ$401,2,0)","v":"大成"},null,"男",null,51005,"土井","祐磨","ﾄﾞｲ","ﾕｳﾏ","DOI","Yuma","男","06",1,null,130615,"3",315,"日大豊山女","日本大学豊山女子高等学校",null,"順天高等学校"]
[51006,5,10,"富本","健心","ﾄﾐﾓﾄ","ｹﾝｼﾝ","TOMIMOTO","Kenshin","06",1,{"$f":"VLOOKUP(B163*100+C163,氏名データ!$AC$2:$AJ$401,2,0)","v":"大成"},null,"男",null,51006,"富本","健心","ﾄﾐﾓﾄ","ｹﾝｼﾝ","TOMIMOTO","Kenshin","男","06",1,null,130616,"3",316,"都赤羽商","東京都立赤羽商業高等学校",null,"女子聖学院高等学校"]
[51007,5,10,"中野","矩","ﾅｶﾉ","ｸﾞﾝ","NAKANO","Gun","07",1,{"$f":"VLOOKUP(B164*100+C164,氏名データ!$AC$2:$AJ$401,2,0)","v":"大成"},null,"男",null,51007,"中野","矩","ﾅｶﾉ","ｸﾞﾝ","NAKANO","Gun","男","07",1,null,130617,"3",317,"都飛鳥","東京都立飛鳥高等学校",null,"聖学院高等学校"]
[51008,5,10,"丹羽","光","ﾆﾜ","ﾋｶﾘ","NIWA","Hikari","06",1,{"$f":"VLOOKUP(B165*100+C165,氏名データ!$AC$2:$AJ$401,2,0)","v":"大成"},null,"男",null,51008,"丹羽","光","ﾆﾜ","ﾋｶﾘ","NIWA","Hikari","男","06",1,null,130619,"3",319,"都王子総合","東京都立王子総合高等学校",null,"星美学園高等学校"]
[51009,5,10,"福井","迅","ﾌｸｲ","ｼﾞﾝ","FUKUI","Jin","06",1,{"$f":"VLOOKUP(B166*100+C166,氏名データ!$AC$2:$AJ$401,2,0)","v":"大成"},null,"男",null,51009,"福井","迅","ﾌｸｲ","ｼﾞﾝ","FUKUI","Jin","男","06",1,null,130623,"3",323,"順天","順天高等学校",null,"成立学園高等学校"]
[51010,5,10,"藤沼","樹","ﾌｼﾞﾇﾏ","ｲﾂｷ","FUJINUMA","Itsuki","07",1,{"$f":"VLOOKUP(B167*100+C167,氏名データ!$AC$2:$AJ$401,2,0)","v":"大成"},null,"男",null,51010,"藤沼","樹","ﾌｼﾞﾇﾏ","ｲﾂｷ","FUJINUMA","Itsuki","男","07",1,null,130624,"3",324,"女子聖学院","女子聖学院高等学校",null,"瀧野川女子学園高等学校"]
[51011,5,10,"皆川","宗晴","ﾐﾅｶﾜ","ﾑﾈﾊﾙ","MINAKAWA","Muneharu","06",1,{"$f":"VLOOKUP(B168*100+C168,氏名データ!$AC$2:$AJ$401,2,0)","v":"大成"},null,"男",null,51011,"皆川","宗晴","ﾐﾅｶﾜ","ﾑﾈﾊﾙ","MINAKAWA","Muneharu","男","06",1,null,130626,"3",326,"聖学院","聖学院高等学校",null,"東京成徳大学高等学校"]
[51034,5,10,"後藤","駿","ｺﾞﾄｳ","ｼｭﾝ","GOTO","Shun","04",3,{"$f":"VLOOKUP(B169*100+C169,氏名データ!$AC$2:$AJ$401,2,0)","v":"大成"},null,"男",null,51034,"後藤","駿","ｺﾞﾄｳ","ｼｭﾝ","GOTO","Shun","男","04",3,null,130627,"3",327,"サレジアン","サレジアン国際学園高等学校",null,"武蔵野高等学校"]
[51035,5,10,"土居","知樹","ﾄﾞｲ","ﾄﾓｷ","DOI","Tomoki","05",3,{"$f":"VLOOKUP(B170*100+C170,氏名データ!$AC$2:$AJ$401,2,0)","v":"大成"},null,"男",null,51035,"土居","知樹","ﾄﾞｲ","ﾄﾓｷ","DOI","Tomoki","男","05",3,null,130628,"3",328,"成立学園","成立学園高等学校",null,"東京成徳大学高等学校"]
[51036,5,10,"大島","綜一郎","ｵｵｼﾏ","ｿｳｲﾁﾛｳ","OSHIMA","Soichiro","04",3,{"$f":"VLOOKUP(B171*100+C171,氏名データ!$AC$2:$AJ$401,2,0)","v":"大成"},null,"男",null,51036,"大島","綜一郎","ｵｵｼﾏ","ｿｳｲﾁﾛｳ","OSHIMA","Soichiro","男","04",3,null,130629,"3",329,"瀧野川女","瀧野川女子学園高等学校",null,"東京都立戸山高等学校"]
[51037,5,10,"益永","マイク","ﾏｽﾅｶﾞ","ﾏｲｸ","MASUNAGA","Mike","04",3,{"$f":"VLOOKUP(B172*100+C172,氏名データ!$AC$2:$AJ$401,2,0)","v":"大成"},null,"男",null,51037,"益永","マイク","ﾏｽﾅｶﾞ","ﾏｲｸ","MASUNAGA","Mike","男","04",3,null,130630,"3",330,"東京成徳","東京成徳大学高等学校",null,"海城高等学校"]
[51038,5,10,"児玉","賢一郎","ｺﾀﾞﾏ","ｹﾝｲﾁﾛｳ","KODAMA","Kenichiro","04",3,{"$f":"VLOOKUP(B173*100+C173,氏名データ!$AC$2:$AJ$401,2,0)","v":"大成"},null,"男",null,51038,"児玉","賢一郎","ｺﾀﾞﾏ","ｹﾝｲﾁﾛｳ","KODAMA","Kenichiro","男","04",3,null,130631,"3",331,"武蔵野","武蔵野高等学校",null,"学習院女子高等科"]
[51039,5,10,"鈴木","弦","ｽｽﾞｷ","ｹﾞﾝ","SUZUKI","Gen","04",3,{"$f":"VLOOKUP(B174*100+C174,氏名データ!$AC$2:$AJ$401,2,0)","v":"大成"},null,"男",null,51039,"鈴木","弦","ｽｽﾞｷ","ｹﾞﾝ","SUZUKI","Gen","男","04",3,null,130632,"3",332,"東京成徳","東京成徳大学高等学校",null,"成城高等学校"]
[51040,5,10,"新井","康太","ｱﾗｲ","ｺｳﾀ","ARAI","Kota","05",2,{"$f":"VLOOKUP(B175*100+C175,氏名データ!$AC$2:$AJ$401,2,0)","v":"大成"},null,"男",null,51040,"新井","康太","ｱﾗｲ","ｺｳﾀ","ARAI","Kota","男","05",2,null,130634,"3",334,"都戸山","東京都立戸山高等学校",null,"保善高等学校"]
[51041,5,10,"池田","健","ｲｹﾀﾞ","ｹﾝ","IKEDA","Ken","05",2,{"$f":"VLOOKUP(B176*100+C176,氏名データ!$AC$2:$AJ$401,2,0)","v":"大成"},null,"男",null,51041,"池田","健","ｲｹﾀﾞ","ｹﾝ","IKEDA","Ken","男","05",2,null,130636,"3",336,"海城","海城高等学校",null,"目白研心高等学校"]
[51042,5,10,"伊藤","達哉","ｲﾄｳ","ﾀﾂﾔ","ITO","Tatsuya","05",2,{"$f":"VLOOKUP(B177*100+C177,氏名データ!$AC$2:$AJ$401,2,0)","v":"大成"},null,"男",null,51042,"伊藤","達哉","ｲﾄｳ","ﾀﾂﾔ","ITO","Tatsuya","男","05",2,null,130637,"3",337,"学習院女","学習院女子高等科",null,"早稲田高等学校"]
[51043,5,10,"田中","聖韻","ﾀﾅｶ","ｾｲﾝ","TANAKA","Sein","06",2,{"$f":"VLOOKUP(B178*100+C178,氏名データ!$AC$2:$AJ$401,2,0)","v":"大成"},null,"男",null,51043,"田中","聖韻","ﾀﾅｶ","ｾｲﾝ","TANAKA","Sein","男","06",2,null,130639,"3",339,"成城","成城高等学校",null,"東京都立新宿高等学校"]
[51044,5,10,"田中","隆太郎","ﾀﾅｶ","ﾘｭｳﾀﾛｳ","TANAKA","Ryutaro","05",2,{"$f":"VLOOKUP(B179*100+C179,氏名データ!$AC$2:$AJ$401,2,0)","v":"大成"},null,"男",null,51044,"田中","隆太郎","ﾀﾅｶ","ﾘｭｳﾀﾛｳ","TANAKA","Ryutaro","男","05",2,null,130640,"3",340,"保善","保善高等学校",null,"東京都立千早高等学校"]
[51045,5,10,"中澤","征己","ﾅｶｻﾞﾜ","ｲｸﾐ","NAKAZAWA","Ikumi","05",2,{"$f":"VLOOKUP(B180*100+C180,氏名データ!$AC$2:$AJ$401,2,0)","v":"大成"},null,"男",null,51045,"中澤","征己","ﾅｶｻﾞﾜ","ｲｸﾐ","NAKAZAWA","Ikumi","男","05",2,null,130641,"3",341,"目白研心","目白研心高等学校",null,"東京都立豊島高等学校"]
[51047,5,10,"岩下","亮太郎","ｲﾜｼﾀ","ﾘｮｳﾀﾛｳ","IWASHITA","Ryotaro","06",1,{"$f":"VLOOKUP(B181*100+C181,氏名データ!$AC$2:$AJ$401,2,0)","v":"大成"},null,"男",null,51047,"岩下","亮太郎","ｲﾜｼﾀ","ﾘｮｳﾀﾛｳ","IWASHITA","Ryotaro","男","06",1,null,130642,"3",342,"早稲田","早稲田高等学校",null,"東京都立文京高等学校"]
[51048,5,10,"大塚","柊士","ｵｵﾂｶ","ﾄｳｼﾞ","OTSUKA","Toji","06",1,{"$f":"VLOOKUP(B182*100+C182,氏名データ!$AC$2:$AJ$401,2,0)","v":"大成"},null,"男",null,51048,"大塚","柊士","ｵｵﾂｶ","ﾄｳｼﾞ","OTSUKA","Toji","男","06",1,null,130643,"3",343,"都新宿","東京都立新宿高等学校",null,"川村高等学校"]
[51049,5,10,"片岡","勇人","ｶﾀｵｶ","ﾊﾔﾄ","KATAOKA","Hayato","06",1,{"$f":"VLOOKUP(B183*100+C183,氏名データ!$AC$2:$AJ$401,2,0)","v":"大成"},null,"男",null,51049,"片岡","勇人","ｶﾀｵｶ","ﾊﾔﾄ","KATAOKA","Hayato","男","06",1,null,130644,"3",344,"都千早","東京都立千早高等学校",null,"学習院高等科"]
[51050,5,10,"岸","悠真","ｷｼ","ﾕｳﾏ","KISHI","Yuma","06",1,{"$f":"VLOOKUP(B184*100+C184,氏名データ!$AC$2:$AJ$401,2,0)","v":"大成"},null,"男",null,51050,"岸","悠真","ｷｼ","ﾕｳﾏ","KISHI","Yuma","男","06",1,null,130645,"3",345,"都豊島","東京都立豊島高等学校",null,"昭和鉄道高等学校"]
[51077,5,10,"井口","花音","ｲｸﾞﾁ","ｶﾉﾝ","IGUCHI","Kanon","04",3,{"$f":"VLOOKUP(B185*100+C185,氏名データ!$AC$2:$AJ$401,2,0)","v":"大成"},null,"女",null,51077,"井口","花音","ｲｸﾞﾁ","ｶﾉﾝ","IGUCHI","Kanon","女","04",3,null,130646,"3",346,"都文京","東京都立文京高等学校",null,"十文字高等学校"]
[51078,5,10,"小野木","瑛茉","ｵﾉｷﾞ","ｴﾏ","ONOGI","Ema","05",2,{"$f":"VLOOKUP(B186*100+C186,氏名データ!$AC$2:$AJ$401,2,0)","v":"大成"},null,"女",null,51078,"小野木","瑛茉","ｵﾉｷﾞ","ｴﾏ","ONOGI","Ema","女","05",2,null,130647,"3",347,"川村","川村高等学校",null,"淑徳巣鴨高等学校"]
[51079,5,10,"久保寺","美桜","ｸﾎﾞﾃﾞﾗ","ﾐｵ","KUBODERA","Mio","05",2,{"$f":"VLOOKUP(B187*100+C187,氏名データ!$AC$2:$AJ$401,2,0)","v":"大成"},null,"女",null,51079,"久保寺","美桜","ｸﾎﾞﾃﾞﾗ","ﾐｵ","KUBODERA","Mio","女","05",2,null,130648,"3",348,"学習院","学習院高等科",null,"巣鴨高等学校"]
[51080,5,10,"佐々木","杏樹","ｻｻｷ","ｱﾝｼﾞｭ","SASAKI","Anju","05",2,{"$f":"VLOOKUP(B188*100+C188,氏名データ!$AC$2:$AJ$401,2,0)","v":"大成"},null,"女",null,51080,"佐々木","杏樹","ｻｻｷ","ｱﾝｼﾞｭ","SASAKI","Anju","女","05",2,null,130649,"3",349,"昭和鉄道","昭和鉄道高等学校",null,"豊島学院高等学校"]
[51081,5,10,"新村","千世","ｼﾝﾑﾗ","ﾁﾖ","SINMURA","Chiyo","05",2,{"$f":"VLOOKUP(B189*100+C189,氏名データ!$AC$2:$AJ$401,2,0)","v":"大成"},null,"女",null,51081,"新村","千世","ｼﾝﾑﾗ","ﾁﾖ","SINMURA","Chiyo","女","05",2,null,130650,"3",350,"十文字","十文字高等学校",null,"豊南高等学校"]
[51082,5,10,"玉置","小桜","ﾀﾏｷ","ｺﾊﾙ","TAMAKI","Koharu","06",2,{"$f":"VLOOKUP(B190*100+C190,氏名データ!$AC$2:$AJ$401,2,0)","v":"大成"},null,"女",null,51082,"玉置","小桜","ﾀﾏｷ","ｺﾊﾙ","TAMAKI","Koharu","女","06",2,null,130651,"3",351,"淑徳巣鴨","淑徳巣鴨高等学校",null,"本郷高等学校"]
[51083,5,10,"中村","希実","ﾅｶﾑﾗ","ﾉｿﾞﾐ","NAKAMURA","Nozomi","05",2,{"$f":"VLOOKUP(B191*100+C191,氏名データ!$AC$2:$AJ$401,2,0)","v":"大成"},null,"女",null,51083,"中村","希実","ﾅｶﾑﾗ","ﾉｿﾞﾐ","NAKAMURA","Nozomi","女","05",2,null,130653,"3",353,"巣鴨","巣鴨高等学校",null,"立教池袋高等学校"]
[51085,5,10,"坂本","心涼","ｻｶﾓﾄ","ﾐｽｽﾞ","SAKAMOTO","Misuzu","05",2,{"$f":"VLOOKUP(B192*100+C192,氏名データ!$AC$2:$AJ$401,2,0)","v":"大成"},null,"女",null,51085,"坂本","心涼","ｻｶﾓﾄ","ﾐｽｽﾞ","SAKAMOTO","Misuzu","女","05",2,null,130656,"3",356,"豊島学院","豊島学院高等学校",null,"東京都立井草高等学校"]
[51086,5,10,"阿部","ゆず葉","ｱﾍﾞ","ﾕｽﾞﾊ","ABE","Yuzuha","06",1,{"$f":"VLOOKUP(B193*100+C193,氏名データ!$AC$2:$AJ$401,2,0)","v":"大成"},null,"女",null,51086,"阿部","ゆず葉","ｱﾍﾞ","ﾕｽﾞﾊ","ABE","Yuzuha","女","06",1,null,130657,"3",357,"豊南","豊南高等学校",null,"東京都立大泉高等学校"]
[51087,5,10,"江村","咲幸","ｴﾑﾗ","ｻﾕｷ","EMURA","Sayuki","06",1,{"$f":"VLOOKUP(B194*100+C194,氏名データ!$AC$2:$AJ$401,2,0)","v":"大成"},null,"女",null,51087,"江村","咲幸","ｴﾑﾗ","ｻﾕｷ","EMURA","Sayuki","女","06",1,null,130658,"3",358,"本郷","本郷高等学校",null,"東京都立大泉桜高等学校"]
[{"$f":"P195","v":51088},{"$f":"ROUNDDOWN(A195/10000,0)","v":5},{"$f":"ROUNDDOWN((A195-B195*10000)/100,0)","v":10},{"$f":"Q195","v":"藤澤"},{"$f":"R195","v":"美空"},{"$f":"S195","v":"ﾌｼﾞｻﾜ"},{"$f":"T195","v":"ﾐｸ"},{"$f":"U195","v":"FUJISAWA"},{"$f":"V195","v":"Miku"},{"$f":"X195","v":"06"},{"$f":"Y195","v":1},{"$f":"VLOOKUP(B195*100+C195,氏名データ!$AC$2:$AJ$401,2,0)","v":"大成"},null,{"$f":"W195","v":"女"},null,51088,"藤澤","美空","ﾌｼﾞｻﾜ","ﾐｸ","FUJISAWA","Miku","女","06",1,null,130659,{"$f":"LEFT(AC195,1)","v":"3"},359,"立教池袋","立教池袋高等学校",null,"東京都立石神井高等学校"]
[51089,5,10,"増村","遥華","ﾏｽﾑﾗ","ﾊﾙｶ","MASUMURA","Haruka","06",1,{"$f":"VLOOKUP(B196*100+C196,氏名データ!$AC$2:$AJ$401,2,0)","v":"大成"},null,"女",null,51089,"増村","遥華","ﾏｽﾑﾗ","ﾊﾙｶ","MASUMURA","Haruka","女","06",1,null,130660,"3",360,"都井草","東京都立井草高等学校",null,"東京都立田柄高等学校"]
[51090,5,10,"吉﨑","莉子","ﾖｼｻﾞｷ","ﾘｺ","YOSHIZAKI","Riko","06",1,{"$f":"VLOOKUP(B197*100+C197,氏名データ!$AC$2:$AJ$401,2,0)","v":"大成"},null,"女",null,51090,"吉﨑","莉子","ﾖｼｻﾞｷ","ﾘｺ","YOSHIZAKI","Riko","女","06",1,null,130661,"3",361,"都大泉","東京都立大泉高等学校",null,"東京都立第四商業高等学校"]
[51101,5,11,"神戸","毅裕","ｺﾞｳﾄﾞ","ﾀｹﾋﾛ","GODO","Takehiro","04",3,{"$f":"VLOOKUP(B198*100+C198,氏名データ!$AC$2:$AJ$401,2,0)","v":"明星学園"},null,"男",null,51101,"神戸","毅裕","ｺﾞｳﾄﾞ","ﾀｹﾋﾛ","GODO","Takehiro","男","04",3,null,130662,"3",362,"都大泉桜","東京都立大泉桜高等学校",null,"東京都立練馬高等学校"]
[51102,5,11,"古屋","新太","ﾌﾙﾔ","ｱﾗﾀ","HURUYA","Arata","04",3,{"$f":"VLOOKUP(B199*100+C199,氏名データ!$AC$2:$AJ$401,2,0)","v":"明星学園"},null,"男",null,51102,"古屋","新太","ﾌﾙﾔ","ｱﾗﾀ","HURUYA","Arata","男","04",3,null,130664,"3",364,"都石神井","東京都立石神井高等学校",null,"東京都立練馬工業高等学校"]
[51103,5,11,"大谷","優斗","ｵｵﾀﾆ","ﾕｳﾄ","OHTANI","Yuto","04",3,{"$f":"VLOOKUP(B200*100+C200,氏名データ!$AC$2:$AJ$401,2,0)","v":"明星学園"},null,"男",null,51103,"大谷","優斗","ｵｵﾀﾆ","ﾕｳﾄ","OHTANI","Yuto","男","04",3,null,130666,"3",366,"都田柄","東京都立田柄高等学校",null,"東京都立光丘高等学校"]
[51104,5,11,"大澤","友貴","ｵｵｻﾜ","ﾄﾓｷ","OSAWA","Tomoki","04",3,{"$f":"VLOOKUP(B201*100+C201,氏名データ!$AC$2:$AJ$401,2,0)","v":"明星学園"},null,"男",null,51104,"大澤","友貴","ｵｵｻﾜ","ﾄﾓｷ","OSAWA","Tomoki","男","04",3,null,130667,"3",367,"都四商","東京都立第四商業高等学校",null,"富士見高等学校"]
[51105,5,11,"渡邊","凜太郎","ﾜﾀﾅﾍﾞ","ﾘﾝﾀﾛｳ","WATANABE","Rintaro","04",3,{"$f":"VLOOKUP(B202*100+C202,氏名データ!$AC$2:$AJ$401,2,0)","v":"明星学園"},null,"男",null,51105,"渡邊","凜太郎","ﾜﾀﾅﾍﾞ","ﾘﾝﾀﾛｳ","WATANABE","Rintaro","男","04",3,null,130668,"3",368,"都練馬","東京都立練馬高等学校",null,"武蔵高等学校"]
[51106,5,11,"辻","陽平","ﾂｼﾞ","ﾖｳﾍｲ","TUJI","Yohei","04",3,{"$f":"VLOOKUP(B203*100+C203,氏名データ!$AC$2:$AJ$401,2,0)","v":"明星学園"},null,"男",null,51106,"辻","陽平","ﾂｼﾞ","ﾖｳﾍｲ","TUJI","Yohei","男","04",3,null,130669,"3",369,"都練馬工","東京都立練馬工業高等学校",null,"早稲田大学高等学院"]
[51107,5,11,"小山","涼介","ｺﾔﾏ","ﾘｮｳｽｹ","KOYAMA","Ryousuke","04",3,{"$f":"VLOOKUP(B204*100+C204,氏名データ!$AC$2:$AJ$401,2,0)","v":"明星学園"},null,"男",null,51107,"小山","涼介","ｺﾔﾏ","ﾘｮｳｽｹ","KOYAMA","Ryousuke","男","04",3,null,130670,"3",370,"都光丘","東京都立光丘高等学校",null,"東京朝鮮中高級学校"]
[51108,5,11,"佐藤","太波","ｻﾄｳ","ﾀｲﾅ","SATO","Taina","04",3,{"$f":"VLOOKUP(B205*100+C205,氏名データ!$AC$2:$AJ$401,2,0)","v":"明星学園"},null,"男",null,51108,"佐藤","太波","ｻﾄｳ","ﾀｲﾅ","SATO","Taina","男","04",3,null,130672,"3",372,"富士見","富士見高等学校",null,"日本ウェルネス高等学校通信制"]
[51109,5,11,"内野","秀喜","ｳﾁﾉ","ﾋﾃﾞｷ","UCHINO","Hideki","04",3,{"$f":"VLOOKUP(B206*100+C206,氏名データ!$AC$2:$AJ$401,2,0)","v":"明星学園"},null,"男",null,51109,"内野","秀喜","ｳﾁﾉ","ﾋﾃﾞｷ","UCHINO","Hideki","男","04",3,null,130673,"3",373,"武蔵","武蔵高等学校",null,"東京都立志村学園高等学校"]
[51110,5,11,"松本","大心","ﾏﾂﾓﾄ","ﾀｲｼﾝ","MATUMOTO","Taisin","04",3,{"$f":"VLOOKUP(B207*100+C207,氏名データ!$AC$2:$AJ$401,2,0)","v":"明星学園"},null,"男",null,51110,"松本","大心","ﾏﾂﾓﾄ","ﾀｲｼﾝ","MATUMOTO","Taisin","男","04",3,null,130674,"3",374,"早大学院","早稲田大学高等学院",null,"城西大学附属城西高等学校"]
[51111,5,11,"山崎","和彦","ﾔﾏｻﾞｷ","ｶｽﾞﾋｺ","YAMAZAKI","Kazuhiko","04",3,{"$f":"VLOOKUP(B208*100+C208,氏名データ!$AC$2:$AJ$401,2,0)","v":"明星学園"},null,"男",null,51111,"山崎","和彦","ﾔﾏｻﾞｷ","ｶｽﾞﾋｺ","YAMAZAKI","Kazuhiko","男","04",3,null,130675,"3",375,"東京朝鮮","東京朝鮮中高級学校",null,"城西大学附属城西高等学校"]
[51112,5,11,"澤田","大河","ｻﾜﾀﾞ","ﾀｲｶﾞ","SAWADA","Taiga","05",3,{"$f":"VLOOKUP(B209*100+C209,氏名データ!$AC$2:$AJ$401,2,0)","v":"明星学園"},null,"男",null,51112,"澤田","大河","ｻﾜﾀﾞ","ﾀｲｶﾞ","SAWADA","Taiga","男","05",3,null,130677,"3",377,"ウェルネス","日本ウェルネス高等学校通信制",null,"筑波大学附属駒場高等学校"]
[51115,5,11,"藤原","駿成","ﾌｼﾞﾜﾗ","ｼｭﾝｾｲ","FUJIWARA","Shunsei","06",1,{"$f":"VLOOKUP(B210*100+C210,氏名データ!$AC$2:$AJ$401,2,0)","v":"明星学園"},null,"男",null,51115,"藤原","駿成","ﾌｼﾞﾜﾗ","ｼｭﾝｾｲ","FUJIWARA","Shunsei","男","06",1,null,130678,"3",378,"都志村学園","東京都立志村学園高等学校",null,"東京学芸大学附属高等学校"]
[51116,5,11,"春本","ヴｧｰｼﾞﾙ想輔","ﾊﾙﾓﾄ","ヴｧｰｼﾞﾙｿｳｽｹ","HARUMOTO","Sosuke  virgil","07",1,{"$f":"VLOOKUP(B211*100+C211,氏名データ!$AC$2:$AJ$401,2,0)","v":"明星学園"},null,"男",null,51116,"春本","ヴｧｰｼﾞﾙ想輔","ﾊﾙﾓﾄ","ヴｧｰｼﾞﾙｿｳｽｹ","HARUMOTO","Sosuke  virgil","男","07",1,null,130679,"3",379,"城西","城西大学附属城西高等学校",null,"東京都立世田谷泉高等学校"]
[51117,5,11,"小野","浬空","ｵﾉ","ﾘｸ","ONO","Riku","06",1,{"$f":"VLOOKUP(B212*100+C212,氏名データ!$AC$2:$AJ$401,2,0)","v":"明星学園"},null,"男",null,51117,"小野","浬空","ｵﾉ","ﾘｸ","ONO","Riku","男","06",1,null,130680,"3",380,"城西","城西大学附属城西高等学校",null,"東京都立世田谷総合高等学校"]
[51118,5,11,"山田","詞音","ﾔﾏﾀﾞ","ｼｵﾝ","YAMADA","Shion","06",1,{"$f":"VLOOKUP(B213*100+C213,氏名データ!$AC$2:$AJ$401,2,0)","v":"明星学園"},null,"男",null,51118,"山田","詞音","ﾔﾏﾀﾞ","ｼｵﾝ","YAMADA","Shion","男","06",1,null,130801,"4",401,"筑波大駒場","筑波大学附属駒場高等学校",null,"東京都立桜町高等学校"]
[51119,5,11,"奥秋","伝","ｵｸｱｷ","ﾃﾞﾝ","OKUAKI","Den","06",1,{"$f":"VLOOKUP(B214*100+C214,氏名データ!$AC$2:$AJ$401,2,0)","v":"明星学園"},null,"男",null,51119,"奥秋","伝","ｵｸｱｷ","ﾃﾞﾝ","OKUAKI","Den","男","06",1,null,{"$f":"130000+AB214*100+AC214","v":130802},"4",402,"学大附","東京学芸大学附属高等学校",null,"東京都立千歳丘高等学校"]
[51120,5,11,"小林","大翼","ｺﾊﾞﾔｼ","ｵｵｽｹ","KOBAYASHI","Osuke","07",1,{"$f":"VLOOKUP(B215*100+C215,氏名データ!$AC$2:$AJ$401,2,0)","v":"明星学園"},null,"男",null,51120,"小林","大翼","ｺﾊﾞﾔｼ","ｵｵｽｹ","KOBAYASHI","Osuke","男","07",1,null,130803,"4",403,"都園芸","東京都立園芸高等学校",null,"東京都立芦花高等学校"]
[51121,5,11,"柴田","渉吏","ｼﾊﾞﾀ","ｼｮｳﾘ","SHIBATA","Shori","06",1,{"$f":"VLOOKUP(B216*100+C216,氏名データ!$AC$2:$AJ$401,2,0)","v":"明星学園"},null,"男",null,51121,"柴田","渉吏","ｼﾊﾞﾀ","ｼｮｳﾘ","SHIBATA","Shori","男","06",1,null,130804,"4",404,"都世田谷泉","東京都立世田谷泉高等学校",null,"東京都立松原高等学校"]
[51122,5,11,"占部","航太","ｳﾗﾍﾞ","ｺｳﾀ","URABE","Kouta","06",1,{"$f":"VLOOKUP(B217*100+C217,氏名データ!$AC$2:$AJ$401,2,0)","v":"明星学園"},null,"男",null,51122,"占部","航太","ｳﾗﾍﾞ","ｺｳﾀ","URABE","Kouta","男","06",1,null,130805,"4",405,"都世田谷総合","東京都立世田谷総合高等学校"]
[51123,5,11,"後藤","駿","ｺﾞﾄｳ","ﾊﾔﾄ","GOTO","Hayato","06",1,{"$f":"VLOOKUP(B218*100+C218,氏名データ!$AC$2:$AJ$401,2,0)","v":"明星学園"},null,"男",null,51123,"後藤","駿","ｺﾞﾄｳ","ﾊﾔﾄ","GOTO","Hayato","男","06",1,null,130806,"4",406,"都桜町","東京都立桜町高等学校",null,"東京都立深沢高等学校"]
[51124,5,11,"坂本","蓮","ｻｶﾓﾄ","ﾚﾝ","SAKAMOTO","Ren","07",1,{"$f":"VLOOKUP(B219*100+C219,氏名データ!$AC$2:$AJ$401,2,0)","v":"明星学園"},null,"男",null,51124,"坂本","蓮","ｻｶﾓﾄ","ﾚﾝ","SAKAMOTO","Ren","男","07",1,null,130809,"4",409,"都千歳丘","東京都立千歳丘高等学校",null,"鴎友学園女子高等学校"]
[51125,5,11,"柳","知己","ﾔﾅｷﾞ","ﾄﾓｷ","YANAGI","Tomoki","06",1,{"$f":"VLOOKUP(B220*100+C220,氏名データ!$AC$2:$AJ$401,2,0)","v":"明星学園"},null,"男",null,51125,"柳","知己","ﾔﾅｷﾞ","ﾄﾓｷ","YANAGI","Tomoki","男","06",1,null,130810,"4",410,"都芦花","東京都立芦花高等学校",null,"科学技術学園高等学校"]
[51126,5,11,"山崎","耀礼","ﾔﾏｻﾞｷ","ｱｷﾖｼ","YAMAZAKI","Akiyoshi","06",1,{"$f":"VLOOKUP(B221*100+C221,氏名データ!$AC$2:$AJ$401,2,0)","v":"明星学園"},null,"男",null,51126,"山崎","耀礼","ﾔﾏｻﾞｷ","ｱｷﾖｼ","YAMAZAKI","Akiyoshi","男","06",1,null,130811,"4",411,"都松原","東京都立松原高等学校",null,"恵泉女学園高等学校"]
[51127,5,11,"今福","悠太","ｲﾏﾌｸ","ﾕｳﾀ","IMAFUKU","Yuta","06",1,{"$f":"VLOOKUP(B222*100+C222,氏名データ!$AC$2:$AJ$401,2,0)","v":"明星学園"},null,"男",null,51127,"今福","悠太","ｲﾏﾌｸ","ﾕｳﾀ","IMAFUKU","Yuta","男","06",1,null,130813,"4",413,"都深沢","東京都立深沢高等学校",null,"佼成学園女子高等学校"]
[51145,5,11,"筑井","健心","ﾂｸｲ","ｹﾝｺﾞ","TSUKUI","Kengo","04",3,{"$f":"VLOOKUP(B223*100+C223,氏名データ!$AC$2:$AJ$401,2,0)","v":"明星学園"},null,"男",null,51145,"筑井","健心","ﾂｸｲ","ｹﾝｺﾞ","TSUKUI","Kengo","男","04",3,null,130814,"4",414,"鷗友学園女","鷗友学園女子高等学校",null,"国士舘高等学校"]
[51146,5,11,"川津","靖生","ｶﾜﾂ","ｼｮｳｷ","KAWATSU","Shoki","05",3,{"$f":"VLOOKUP(B224*100+C224,氏名データ!$AC$2:$AJ$401,2,0)","v":"明星学園"},null,"男",null,51146,"川津","靖生","ｶﾜﾂ","ｼｮｳｷ","KAWATSU","Shoki","男","05",3,null,130815,"4",415,"科学技術学園","科学技術学園高等学校",null,"駒澤大学高等学校"]
[51151,5,11,"津下","汐星","ﾂｹﾞ","ｼﾎ","TSUGE","Shiho","07",1,{"$f":"VLOOKUP(B225*100+C225,氏名データ!$AC$2:$AJ$401,2,0)","v":"明星学園"},null,"女",null,51151,"津下","汐星","ﾂｹﾞ","ｼﾎ","TSUGE","Shiho","女","07",1,null,130817,"4",417,"恵泉女学園","恵泉女学園高等学校",null,"駒場学園高等学校"]
[51152,5,11,"石川","結子","ｲｼｶﾜ","ﾕｳｺ","ISHIKAWA","Yuko","06",1,{"$f":"VLOOKUP(B226*100+C226,氏名データ!$AC$2:$AJ$401,2,0)","v":"明星学園"},null,"女",null,51152,"石川","結子","ｲｼｶﾜ","ﾕｳｺ","ISHIKAWA","Yuko","女","06",1,null,130818,"4",418,"佼成女","佼成学園女子高等学校",null,"駒場東邦高等学校"]
[51168,5,11,"小林","美月","ｺﾊﾞﾔｼ","ﾐﾂｷ","KOBAYASHI","Mitsuki","05",3,{"$f":"VLOOKUP(B227*100+C227,氏名データ!$AC$2:$AJ$401,2,0)","v":"明星学園"},null,"女",null,51168,"小林","美月","ｺﾊﾞﾔｼ","ﾐﾂｷ","KOBAYASHI","Mitsuki","女","05",3,null,130819,"4",419,"国士舘","国士舘高等学校",null,"松蔭高等学校"]
[51169,5,11,"山崎","花菜子","ﾔﾏｻﾞｷ","ｶﾅｺ","YAMAZAKI","Kanako","04",3,{"$f":"VLOOKUP(B228*100+C228,氏名データ!$AC$2:$AJ$401,2,0)","v":"明星学園"},null,"女",null,51169,"山崎","花菜子","ﾔﾏｻﾞｷ","ｶﾅｺ","YAMAZAKI","Kanako","女","04",3,null,130821,"4",421,"駒場学園","駒場学園高等学校",null,"昭和女子大学附属昭和高等学校"]
[51170,5,11,"大賀","朱理","ｵｵｶﾞ","ｱｶﾘ","OGA","Akari","04",3,{"$f":"VLOOKUP(B229*100+C229,氏名データ!$AC$2:$AJ$401,2,0)","v":"明星学園"},null,"女",null,51170,"大賀","朱理","ｵｵｶﾞ","ｱｶﾘ","OGA","Akari","女","04",3,null,130822,"4",422,"駒場東邦","駒場東邦高等学校",null,"成城学園高等学校"]
[51171,5,11,"長谷部","可蓮","ﾊｾﾍﾞ","ｶﾚﾝ","HASEBE","Karen","05",2,{"$f":"VLOOKUP(B230*100+C230,氏名データ!$AC$2:$AJ$401,2,0)","v":"明星学園"},null,"女",null,51171,"長谷部","可蓮","ﾊｾﾍﾞ","ｶﾚﾝ","HASEBE","Karen","女","05",2,null,130823,"4",423,"松陰","松蔭高等学校",null,"世田谷学園高等学校"]
[51172,5,11,"醍醐","未玖","ﾀﾞｲｺﾞ","ﾐｸ","DAIGO","Miku","05",2,{"$f":"VLOOKUP(B231*100+C231,氏名データ!$AC$2:$AJ$401,2,0)","v":"明星学園"},null,"女",null,51172,"醍醐","未玖","ﾀﾞｲｺﾞ","ﾐｸ","DAIGO","Miku","女","05",2,null,130824,"4",424,"昭和女大附","昭和女子大学附属昭和高等学校",null,"大東学園高等学校"]
[51173,5,11,"荻原","朱乃","ｵｷﾞﾊﾗ","ｱｹﾉ","OGIHARA","Akeno","05",2,{"$f":"VLOOKUP(B232*100+C232,氏名データ!$AC$2:$AJ$401,2,0)","v":"明星学園"},null,"女",null,51173,"荻原","朱乃","ｵｷﾞﾊﾗ","ｱｹﾉ","OGIHARA","Akeno","女","05",2,null,130825,"4",425,"成城学園","成城学園高等学校",null,"三田国際学園高等学校"]
[51174,5,11,"森﨑","優希","ﾓﾘｻｷ","ﾕｷ","MORISAKI","Yuki","05",2,{"$f":"VLOOKUP(B233*100+C233,氏名データ!$AC$2:$AJ$401,2,0)","v":"明星学園"},null,"女",null,51174,"森﨑","優希","ﾓﾘｻｷ","ﾕｷ","MORISAKI","Yuki","女","05",2,null,130826,"4",426,"駒大高","駒澤大学高等学校",null,"東京農業大学第一高等学校"]
[51175,5,11,"西原","陽菜美","ﾆｼﾊﾗ","ﾋﾅﾐ","NISHIHARA","Hinami","06",2,{"$f":"VLOOKUP(B234*100+C234,氏名データ!$AC$2:$AJ$401,2,0)","v":"明星学園"},null,"女",null,51175,"西原","陽菜美","ﾆｼﾊﾗ","ﾋﾅﾐ","NISHIHARA","Hinami","女","06",2,null,130827,"4",427,"駒大高","駒澤大学高等学校",null,"東京都市大学等々力高等学校"]
[51176,5,11,"原","あかり","ﾊﾗ","ｱｶﾘ","HARA","Akari","05",2,{"$f":"VLOOKUP(B235*100+C235,氏名データ!$AC$2:$AJ$401,2,0)","v":"明星学園"},null,"女",null,51176,"原","あかり","ﾊﾗ","ｱｶﾘ","HARA","Akari","女","05",2,null,130830,"4",430,"大東学園","大東学園高等学校",null,"田園調布学園高等部"]
[51177,5,11,"手島","花奈","ﾃｼﾞﾏ","ｶﾅ","TEJIMA","Kana","06",1,{"$f":"VLOOKUP(B236*100+C236,氏名データ!$AC$2:$AJ$401,2,0)","v":"明星学園"},null,"女",null,51177,"手島","花奈","ﾃｼﾞﾏ","ｶﾅ","TEJIMA","Kana","女","06",1,null,130828,"4",428,"世田谷学園","世田谷学園高等学校",null,"日本女子体育大学附属二階堂高等学校"]
[51178,5,11,"加藤","優空","ｶﾄｳ","ﾕｱ","KATO","Yua","06",1,{"$f":"VLOOKUP(B237*100+C237,氏名データ!$AC$2:$AJ$401,2,0)","v":"明星学園"},null,"女",null,51178,"加藤","優空","ｶﾄｳ","ﾕｱ","KATO","Yua","女","06",1,null,130832,"4",432,"三田国際学園","三田国際学園高等学校",null,"日本学園高等学校"]
[51179,5,11,"千葉","玲奈","ﾁﾊﾞ","ﾚｲﾅ","CHIBA","Reina","06",1,{"$f":"VLOOKUP(B238*100+C238,氏名データ!$AC$2:$AJ$401,2,0)","v":"明星学園"},null,"女",null,51179,"千葉","玲奈","ﾁﾊﾞ","ﾚｲﾅ","CHIBA","Reina","女","06",1,null,130833,"4",433,"東農大一","東京農業大学第一高等学校",null,"日本大学櫻丘高等学校"]
[51180,5,11,"作増","京太郎","ｻｸﾏｽ","ｷｮｳﾀﾛｳ","SAKUMASU","Kyotaro","05",2,{"$f":"VLOOKUP(B239*100+C239,氏名データ!$AC$2:$AJ$401,2,0)","v":"明星学園"},null,"男",null,51180,"作増","京太郎","ｻｸﾏｽ","ｷｮｳﾀﾛｳ","SAKUMASU","Kyotaro","男","05",2,null,130834,"4",434,"都市大等々力","東京都市大学等々力高等学校",null,"東京都市大学付属高等学校"]
[51181,5,11,"岡田","大輝","ｵｶﾀﾞ","ﾀﾞｲｷ","OKADA","Daiki","06",2,{"$f":"VLOOKUP(B240*100+C240,氏名データ!$AC$2:$AJ$401,2,0)","v":"明星学園"},null,"男",null,51181,"岡田","大輝","ｵｶﾀﾞ","ﾀﾞｲｷ","OKADA","Daiki","男","06",2,null,130835,"4",435,"田園調布学園","田園調布学園高等部",null,"目黒星美学園高等学校"]
[51182,5,11,"樋口","陽大","ﾋｸﾞﾁ","ﾊﾙﾄ","HIGUCHI","Haruto","05",2,{"$f":"VLOOKUP(B241*100+C241,氏名データ!$AC$2:$AJ$401,2,0)","v":"明星学園"},null,"男",null,51182,"樋口","陽大","ﾋｸﾞﾁ","ﾊﾙﾄ","HIGUCHI","Haruto","男","05",2,null,130836,"4",436,"日女体二階堂","日本女子体育大学附属二階堂高等",null,"東京大学教育学部附属中等教育学校"]
[51183,5,11,"松尾","空","ﾏﾂｵ","ｶﾅﾀ","MATSUO","Kanata","05",2,{"$f":"VLOOKUP(B242*100+C242,氏名データ!$AC$2:$AJ$401,2,0)","v":"明星学園"},null,"男",null,51183,"松尾","空","ﾏﾂｵ","ｶﾅﾀ","MATSUO","Kanata","男","05",2,null,130837,"4",437,"日本学園","日本学園高等学校",null,"東京都立鷺宮高等学校"]
[51184,5,11,"佐藤","匠","ｻﾄｳ","ｼｮｳ","SATO","Sho","06",2,{"$f":"VLOOKUP(B243*100+C243,氏名データ!$AC$2:$AJ$401,2,0)","v":"明星学園"},null,"男",null,51184,"佐藤","匠","ｻﾄｳ","ｼｮｳ","SATO","Sho","男","06",2,null,130838,"4",438,"日大櫻丘","日本大学櫻丘高等学校",null,"東京都立中野工業高等学校"]
[51185,5,11,"平井","知生","ﾋﾗｲ","ﾄﾓｵ","HIRAI","Tomoo","05",2,{"$f":"VLOOKUP(B244*100+C244,氏名データ!$AC$2:$AJ$401,2,0)","v":"明星学園"},null,"男",null,51185,"平井","知生","ﾋﾗｲ","ﾄﾓｵ","HIRAI","Tomoo","男","05",2,null,130839,"4",439,"都市大付","東京都市大学付属高等学校",null,"東京都立富士高等学校"]
[51186,5,11,"鈴木","雄太","ｽｽﾞｷ","ﾕｳﾀ","SUZUKI","Yuta","05",2,{"$f":"VLOOKUP(B245*100+C245,氏名データ!$AC$2:$AJ$401,2,0)","v":"明星学園"},null,"男",null,51186,"鈴木","雄太","ｽｽﾞｷ","ﾕｳﾀ","SUZUKI","Yuta","男","05",2,null,130840,"4",440,"目黒星美学園","目黒星美学園高等学校",null,"東京都立武蔵丘高等学校"]
[51187,5,11,"石井","優佑","ｲｼｲ","ﾕｳｽｹ","ISHII","Yusuke","06",2,{"$f":"VLOOKUP(B246*100+C246,氏名データ!$AC$2:$AJ$401,2,0)","v":"明星学園"},null,"男",null,51187,"石井","優佑","ｲｼｲ","ﾕｳｽｹ","ISHII","Yusuke","男","06",2,null,130841,"4",441,"東大附","東京大学教育学部附属中等教育",null,"実践学園高等学校"]
[51188,5,11,"輿水","大我","ｺｼﾐｽﾞ","ﾀｲｶﾞ","KOSHIMIZU","Taiga","05",2,{"$f":"VLOOKUP(B247*100+C247,氏名データ!$AC$2:$AJ$401,2,0)","v":"明星学園"},null,"男",null,51188,"輿水","大我","ｺｼﾐｽﾞ","ﾀｲｶﾞ","KOSHIMIZU","Taiga","男","05",2,null,130842,"4",442,"都鷺宮","東京都立鷺宮高等学校",null,"東亜学園高等学校"]
[51189,5,11,"庄司","光","ｼｮｳｼﾞ","ﾋｶﾙ","SHOJI","Hikaru","05",2,{"$f":"VLOOKUP(B248*100+C248,氏名データ!$AC$2:$AJ$401,2,0)","v":"明星学園"},null,"男",null,51189,"庄司","光","ｼｮｳｼﾞ","ﾋｶﾙ","SHOJI","Hikaru","男","05",2,null,130843,"4",443,"都中野工","東京都立中野工業高等学校",null,"宝仙学園高等学校"]
[51190,5,11,"金子","凌慈","ｶﾈｺ","ﾘｮｳﾔ","KANEKO","Ryoya","06",2,{"$f":"VLOOKUP(B249*100+C249,氏名データ!$AC$2:$AJ$401,2,0)","v":"明星学園"},null,"男",null,51190,"金子","凌慈","ｶﾈｺ","ﾘｮｳﾔ","KANEKO","Ryoya","男","06",2,null,130844,"4",444,"都富士","東京都立富士高等学校",null,"堀越高等学校"]
[51191,5,11,"本郷","達也","ﾎﾝｺﾞｳ","ﾀﾂﾔ","HONGO","Tatsuya","05",2,{"$f":"VLOOKUP(B250*100+C250,氏名データ!$AC$2:$AJ$401,2,0)","v":"明星学園"},null,"男",null,51191,"本郷","達也","ﾎﾝｺﾞｳ","ﾀﾂﾔ","HONGO","Tatsuya","男","05",2,null,130845,"4",445,"都武蔵丘","東京都立武蔵丘高等学校",null,"明治大学付属中野高等学校"]
[51192,5,11,"宮澤","太陽","ﾐﾔｻﾞﾜ","ﾀｲﾖｳ","MIYAZAWA","Taiyo","05",2,{"$f":"VLOOKUP(B251*100+C251,氏名データ!$AC$2:$AJ$401,2,0)","v":"明星学園"},null,"男",null,51192,"宮澤","太陽","ﾐﾔｻﾞﾜ","ﾀｲﾖｳ","MIYAZAWA","Taiyo","男","05",2,null,130848,"4",448,"実践学園","実践学園高等学校",null,"東京都立永福学園"]
[51193,5,11,"福士","湊","ﾌｸｼ","ﾐﾅﾄ","FUKUSHI","Minato","05",2,{"$f":"VLOOKUP(B252*100+C252,氏名データ!$AC$2:$AJ$401,2,0)","v":"明星学園"},null,"男",null,51193,"福士","湊","ﾌｸｼ","ﾐﾅﾄ","FUKUSHI","Minato","男","05",2,null,130849,"4",449,"東亜学園","東亜学園高等学校",null,"東京都立杉並総合高等学校"]
[51194,5,11,"ベイトマン","礼門","ﾍﾞｲﾄﾏﾝ","ﾚｲﾓﾝ","BATEMAN","Raymond","05",2,{"$f":"VLOOKUP(B253*100+C253,氏名データ!$AC$2:$AJ$401,2,0)","v":"明星学園"},null,"男",null,51194,"ベイトマン","礼門","ﾍﾞｲﾄﾏﾝ","ﾚｲﾓﾝ","BATEMAN","Raymond","男","05",2,null,130851,"4",451,"宝仙学園","宝仙学園高等学校",null,"東京都立杉並高等学校"]
[51195,5,11,"岩永","優月","ｲﾜﾅｶﾞ","ﾕﾂﾞｷ","IWANAGA","Yuzuki","05",2,{"$f":"VLOOKUP(B254*100+C254,氏名データ!$AC$2:$AJ$401,2,0)","v":"明星学園"},null,"男",null,51195,"岩永","優月","ｲﾜﾅｶﾞ","ﾕﾂﾞｷ","IWANAGA","Yuzuki","男","05",2,null,130852,"4",452,"堀越","堀越高等学校",null,"東京都立杉並工業高等学校"]
[51196,5,11,"吉村","優弥","ﾖｼﾑﾗ","ﾕｳﾔ","YOSHIMURA","Yuya","05",2,{"$f":"VLOOKUP(B255*100+C255,氏名データ!$AC$2:$AJ$401,2,0)","v":"明星学園"},null,"男",null,51196,"吉村","優弥","ﾖｼﾑﾗ","ﾕｳﾔ","YOSHIMURA","Yuya","男","05",2,null,130853,"4",453,"明大中野","明治大学付属中野高等学校",null,"東京都立豊多摩高等学校"]
[51198,5,11,"飯澤","航洋","ｲｲｻﾞﾜ","ｺｳﾖｳ","IIZAWA","Koyo","05",2,{"$f":"VLOOKUP(B256*100+C256,氏名データ!$AC$2:$AJ$401,2,0)","v":"明星学園"},null,"男",null,51198,"飯澤","航洋","ｲｲｻﾞﾜ","ｺｳﾖｳ","IIZAWA","Koyo","男","05",2,null,130854,"4",454,"都永福学園","東京都立永福学園",null,"東京都立西高等学校"]
[51199,5,11,"平井","滉大","ﾋﾗｲ","ｺｳﾀ","HIRAI","Kota","05",2,{"$f":"VLOOKUP(B257*100+C257,氏名データ!$AC$2:$AJ$401,2,0)","v":"明星学園"},null,"男",null,51199,"平井","滉大","ﾋﾗｲ","ｺｳﾀ","HIRAI","Kota","男","05",2,null,130856,"4",456,"都杉並総合","東京都立杉並総合高校",null,"東京都立農芸高等学校"]
[51211,5,12,"伊藤","蒼馬","ｲﾄｳ","ｿｳﾏ","ITO","Soma","05",2,{"$f":"VLOOKUP(B258*100+C258,氏名データ!$AC$2:$AJ$401,2,0)","v":"都多摩科技"},null,"男",null,51211,"伊藤","蒼馬","ｲﾄｳ","ｿｳﾏ","ITO","Soma","男","05",2,null,130857,"4",457,"都杉並","東京都立杉並高等学校",null,"佼成学園高等学校"]
[{"$f":"P259","v":51212},{"$f":"ROUNDDOWN(A259/10000,0)","v":5},{"$f":"ROUNDDOWN((A259-B259*10000)/100,0)","v":12},{"$f":"Q259","v":"佐圓"},{"$f":"R259","v":"泰地"},{"$f":"S259","v":"ｻｴﾝ"},{"$f":"T259","v":"ﾀｲﾁ"},{"$f":"U259","v":"SAEN"},{"$f":"V259","v":"Taichi"},{"$f":"X259","v":"06"},{"$f":"Y259","v":2},{"$f":"VLOOKUP(B259*100+C259,氏名データ!$AC$2:$AJ$401,2,0)","v":"都多摩科技"},null,{"$f":"W259","v":"男"},null,51212,"佐圓","泰地","ｻｴﾝ","ﾀｲﾁ","SAEN","Taichi","男","06",2,null,130858,{"$f":"LEFT(AC259,1)","v":"4"},458,"都杉並工","東京都立杉並工業高等学校",null,"國學院大學久我山高等学校"]
[51213,5,12,"曽根田","大幸朗","ｿﾈﾀﾞ","ﾀﾞｲｺﾞﾛｳ","SONEDA","Daigoro","05",2,{"$f":"VLOOKUP(B260*100+C260,氏名データ!$AC$2:$AJ$401,2,0)","v":"都多摩科技"},null,"男",null,51213,"曽根田","大幸朗","ｿﾈﾀﾞ","ﾀﾞｲｺﾞﾛｳ","SONEDA","Daigoro","男","05",2,null,130859,"4",459,"都豊多摩","東京都立豊多摩高等学校",null,"専修大学附属高等学校"]
[51215,5,12,"藤田","櫂","ﾌｼﾞﾀ","ｶｲ","FUJITA","Kai","05",2,{"$f":"VLOOKUP(B261*100+C261,氏名データ!$AC$2:$AJ$401,2,0)","v":"都多摩科技"},null,"男",null,51215,"藤田","櫂","ﾌｼﾞﾀ","ｶｲ","FUJITA","Kai","男","05",2,null,130860,"4",460,"都西","東京都立西高等学校",null,"中央大学杉並高等学校"]
[51216,5,12,"山口","智也","ﾔﾏｸﾞﾁ","ﾄﾓﾔ","YAMAGUCHI","Tomoya","05",2,{"$f":"VLOOKUP(B262*100+C262,氏名データ!$AC$2:$AJ$401,2,0)","v":"都多摩科技"},null,"男",null,51216,"山口","智也","ﾔﾏｸﾞﾁ","ﾄﾓﾔ","YAMAGUCHI","Tomoya","男","05",2,null,130861,"4",461,"都農芸","東京都立農芸高等学校",null,"東京立正高等学校"]
[51217,5,12,"石井","一希","ｲｼｲ","ｶｽﾞｷ","ISHII","Kazuki","07",1,{"$f":"VLOOKUP(B263*100+C263,氏名データ!$AC$2:$AJ$401,2,0)","v":"都多摩科技"},null,"男",null,51217,"石井","一希","ｲｼｲ","ｶｽﾞｷ","ISHII","Kazuki","男","07",1,null,130864,"4",464,"佼成学園","佼成学園高等学校",null,"日本大学第二高等学校"]
[51218,5,12,"神郡","祐紀斗","ｶﾐｺﾞｵﾘ","ﾕｷﾄ","KAMIGORI","Yukito","06",1,{"$f":"VLOOKUP(B264*100+C264,氏名データ!$AC$2:$AJ$401,2,0)","v":"都多摩科技"},null,"男",null,51218,"神郡","祐紀斗","ｶﾐｺﾞｵﾘ","ﾕｷﾄ","KAMIGORI","Yukito","男","06",1,null,130865,"4",465,"國學院久我山","國學院大學久我山高等学校",null,"日本大学鶴ヶ丘高等学校"]
[51219,5,12,"関根","隆寛","ｾｷﾈ","ﾀｶﾋﾛ","SEKINE","Takahiro","06",1,{"$f":"VLOOKUP(B265*100+C265,氏名データ!$AC$2:$AJ$401,2,0)","v":"都多摩科技"},null,"男",null,51219,"関根","隆寛","ｾｷﾈ","ﾀｶﾋﾛ","SEKINE","Takahiro","男","06",1,null,130867,"4",467,"専大附","専修大学附属高等学校",null,"文化学園大学杉並高等学校"]
[51220,5,12,"名執","結稀","ﾅﾄﾘ","ﾕｳｷ","NATORI","Yuki","06",1,{"$f":"VLOOKUP(B266*100+C266,氏名データ!$AC$2:$AJ$401,2,0)","v":"都多摩科技"},null,"男",null,51220,"名執","結稀","ﾅﾄﾘ","ﾕｳｷ","NATORI","Yuki","男","06",1,null,130868,"4",468,"中大杉並","中央大学杉並高等学校",null,"立教女学院高等学校"]
[51221,5,12,"安岡","潤","ﾔｽｵｶ","ｼﾞｭﾝ","YASUOKA","Jun","07",1,{"$f":"VLOOKUP(B267*100+C267,氏名データ!$AC$2:$AJ$401,2,0)","v":"都多摩科技"},null,"男",null,51221,"安岡","潤","ﾔｽｵｶ","ｼﾞｭﾝ","YASUOKA","Jun","男","07",1,null,130869,"4",469,"東京立正","東京立正高等学校",null,"東京都立中央ろう学校"]
[51277,5,12,"上村","鈴","ｶﾐﾑﾗ","ｽｽﾞ","KAMIMURA","Suzu","06",2,{"$f":"VLOOKUP(B268*100+C268,氏名データ!$AC$2:$AJ$401,2,0)","v":"都多摩科技"},null,"女",null,51277,"上村","鈴","ｶﾐﾑﾗ","ｽｽﾞ","KAMIMURA","Suzu","女","06",2,null,130870,"4",470,"日大二","日本大学第二高等学校","高等学校"]
[51278,5,12,"左","菜々美","ﾋﾀﾞﾘ","ﾅﾅﾐ","HIDARI","Nanami","05",2,{"$f":"VLOOKUP(B269*100+C269,氏名データ!$AC$2:$AJ$401,2,0)","v":"都多摩科技"},null,"女",null,51278,"左","菜々美","ﾋﾀﾞﾘ","ﾅﾅﾐ","HIDARI","Nanami","女","05",2,null,130871,"4",471,"日大鶴ヶ丘","日本大学鶴ヶ丘高等学校","高等学校"]
[51323,5,13,"渡辺","倖弘","ﾜﾀﾅﾍﾞ","ﾕｷﾋﾛ","WATANABE","Yukihiro","04",3,{"$f":"VLOOKUP(B270*100+C270,氏名データ!$AC$2:$AJ$401,2,0)","v":"都小金井北"},null,"男",null,51323,"渡辺","倖弘","ﾜﾀﾅﾍﾞ","ﾕｷﾋﾛ","WATANABE","Yukihiro","男","04",3,null,130872,"4",472,"文大杉並","文化学園大学杉並高等学校","高等学校","東京都立武蔵高等学校","東京都武蔵野市境4-13-28","0422-51-4554","0422-51-3966"]
[51324,5,13,"小出","結太郎","ｺｲﾃﾞ","ﾕｳﾀﾛｳ","KOIDE","Yutaro","04",3,{"$f":"VLOOKUP(B271*100+C271,氏名データ!$AC$2:$AJ$401,2,0)","v":"都小金井北"},null,"男",null,51324,"小出","結太郎","ｺｲﾃﾞ","ﾕｳﾀﾛｳ","KOIDE","Yutaro","男","04",3,null,130873,"4",473,"立教女学院","立教女学院高等学校","高等学校","東京都立武蔵野北高等学校","東京都武蔵野市八幡町2-3-10","0422-55-2071","0422-51-4164"]
[51325,5,13,"横山","光","ﾖｺﾔﾏ","ﾋｶﾙ","YOKOYAMA","Hikaru","04",3,{"$f":"VLOOKUP(B272*100+C272,氏名データ!$AC$2:$AJ$401,2,0)","v":"都小金井北"},null,"男",null,51325,"横山","光","ﾖｺﾔﾏ","ﾋｶﾙ","YOKOYAMA","Hikaru","男","04",3,null,130875,"4",475,"都中央ろう","東京都立中央ろう学校","高等学校","聖徳学園高等学校","東京都武蔵野市境南町2-11-8","0422-31-5121","0422-33-9386"]
[51326,5,13,"小林","浩乃","ｺﾊﾞﾔｼ","ﾋﾛﾉ","KOBAYASHI","Hirono","04",3,{"$f":"VLOOKUP(B273*100+C273,氏名データ!$AC$2:$AJ$401,2,0)","v":"都小金井北"},null,"男",null,51326,"小林","浩乃","ｺﾊﾞﾔｼ","ﾋﾛﾉ","KOBAYASHI","Hirono","男","04",3,null,131001,"5",501,"都武蔵","東京都立武蔵高等学校","高等学校","成蹊高等学校","東京都武蔵野市吉祥寺北町3-10-13","0422-37-3818","0422-37-3863"]
[51327,5,13,"谷川","友哉","ﾀﾆｶﾜ","ﾕｳﾔ","TANIKAWA","Yuya","04",3,{"$f":"VLOOKUP(B274*100+C274,氏名データ!$AC$2:$AJ$401,2,0)","v":"都小金井北"},null,"男",null,51327,"谷川","友哉","ﾀﾆｶﾜ","ﾕｳﾔ","TANIKAWA","Yuya","男","04",3,null,131002,"5",502,"都武蔵野北","東京都立武蔵野北高等学校","高等学校","東京都立武蔵高等学校","東京都武蔵野市境4-13-28","0422-51-4554","0422-51-3966"]
[51328,5,13,"當麻","晴大","ﾄｳﾏ","ﾊﾙﾄ","TOMA","Haruto","04",3,{"$f":"VLOOKUP(B275*100+C275,氏名データ!$AC$2:$AJ$401,2,0)","v":"都小金井北"},null,"男",null,51328,"當麻","晴大","ﾄｳﾏ","ﾊﾙﾄ","TOMA","Haruto","男","04",3,null,131003,"5",503,"聖徳学園","聖徳学園高等学校","高等学校","東京都立武蔵野北高等学校","東京都武蔵野市八幡町2-3-10","0422-55-2071","0422-51-4164"]
[51329,5,13,"山崎","和也","ﾔﾏｻﾞｷ","ｶｽﾞﾔ","YAMAZAKI","Kazuya","05",3,{"$f":"VLOOKUP(B276*100+C276,氏名データ!$AC$2:$AJ$401,2,0)","v":"都小金井北"},null,"男",null,51329,"山崎","和也","ﾔﾏｻﾞｷ","ｶｽﾞﾔ","YAMAZAKI","Kazuya","男","05",3,null,131004,"5",504,"成蹊","成蹊高等学校","高等学校","聖徳学園高等学校","東京都武蔵野市境南町2-11-8","0422-31-5121","0422-33-9386"]
[51330,5,13,"平川","功人","ﾋﾗｶﾜ","ﾅﾘﾄ","HIRAKAWA","Narito","05",3,{"$f":"VLOOKUP(B277*100+C277,氏名データ!$AC$2:$AJ$401,2,0)","v":"都小金井北"},null,"男",null,51330,"平川","功人","ﾋﾗｶﾜ","ﾅﾘﾄ","HIRAKAWA","Narito","男","05",3,null,131005,"5",505,"法政","法政大学高等学校","高等学校","成蹊高等学校","東京都武蔵野市吉祥寺北町3-10-13","0422-37-3818","0422-37-3863"]
[51331,5,13,"齋藤","佑太","ｻｲﾄｳ","ﾕｳﾀ","SAITO","Yuta","04",3,{"$f":"VLOOKUP(B278*100+C278,氏名データ!$AC$2:$AJ$401,2,0)","v":"都小金井北"},null,"男",null,51331,"齋藤","佑太","ｻｲﾄｳ","ﾕｳﾀ","SAITO","Yuta","男","04",3,null,{"$f":"130000+AB278*100+AC278","v":131006},"5",506,"藤村女","藤村女子高等学校","高等学校","法政大学高等学校","東京都三鷹市牟礼4-3-1","0422-79-6245","0422-79-6261"]
[51332,5,13,"成田","蓮","ﾅﾘﾀ","ﾚﾝ","NARITA","Ren","04",3,{"$f":"VLOOKUP(B279*100+C279,氏名データ!$AC$2:$AJ$401,2,0)","v":"都小金井北"},null,"男",null,51332,"成田","蓮","ﾅﾘﾀ","ﾚﾝ","NARITA","Ren","男","04",3,null,131007,"5",507,"吉祥女","吉祥女子高等学校","学校","藤村女子高等学校","東京都武蔵野市吉祥寺本町 2-16-3","0422-22-1266","0422-22-7680"]
[51334,5,13,"貝沼","優空","ｶｲﾇﾏ","ﾕｳｱ","KAINUMA","Yua","05",2,{"$f":"VLOOKUP(B280*100+C280,氏名データ!$AC$2:$AJ$401,2,0)","v":"都小金井北"},null,"男",null,51334,"貝沼","優空","ｶｲﾇﾏ","ﾕｳｱ","KAINUMA","Yua","男","05",2,null,131008,"5",508,"武蔵野東高専","武蔵野東高等専修学校","中等教育学校","吉祥女子高等学校","東京都武蔵野市吉祥寺東町4-12-20","0422-22-8117","0422-22-9752"]
[51335,5,13,"馬越","晴大","ｳﾏｺｼ","ﾊﾙﾄ","UMAKOSHI","Haruto","05",2,{"$f":"VLOOKUP(B281*100+C281,氏名データ!$AC$2:$AJ$401,2,0)","v":"都小金井北"},null,"男",null,51335,"馬越","晴大","ｳﾏｺｼ","ﾊﾙﾄ","UMAKOSHI","Haruto","男","05",2,null,131009,"5",509,"都三鷹中等","東京都立三鷹中等教育学校","高等学校","武蔵野東高等専修学校","東京都武蔵野市西久保3-25-3","0422-54-8611","0422-51-0267"]
[51336,5,13,"山崎","太哉","ﾔﾏｻｷ","ﾀﾞｲﾔ","YAMASAKI","Daiya","05",2,{"$f":"VLOOKUP(B282*100+C282,氏名データ!$AC$2:$AJ$401,2,0)","v":"都小金井北"},null,"男",null,51336,"山崎","太哉","ﾔﾏｻｷ","ﾀﾞｲﾔ","YAMASAKI","Daiya","男","05",2,null,131010,"5",510,"大成","大成高等学校","高等学校","東京都立三鷹中等教育学校","東京都三鷹市新川6-21-21","0422-46-4181","0422-49-8429"]
[51337,5,13,"森田","海斗","ﾓﾘﾀ","ｶｲﾄ","MORITA","Kaito","06",2,{"$f":"VLOOKUP(B283*100+C283,氏名データ!$AC$2:$AJ$401,2,0)","v":"都小金井北"},null,"男",null,51337,"森田","海斗","ﾓﾘﾀ","ｶｲﾄ","MORITA","Kaito","男","06",2,null,131011,"5",511,"明星学園","明星学園高等学校","高等学校","大成高等学校","東京都三鷹市上連雀6-7-5","0422-43-3196","0422-47-6302"]
[51338,5,13,"夏井","和俊","ﾅﾂｲ","ｶｽﾞﾄｼ","NATSUI","Kazutoshi","05",2,{"$f":"VLOOKUP(B284*100+C284,氏名データ!$AC$2:$AJ$401,2,0)","v":"都小金井北"},null,"男",null,51338,"夏井","和俊","ﾅﾂｲ","ｶｽﾞﾄｼ","NATSUI","Kazutoshi","男","05",2,null,131012,"5",512,"都多摩科技","東京都立多摩科学技術高等学校","高等学校","明星学園高等学校","東京都三鷹市牟礼4-15-22","0422-48-6221","0422-41-6091"]
[51339,5,13,"平塚","晴貴","ﾋﾗﾂｶ","ﾊﾙｷ","HIRATSUKA","Haruki","05",3,{"$f":"VLOOKUP(B285*100+C285,氏名データ!$AC$2:$AJ$401,2,0)","v":"都小金井北"},null,"男",null,51339,"平塚","晴貴","ﾋﾗﾂｶ","ﾊﾙｷ","HIRATSUKA","Haruki","男","05",3,null,131013,"5",513,"都小金井北","東京都立小金井北高等学校","高等学校","東京都立多摩科学技術高等学校","東京都小金井市本町6-8-9","042-381-4164","042-381-4169"]
[51340,5,13,"田中","秀哉","ﾀﾅｶ","ｼｭｳ","TANAKA","Shu","06",1,{"$f":"VLOOKUP(B286*100+C286,氏名データ!$AC$2:$AJ$401,2,0)","v":"都小金井北"},null,"男",null,51340,"田中","秀哉","ﾀﾅｶ","ｼｭｳ","TANAKA","Shu","男","06",1,null,131014,"5",514,"ICU","国際基督教大学高等学校","高等学校","東京都立小金井北高等学校","東京都小金井市緑町4-1-1","042-385-2611","042-382-9522"]
[51341,5,13,"加藤","広夢","ｶﾄｳ","ﾋﾛﾑ","KATO","Hiromu","06",1,{"$f":"VLOOKUP(B287*100+C287,氏名データ!$AC$2:$AJ$401,2,0)","v":"都小金井北"},null,"男",null,51341,"加藤","広夢","ｶﾄｳ","ﾋﾛﾑ","KATO","Hiromu","男","06",1,null,131015,"5",515,"中大附","中央大学附属高等学校","高等学校","国際基督教大学高等学校","東京都小金井市東町1-1-1","0422-33-3407","0422-33-3376"]
[51342,5,13,"枦山","祥弥","ﾊｾﾞﾔﾏ","ｼｮｳﾔ","HAZEYAMA","Shoya","06",1,{"$f":"VLOOKUP(B288*100+C288,氏名データ!$AC$2:$AJ$401,2,0)","v":"都小金井北"},null,"男",null,51342,"枦山","祥弥","ﾊｾﾞﾔﾏ","ｼｮｳﾔ","HAZEYAMA","Shoya","男","06",1,null,131016,"5",516,"東京電機大","東京電機大学高等学校","高等学校","中央大学附属高等学校","東京都小金井市貫井北町3-22-1","042-381-5413","042-381-5413"]
[51343,5,13,"粕谷","空楽","ｶｽﾔ","ｿﾗ","KASUYA","Sora","06",1,{"$f":"VLOOKUP(B289*100+C289,氏名データ!$AC$2:$AJ$401,2,0)","v":"都小金井北"},null,"男",null,51343,"粕谷","空楽","ｶｽﾔ","ｿﾗ","KASUYA","Sora","男","06",1,null,131017,"5",517,"都小川","東京都立小川高等学校","高等学校","東京電機大学高等学校","東京都小金井市 梶野町4-8-1","0422-37-6441","0422-37-6599"]
[51344,5,13,"今泉","太希","ｲﾏｲｽﾞﾐ","ﾀｲｷ","IMAIZUMI","Taiki","06",1,{"$f":"VLOOKUP(B290*100+C290,氏名データ!$AC$2:$AJ$401,2,0)","v":"都小金井北"},null,"男",null,51344,"今泉","太希","ｲﾏｲｽﾞﾐ","ﾀｲｷ","IMAIZUMI","Taiki","男","06",1,null,131019,"5",519,"都成瀬","東京都立成瀬高等学校","高等学校","東京都立小川高等学校","東京都町田市小川2-1002-1","042-796-9301","042-799-2765"]
[51345,5,13,"藤原","光希","ﾌｼﾞﾜﾗ","ｺｳｷ","FUZIWARA","Kouki","07",1,{"$f":"VLOOKUP(B291*100+C291,氏名データ!$AC$2:$AJ$401,2,0)","v":"都小金井北"},null,"男",null,51345,"藤原","光希","ﾌｼﾞﾜﾗ","ｺｳｷ","FUZIWARA","Kouki","男","07",1,null,131020,"5",520,"都町田","東京都立町田高等学校","高等学校","東京都立成瀬高等学校","東京都町田市成瀬7-4-1","042-725-1533","042-724-1336"]
[51351,5,13,"加川","優里","ｶｶﾞﾜ","ﾕﾘ","KAGAWA","Yuri","04",3,{"$f":"VLOOKUP(B292*100+C292,氏名データ!$AC$2:$AJ$401,2,0)","v":"都小金井北"},null,"女",null,51351,"加川","優里","ｶｶﾞﾜ","ﾕﾘ","KAGAWA","Yuri","女","04",3,null,131021,"5",521,"都野津田","東京都立野津田高等学校","高等学校","東京都立町田高等学校","東京都町田市中町4-25-3","042-722-2201","042-724-1330"]
[51352,5,13,"白岩","なつ美","ｼﾗｲﾜ","ﾅﾂﾐ","SHIRAIWA","Natsumi","05",2,{"$f":"VLOOKUP(B293*100+C293,氏名データ!$AC$2:$AJ$401,2,0)","v":"都小金井北"},null,"女",null,51352,"白岩","なつ美","ｼﾗｲﾜ","ﾅﾂﾐ","SHIRAIWA","Natsumi","女","05",2,null,131022,"5",522,"都山崎","東京都立山崎高等学校","高等学校","東京都立野津田高等学校","東京都町田市野津田町2001","042-734-2311","042-734-9388"]
[51353,5,13,"橋本","小萩","ﾊｼﾓﾄ","ｺﾊｷﾞ","HASHIMOTO","Kohagi","05",2,{"$f":"VLOOKUP(B294*100+C294,氏名データ!$AC$2:$AJ$401,2,0)","v":"都小金井北"},null,"女",null,51353,"橋本","小萩","ﾊｼﾓﾄ","ｺﾊｷﾞ","HASHIMOTO","Kohagi","女","05",2,null,131023,"5",523,"都町田工","東京都立町田工業高等学校","高等学校","東京都立山崎高等学校","東京都町田市山崎町1453-1","042-792-2891","042-794-0440"]
[51397,5,13,"堀江","鈴","ﾎﾘｴ","ｽｽﾞ","HORIE","Suzu","05",3,{"$f":"VLOOKUP(B295*100+C295,氏名データ!$AC$2:$AJ$401,2,0)","v":"都小金井北"},null,"女",null,51397,"堀江","鈴","ﾎﾘｴ","ｽｽﾞ","HORIE","Suzu","女","05",3,null,131024,"5",524,"桜美林","桜美林高等学校","高等部","東京都立町田工業高等学校","東京都町田市忠生1-20-2","042-791-1035","042-794-0443"]
[51398,5,13,"秋場","水玖","ｱｷﾊﾞ","ﾐｸ","AKIBA","Miku","04",3,{"$f":"VLOOKUP(B296*100+C296,氏名データ!$AC$2:$AJ$401,2,0)","v":"都小金井北"},null,"女",null,51398,"秋場","水玖","ｱｷﾊﾞ","ﾐｸ","AKIBA","Miku","女","04",3,null,131025,"5",525,"玉川学園","玉川学園高等部","高等学校","桜美林高等学校","東京都町田市常磐町3758","042-797-2667","042-797-3432"]
[51401,5,14,"川本","陽太","ｶﾜﾓﾄ","ﾖｳﾀ","KAWAMOTO","Yota","05",3,{"$f":"VLOOKUP(B297*100+C297,氏名データ!$AC$2:$AJ$401,2,0)","v":"ICU"},null,"男",null,51401,"川本","陽太","ｶﾜﾓﾄ","ﾖｳﾀ","KAWAMOTO","Yota","男","05",3,null,131026,"5",526,"日大三","日本大学第三高等学校","高等学校","玉川学園高等部","東京都町田市玉川学園6-1-1","042-739-8533","042-739-8544"]
[51403,5,14,"鈴木","豪一","ｽｽﾞｷ","ｺﾞｳｲﾁ","SUZUKI","Goichi","04",3,{"$f":"VLOOKUP(B298*100+C298,氏名データ!$AC$2:$AJ$401,2,0)","v":"ICU"},null,"男",null,51403,"鈴木","豪一","ｽｽﾞｷ","ｺﾞｳｲﾁ","SUZUKI","Goichi","男","04",3,null,131028,"5",528,"和光","和光高等学校","高等学校","日本大学第三高等学校","東京都町田市図師町11-2375","042-789-5535","042-793-2134"]
[51404,5,14,"早瀬","二郎","ﾊﾔｾ","ｼﾞﾛｳ","HAYASE","Jiro","05",2,{"$f":"VLOOKUP(B299*100+C299,氏名データ!$AC$2:$AJ$401,2,0)","v":"ICU"},null,"男",null,51404,"早瀬","二郎","ﾊﾔｾ","ｼﾞﾛｳ","HAYASE","Jiro","男","05",2,null,131029,"5",529,"都永山","東京都立永山高等学校","学校","和光高等学校","東京都町田市真光寺町1291","042-734-3403","042-734-3410"]
[51405,5,14,"西村","真","ﾆｼﾑﾗ","ｼﾝ","NISHIMURA","Shin","06",1,{"$f":"VLOOKUP(B300*100+C300,氏名データ!$AC$2:$AJ$401,2,0)","v":"ICU"},null,"男",null,51405,"西村","真","ﾆｼﾑﾗ","ｼﾝ","NISHIMURA","Shin","男","06",1,null,131030,"5",530,"サレジオ高専","サレジオ工業高等専門学校","高等学校","東京都立永山高等学校","東京都多摩市永山5-22","042-372-9891","042-372-5615"]
[51406,5,14,"石割","颯真","ｲｼﾜﾘ","ｿｳﾏ","ISHIWARI","Soma","05",2,{"$f":"VLOOKUP(B301*100+C301,氏名データ!$AC$2:$AJ$401,2,0)","v":"ICU"},null,"男",null,51406,"石割","颯真","ｲｼﾜﾘ","ｿｳﾏ","ISHIWARI","Soma","男","05",2,null,131031,"5",531,"大妻多摩","大妻多摩高等学校","高等学校","サレジオ工業高等専門学校","東京都町田市小山ヶ丘4-6-8","042-775-3020","042-775-3021"]
[51457,5,14,"津田","真結理","ﾂﾀﾞ","ﾏﾕﾘ","TSUDA","Mayuri","04",3,{"$f":"VLOOKUP(B302*100+C302,氏名データ!$AC$2:$AJ$401,2,0)","v":"ICU"},null,"女",null,51457,"津田","真結理","ﾂﾀﾞ","ﾏﾕﾘ","TSUDA","Mayuri","女","04",3,null,131032,"5",532,"多摩大聖ヶ丘","多摩大学附属聖ヶ丘高等学校","高等学校","大妻多摩高等学校","東京都多摩市唐木田2-7-1","042-372-9113","042-372-9986"]
[51458,5,14,"岩澤","愛莉","ｲﾜｻﾜ","ｱｲﾘ","IWASAWA","Airi","06",2,{"$f":"VLOOKUP(B303*100+C303,氏名データ!$AC$2:$AJ$401,2,0)","v":"ICU"},null,"女",null,51458,"岩澤","愛莉","ｲﾜｻﾜ","ｱｲﾘ","IWASAWA","Airi","女","06",2,null,131034,"5",534,"都神代","東京都立神代高等学校","高等学校","多摩大学附属聖ヶ丘高等学校","東京都多摩市聖ヶ丘4-1-1","042-372-9393","042-337-1761"]
[51459,5,14,"武田","優衣","ﾀｹﾀﾞ","ﾕｲ","TAKEDA","Yui","06",1,{"$f":"VLOOKUP(B304*100+C304,氏名データ!$AC$2:$AJ$401,2,0)","v":"ICU"},null,"女",null,51459,"武田","優衣","ﾀｹﾀﾞ","ﾕｲ","TAKEDA","Yui","女","06",1,null,131035,"5",535,"都調布北","東京都立調布北高等学校","高等学校","東京都立神代高等学校","東京都調布市若葉町1-46-1","03-3300-8261","03-3300-5170"]
[51460,5,14,"夛田","陽香","ﾀﾀﾞ","ﾊﾙｶ","TADA","Haruka","06",1,{"$f":"VLOOKUP(B305*100+C305,氏名データ!$AC$2:$AJ$401,2,0)","v":"ICU"},null,"女",null,51460,"夛田","陽香","ﾀﾀﾞ","ﾊﾙｶ","TADA","Haruka","女","06",1,null,131036,"5",536,"都調布南","東京都立調布南高等学校","高等学校","東京都立調布北高等学校","東京都調布市深大寺北町5-39-1","042-487-1860","042-483-7081"]
[51461,5,14,"松澤","晴菜","ﾏﾂｻﾞﾜ","ﾊﾙﾅ","MATSUZAWA","Haruna","07",1,{"$f":"VLOOKUP(B306*100+C306,氏名データ!$AC$2:$AJ$401,2,0)","v":"ICU"},null,"女",null,51461,"松澤","晴菜","ﾏﾂｻﾞﾜ","ﾊﾙﾅ","MATSUZAWA","Haruna","女","07",1,null,131037,"5",537,"桐朋女","桐朋女子高等学校","高等学校","東京都立調布南高等学校","東京都調布市多摩川6-1-1","042-483-6765","042-483-7091"]
[51462,5,14,"川村","菜々花","ｶﾜﾑﾗ","ﾅﾅｶ","KAWAMURA","Nanaka","06",1,{"$f":"VLOOKUP(B307*100+C307,氏名データ!$AC$2:$AJ$401,2,0)","v":"ICU"},null,"女",null,51462,"川村","菜々花","ｶﾜﾑﾗ","ﾅﾅｶ","KAWAMURA","Nanaka","女","06",1,null,131038,"5",538,"晃華学園","晃華学園高等学校","高等学校","桐朋女子高等学校","東京都調布市若葉町1-41-1","03-3300-2111","03-3300-2112"]
[51516,5,15,"中瀬","桜嘉","ﾅｶｾ","ｵｳｶ","NAKASE","Ouka","04",3,{"$f":"VLOOKUP(B308*100+C308,氏名データ!$AC$2:$AJ$401,2,0)","v":"中大附"},null,"男",null,51516,"中瀬","桜嘉","ﾅｶｾ","ｵｳｶ","NAKASE","Ouka","男","04",3,null,131039,"5",539,"都狛江","東京都立狛江高等学校","高等学校","晃華学園高等学校","東京都調布市佐須町5-28-1","042-487-0697","042-483-1731"]
[51517,5,15,"髙木","悠人","ﾀｶｷﾞ","ﾕｳﾄ","TAKAGI","Yuto","05",3,{"$f":"VLOOKUP(B309*100+C309,氏名データ!$AC$2:$AJ$401,2,0)","v":"中大附"},null,"男",null,51517,"髙木","悠人","ﾀｶｷﾞ","ﾕｳﾄ","TAKAGI","Yuto","男","05",3,null,131040,"5",540,"都若葉総合","東京都立若葉総合高等学校","高等学校","東京都立狛江高等学校","東京都狛江市元和泉3-9-8","03-3489-2241","03-3489-9312"]
[51518,5,15,"脇若","征那","ﾜｷﾜｶ","ｾﾅ","WAKIWAKA","Sena","05",3,{"$f":"VLOOKUP(B310*100+C310,氏名データ!$AC$2:$AJ$401,2,0)","v":"中大附"},null,"男",null,51518,"脇若","征那","ﾜｷﾜｶ","ｾﾅ","WAKIWAKA","Sena","男","05",3,null,131041,"5",541,"駒沢女","駒沢学園女子高等学校","高等学校","東京都立若葉総合高等学校","東京都稲城市坂浜1434-3","042-350-0300","042-350-0303"]
[51519,5,15,"宮﨑","啓陽","ﾐﾔｻﾞｷ","ﾋﾛﾔ","MIYAZAKI","Hiroya","05",3,{"$f":"VLOOKUP(B311*100+C311,氏名データ!$AC$2:$AJ$401,2,0)","v":"中大附"},null,"男",null,51519,"宮﨑","啓陽","ﾐﾔｻﾞｷ","ﾋﾛﾔ","MIYAZAKI","Hiroya","男","05",3,null,131042,"5",542,"都田無","東京都立田無高等学校","高等学校","駒沢学園女子高等学校","東京都稲城市坂浜238","042-350-7123","042-350-7188"]
[51520,5,15,"木村","優斗","ｷﾑﾗ","ﾕｳﾄ","KIMURA","Yuto","05",2,{"$f":"VLOOKUP(B312*100+C312,氏名データ!$AC$2:$AJ$401,2,0)","v":"中大附"},null,"男",null,51520,"木村","優斗","ｷﾑﾗ","ﾕｳﾄ","KIMURA","Yuto","男","05",2,null,131043,"5",543,"都田無工","東京都立田無工業高等学校","高等学校","東京都立田無高等学校","東京都西東京市向台町5-4-34","042-463-8511","042-467-5534"]
[51521,5,15,"小池","颯一郎","ｺｲｹ","ｿｳｲﾁﾛｳ","KOIKE","Soichiro","05",2,{"$f":"VLOOKUP(B313*100+C313,氏名データ!$AC$2:$AJ$401,2,0)","v":"中大附"},null,"男",null,51521,"小池","颯一郎","ｺｲｹ","ｿｳｲﾁﾛｳ","KOIKE","Soichiro","男","05",2,null,131045,"5",545,"都府中","東京都立府中高等学校","高等学校","東京都立田無工業高等学校","東京都西東京市向台町1-9-1","042-464-2225","042-467-5532"]
[51522,5,15,"砂川","陽音","ｽﾅｶﾞﾜ","ﾊﾙﾄ","SUNAGAWA","Haruto","05",2,{"$f":"VLOOKUP(B314*100+C314,氏名データ!$AC$2:$AJ$401,2,0)","v":"中大附"},null,"男",null,51522,"砂川","陽音","ｽﾅｶﾞﾜ","ﾊﾙﾄ","SUNAGAWA","Haruto","男","05",2,null,131046,"5",546,"都府中東","東京都立府中東高等学校","高等学校","東京都立府中高等学校","東京都府中市栄町3-3-1","042-364-8411","042-360-0064"]
[51524,5,15,"福田","崚介","ﾌｸﾀﾞ","ﾘｮｳｽｹ","FUKUDA","Ryosuke","06",1,{"$f":"VLOOKUP(B315*100+C315,氏名データ!$AC$2:$AJ$401,2,0)","v":"中大附"},null,"男",null,51524,"福田","崚介","ﾌｸﾀﾞ","ﾘｮｳｽｹ","FUKUDA","Ryosuke","男","06",1,null,131047,"5",547,"都府中西","東京都立府中西高等学校","高等学校","東京都立府中東高等学校","東京都府中市押立町4-21","042-365-7611","042-369-8506"]
[51525,5,15,"國分","聡太","ｺｸﾌﾞﾝ","ｿｳﾀ","KOKUBUN","Sota","06",1,{"$f":"VLOOKUP(B316*100+C316,氏名データ!$AC$2:$AJ$401,2,0)","v":"中大附"},null,"男",null,51525,"國分","聡太","ｺｸﾌﾞﾝ","ｿｳﾀ","KOKUBUN","Sota","男","06",1,null,131048,"5",548,"都府中工","東京都立府中工業高等学校","高等学校","東京都立府中西高等学校","東京都府中市4-6-7","042-365-5933","042-360-4603"]
[51526,5,15,"西川","友優","ﾆｼｶﾜ","ﾄﾓﾋﾛ","NISHIKAWA","Tomohiro","06",1,{"$f":"VLOOKUP(B317*100+C317,氏名データ!$AC$2:$AJ$401,2,0)","v":"中大附"},null,"男",null,51526,"西川","友優","ﾆｼｶﾜ","ﾄﾓﾋﾛ","NISHIKAWA","Tomohiro","男","06",1,null,131049,"5",549,"都農業","東京都立農業高等学校","高等学校","東京都立府中工業高等学校","東京都府中市若松町2-19","042-362-7237","042-369-8445"]
[51527,5,15,"前野","良太","ﾏｴﾉ","ﾘｮｳﾀ","MAENO","Ryota","07",1,{"$f":"VLOOKUP(B318*100+C318,氏名データ!$AC$2:$AJ$401,2,0)","v":"中大附"},null,"男",null,51527,"前野","良太","ﾏｴﾉ","ﾘｮｳﾀ","MAENO","Ryota","男","07",1,null,131050,"5",550,"明星","明星高等学校","高等学校","東京都立農業高等学校"]
[51528,5,15,"松浦","倫士","ﾏﾂｳﾗ","ﾘﾝﾄ","MATSUURA","Rinto","07",1,{"$f":"VLOOKUP(B319*100+C319,氏名データ!$AC$2:$AJ$401,2,0)","v":"中大附"},null,"男",null,51528,"松浦","倫士","ﾏﾂｳﾗ","ﾘﾝﾄ","MATSUURA","Rinto","男","07",1,null,131052,"5",552,"都保谷","東京都立保谷高等学校","高等学校","明星高等学校","東京都府中市栄町1-1","042-368-5115","042-364-6761"]
[51529,5,15,"大島","航太","ｵｵｼﾏ","ｺｳﾀ","OOSHIMA","Kouta","06",1,{"$f":"VLOOKUP(B320*100+C320,氏名データ!$AC$2:$AJ$401,2,0)","v":"中大附"},null,"男",null,51529,"大島","航太","ｵｵｼﾏ","ｺｳﾀ","OOSHIMA","Kouta","男","06",1,null,131053,"5",553,"武蔵野大","武蔵野大学高等学校","高等学校","東京都立保谷高等学校","東京都西東京市住吉町５－８－２３","042-422-3223","042-423-9631"]
[51583,5,15,"小林","優真","ｺﾊﾞﾔｼ","ﾕﾐ","KOBAYASHI","Yumi","04",3,{"$f":"VLOOKUP(B321*100+C321,氏名データ!$AC$2:$AJ$401,2,0)","v":"中大附"},null,"女",null,51583,"小林","優真","ｺﾊﾞﾔｼ","ﾕﾐ","KOBAYASHI","Yumi","女","04",3,null,131054,"5",554,"都清瀬","東京都立清瀬高等学校","高等学校","武蔵野大学高等学校","東京都西東京市新町1-1-20","042-468-3265","042-468-6633"]
[51584,5,15,"髙岡","里帆","ﾀｶｵｶ","ﾘﾎ","TAKAOKA","Riho","04",3,{"$f":"VLOOKUP(B322*100+C322,氏名データ!$AC$2:$AJ$401,2,0)","v":"中大附"},null,"女",null,51584,"髙岡","里帆","ﾀｶｵｶ","ﾘﾎ","TAKAOKA","Riho","女","04",3,null,131057,"5",557,"都東久留米総","東京都立東久留米総合高等学校","高等学校","東京都立清瀬高等学校","東京都清瀬市松山3-1-56","042-492-3500","042-491-9491"]
[{"$f":"P323","v":51586},{"$f":"ROUNDDOWN(A323/10000,0)","v":5},{"$f":"ROUNDDOWN((A323-B323*10000)/100,0)","v":15},{"$f":"Q323","v":"内藤"},{"$f":"R323","v":"あさひ"},{"$f":"S323","v":"ﾅｲﾄｳ"},{"$f":"T323","v":"ｱｻﾋ"},{"$f":"U323","v":"NAITO"},{"$f":"V323","v":"Asahi"},{"$f":"X323","v":"05"},{"$f":"Y323","v":3},{"$f":"VLOOKUP(B323*100+C323,氏名データ!$AC$2:$AJ$401,2,0)","v":"中大附"},null,{"$f":"W323","v":"女"},null,51586,"内藤","あさひ","ﾅｲﾄｳ","ｱｻﾋ","NAITO","Asahi","女","05",3,null,131058,{"$f":"LEFT(AC323,1)","v":"5"},558,"都久留米西","東京都立久留米西高等学校","高等学校","東京都立東久留米総合高等学校","東京都東久留米市幸町５－８－４６","042-451-2510","042-475-8400"]
[51587,5,15,"足立","菜々香","ｱﾀﾞﾁ","ﾅﾅｶ","ADACHI","Nanaka","05",2,{"$f":"VLOOKUP(B324*100+C324,氏名データ!$AC$2:$AJ$401,2,0)","v":"中大附"},null,"女",null,51587,"足立","菜々香","ｱﾀﾞﾁ","ﾅﾅｶ","ADACHI","Nanaka","女","05",2,null,131060,"5",560,"都国立","東京都立国立高等学校","高等学校","東京都立久留米西高等学校","東京都東久留米市野火止2-1-44","042-474-2661","042-475-9002"]
[51720,5,17,"依田","颯","ﾖﾀﾞ","ﾊﾔﾃ","YODA","Hayate","05",3,{"$f":"VLOOKUP(B325*100+C325,氏名データ!$AC$2:$AJ$401,2,0)","v":"都小川"},null,"男",null,51720,"依田","颯","ﾖﾀﾞ","ﾊﾔﾃ","YODA","Hayate","男","05",3,null,131061,"5",561,"都五商","東京都立第五商業高等学校","高等学校","東京都立国立高等学校","東京都国立市東4-25-1","042-575-0126","042-573-9609"]
[51722,5,17,"中村","翔","ﾅｶﾑﾗ","ｼｮｳ","NAKAMURA","Sho","04",3,{"$f":"VLOOKUP(B326*100+C326,氏名データ!$AC$2:$AJ$401,2,0)","v":"都小川"},null,"男",null,51722,"中村","翔","ﾅｶﾑﾗ","ｼｮｳ","NAKAMURA","Sho","男","04",3,null,131062,"5",562,"桐朋","桐朋高等学校","高等学校","東京都立第五商業高等学校","東京都国立市中3-4","042-572-0132","042-573-8794"]
[51723,5,17,"村田","流星","ﾑﾗﾀ","ﾘｭｳｾｲ","MURATA","Ryusei","05",3,{"$f":"VLOOKUP(B327*100+C327,氏名データ!$AC$2:$AJ$401,2,0)","v":"都小川"},null,"男",null,51723,"村田","流星","ﾑﾗﾀ","ﾘｭｳｾｲ","MURATA","Ryusei","男","05",3,null,131063,"5",563,"都日野","東京都立日野高等学校","高等学校","桐朋高等学校","東京都国立市中3-1-10","042-577-2171","042-573-8144"]
[51725,5,17,"高橋","快徳","ﾀｶﾊｼ","ﾖｼﾉﾘ","TAKAHASHI","Yoshinori","05",2,{"$f":"VLOOKUP(B328*100+C328,氏名データ!$AC$2:$AJ$401,2,0)","v":"都小川"},null,"男",null,51725,"高橋","快徳","ﾀｶﾊｼ","ﾖｼﾉﾘ","TAKAHASHI","Yoshinori","男","05",2,null,131064,"5",564,"都日野台","東京都立日野台高等学校","高等学校","東京都立日野高等学校","東京都日野市石田1-190-1","042-581-7123","042-581-5835"]
[51726,5,17,"堀井","一斗","ﾎﾘｲ","ｶｽﾞﾄ","HORII","Kazuto","05",2,{"$f":"VLOOKUP(B329*100+C329,氏名データ!$AC$2:$AJ$401,2,0)","v":"都小川"},null,"男",null,51726,"堀井","一斗","ﾎﾘｲ","ｶｽﾞﾄ","HORII","Kazuto","男","05",2,null,131065,"5",565,"都南平","東京都立南平高等学校","高等学校","東京都立日野台高等学校","東京都日野市大坂上4-16-1","042-582-2511","042-581-5035"]
[51727,5,17,"久野","陽貴","ｸﾉ","ﾊﾙｷ","KUNO","Haruki","05",2,{"$f":"VLOOKUP(B330*100+C330,氏名データ!$AC$2:$AJ$401,2,0)","v":"都小川"},null,"男",null,51727,"久野","陽貴","ｸﾉ","ﾊﾙｷ","KUNO","Haruki","男","05",2,null,131067,"5",567,"都国分寺","東京都立国分寺高等学校","高等部","東京都立南平高等学校","東京都日野市南平8-2-3","042-593-5121","042-593-1442"]
[51729,5,17,"平田","哲太","ﾋﾗﾀ","ﾃｯﾀ","HIRATA","Tetta","07",1,{"$f":"VLOOKUP(B331*100+C331,氏名データ!$AC$2:$AJ$401,2,0)","v":"都小川"},null,"男",null,51729,"平田","哲太","ﾋﾗﾀ","ﾃｯﾀ","HIRATA","Tetta","男","07",1,null,131068,"5",568,"早稲田実","早稲田実業学校高等部","高等学校","東京都立国分寺高等学校","東京都国分寺市新町3-2-5","042-323-3371","042-325-9833"]
[51730,5,17,"秋山","准","ｱｷﾔﾏ","ｼﾞｭﾝ","AKIYAMA","Jun","06",1,{"$f":"VLOOKUP(B332*100+C332,氏名データ!$AC$2:$AJ$401,2,0)","v":"都小川"},null,"男",null,51730,"秋山","准","ｱｷﾔﾏ","ｼﾞｭﾝ","AKIYAMA","Jun","男","06",1,null,131069,"5",569,"明大明治","明治大学付属明治高等学校","高等学校","早稲田実業学校高等部","東京都国分寺市本町1-2-1","042-300-2121","042-300-1123"]
[51731,5,17,"斉藤","祁音","ｻｲﾄｳ","ｼｵﾝ","SAITO","Shion","06",1,{"$f":"VLOOKUP(B333*100+C333,氏名データ!$AC$2:$AJ$401,2,0)","v":"都小川"},null,"男",null,51731,"斉藤","祁音","ｻｲﾄｳ","ｼｵﾝ","SAITO","Shion","男","06",1,null,131070,"5",570,"都町田総合","東京都立町田総合高等学校","中等教育学校","明治大学付属明治高等学校","東京都調布市富士見町4-23-25","042-444-9100","042-498-7801"]
[51732,5,17,"石岡","耀宏","ｲｼｵｶ","ｱｷﾋﾛ","ISHIOKA","Akihuro","06",1,{"$f":"VLOOKUP(B334*100+C334,氏名データ!$AC$2:$AJ$401,2,0)","v":"都小川"},null,"男",null,51732,"石岡","耀宏","ｲｼｵｶ","ｱｷﾋﾛ","ISHIOKA","Akihuro","男","06",1,null,131071,"5",571,"ドルトン東京","ドルトン東京学園高等部","高等学校","東京都立町田総合高等学校","東京都町田市木曽西3-5-1","042-791-7980","042-791-8063"]
[51733,5,17,"山本","優貴","ﾔﾏﾓﾄ","ﾕｳｷ","YAMAMOTO","Yuki","06",1,{"$f":"VLOOKUP(B335*100+C335,氏名データ!$AC$2:$AJ$401,2,0)","v":"都小川"},null,"男",null,51733,"山本","優貴","ﾔﾏﾓﾄ","ﾕｳｷ","YAMAMOTO","Yuki","男","06",1,null,131201,"6",601,"都立川国際","東京都立立川国際中等教育学校","高等学校","東京都立立川ろう学校","東京都立川市栄町1-15-7","042-523-1356","042-523-6421"]
[51734,5,17,"山口","真","ﾔﾏｸﾞﾁ","ｼﾝ","YAMAGUCHI","Shin","06",1,{"$f":"VLOOKUP(B336*100+C336,氏名データ!$AC$2:$AJ$401,2,0)","v":"都小川"},null,"男",null,51734,"山口","真","ﾔﾏｸﾞﾁ","ｼﾝ","YAMAGUCHI","Shin","男","06",1,null,131202,"6",602,"都砂川","東京都立砂川高等学校","高等学校","昭和第一学園高等学校","東京都立川市栄町2-45-8","042-536-1611","042-537-6880"]
[51759,5,17,"大沢","亜弥","ｵｵｻﾜ","ｱﾔ","OSAWA","Aya","04",3,{"$f":"VLOOKUP(B337*100+C337,氏名データ!$AC$2:$AJ$401,2,0)","v":"都小川"},null,"女",null,51759,"大沢","亜弥","ｵｵｻﾜ","ｱﾔ","OSAWA","Aya","女","04",3,null,131203,"6",603,"都立川","東京都立立川高等学校","高等学校","立川女子高等学校"]
[51760,5,17,"長澤","実乃里","ﾅｶﾞｻﾜ","ﾐﾉﾘ","NAGASAWA","Minori","04",3,{"$f":"VLOOKUP(B338*100+C338,氏名データ!$AC$2:$AJ$401,2,0)","v":"都小川"},null,"女",null,51760,"長澤","実乃里","ﾅｶﾞｻﾜ","ﾐﾉﾘ","NAGASAWA","Minori","女","04",3,null,131204,"6",604,"都立川学園","東京都立立川学園","高等学校","東京都立片倉高等学校","東京都八王子市片倉町1643","042-635-3621","042-635-0682"]
[51761,5,17,"藤本","芽生","ﾌｼﾞﾓﾄ","ﾒｲ","FUJIMOTO","Mei","04",3,{"$f":"VLOOKUP(B339*100+C339,氏名データ!$AC$2:$AJ$401,2,0)","v":"都小川"},null,"女",null,51761,"藤本","芽生","ﾌｼﾞﾓﾄ","ﾒｲ","FUJIMOTO","Mei","女","04",3,null,131205,"6",605,"昭和一学園","昭和第一学園高等学校","高等学校","東京都立翔陽高等学校","東京都八王子市館町1097-136","042-663-3318","042-663-3362"]
[51762,5,17,"永井","若奈","ﾅｶﾞｲ","ﾜｶﾅ","NAGAI","Wakana","04",3,{"$f":"VLOOKUP(B340*100+C340,氏名データ!$AC$2:$AJ$401,2,0)","v":"都小川"},null,"女",null,51762,"永井","若奈","ﾅｶﾞｲ","ﾜｶﾅ","NAGAI","Wakana","女","04",3,null,131206,"6",606,"立川女","立川女子高等学校","高等学校","東京都立八王子北高等学校","東京都八王子市楢原町601","042-626-3787","042-627-0174"]
[51764,5,17,"清水","希美","ｼﾐｽﾞ","ﾉｿﾞﾐ","SHIMIZU","Nozomi","06",1,{"$f":"VLOOKUP(B341*100+C341,氏名データ!$AC$2:$AJ$401,2,0)","v":"都小川"},null,"女",null,51764,"清水","希美","ｼﾐｽﾞ","ﾉｿﾞﾐ","SHIMIZU","Nozomi","女","06",1,null,131207,"6",607,"都片倉","東京都立片倉高等学校","高等学校","東京都立八王子桑志高等学校","東京都八王子市千人町4-8-1","042-663-5970","042-663-5973"]
[51765,5,17,"若松","暖姫","ﾜｶﾏﾂ","ﾊﾙｷ","WAKAMATSU","Haruki","07",1,{"$f":"VLOOKUP(B342*100+C342,氏名データ!$AC$2:$AJ$401,2,0)","v":"都小川"},null,"女",null,51765,"若松","暖姫","ﾜｶﾏﾂ","ﾊﾙｷ","WAKAMATSU","Haruki","女","07",1,null,{"$f":"130000+AB342*100+AC342","v":131208},"6",608,"都翔陽","東京都立翔陽高等学校","高等学校","東京都立八王子東高等学校","東京都八王子市高倉町68-1","042-644-6996","042-642-2641"]
[51766,5,17,"飯田","知佳子","ｲｲﾀﾞ","ﾁｶｺ","IIDA","Chikako","07",1,{"$f":"VLOOKUP(B343*100+C343,氏名データ!$AC$2:$AJ$401,2,0)","v":"都小川"},null,"女",null,51766,"飯田","知佳子","ｲｲﾀﾞ","ﾁｶｺ","IIDA","Chikako","女","07",1,null,131210,"6",610,"都八王子北","東京都立八王子北高等学校","中等教育学校","東京都立富士森高等学校","東京都八王子市長房町420-1","042-661-0444","042-662-9830"]
[51767,5,17,"金平","紗希","ｶﾈﾋﾗ","ｻｷ","KANEHIRA","Saki","07",1,{"$f":"VLOOKUP(B344*100+C344,氏名データ!$AC$2:$AJ$401,2,0)","v":"都小川"},null,"女",null,51767,"金平","紗希","ｶﾈﾋﾗ","ｻｷ","KANEHIRA","Saki","女","07",1,null,131211,"6",611,"都八王子桑志","東京都立八王子桑志高等学校","高等学校","東京都立松が谷高等学校","東京都八王子市松が谷1772","042-676-1231","042-675-1237"]
[51768,5,17,"東木","穂乃花","ﾄｳﾉｷ","ﾎﾉｶ","TOUNOKI","Honoka","06",1,{"$f":"VLOOKUP(B345*100+C345,氏名データ!$AC$2:$AJ$401,2,0)","v":"都小川"},null,"女",null,51768,"東木","穂乃花","ﾄｳﾉｷ","ﾎﾉｶ","TOUNOKI","Honoka","女","06",1,null,131213,"6",613,"都八王子東","東京都立八王子東高等学校","高等学校","東京都立南多摩中等教育学校","東京都八王子市明神町4-20-1","042-646-7030","042-642-2195"]
[51769,5,17,"長島","史佳","ﾅｶﾞｼﾏ","ﾌﾐｶ","NAGASHIMA","Fumika","05",2,{"$f":"VLOOKUP(B346*100+C346,氏名データ!$AC$2:$AJ$401,2,0)","v":"都小川"},null,"女",null,51769,"長島","史佳","ﾅｶﾞｼﾏ","ﾌﾐｶ","NAGASHIMA","Fumika","女","05",2,null,131214,"6",614,"都富士森","東京都立富士森高等学校","高等学校","穎明館高等学校","東京都八王子市館町2600","042-664-6000","042-666-1101"]
[51931,5,19,"佐藤","誠大","ｻﾄｳ","ﾄﾓｷ","SATO","Tomoki","05",3,{"$f":"VLOOKUP(B347*100+C347,氏名データ!$AC$2:$AJ$401,2,0)","v":"都成瀬"},null,"男",null,51931,"佐藤","誠大","ｻﾄｳ","ﾄﾓｷ","SATO","Tomoki","男","05",3,null,131215,"6",615,"都松が谷","東京都立松が谷高等学校","高等学校","共立女子第二高等学校","東京都八王子市元八王寺町1-710","042-661-9952","042-661-9953"]
[51932,5,19,"引地","海晟","ﾋｷｼﾞ","ｶｲｾｲ","HIKIJI","Kaisei","04",3,{"$f":"VLOOKUP(B348*100+C348,氏名データ!$AC$2:$AJ$401,2,0)","v":"都成瀬"},null,"男",null,51932,"引地","海晟","ﾋｷｼﾞ","ｶｲｾｲ","HIKIJI","Kaisei","男","04",3,null,131216,"6",616,"都南多摩中等","東京都立南多摩中等教育学校","高等学校","工学院大学附属高等学校","東京都八王子市中野町2647-2","042-622-9291","042-623-1376"]
[51933,5,19,"髙橋","大地","ﾀｶﾊｼ","ﾀﾞｲﾁ","TAKAHASHI","Daichi","04",3,{"$f":"VLOOKUP(B349*100+C349,氏名データ!$AC$2:$AJ$401,2,0)","v":"都成瀬"},null,"男",null,51933,"髙橋","大地","ﾀｶﾊｼ","ﾀﾞｲﾁ","TAKAHASHI","Daichi","男","04",3,null,131217,"6",617,"穎明館","穎明館高等学校","高等学校","帝京八王子高等学校","東京都八王子市上川町3766","042-654-6141","042-654-6044"]
[51935,5,19,"植木","俊太","ｳｴｷ","ｼｭﾝﾀ","UEKI","Syunta","05",2,{"$f":"VLOOKUP(B350*100+C350,氏名データ!$AC$2:$AJ$401,2,0)","v":"都成瀬"},null,"男",null,51935,"植木","俊太","ｳｴｷ","ｼｭﾝﾀ","UEKI","Syunta","男","05",2,null,131218,"6",618,"共立女二","共立女子第二高等学校","高等学校","八王子学園八王子高等学校","東京都八王子市台町4-35-1","042-623-3461","042-626-5646"]
[51936,5,19,"羽石","颯真","ﾊﾈｲｼ","ｿｳﾏ","HANEISHI","Souma","05",2,{"$f":"VLOOKUP(B351*100+C351,氏名データ!$AC$2:$AJ$401,2,0)","v":"都成瀬"},null,"男",null,51936,"羽石","颯真","ﾊﾈｲｼ","ｿｳﾏ","HANEISHI","Souma","男","05",2,null,131219,"6",619,"工学院","工学院大学附属高等学校","学校","八王子実践高等学校","東京都八王子市台町1-6-15","042-622-0654","042-627-1101"]
[51937,5,19,"中野","魁","ﾅｶﾉ","ｶｲ","NAKANO","Kai","05",2,{"$f":"VLOOKUP(B352*100+C352,氏名データ!$AC$2:$AJ$401,2,0)","v":"都成瀬"},null,"男",null,51937,"中野","魁","ﾅｶﾉ","ｶｲ","NAKANO","Kai","男","05",2,null,131221,"6",621,"帝京八王子","帝京八王子高等学校","高等学校","明治大学付属中野八王子高等学校","東京都八王子市戸吹町1100","042-691-0321","042-691-0988"]
[51938,5,19,"四辻","隆彦","ﾖﾂｼﾞ","ﾀｶﾋｺ","YOTUJI","Takahiko","05",2,{"$f":"VLOOKUP(B353*100+C353,氏名データ!$AC$2:$AJ$401,2,0)","v":"都成瀬"},null,"男",null,51938,"四辻","隆彦","ﾖﾂｼﾞ","ﾀｶﾋｺ","YOTUJI","Takahiko","男","05",2,null,131222,"6",622,"八王子","八王子学園八王子高等学校","高等学校","東京工業高等専門学校","東京都八王子市椚田町1220-2","042-668-5111"]
[51939,5,19,"八尋","大聖","ﾔﾋﾛ","ﾀｲｾｲ","YAHIRO","Taisei","05",2,{"$f":"VLOOKUP(B354*100+C354,氏名データ!$AC$2:$AJ$401,2,0)","v":"都成瀬"},null,"男",null,51939,"八尋","大聖","ﾔﾋﾛ","ﾀｲｾｲ","YAHIRO","Taisei","男","05",2,null,131223,"6",623,"八王子実践","八王子実践高等学校","高等学校","東京都立小平高等学校","東京都小平市仲町112","042-341-5410","042-342-7482"]
[51940,5,19,"相生","茉夏","ｱｲｵｲ","ﾏﾅﾂ","AIOI","Manatsu","06",1,{"$f":"VLOOKUP(B355*100+C355,氏名データ!$AC$2:$AJ$401,2,0)","v":"都成瀬"},null,"男",null,51940,"相生","茉夏","ｱｲｵｲ","ﾏﾅﾂ","AIOI","Manatsu","男","06",1,null,131224,"6",624,"明中八王子","明治大学付属中野八王子高等学校","高等学校","東京都立小平西高等学校","小平市小川町1-502-95","042-345-1411","042-342-7483"]
[51941,5,19,"駒米","勇和","ｺﾏｺﾞﾒ","ﾕｳﾜ","KOMAGOME","Yuuwa","06",1,{"$f":"VLOOKUP(B356*100+C356,氏名データ!$AC$2:$AJ$401,2,0)","v":"都成瀬"},null,"男",null,51941,"駒米","勇和","ｺﾏｺﾞﾒ","ﾕｳﾜ","KOMAGOME","Yuuwa","男","06",1,null,131226,"6",626,"東京工業高専","東京工業高等専門学校","高等学校","東京都立小平南高等学校","東京都小平市上水本町6丁目21番地1号","042-325-9331","042-325-9383"]
[51942,5,19,"吉田","涼太","ﾖｼﾀﾞ","ﾘｮｳﾀ","YOSHIDA","Ryouta","06",1,{"$f":"VLOOKUP(B357*100+C357,氏名データ!$AC$2:$AJ$401,2,0)","v":"都成瀬"},null,"男",null,51942,"吉田","涼太","ﾖｼﾀﾞ","ﾘｮｳﾀ","YOSHIDA","Ryouta","男","06",1,null,131227,"6",627,"都小平","東京都立小平高等学校","高等学校","錦城高等学校","東京都小平市大沼町5-3-7","042-341-0741","042-345-4255"]
[51943,5,19,"飯田","大地","ｲｲﾀﾞ","ﾀﾞｲﾁ","IIDA","Daichi","06",1,{"$f":"VLOOKUP(B358*100+C358,氏名データ!$AC$2:$AJ$401,2,0)","v":"都成瀬"},null,"男",null,51943,"飯田","大地","ｲｲﾀﾞ","ﾀﾞｲﾁ","IIDA","Daichi","男","06",1,null,131228,"6",628,"都小平西","東京都立小平西高等学校","高等学校","白梅学園高等学校","東京都小平市小川町1-830","042-346-5691","042-346-5672"]
[51944,5,19,"岡村","皓太","ｵｶﾑﾗ","ｺｳﾀ","OKAMURA","Kouta","06",1,{"$f":"VLOOKUP(B359*100+C359,氏名データ!$AC$2:$AJ$401,2,0)","v":"都成瀬"},null,"男",null,51944,"岡村","皓太","ｵｶﾑﾗ","ｺｳﾀ","OKAMURA","Kouta","男","06",1,null,131229,"6",629,"都小平南","東京都立小平南高等学校","高等学校","創価高等学校","東京都小平市たかの台2番1号","042-342-2611","042-342-2602"]
[51945,5,19,"川崎","湊斗","ｶﾜｻｷ","ﾐﾅﾄ","KAWASAKI","Minato","06",1,{"$f":"VLOOKUP(B360*100+C360,氏名データ!$AC$2:$AJ$401,2,0)","v":"都成瀬"},null,"男",null,51945,"川崎","湊斗","ｶﾜｻｷ","ﾐﾅﾄ","KAWASAKI","Minato","男","06",1,null,131230,"6",630,"錦城","錦城高等学校","高等学校","拓殖大学第一高等学校","東京都武蔵村山市大南4-64-5","042.-590-.3311","042.-590-.3371"]
[51955,5,19,"佐々岡","恋","ｻｻｵｶ","ｺｺ","SASAOKA","Koko","04",3,{"$f":"VLOOKUP(B361*100+C361,氏名データ!$AC$2:$AJ$401,2,0)","v":"都成瀬"},null,"女",null,51955,"佐々岡","恋","ｻｻｵｶ","ｺｺ","SASAOKA","Koko","女","04",3,null,131231,"6",631,"白梅学園","白梅学園高等学校","高等学校","東京都立東大和高等学校","東京都東大和市中央3-945","042-563-1741","042-565-0781"]
[51956,5,19,"髙木","裕貴","ﾀｶｷﾞ","ﾕｷ","TAKAGI","Yuki","04",3,{"$f":"VLOOKUP(B362*100+C362,氏名データ!$AC$2:$AJ$401,2,0)","v":"都成瀬"},null,"女",null,51956,"髙木","裕貴","ﾀｶｷﾞ","ﾕｷ","TAKAGI","Yuki","女","04",3,null,131232,"6",632,"創価","創価高等学校","高等学校","東京都立東大和南高等学校","東京都東大和市桜が丘3-44-8","042-565-7117","042-565-2895"]
[51957,5,19,"木俣","天音","ｷﾏﾀ","ｱﾏﾈ","KIMATA","Amane","05",2,{"$f":"VLOOKUP(B363*100+C363,氏名データ!$AC$2:$AJ$401,2,0)","v":"都成瀬"},null,"女",null,51957,"木俣","天音","ｷﾏﾀ","ｱﾏﾈ","KIMATA","Amane","女","05",2,null,131233,"6",633,"拓大一","拓殖大学第一高等学校","高等学校","東京都立多摩工業高等学校","東京都福生市熊川215","042-551-3435","042-551-7592"]
[51958,5,19,"吉田","葵","ﾖｼﾀﾞ","ｱｵｲ","YOSHIDA","Aoi","06",2,{"$f":"VLOOKUP(B364*100+C364,氏名データ!$AC$2:$AJ$401,2,0)","v":"都成瀬"},null,"女",null,51958,"吉田","葵","ﾖｼﾀﾞ","ｱｵｲ","YOSHIDA","Aoi","女","06",2,null,131235,"6",635,"都東大和","東京都立東大和高等学校","高等学校","東京都立福生高等学校","東京都福生市北田園2-11-3","042-552-5601","042-551-7470"]
[51959,5,19,"佐々木","果音","ｻｻｷ","ｶﾉﾝ","SASAKI","Kanon","06",1,{"$f":"VLOOKUP(B365*100+C365,氏名データ!$AC$2:$AJ$401,2,0)","v":"都成瀬"},null,"女",null,51959,"佐々木","果音","ｻｻｷ","ｶﾉﾝ","SASAKI","Kanon","女","06",1,null,131236,"6",636,"都東大和南","東京都立東大和南高等学校","高等学校","東京都立多摩高等学校","東京都青梅市裏宿町580","0428-23-2151","0428-23-5581"]
[51960,5,19,"青山","琴音","ｱｵﾔﾏ","ｺﾄﾈ","AOYAMA","Kotone","07",1,{"$f":"VLOOKUP(B366*100+C366,氏名データ!$AC$2:$AJ$401,2,0)","v":"都成瀬"},null,"女",null,51960,"青山","琴音","ｱｵﾔﾏ","ｺﾄﾈ","AOYAMA","Kotone","女","07",1,null,131237,"6",637,"都多摩工","東京都立多摩工業高等学校","高等学校","東京都立昭和高等学校","東京都昭島市東町2-3-21","042-541-0222","042-546-0150"]
[52001,5,20,"木下","紘伸","ｷﾉｼﾀ","ﾋﾛﾉﾌﾞ","KINOSHITA","Hironobu","04",3,{"$f":"VLOOKUP(B367*100+C367,氏名データ!$AC$2:$AJ$401,2,0)","v":"都町田"},null,"男",null,52001,"木下","紘伸","ｷﾉｼﾀ","ﾋﾛﾉﾌﾞ","KINOSHITA","Hironobu","男","04",3,null,131238,"6",638,"都福生","東京都立福生高等学校","高等学校","東京都立拝島高等学校","東京都昭島市拝島町4丁目13番1号","042-543-1772","042-546-0730"]
[52002,5,20,"髙松","創太","ﾀｶﾏﾂ","ｿｳﾀ","TAKAMATU","Souta","04",3,{"$f":"VLOOKUP(B368*100+C368,氏名データ!$AC$2:$AJ$401,2,0)","v":"都町田"},null,"男",null,52002,"髙松","創太","ﾀｶﾏﾂ","ｿｳﾀ","TAKAMATU","Souta","男","04",3,null,131240,"6",640,"都多摩","東京都立多摩高等学校","高等学校","啓明学園高等学校","東京都昭島市拝島町5-11-15","042-541-1003","042-541-9616"]
[52004,5,20,"渡辺","光彦","ﾜﾀﾅﾍﾞ","ﾐﾂﾋｺ","WATANABE","Mitsuhiko","04",3,{"$f":"VLOOKUP(B369*100+C369,氏名データ!$AC$2:$AJ$401,2,0)","v":"都町田"},null,"男",null,52004,"渡辺","光彦","ﾜﾀﾅﾍﾞ","ﾐﾂﾋｺ","WATANABE","Mitsuhiko","男","04",3,null,131242,"6",642,"都昭和","東京都立昭和高等学校","高等学校","東京都立秋留台高等学校","東京都あきる野市平沢153-4","042-559-6821","042-558-3164"]
[52005,5,20,"小山","陽久","ｺﾔﾏ","ﾊﾙﾋｻ","KOYAMA","Haruhisa","05",3,{"$f":"VLOOKUP(B370*100+C370,氏名データ!$AC$2:$AJ$401,2,0)","v":"都町田"},null,"男",null,52005,"小山","陽久","ｺﾔﾏ","ﾊﾙﾋｻ","KOYAMA","Haruhisa","男","05",3,null,131243,"6",643,"都拝島","東京都立拝島高等学校","高等学校","東海大学菅生高等学校","東京都あきる野市菅生1817","042-559-2200","042-532-7072"]
[52006,5,20,"平井","啓太","ﾋﾗｲ","ｹｲﾀ","HIRAI","Keita","05",3,{"$f":"VLOOKUP(B371*100+C371,氏名データ!$AC$2:$AJ$401,2,0)","v":"都町田"},null,"男",null,52006,"平井","啓太","ﾋﾗｲ","ｹｲﾀ","HIRAI","Keita","男","05",3,null,131244,"6",644,"啓明学園","啓明学園高等学校","高等学校","東京都立武蔵村山高等学校","東京都武蔵村山市中原1-7-1","042-560-1271","042-560-8691"]
[52007,5,20,"向畑","和樹","ﾑｶｲﾊﾀ","ｶｽﾞｷ","MUKAIHATA","Kazuki","04",3,{"$f":"VLOOKUP(B372*100+C372,氏名データ!$AC$2:$AJ$401,2,0)","v":"都町田"},null,"男",null,52007,"向畑","和樹","ﾑｶｲﾊﾀ","ｶｽﾞｷ","MUKAIHATA","Kazuki","男","04",3,null,131246,"6",646,"都秋留台","東京都立秋留台高等学校","高等学校","東京都立上水高等学校","東京都武蔵村山市大南4-62-1","042-590-4580","042-590-4581"]
[52011,5,20,"岩元","一","ｲﾜﾓﾄ","ｲﾁ","IWAMOTO","Ichi","05",2,{"$f":"VLOOKUP(B373*100+C373,氏名データ!$AC$2:$AJ$401,2,0)","v":"都町田"},null,"男",null,52011,"岩元","一","ｲﾜﾓﾄ","ｲﾁ","IWAMOTO","Ichi","男","05",2,null,131247,"6",647,"東海大菅生","東海大学菅生高等学校","高等学校","東京都立東村山高等学校","東京都東村山市恩多町4-26-1","042-392-1235","042-392-7275"]
[52012,5,20,"内田","悠翼","ｳﾁﾀﾞ","ﾕｳｽｹ","UCHIDA","Yusuke","05",2,{"$f":"VLOOKUP(B374*100+C374,氏名データ!$AC$2:$AJ$401,2,0)","v":"都町田"},null,"男",null,52012,"内田","悠翼","ｳﾁﾀﾞ","ﾕｳｽｹ","UCHIDA","Yusuke","男","05",2,null,131248,"6",648,"都武蔵村山","東京都立武蔵村山高等学校","高等学校","東京都立東村山西高等学校","東京都東村山市富士見町5-4-41","042-395-9121","042-392-7276"]
[52013,5,20,"木本","康太","ｷﾓﾄ","ｺｳﾀ","KIMOTO","Kouta","05",2,{"$f":"VLOOKUP(B375*100+C375,氏名データ!$AC$2:$AJ$401,2,0)","v":"都町田"},null,"男",null,52013,"木本","康太","ｷﾓﾄ","ｺｳﾀ","KIMOTO","Kouta","男","05",2,null,131249,"6",649,"都上水","東京都立上水高等学校","高等学校","日本体育大学桜華高等学校","東京都東村山市富士見町2-5-1","042-391-4133","042-392-6424"]
[52015,5,20,"佐藤","森","ｻﾄｳ","ｼﾝ","SATO","Shin","06",2,{"$f":"VLOOKUP(B376*100+C376,氏名データ!$AC$2:$AJ$401,2,0)","v":"都町田"},null,"男",null,52015,"佐藤","森","ｻﾄｳ","ｼﾝ","SATO","Shin","男","06",2,null,131250,"6",650,"都東村山","東京都立東村山高等学校","高等学校","明治学院東村山高等学校","東京都東村山市富士見町1-12-3","042-391-2142","042-391-5926"]
[52016,5,20,"鈴木","柊生","ｽｽﾞｷ","ｼｭｳ","SUZUKI","Shu","06",2,{"$f":"VLOOKUP(B377*100+C377,氏名データ!$AC$2:$AJ$401,2,0)","v":"都町田"},null,"男",null,52016,"鈴木","柊生","ｽｽﾞｷ","ｼｭｳ","SUZUKI","Shu","男","06",2,null,131251,"6",651,"都東村山西","東京都立東村山西高等学校","高等学校","明法高等学校","東京都東村山市富士見町2-4-12","042-393-5611","042-391-7129"]
[52017,5,20,"田村","結","ﾀﾑﾗ","ﾕｲ","TAMURA","Yui","05",2,{"$f":"VLOOKUP(B378*100+C378,氏名データ!$AC$2:$AJ$401,2,0)","v":"都町田"},null,"男",null,52017,"田村","結","ﾀﾑﾗ","ﾕｲ","TAMURA","Yui","男","05",2,null,131252,"6",652,"日体大桜華","日本体育大学桜華高等学校","高等学校","東京都立羽村高等学校","東京都羽村市羽4152-1","042-555-6633","042-555-0430"]
[52018,5,20,"橋本","元気","ﾊｼﾓﾄ","ｹﾞﾝｷ","HASHIMOTO","Genki","05",2,{"$f":"VLOOKUP(B379*100+C379,氏名データ!$AC$2:$AJ$401,2,0)","v":"都町田"},null,"男",null,52018,"橋本","元気","ﾊｼﾓﾄ","ｹﾞﾝｷ","HASHIMOTO","Genki","男","05",2,null,131253,"6",653,"明学東村山","明治学院東村山高等学校","高等学校","東京都立瑞穂農芸高等学校","東京都西多摩郡瑞穂町石畑2027","042-557-0142","042-556-2439"]
[52019,5,20,"濱上","仁良","ﾊﾏｶﾞﾐ","ﾆﾗｲ","HAMAGAMI","Nirai","05",2,{"$f":"VLOOKUP(B380*100+C380,氏名データ!$AC$2:$AJ$401,2,0)","v":"都町田"},null,"男",null,52019,"濱上","仁良","ﾊﾏｶﾞﾐ","ﾆﾗｲ","HAMAGAMI","Nirai","男","05",2,null,131254,"6",654,"明法","明法高等学校","学校","東京都立青梅総合高等学校","東京都青梅市勝沼1-60-1","0428-22-7604","0428-22-7624"]
[52021,5,20,"平田","智暉","ﾋﾗﾀ","ﾄﾓｷ","HIRATA","Tomoki","05",2,{"$f":"VLOOKUP(B381*100+C381,氏名データ!$AC$2:$AJ$401,2,0)","v":"都町田"},null,"男",null,52021,"平田","智暉","ﾋﾗﾀ","ﾄﾓｷ","HIRATA","Tomoki","男","05",2,null,131255,"6",655,"都羽村","東京都立羽村高等学校",null,"帝京大学高等学校","東京都八王子市越野322","042-676-9511","042-676-0241"]
[52023,5,20,"松上","蓮","ﾏﾂｶﾞﾐ","ﾚﾝ","MATSUGAMI","Ren","05",2,{"$f":"VLOOKUP(B382*100+C382,氏名データ!$AC$2:$AJ$401,2,0)","v":"都町田"},null,"男",null,52023,"松上","蓮","ﾏﾂｶﾞﾐ","ﾚﾝ","MATSUGAMI","Ren","男","05",2,null,131257,"6",657,"都瑞穂農芸","東京都立瑞穂農芸高等学校",null,"東京都立羽村特別支援学校","東京都羽村市五ノ神319-1","042-554-0829","042-555-3853"]
[52024,5,20,"松良","竜我","ﾏﾂﾗ","ﾘｭｳｶﾞ","MATSURA","Ryuga","06",2,{"$f":"VLOOKUP(B383*100+C383,氏名データ!$AC$2:$AJ$401,2,0)","v":"都町田"},null,"男",null,52024,"松良","竜我","ﾏﾂﾗ","ﾘｭｳｶﾞ","MATSURA","Ryuga","男","06",2,null,131258,"6",658,"都青梅総合","東京都立青梅総合高等学校"]
[52026,5,20,"小原","海翔","ｵﾊﾗ","ｶｲﾄ","OBARA","Kaito","06",1,{"$f":"VLOOKUP(B384*100+C384,氏名データ!$AC$2:$AJ$401,2,0)","v":"都町田"},null,"男",null,52026,"小原","海翔","ｵﾊﾗ","ｶｲﾄ","OBARA","Kaito","男","06",1,null,131259,"6",659,"帝京大","帝京大学高等学校"]
[52027,5,20,"冨田","尚杜","ﾄﾐﾀ","ﾅｵﾄ","TOMITA","Naoto","06",1,{"$f":"VLOOKUP(B385*100+C385,氏名データ!$AC$2:$AJ$401,2,0)","v":"都町田"},null,"男",null,52027,"冨田","尚杜","ﾄﾐﾀ","ﾅｵﾄ","TOMITA","Naoto","男","06",1,null,131260,"6",660,"都羽村特支","東京都立羽村特別支援学校"]
[52028,5,20,"藤原","悠太郎","ﾌｼﾞﾜﾗ","ﾕｳﾀﾛｳ","FUJIWARA","Yutaro","06",1,{"$f":"VLOOKUP(B386*100+C386,氏名データ!$AC$2:$AJ$401,2,0)","v":"都町田"},null,"男",null,52028,"藤原","悠太郎","ﾌｼﾞﾜﾗ","ﾕｳﾀﾛｳ","FUJIWARA","Yutaro","男","06",1,null,130000]
[{"$f":"P387","v":52029},{"$f":"ROUNDDOWN(A387/10000,0)","v":5},{"$f":"ROUNDDOWN((A387-B387*10000)/100,0)","v":20},{"$f":"Q387","v":"坂下"},{"$f":"R387","v":"櫂斗"},{"$f":"S387","v":"ｻｶｼﾀ"},{"$f":"T387","v":"ｶｲﾄ"},{"$f":"U387","v":"SAKASHITA"},{"$f":"V387","v":"Kaito"},{"$f":"X387","v":"06"},{"$f":"Y387","v":1},{"$f":"VLOOKUP(B387*100+C387,氏名データ!$AC$2:$AJ$401,2,0)","v":"都町田"},null,{"$f":"W387","v":"男"},null,52029,"坂下","櫂斗","ｻｶｼﾀ","ｶｲﾄ","SAKASHITA","Kaito","男","06",1,null,130000]
[52030,5,20,"村上","顕紀","ﾑﾗｶﾐ","ｱｷ","MURAKAMI","Aki","06",1,{"$f":"VLOOKUP(B388*100+C388,氏名データ!$AC$2:$AJ$401,2,0)","v":"都町田"},null,"男",null,52030,"村上","顕紀","ﾑﾗｶﾐ","ｱｷ","MURAKAMI","Aki","男","06",1,null,130000]
[52083,5,20,"渡辺","七美","ﾜﾀﾅﾍﾞ","ﾅﾅﾐ","WATANABE","Nanami","04",3,{"$f":"VLOOKUP(B389*100+C389,氏名データ!$AC$2:$AJ$401,2,0)","v":"都町田"},null,"女",null,52083,"渡辺","七美","ﾜﾀﾅﾍﾞ","ﾅﾅﾐ","WATANABE","Nanami","女","04",3,null,130000]
[52084,5,20,"大山","菜摘","ｵｵﾔﾏ","ﾅﾂﾐ","OYAMA","Natsumi","05",2,{"$f":"VLOOKUP(B390*100+C390,氏名データ!$AC$2:$AJ$401,2,0)","v":"都町田"},null,"女",null,52084,"大山","菜摘","ｵｵﾔﾏ","ﾅﾂﾐ","OYAMA","Natsumi","女","05",2,null,130000]
[52085,5,20,"佐藤","那奈","ｻﾄｳ","ﾅﾅ","SATO","Nana","05",2,{"$f":"VLOOKUP(B391*100+C391,氏名データ!$AC$2:$AJ$401,2,0)","v":"都町田"},null,"女",null,52085,"佐藤","那奈","ｻﾄｳ","ﾅﾅ","SATO","Nana","女","05",2,null,130000]
[52086,5,20,"中嶋","まひろ","ﾅｶｼﾞﾏ","ﾏﾋﾛ","NAKAJIMA","Mahiro","05",2,{"$f":"VLOOKUP(B392*100+C392,氏名データ!$AC$2:$AJ$401,2,0)","v":"都町田"},null,"女",null,52086,"中嶋","まひろ","ﾅｶｼﾞﾏ","ﾏﾋﾛ","NAKAJIMA","Mahiro","女","05",2,null,130000]
[52087,5,20,"渕上","愛生","ﾌﾁｶﾞﾐ","ﾏｵ","FUCHIGAMI","Mao","05",2,{"$f":"VLOOKUP(B393*100+C393,氏名データ!$AC$2:$AJ$401,2,0)","v":"都町田"},null,"女",null,52087,"渕上","愛生","ﾌﾁｶﾞﾐ","ﾏｵ","FUCHIGAMI","Mao","女","05",2,null,130000]
[52089,5,20,"神藏","優奈","ｶﾐｸﾗ","ﾕｳﾅ","KAMIKURA","Yuuna","05",2,{"$f":"VLOOKUP(B394*100+C394,氏名データ!$AC$2:$AJ$401,2,0)","v":"都町田"},null,"女",null,52089,"神藏","優奈","ｶﾐｸﾗ","ﾕｳﾅ","KAMIKURA","Yuuna","女","05",2,null,130000]
[52090,5,20,"矢島","玲那","ﾔｼﾞﾏ","ﾚｲﾅ","YAJIMA","Reina","06",1,{"$f":"VLOOKUP(B395*100+C395,氏名データ!$AC$2:$AJ$401,2,0)","v":"都町田"},null,"女",null,52090,"矢島","玲那","ﾔｼﾞﾏ","ﾚｲﾅ","YAJIMA","Reina","女","06",1,null,130000]
[52091,5,20,"掛田","楓","ｶｹﾀﾞ","ｶｴﾃﾞ","KAKEDA","Kaede","06",1,{"$f":"VLOOKUP(B396*100+C396,氏名データ!$AC$2:$AJ$401,2,0)","v":"都町田"},null,"女",null,52091,"掛田","楓","ｶｹﾀﾞ","ｶｴﾃﾞ","KAKEDA","Kaede","女","06",1,null,130000]
[52092,5,20,"久保田","千風","ｸﾎﾞﾀ","ﾁｶｾﾞ","KUBOTA","Chikaze","06",1,{"$f":"VLOOKUP(B397*100+C397,氏名データ!$AC$2:$AJ$401,2,0)","v":"都町田"},null,"女",null,52092,"久保田","千風","ｸﾎﾞﾀ","ﾁｶｾﾞ","KUBOTA","Chikaze","女","06",1,null,130000]
[52093,5,20,"島田","珠沙","ｼﾏﾀﾞ","ﾐｻ","SHIMADA","Misa","06",1,{"$f":"VLOOKUP(B398*100+C398,氏名データ!$AC$2:$AJ$401,2,0)","v":"都町田"},null,"女",null,52093,"島田","珠沙","ｼﾏﾀﾞ","ﾐｻ","SHIMADA","Misa","女","06",1,null,130000]
[52111,5,21,"荒井","遼大","ｱﾗｲ","ﾊﾙﾄ","ARAI","Haruto","04",3,{"$f":"VLOOKUP(B399*100+C399,氏名データ!$AC$2:$AJ$401,2,0)","v":"都野津田"},null,"男",null,52111,"荒井","遼大","ｱﾗｲ","ﾊﾙﾄ","ARAI","Haruto","男","04",3,null,130000]
[52112,5,21,"市川","流星","ｲﾁｶﾜ","ﾘｭｳｾｲ","ICHIKAWA","Ryusei","04",3,{"$f":"VLOOKUP(B400*100+C400,氏名データ!$AC$2:$AJ$401,2,0)","v":"都野津田"},null,"男",null,52112,"市川","流星","ｲﾁｶﾜ","ﾘｭｳｾｲ","ICHIKAWA","Ryusei","男","04",3,null,130000]
[52113,5,21,"世古口","優羽","ｾｺｸﾞﾁ","ﾕｳﾊ","SEKOGUCHI","Yuha","04",3,{"$f":"VLOOKUP(B401*100+C401,氏名データ!$AC$2:$AJ$401,2,0)","v":"都野津田"},null,"男",null,52113,"世古口","優羽","ｾｺｸﾞﾁ","ﾕｳﾊ","SEKOGUCHI","Yuha","男","04",3,null,130000]
[52114,5,21,"田中","広喜","ﾀﾅｶ","ﾋﾛｷ","TANAKA","Hiroki","04",3,{"$f":"VLOOKUP(B402*100+C402,氏名データ!$AC$2:$AJ$401,2,0)","v":"都野津田"},null,"男",null,52114,"田中","広喜","ﾀﾅｶ","ﾋﾛｷ","TANAKA","Hiroki","男","04",3]
[52115,5,21,"濱田","翔","ﾊﾏﾀﾞ","ｼｮｳ","HAMADA","Sho","04",3,{"$f":"VLOOKUP(B403*100+C403,氏名データ!$AC$2:$AJ$401,2,0)","v":"都野津田"},null,"男",null,52115,"濱田","翔","ﾊﾏﾀﾞ","ｼｮｳ","HAMADA","Sho","男","04",3]
[52116,5,21,"福島","優也","ﾌｸｼﾏ","ﾕｳﾔ","FUKUSHIMA","Yuya","04",3,{"$f":"VLOOKUP(B404*100+C404,氏名データ!$AC$2:$AJ$401,2,0)","v":"都野津田"},null,"男",null,52116,"福島","優也","ﾌｸｼﾏ","ﾕｳﾔ","FUKUSHIMA","Yuya","男","04",3]
[52117,5,21,"松崎","光","ﾏﾂｻﾞｷ","ﾋｶﾙ","MATSUZAKI","Hikaru","04",3,{"$f":"VLOOKUP(B405*100+C405,氏名データ!$AC$2:$AJ$401,2,0)","v":"都野津田"},null,"男",null,52117,"松崎","光","ﾏﾂｻﾞｷ","ﾋｶﾙ","MATSUZAKI","Hikaru","男","04",3]
[52118,5,21,"矢野","翔汰","ﾔﾉ","ｼｮｳﾀ","YANO","Shota","04",3,{"$f":"VLOOKUP(B406*100+C406,氏名データ!$AC$2:$AJ$401,2,0)","v":"都野津田"},null,"男",null,52118,"矢野","翔汰","ﾔﾉ","ｼｮｳﾀ","YANO","Shota","男","04",3]
[52120,5,21,"船津","夏輝","ﾌﾅﾂ","ﾅﾂｷ","FUNATSU","Natuki","04",3,{"$f":"VLOOKUP(B407*100+C407,氏名データ!$AC$2:$AJ$401,2,0)","v":"都野津田"},null,"男",null,52120,"船津","夏輝","ﾌﾅﾂ","ﾅﾂｷ","FUNATSU","Natuki","男","04",3]
[52122,5,21,"長澤","理人","ﾅｶﾞｻﾜ","ﾘﾋﾄ","NAGASAWA","Rihito","04",3,{"$f":"VLOOKUP(B408*100+C408,氏名データ!$AC$2:$AJ$401,2,0)","v":"都野津田"},null,"男",null,52122,"長澤","理人","ﾅｶﾞｻﾜ","ﾘﾋﾄ","NAGASAWA","Rihito","男","04",3]
[52123,5,21,"上田","直人","ｳｴﾀﾞ","ﾅｵﾄ","UEDA","Naoto","05",2,{"$f":"VLOOKUP(B409*100+C409,氏名データ!$AC$2:$AJ$401,2,0)","v":"都野津田"},null,"男",null,52123,"上田","直人","ｳｴﾀﾞ","ﾅｵﾄ","UEDA","Naoto","男","05",2]
[52124,5,21,"貝川","真翔","ｶｲｶﾜ","ﾏﾅﾄ","KAIKAWA","Manato","06",2,{"$f":"VLOOKUP(B410*100+C410,氏名データ!$AC$2:$AJ$401,2,0)","v":"都野津田"},null,"男",null,52124,"貝川","真翔","ｶｲｶﾜ","ﾏﾅﾄ","KAIKAWA","Manato","男","06",2]
[52125,5,21,"上妻","翔太","ｶﾐﾂﾏ","ｼｮｳﾀ","KAMITSUMA","Shota","05",2,{"$f":"VLOOKUP(B411*100+C411,氏名データ!$AC$2:$AJ$401,2,0)","v":"都野津田"},null,"男",null,52125,"上妻","翔太","ｶﾐﾂﾏ","ｼｮｳﾀ","KAMITSUMA","Shota","男","05",2]
[52126,5,21,"鈴木","寅雄","ｽｽﾞｷ","ﾄﾗｵ","SUZUKI","Torao","05",2,{"$f":"VLOOKUP(B412*100+C412,氏名データ!$AC$2:$AJ$401,2,0)","v":"都野津田"},null,"男",null,52126,"鈴木","寅雄","ｽｽﾞｷ","ﾄﾗｵ","SUZUKI","Torao","男","05",2]
[52128,5,21,"手塚","烈王","ﾃﾂﾞｶ","ﾚｵ","TEZUKA","Reo","05",2,{"$f":"VLOOKUP(B413*100+C413,氏名データ!$AC$2:$AJ$401,2,0)","v":"都野津田"},null,"男",null,52128,"手塚","烈王","ﾃﾂﾞｶ","ﾚｵ","TEZUKA","Reo","男","05",2]
[52129,5,21,"中野","大陸","ﾅｶﾉ","ﾘｸ","NAKANO","Riku","06",2,{"$f":"VLOOKUP(B414*100+C414,氏名データ!$AC$2:$AJ$401,2,0)","v":"都野津田"},null,"男",null,52129,"中野","大陸","ﾅｶﾉ","ﾘｸ","NAKANO","Riku","男","06",2]
[52130,5,21,"西","晴輝","ﾆｼ","ﾊﾙｷ","NISHI","Haruki","05",2,{"$f":"VLOOKUP(B415*100+C415,氏名データ!$AC$2:$AJ$401,2,0)","v":"都野津田"},null,"男",null,52130,"西","晴輝","ﾆｼ","ﾊﾙｷ","NISHI","Haruki","男","05",2]
[52131,5,21,"西","優輝","ﾆｼ","ﾕｳｷ","NISHI","Yuuki","05",2,{"$f":"VLOOKUP(B416*100+C416,氏名データ!$AC$2:$AJ$401,2,0)","v":"都野津田"},null,"男",null,52131,"西","優輝","ﾆｼ","ﾕｳｷ","NISHI","Yuuki","男","05",2]
[52132,5,21,"畑","志謡","ﾊﾀ","ｼﾞｮｳ","HATA","Jyo","05",2,{"$f":"VLOOKUP(B417*100+C417,氏名データ!$AC$2:$AJ$401,2,0)","v":"都野津田"},null,"男",null,52132,"畑","志謡","ﾊﾀ","ｼﾞｮｳ","HATA","Jyo","男","05",2]
[52133,5,21,"花本","琉斗","ﾊﾅﾓﾄ","ﾘｭｳﾄ","HANAMOTO","Ryuto","06",2,{"$f":"VLOOKUP(B418*100+C418,氏名データ!$AC$2:$AJ$401,2,0)","v":"都野津田"},null,"男",null,52133,"花本","琉斗","ﾊﾅﾓﾄ","ﾘｭｳﾄ","HANAMOTO","Ryuto","男","06",2]
[52134,5,21,"松本","玲生夢","ﾏﾂﾓﾄ","ﾚｵﾝ","MATSUMOTO","Reon","05",2,{"$f":"VLOOKUP(B419*100+C419,氏名データ!$AC$2:$AJ$401,2,0)","v":"都野津田"},null,"男",null,52134,"松本","玲生夢","ﾏﾂﾓﾄ","ﾚｵﾝ","MATSUMOTO","Reon","男","05",2]
[52135,5,21,"渡邊","空翔","ﾜﾀﾅﾍﾞ","ｸｳﾄ","WATANABE","Kuuto","05",2,{"$f":"VLOOKUP(B420*100+C420,氏名データ!$AC$2:$AJ$401,2,0)","v":"都野津田"},null,"男",null,52135,"渡邊","空翔","ﾜﾀﾅﾍﾞ","ｸｳﾄ","WATANABE","Kuuto","男","05",2]
[52136,5,21,"指田","那智","ｻｼﾀﾞ","ﾅﾁ","SASHIDA","Nachi","06",1,{"$f":"VLOOKUP(B421*100+C421,氏名データ!$AC$2:$AJ$401,2,0)","v":"都野津田"},null,"男",null,52136,"指田","那智","ｻｼﾀﾞ","ﾅﾁ","SASHIDA","Nachi","男","06",1]
[52137,5,21,"篠原","心穏","ｼﾉﾊﾗ","ｼｵﾝ","SHINOHARA","Shion","06",1,{"$f":"VLOOKUP(B422*100+C422,氏名データ!$AC$2:$AJ$401,2,0)","v":"都野津田"},null,"男",null,52137,"篠原","心穏","ｼﾉﾊﾗ","ｼｵﾝ","SHINOHARA","Shion","男","06",1]
[52138,5,21,"長友","有夢","ﾅｶﾞﾄﾓ","ｱﾑ","NAGATOMO","Amu","06",1,{"$f":"VLOOKUP(B423*100+C423,氏名データ!$AC$2:$AJ$401,2,0)","v":"都野津田"},null,"男",null,52138,"長友","有夢","ﾅｶﾞﾄﾓ","ｱﾑ","NAGATOMO","Amu","男","06",1]
[52139,5,21,"野口","瑞樹","ﾉｸﾞﾁ","ﾐｽﾞｷ","NOGUCHI","Mizuki","06",1,{"$f":"VLOOKUP(B424*100+C424,氏名データ!$AC$2:$AJ$401,2,0)","v":"都野津田"},null,"男",null,52139,"野口","瑞樹","ﾉｸﾞﾁ","ﾐｽﾞｷ","NOGUCHI","Mizuki","男","06",1]
[52140,5,21,"橋本","航汰","ﾊｼﾓﾄ","ｺｳﾀ","HASHIMOTO","Kota","06",1,{"$f":"VLOOKUP(B425*100+C425,氏名データ!$AC$2:$AJ$401,2,0)","v":"都野津田"},null,"男",null,52140,"橋本","航汰","ﾊｼﾓﾄ","ｺｳﾀ","HASHIMOTO","Kota","男","06",1]
[52141,5,21,"福士","良磨","ﾌｸｼ","ﾘｮｳﾏ","FUKUSHI","Ryoma","06",1,{"$f":"VLOOKUP(B426*100+C426,氏名データ!$AC$2:$AJ$401,2,0)","v":"都野津田"},null,"男",null,52141,"福士","良磨","ﾌｸｼ","ﾘｮｳﾏ","FUKUSHI","Ryoma","男","06",1]
[52142,5,21,"寺居","大雅","ﾃﾗｲ","ﾀｲｶﾞ","TERAI","Taiga","06",1,{"$f":"VLOOKUP(B427*100+C427,氏名データ!$AC$2:$AJ$401,2,0)","v":"都野津田"},null,"男",null,52142,"寺居","大雅","ﾃﾗｲ","ﾀｲｶﾞ","TERAI","Taiga","男","06",1]
[52143,5,21,"佐藤","陸矢","ｻﾄｳ","ﾘｸﾔ","SATO","Rikuya","07",1,{"$f":"VLOOKUP(B428*100+C428,氏名データ!$AC$2:$AJ$401,2,0)","v":"都野津田"},null,"男",null,52143,"佐藤","陸矢","ｻﾄｳ","ﾘｸﾔ","SATO","Rikuya","男","07",1]
[52189,5,21,"福岡","美月","ﾌｸｵｶ","ﾐﾂｷ","FUKUOKA","Mitsuki","05",3,{"$f":"VLOOKUP(B429*100+C429,氏名データ!$AC$2:$AJ$401,2,0)","v":"都野津田"},null,"女",null,52189,"福岡","美月","ﾌｸｵｶ","ﾐﾂｷ","FUKUOKA","Mitsuki","女","05",3]
[52191,5,21,"矢口","芽生子","ﾔｸﾞﾁ","ﾒｲｺ","YAGUCHI","Meiko","04",3,{"$f":"VLOOKUP(B430*100+C430,氏名データ!$AC$2:$AJ$401,2,0)","v":"都野津田"},null,"女",null,52191,"矢口","芽生子","ﾔｸﾞﾁ","ﾒｲｺ","YAGUCHI","Meiko","女","04",3]
[52192,5,21,"ロバーツ","ジェイド","ﾛﾊﾞｰﾂ","ｼﾞｪｲﾄﾞ","ROBERTS","Jade","04",3,{"$f":"VLOOKUP(B431*100+C431,氏名データ!$AC$2:$AJ$401,2,0)","v":"都野津田"},null,"女",null,52192,"ロバーツ","ジェイド","ﾛﾊﾞｰﾂ","ｼﾞｪｲﾄﾞ","ROBERTS","Jade","女","04",3]
[52193,5,21,"谷山","彩葉","ﾀﾆﾔﾏ","ｲﾛﾊ","TANIYAMA","Iroha","05",2,{"$f":"VLOOKUP(B432*100+C432,氏名データ!$AC$2:$AJ$401,2,0)","v":"都野津田"},null,"女",null,52193,"谷山","彩葉","ﾀﾆﾔﾏ","ｲﾛﾊ","TANIYAMA","Iroha","女","05",2]
[52194,5,21,"福岡","天","ﾌｸｵｶ","ｿﾗ","FUKUOKA","Sora","06",1,{"$f":"VLOOKUP(B433*100+C433,氏名データ!$AC$2:$AJ$401,2,0)","v":"都野津田"},null,"女",null,52194,"福岡","天","ﾌｸｵｶ","ｿﾗ","FUKUOKA","Sora","女","06",1]
[52195,5,21,"清橋","ティナ","ｷﾖﾊｼ","ﾃｨﾅ","KIYOHASHI","Teina","07",1,{"$f":"VLOOKUP(B434*100+C434,氏名データ!$AC$2:$AJ$401,2,0)","v":"都野津田"},null,"女",null,52195,"清橋","ティナ","ｷﾖﾊｼ","ﾃｨﾅ","KIYOHASHI","Teina","女","07",1]
[52196,5,21,"小林","菜沙","ｺﾊﾞﾔｼ","ﾅｽﾞﾅ","KOBAYASHI","Nazuna","07",1,{"$f":"VLOOKUP(B435*100+C435,氏名データ!$AC$2:$AJ$401,2,0)","v":"都野津田"},null,"女",null,52196,"小林","菜沙","ｺﾊﾞﾔｼ","ﾅｽﾞﾅ","KOBAYASHI","Nazuna","女","07",1]
[52197,5,21,"住田","美桜","ｽﾐﾀﾞ","ﾐｵ","SUMIDA","Mio","06",1,{"$f":"VLOOKUP(B436*100+C436,氏名データ!$AC$2:$AJ$401,2,0)","v":"都野津田"},null,"女",null,52197,"住田","美桜","ｽﾐﾀﾞ","ﾐｵ","SUMIDA","Mio","女","06",1]
[52232,5,22,"玉田","悠真","ﾀﾏﾀﾞ","ﾕｳﾏ","TAMADA","Yuma","07",1,{"$f":"VLOOKUP(B437*100+C437,氏名データ!$AC$2:$AJ$401,2,0)","v":"都山崎"},null,"男",null,52232,"玉田","悠真","ﾀﾏﾀﾞ","ﾕｳﾏ","TAMADA","Yuma","男","07",1]
[52233,5,22,"土屋","瑞希","ﾂﾁﾔ","ﾐｽﾞｷ","TSUCHIYA","Mizuki","06",1,{"$f":"VLOOKUP(B438*100+C438,氏名データ!$AC$2:$AJ$401,2,0)","v":"都山崎"},null,"男",null,52233,"土屋","瑞希","ﾂﾁﾔ","ﾐｽﾞｷ","TSUCHIYA","Mizuki","男","06",1]
[52234,5,22,"松波","陽太","ﾏﾂﾅﾐ","ﾋﾅﾀ","MATSUNAMI","Hinata","06",1,{"$f":"VLOOKUP(B439*100+C439,氏名データ!$AC$2:$AJ$401,2,0)","v":"都山崎"},null,"男",null,52234,"松波","陽太","ﾏﾂﾅﾐ","ﾋﾅﾀ","MATSUNAMI","Hinata","男","06",1]
[52235,5,22,"岩井","皓哉","ｲﾜｲ","ｺｳﾔ","IWAI","Koya","06",1,{"$f":"VLOOKUP(B440*100+C440,氏名データ!$AC$2:$AJ$401,2,0)","v":"都山崎"},null,"男",null,52235,"岩井","皓哉","ｲﾜｲ","ｺｳﾔ","IWAI","Koya","男","06",1]
[52236,5,22,"松村","悠","ﾏﾂﾑﾗ","ﾕｳ","MATSUMURA","Yuu","05",2,{"$f":"VLOOKUP(B441*100+C441,氏名データ!$AC$2:$AJ$401,2,0)","v":"都山崎"},null,"男",null,52236,"松村","悠","ﾏﾂﾑﾗ","ﾕｳ","MATSUMURA","Yuu","男","05",2]
[52237,5,22,"栁原","直輝","ﾔﾅｷﾞﾊﾗ","ﾅｵｷ","YANAGIHARA","Naoki","06",2,{"$f":"VLOOKUP(B442*100+C442,氏名データ!$AC$2:$AJ$401,2,0)","v":"都山崎"},null,"男",null,52237,"栁原","直輝","ﾔﾅｷﾞﾊﾗ","ﾅｵｷ","YANAGIHARA","Naoki","男","06",2]
[52238,5,22,"坂下","慎弥","ｻｶｼﾀ","ｼﾝﾔ","SAKASHITA","Shinya","05",2,{"$f":"VLOOKUP(B443*100+C443,氏名データ!$AC$2:$AJ$401,2,0)","v":"都山崎"},null,"男",null,52238,"坂下","慎弥","ｻｶｼﾀ","ｼﾝﾔ","SAKASHITA","Shinya","男","05",2]
[52239,5,22,"井上","和人","ｲﾉｳｴ","ｶｽﾞﾄ","INOUE","Kazuto","04",3,{"$f":"VLOOKUP(B444*100+C444,氏名データ!$AC$2:$AJ$401,2,0)","v":"都山崎"},null,"男",null,52239,"井上","和人","ｲﾉｳｴ","ｶｽﾞﾄ","INOUE","Kazuto","男","04",3]
[52243,5,22,"手塚","海希","ﾃﾂﾞｶ","ﾐｽﾞｷ","TEZUKA","Mizuki","04",3,{"$f":"VLOOKUP(B445*100+C445,氏名データ!$AC$2:$AJ$401,2,0)","v":"都山崎"},null,"男",null,52243,"手塚","海希","ﾃﾂﾞｶ","ﾐｽﾞｷ","TEZUKA","Mizuki","男","04",3]
[52252,5,22,"内田","心結","ｳﾁﾀﾞ","ﾐﾕｳ","UCHIDA","Miyuu","04",3,{"$f":"VLOOKUP(B446*100+C446,氏名データ!$AC$2:$AJ$401,2,0)","v":"都山崎"},null,"女",null,52252,"内田","心結","ｳﾁﾀﾞ","ﾐﾕｳ","UCHIDA","Miyuu","女","04",3]
[52253,5,22,"福永","紗輝葉","ﾌｸﾅｶﾞ","ｻｷﾊ","FUKUNAGA","Sakiha","05",2,{"$f":"VLOOKUP(B447*100+C447,氏名データ!$AC$2:$AJ$401,2,0)","v":"都山崎"},null,"女",null,52253,"福永","紗輝葉","ﾌｸﾅｶﾞ","ｻｷﾊ","FUKUNAGA","Sakiha","女","05",2]
[52254,5,22,"橋詰","夏樹","ﾊｼﾂﾞﾒ","ﾅﾂｷ","HASHIZUME","Natsuki","05",2,{"$f":"VLOOKUP(B448*100+C448,氏名データ!$AC$2:$AJ$401,2,0)","v":"都山崎"},null,"女",null,52254,"橋詰","夏樹","ﾊｼﾂﾞﾒ","ﾅﾂｷ","HASHIZUME","Natsuki","女","05",2]
[52255,5,22,"古川","梓","ﾌﾙｶﾜ","ｱｽﾞｻ","FURUKAWA","Azusa","05",2,{"$f":"VLOOKUP(B449*100+C449,氏名データ!$AC$2:$AJ$401,2,0)","v":"都山崎"},null,"女",null,52255,"古川","梓","ﾌﾙｶﾜ","ｱｽﾞｻ","FURUKAWA","Azusa","女","05",2]
[52256,5,22,"伊関","花音","ｲｾｷ","ｶﾉﾝ","ISEKI","Kanon","06",1,{"$f":"VLOOKUP(B450*100+C450,氏名データ!$AC$2:$AJ$401,2,0)","v":"都山崎"},null,"女",null,52256,"伊関","花音","ｲｾｷ","ｶﾉﾝ","ISEKI","Kanon","女","06",1]
[{"$f":"P451","v":52336},{"$f":"ROUNDDOWN(A451/10000,0)","v":5},{"$f":"ROUNDDOWN((A451-B451*10000)/100,0)","v":23},{"$f":"Q451","v":"内藤"},{"$f":"R451","v":"竣陽"},{"$f":"S451","v":"ﾅｲﾄｳ"},{"$f":"T451","v":"ｼｭﾝﾔ"},{"$f":"U451","v":"NAITO"},{"$f":"V451","v":"Shunya"},{"$f":"X451","v":"04"},{"$f":"Y451","v":3},{"$f":"VLOOKUP(B451*100+C451,氏名データ!$AC$2:$AJ$401,2,0)","v":"都町田工"},null,{"$f":"W451","v":"男"},null,52336,"内藤","竣陽","ﾅｲﾄｳ","ｼｭﾝﾔ","NAITO","Shunya","男","04",3]
[52338,5,23,"小林","大翔","ｺﾊﾞﾔｼ","ﾋﾛﾄ","KOBAYASHI","Hiroto","06",1,{"$f":"VLOOKUP(B452*100+C452,氏名データ!$AC$2:$AJ$401,2,0)","v":"都町田工"},null,"男",null,52338,"小林","大翔","ｺﾊﾞﾔｼ","ﾋﾛﾄ","KOBAYASHI","Hiroto","男","06",1]
[52339,5,23,"佐藤","陽日","ｻﾄｳ","ﾊﾙ","SATO","Haru","07",1,{"$f":"VLOOKUP(B453*100+C453,氏名データ!$AC$2:$AJ$401,2,0)","v":"都町田工"},null,"男",null,52339,"佐藤","陽日","ｻﾄｳ","ﾊﾙ","SATO","Haru","男","07",1]
[52340,5,23,"鈴木","星流","ｽｽﾞｷ","ｾﾅ","SUZUKI","Sena","06",1,{"$f":"VLOOKUP(B454*100+C454,氏名データ!$AC$2:$AJ$401,2,0)","v":"都町田工"},null,"男",null,52340,"鈴木","星流","ｽｽﾞｷ","ｾﾅ","SUZUKI","Sena","男","06",1]
[52341,5,23,"三井","柊茉","ﾐﾂｲ","ｼｭｳﾏ","MITUI","Syuma","06",1,{"$f":"VLOOKUP(B455*100+C455,氏名データ!$AC$2:$AJ$401,2,0)","v":"都町田工"},null,"男",null,52341,"三井","柊茉","ﾐﾂｲ","ｼｭｳﾏ","MITUI","Syuma","男","06",1]
[52342,5,23,"大瀧","希空","ｵｵﾀｷ","ﾉｱ","OOTAKI","Noa","06",1,{"$f":"VLOOKUP(B456*100+C456,氏名データ!$AC$2:$AJ$401,2,0)","v":"都町田工"},null,"男",null,52342,"大瀧","希空","ｵｵﾀｷ","ﾉｱ","OOTAKI","Noa","男","06",1]
[52416,5,24,"淺田","晃希","ｱｻﾀﾞ","ｺｳｷ","ASADA","Koki","04",3,{"$f":"VLOOKUP(B457*100+C457,氏名データ!$AC$2:$AJ$401,2,0)","v":"桜美林"},null,"男",null,52416,"淺田","晃希","ｱｻﾀﾞ","ｺｳｷ","ASADA","Koki","男","04",3]
[52417,5,24,"スポア","ハリソン祐太","ｽﾎﾟｱ","ﾊﾘｿﾝﾕｳﾀ","SPORE","Harrison yuta","04",3,{"$f":"VLOOKUP(B458*100+C458,氏名データ!$AC$2:$AJ$401,2,0)","v":"桜美林"},null,"男",null,52417,"スポア","ハリソン祐太","ｽﾎﾟｱ","ﾊﾘｿﾝﾕｳﾀ","SPORE","Harrison yuta","男","04",3]
[52418,5,24,"久保","透","ｸﾎﾞ","ﾄｵﾙ","KUBO","Toru","04",3,{"$f":"VLOOKUP(B459*100+C459,氏名データ!$AC$2:$AJ$401,2,0)","v":"桜美林"},null,"男",null,52418,"久保","透","ｸﾎﾞ","ﾄｵﾙ","KUBO","Toru","男","04",3]
[52421,5,24,"川又","有真","ｶﾜﾏﾀ","ﾕｳﾏ","KAWAMATA","Yuma","04",3,{"$f":"VLOOKUP(B460*100+C460,氏名データ!$AC$2:$AJ$401,2,0)","v":"桜美林"},null,"男",null,52421,"川又","有真","ｶﾜﾏﾀ","ﾕｳﾏ","KAWAMATA","Yuma","男","04",3]
[52422,5,24,"田中","縁","ﾀﾅｶ","ｴﾆｼ","SAITO","Daichi","04",3,{"$f":"VLOOKUP(B461*100+C461,氏名データ!$AC$2:$AJ$401,2,0)","v":"桜美林"},null,"男",null,52422,"田中","縁","ﾀﾅｶ","ｴﾆｼ","SAITO","Daichi","男","04",3]
[52424,5,24,"作野","勝斗","ｻｸﾉ","ﾏｻﾄ","SAKUNO","Masato","05",2,{"$f":"VLOOKUP(B462*100+C462,氏名データ!$AC$2:$AJ$401,2,0)","v":"桜美林"},null,"男",null,52424,"作野","勝斗","ｻｸﾉ","ﾏｻﾄ","SAKUNO","Masato","男","05",2]
[52425,5,24,"田港","朝己","ﾀﾐﾅﾄ","ｱｷ","TAMINATO","Aki","06",2,{"$f":"VLOOKUP(B463*100+C463,氏名データ!$AC$2:$AJ$401,2,0)","v":"桜美林"},null,"男",null,52425,"田港","朝己","ﾀﾐﾅﾄ","ｱｷ","TAMINATO","Aki","男","06",2]
[52426,5,24,"福田","悠介","ﾌｸﾀﾞ","ﾕｳｽｹ","FUKUDA","Yusuke","05",2,{"$f":"VLOOKUP(B464*100+C464,氏名データ!$AC$2:$AJ$401,2,0)","v":"桜美林"},null,"男",null,52426,"福田","悠介","ﾌｸﾀﾞ","ﾕｳｽｹ","FUKUDA","Yusuke","男","05",2]
[52427,5,24,"小畑","祐人","ｵﾊﾞﾀ","ﾕｳﾄ","OBATA","Yuto","05",2,{"$f":"VLOOKUP(B465*100+C465,氏名データ!$AC$2:$AJ$401,2,0)","v":"桜美林"},null,"男",null,52427,"小畑","祐人","ｵﾊﾞﾀ","ﾕｳﾄ","OBATA","Yuto","男","05",2]
[52429,5,24,"渡邊","吉郁","ﾜﾀﾅﾍﾞ","ﾖｼﾌﾐ","WATANABE","Yoshifumi","05",2,{"$f":"VLOOKUP(B466*100+C466,氏名データ!$AC$2:$AJ$401,2,0)","v":"桜美林"},null,"男",null,52429,"渡邊","吉郁","ﾜﾀﾅﾍﾞ","ﾖｼﾌﾐ","WATANABE","Yoshifumi","男","05",2]
[52430,5,24,"瀬戸","日向","ｾﾄ","ﾋﾅﾀ","SETO","Hinata","06",1,{"$f":"VLOOKUP(B467*100+C467,氏名データ!$AC$2:$AJ$401,2,0)","v":"桜美林"},null,"男",null,52430,"瀬戸","日向","ｾﾄ","ﾋﾅﾀ","SETO","Hinata","男","06",1]
[52431,5,24,"藤井","龍志","ﾌｼﾞｲ","ﾘｭｳｼﾞ","FUJII","Ryuji","06",1,{"$f":"VLOOKUP(B468*100+C468,氏名データ!$AC$2:$AJ$401,2,0)","v":"桜美林"},null,"男",null,52431,"藤井","龍志","ﾌｼﾞｲ","ﾘｭｳｼﾞ","FUJII","Ryuji","男","06",1]
[52432,5,24,"渡部","悠","ﾜﾀﾍﾞ","ﾕｳ","WATABE","Yu","06",1,{"$f":"VLOOKUP(B469*100+C469,氏名データ!$AC$2:$AJ$401,2,0)","v":"桜美林"},null,"男",null,52432,"渡部","悠","ﾜﾀﾍﾞ","ﾕｳ","WATABE","Yu","男","06",1]
[52433,5,24,"大橋","遥斗","ｵｵﾊｼ","ﾊﾙﾄ","OHASHI","Haruto","06",1,{"$f":"VLOOKUP(B470*100+C470,氏名データ!$AC$2:$AJ$401,2,0)","v":"桜美林"},null,"男",null,52433,"大橋","遥斗","ｵｵﾊｼ","ﾊﾙﾄ","OHASHI","Haruto","男","06",1]
[52434,5,24,"大竹","夏生","ｵｵﾀｹ","ﾅﾂｷ","OTAKE","Natsuki","06",1,{"$f":"VLOOKUP(B471*100+C471,氏名データ!$AC$2:$AJ$401,2,0)","v":"桜美林"},null,"男",null,52434,"大竹","夏生","ｵｵﾀｹ","ﾅﾂｷ","OTAKE","Natsuki","男","06",1]
[52435,5,24,"末永","陽太","ｽｴﾅｶﾞ","ﾖｳﾀ","SUENAGA","Youta","07",1,{"$f":"VLOOKUP(B472*100+C472,氏名データ!$AC$2:$AJ$401,2,0)","v":"桜美林"},null,"男",null,52435,"末永","陽太","ｽｴﾅｶﾞ","ﾖｳﾀ","SUENAGA","Youta","男","07",1]
[52436,5,24,"須田","龍毅","ｽﾀﾞ","ﾘｭｳｷ","SUDA","Ryuki","06",1,{"$f":"VLOOKUP(B473*100+C473,氏名データ!$AC$2:$AJ$401,2,0)","v":"桜美林"},null,"男",null,52436,"須田","龍毅","ｽﾀﾞ","ﾘｭｳｷ","SUDA","Ryuki","男","06",1]
[52437,5,24,"宮岡","遼","ﾐﾔｵｶ","ﾘｮｳ","MIYAOKA","Ryo","06",1,{"$f":"VLOOKUP(B474*100+C474,氏名データ!$AC$2:$AJ$401,2,0)","v":"桜美林"},null,"男",null,52437,"宮岡","遼","ﾐﾔｵｶ","ﾘｮｳ","MIYAOKA","Ryo","男","06",1]
[52438,5,24,"林","慧","ﾊﾔｼ","ｱｷﾗ","HAYASHI","Akira","06",1,{"$f":"VLOOKUP(B475*100+C475,氏名データ!$AC$2:$AJ$401,2,0)","v":"桜美林"},null,"男",null,52438,"林","慧","ﾊﾔｼ","ｱｷﾗ","HAYASHI","Akira","男","06",1]
[52439,5,24,"細谷","卓史","ﾎｿﾔ","ﾀｸﾐ","HOSOYA","Takumi","06",1,{"$f":"VLOOKUP(B476*100+C476,氏名データ!$AC$2:$AJ$401,2,0)","v":"桜美林"},null,"男",null,52439,"細谷","卓史","ﾎｿﾔ","ﾀｸﾐ","HOSOYA","Takumi","男","06",1]
[52440,5,24,"堀野","舜","ﾎﾘﾉ","ｼｭﾝ","HORINO","Shun","07",1,{"$f":"VLOOKUP(B477*100+C477,氏名データ!$AC$2:$AJ$401,2,0)","v":"桜美林"},null,"男",null,52440,"堀野","舜","ﾎﾘﾉ","ｼｭﾝ","HORINO","Shun","男","07",1]
[52441,5,24,"葛西","陽大","ｶｻｲ","ﾖｳﾀ","KASAI","Yohta","06",1,{"$f":"VLOOKUP(B478*100+C478,氏名データ!$AC$2:$AJ$401,2,0)","v":"桜美林"},null,"男",null,52441,"葛西","陽大","ｶｻｲ","ﾖｳﾀ","KASAI","Yohta","男","06",1]
[52442,5,24,"長谷川","颯太郎","ﾊｾｶﾞﾜ","ｿｳﾀﾛｳ","HASEGAWA","Sotaro","06",2,{"$f":"VLOOKUP(B479*100+C479,氏名データ!$AC$2:$AJ$401,2,0)","v":"桜美林"},null,"男",null,52442,"長谷川","颯太郎","ﾊｾｶﾞﾜ","ｿｳﾀﾛｳ","HASEGAWA","Sotaro","男","06",2]
[52443,5,24,"廣瀬","立来","ﾋﾛｾ","ﾘﾗｲ","HIROSE","Rirai","06",1,{"$f":"VLOOKUP(B480*100+C480,氏名データ!$AC$2:$AJ$401,2,0)","v":"桜美林"},null,"男",null,52443,"廣瀬","立来","ﾋﾛｾ","ﾘﾗｲ","HIROSE","Rirai","男","06",1]
[52444,5,24,"喜谷","良太","ｷﾀﾆ","ﾘｮｳﾀ","KITANI","Ryouta","05",2,{"$f":"VLOOKUP(B481*100+C481,氏名データ!$AC$2:$AJ$401,2,0)","v":"桜美林"},null,"男",null,52444,"喜谷","良太","ｷﾀﾆ","ﾘｮｳﾀ","KITANI","Ryouta","男","05",2]
[52451,5,24,"藤本","ひより","ﾌｼﾞﾓﾄ","ﾋﾖﾘ","FUJIMOTO","Hiyori","06",1,{"$f":"VLOOKUP(B482*100+C482,氏名データ!$AC$2:$AJ$401,2,0)","v":"桜美林"},null,"女",null,52451,"藤本","ひより","ﾌｼﾞﾓﾄ","ﾋﾖﾘ","FUJIMOTO","Hiyori","女","06",1]
[52452,5,24,"杉田","彩葉","ｽｷﾞﾀ","ｲﾛﾊ","SUGITA","Iroha","06",1,{"$f":"VLOOKUP(B483*100+C483,氏名データ!$AC$2:$AJ$401,2,0)","v":"桜美林"},null,"女",null,52452,"杉田","彩葉","ｽｷﾞﾀ","ｲﾛﾊ","SUGITA","Iroha","女","06",1]
[52453,5,24,"添田","百華","ｿｴﾀﾞ","ﾓﾓｶ","SOEDA","Momoka","06",1,{"$f":"VLOOKUP(B484*100+C484,氏名データ!$AC$2:$AJ$401,2,0)","v":"桜美林"},null,"女",null,52453,"添田","百華","ｿｴﾀﾞ","ﾓﾓｶ","SOEDA","Momoka","女","06",1]
[52454,5,24,"橋爪","沙采","ﾊｼﾂﾞﾒ","ｻｱﾔ","HASHIZUME","Saaya","06",1,{"$f":"VLOOKUP(B485*100+C485,氏名データ!$AC$2:$AJ$401,2,0)","v":"桜美林"},null,"女",null,52454,"橋爪","沙采","ﾊｼﾂﾞﾒ","ｻｱﾔ","HASHIZUME","Saaya","女","06",1]
[52483,5,24,"片瀬","奈々子","ｶﾀｾ","ﾅﾅｺ","KATASE","Nanako","04",3,{"$f":"VLOOKUP(B486*100+C486,氏名データ!$AC$2:$AJ$401,2,0)","v":"桜美林"},null,"女",null,52483,"片瀬","奈々子","ｶﾀｾ","ﾅﾅｺ","KATASE","Nanako","女","04",3]
[52484,5,24,"小池","遥奈","ｺｲｹ","ﾊﾙﾅ","KOIKE","Haruna","04",3,{"$f":"VLOOKUP(B487*100+C487,氏名データ!$AC$2:$AJ$401,2,0)","v":"桜美林"},null,"女",null,52484,"小池","遥奈","ｺｲｹ","ﾊﾙﾅ","KOIKE","Haruna","女","04",3]
[52485,5,24,"白水","彩葉","ｼﾛｳｽﾞ","ｱﾔﾊ","SHIROZU","Ayaha","04",3,{"$f":"VLOOKUP(B488*100+C488,氏名データ!$AC$2:$AJ$401,2,0)","v":"桜美林"},null,"女",null,52485,"白水","彩葉","ｼﾛｳｽﾞ","ｱﾔﾊ","SHIROZU","Ayaha","女","04",3]
[52487,5,24,"立石","桜子","ﾀﾃｲｼ","ｻｸﾗｺ","TATEISHI","Sakurako","05",2,{"$f":"VLOOKUP(B489*100+C489,氏名データ!$AC$2:$AJ$401,2,0)","v":"桜美林"},null,"女",null,52487,"立石","桜子","ﾀﾃｲｼ","ｻｸﾗｺ","TATEISHI","Sakurako","女","05",2]
[52488,5,24,"湯舟","佳子","ﾕﾌﾞﾈ","ｶｺ","YUBUNE","Kako","05",2,{"$f":"VLOOKUP(B490*100+C490,氏名データ!$AC$2:$AJ$401,2,0)","v":"桜美林"},null,"女",null,52488,"湯舟","佳子","ﾕﾌﾞﾈ","ｶｺ","YUBUNE","Kako","女","05",2]
[52489,5,24,"元木","有咲","ﾓﾄｷ","ｱﾘｻ","MOTOKI","Arisa","05",2,{"$f":"VLOOKUP(B491*100+C491,氏名データ!$AC$2:$AJ$401,2,0)","v":"桜美林"},null,"女",null,52489,"元木","有咲","ﾓﾄｷ","ｱﾘｻ","MOTOKI","Arisa","女","05",2]
[52491,5,24,"坂本","真桜","ｻｶﾓﾄ","ﾏｵ","SAKAMOTO","Mao","05",2,{"$f":"VLOOKUP(B492*100+C492,氏名データ!$AC$2:$AJ$401,2,0)","v":"桜美林"},null,"女",null,52491,"坂本","真桜","ｻｶﾓﾄ","ﾏｵ","SAKAMOTO","Mao","女","05",2]
[52492,5,24,"茂木","咲良","ﾓｷﾞ","ｻｸﾗ","MOGI","Sakura","05",2,{"$f":"VLOOKUP(B493*100+C493,氏名データ!$AC$2:$AJ$401,2,0)","v":"桜美林"},null,"女",null,52492,"茂木","咲良","ﾓｷﾞ","ｻｸﾗ","MOGI","Sakura","女","05",2]
[52493,5,24,"柳生","佳音羽","ﾔｷﾞｭｳ","ｶﾉﾊ","YAGYU","Kanoha","05",2,{"$f":"VLOOKUP(B494*100+C494,氏名データ!$AC$2:$AJ$401,2,0)","v":"桜美林"},null,"女",null,52493,"柳生","佳音羽","ﾔｷﾞｭｳ","ｶﾉﾊ","YAGYU","Kanoha","女","05",2]
[52495,5,24,"深澤","美鈴","ﾌｶｻﾜ","ﾐｽｽﾞ","FUKASAWA","Misuzu","05",2,{"$f":"VLOOKUP(B495*100+C495,氏名データ!$AC$2:$AJ$401,2,0)","v":"桜美林"},null,"女",null,52495,"深澤","美鈴","ﾌｶｻﾜ","ﾐｽｽﾞ","FUKASAWA","Misuzu","女","05",2]
[52496,5,24,"杉木","理菜","ｽｷﾞｷ","ﾘﾅ","SUGIKI","Rina","05",2,{"$f":"VLOOKUP(B496*100+C496,氏名データ!$AC$2:$AJ$401,2,0)","v":"桜美林"},null,"女",null,52496,"杉木","理菜","ｽｷﾞｷ","ﾘﾅ","SUGIKI","Rina","女","05",2]
[52497,5,24,"山﨑","七海","ﾔﾏｻｷ","ﾅﾅﾐ","YAMASAKI","Nanami","05",2,{"$f":"VLOOKUP(B497*100+C497,氏名データ!$AC$2:$AJ$401,2,0)","v":"桜美林"},null,"女",null,52497,"山﨑","七海","ﾔﾏｻｷ","ﾅﾅﾐ","YAMASAKI","Nanami","女","05",2]
[52498,5,24,"滝本","碧音","ﾀｷﾓﾄ","ｱｵﾈ","TAKIMOTO","Aone","05",2,{"$f":"VLOOKUP(B498*100+C498,氏名データ!$AC$2:$AJ$401,2,0)","v":"桜美林"},null,"女",null,52498,"滝本","碧音","ﾀｷﾓﾄ","ｱｵﾈ","TAKIMOTO","Aone","女","05",2]
[52499,5,24,"加藤","優奈","ｶﾄｳ","ﾕｳﾅ","KATO","Yuna","06",1,{"$f":"VLOOKUP(B499*100+C499,氏名データ!$AC$2:$AJ$401,2,0)","v":"桜美林"},null,"女",null,52499,"加藤","優奈","ｶﾄｳ","ﾕｳﾅ","KATO","Yuna","女","06",1]
[52534,5,25,"矢沢","拓久真","ﾔｻﾞﾜ","ﾀｸﾏ","YAZAWA","Takuma","04",3,{"$f":"VLOOKUP(B500*100+C500,氏名データ!$AC$2:$AJ$401,2,0)","v":"玉川学園"},null,"男",null,52534,"矢沢","拓久真","ﾔｻﾞﾜ","ﾀｸﾏ","YAZAWA","Takuma","男","04",3]
[52535,5,25,"鈴木","春","ｽｽﾞｷ","ﾊﾙ","SUZUKI","Haru","06",2,{"$f":"VLOOKUP(B501*100+C501,氏名データ!$AC$2:$AJ$401,2,0)","v":"玉川学園"},null,"男",null,52535,"鈴木","春","ｽｽﾞｷ","ﾊﾙ","SUZUKI","Haru","男","06",2]
[52537,5,25,"宮内","乃阿","ﾐﾔｳﾁ","ﾉｱ","MIYAUCHI","Noa","05",2,{"$f":"VLOOKUP(B502*100+C502,氏名データ!$AC$2:$AJ$401,2,0)","v":"玉川学園"},null,"男",null,52537,"宮内","乃阿","ﾐﾔｳﾁ","ﾉｱ","MIYAUCHI","Noa","男","05",2]
[52538,5,25,"青野","弘英","ｱｵﾉ","ｺｳｴｲ","AONO","Koei","06",1,{"$f":"VLOOKUP(B503*100+C503,氏名データ!$AC$2:$AJ$401,2,0)","v":"玉川学園"},null,"男",null,52538,"青野","弘英","ｱｵﾉ","ｺｳｴｲ","AONO","Koei","男","06",1]
[52539,5,25,"石川","陽大","ｲｼｶﾜ","ﾊﾙﾄ","ISHIKAWA","Haruto","06",1,{"$f":"VLOOKUP(B504*100+C504,氏名データ!$AC$2:$AJ$401,2,0)","v":"玉川学園"},null,"男",null,52539,"石川","陽大","ｲｼｶﾜ","ﾊﾙﾄ","ISHIKAWA","Haruto","男","06",1]
[52551,5,25,"西森","穂香","ﾆｼﾓﾘ","ﾎﾉｶ","NISHIMORI","Honoka","05",2,{"$f":"VLOOKUP(B505*100+C505,氏名データ!$AC$2:$AJ$401,2,0)","v":"玉川学園"},null,"女",null,52551,"西森","穂香","ﾆｼﾓﾘ","ﾎﾉｶ","NISHIMORI","Honoka","女","05",2]
[52552,5,25,"金成","玲奈","ｶﾈﾅﾘ","ﾚｲﾅ","KANENARI","Reina","05",2,{"$f":"VLOOKUP(B506*100+C506,氏名データ!$AC$2:$AJ$401,2,0)","v":"玉川学園"},null,"女",null,52552,"金成","玲奈","ｶﾈﾅﾘ","ﾚｲﾅ","KANENARI","Reina","女","05",2]
[52554,5,25,"市川","友海美","ｲﾁｶﾜ","ﾕｳﾐ","ICHIKAWA","Yumi","05",2,{"$f":"VLOOKUP(B507*100+C507,氏名データ!$AC$2:$AJ$401,2,0)","v":"玉川学園"},null,"女",null,52554,"市川","友海美","ｲﾁｶﾜ","ﾕｳﾐ","ICHIKAWA","Yumi","女","05",2]
[52555,5,25,"備海","みのり","ﾋﾞｶｲ","ﾐﾉﾘ","BIKAI","Minori","06",1,{"$f":"VLOOKUP(B508*100+C508,氏名データ!$AC$2:$AJ$401,2,0)","v":"玉川学園"},null,"女",null,52555,"備海","みのり","ﾋﾞｶｲ","ﾐﾉﾘ","BIKAI","Minori","女","06",1]
[52556,5,25,"西村","百歌","ﾆｼﾑﾗ","ﾓﾓｶ","NISHIMURA","Momoka","06",1,{"$f":"VLOOKUP(B509*100+C509,氏名データ!$AC$2:$AJ$401,2,0)","v":"玉川学園"},null,"女",null,52556,"西村","百歌","ﾆｼﾑﾗ","ﾓﾓｶ","NISHIMURA","Momoka","女","06",1]
[52557,5,25,"大城","茉央","ｵｵｼﾛ","ﾏｵ","OSHIRO","Mao","06",1,{"$f":"VLOOKUP(B510*100+C510,氏名データ!$AC$2:$AJ$401,2,0)","v":"玉川学園"},null,"女",null,52557,"大城","茉央","ｵｵｼﾛ","ﾏｵ","OSHIRO","Mao","女","06",1]
[52599,5,25,"久保田","千恵子","ｸﾎﾞﾀ","ﾁｴｺ","KUBOTA","Chieko","06",2,{"$f":"VLOOKUP(B511*100+C511,氏名データ!$AC$2:$AJ$401,2,0)","v":"玉川学園"},null,"女",null,52599,"久保田","千恵子","ｸﾎﾞﾀ","ﾁｴｺ","KUBOTA","Chieko","女","06",2]
[52601,5,26,"藤田","大輝","ﾌｼﾞﾀ","ﾀﾞｲｷ","FUJITA","Daiki","07",1,{"$f":"VLOOKUP(B512*100+C512,氏名データ!$AC$2:$AJ$401,2,0)","v":"日大三"},null,"男",null,52601,"藤田","大輝","ﾌｼﾞﾀ","ﾀﾞｲｷ","FUJITA","Daiki","男","07",1]
[52602,5,26,"渡邊","翔太","ﾜﾀﾅﾍﾞ","ｼｮｳﾀ","WATANABE","Shota","06",1,{"$f":"VLOOKUP(B513*100+C513,氏名データ!$AC$2:$AJ$401,2,0)","v":"日大三"},null,"男",null,52602,"渡邊","翔太","ﾜﾀﾅﾍﾞ","ｼｮｳﾀ","WATANABE","Shota","男","06",1]
[52603,5,26,"上原","宗賢","ｳｴﾊﾗ","ｿｳｹﾝ","UEHARA","Soken","06",1,{"$f":"VLOOKUP(B514*100+C514,氏名データ!$AC$2:$AJ$401,2,0)","v":"日大三"},null,"男",null,52603,"上原","宗賢","ｳｴﾊﾗ","ｿｳｹﾝ","UEHARA","Soken","男","06",1]
[{"$f":"P515","v":52604},{"$f":"ROUNDDOWN(A515/10000,0)","v":5},{"$f":"ROUNDDOWN((A515-B515*10000)/100,0)","v":26},{"$f":"Q515","v":"後藤"},{"$f":"R515","v":"遙斗"},{"$f":"S515","v":"ｺﾞﾄｳ"},{"$f":"T515","v":"ﾊﾙﾄ"},{"$f":"U515","v":"GOTO"},{"$f":"V515","v":"Haruto"},{"$f":"X515","v":"06"},{"$f":"Y515","v":1},{"$f":"VLOOKUP(B515*100+C515,氏名データ!$AC$2:$AJ$401,2,0)","v":"日大三"},null,{"$f":"W515","v":"男"},null,52604,"後藤","遙斗","ｺﾞﾄｳ","ﾊﾙﾄ","GOTO","Haruto","男","06",1]
[52605,5,26,"佐々木","援","ｻｻｷ","ﾀｽｸ","SASAKI","Tasuku","06",1,{"$f":"VLOOKUP(B516*100+C516,氏名データ!$AC$2:$AJ$401,2,0)","v":"日大三"},null,"男",null,52605,"佐々木","援","ｻｻｷ","ﾀｽｸ","SASAKI","Tasuku","男","06",1]
[52606,5,26,"曽我部","春輝","ｿｶﾞﾍﾞ","ﾊﾙｷ","SOGABE","Haruki","06",1,{"$f":"VLOOKUP(B517*100+C517,氏名データ!$AC$2:$AJ$401,2,0)","v":"日大三"},null,"男",null,52606,"曽我部","春輝","ｿｶﾞﾍﾞ","ﾊﾙｷ","SOGABE","Haruki","男","06",1]
[52607,5,26,"田口","耀土","ﾀｸﾞﾁ","ｱｷﾄ","TAGUCHI","Akito","06",1,{"$f":"VLOOKUP(B518*100+C518,氏名データ!$AC$2:$AJ$401,2,0)","v":"日大三"},null,"男",null,52607,"田口","耀土","ﾀｸﾞﾁ","ｱｷﾄ","TAGUCHI","Akito","男","06",1]
[52608,5,26,"福田","真也","ﾌｸﾀﾞ","ﾏｻﾔ","FUKUDA","Masaya","06",1,{"$f":"VLOOKUP(B519*100+C519,氏名データ!$AC$2:$AJ$401,2,0)","v":"日大三"},null,"男",null,52608,"福田","真也","ﾌｸﾀﾞ","ﾏｻﾔ","FUKUDA","Masaya","男","06",1]
[52609,5,26,"渡邉","晃樹","ﾜﾀﾅﾍﾞ","ｺｳｷ","WATANABE","Kouki","06",1,{"$f":"VLOOKUP(B520*100+C520,氏名データ!$AC$2:$AJ$401,2,0)","v":"日大三"},null,"男",null,52609,"渡邉","晃樹","ﾜﾀﾅﾍﾞ","ｺｳｷ","WATANABE","Kouki","男","06",1]
[52610,5,26,"尾澤","優斗","ｵｻﾞﾜ","ﾕｳﾄ","OZAWA","Yuto","06",1,{"$f":"VLOOKUP(B521*100+C521,氏名データ!$AC$2:$AJ$401,2,0)","v":"日大三"},null,"男",null,52610,"尾澤","優斗","ｵｻﾞﾜ","ﾕｳﾄ","OZAWA","Yuto","男","06",1]
[52611,5,26,"田中","優希","ﾀﾅｶ","ﾕｳｷ","TANAKA","Yuuki","07",1,{"$f":"VLOOKUP(B522*100+C522,氏名データ!$AC$2:$AJ$401,2,0)","v":"日大三"},null,"男",null,52611,"田中","優希","ﾀﾅｶ","ﾕｳｷ","TANAKA","Yuuki","男","07",1]
[52612,5,26,"野田","拓杜","ﾉﾀﾞ","ﾀｸﾄ","NODA","Takuto","07",1,{"$f":"VLOOKUP(B523*100+C523,氏名データ!$AC$2:$AJ$401,2,0)","v":"日大三"},null,"男",null,52612,"野田","拓杜","ﾉﾀﾞ","ﾀｸﾄ","NODA","Takuto","男","07",1]
[52613,5,26,"宮川","龍之介","ﾐﾔｶﾞﾜ","ﾘｭｳﾉｽｹ","MIYAGAWA","Ryuunosuke","07",1,{"$f":"VLOOKUP(B524*100+C524,氏名データ!$AC$2:$AJ$401,2,0)","v":"日大三"},null,"男",null,52613,"宮川","龍之介","ﾐﾔｶﾞﾜ","ﾘｭｳﾉｽｹ","MIYAGAWA","Ryuunosuke","男","07",1]
[52614,5,26,"粕川","裕太","ｶｽｶﾜ","ﾕｳﾀ","KASUKAWA","Yuta","07",1,{"$f":"VLOOKUP(B525*100+C525,氏名データ!$AC$2:$AJ$401,2,0)","v":"日大三"},null,"男",null,52614,"粕川","裕太","ｶｽｶﾜ","ﾕｳﾀ","KASUKAWA","Yuta","男","07",1]
[52615,5,26,"河戸","理意","ｶﾜﾄ","ﾘｲ","KAWATO","Rii","06",1,{"$f":"VLOOKUP(B526*100+C526,氏名データ!$AC$2:$AJ$401,2,0)","v":"日大三"},null,"男",null,52615,"河戸","理意","ｶﾜﾄ","ﾘｲ","KAWATO","Rii","男","06",1]
[52619,5,26,"武田","暖大","ﾀｹﾀﾞ","ﾋﾅﾀ","TAKEDA","Hinata","06",1,{"$f":"VLOOKUP(B527*100+C527,氏名データ!$AC$2:$AJ$401,2,0)","v":"日大三"},null,"男",null,52619,"武田","暖大","ﾀｹﾀﾞ","ﾋﾅﾀ","TAKEDA","Hinata","男","06",1]
[52620,5,26,"安富","飛向","ﾔｽﾄﾐ","ﾋﾅﾀ","YASUTOMI","Hinata","06",1,{"$f":"VLOOKUP(B528*100+C528,氏名データ!$AC$2:$AJ$401,2,0)","v":"日大三"},null,"男",null,52620,"安富","飛向","ﾔｽﾄﾐ","ﾋﾅﾀ","YASUTOMI","Hinata","男","06",1]
[52621,5,26,"小菅","瑛士","ｺｽｹﾞ","ｴｲｼ","KOSUGE","Eishi","06",1,{"$f":"VLOOKUP(B529*100+C529,氏名データ!$AC$2:$AJ$401,2,0)","v":"日大三"},null,"男",null,52621,"小菅","瑛士","ｺｽｹﾞ","ｴｲｼ","KOSUGE","Eishi","男","06",1]
[52627,5,26,"諸隈","航","ﾓﾛｸﾏ","ﾜﾀﾙ","MOROKUMA","Wataru","05",2,{"$f":"VLOOKUP(B530*100+C530,氏名データ!$AC$2:$AJ$401,2,0)","v":"日大三"},null,"男",null,52627,"諸隈","航","ﾓﾛｸﾏ","ﾜﾀﾙ","MOROKUMA","Wataru","男","05",2]
[52628,5,26,"嵯峨野","心音","ｻｶﾞﾉ","ｼｵﾝ","SAGANO","Shion","05",2,{"$f":"VLOOKUP(B531*100+C531,氏名データ!$AC$2:$AJ$401,2,0)","v":"日大三"},null,"男",null,52628,"嵯峨野","心音","ｻｶﾞﾉ","ｼｵﾝ","SAGANO","Shion","男","05",2]
[52629,5,26,"加嶋","春登","ｶｼﾏ","ﾊﾙﾄ","KASHIMA","Haruto","06",2,{"$f":"VLOOKUP(B532*100+C532,氏名データ!$AC$2:$AJ$401,2,0)","v":"日大三"},null,"男",null,52629,"加嶋","春登","ｶｼﾏ","ﾊﾙﾄ","KASHIMA","Haruto","男","06",2]
[52635,5,26,"大野","真太郎","ｵｵﾉ","ｼﾝﾀﾛｳ","OHNO","Shintaro","05",2,{"$f":"VLOOKUP(B533*100+C533,氏名データ!$AC$2:$AJ$401,2,0)","v":"日大三"},null,"男",null,52635,"大野","真太郎","ｵｵﾉ","ｼﾝﾀﾛｳ","OHNO","Shintaro","男","05",2]
[52636,5,26,"星野","琉人","ﾎｼﾉ","ﾘｭｳﾄ","HOSHINO","Ryuto","05",2,{"$f":"VLOOKUP(B534*100+C534,氏名データ!$AC$2:$AJ$401,2,0)","v":"日大三"},null,"男",null,52636,"星野","琉人","ﾎｼﾉ","ﾘｭｳﾄ","HOSHINO","Ryuto","男","05",2]
[52637,5,26,"仁池","洸太","ﾆｲｹ","ｺｳﾀ","NIIKE","Kota","06",2,{"$f":"VLOOKUP(B535*100+C535,氏名データ!$AC$2:$AJ$401,2,0)","v":"日大三"},null,"男",null,52637,"仁池","洸太","ﾆｲｹ","ｺｳﾀ","NIIKE","Kota","男","06",2]
[52639,5,26,"伊藤","崚佑","ｲﾄｳ","ﾘｮｳｽｹ","ITO","Ryosuke","04",3,{"$f":"VLOOKUP(B536*100+C536,氏名データ!$AC$2:$AJ$401,2,0)","v":"日大三"},null,"男",null,52639,"伊藤","崚佑","ｲﾄｳ","ﾘｮｳｽｹ","ITO","Ryosuke","男","04",3]
[52640,5,26,"岩井","義道","ｲﾜｲ","ﾖｼﾐﾁ","IWAI","Yoshimichi","04",3,{"$f":"VLOOKUP(B537*100+C537,氏名データ!$AC$2:$AJ$401,2,0)","v":"日大三"},null,"男",null,52640,"岩井","義道","ｲﾜｲ","ﾖｼﾐﾁ","IWAI","Yoshimichi","男","04",3]
[52641,5,26,"鈴木","慧介","ｽｽﾞｷ","ｹｲｽｹ","SUZUKI","Keisuke","04",3,{"$f":"VLOOKUP(B538*100+C538,氏名データ!$AC$2:$AJ$401,2,0)","v":"日大三"},null,"男",null,52641,"鈴木","慧介","ｽｽﾞｷ","ｹｲｽｹ","SUZUKI","Keisuke","男","04",3]
[52643,5,26,"土井","俊哉","ﾄﾞｲ","ｼｭﾝﾔ","DOI","Shunya","04",3,{"$f":"VLOOKUP(B539*100+C539,氏名データ!$AC$2:$AJ$401,2,0)","v":"日大三"},null,"男",null,52643,"土井","俊哉","ﾄﾞｲ","ｼｭﾝﾔ","DOI","Shunya","男","04",3]
[52644,5,26,"加藤","勝利","ｶﾄｳ","ｼｮｳﾘ","KATO","Shori","04",3,{"$f":"VLOOKUP(B540*100+C540,氏名データ!$AC$2:$AJ$401,2,0)","v":"日大三"},null,"男",null,52644,"加藤","勝利","ｶﾄｳ","ｼｮｳﾘ","KATO","Shori","男","04",3]
[52645,5,26,"山田","祥理","ﾔﾏﾀﾞ","ｼｮｳﾘ","YAMADA","Shouri","04",3,{"$f":"VLOOKUP(B541*100+C541,氏名データ!$AC$2:$AJ$401,2,0)","v":"日大三"},null,"男",null,52645,"山田","祥理","ﾔﾏﾀﾞ","ｼｮｳﾘ","YAMADA","Shouri","男","04",3]
[52647,5,26,"奥野","紀之介","ｵｸﾉ","ｷﾉｽｹ","OKUNO","Kinosuke","04",3,{"$f":"VLOOKUP(B542*100+C542,氏名データ!$AC$2:$AJ$401,2,0)","v":"日大三"},null,"男",null,52647,"奥野","紀之介","ｵｸﾉ","ｷﾉｽｹ","OKUNO","Kinosuke","男","04",3]
[52648,5,26,"二階堂","悠真","ﾆｶｲﾄﾞｳ","ﾕｳﾏ","NIKAIDO","Yuma","06",1,{"$f":"VLOOKUP(B543*100+C543,氏名データ!$AC$2:$AJ$401,2,0)","v":"日大三"},null,"男",null,52648,"二階堂","悠真","ﾆｶｲﾄﾞｳ","ﾕｳﾏ","NIKAIDO","Yuma","男","06",1]
[52649,5,26,"横尾","泰成","ﾖｺｵ","ﾀｲｾｲ","YOKO","Taisei","06",1,{"$f":"VLOOKUP(B544*100+C544,氏名データ!$AC$2:$AJ$401,2,0)","v":"日大三"},null,"男",null,52649,"横尾","泰成","ﾖｺｵ","ﾀｲｾｲ","YOKO","Taisei","男","06",1]
[52680,5,26,"浅岡","希泉","ｱｻｵｶ","ﾉｿﾞﾐ","ASAOKA","Nozomi","04",3,{"$f":"VLOOKUP(B545*100+C545,氏名データ!$AC$2:$AJ$401,2,0)","v":"日大三"},null,"女",null,52680,"浅岡","希泉","ｱｻｵｶ","ﾉｿﾞﾐ","ASAOKA","Nozomi","女","04",3]
[52681,5,26,"岩澤","瑞華","ｲﾜｻﾜ","ﾐｽﾞｶ","IWASAWA","Mizuka","05",2,{"$f":"VLOOKUP(B546*100+C546,氏名データ!$AC$2:$AJ$401,2,0)","v":"日大三"},null,"女",null,52681,"岩澤","瑞華","ｲﾜｻﾜ","ﾐｽﾞｶ","IWASAWA","Mizuka","女","05",2]
[52682,5,26,"新良","美羽","ｼﾝﾗ","ﾋｳ","SHINRA","Hiu","05",2,{"$f":"VLOOKUP(B547*100+C547,氏名データ!$AC$2:$AJ$401,2,0)","v":"日大三"},null,"女",null,52682,"新良","美羽","ｼﾝﾗ","ﾋｳ","SHINRA","Hiu","女","05",2]
[52683,5,26,"小林","花音","ｺﾊﾞﾔｼ","ｶﾉﾝ","KOBAYASHI","Kanon","05",2,{"$f":"VLOOKUP(B548*100+C548,氏名データ!$AC$2:$AJ$401,2,0)","v":"日大三"},null,"女",null,52683,"小林","花音","ｺﾊﾞﾔｼ","ｶﾉﾝ","KOBAYASHI","Kanon","女","05",2]
[52684,5,26,"伊藤","はるな","ｲﾄｳ","ﾊﾙﾅ","ITO","Haruna","06",2,{"$f":"VLOOKUP(B549*100+C549,氏名データ!$AC$2:$AJ$401,2,0)","v":"日大三"},null,"女",null,52684,"伊藤","はるな","ｲﾄｳ","ﾊﾙﾅ","ITO","Haruna","女","06",2]
[52685,5,26,"與田","有紗","ﾖﾀﾞ","ｱﾘｻ","YODA","Arisa","05",2,{"$f":"VLOOKUP(B550*100+C550,氏名データ!$AC$2:$AJ$401,2,0)","v":"日大三"},null,"女",null,52685,"與田","有紗","ﾖﾀﾞ","ｱﾘｻ","YODA","Arisa","女","05",2]
[52686,5,26,"森","華月","ﾓﾘ","ﾊﾂﾞｷ","MORI","Hazuki","05",2,{"$f":"VLOOKUP(B551*100+C551,氏名データ!$AC$2:$AJ$401,2,0)","v":"日大三"},null,"女",null,52686,"森","華月","ﾓﾘ","ﾊﾂﾞｷ","MORI","Hazuki","女","05",2]
[52687,5,26,"田中","千代","ﾀﾅｶ","ﾁﾖ","TANAKA","Chiyo","06",1,{"$f":"VLOOKUP(B552*100+C552,氏名データ!$AC$2:$AJ$401,2,0)","v":"日大三"},null,"女",null,52687,"田中","千代","ﾀﾅｶ","ﾁﾖ","TANAKA","Chiyo","女","06",1]
[52688,5,26,"小田和","茉弥佳","ｵﾀﾜ","ﾏﾐｶ","OTAWA","Mamika","06",1,{"$f":"VLOOKUP(B553*100+C553,氏名データ!$AC$2:$AJ$401,2,0)","v":"日大三"},null,"女",null,52688,"小田和","茉弥佳","ｵﾀﾜ","ﾏﾐｶ","OTAWA","Mamika","女","06",1]
[52689,5,26,"谷島","李","ﾀﾆｼﾏ","ｽﾓﾓ","TANISHIMA","Sumomo","07",1,{"$f":"VLOOKUP(B554*100+C554,氏名データ!$AC$2:$AJ$401,2,0)","v":"日大三"},null,"女",null,52689,"谷島","李","ﾀﾆｼﾏ","ｽﾓﾓ","TANISHIMA","Sumomo","女","07",1]
[52690,5,26,"芦澤","璃音","ｱｼｻﾞﾜ","ﾘﾉ","ASHIZAWA","Rino","06",1,{"$f":"VLOOKUP(B555*100+C555,氏名データ!$AC$2:$AJ$401,2,0)","v":"日大三"},null,"女",null,52690,"芦澤","璃音","ｱｼｻﾞﾜ","ﾘﾉ","ASHIZAWA","Rino","女","06",1]
[52691,5,26,"山本","琴厘","ﾔﾏﾓﾄ","ｺﾄﾘ","YAMAMOTO","Kotori","06",1,{"$f":"VLOOKUP(B556*100+C556,氏名データ!$AC$2:$AJ$401,2,0)","v":"日大三"},null,"女",null,52691,"山本","琴厘","ﾔﾏﾓﾄ","ｺﾄﾘ","YAMAMOTO","Kotori","女","06",1]
[52922,5,29,"堀田","康介","ﾎｯﾀ","ｺｳｽｹ","HOTTA","Kousuke","04",3,{"$f":"VLOOKUP(B557*100+C557,氏名データ!$AC$2:$AJ$401,2,0)","v":"都永山"},null,"男",null,52922,"堀田","康介","ﾎｯﾀ","ｺｳｽｹ","HOTTA","Kousuke","男","04",3]
[52923,5,29,"佐藤","汰一","ｻﾄｳ","ﾀｲﾁ","SATO","Taichi","05",2,{"$f":"VLOOKUP(B558*100+C558,氏名データ!$AC$2:$AJ$401,2,0)","v":"都永山"},null,"男",null,52923,"佐藤","汰一","ｻﾄｳ","ﾀｲﾁ","SATO","Taichi","男","05",2]
[52924,5,29,"板屋","翔大","ｲﾀﾔ","ｼｮｳﾀ","ITAYA","Shota","05",2,{"$f":"VLOOKUP(B559*100+C559,氏名データ!$AC$2:$AJ$401,2,0)","v":"都永山"},null,"男",null,52924,"板屋","翔大","ｲﾀﾔ","ｼｮｳﾀ","ITAYA","Shota","男","05",2]
[52925,5,29,"小野","航平","ｵﾉ","ｺｳﾍｲ","ONO","Kohei","05",2,{"$f":"VLOOKUP(B560*100+C560,氏名データ!$AC$2:$AJ$401,2,0)","v":"都永山"},null,"男",null,52925,"小野","航平","ｵﾉ","ｺｳﾍｲ","ONO","Kohei","男","05",2]
[52926,5,29,"夏井","一誠","ﾅﾂｲ","ｲｯｾｲ","NATSUI","Issei","05",2,{"$f":"VLOOKUP(B561*100+C561,氏名データ!$AC$2:$AJ$401,2,0)","v":"都永山"},null,"男",null,52926,"夏井","一誠","ﾅﾂｲ","ｲｯｾｲ","NATSUI","Issei","男","05",2]
[52927,5,29,"大村","威月","ｵｵﾑﾗ","ｲﾂｷ","OOMURA","Itsuki","06",2,{"$f":"VLOOKUP(B562*100+C562,氏名データ!$AC$2:$AJ$401,2,0)","v":"都永山"},null,"男",null,52927,"大村","威月","ｵｵﾑﾗ","ｲﾂｷ","OOMURA","Itsuki","男","06",2]
[52928,5,29,"宮澤","宇宙","ﾐﾔｻﾞﾜ","ｿﾗ","MIYAZAWA","Sora","05",2,{"$f":"VLOOKUP(B563*100+C563,氏名データ!$AC$2:$AJ$401,2,0)","v":"都永山"},null,"男",null,52928,"宮澤","宇宙","ﾐﾔｻﾞﾜ","ｿﾗ","MIYAZAWA","Sora","男","05",2]
[52940,5,29,"池田","幸樹","ｲｹﾀﾞ","ｺｳｷ","IKEDA","Kouki","06",1,{"$f":"VLOOKUP(B564*100+C564,氏名データ!$AC$2:$AJ$401,2,0)","v":"都永山"},null,"男",null,52940,"池田","幸樹","ｲｹﾀﾞ","ｺｳｷ","IKEDA","Kouki","男","06",1]
[52941,5,29,"三浦","真基","ﾐｳﾗ","ﾏｷ","MIURA","Maki","06",1,{"$f":"VLOOKUP(B565*100+C565,氏名データ!$AC$2:$AJ$401,2,0)","v":"都永山"},null,"男",null,52941,"三浦","真基","ﾐｳﾗ","ﾏｷ","MIURA","Maki","男","06",1]
[52942,5,29,"大場","悠之介","ｵｵﾊﾞ","ﾕｳﾉｽｹ","OOBA","Yuunosuke","07",1,{"$f":"VLOOKUP(B566*100+C566,氏名データ!$AC$2:$AJ$401,2,0)","v":"都永山"},null,"男",null,52942,"大場","悠之介","ｵｵﾊﾞ","ﾕｳﾉｽｹ","OOBA","Yuunosuke","男","07",1]
[52943,5,29,"久木原","柊","ｸｷﾊﾗ","ｼｭｳ","KUKIHARA","Shu","06",1,{"$f":"VLOOKUP(B567*100+C567,氏名データ!$AC$2:$AJ$401,2,0)","v":"都永山"},null,"男",null,52943,"久木原","柊","ｸｷﾊﾗ","ｼｭｳ","KUKIHARA","Shu","男","06",1]
[52944,5,29,"猪端","誠也","ｲﾉﾊﾀ","ｾｲﾔ","INOHATA","Seiya","07",1,{"$f":"VLOOKUP(B568*100+C568,氏名データ!$AC$2:$AJ$401,2,0)","v":"都永山"},null,"男",null,52944,"猪端","誠也","ｲﾉﾊﾀ","ｾｲﾔ","INOHATA","Seiya","男","07",1]
[52965,5,29,"針谷","真唯","ﾊﾘｶﾞﾔ","ﾏｲ","HARIGAYA","Mai","04",3,{"$f":"VLOOKUP(B569*100+C569,氏名データ!$AC$2:$AJ$401,2,0)","v":"都永山"},null,"女",null,52965,"針谷","真唯","ﾊﾘｶﾞﾔ","ﾏｲ","HARIGAYA","Mai","女","04",3]
[52966,5,29,"栗山","琴羽","ｸﾘﾔﾏ","ｺﾄﾊ","KURIYAMA","Kotoha","05",2,{"$f":"VLOOKUP(B570*100+C570,氏名データ!$AC$2:$AJ$401,2,0)","v":"都永山"},null,"女",null,52966,"栗山","琴羽","ｸﾘﾔﾏ","ｺﾄﾊ","KURIYAMA","Kotoha","女","05",2]
[52967,5,29,"篠田","優花","ｼﾉﾀﾞ","ﾕｳｶ","SHINODA","Yuka","06",2,{"$f":"VLOOKUP(B571*100+C571,氏名データ!$AC$2:$AJ$401,2,0)","v":"都永山"},null,"女",null,52967,"篠田","優花","ｼﾉﾀﾞ","ﾕｳｶ","SHINODA","Yuka","女","06",2]
[52968,5,29,"鈴木","聖","ｽｽﾞｷ","ﾋｼﾞﾘ","SUZUKI","Hijiri","06",2,{"$f":"VLOOKUP(B572*100+C572,氏名データ!$AC$2:$AJ$401,2,0)","v":"都永山"},null,"女",null,52968,"鈴木","聖","ｽｽﾞｷ","ﾋｼﾞﾘ","SUZUKI","Hijiri","女","06",2]
[52969,5,29,"山口","柑奈","ﾔﾏｸﾞﾁ","ｶﾅ","YAMAGUCHI","Kana","06",1,{"$f":"VLOOKUP(B573*100+C573,氏名データ!$AC$2:$AJ$401,2,0)","v":"都永山"},null,"女",null,52969,"山口","柑奈","ﾔﾏｸﾞﾁ","ｶﾅ","YAMAGUCHI","Kana","女","06",1]
[53009,5,30,"渡邊","嵩仁","ﾜﾀﾅﾍﾞ","ﾀｶﾋﾄ","WATANABE","Takahito","04",3,{"$f":"VLOOKUP(B574*100+C574,氏名データ!$AC$2:$AJ$401,2,0)","v":"サレジオ高専"},null,"男",null,53009,"渡邊","嵩仁","ﾜﾀﾅﾍﾞ","ﾀｶﾋﾄ","WATANABE","Takahito","男","04",3]
[53010,5,30,"高田","朋秀","ﾀｶﾀﾞ","ﾄﾓﾋﾃﾞ","TAKADA","Tomohide","05",3,{"$f":"VLOOKUP(B575*100+C575,氏名データ!$AC$2:$AJ$401,2,0)","v":"サレジオ高専"},null,"男",null,53010,"高田","朋秀","ﾀｶﾀﾞ","ﾄﾓﾋﾃﾞ","TAKADA","Tomohide","男","05",3]
[53011,5,30,"臼井","啓裕","ｳｽｲ","ｹｲｽｹ","USUI","Keisuke","05",3,{"$f":"VLOOKUP(B576*100+C576,氏名データ!$AC$2:$AJ$401,2,0)","v":"サレジオ高専"},null,"男",null,53011,"臼井","啓裕","ｳｽｲ","ｹｲｽｹ","USUI","Keisuke","男","05",3]
[53012,5,30,"細田","航志","ﾎｿﾀﾞ","ｺｳｼ","HOSODA","Koushi","04",3,{"$f":"VLOOKUP(B577*100+C577,氏名データ!$AC$2:$AJ$401,2,0)","v":"サレジオ高専"},null,"男",null,53012,"細田","航志","ﾎｿﾀﾞ","ｺｳｼ","HOSODA","Koushi","男","04",3]
[53014,5,30,"牧野","隼人","ﾏｷﾉ","ﾊﾔﾄ","MAKINO","Hayato","05",2,{"$f":"VLOOKUP(B578*100+C578,氏名データ!$AC$2:$AJ$401,2,0)","v":"サレジオ高専"},null,"男",null,53014,"牧野","隼人","ﾏｷﾉ","ﾊﾔﾄ","MAKINO","Hayato","男","05",2]
[{"$f":"P579","v":53016},{"$f":"ROUNDDOWN(A579/10000,0)","v":5},{"$f":"ROUNDDOWN((A579-B579*10000)/100,0)","v":30},{"$f":"Q579","v":"小林"},{"$f":"R579","v":"誠季"},{"$f":"S579","v":"ｺﾊﾞﾔｼ"},{"$f":"T579","v":"ﾏｻｷ"},{"$f":"U579","v":"KOBAYASHI"},{"$f":"V579","v":"Masaki"},{"$f":"X579","v":"06"},{"$f":"Y579","v":2},{"$f":"VLOOKUP(B579*100+C579,氏名データ!$AC$2:$AJ$401,2,0)","v":"サレジオ高専"},null,{"$f":"W579","v":"男"},null,53016,"小林","誠季","ｺﾊﾞﾔｼ","ﾏｻｷ","KOBAYASHI","Masaki","男","06",2]
[53017,5,30,"成田","樹央","ﾅﾘﾀ","ｲﾂｷ","NARITA","Itsuki","04",3,{"$f":"VLOOKUP(B580*100+C580,氏名データ!$AC$2:$AJ$401,2,0)","v":"サレジオ高専"},null,"男",null,53017,"成田","樹央","ﾅﾘﾀ","ｲﾂｷ","NARITA","Itsuki","男","04",3]
[53018,5,30,"伊藤","輝","ｲﾄｳ","ﾋｶﾙ","ITO","Hikaru","06",2,{"$f":"VLOOKUP(B581*100+C581,氏名データ!$AC$2:$AJ$401,2,0)","v":"サレジオ高専"},null,"男",null,53018,"伊藤","輝","ｲﾄｳ","ﾋｶﾙ","ITO","Hikaru","男","06",2]
[53019,5,30,"市川","創太","ｲﾁｶﾜ","ｿｳﾀ","ICHIKAWA","Sota","05",2,{"$f":"VLOOKUP(B582*100+C582,氏名データ!$AC$2:$AJ$401,2,0)","v":"サレジオ高専"},null,"男",null,53019,"市川","創太","ｲﾁｶﾜ","ｿｳﾀ","ICHIKAWA","Sota","男","05",2]
[53020,5,30,"田中","宥次","ﾀﾅｶ","ﾋﾛﾂｸﾞ","TANAKA","Hirotsugu","05",2,{"$f":"VLOOKUP(B583*100+C583,氏名データ!$AC$2:$AJ$401,2,0)","v":"サレジオ高専"},null,"男",null,53020,"田中","宥次","ﾀﾅｶ","ﾋﾛﾂｸﾞ","TANAKA","Hirotsugu","男","05",2]
[53021,5,30,"榧場","悠太","ｶﾔﾊﾞ","ﾕｳﾀ","KAYABA","Yuta","06",1,{"$f":"VLOOKUP(B584*100+C584,氏名データ!$AC$2:$AJ$401,2,0)","v":"サレジオ高専"},null,"男",null,53021,"榧場","悠太","ｶﾔﾊﾞ","ﾕｳﾀ","KAYABA","Yuta","男","06",1]
[53022,5,30,"坂井","聖奈","ｻｶｲ","ｾﾅ","SAKAI","Sena","05",2,{"$f":"VLOOKUP(B585*100+C585,氏名データ!$AC$2:$AJ$401,2,0)","v":"サレジオ高専"},null,"男",null,53022,"坂井","聖奈","ｻｶｲ","ｾﾅ","SAKAI","Sena","男","05",2]
[53023,5,30,"齋藤","碧","ｻｲﾄｳ","ｿﾗ","SAITO","Sora","05",2,{"$f":"VLOOKUP(B586*100+C586,氏名データ!$AC$2:$AJ$401,2,0)","v":"サレジオ高専"},null,"男",null,53023,"齋藤","碧","ｻｲﾄｳ","ｿﾗ","SAITO","Sora","男","05",2]
[53024,5,30,"髙﨑","然","ﾀｶｻｷ","ｾﾞﾝ","TAKASAKI","Zen","06",1,{"$f":"VLOOKUP(B587*100+C587,氏名データ!$AC$2:$AJ$401,2,0)","v":"サレジオ高専"},null,"男",null,53024,"髙﨑","然","ﾀｶｻｷ","ｾﾞﾝ","TAKASAKI","Zen","男","06",1]
[53025,5,30,"北向","輪光","ｷﾀﾑｷ","ﾜｶ","KITAMUKI","Waka","04",3,{"$f":"VLOOKUP(B588*100+C588,氏名データ!$AC$2:$AJ$401,2,0)","v":"サレジオ高専"},null,"男",null,53025,"北向","輪光","ｷﾀﾑｷ","ﾜｶ","KITAMUKI","Waka","男","04",3]
[53026,5,30,"三海","世民","ﾐｶｲ","ｾﾐﾝ","MIKAI","Semin","07",1,{"$f":"VLOOKUP(B589*100+C589,氏名データ!$AC$2:$AJ$401,2,0)","v":"サレジオ高専"},null,"男",null,53026,"三海","世民","ﾐｶｲ","ｾﾐﾝ","MIKAI","Semin","男","07",1]
[53052,5,30,"竹腰","聖奈","ﾀｹｺｼ","ｾｲﾅ","TAKEKOSHI","Seina","04",3,{"$f":"VLOOKUP(B590*100+C590,氏名データ!$AC$2:$AJ$401,2,0)","v":"サレジオ高専"},null,"女",null,53052,"竹腰","聖奈","ﾀｹｺｼ","ｾｲﾅ","TAKEKOSHI","Seina","女","04",3]
[53053,5,30,"新保","咲和","ｼﾝﾎﾞ","ｻﾜ","SHINBO","Sawa","05",2,{"$f":"VLOOKUP(B591*100+C591,氏名データ!$AC$2:$AJ$401,2,0)","v":"サレジオ高専"},null,"女",null,53053,"新保","咲和","ｼﾝﾎﾞ","ｻﾜ","SHINBO","Sawa","女","05",2]
[53167,5,31,"田倉","優衣","ﾀｸﾗ","ﾕｲ","TAKURA","Yui","04",3,{"$f":"VLOOKUP(B592*100+C592,氏名データ!$AC$2:$AJ$401,2,0)","v":"大妻多摩"},null,"女",null,53167,"田倉","優衣","ﾀｸﾗ","ﾕｲ","TAKURA","Yui","女","04",3]
[53168,5,31,"蛭川","智世","ﾋﾙｶﾜ","ﾁｾ","HIRUKAWA","Chise","04",3,{"$f":"VLOOKUP(B593*100+C593,氏名データ!$AC$2:$AJ$401,2,0)","v":"大妻多摩"},null,"女",null,53168,"蛭川","智世","ﾋﾙｶﾜ","ﾁｾ","HIRUKAWA","Chise","女","04",3]
[53169,5,31,"前川","莉穂","ﾏｴｶﾜ","ﾘﾎ","MAEKAWA","Riho","04",3,{"$f":"VLOOKUP(B594*100+C594,氏名データ!$AC$2:$AJ$401,2,0)","v":"大妻多摩"},null,"女",null,53169,"前川","莉穂","ﾏｴｶﾜ","ﾘﾎ","MAEKAWA","Riho","女","04",3]
[53170,5,31,"小川","美波","ｵｶﾞﾜ","ﾐﾅﾐ","OGAWA","Minami","05",2,{"$f":"VLOOKUP(B595*100+C595,氏名データ!$AC$2:$AJ$401,2,0)","v":"大妻多摩"},null,"女",null,53170,"小川","美波","ｵｶﾞﾜ","ﾐﾅﾐ","OGAWA","Minami","女","05",2]
[53171,5,31,"加藤","未夏","ｶﾄｳ","ﾐﾅﾂ","KATO","Minatsu","05",2,{"$f":"VLOOKUP(B596*100+C596,氏名データ!$AC$2:$AJ$401,2,0)","v":"大妻多摩"},null,"女",null,53171,"加藤","未夏","ｶﾄｳ","ﾐﾅﾂ","KATO","Minatsu","女","05",2]
[53172,5,31,"髙松","まいか","ﾀｶﾏﾂ","ﾏｲｶ","TAKAMATSU","Maika","05",2,{"$f":"VLOOKUP(B597*100+C597,氏名データ!$AC$2:$AJ$401,2,0)","v":"大妻多摩"},null,"女",null,53172,"髙松","まいか","ﾀｶﾏﾂ","ﾏｲｶ","TAKAMATSU","Maika","女","05",2]
[53173,5,31,"中田","さえら","ﾅｶﾀﾞ","ｻｴﾗ","NAKADA","Saera","06",1,{"$f":"VLOOKUP(B598*100+C598,氏名データ!$AC$2:$AJ$401,2,0)","v":"大妻多摩"},null,"女",null,53173,"中田","さえら","ﾅｶﾀﾞ","ｻｴﾗ","NAKADA","Saera","女","06",1]
[53174,5,31,"古川","和奏","ﾌﾙｶﾜ","ﾜｶﾅ","FURUKAWA","Wakana","07",1,{"$f":"VLOOKUP(B599*100+C599,氏名データ!$AC$2:$AJ$401,2,0)","v":"大妻多摩"},null,"女",null,53174,"古川","和奏","ﾌﾙｶﾜ","ﾜｶﾅ","FURUKAWA","Wakana","女","07",1]
[53175,5,31,"矢澤","香帆","ﾔｻﾞﾜ","ｶﾎ","YAZAWA","Kaho","07",1,{"$f":"VLOOKUP(B600*100+C600,氏名データ!$AC$2:$AJ$401,2,0)","v":"大妻多摩"},null,"女",null,53175,"矢澤","香帆","ﾔｻﾞﾜ","ｶﾎ","YAZAWA","Kaho","女","07",1]
[53224,5,32,"遠藤","剛","ｴﾝﾄﾞｳ","ｺﾞｳ","ENDO","Go","04",3,{"$f":"VLOOKUP(B601*100+C601,氏名データ!$AC$2:$AJ$401,2,0)","v":"多摩大聖ヶ丘"},null,"男",null,53224,"遠藤","剛","ｴﾝﾄﾞｳ","ｺﾞｳ","ENDO","Go","男","04",3]
[53225,5,32,"平井","啓太","ﾋﾗｲ","ｹｲﾀ","HIRAI","Keita","04",3,{"$f":"VLOOKUP(B602*100+C602,氏名データ!$AC$2:$AJ$401,2,0)","v":"多摩大聖ヶ丘"},null,"男",null,53225,"平井","啓太","ﾋﾗｲ","ｹｲﾀ","HIRAI","Keita","男","04",3]
[53226,5,32,"平山","詠一朗","ﾋﾗﾔﾏ","ｴｲｲﾁﾛｳ","HIRAYAMA","Eiichiro","05",3,{"$f":"VLOOKUP(B603*100+C603,氏名データ!$AC$2:$AJ$401,2,0)","v":"多摩大聖ヶ丘"},null,"男",null,53226,"平山","詠一朗","ﾋﾗﾔﾏ","ｴｲｲﾁﾛｳ","HIRAYAMA","Eiichiro","男","05",3]
[53227,5,32,"山本","翔大","ﾔﾏﾓﾄ","ｼｮｳﾀ","YAMAMOTO","Shota","04",3,{"$f":"VLOOKUP(B604*100+C604,氏名データ!$AC$2:$AJ$401,2,0)","v":"多摩大聖ヶ丘"},null,"男",null,53227,"山本","翔大","ﾔﾏﾓﾄ","ｼｮｳﾀ","YAMAMOTO","Shota","男","04",3]
[53228,5,32,"多和田","真蔵","ﾀﾜﾀﾞ","ｼﾝｿﾞｳ","TAWADA","Shinzo","05",2,{"$f":"VLOOKUP(B605*100+C605,氏名データ!$AC$2:$AJ$401,2,0)","v":"多摩大聖ヶ丘"},null,"男",null,53228,"多和田","真蔵","ﾀﾜﾀﾞ","ｼﾝｿﾞｳ","TAWADA","Shinzo","男","05",2]
[53256,5,32,"佐藤","綾音","ｻﾄｳ","ｱﾔﾈ","SATO","Ayane","05",2,{"$f":"VLOOKUP(B606*100+C606,氏名データ!$AC$2:$AJ$401,2,0)","v":"多摩大聖ヶ丘"},null,"女",null,53256,"佐藤","綾音","ｻﾄｳ","ｱﾔﾈ","SATO","Ayane","女","05",2]
[53257,5,32,"森岡","伽衣","ﾓﾘｵｶ","ｶｴ","MORIOKA","Kae","05",2,{"$f":"VLOOKUP(B607*100+C607,氏名データ!$AC$2:$AJ$401,2,0)","v":"多摩大聖ヶ丘"},null,"女",null,53257,"森岡","伽衣","ﾓﾘｵｶ","ｶｴ","MORIOKA","Kae","女","05",2]
[53258,5,32,"平岡","結菜","ﾋﾗｵｶ","ﾕｲﾅ","HIRAOKA","Yuina","04",3,{"$f":"VLOOKUP(B608*100+C608,氏名データ!$AC$2:$AJ$401,2,0)","v":"多摩大聖ヶ丘"},null,"女",null,53258,"平岡","結菜","ﾋﾗｵｶ","ﾕｲﾅ","HIRAOKA","Yuina","女","04",3]
[53259,5,32,"椎野","アンジェリカ","ｼｲﾉ","ｱﾝｼﾞｪﾘｶ","SHINO","Angelika","06",1,{"$f":"VLOOKUP(B609*100+C609,氏名データ!$AC$2:$AJ$401,2,0)","v":"多摩大聖ヶ丘"},null,"女",null,53259,"椎野","アンジェリカ","ｼｲﾉ","ｱﾝｼﾞｪﾘｶ","SHINO","Angelika","女","06",1]
[53260,5,32,"後藤","小晴","ｺﾞﾄｳ","ｺﾊﾙ","GOTO","Koharu","06",1,{"$f":"VLOOKUP(B610*100+C610,氏名データ!$AC$2:$AJ$401,2,0)","v":"多摩大聖ヶ丘"},null,"女",null,53260,"後藤","小晴","ｺﾞﾄｳ","ｺﾊﾙ","GOTO","Koharu","女","06",1]
[53402,5,34,"小島","成","ｺｼﾞﾏ","ﾅﾙ","KOJIMA","Naru","05",2,{"$f":"VLOOKUP(B611*100+C611,氏名データ!$AC$2:$AJ$401,2,0)","v":"都神代"},null,"男",null,53402,"小島","成","ｺｼﾞﾏ","ﾅﾙ","KOJIMA","Naru","男","05",2]
[53405,5,34,"橋口","渓","ﾊｼｸﾞﾁ","ｹｲ","HASHIGUCHI","Kei","05",2,{"$f":"VLOOKUP(B612*100+C612,氏名データ!$AC$2:$AJ$401,2,0)","v":"都神代"},null,"男",null,53405,"橋口","渓","ﾊｼｸﾞﾁ","ｹｲ","HASHIGUCHI","Kei","男","05",2]
[53411,5,34,"佐藤","峻平","ｻﾄｳ","ｼｭﾝﾍﾟｲ","SATOU","Shunpei","06",1,{"$f":"VLOOKUP(B613*100+C613,氏名データ!$AC$2:$AJ$401,2,0)","v":"都神代"},null,"男",null,53411,"佐藤","峻平","ｻﾄｳ","ｼｭﾝﾍﾟｲ","SATOU","Shunpei","男","06",1]
[53412,5,34,"福田","瑛斗","ﾌｸﾀﾞ","ｴｲﾄ","FUKUDA","Eito","06",1,{"$f":"VLOOKUP(B614*100+C614,氏名データ!$AC$2:$AJ$401,2,0)","v":"都神代"},null,"男",null,53412,"福田","瑛斗","ﾌｸﾀﾞ","ｴｲﾄ","FUKUDA","Eito","男","06",1]
[53413,5,34,"戸井田","薫平","ﾄｲﾀﾞ","ｸﾝﾍﾟｲ","TOIDA","Kunpei","06",1,{"$f":"VLOOKUP(B615*100+C615,氏名データ!$AC$2:$AJ$401,2,0)","v":"都神代"},null,"男",null,53413,"戸井田","薫平","ﾄｲﾀﾞ","ｸﾝﾍﾟｲ","TOIDA","Kunpei","男","06",1]
[53441,5,34,"工藤","正輝","ｸﾄﾞｳ","ﾏｻｷ","KUDO","Masaki","05",3,{"$f":"VLOOKUP(B616*100+C616,氏名データ!$AC$2:$AJ$401,2,0)","v":"都神代"},null,"男",null,53441,"工藤","正輝","ｸﾄﾞｳ","ﾏｻｷ","KUDO","Masaki","男","05",3]
[53451,5,34,"本田","花漣","ﾎﾝﾀﾞ","ｶﾚﾝ","HONDA","Karen","07",1,{"$f":"VLOOKUP(B617*100+C617,氏名データ!$AC$2:$AJ$401,2,0)","v":"都神代"},null,"女",null,53451,"本田","花漣","ﾎﾝﾀﾞ","ｶﾚﾝ","HONDA","Karen","女","07",1]
[53452,5,34,"萬壽","美緒","ﾏﾝｼﾞｭ","ﾐｵ","MANJU","Mio","06",1,{"$f":"VLOOKUP(B618*100+C618,氏名データ!$AC$2:$AJ$401,2,0)","v":"都神代"},null,"女",null,53452,"萬壽","美緒","ﾏﾝｼﾞｭ","ﾐｵ","MANJU","Mio","女","06",1]
[53491,5,34,"平","彩佳","ﾀｲﾗ","ｱﾔｶ","TAIRA","Ayaka","05",2,{"$f":"VLOOKUP(B619*100+C619,氏名データ!$AC$2:$AJ$401,2,0)","v":"都神代"},null,"女",null,53491,"平","彩佳","ﾀｲﾗ","ｱﾔｶ","TAIRA","Ayaka","女","05",2]
[53492,5,34,"成川","実那","ﾅﾘｶﾜ","ﾐﾅ","NARIKAWA","Mina","06",2,{"$f":"VLOOKUP(B620*100+C620,氏名データ!$AC$2:$AJ$401,2,0)","v":"都神代"},null,"女",null,53492,"成川","実那","ﾅﾘｶﾜ","ﾐﾅ","NARIKAWA","Mina","女","06",2]
[53493,5,34,"牟田","歩果","ﾑﾀ","ｱﾕｶ","MUTA","Ayuka","05",2,{"$f":"VLOOKUP(B621*100+C621,氏名データ!$AC$2:$AJ$401,2,0)","v":"都神代"},null,"女",null,53493,"牟田","歩果","ﾑﾀ","ｱﾕｶ","MUTA","Ayuka","女","05",2]
[53504,5,35,"坂本","清太郎","ｻｶﾓﾄ","ｾｲﾀﾛｳ","SAKAMOTO","Seitaro","03",3,{"$f":"VLOOKUP(B622*100+C622,氏名データ!$AC$2:$AJ$401,2,0)","v":"都調布北"},null,"男",null,53504,"坂本","清太郎","ｻｶﾓﾄ","ｾｲﾀﾛｳ","SAKAMOTO","Seitaro","男","03",3]
[53505,5,35,"畑中","顕成","ﾊﾀﾅｶ","ﾃﾙｱｷ","HATANAKA","Teruaki","05",2,{"$f":"VLOOKUP(B623*100+C623,氏名データ!$AC$2:$AJ$401,2,0)","v":"都調布北"},null,"男",null,53505,"畑中","顕成","ﾊﾀﾅｶ","ﾃﾙｱｷ","HATANAKA","Teruaki","男","05",2]
[53506,5,35,"安部","禅喜","ｱﾍﾞ","ｾﾞﾝｷ","ABE","Zenki","05",2,{"$f":"VLOOKUP(B624*100+C624,氏名データ!$AC$2:$AJ$401,2,0)","v":"都調布北"},null,"男",null,53506,"安部","禅喜","ｱﾍﾞ","ｾﾞﾝｷ","ABE","Zenki","男","05",2]
[53551,5,35,"四井","桃香","ﾖﾂｲ","ﾓﾓｶ","YOTSUI","Momoka","06",2,{"$f":"VLOOKUP(B625*100+C625,氏名データ!$AC$2:$AJ$401,2,0)","v":"都調布北"},null,"女",null,53551,"四井","桃香","ﾖﾂｲ","ﾓﾓｶ","YOTSUI","Momoka","女","06",2]
[53601,5,36,"麻生","悠斗","ｱｻｵ","ﾊﾙﾄ","ASAO","Haruto","04",3,{"$f":"VLOOKUP(B626*100+C626,氏名データ!$AC$2:$AJ$401,2,0)","v":"都調布南"},null,"男",null,53601,"麻生","悠斗","ｱｻｵ","ﾊﾙﾄ","ASAO","Haruto","男","04",3]
[53602,5,36,"橋本","眞澄","ﾊｼﾓﾄ","ﾏｽﾐ","HASIMOTO","Masumi","05",3,{"$f":"VLOOKUP(B627*100+C627,氏名データ!$AC$2:$AJ$401,2,0)","v":"都調布南"},null,"男",null,53602,"橋本","眞澄","ﾊｼﾓﾄ","ﾏｽﾐ","HASIMOTO","Masumi","男","05",3]
[53603,5,36,"佐藤","颯人","ｻﾄｳ","ﾊﾔﾄ","SATO","Hayato","04",3,{"$f":"VLOOKUP(B628*100+C628,氏名データ!$AC$2:$AJ$401,2,0)","v":"都調布南"},null,"男",null,53603,"佐藤","颯人","ｻﾄｳ","ﾊﾔﾄ","SATO","Hayato","男","04",3]
[53604,5,36,"菅沼","雄大","ｽｶﾞﾇﾏ","ﾕｳﾀﾞｲ","SUGANUMA","Yudai","06",2,{"$f":"VLOOKUP(B629*100+C629,氏名データ!$AC$2:$AJ$401,2,0)","v":"都調布南"},null,"男",null,53604,"菅沼","雄大","ｽｶﾞﾇﾏ","ﾕｳﾀﾞｲ","SUGANUMA","Yudai","男","06",2]
[53605,5,36,"鈴木","淳平","ｽｽﾞｷ","ｼﾞｭﾝﾍﾟｲ","SUZUKI","Jumpei","05",2,{"$f":"VLOOKUP(B630*100+C630,氏名データ!$AC$2:$AJ$401,2,0)","v":"都調布南"},null,"男",null,53605,"鈴木","淳平","ｽｽﾞｷ","ｼﾞｭﾝﾍﾟｲ","SUZUKI","Jumpei","男","05",2]
[53606,5,36,"市村","隼","ｲﾁﾑﾗ","ｼｭﾝ","ICHIMURA","Shun","05",2,{"$f":"VLOOKUP(B631*100+C631,氏名データ!$AC$2:$AJ$401,2,0)","v":"都調布南"},null,"男",null,53606,"市村","隼","ｲﾁﾑﾗ","ｼｭﾝ","ICHIMURA","Shun","男","05",2]
[53607,5,36,"江花","鼓太郎","ｴﾊﾞﾅ","ｺﾀﾛｳ","EBANA","Kotarou","06",1,{"$f":"VLOOKUP(B632*100+C632,氏名データ!$AC$2:$AJ$401,2,0)","v":"都調布南"},null,"男",null,53607,"江花","鼓太郎","ｴﾊﾞﾅ","ｺﾀﾛｳ","EBANA","Kotarou","男","06",1]
[53608,5,36,"天野","慧人","ｱﾏﾉ","ｹｲﾄ","AMANO","Keito","06",1,{"$f":"VLOOKUP(B633*100+C633,氏名データ!$AC$2:$AJ$401,2,0)","v":"都調布南"},null,"男",null,53608,"天野","慧人","ｱﾏﾉ","ｹｲﾄ","AMANO","Keito","男","06",1]
[53609,5,36,"鈴木","裕斗","ｽｽﾞｷ","ﾋﾛﾄ","SUZUKI","Hiroto","06",1,{"$f":"VLOOKUP(B634*100+C634,氏名データ!$AC$2:$AJ$401,2,0)","v":"都調布南"},null,"男",null,53609,"鈴木","裕斗","ｽｽﾞｷ","ﾋﾛﾄ","SUZUKI","Hiroto","男","06",1]
[53610,5,36,"高橋","一鳳","ﾀｶﾊｼ","ｶｽﾞﾀｶ","TAKAHASHI","Kazutaka","06",1,{"$f":"VLOOKUP(B635*100+C635,氏名データ!$AC$2:$AJ$401,2,0)","v":"都調布南"},null,"男",null,53610,"高橋","一鳳","ﾀｶﾊｼ","ｶｽﾞﾀｶ","TAKAHASHI","Kazutaka","男","06",1]
[53611,5,36,"滝澤","志信","ﾀｷｻﾞﾜ","ｼﾉﾌﾞ","TAKAZAWA","Shinobu","06",1,{"$f":"VLOOKUP(B636*100+C636,氏名データ!$AC$2:$AJ$401,2,0)","v":"都調布南"},null,"男",null,53611,"滝澤","志信","ﾀｷｻﾞﾜ","ｼﾉﾌﾞ","TAKAZAWA","Shinobu","男","06",1]
[53612,5,36,"古屋","友寛","ﾌﾙﾔ","ﾄﾓﾋﾛ","HURUYA","Tomohiro","06",1,{"$f":"VLOOKUP(B637*100+C637,氏名データ!$AC$2:$AJ$401,2,0)","v":"都調布南"},null,"男",null,53612,"古屋","友寛","ﾌﾙﾔ","ﾄﾓﾋﾛ","HURUYA","Tomohiro","男","06",1]
[53613,5,36,"伊東","直輝","ｲﾄｳ","ﾅｵｷ","ITO","Naoki","06",1,{"$f":"VLOOKUP(B638*100+C638,氏名データ!$AC$2:$AJ$401,2,0)","v":"都調布南"},null,"男",null,53613,"伊東","直輝","ｲﾄｳ","ﾅｵｷ","ITO","Naoki","男","06",1]
[53614,5,36,"関根","達人","ｾｷﾈ","ﾀﾂﾋﾄ","SEKINE","Tatsuhito","06",1,{"$f":"VLOOKUP(B639*100+C639,氏名データ!$AC$2:$AJ$401,2,0)","v":"都調布南"},null,"男",null,53614,"関根","達人","ｾｷﾈ","ﾀﾂﾋﾄ","SEKINE","Tatsuhito","男","06",1]
[53615,5,36,"所","悠馬","ﾄｺﾛ","ﾕｳﾏ","TOKORO","Yuuma","06",1,{"$f":"VLOOKUP(B640*100+C640,氏名データ!$AC$2:$AJ$401,2,0)","v":"都調布南"},null,"男",null,53615,"所","悠馬","ﾄｺﾛ","ﾕｳﾏ","TOKORO","Yuuma","男","06",1]
[53646,5,36,"飯利","優太","ｲｲﾘ","ﾕｳﾀ","IIRI","Yuta","04",3,{"$f":"VLOOKUP(B641*100+C641,氏名データ!$AC$2:$AJ$401,2,0)","v":"都調布南"},null,"男",null,53646,"飯利","優太","ｲｲﾘ","ﾕｳﾀ","IIRI","Yuta","男","04",3]
[53647,5,36,"五十嵐","玲央","ｲｶﾞﾗｼ","ﾚｵ","IGARASHI","Leo","04",3,{"$f":"VLOOKUP(B642*100+C642,氏名データ!$AC$2:$AJ$401,2,0)","v":"都調布南"},null,"男",null,53647,"五十嵐","玲央","ｲｶﾞﾗｼ","ﾚｵ","IGARASHI","Leo","男","04",3]
[{"$f":"P643","v":53649},{"$f":"ROUNDDOWN(A643/10000,0)","v":5},{"$f":"ROUNDDOWN((A643-B643*10000)/100,0)","v":36},{"$f":"Q643","v":"麻生"},{"$f":"R643","v":"涼"},{"$f":"S643","v":"ｱｻｵ"},{"$f":"T643","v":"ﾘｮｳ"},{"$f":"U643","v":"ASAO"},{"$f":"V643","v":"Ryou"},{"$f":"X643","v":"04"},{"$f":"Y643","v":3},{"$f":"VLOOKUP(B643*100+C643,氏名データ!$AC$2:$AJ$401,2,0)","v":"都調布南"},null,{"$f":"W643","v":"男"},null,53649,"麻生","涼","ｱｻｵ","ﾘｮｳ","ASAO","Ryou","男","04",3]
[53650,5,36,"志田","裕紀","ｼﾀﾞ","ﾕｳｷ","SHIDA","Yuki","04",3,{"$f":"VLOOKUP(B644*100+C644,氏名データ!$AC$2:$AJ$401,2,0)","v":"都調布南"},null,"男",null,53650,"志田","裕紀","ｼﾀﾞ","ﾕｳｷ","SHIDA","Yuki","男","04",3]
[53669,5,36,"池田","心優","ｲｹﾀﾞ","ｺｺﾛ","IKEDA","Kokoro","04",3,{"$f":"VLOOKUP(B645*100+C645,氏名データ!$AC$2:$AJ$401,2,0)","v":"都調布南"},null,"女",null,53669,"池田","心優","ｲｹﾀﾞ","ｺｺﾛ","IKEDA","Kokoro","女","04",3]
[53670,5,36,"前野","彩栞","ﾏｴﾉ","ｱﾔｶ","MAENO","Ayaka","04",3,{"$f":"VLOOKUP(B646*100+C646,氏名データ!$AC$2:$AJ$401,2,0)","v":"都調布南"},null,"女",null,53670,"前野","彩栞","ﾏｴﾉ","ｱﾔｶ","MAENO","Ayaka","女","04",3]
[53672,5,36,"小林","莉子","ｺﾊﾞﾔｼ","ﾘｺ","KOBAYASHI","Riko","04",3,{"$f":"VLOOKUP(B647*100+C647,氏名データ!$AC$2:$AJ$401,2,0)","v":"都調布南"},null,"女",null,53672,"小林","莉子","ｺﾊﾞﾔｼ","ﾘｺ","KOBAYASHI","Riko","女","04",3]
[53673,5,36,"佐藤","こころ","ｻﾄｳ","ｺｺﾛ","SATO","Cocoro","04",3,{"$f":"VLOOKUP(B648*100+C648,氏名データ!$AC$2:$AJ$401,2,0)","v":"都調布南"},null,"女",null,53673,"佐藤","こころ","ｻﾄｳ","ｺｺﾛ","SATO","Cocoro","女","04",3]
[53674,5,36,"関根","弥生","ｾｷﾈ","ﾔﾖｲ","SEKINE","Yayoi","05",3,{"$f":"VLOOKUP(B649*100+C649,氏名データ!$AC$2:$AJ$401,2,0)","v":"都調布南"},null,"女",null,53674,"関根","弥生","ｾｷﾈ","ﾔﾖｲ","SEKINE","Yayoi","女","05",3]
[53676,5,36,"廣田","千晃","ﾋﾛﾀ","ﾁｱｷ","HIROTA","Chiaki","05",2,{"$f":"VLOOKUP(B650*100+C650,氏名データ!$AC$2:$AJ$401,2,0)","v":"都調布南"},null,"女",null,53676,"廣田","千晃","ﾋﾛﾀ","ﾁｱｷ","HIROTA","Chiaki","女","05",2]
[53678,5,36,"中野","乙葉","ﾅｶﾉ","ｵﾄﾊ","NAKANO","Otoha","05",2,{"$f":"VLOOKUP(B651*100+C651,氏名データ!$AC$2:$AJ$401,2,0)","v":"都調布南"},null,"女",null,53678,"中野","乙葉","ﾅｶﾉ","ｵﾄﾊ","NAKANO","Otoha","女","05",2]
[53679,5,36,"中島","知音","ﾅｶｼﾞﾏ","ﾄﾓﾈ","NAKAJIMA","Tomone","06",2,{"$f":"VLOOKUP(B652*100+C652,氏名データ!$AC$2:$AJ$401,2,0)","v":"都調布南"},null,"女",null,53679,"中島","知音","ﾅｶｼﾞﾏ","ﾄﾓﾈ","NAKAJIMA","Tomone","女","06",2]
[53680,5,36,"佐藤","美桜","ｻﾄｳ","ﾐｵ","SATO","Mio","05",2,{"$f":"VLOOKUP(B653*100+C653,氏名データ!$AC$2:$AJ$401,2,0)","v":"都調布南"},null,"女",null,53680,"佐藤","美桜","ｻﾄｳ","ﾐｵ","SATO","Mio","女","05",2]
[53681,5,36,"林","葉月","ﾊﾔｼ","ﾊﾂﾞｷ","HAYASHI","Hazuki","06",1,{"$f":"VLOOKUP(B654*100+C654,氏名データ!$AC$2:$AJ$401,2,0)","v":"都調布南"},null,"女",null,53681,"林","葉月","ﾊﾔｼ","ﾊﾂﾞｷ","HAYASHI","Hazuki","女","06",1]
[53682,5,36,"億田","理桜","ｵｸﾀﾞ","ﾘｵ","OKUDA","Rio","07",1,{"$f":"VLOOKUP(B655*100+C655,氏名データ!$AC$2:$AJ$401,2,0)","v":"都調布南"},null,"女",null,53682,"億田","理桜","ｵｸﾀﾞ","ﾘｵ","OKUDA","Rio","女","07",1]
[53683,5,36,"豊田","由梨","ﾄﾖﾀﾞ","ﾕﾘ","TOYODA","Yuri","06",1,{"$f":"VLOOKUP(B656*100+C656,氏名データ!$AC$2:$AJ$401,2,0)","v":"都調布南"},null,"女",null,53683,"豊田","由梨","ﾄﾖﾀﾞ","ﾕﾘ","TOYODA","Yuri","女","06",1]
[53684,5,36,"馬場","美涼","ﾊﾞﾊﾞ","ﾐｽｽﾞ","BABA","Misuzu","06",1,{"$f":"VLOOKUP(B657*100+C657,氏名データ!$AC$2:$AJ$401,2,0)","v":"都調布南"},null,"女",null,53684,"馬場","美涼","ﾊﾞﾊﾞ","ﾐｽｽﾞ","BABA","Misuzu","女","06",1]
[53685,5,36,"有江","真奈","ｱﾘｴ","ﾏﾅ","ARIE","Mana","06",1,{"$f":"VLOOKUP(B658*100+C658,氏名データ!$AC$2:$AJ$401,2,0)","v":"都調布南"},null,"女",null,53685,"有江","真奈","ｱﾘｴ","ﾏﾅ","ARIE","Mana","女","06",1]
[53686,5,36,"今井","佑香","ｲﾏｲ","ﾕｶ","IMAI","Yuka","07",1,{"$f":"VLOOKUP(B659*100+C659,氏名データ!$AC$2:$AJ$401,2,0)","v":"都調布南"},null,"女",null,53686,"今井","佑香","ｲﾏｲ","ﾕｶ","IMAI","Yuka","女","07",1]
[53753,5,37,"鈴木","綾夏","ｽｽﾞｷ","ｱﾔｶ","SUZUKI","Ayaka","04",3,{"$f":"VLOOKUP(B660*100+C660,氏名データ!$AC$2:$AJ$401,2,0)","v":"桐朋女"},null,"女",null,53753,"鈴木","綾夏","ｽｽﾞｷ","ｱﾔｶ","SUZUKI","Ayaka","女","04",3]
[53754,5,37,"山田","ひかる","ﾔﾏﾀﾞ","ﾋｶﾙ","YAMADA","Hikaru","04",3,{"$f":"VLOOKUP(B661*100+C661,氏名データ!$AC$2:$AJ$401,2,0)","v":"桐朋女"},null,"女",null,53754,"山田","ひかる","ﾔﾏﾀﾞ","ﾋｶﾙ","YAMADA","Hikaru","女","04",3]
[53755,5,37,"花松","こずえ","ﾊﾅﾏﾂ","ｺｽﾞｴ","HANAMATU","Kozue","04",3,{"$f":"VLOOKUP(B662*100+C662,氏名データ!$AC$2:$AJ$401,2,0)","v":"桐朋女"},null,"女",null,53755,"花松","こずえ","ﾊﾅﾏﾂ","ｺｽﾞｴ","HANAMATU","Kozue","女","04",3]
[53757,5,37,"田中","優衣","ﾀﾅｶ","ﾕｲ","TAMAKA","Yui","04",3,{"$f":"VLOOKUP(B663*100+C663,氏名データ!$AC$2:$AJ$401,2,0)","v":"桐朋女"},null,"女",null,53757,"田中","優衣","ﾀﾅｶ","ﾕｲ","TAMAKA","Yui","女","04",3]
[53765,5,37,"山木","里紗","ﾔﾏｷ","ﾘｻ","YAMAKI","Risa","06",2,{"$f":"VLOOKUP(B664*100+C664,氏名データ!$AC$2:$AJ$401,2,0)","v":"桐朋女"},null,"女",null,53765,"山木","里紗","ﾔﾏｷ","ﾘｻ","YAMAKI","Risa","女","06",2]
[53766,5,37,"西野","万柚子","ﾆｼﾉ","ﾏﾕｺ","NISHINO","Mayuko","05",2,{"$f":"VLOOKUP(B665*100+C665,氏名データ!$AC$2:$AJ$401,2,0)","v":"桐朋女"},null,"女",null,53766,"西野","万柚子","ﾆｼﾉ","ﾏﾕｺ","NISHINO","Mayuko","女","05",2]
[53767,5,37,"田巻","野乃","ﾀﾏｷ","ﾉﾉ","TAMAKI","Nono","05",2,{"$f":"VLOOKUP(B666*100+C666,氏名データ!$AC$2:$AJ$401,2,0)","v":"桐朋女"},null,"女",null,53767,"田巻","野乃","ﾀﾏｷ","ﾉﾉ","TAMAKI","Nono","女","05",2]
[53768,5,37,"須田","怜未","ｽﾀﾞ","ﾚﾐ","SUDA","Remi","05",2,{"$f":"VLOOKUP(B667*100+C667,氏名データ!$AC$2:$AJ$401,2,0)","v":"桐朋女"},null,"女",null,53768,"須田","怜未","ｽﾀﾞ","ﾚﾐ","SUDA","Remi","女","05",2]
[53772,5,37,"綿谷","仁那","ﾜﾀﾔ","ﾆｲﾅ","WATAYA","Niina","05",2,{"$f":"VLOOKUP(B668*100+C668,氏名データ!$AC$2:$AJ$401,2,0)","v":"桐朋女"},null,"女",null,53772,"綿谷","仁那","ﾜﾀﾔ","ﾆｲﾅ","WATAYA","Niina","女","05",2]
[53780,5,37,"鈴木","未夢","ｽｽﾞｷ","ﾐﾕ","SUZUKI","Miyu","06",1,{"$f":"VLOOKUP(B669*100+C669,氏名データ!$AC$2:$AJ$401,2,0)","v":"桐朋女"},null,"女",null,53780,"鈴木","未夢","ｽｽﾞｷ","ﾐﾕ","SUZUKI","Miyu","女","06",1]
[53781,5,37,"高木","花","ﾀｶｷ","ﾊﾅ","TAKAKI","Hana","06",1,{"$f":"VLOOKUP(B670*100+C670,氏名データ!$AC$2:$AJ$401,2,0)","v":"桐朋女"},null,"女",null,53781,"高木","花","ﾀｶｷ","ﾊﾅ","TAKAKI","Hana","女","06",1]
[53782,5,37,"松原","凜","ﾏﾂﾊﾞﾗ","ﾘﾝ","MATSUBARA","Rin","06",1,{"$f":"VLOOKUP(B671*100+C671,氏名データ!$AC$2:$AJ$401,2,0)","v":"桐朋女"},null,"女",null,53782,"松原","凜","ﾏﾂﾊﾞﾗ","ﾘﾝ","MATSUBARA","Rin","女","06",1]
[53783,5,37,"根本","愛結","ﾈﾓﾄ","ｱﾕ","NEMOTO","Ayu","06",1,{"$f":"VLOOKUP(B672*100+C672,氏名データ!$AC$2:$AJ$401,2,0)","v":"桐朋女"},null,"女",null,53783,"根本","愛結","ﾈﾓﾄ","ｱﾕ","NEMOTO","Ayu","女","06",1]
[53853,5,38,"鈴木","詩万","ｽｽﾞｷ","ｼﾏ","SUZUKI","Shima","04",3,{"$f":"VLOOKUP(B673*100+C673,氏名データ!$AC$2:$AJ$401,2,0)","v":"晃華学園"},null,"女",null,53853,"鈴木","詩万","ｽｽﾞｷ","ｼﾏ","SUZUKI","Shima","女","04",3]
[53857,5,38,"石神","麻琴","ｲｼｶﾞﾐ","ﾏｺﾄ","ISHIGAMI","Makoto","04",3,{"$f":"VLOOKUP(B674*100+C674,氏名データ!$AC$2:$AJ$401,2,0)","v":"晃華学園"},null,"女",null,53857,"石神","麻琴","ｲｼｶﾞﾐ","ﾏｺﾄ","ISHIGAMI","Makoto","女","04",3]
[53863,5,38,"石田","笑万","ｲｼﾀﾞ","ｴﾏ","ISHIDA","Ema","06",2,{"$f":"VLOOKUP(B675*100+C675,氏名データ!$AC$2:$AJ$401,2,0)","v":"晃華学園"},null,"女",null,53863,"石田","笑万","ｲｼﾀﾞ","ｴﾏ","ISHIDA","Ema","女","06",2]
[53865,5,38,"上野","祐佳","ｳｴﾉ","ﾕｳｶ","UENO","Yuuka","05",2,{"$f":"VLOOKUP(B676*100+C676,氏名データ!$AC$2:$AJ$401,2,0)","v":"晃華学園"},null,"女",null,53865,"上野","祐佳","ｳｴﾉ","ﾕｳｶ","UENO","Yuuka","女","05",2]
[53868,5,38,"田中","希","ﾀﾅｶ","ﾉｿﾞﾐ","TANAKA","Nozomi","05",2,{"$f":"VLOOKUP(B677*100+C677,氏名データ!$AC$2:$AJ$401,2,0)","v":"晃華学園"},null,"女",null,53868,"田中","希","ﾀﾅｶ","ﾉｿﾞﾐ","TANAKA","Nozomi","女","05",2]
[53869,5,38,"辻","美聡","ﾂｼﾞ","ﾐｻﾄ","TSUJI","Misato","06",2,{"$f":"VLOOKUP(B678*100+C678,氏名データ!$AC$2:$AJ$401,2,0)","v":"晃華学園"},null,"女",null,53869,"辻","美聡","ﾂｼﾞ","ﾐｻﾄ","TSUJI","Misato","女","06",2]
[53870,5,38,"飛田","映月","ﾄﾋﾞﾀ","ﾊﾂﾞｷ","TOBITA","Hazuki","06",2,{"$f":"VLOOKUP(B679*100+C679,氏名データ!$AC$2:$AJ$401,2,0)","v":"晃華学園"},null,"女",null,53870,"飛田","映月","ﾄﾋﾞﾀ","ﾊﾂﾞｷ","TOBITA","Hazuki","女","06",2]
[53871,5,38,"白","採媛","ﾍﾞｸ","ﾁｪｳｫﾝ","BAEK","Chaewon","06",2,{"$f":"VLOOKUP(B680*100+C680,氏名データ!$AC$2:$AJ$401,2,0)","v":"晃華学園"},null,"女",null,53871,"白","採媛","ﾍﾞｸ","ﾁｪｳｫﾝ","BAEK","Chaewon","女","06",2]
[53872,5,38,"八木","未来","ﾔｷﾞ","ﾐﾗｲ","YAGI","Mirai","06",2,{"$f":"VLOOKUP(B681*100+C681,氏名データ!$AC$2:$AJ$401,2,0)","v":"晃華学園"},null,"女",null,53872,"八木","未来","ﾔｷﾞ","ﾐﾗｲ","YAGI","Mirai","女","06",2]
[53873,5,38,"東","伊織","ｱｽﾞﾏ","ｲｵﾘ","AZUMA","Iori","05",2,{"$f":"VLOOKUP(B682*100+C682,氏名データ!$AC$2:$AJ$401,2,0)","v":"晃華学園"},null,"女",null,53873,"東","伊織","ｱｽﾞﾏ","ｲｵﾘ","AZUMA","Iori","女","05",2]
[53874,5,38,"澤井","唯乃","ｻﾜｲ","ﾕｲﾉ","SAWAI","Yuino","06",1,{"$f":"VLOOKUP(B683*100+C683,氏名データ!$AC$2:$AJ$401,2,0)","v":"晃華学園"},null,"女",null,53874,"澤井","唯乃","ｻﾜｲ","ﾕｲﾉ","SAWAI","Yuino","女","06",1]
[53880,5,38,"築地","佑茉","ﾂｷｼﾞ","ﾕﾏ","TSUKIJI","Yuma","05",2,{"$f":"VLOOKUP(B684*100+C684,氏名データ!$AC$2:$AJ$401,2,0)","v":"晃華学園"},null,"女",null,53880,"築地","佑茉","ﾂｷｼﾞ","ﾕﾏ","TSUKIJI","Yuma","女","05",2]
[53884,5,38,"及川","万祐子","ｵｲｶﾜ","ﾏﾕｺ","OIKAWA","Mayuko","05",2,{"$f":"VLOOKUP(B685*100+C685,氏名データ!$AC$2:$AJ$401,2,0)","v":"晃華学園"},null,"女",null,53884,"及川","万祐子","ｵｲｶﾜ","ﾏﾕｺ","OIKAWA","Mayuko","女","05",2]
[53890,5,38,"一井","康乃","ｲﾁｲ","ｼｽﾞﾉ","ICHII","Shizuno","06",1,{"$f":"VLOOKUP(B686*100+C686,氏名データ!$AC$2:$AJ$401,2,0)","v":"晃華学園"},null,"女",null,53890,"一井","康乃","ｲﾁｲ","ｼｽﾞﾉ","ICHII","Shizuno","女","06",1]
[53891,5,38,"伊藤","更紗","ｲﾄｳ","ｻﾗｻ","ITO","Sarasa","06",1,{"$f":"VLOOKUP(B687*100+C687,氏名データ!$AC$2:$AJ$401,2,0)","v":"晃華学園"},null,"女",null,53891,"伊藤","更紗","ｲﾄｳ","ｻﾗｻ","ITO","Sarasa","女","06",1]
[53892,5,38,"伊東","優莉","ｲﾄｳ","ﾕﾘ","ITO","Yuri","07",1,{"$f":"VLOOKUP(B688*100+C688,氏名データ!$AC$2:$AJ$401,2,0)","v":"晃華学園"},null,"女",null,53892,"伊東","優莉","ｲﾄｳ","ﾕﾘ","ITO","Yuri","女","07",1]
[53894,5,38,"松本","真紀","ﾏﾂﾓﾄ","ﾏｷ","MATSUMOTO","Maki","06",1,{"$f":"VLOOKUP(B689*100+C689,氏名データ!$AC$2:$AJ$401,2,0)","v":"晃華学園"},null,"女",null,53894,"松本","真紀","ﾏﾂﾓﾄ","ﾏｷ","MATSUMOTO","Maki","女","06",1]
[53897,5,38,"平川","琴羽","ﾋﾗｶﾜ","ｺﾄﾊ","HIRAKAWA","Kotoha","07",1,{"$f":"VLOOKUP(B690*100+C690,氏名データ!$AC$2:$AJ$401,2,0)","v":"晃華学園"},null,"女",null,53897,"平川","琴羽","ﾋﾗｶﾜ","ｺﾄﾊ","HIRAKAWA","Kotoha","女","07",1]
[53919,5,39,"虻川","璃空","ｱﾌﾞｶﾜ","ﾘｸ","ABUKAWA","Riku","04",3,{"$f":"VLOOKUP(B691*100+C691,氏名データ!$AC$2:$AJ$401,2,0)","v":"都狛江"},null,"男",null,53919,"虻川","璃空","ｱﾌﾞｶﾜ","ﾘｸ","ABUKAWA","Riku","男","04",3]
[53920,5,39,"五十嵐","琉晟","ｲｶﾞﾗｼ","ﾘｭｳｾｲ","IGARASHI","Ryusei","05",3,{"$f":"VLOOKUP(B692*100+C692,氏名データ!$AC$2:$AJ$401,2,0)","v":"都狛江"},null,"男",null,53920,"五十嵐","琉晟","ｲｶﾞﾗｼ","ﾘｭｳｾｲ","IGARASHI","Ryusei","男","05",3]
[53921,5,39,"伊藤","良晟","ｲﾄｳ","ﾘｮｳｾｲ","ITO","Ryosei","04",3,{"$f":"VLOOKUP(B693*100+C693,氏名データ!$AC$2:$AJ$401,2,0)","v":"都狛江"},null,"男",null,53921,"伊藤","良晟","ｲﾄｳ","ﾘｮｳｾｲ","ITO","Ryosei","男","04",3]
[53923,5,39,"杉村","晴多","ｽｷﾞﾑﾗ","ﾊﾙﾀ","SUGIMURA","Haruta","04",3,{"$f":"VLOOKUP(B694*100+C694,氏名データ!$AC$2:$AJ$401,2,0)","v":"都狛江"},null,"男",null,53923,"杉村","晴多","ｽｷﾞﾑﾗ","ﾊﾙﾀ","SUGIMURA","Haruta","男","04",3]
[53924,5,39,"須古","祐智","ｽｺ","ﾕｳﾁ","SUKO","Yuchi","04",3,{"$f":"VLOOKUP(B695*100+C695,氏名データ!$AC$2:$AJ$401,2,0)","v":"都狛江"},null,"男",null,53924,"須古","祐智","ｽｺ","ﾕｳﾁ","SUKO","Yuchi","男","04",3]
[53925,5,39,"竹下","昊輝","ﾀｹｼﾀ","ｺｳｷ","TAKESHITA","Kouki","05",3,{"$f":"VLOOKUP(B696*100+C696,氏名データ!$AC$2:$AJ$401,2,0)","v":"都狛江"},null,"男",null,53925,"竹下","昊輝","ﾀｹｼﾀ","ｺｳｷ","TAKESHITA","Kouki","男","05",3]
[53926,5,39,"西崎","桔平","ﾆｼｻﾞｷ","ｷｯﾍﾟｲ","NISHIZAKI","Kippei","04",3,{"$f":"VLOOKUP(B697*100+C697,氏名データ!$AC$2:$AJ$401,2,0)","v":"都狛江"},null,"男",null,53926,"西崎","桔平","ﾆｼｻﾞｷ","ｷｯﾍﾟｲ","NISHIZAKI","Kippei","男","04",3]
[53927,5,39,"福村","進悟","ﾌｸﾑﾗ","ｼﾝｺﾞ","FUKUMURA","Shingo","04",3,{"$f":"VLOOKUP(B698*100+C698,氏名データ!$AC$2:$AJ$401,2,0)","v":"都狛江"},null,"男",null,53927,"福村","進悟","ﾌｸﾑﾗ","ｼﾝｺﾞ","FUKUMURA","Shingo","男","04",3]
[53928,5,39,"堀野","凌矢","ﾎﾘﾉ","ﾘｮｳﾔ","HORINO","Ryouya","04",3,{"$f":"VLOOKUP(B699*100+C699,氏名データ!$AC$2:$AJ$401,2,0)","v":"都狛江"},null,"男",null,53928,"堀野","凌矢","ﾎﾘﾉ","ﾘｮｳﾔ","HORINO","Ryouya","男","04",3]
[53929,5,39,"松岡","健翔","ﾏﾂｵｶ","ﾀｹﾄ","MATSUOKA","Taketo","05",3,{"$f":"VLOOKUP(B700*100+C700,氏名データ!$AC$2:$AJ$401,2,0)","v":"都狛江"},null,"男",null,53929,"松岡","健翔","ﾏﾂｵｶ","ﾀｹﾄ","MATSUOKA","Taketo","男","05",3]
[53930,5,39,"米田","恵太朗","ﾖﾈﾀﾞ","ｹｲﾀﾛｳ","YONEDA","Keitarou","04",3,{"$f":"VLOOKUP(B701*100+C701,氏名データ!$AC$2:$AJ$401,2,0)","v":"都狛江"},null,"男",null,53930,"米田","恵太朗","ﾖﾈﾀﾞ","ｹｲﾀﾛｳ","YONEDA","Keitarou","男","04",3]
[53931,5,39,"遠藤","凛久","ｴﾝﾄﾞｳ","ﾘｸ","ENDO","Riku","05",2,{"$f":"VLOOKUP(B702*100+C702,氏名データ!$AC$2:$AJ$401,2,0)","v":"都狛江"},null,"男",null,53931,"遠藤","凛久","ｴﾝﾄﾞｳ","ﾘｸ","ENDO","Riku","男","05",2]
[53933,5,39,"留場","海","ﾄﾒﾊﾞ","ｶｲ","TOMEBA","Kai","05",2,{"$f":"VLOOKUP(B703*100+C703,氏名データ!$AC$2:$AJ$401,2,0)","v":"都狛江"},null,"男",null,53933,"留場","海","ﾄﾒﾊﾞ","ｶｲ","TOMEBA","Kai","男","05",2]
[53934,5,39,"上間","瑞己","ｳｴﾏ","ﾐｽﾞｷ","UEMA","Mizuki","06",1,{"$f":"VLOOKUP(B704*100+C704,氏名データ!$AC$2:$AJ$401,2,0)","v":"都狛江"},null,"男",null,53934,"上間","瑞己","ｳｴﾏ","ﾐｽﾞｷ","UEMA","Mizuki","男","06",1]
[53935,5,39,"黒田","優有","ｸﾛﾀﾞ","ﾕｳ","KURODA","Yu","06",1,{"$f":"VLOOKUP(B705*100+C705,氏名データ!$AC$2:$AJ$401,2,0)","v":"都狛江"},null,"男",null,53935,"黒田","優有","ｸﾛﾀﾞ","ﾕｳ","KURODA","Yu","男","06",1]
[53936,5,39,"權野","裕太郎","ｺﾞﾝﾉ","ﾕｳﾀﾛｳ","GONNO","Yutaro","06",1,{"$f":"VLOOKUP(B706*100+C706,氏名データ!$AC$2:$AJ$401,2,0)","v":"都狛江"},null,"男",null,53936,"權野","裕太郎","ｺﾞﾝﾉ","ﾕｳﾀﾛｳ","GONNO","Yutaro","男","06",1]
[{"$f":"P707","v":53976},{"$f":"ROUNDDOWN(A707/10000,0)","v":5},{"$f":"ROUNDDOWN((A707-B707*10000)/100,0)","v":39},{"$f":"Q707","v":"杉山"},{"$f":"R707","v":"千恵"},{"$f":"S707","v":"ｽｷﾞﾔﾏ"},{"$f":"T707","v":"ﾁｴ"},{"$f":"U707","v":"SUGIYAMA"},{"$f":"V707","v":"Chie"},{"$f":"X707","v":"04"},{"$f":"Y707","v":3},{"$f":"VLOOKUP(B707*100+C707,氏名データ!$AC$2:$AJ$401,2,0)","v":"都狛江"},null,{"$f":"W707","v":"女"},null,53976,"杉山","千恵","ｽｷﾞﾔﾏ","ﾁｴ","SUGIYAMA","Chie","女","04",3]
[53977,5,39,"納谷","茜","ﾅﾔ","ｱｶﾈ","NAYA","Akane","04",3,{"$f":"VLOOKUP(B708*100+C708,氏名データ!$AC$2:$AJ$401,2,0)","v":"都狛江"},null,"女",null,53977,"納谷","茜","ﾅﾔ","ｱｶﾈ","NAYA","Akane","女","04",3]
[53978,5,39,"浅山","志乃","ｱｻﾔﾏ","ｼﾉ","ASAYAMA","Shino","05",2,{"$f":"VLOOKUP(B709*100+C709,氏名データ!$AC$2:$AJ$401,2,0)","v":"都狛江"},null,"女",null,53978,"浅山","志乃","ｱｻﾔﾏ","ｼﾉ","ASAYAMA","Shino","女","05",2]
[53979,5,39,"蛯名","柚月","ｴﾋﾞﾅ","ﾕﾂﾞｷ","EBINA","Yuzuki","05",2,{"$f":"VLOOKUP(B710*100+C710,氏名データ!$AC$2:$AJ$401,2,0)","v":"都狛江"},null,"女",null,53979,"蛯名","柚月","ｴﾋﾞﾅ","ﾕﾂﾞｷ","EBINA","Yuzuki","女","05",2]
[53980,5,39,"齋藤","里帆","ｻｲﾄｳ","ﾘﾎ","SAITO","Riho","05",3,{"$f":"VLOOKUP(B711*100+C711,氏名データ!$AC$2:$AJ$401,2,0)","v":"都狛江"},null,"女",null,53980,"齋藤","里帆","ｻｲﾄｳ","ﾘﾎ","SAITO","Riho","女","05",3]
[53981,5,39,"秋田","はつみ","ｱｷﾀ","ﾊﾂﾐ","AKITA","Hatsumi","07",1,{"$f":"VLOOKUP(B712*100+C712,氏名データ!$AC$2:$AJ$401,2,0)","v":"都狛江"},null,"女",null,53981,"秋田","はつみ","ｱｷﾀ","ﾊﾂﾐ","AKITA","Hatsumi","女","07",1]
[53982,5,39,"進藤","天羽","ｼﾝﾄﾞｳ","ｱﾏﾊ","SHINDO","Amaha","06",1,{"$f":"VLOOKUP(B713*100+C713,氏名データ!$AC$2:$AJ$401,2,0)","v":"都狛江"},null,"女",null,53982,"進藤","天羽","ｼﾝﾄﾞｳ","ｱﾏﾊ","SHINDO","Amaha","女","06",1]
[53983,5,39,"瀧澤","結千","ﾀｷｻﾞﾜ","ﾕｳｶ","TAKIZAWA","Yuuka","06",1,{"$f":"VLOOKUP(B714*100+C714,氏名データ!$AC$2:$AJ$401,2,0)","v":"都狛江"},null,"女",null,53983,"瀧澤","結千","ﾀｷｻﾞﾜ","ﾕｳｶ","TAKIZAWA","Yuuka","女","06",1]
[53984,5,39,"栁村","笑呼","ﾔﾅｷﾞﾑﾗ","ｴｺ","YANAGIMURA","Eko","06",1,{"$f":"VLOOKUP(B715*100+C715,氏名データ!$AC$2:$AJ$401,2,0)","v":"都狛江"},null,"女",null,53984,"栁村","笑呼","ﾔﾅｷﾞﾑﾗ","ｴｺ","YANAGIMURA","Eko","女","06",1]
[54001,5,40,"岸","澄海","ｷｼ","ｽｶｲ","KISHI","Sukai","06",1,{"$f":"VLOOKUP(B716*100+C716,氏名データ!$AC$2:$AJ$401,2,0)","v":"都若葉総合"},null,"男",null,54001,"岸","澄海","ｷｼ","ｽｶｲ","KISHI","Sukai","男","06",1]
[54002,5,40,"藤井","孝太","ﾌｼﾞｲ","ｺｳﾀ","FUJII","Kouta","06",1,{"$f":"VLOOKUP(B717*100+C717,氏名データ!$AC$2:$AJ$401,2,0)","v":"都若葉総合"},null,"男",null,54002,"藤井","孝太","ﾌｼﾞｲ","ｺｳﾀ","FUJII","Kouta","男","06",1]
[54003,5,40,"網本","育夢","ｱﾐﾓﾄ","ｲｸﾑ","AMIMOTO","Ikumu","06",1,{"$f":"VLOOKUP(B718*100+C718,氏名データ!$AC$2:$AJ$401,2,0)","v":"都若葉総合"},null,"男",null,54003,"網本","育夢","ｱﾐﾓﾄ","ｲｸﾑ","AMIMOTO","Ikumu","男","06",1]
[54004,5,40,"前田","春輝","ﾏｴﾀﾞ","ﾊﾙｷ","MAEDA","Haruki","06",1,{"$f":"VLOOKUP(B719*100+C719,氏名データ!$AC$2:$AJ$401,2,0)","v":"都若葉総合"},null,"男",null,54004,"前田","春輝","ﾏｴﾀﾞ","ﾊﾙｷ","MAEDA","Haruki","男","06",1]
[54005,5,40,"栗山","雄太","ｸﾘﾔﾏ","ﾕｳﾀ","KURIYAMA","Yuta","06",1,{"$f":"VLOOKUP(B720*100+C720,氏名データ!$AC$2:$AJ$401,2,0)","v":"都若葉総合"},null,"男",null,54005,"栗山","雄太","ｸﾘﾔﾏ","ﾕｳﾀ","KURIYAMA","Yuta","男","06",1]
[54006,5,40,"大矢","俊輔","ｵｵﾔ","ｼｭﾝｽｹ","OHYA","Shunsuke","06",1,{"$f":"VLOOKUP(B721*100+C721,氏名データ!$AC$2:$AJ$401,2,0)","v":"都若葉総合"},null,"男",null,54006,"大矢","俊輔","ｵｵﾔ","ｼｭﾝｽｹ","OHYA","Shunsuke","男","06",1]
[54007,5,40,"蘆川","那央","ﾛｶﾞﾜ","ﾅｵ","ROGAWA","Nao","06",1,{"$f":"VLOOKUP(B722*100+C722,氏名データ!$AC$2:$AJ$401,2,0)","v":"都若葉総合"},null,"男",null,54007,"蘆川","那央","ﾛｶﾞﾜ","ﾅｵ","ROGAWA","Nao","男","06",1]
[54008,5,40,"國弘","息吹","ｸﾆﾋﾛ","ｲﾌﾞｷ","KUNIHIRO","Ibuki","06",1,{"$f":"VLOOKUP(B723*100+C723,氏名データ!$AC$2:$AJ$401,2,0)","v":"都若葉総合"},null,"男",null,54008,"國弘","息吹","ｸﾆﾋﾛ","ｲﾌﾞｷ","KUNIHIRO","Ibuki","男","06",1]
[54031,5,40,"金子","優太","ｶﾈｺ","ﾕｳﾀ","KANEKO","Yuta","05",2,{"$f":"VLOOKUP(B724*100+C724,氏名データ!$AC$2:$AJ$401,2,0)","v":"都若葉総合"},null,"男",null,54031,"金子","優太","ｶﾈｺ","ﾕｳﾀ","KANEKO","Yuta","男","05",2]
[54040,5,40,"中原","謙心","ﾅｶﾊﾗ","ｹﾝｼﾝ","NAKAHARA","Kenshin","05",2,{"$f":"VLOOKUP(B725*100+C725,氏名データ!$AC$2:$AJ$401,2,0)","v":"都若葉総合"},null,"男",null,54040,"中原","謙心","ﾅｶﾊﾗ","ｹﾝｼﾝ","NAKAHARA","Kenshin","男","05",2]
[54041,5,40,"田端","稜希","ﾀﾊﾞﾀ","ｲｽﾞｷ","TABATA","Izuki","05",2,{"$f":"VLOOKUP(B726*100+C726,氏名データ!$AC$2:$AJ$401,2,0)","v":"都若葉総合"},null,"男",null,54041,"田端","稜希","ﾀﾊﾞﾀ","ｲｽﾞｷ","TABATA","Izuki","男","05",2]
[54042,5,40,"澤田","大和","ｻﾜﾀﾞ","ﾔﾏﾄ","SAWADA","Yamato","05",2,{"$f":"VLOOKUP(B727*100+C727,氏名データ!$AC$2:$AJ$401,2,0)","v":"都若葉総合"},null,"男",null,54042,"澤田","大和","ｻﾜﾀﾞ","ﾔﾏﾄ","SAWADA","Yamato","男","05",2]
[54044,5,40,"須藤","遥斗","ｽﾄﾞｳ","ﾊﾙﾄ","SUDO","Haruto","05",2,{"$f":"VLOOKUP(B728*100+C728,氏名データ!$AC$2:$AJ$401,2,0)","v":"都若葉総合"},null,"男",null,54044,"須藤","遥斗","ｽﾄﾞｳ","ﾊﾙﾄ","SUDO","Haruto","男","05",2]
[54045,5,40,"渡邊","奨","ﾜﾀﾅﾍﾞ","ｼｮｳ","WATANABE","Syo","05",2,{"$f":"VLOOKUP(B729*100+C729,氏名データ!$AC$2:$AJ$401,2,0)","v":"都若葉総合"},null,"男",null,54045,"渡邊","奨","ﾜﾀﾅﾍﾞ","ｼｮｳ","WATANABE","Syo","男","05",2]
[54046,5,40,"小高","大和","ｺﾀｶ","ﾔﾏﾄ","KOTAKA","Yamato","05",2,{"$f":"VLOOKUP(B730*100+C730,氏名データ!$AC$2:$AJ$401,2,0)","v":"都若葉総合"},null,"男",null,54046,"小高","大和","ｺﾀｶ","ﾔﾏﾄ","KOTAKA","Yamato","男","05",2]
[54060,5,40,"表","ひなた","ｵﾓﾃ","ﾋﾅﾀ","OMOTE","Hinata","04",3,{"$f":"VLOOKUP(B731*100+C731,氏名データ!$AC$2:$AJ$401,2,0)","v":"都若葉総合"},null,"女",null,54060,"表","ひなた","ｵﾓﾃ","ﾋﾅﾀ","OMOTE","Hinata","女","04",3]
[54061,5,40,"藤岡","晴花","ﾌｼﾞｵｶ","ﾊﾙｶ","FUJIOKA","Haruka","05",3,{"$f":"VLOOKUP(B732*100+C732,氏名データ!$AC$2:$AJ$401,2,0)","v":"都若葉総合"},null,"女",null,54061,"藤岡","晴花","ﾌｼﾞｵｶ","ﾊﾙｶ","FUJIOKA","Haruka","女","05",3]
[54071,5,40,"海保","つぼみ","ｶｲﾎ","ﾂﾎﾞﾐ","KAIHO","Tsubomi","05",2,{"$f":"VLOOKUP(B733*100+C733,氏名データ!$AC$2:$AJ$401,2,0)","v":"都若葉総合"},null,"女",null,54071,"海保","つぼみ","ｶｲﾎ","ﾂﾎﾞﾐ","KAIHO","Tsubomi","女","05",2]
[54080,5,40,"小泉","楓","ｺｲｽﾞﾐ","ｶｴﾃﾞ","KOIZUMI","Kaede","06",1,{"$f":"VLOOKUP(B734*100+C734,氏名データ!$AC$2:$AJ$401,2,0)","v":"都若葉総合"},null,"女",null,54080,"小泉","楓","ｺｲｽﾞﾐ","ｶｴﾃﾞ","KOIZUMI","Kaede","女","06",1]
[54081,5,40,"茂","美桜","ｼｹﾞﾙ","ﾐｵ","SHIGERU","Mio","06",1,{"$f":"VLOOKUP(B735*100+C735,氏名データ!$AC$2:$AJ$401,2,0)","v":"都若葉総合"},null,"女",null,54081,"茂","美桜","ｼｹﾞﾙ","ﾐｵ","SHIGERU","Mio","女","06",1]
[54168,5,41,"幡野","優菜","ﾊﾀﾉ","ﾕｳﾅ","HATANO","Yuna","06",1,{"$f":"VLOOKUP(B736*100+C736,氏名データ!$AC$2:$AJ$401,2,0)","v":"駒沢女"},null,"女",null,54168,"幡野","優菜","ﾊﾀﾉ","ﾕｳﾅ","HATANO","Yuna","女","06",1]
[54169,5,41,"松浦","桃花","ﾏﾂｳﾗ","ﾓﾓｶ","MATSUURA","Momoka","06",1,{"$f":"VLOOKUP(B737*100+C737,氏名データ!$AC$2:$AJ$401,2,0)","v":"駒沢女"},null,"女",null,54169,"松浦","桃花","ﾏﾂｳﾗ","ﾓﾓｶ","MATSUURA","Momoka","女","06",1]
[54170,5,41,"吉澤","万姫","ﾖｼｻﾞﾜ","ﾏｷ","YOSHIZAWA","Maki","06",1,{"$f":"VLOOKUP(B738*100+C738,氏名データ!$AC$2:$AJ$401,2,0)","v":"駒沢女"},null,"女",null,54170,"吉澤","万姫","ﾖｼｻﾞﾜ","ﾏｷ","YOSHIZAWA","Maki","女","06",1]
[54212,5,42,"鈴木","飛雄馬","ｽｽﾞｷ","ﾋｭｳﾏ","SUZUKI","Hyuma","04",3,{"$f":"VLOOKUP(B739*100+C739,氏名データ!$AC$2:$AJ$401,2,0)","v":"都田無"},null,"男",null,54212,"鈴木","飛雄馬","ｽｽﾞｷ","ﾋｭｳﾏ","SUZUKI","Hyuma","男","04",3]
[54213,5,42,"塚原","奏斗","ﾂｶﾊﾗ","ｶﾅﾄ","TSUKAHARA","Kanato","04",3,{"$f":"VLOOKUP(B740*100+C740,氏名データ!$AC$2:$AJ$401,2,0)","v":"都田無"},null,"男",null,54213,"塚原","奏斗","ﾂｶﾊﾗ","ｶﾅﾄ","TSUKAHARA","Kanato","男","04",3]
[54214,5,42,"内田","賢吾","ｳﾁﾀﾞ","ｹﾝｺﾞ","UCHIDA","Kengo","04",3,{"$f":"VLOOKUP(B741*100+C741,氏名データ!$AC$2:$AJ$401,2,0)","v":"都田無"},null,"男",null,54214,"内田","賢吾","ｳﾁﾀﾞ","ｹﾝｺﾞ","UCHIDA","Kengo","男","04",3]
[54215,5,42,"黒野","翔太","ｸﾛﾉ","ｼｮｳﾀ","KURONO","Shota","04",3,{"$f":"VLOOKUP(B742*100+C742,氏名データ!$AC$2:$AJ$401,2,0)","v":"都田無"},null,"男",null,54215,"黒野","翔太","ｸﾛﾉ","ｼｮｳﾀ","KURONO","Shota","男","04",3]
[54216,5,42,"高橋","櫂","ﾀｶﾊｼ","ｶｲ","TAKAHASI","Kai","05",3,{"$f":"VLOOKUP(B743*100+C743,氏名データ!$AC$2:$AJ$401,2,0)","v":"都田無"},null,"男",null,54216,"高橋","櫂","ﾀｶﾊｼ","ｶｲ","TAKAHASI","Kai","男","05",3]
[54218,5,42,"福田","悠人","ﾌｸﾀﾞ","ﾕｳﾄ","FUKUDA","Yuto","05",3,{"$f":"VLOOKUP(B744*100+C744,氏名データ!$AC$2:$AJ$401,2,0)","v":"都田無"},null,"男",null,54218,"福田","悠人","ﾌｸﾀﾞ","ﾕｳﾄ","FUKUDA","Yuto","男","05",3]
[54219,5,42,"西村","拓海","ﾆｼﾑﾗ","ﾀｸﾐ","NISHIMURA","Takumi","04",3,{"$f":"VLOOKUP(B745*100+C745,氏名データ!$AC$2:$AJ$401,2,0)","v":"都田無"},null,"男",null,54219,"西村","拓海","ﾆｼﾑﾗ","ﾀｸﾐ","NISHIMURA","Takumi","男","04",3]
[54220,5,42,"矢治","多紀音","ﾔｼﾞ","ﾀｷｵﾝ","YAJI","Takion","04",3,{"$f":"VLOOKUP(B746*100+C746,氏名データ!$AC$2:$AJ$401,2,0)","v":"都田無"},null,"男",null,54220,"矢治","多紀音","ﾔｼﾞ","ﾀｷｵﾝ","YAJI","Takion","男","04",3]
[54221,5,42,"渡辺","蓮","ﾜﾀﾅﾍﾞ","ﾚﾝ","WATANABE","Ren","04",3,{"$f":"VLOOKUP(B747*100+C747,氏名データ!$AC$2:$AJ$401,2,0)","v":"都田無"},null,"男",null,54221,"渡辺","蓮","ﾜﾀﾅﾍﾞ","ﾚﾝ","WATANABE","Ren","男","04",3]
[54222,5,42,"早坂","大","ﾊﾔｻｶ","ﾀﾞｲ","HAYASAKA","Dai","05",3,{"$f":"VLOOKUP(B748*100+C748,氏名データ!$AC$2:$AJ$401,2,0)","v":"都田無"},null,"男",null,54222,"早坂","大","ﾊﾔｻｶ","ﾀﾞｲ","HAYASAKA","Dai","男","05",3]
[54224,5,42,"大平","真英","ｵｵﾋﾗ","ﾏｻﾋﾃﾞ","OHIRA","Masahide","04",3,{"$f":"VLOOKUP(B749*100+C749,氏名データ!$AC$2:$AJ$401,2,0)","v":"都田無"},null,"男",null,54224,"大平","真英","ｵｵﾋﾗ","ﾏｻﾋﾃﾞ","OHIRA","Masahide","男","04",3]
[54225,5,42,"高橋","慧人","ﾀｶﾊｼ","ｹｲﾄ","TAKAHASHI","Keito","05",2,{"$f":"VLOOKUP(B750*100+C750,氏名データ!$AC$2:$AJ$401,2,0)","v":"都田無"},null,"男",null,54225,"高橋","慧人","ﾀｶﾊｼ","ｹｲﾄ","TAKAHASHI","Keito","男","05",2]
[54226,5,42,"原","央輝","ﾊﾗ","ｵｳｷ","HARA","Ohki","05",2,{"$f":"VLOOKUP(B751*100+C751,氏名データ!$AC$2:$AJ$401,2,0)","v":"都田無"},null,"男",null,54226,"原","央輝","ﾊﾗ","ｵｳｷ","HARA","Ohki","男","05",2]
[54227,5,42,"下田","涼翔","ｼﾓﾀﾞ","ﾘｮｳｶﾞ","SHIMODA","Ryouga","05",2,{"$f":"VLOOKUP(B752*100+C752,氏名データ!$AC$2:$AJ$401,2,0)","v":"都田無"},null,"男",null,54227,"下田","涼翔","ｼﾓﾀﾞ","ﾘｮｳｶﾞ","SHIMODA","Ryouga","男","05",2]
[54228,5,42,"松永","悠希","ﾏﾂﾅｶﾞ","ﾕｳｷ","MATSUNAGA","Yuuki","05",2,{"$f":"VLOOKUP(B753*100+C753,氏名データ!$AC$2:$AJ$401,2,0)","v":"都田無"},null,"男",null,54228,"松永","悠希","ﾏﾂﾅｶﾞ","ﾕｳｷ","MATSUNAGA","Yuuki","男","05",2]
[54229,5,42,"佐藤","大夢","ｻﾄｳ","ﾀﾞｲﾑ","SATO","Daimu","05",2,{"$f":"VLOOKUP(B754*100+C754,氏名データ!$AC$2:$AJ$401,2,0)","v":"都田無"},null,"男",null,54229,"佐藤","大夢","ｻﾄｳ","ﾀﾞｲﾑ","SATO","Daimu","男","05",2]
[54230,5,42,"高橋","旺慶","ﾀｶﾊｼ","ｱｷﾉﾘ","TAKAHASHI","Akinori","05",2,{"$f":"VLOOKUP(B755*100+C755,氏名データ!$AC$2:$AJ$401,2,0)","v":"都田無"},null,"男",null,54230,"高橋","旺慶","ﾀｶﾊｼ","ｱｷﾉﾘ","TAKAHASHI","Akinori","男","05",2]
[54231,5,42,"藤田","琉聖","ﾌｼﾞﾀ","ﾘｭｳｾｲ","FUJITA","Ryusei","05",2,{"$f":"VLOOKUP(B756*100+C756,氏名データ!$AC$2:$AJ$401,2,0)","v":"都田無"},null,"男",null,54231,"藤田","琉聖","ﾌｼﾞﾀ","ﾘｭｳｾｲ","FUJITA","Ryusei","男","05",2]
[54232,5,42,"小嶋","悠斗","ｺｼﾞﾏ","ﾕｳﾄ","KOJIMA","Yuuto","06",2,{"$f":"VLOOKUP(B757*100+C757,氏名データ!$AC$2:$AJ$401,2,0)","v":"都田無"},null,"男",null,54232,"小嶋","悠斗","ｺｼﾞﾏ","ﾕｳﾄ","KOJIMA","Yuuto","男","06",2]
[54233,5,42,"藤田","優浬","ﾌｼﾞﾀ","ﾕｳﾘ","FUJITA","Yuri","05",2,{"$f":"VLOOKUP(B758*100+C758,氏名データ!$AC$2:$AJ$401,2,0)","v":"都田無"},null,"男",null,54233,"藤田","優浬","ﾌｼﾞﾀ","ﾕｳﾘ","FUJITA","Yuri","男","05",2]
[54234,5,42,"松島","翔和","ﾏﾂｼﾏ","ﾄﾜ","MATSUSHIMA","Towa","05",2,{"$f":"VLOOKUP(B759*100+C759,氏名データ!$AC$2:$AJ$401,2,0)","v":"都田無"},null,"男",null,54234,"松島","翔和","ﾏﾂｼﾏ","ﾄﾜ","MATSUSHIMA","Towa","男","05",2]
[54235,5,42,"荒木","星音","ｱﾗｷ","ｼｵﾝ","ARAKI","Shion","06",1,{"$f":"VLOOKUP(B760*100+C760,氏名データ!$AC$2:$AJ$401,2,0)","v":"都田無"},null,"男",null,54235,"荒木","星音","ｱﾗｷ","ｼｵﾝ","ARAKI","Shion","男","06",1]
[54236,5,42,"坂井","慶太郎","ｻｶｲ","ｹｲﾀﾛｳ","SAKAI","Keitaro","06",1,{"$f":"VLOOKUP(B761*100+C761,氏名データ!$AC$2:$AJ$401,2,0)","v":"都田無"},null,"男",null,54236,"坂井","慶太郎","ｻｶｲ","ｹｲﾀﾛｳ","SAKAI","Keitaro","男","06",1]
[54237,5,42,"髙橋","和也","ﾀｶﾊｼ","ｶｽﾞﾔ","TAKAHASHI","Kazuya","06",1,{"$f":"VLOOKUP(B762*100+C762,氏名データ!$AC$2:$AJ$401,2,0)","v":"都田無"},null,"男",null,54237,"髙橋","和也","ﾀｶﾊｼ","ｶｽﾞﾔ","TAKAHASHI","Kazuya","男","06",1]
[54238,5,42,"田口","光琉","ﾀｸﾞﾁ","ﾐﾘｭｳ","TAGUCHI","Miryu","07",1,{"$f":"VLOOKUP(B763*100+C763,氏名データ!$AC$2:$AJ$401,2,0)","v":"都田無"},null,"男",null,54238,"田口","光琉","ﾀｸﾞﾁ","ﾐﾘｭｳ","TAGUCHI","Miryu","男","07",1]
[54239,5,42,"野中","惇矢","ﾉﾅｶ","ｱﾂﾔ","NONAKA","Atsuya","06",1,{"$f":"VLOOKUP(B764*100+C764,氏名データ!$AC$2:$AJ$401,2,0)","v":"都田無"},null,"男",null,54239,"野中","惇矢","ﾉﾅｶ","ｱﾂﾔ","NONAKA","Atsuya","男","06",1]
[54251,5,42,"伊礼","円里","ｲﾚｲ","ﾏﾄﾞﾘ","IREI","Madori","05",2,{"$f":"VLOOKUP(B765*100+C765,氏名データ!$AC$2:$AJ$401,2,0)","v":"都田無"},null,"女",null,54251,"伊礼","円里","ｲﾚｲ","ﾏﾄﾞﾘ","IREI","Madori","女","05",2]
[54252,5,42,"野中","杏南","ﾉﾅｶ","ｱﾝﾅ","NONAKA","Anna","05",2,{"$f":"VLOOKUP(B766*100+C766,氏名データ!$AC$2:$AJ$401,2,0)","v":"都田無"},null,"女",null,54252,"野中","杏南","ﾉﾅｶ","ｱﾝﾅ","NONAKA","Anna","女","05",2]
[54253,5,42,"鹿沼","芽里","ｶﾇﾏ","ﾒﾘ","KANUMA","Meri","05",2,{"$f":"VLOOKUP(B767*100+C767,氏名データ!$AC$2:$AJ$401,2,0)","v":"都田無"},null,"女",null,54253,"鹿沼","芽里","ｶﾇﾏ","ﾒﾘ","KANUMA","Meri","女","05",2]
[54254,5,42,"石川","真生","ｲｼｶﾜ","ﾏｵ","ISHIKAWA","Mao","06",1,{"$f":"VLOOKUP(B768*100+C768,氏名データ!$AC$2:$AJ$401,2,0)","v":"都田無"},null,"女",null,54254,"石川","真生","ｲｼｶﾜ","ﾏｵ","ISHIKAWA","Mao","女","06",1]
[54255,5,42,"大嶌","叶愛","ｵｵｼﾏ","ｶﾅﾘ","OHSHIMA","Kanari","07",1,{"$f":"VLOOKUP(B769*100+C769,氏名データ!$AC$2:$AJ$401,2,0)","v":"都田無"},null,"女",null,54255,"大嶌","叶愛","ｵｵｼﾏ","ｶﾅﾘ","OHSHIMA","Kanari","女","07",1]
[54256,5,42,"乙黒","彩来","ｵﾄｸﾞﾛ","ｻﾗ","OTOGURO","Sara","06",1,{"$f":"VLOOKUP(B770*100+C770,氏名データ!$AC$2:$AJ$401,2,0)","v":"都田無"},null,"女",null,54256,"乙黒","彩来","ｵﾄｸﾞﾛ","ｻﾗ","OTOGURO","Sara","女","06",1]
[{"$f":"P771","v":54297},{"$f":"ROUNDDOWN(A771/10000,0)","v":5},{"$f":"ROUNDDOWN((A771-B771*10000)/100,0)","v":42},{"$f":"Q771","v":"欠端"},{"$f":"R771","v":"瞳"},{"$f":"S771","v":"ｶｹﾊﾀ"},{"$f":"T771","v":"ﾋﾄﾐ"},{"$f":"U771","v":"KAKEHATA"},{"$f":"V771","v":"Hitomi"},{"$f":"X771","v":"04"},{"$f":"Y771","v":3},{"$f":"VLOOKUP(B771*100+C771,氏名データ!$AC$2:$AJ$401,2,0)","v":"都田無"},null,{"$f":"W771","v":"女"},null,54297,"欠端","瞳","ｶｹﾊﾀ","ﾋﾄﾐ","KAKEHATA","Hitomi","女","04",3]
[54298,5,42,"早水","苺花","ﾊﾔﾐｽﾞ","ﾏｲｶ","HAYAMIZU","Maika","04",3,{"$f":"VLOOKUP(B772*100+C772,氏名データ!$AC$2:$AJ$401,2,0)","v":"都田無"},null,"女",null,54298,"早水","苺花","ﾊﾔﾐｽﾞ","ﾏｲｶ","HAYAMIZU","Maika","女","04",3]
[54299,5,42,"木村","紅葉","ｷﾑﾗ","ｸﾚﾊ","KIMURA","Kureha","04",3,{"$f":"VLOOKUP(B773*100+C773,氏名データ!$AC$2:$AJ$401,2,0)","v":"都田無"},null,"女",null,54299,"木村","紅葉","ｷﾑﾗ","ｸﾚﾊ","KIMURA","Kureha","女","04",3]
[54327,5,43,"藤光","太一","ﾌｼﾞﾐﾂ","ﾀｲﾁ","FUJIMITSU","Taichi","04",3,{"$f":"VLOOKUP(B774*100+C774,氏名データ!$AC$2:$AJ$401,2,0)","v":"都田無工"},null,"男",null,54327,"藤光","太一","ﾌｼﾞﾐﾂ","ﾀｲﾁ","FUJIMITSU","Taichi","男","04",3]
[54329,5,43,"豊田","慶","ﾄﾖﾀﾞ","ｹｲ","TOYODA","Kei","04",3,{"$f":"VLOOKUP(B775*100+C775,氏名データ!$AC$2:$AJ$401,2,0)","v":"都田無工"},null,"男",null,54329,"豊田","慶","ﾄﾖﾀﾞ","ｹｲ","TOYODA","Kei","男","04",3]
[54330,5,43,"伊藤","澄伽","ｲﾄｳ","ｽﾐｶ","ITOU","Sumika","05",2,{"$f":"VLOOKUP(B776*100+C776,氏名データ!$AC$2:$AJ$401,2,0)","v":"都田無工"},null,"女",null,54330,"伊藤","澄伽","ｲﾄｳ","ｽﾐｶ","ITOU","Sumika","女","05",2]
[54331,5,43,"齋藤","棟正","ｻｲﾄｳ","ﾑﾈﾏｻ","SAITOU","Munemasa","04",3,{"$f":"VLOOKUP(B777*100+C777,氏名データ!$AC$2:$AJ$401,2,0)","v":"都田無工"},null,"男",null,54331,"齋藤","棟正","ｻｲﾄｳ","ﾑﾈﾏｻ","SAITOU","Munemasa","男","04",3]
[54332,5,43,"森","大希","ﾓﾘ","ﾋﾛｷ","MORI","Hiroki","06",1,{"$f":"VLOOKUP(B778*100+C778,氏名データ!$AC$2:$AJ$401,2,0)","v":"都田無工"},null,"男",null,54332,"森","大希","ﾓﾘ","ﾋﾛｷ","MORI","Hiroki","男","06",1]
[54333,5,43,"榮藤","光輝","ｴﾄｳ","ﾐﾂｷ","ETOU","Mitsuki","06",1,{"$f":"VLOOKUP(B779*100+C779,氏名データ!$AC$2:$AJ$401,2,0)","v":"都田無工"},null,"男",null,54333,"榮藤","光輝","ｴﾄｳ","ﾐﾂｷ","ETOU","Mitsuki","男","06",1]
[54334,5,43,"野元","康生","ﾉﾓﾄ","ｺｳｾｲ","NOMOTO","Kousei","07",1,{"$f":"VLOOKUP(B780*100+C780,氏名データ!$AC$2:$AJ$401,2,0)","v":"都田無工"},null,"男",null,54334,"野元","康生","ﾉﾓﾄ","ｺｳｾｲ","NOMOTO","Kousei","男","07",1]
[54636,5,46,"石田","純大","ｲｼﾀﾞ","ｼﾞｭﾝﾀﾞｲ","ISIDA","Jundai","04",3,{"$f":"VLOOKUP(B781*100+C781,氏名データ!$AC$2:$AJ$401,2,0)","v":"都府中東"},null,"男",null,54636,"石田","純大","ｲｼﾀﾞ","ｼﾞｭﾝﾀﾞｲ","ISIDA","Jundai","男","04",3]
[54637,5,46,"斉藤","虎汰朗","ｻｲﾄｳ","ｺﾀﾛｳ","SAITO","Kotaro","04",3,{"$f":"VLOOKUP(B782*100+C782,氏名データ!$AC$2:$AJ$401,2,0)","v":"都府中東"},null,"男",null,54637,"斉藤","虎汰朗","ｻｲﾄｳ","ｺﾀﾛｳ","SAITO","Kotaro","男","04",3]
[54638,5,46,"森屋","友翔","ﾓﾘﾔ","ﾕｳｼｮｳ","MORIYA","Yusho","04",3,{"$f":"VLOOKUP(B783*100+C783,氏名データ!$AC$2:$AJ$401,2,0)","v":"都府中東"},null,"男",null,54638,"森屋","友翔","ﾓﾘﾔ","ﾕｳｼｮｳ","MORIYA","Yusho","男","04",3]
[54639,5,46,"内田","琥太","ｳﾁﾀﾞ","ｺｳﾀ","UCHIDA","Kouta","06",2,{"$f":"VLOOKUP(B784*100+C784,氏名データ!$AC$2:$AJ$401,2,0)","v":"都府中東"},null,"男",null,54639,"内田","琥太","ｳﾁﾀﾞ","ｺｳﾀ","UCHIDA","Kouta","男","06",2]
[54640,5,46,"岡本","陽也","ｵｶﾓﾄ","ﾊﾙﾔ","OKAMOTO","Haruya","05",2,{"$f":"VLOOKUP(B785*100+C785,氏名データ!$AC$2:$AJ$401,2,0)","v":"都府中東"},null,"男",null,54640,"岡本","陽也","ｵｶﾓﾄ","ﾊﾙﾔ","OKAMOTO","Haruya","男","05",2]
[54644,5,46,"芳賀","皇王","ﾊｶﾞ","ｷﾐｵ","HAGA","Kimio","05",2,{"$f":"VLOOKUP(B786*100+C786,氏名データ!$AC$2:$AJ$401,2,0)","v":"都府中東"},null,"男",null,54644,"芳賀","皇王","ﾊｶﾞ","ｷﾐｵ","HAGA","Kimio","男","05",2]
[54645,5,46,"山田","大貴","ﾔﾏﾀﾞ","ﾀｲｷ","YAMADA","Taiki","05",2,{"$f":"VLOOKUP(B787*100+C787,氏名データ!$AC$2:$AJ$401,2,0)","v":"都府中東"},null,"男",null,54645,"山田","大貴","ﾔﾏﾀﾞ","ﾀｲｷ","YAMADA","Taiki","男","05",2]
[54646,5,46,"江口","世渉","ｴｸﾞﾁ","ﾜﾀﾙ","EGUCHI","Wataru","06",1,{"$f":"VLOOKUP(B788*100+C788,氏名データ!$AC$2:$AJ$401,2,0)","v":"都府中東"},null,"男",null,54646,"江口","世渉","ｴｸﾞﾁ","ﾜﾀﾙ","EGUCHI","Wataru","男","06",1]
[54647,5,46,"東","逢雄","ﾋｶﾞｼ","ｱｵ","HIGASHI","Ao","06",1,{"$f":"VLOOKUP(B789*100+C789,氏名データ!$AC$2:$AJ$401,2,0)","v":"都府中東"},null,"男",null,54647,"東","逢雄","ﾋｶﾞｼ","ｱｵ","HIGASHI","Ao","男","06",1]
[54701,5,47,"田中","郁覇","ﾀﾅｶ","ｲｸﾊ","TANAKA","Ikuha","04",3,{"$f":"VLOOKUP(B790*100+C790,氏名データ!$AC$2:$AJ$401,2,0)","v":"都府中西"},null,"男",null,54701,"田中","郁覇","ﾀﾅｶ","ｲｸﾊ","TANAKA","Ikuha","男","04",3]
[54702,5,47,"安田","開士郎","ﾔｽﾀﾞ","ｶｲｼﾛｳ","YASUDA","Kaishiro","04",3,{"$f":"VLOOKUP(B791*100+C791,氏名データ!$AC$2:$AJ$401,2,0)","v":"都府中西"},null,"男",null,54702,"安田","開士郎","ﾔｽﾀﾞ","ｶｲｼﾛｳ","YASUDA","Kaishiro","男","04",3]
[54703,5,47,"中村","文治","ﾅｶﾑﾗ","ﾌﾞﾝｼﾞ","NAKAMURA","Bunji","05",2,{"$f":"VLOOKUP(B792*100+C792,氏名データ!$AC$2:$AJ$401,2,0)","v":"都府中西"},null,"男",null,54703,"中村","文治","ﾅｶﾑﾗ","ﾌﾞﾝｼﾞ","NAKAMURA","Bunji","男","05",2]
[54704,5,47,"高橋","翔大","ﾀｶﾊｼ","ｼｮｳﾀ","TAKAHASHI","Shota","05",2,{"$f":"VLOOKUP(B793*100+C793,氏名データ!$AC$2:$AJ$401,2,0)","v":"都府中西"},null,"男",null,54704,"高橋","翔大","ﾀｶﾊｼ","ｼｮｳﾀ","TAKAHASHI","Shota","男","05",2]
[54705,5,47,"田中","優太","ﾀﾅｶ","ﾕｳﾀ","TANAKA","Yuta","05",2,{"$f":"VLOOKUP(B794*100+C794,氏名データ!$AC$2:$AJ$401,2,0)","v":"都府中西"},null,"男",null,54705,"田中","優太","ﾀﾅｶ","ﾕｳﾀ","TANAKA","Yuta","男","05",2]
[54749,5,47,"岩澤","海頼","ｲﾜｻﾜ","ﾐﾗｲ","IWASAWA","Mirai","04",3,{"$f":"VLOOKUP(B795*100+C795,氏名データ!$AC$2:$AJ$401,2,0)","v":"都府中西"},null,"男",null,54749,"岩澤","海頼","ｲﾜｻﾜ","ﾐﾗｲ","IWASAWA","Mirai","男","04",3]
[54789,5,47,"箭内","心々美","ﾔﾅｲ","ｺｺﾐ","YANAI","Kokomi","05",2,{"$f":"VLOOKUP(B796*100+C796,氏名データ!$AC$2:$AJ$401,2,0)","v":"都府中西"},null,"女",null,54789,"箭内","心々美","ﾔﾅｲ","ｺｺﾐ","YANAI","Kokomi","女","05",2]
[54790,5,47,"佐伯","菜花","ｻｴｷ","ﾅﾉﾊ","SAEKI","Nanoha","06",1,{"$f":"VLOOKUP(B797*100+C797,氏名データ!$AC$2:$AJ$401,2,0)","v":"都府中西"},null,"女",null,54790,"佐伯","菜花","ｻｴｷ","ﾅﾉﾊ","SAEKI","Nanoha","女","06",1]
[54791,5,47,"門間","あかり","ﾓﾝﾏ","ｱｶﾘ","MONMA","Akari","06",1,{"$f":"VLOOKUP(B798*100+C798,氏名データ!$AC$2:$AJ$401,2,0)","v":"都府中西"},null,"女",null,54791,"門間","あかり","ﾓﾝﾏ","ｱｶﾘ","MONMA","Akari","女","06",1]
[54817,5,48,"田中","隼太","ﾀﾅｶ","ﾊﾔﾀ","TANAKA","Hayata","04",3,{"$f":"VLOOKUP(B799*100+C799,氏名データ!$AC$2:$AJ$401,2,0)","v":"都府中工"},null,"男",null,54817,"田中","隼太","ﾀﾅｶ","ﾊﾔﾀ","TANAKA","Hayata","男","04",3]
[54818,5,48,"山火","翔太","ﾔﾏﾋﾞ","ｼｮｳﾀ","YAMABI","Syouta","05",3,{"$f":"VLOOKUP(B800*100+C800,氏名データ!$AC$2:$AJ$401,2,0)","v":"都府中工"},null,"男",null,54818,"山火","翔太","ﾔﾏﾋﾞ","ｼｮｳﾀ","YAMABI","Syouta","男","05",3]
[54819,5,48,"上田","煌介","ｳｴﾀﾞ","ｺｳｽｹ","UEDA","Kosuke","04",3,{"$f":"VLOOKUP(B801*100+C801,氏名データ!$AC$2:$AJ$401,2,0)","v":"都府中工"},null,"男",null,54819,"上田","煌介","ｳｴﾀﾞ","ｺｳｽｹ","UEDA","Kosuke","男","04",3]
[54824,5,48,"小山田","颯太","ｵﾔﾏﾀﾞ","ｿｳﾀ","OYAMADA","Souta","05",2,{"$f":"VLOOKUP(B802*100+C802,氏名データ!$AC$2:$AJ$401,2,0)","v":"都府中工"},null,"男",null,54824,"小山田","颯太","ｵﾔﾏﾀﾞ","ｿｳﾀ","OYAMADA","Souta","男","05",2]
[54825,5,48,"堀江","洵太","ﾎﾘｴ","ｼﾞｭﾝﾀ","HORIE","Junta","06",1,{"$f":"VLOOKUP(B803*100+C803,氏名データ!$AC$2:$AJ$401,2,0)","v":"都府中工"},null,"男",null,54825,"堀江","洵太","ﾎﾘｴ","ｼﾞｭﾝﾀ","HORIE","Junta","男","06",1]
[54826,5,48,"坂田","樹紀","ｻｶﾀ","ﾀﾂｷ","SAKATA","Tatsuki","06",1,{"$f":"VLOOKUP(B804*100+C804,氏名データ!$AC$2:$AJ$401,2,0)","v":"都府中工"},null,"男",null,54826,"坂田","樹紀","ｻｶﾀ","ﾀﾂｷ","SAKATA","Tatsuki","男","06",1]
[54827,5,48,"遊佐","一心","ﾕｻ","ｲｯｼﾝ","YUSA","Isshin","07",1,{"$f":"VLOOKUP(B805*100+C805,氏名データ!$AC$2:$AJ$401,2,0)","v":"都府中工"},null,"男",null,54827,"遊佐","一心","ﾕｻ","ｲｯｼﾝ","YUSA","Isshin","男","07",1]
[54828,5,48,"梶原","修悟","ｶｼﾞﾜﾗ","ｼｭｳｺﾞ","KAJIWARA","Shugo","06",1,{"$f":"VLOOKUP(B806*100+C806,氏名データ!$AC$2:$AJ$401,2,0)","v":"都府中工"},null,"男",null,54828,"梶原","修悟","ｶｼﾞﾜﾗ","ｼｭｳｺﾞ","KAJIWARA","Shugo","男","06",1]
[54829,5,48,"田代","悠輝","ﾀｼﾛ","ﾕｳｷ","TASHIRO","Yuki","06",1,{"$f":"VLOOKUP(B807*100+C807,氏名データ!$AC$2:$AJ$401,2,0)","v":"都府中工"},null,"男",null,54829,"田代","悠輝","ﾀｼﾛ","ﾕｳｷ","TASHIRO","Yuki","男","06",1]
[54830,5,48,"岩澤","慎司","ｲﾜｻﾜ","ｼﾝｼﾞ","IWASAWA","Shinzi","06",1,{"$f":"VLOOKUP(B808*100+C808,氏名データ!$AC$2:$AJ$401,2,0)","v":"都府中工"},null,"男",null,54830,"岩澤","慎司","ｲﾜｻﾜ","ｼﾝｼﾞ","IWASAWA","Shinzi","男","06",1]
[54831,5,48,"佐藤","勇","ｻﾄｳ","ﾕｳ","SATO","Yu","06",1,{"$f":"VLOOKUP(B809*100+C809,氏名データ!$AC$2:$AJ$401,2,0)","v":"都府中工"},null,"男",null,54831,"佐藤","勇","ｻﾄｳ","ﾕｳ","SATO","Yu","男","06",1]
[54901,5,49,"宮臣","護","ﾐﾔﾄﾐ","ﾏﾓﾙ","MIYATOMI","Mamoru","05",2,{"$f":"VLOOKUP(B810*100+C810,氏名データ!$AC$2:$AJ$401,2,0)","v":"都農業"},null,"男",null,54901,"宮臣","護","ﾐﾔﾄﾐ","ﾏﾓﾙ","MIYATOMI","Mamoru","男","05",2]
[55029,5,50,"飯村","玲音","ｲｲﾑﾗ","ﾚｵ","IIMURA","Reo","05",3,{"$f":"VLOOKUP(B811*100+C811,氏名データ!$AC$2:$AJ$401,2,0)","v":"明星"},null,"男",null,55029,"飯村","玲音","ｲｲﾑﾗ","ﾚｵ","IIMURA","Reo","男","05",3]
[55031,5,50,"公門","悠","ｸﾓﾝ","ﾕｳ","KUMON","Yu","04",3,{"$f":"VLOOKUP(B812*100+C812,氏名データ!$AC$2:$AJ$401,2,0)","v":"明星"},null,"男",null,55031,"公門","悠","ｸﾓﾝ","ﾕｳ","KUMON","Yu","男","04",3]
[55032,5,50,"小栗","尚士","ｵｸﾞﾘ","ﾀｶｼ","OGURI","Takashi","05",3,{"$f":"VLOOKUP(B813*100+C813,氏名データ!$AC$2:$AJ$401,2,0)","v":"明星"},null,"男",null,55032,"小栗","尚士","ｵｸﾞﾘ","ﾀｶｼ","OGURI","Takashi","男","05",3]
[55033,5,50,"下野","光太郎","ｼﾓﾉ","ｺｳﾀﾛｳ","SHIMONO","Kotaro","04",3,{"$f":"VLOOKUP(B814*100+C814,氏名データ!$AC$2:$AJ$401,2,0)","v":"明星"},null,"男",null,55033,"下野","光太郎","ｼﾓﾉ","ｺｳﾀﾛｳ","SHIMONO","Kotaro","男","04",3]
[55034,5,50,"金子","亮太","ｶﾈｺ","ﾘｮｳﾀ","KANEKO","Ryota","05",2,{"$f":"VLOOKUP(B815*100+C815,氏名データ!$AC$2:$AJ$401,2,0)","v":"明星"},null,"男",null,55034,"金子","亮太","ｶﾈｺ","ﾘｮｳﾀ","KANEKO","Ryota","男","05",2]
[55035,5,50,"下総","大翔","ｼﾓﾌｻ","ﾋﾛﾄ","SHIMOHUSA","Hiroto","05",2,{"$f":"VLOOKUP(B816*100+C816,氏名データ!$AC$2:$AJ$401,2,0)","v":"明星"},null,"男",null,55035,"下総","大翔","ｼﾓﾌｻ","ﾋﾛﾄ","SHIMOHUSA","Hiroto","男","05",2]
[55036,5,50,"山中","勇樹","ﾀﾅｶ","ﾕｳｷ","TANAKA","Yuki","05",2,{"$f":"VLOOKUP(B817*100+C817,氏名データ!$AC$2:$AJ$401,2,0)","v":"明星"},null,"男",null,55036,"山中","勇樹","ﾀﾅｶ","ﾕｳｷ","TANAKA","Yuki","男","05",2]
[55037,5,50,"曽根","瑠太","ｿﾈ","ﾘｭｳﾀ","SONE","Ryuta","05",2,{"$f":"VLOOKUP(B818*100+C818,氏名データ!$AC$2:$AJ$401,2,0)","v":"明星"},null,"男",null,55037,"曽根","瑠太","ｿﾈ","ﾘｭｳﾀ","SONE","Ryuta","男","05",2]
[55038,5,50,"木曽","敬太","ｷｿ","ｹｲﾀ","KISO","Keita","05",2,{"$f":"VLOOKUP(B819*100+C819,氏名データ!$AC$2:$AJ$401,2,0)","v":"明星"},null,"男",null,55038,"木曽","敬太","ｷｿ","ｹｲﾀ","KISO","Keita","男","05",2]
[55039,5,50,"山口","侑也","ﾔﾏｸﾞﾁ","ﾕｳﾔ","YAMAGUCHI","Yuya","05",2,{"$f":"VLOOKUP(B820*100+C820,氏名データ!$AC$2:$AJ$401,2,0)","v":"明星"},null,"男",null,55039,"山口","侑也","ﾔﾏｸﾞﾁ","ﾕｳﾔ","YAMAGUCHI","Yuya","男","05",2]
[55040,5,50,"柿崎","里有","ｶｷｻﾞｷ","ﾘｱﾙ","KAKIZAKI","Riaru","05",2,{"$f":"VLOOKUP(B821*100+C821,氏名データ!$AC$2:$AJ$401,2,0)","v":"明星"},null,"男",null,55040,"柿崎","里有","ｶｷｻﾞｷ","ﾘｱﾙ","KAKIZAKI","Riaru","男","05",2]
[55041,5,50,"田中","亮真","ﾀﾅｶ","ﾘｮｳﾏ","TANAKA","Ryoma","05",2,{"$f":"VLOOKUP(B822*100+C822,氏名データ!$AC$2:$AJ$401,2,0)","v":"明星"},null,"男",null,55041,"田中","亮真","ﾀﾅｶ","ﾘｮｳﾏ","TANAKA","Ryoma","男","05",2]
[55043,5,50,"三島","怜士","ﾐｼﾏ","ﾚｵ","MISHIMA","Reo","05",2,{"$f":"VLOOKUP(B823*100+C823,氏名データ!$AC$2:$AJ$401,2,0)","v":"明星"},null,"男",null,55043,"三島","怜士","ﾐｼﾏ","ﾚｵ","MISHIMA","Reo","男","05",2]
[55044,5,50,"橋本","宗馬","ﾊｼﾓﾄ","ｿｳﾏ","HASHIMOTO","Soma","05",2,{"$f":"VLOOKUP(B824*100+C824,氏名データ!$AC$2:$AJ$401,2,0)","v":"明星"},null,"男",null,55044,"橋本","宗馬","ﾊｼﾓﾄ","ｿｳﾏ","HASHIMOTO","Soma","男","05",2]
[55045,5,50,"岡山","勇太","ｵｶﾔﾏ","ﾕｳﾀ","OKAYAMA","Yuta","05",3,{"$f":"VLOOKUP(B825*100+C825,氏名データ!$AC$2:$AJ$401,2,0)","v":"明星"},null,"男",null,55045,"岡山","勇太","ｵｶﾔﾏ","ﾕｳﾀ","OKAYAMA","Yuta","男","05",3]
[55046,5,50,"山本","和輝","ﾔﾏﾓﾄ","ｶｽﾞｷ","YAMAMOTO","Kazuki","06",1,{"$f":"VLOOKUP(B826*100+C826,氏名データ!$AC$2:$AJ$401,2,0)","v":"明星"},null,"男",null,55046,"山本","和輝","ﾔﾏﾓﾄ","ｶｽﾞｷ","YAMAMOTO","Kazuki","男","06",1]
[55047,5,50,"田中","朝陽","ﾀﾅｶ","ｱｻﾋ","TANAKA","Asahi","06",1,{"$f":"VLOOKUP(B827*100+C827,氏名データ!$AC$2:$AJ$401,2,0)","v":"明星"},null,"男",null,55047,"田中","朝陽","ﾀﾅｶ","ｱｻﾋ","TANAKA","Asahi","男","06",1]
[55048,5,50,"川下","碧","ｶﾜｼﾓ","ｱｵ","KAWASHIMO","Ao","06",1,{"$f":"VLOOKUP(B828*100+C828,氏名データ!$AC$2:$AJ$401,2,0)","v":"明星"},null,"男",null,55048,"川下","碧","ｶﾜｼﾓ","ｱｵ","KAWASHIMO","Ao","男","06",1]
[55051,5,50,"大木","志桜","ｵｵｷ","ｼｵ","OHKI","Shio","05",2,{"$f":"VLOOKUP(B829*100+C829,氏名データ!$AC$2:$AJ$401,2,0)","v":"明星"},null,"女",null,55051,"大木","志桜","ｵｵｷ","ｼｵ","OHKI","Shio","女","05",2]
[55052,5,50,"長尾","帆華","ﾅｶﾞｵ","ﾎﾉｶ","NAGAO","Honoka","05",2,{"$f":"VLOOKUP(B830*100+C830,氏名データ!$AC$2:$AJ$401,2,0)","v":"明星"},null,"女",null,55052,"長尾","帆華","ﾅｶﾞｵ","ﾎﾉｶ","NAGAO","Honoka","女","05",2]
[55053,5,50,"大谷","未来","ｵｵﾀﾆ","ﾐﾗｲ","OTANI","Mirai","05",2,{"$f":"VLOOKUP(B831*100+C831,氏名データ!$AC$2:$AJ$401,2,0)","v":"明星"},null,"女",null,55053,"大谷","未来","ｵｵﾀﾆ","ﾐﾗｲ","OTANI","Mirai","女","05",2]
[55054,5,50,"青柳","百合子","ｱｵﾔｷﾞ","ﾕﾘｺ","AOYAGI","Yuriko","06",1,{"$f":"VLOOKUP(B832*100+C832,氏名データ!$AC$2:$AJ$401,2,0)","v":"明星"},null,"女",null,55054,"青柳","百合子","ｱｵﾔｷﾞ","ﾕﾘｺ","AOYAGI","Yuriko","女","06",1]
[55055,5,50,"三井","瑠莉","ﾐﾂｲ","ﾙﾘ","MITSUI","Ruri","06",1,{"$f":"VLOOKUP(B833*100+C833,氏名データ!$AC$2:$AJ$401,2,0)","v":"明星"},null,"女",null,55055,"三井","瑠莉","ﾐﾂｲ","ﾙﾘ","MITSUI","Ruri","女","06",1]
[55056,5,50,"木内","亜維","ｷｳﾁ","ｱｲ","KIUCHI","Ai","06",1,{"$f":"VLOOKUP(B834*100+C834,氏名データ!$AC$2:$AJ$401,2,0)","v":"明星"},null,"女",null,55056,"木内","亜維","ｷｳﾁ","ｱｲ","KIUCHI","Ai","女","06",1]
[{"$f":"P835","v":55096},{"$f":"ROUNDDOWN(A835/10000,0)","v":5},{"$f":"ROUNDDOWN((A835-B835*10000)/100,0)","v":50},{"$f":"Q835","v":"髙嶋"},{"$f":"R835","v":"弥生"},{"$f":"S835","v":"ﾀｶｼﾏ"},{"$f":"T835","v":"ﾔﾖｲ"},{"$f":"U835","v":"TAKASHIMA"},{"$f":"V835","v":"Yayoi"},{"$f":"X835","v":"04"},{"$f":"Y835","v":3},{"$f":"VLOOKUP(B835*100+C835,氏名データ!$AC$2:$AJ$401,2,0)","v":"明星"},null,{"$f":"W835","v":"女"},null,55096,"髙嶋","弥生","ﾀｶｼﾏ","ﾔﾖｲ","TAKASHIMA","Yayoi","女","04",3]
[55097,5,50,"山下","友菜","ﾔﾏｼﾀ","ﾕｳﾅ","YAMASHITA","Yuna","04",3,{"$f":"VLOOKUP(B836*100+C836,氏名データ!$AC$2:$AJ$401,2,0)","v":"明星"},null,"女",null,55097,"山下","友菜","ﾔﾏｼﾀ","ﾕｳﾅ","YAMASHITA","Yuna","女","04",3]
[55099,5,50,"佐藤","有紗","ｻﾄｳ","ｱﾘｻ","SATO","Arisa","04",3,{"$f":"VLOOKUP(B837*100+C837,氏名データ!$AC$2:$AJ$401,2,0)","v":"明星"},null,"女",null,55099,"佐藤","有紗","ｻﾄｳ","ｱﾘｻ","SATO","Arisa","女","04",3]
[55210,5,52,"髙橋","幸聖","ﾀｶﾊｼ","ｺｳｾｲ","TAKAHASHI","Kosei","05",2,{"$f":"VLOOKUP(B838*100+C838,氏名データ!$AC$2:$AJ$401,2,0)","v":"都保谷"},null,"男",null,55210,"髙橋","幸聖","ﾀｶﾊｼ","ｺｳｾｲ","TAKAHASHI","Kosei","男","05",2]
[55211,5,52,"髙橋","優太","ﾀｶﾊｼ","ﾕｳﾀ","TAKAHASHI","Yuta","05",2,{"$f":"VLOOKUP(B839*100+C839,氏名データ!$AC$2:$AJ$401,2,0)","v":"都保谷"},null,"男",null,55211,"髙橋","優太","ﾀｶﾊｼ","ﾕｳﾀ","TAKAHASHI","Yuta","男","05",2]
[55212,5,52,"平野","大地","ﾋﾗﾉ","ﾀﾞｲﾁ","HIRANO","Daichi","05",2,{"$f":"VLOOKUP(B840*100+C840,氏名データ!$AC$2:$AJ$401,2,0)","v":"都保谷"},null,"男",null,55212,"平野","大地","ﾋﾗﾉ","ﾀﾞｲﾁ","HIRANO","Daichi","男","05",2]
[55213,5,52,"渡部","佑飛","ﾜﾀﾅﾍﾞ","ﾕｳﾋ","WATANABE","Yuhi","04",3,{"$f":"VLOOKUP(B841*100+C841,氏名データ!$AC$2:$AJ$401,2,0)","v":"都保谷"},null,"男",null,55213,"渡部","佑飛","ﾜﾀﾅﾍﾞ","ﾕｳﾋ","WATANABE","Yuhi","男","04",3]
[55214,5,52,"高橋","和友","ﾀｶﾊｼ","ｶｽﾞﾄﾓ","TAKAHASHI","Kazutomo","05",3,{"$f":"VLOOKUP(B842*100+C842,氏名データ!$AC$2:$AJ$401,2,0)","v":"都保谷"},null,"男",null,55214,"高橋","和友","ﾀｶﾊｼ","ｶｽﾞﾄﾓ","TAKAHASHI","Kazutomo","男","05",3]
[55215,5,52,"八島","瑞樹","ﾔｼﾏ","ﾐｽﾞｷ","YASHIMA","Mizuki","04",3,{"$f":"VLOOKUP(B843*100+C843,氏名データ!$AC$2:$AJ$401,2,0)","v":"都保谷"},null,"男",null,55215,"八島","瑞樹","ﾔｼﾏ","ﾐｽﾞｷ","YASHIMA","Mizuki","男","04",3]
[55216,5,52,"ムナシンハ","ラウィンデュ","ﾑﾅｼﾝﾊ","ﾗｳｨﾝﾃﾞｭ","MUNASHINGHA","Rawindu","04",3,{"$f":"VLOOKUP(B844*100+C844,氏名データ!$AC$2:$AJ$401,2,0)","v":"都保谷"},null,"男",null,55216,"ムナシンハ","ラウィンデュ","ﾑﾅｼﾝﾊ","ﾗｳｨﾝﾃﾞｭ","MUNASHINGHA","Rawindu","男","04",3]
[55217,5,52,"愛甲","将也","ｱｲｺｳ","ﾏｻﾔ","AIKO","Masaya","06",1,{"$f":"VLOOKUP(B845*100+C845,氏名データ!$AC$2:$AJ$401,2,0)","v":"都保谷"},null,"男",null,55217,"愛甲","将也","ｱｲｺｳ","ﾏｻﾔ","AIKO","Masaya","男","06",1]
[55218,5,52,"池上","舞咲","ｲｹｶﾞﾐ","ﾏｻｷ","IKEGAMI","Masaki","06",1,{"$f":"VLOOKUP(B846*100+C846,氏名データ!$AC$2:$AJ$401,2,0)","v":"都保谷"},null,"男",null,55218,"池上","舞咲","ｲｹｶﾞﾐ","ﾏｻｷ","IKEGAMI","Masaki","男","06",1]
[55219,5,52,"田中","想樹","ﾀﾅｶ","ｿｳｼﾞｭ","TANAKA","Soju","07",1,{"$f":"VLOOKUP(B847*100+C847,氏名データ!$AC$2:$AJ$401,2,0)","v":"都保谷"},null,"男",null,55219,"田中","想樹","ﾀﾅｶ","ｿｳｼﾞｭ","TANAKA","Soju","男","07",1]
[55220,5,52,"佐藤","清彦","ｻﾄｳ","ｷﾖﾋｺ","SATO","Kiyohiko","06",1,{"$f":"VLOOKUP(B848*100+C848,氏名データ!$AC$2:$AJ$401,2,0)","v":"都保谷"},null,"男",null,55220,"佐藤","清彦","ｻﾄｳ","ｷﾖﾋｺ","SATO","Kiyohiko","男","06",1]
[55221,5,52,"木原","楓架","ｷﾊﾗ","ﾌｳｶﾞ","KIHARA","Huga","06",1,{"$f":"VLOOKUP(B849*100+C849,氏名データ!$AC$2:$AJ$401,2,0)","v":"都保谷"},null,"男",null,55221,"木原","楓架","ｷﾊﾗ","ﾌｳｶﾞ","KIHARA","Huga","男","06",1]
[55222,5,52,"小野","陸","ｵﾉ","ﾘｸ","ONO","Riku","06",1,{"$f":"VLOOKUP(B850*100+C850,氏名データ!$AC$2:$AJ$401,2,0)","v":"都保谷"},null,"男",null,55222,"小野","陸","ｵﾉ","ﾘｸ","ONO","Riku","男","06",1]
[55245,5,52,"大澤","碧空","ｵｵｻﾜ","ｿﾗ","OOSAWA","Sora","04",3,{"$f":"VLOOKUP(B851*100+C851,氏名データ!$AC$2:$AJ$401,2,0)","v":"都保谷"},null,"男",null,55245,"大澤","碧空","ｵｵｻﾜ","ｿﾗ","OOSAWA","Sora","男","04",3]
[55246,5,52,"大西","智仁","ｵｵﾆｼ","ﾄﾓﾋﾄ","OHNISHI","Tomohito","04",3,{"$f":"VLOOKUP(B852*100+C852,氏名データ!$AC$2:$AJ$401,2,0)","v":"都保谷"},null,"男",null,55246,"大西","智仁","ｵｵﾆｼ","ﾄﾓﾋﾄ","OHNISHI","Tomohito","男","04",3]
[55249,5,52,"金子","幹裕","ｶﾈｺ","ﾐｷﾋﾛ","KANEKO","Mikihiro","04",3,{"$f":"VLOOKUP(B853*100+C853,氏名データ!$AC$2:$AJ$401,2,0)","v":"都保谷"},null,"男",null,55249,"金子","幹裕","ｶﾈｺ","ﾐｷﾋﾛ","KANEKO","Mikihiro","男","04",3]
[55250,5,52,"大熊","峻冬","ｵｵｸﾏ","ｼｭﾝﾄ","OHKUMA","Shunto","04",3,{"$f":"VLOOKUP(B854*100+C854,氏名データ!$AC$2:$AJ$401,2,0)","v":"都保谷"},null,"男",null,55250,"大熊","峻冬","ｵｵｸﾏ","ｼｭﾝﾄ","OHKUMA","Shunto","男","04",3]
[55275,5,52,"川添","瑠南","ｶﾜｿﾞｴ","ﾙﾅﾝ","KAWAZOE","Runan","04",3,{"$f":"VLOOKUP(B855*100+C855,氏名データ!$AC$2:$AJ$401,2,0)","v":"都保谷"},null,"女",null,55275,"川添","瑠南","ｶﾜｿﾞｴ","ﾙﾅﾝ","KAWAZOE","Runan","女","04",3]
[55276,5,52,"安念","花音","ｱﾝﾈﾝ","ｶﾉﾝ","ANNEN","Kanon","04",3,{"$f":"VLOOKUP(B856*100+C856,氏名データ!$AC$2:$AJ$401,2,0)","v":"都保谷"},null,"女",null,55276,"安念","花音","ｱﾝﾈﾝ","ｶﾉﾝ","ANNEN","Kanon","女","04",3]
[55277,5,52,"江尻","智香","ｴｼﾞﾘ","ﾄﾓｶ","EJIRI","Tomoka","05",3,{"$f":"VLOOKUP(B857*100+C857,氏名データ!$AC$2:$AJ$401,2,0)","v":"都保谷"},null,"女",null,55277,"江尻","智香","ｴｼﾞﾘ","ﾄﾓｶ","EJIRI","Tomoka","女","05",3]
[55278,5,52,"葉金","麗菜","ﾊｶﾞﾈ","ﾚﾅ","HAGANE","Rena","06",1,{"$f":"VLOOKUP(B858*100+C858,氏名データ!$AC$2:$AJ$401,2,0)","v":"都保谷"},null,"女",null,55278,"葉金","麗菜","ﾊｶﾞﾈ","ﾚﾅ","HAGANE","Rena","女","06",1]
[55279,5,52,"藤原","あいり","ﾌｼﾞﾜﾗ","ｱｲﾘ","HUJIWARA","Airi","07",1,{"$f":"VLOOKUP(B859*100+C859,氏名データ!$AC$2:$AJ$401,2,0)","v":"都保谷"},null,"女",null,55279,"藤原","あいり","ﾌｼﾞﾜﾗ","ｱｲﾘ","HUJIWARA","Airi","女","07",1]
[55280,5,52,"枦元","瀬奈","ﾊｾﾞﾓﾄ","ｾﾅ","HAZEMOTO","Sena","06",1,{"$f":"VLOOKUP(B860*100+C860,氏名データ!$AC$2:$AJ$401,2,0)","v":"都保谷"},null,"女",null,55280,"枦元","瀬奈","ﾊｾﾞﾓﾄ","ｾﾅ","HAZEMOTO","Sena","女","06",1]
[55303,5,53,"古賀","斗磨","ｺｶﾞ","ﾄｳﾏ","KOGA","Touma","04",3,{"$f":"VLOOKUP(B861*100+C861,氏名データ!$AC$2:$AJ$401,2,0)","v":"武蔵野大"},null,"男",null,55303,"古賀","斗磨","ｺｶﾞ","ﾄｳﾏ","KOGA","Touma","男","04",3]
[55312,5,53,"河村","旅人","ｶﾜﾑﾗ","ﾀﾋﾞﾄ","KAWAMURA","Tabito","05",2,{"$f":"VLOOKUP(B862*100+C862,氏名データ!$AC$2:$AJ$401,2,0)","v":"武蔵野大"},null,"男",null,55312,"河村","旅人","ｶﾜﾑﾗ","ﾀﾋﾞﾄ","KAWAMURA","Tabito","男","05",2]
[55313,5,53,"冨沢","仁","ﾄﾐｻﾞﾜ","ｼﾞﾝ","TOMIZAWA","Zin","05",2,{"$f":"VLOOKUP(B863*100+C863,氏名データ!$AC$2:$AJ$401,2,0)","v":"武蔵野大"},null,"男",null,55313,"冨沢","仁","ﾄﾐｻﾞﾜ","ｼﾞﾝ","TOMIZAWA","Zin","男","05",2]
[55314,5,53,"大津留","彪伍","ｵｵﾂﾙ","ﾕｳｺﾞ","OHTSURU","Yugo","05",2,{"$f":"VLOOKUP(B864*100+C864,氏名データ!$AC$2:$AJ$401,2,0)","v":"武蔵野大"},null,"男",null,55314,"大津留","彪伍","ｵｵﾂﾙ","ﾕｳｺﾞ","OHTSURU","Yugo","男","05",2]
[55315,5,53,"木村","天奏","ｷﾑﾗ","ﾃﾝｿｳ","KIMURA","Tensou","06",1,{"$f":"VLOOKUP(B865*100+C865,氏名データ!$AC$2:$AJ$401,2,0)","v":"武蔵野大"},null,"男",null,55315,"木村","天奏","ｷﾑﾗ","ﾃﾝｿｳ","KIMURA","Tensou","男","06",1]
[55316,5,53,"安藤","暖","ｱﾝﾄﾞｳ","ﾊﾙ","ANDO","Haru","07",1,{"$f":"VLOOKUP(B866*100+C866,氏名データ!$AC$2:$AJ$401,2,0)","v":"武蔵野大"},null,"男",null,55316,"安藤","暖","ｱﾝﾄﾞｳ","ﾊﾙ","ANDO","Haru","男","07",1]
[55317,5,53,"新野","友希","ｼﾝﾉ","ﾕｳｷ","SHINNO","Yuki","06",1,{"$f":"VLOOKUP(B867*100+C867,氏名データ!$AC$2:$AJ$401,2,0)","v":"武蔵野大"},null,"男",null,55317,"新野","友希","ｼﾝﾉ","ﾕｳｷ","SHINNO","Yuki","男","06",1]
[55377,5,53,"白井","花怜","ｼﾗｲ","ｶﾚﾝ","SHIRAI","Karen","04",3,{"$f":"VLOOKUP(B868*100+C868,氏名データ!$AC$2:$AJ$401,2,0)","v":"武蔵野大"},null,"女",null,55377,"白井","花怜","ｼﾗｲ","ｶﾚﾝ","SHIRAI","Karen","女","04",3]
[55378,5,53,"谷口","恵美","ﾀﾆｸﾞﾁ","ｴﾐ","TANIGUCHI","Emi","04",3,{"$f":"VLOOKUP(B869*100+C869,氏名データ!$AC$2:$AJ$401,2,0)","v":"武蔵野大"},null,"女",null,55378,"谷口","恵美","ﾀﾆｸﾞﾁ","ｴﾐ","TANIGUCHI","Emi","女","04",3]
[55382,5,53,"西山","葉月","ﾆｼﾔﾏ","ﾊﾂﾞｷ","NISHIYAMA","Hazuki","05",2,{"$f":"VLOOKUP(B870*100+C870,氏名データ!$AC$2:$AJ$401,2,0)","v":"武蔵野大"},null,"女",null,55382,"西山","葉月","ﾆｼﾔﾏ","ﾊﾂﾞｷ","NISHIYAMA","Hazuki","女","05",2]
[55383,5,53,"小林","優愛","ｺﾊﾞﾔｼ","ﾕﾒ","KOBAYASHI","Yume","07",1,{"$f":"VLOOKUP(B871*100+C871,氏名データ!$AC$2:$AJ$401,2,0)","v":"武蔵野大"},null,"女",null,55383,"小林","優愛","ｺﾊﾞﾔｼ","ﾕﾒ","KOBAYASHI","Yume","女","07",1]
[55384,5,53,"小林","仁奈","ｺﾊﾞﾔｼ","ﾆﾅ","KOBAYASHI","Nina","07",1,{"$f":"VLOOKUP(B872*100+C872,氏名データ!$AC$2:$AJ$401,2,0)","v":"武蔵野大"},null,"女",null,55384,"小林","仁奈","ｺﾊﾞﾔｼ","ﾆﾅ","KOBAYASHI","Nina","女","07",1]
[55402,5,54,"國本","大智","ｸﾆﾓﾄ","ﾀﾞｲﾁ","KUNIMOTO","Daichi","06",2,{"$f":"VLOOKUP(B873*100+C873,氏名データ!$AC$2:$AJ$401,2,0)","v":"都清瀬"},null,"男",null,55402,"國本","大智","ｸﾆﾓﾄ","ﾀﾞｲﾁ","KUNIMOTO","Daichi","男","06",2]
[55403,5,54,"靏田","渚","ﾂﾙﾀ","ﾅｷﾞｻ","TSURUTA","Nagisa","05",2,{"$f":"VLOOKUP(B874*100+C874,氏名データ!$AC$2:$AJ$401,2,0)","v":"都清瀬"},null,"男",null,55403,"靏田","渚","ﾂﾙﾀ","ﾅｷﾞｻ","TSURUTA","Nagisa","男","05",2]
[55404,5,54,"瀧口","誠人","ﾀｷｸﾞﾁ","ﾏｻﾋﾄ","TAKIGUCHI","Masahito","06",1,{"$f":"VLOOKUP(B875*100+C875,氏名データ!$AC$2:$AJ$401,2,0)","v":"都清瀬"},null,"男",null,55404,"瀧口","誠人","ﾀｷｸﾞﾁ","ﾏｻﾋﾄ","TAKIGUCHI","Masahito","男","06",1]
[55405,5,54,"増田","暖大","ﾏｽﾀﾞ","ﾋﾅﾀ","MASUDA","Hinata","07",1,{"$f":"VLOOKUP(B876*100+C876,氏名データ!$AC$2:$AJ$401,2,0)","v":"都清瀬"},null,"男",null,55405,"増田","暖大","ﾏｽﾀﾞ","ﾋﾅﾀ","MASUDA","Hinata","男","07",1]
[55489,5,54,"小名","芹奈","ｵﾅ","ｾﾘﾅ","ONA","Serina","04",3,{"$f":"VLOOKUP(B877*100+C877,氏名データ!$AC$2:$AJ$401,2,0)","v":"都清瀬"},null,"女",null,55489,"小名","芹奈","ｵﾅ","ｾﾘﾅ","ONA","Serina","女","04",3]
[55708,5,57,"稲田","悠人","ｲﾅﾀﾞ","ﾕｳﾄ","INADA","Yuto","04",3,{"$f":"VLOOKUP(B878*100+C878,氏名データ!$AC$2:$AJ$401,2,0)","v":"都東久留米総"},null,"男",null,55708,"稲田","悠人","ｲﾅﾀﾞ","ﾕｳﾄ","INADA","Yuto","男","04",3]
[55709,5,57,"若林","建征","ﾜｶﾊﾞﾔｼ","ｹﾝｾｲ","WAKABAYASHI","Kensei","05",2,{"$f":"VLOOKUP(B879*100+C879,氏名データ!$AC$2:$AJ$401,2,0)","v":"都東久留米総"},null,"男",null,55709,"若林","建征","ﾜｶﾊﾞﾔｼ","ｹﾝｾｲ","WAKABAYASHI","Kensei","男","05",2]
[55710,5,57,"松塚","琉偉","ﾏﾂﾂﾞｶ","ﾙｲ","MATSUZUKA","Rui","06",1,{"$f":"VLOOKUP(B880*100+C880,氏名データ!$AC$2:$AJ$401,2,0)","v":"都東久留米総"},null,"男",null,55710,"松塚","琉偉","ﾏﾂﾂﾞｶ","ﾙｲ","MATSUZUKA","Rui","男","06",1]
[56001,5,60,"沼倉","圭吾","ﾇﾏｸﾗ","ｹｲｺﾞ","NUMAKURA","Keigo","05",3,{"$f":"VLOOKUP(B881*100+C881,氏名データ!$AC$2:$AJ$401,2,0)","v":"都国立"},null,"男",null,56001,"沼倉","圭吾","ﾇﾏｸﾗ","ｹｲｺﾞ","NUMAKURA","Keigo","男","05",3]
[56002,5,60,"渡邉","一輝","ﾜﾀﾅﾍﾞ","ｶｽﾞｷ","WATANABE","Kazuki","04",3,{"$f":"VLOOKUP(B882*100+C882,氏名データ!$AC$2:$AJ$401,2,0)","v":"都国立"},null,"男",null,56002,"渡邉","一輝","ﾜﾀﾅﾍﾞ","ｶｽﾞｷ","WATANABE","Kazuki","男","04",3]
[56003,5,60,"平向","優壮","ﾋﾗﾑｷ","ﾕｳｽｹ","HIRAMUKI","Yusuke","05",2,{"$f":"VLOOKUP(B883*100+C883,氏名データ!$AC$2:$AJ$401,2,0)","v":"都国立"},null,"男",null,56003,"平向","優壮","ﾋﾗﾑｷ","ﾕｳｽｹ","HIRAMUKI","Yusuke","男","05",2]
[56004,5,60,"塩冶","優斗","ｴﾝﾔ","ﾕｳﾄ","ENYA","Yuto","05",2,{"$f":"VLOOKUP(B884*100+C884,氏名データ!$AC$2:$AJ$401,2,0)","v":"都国立"},null,"男",null,56004,"塩冶","優斗","ｴﾝﾔ","ﾕｳﾄ","ENYA","Yuto","男","05",2]
[56005,5,60,"村上","碧","ﾑﾗｶﾐ","ｱｵｲ","MURAKAMI","Aoi","05",2,{"$f":"VLOOKUP(B885*100+C885,氏名データ!$AC$2:$AJ$401,2,0)","v":"都国立"},null,"男",null,56005,"村上","碧","ﾑﾗｶﾐ","ｱｵｲ","MURAKAMI","Aoi","男","05",2]
[56006,5,60,"大山","滉翔","ｵｵﾔﾏ","ﾋﾛﾄ","OHYAMA","Hiroto","05",2,{"$f":"VLOOKUP(B886*100+C886,氏名データ!$AC$2:$AJ$401,2,0)","v":"都国立"},null,"男",null,56006,"大山","滉翔","ｵｵﾔﾏ","ﾋﾛﾄ","OHYAMA","Hiroto","男","05",2]
[56008,5,60,"酒井","笙太郎","ｻｶｲ","ｼｮｳﾀﾛｳ","SAKAI","Shotaro","05",2,{"$f":"VLOOKUP(B887*100+C887,氏名データ!$AC$2:$AJ$401,2,0)","v":"都国立"},null,"男",null,56008,"酒井","笙太郎","ｻｶｲ","ｼｮｳﾀﾛｳ","SAKAI","Shotaro","男","05",2]
[56010,5,60,"松浦","周平","ﾏﾂｳﾗ","ｼｭｳﾍｲ","MATSUURA","Shuhei","05",2,{"$f":"VLOOKUP(B888*100+C888,氏名データ!$AC$2:$AJ$401,2,0)","v":"都国立"},null,"男",null,56010,"松浦","周平","ﾏﾂｳﾗ","ｼｭｳﾍｲ","MATSUURA","Shuhei","男","05",2]
[56011,5,60,"鎌田","光希","ｶﾏﾀﾞ","ｺｳｷ","KAMADA","Koki","04",3,{"$f":"VLOOKUP(B889*100+C889,氏名データ!$AC$2:$AJ$401,2,0)","v":"都国立"},null,"男",null,56011,"鎌田","光希","ｶﾏﾀﾞ","ｺｳｷ","KAMADA","Koki","男","04",3]
[56012,5,60,"石川","聖翔","ｲｼｶﾜ","ﾏｻﾄ","ISHIKAWA","Masato","06",2,{"$f":"VLOOKUP(B890*100+C890,氏名データ!$AC$2:$AJ$401,2,0)","v":"都国立"},null,"男",null,56012,"石川","聖翔","ｲｼｶﾜ","ﾏｻﾄ","ISHIKAWA","Masato","男","06",2]
[56013,5,60,"丸山","紺次郎","ﾏﾙﾔﾏ","ｺﾝｼﾞﾛｳ","MARUYAMA","Konjiro","06",1,{"$f":"VLOOKUP(B891*100+C891,氏名データ!$AC$2:$AJ$401,2,0)","v":"都国立"},null,"男",null,56013,"丸山","紺次郎","ﾏﾙﾔﾏ","ｺﾝｼﾞﾛｳ","MARUYAMA","Konjiro","男","06",1]
[56014,5,60,"佐々木","瑛太","ｻｻｷ","ｴｲﾀ","SASAKI","Eita","06",1,{"$f":"VLOOKUP(B892*100+C892,氏名データ!$AC$2:$AJ$401,2,0)","v":"都国立"},null,"男",null,56014,"佐々木","瑛太","ｻｻｷ","ｴｲﾀ","SASAKI","Eita","男","06",1]
[56015,5,60,"津久井","友基","ﾂｸｲ","ﾕｳｷ","TSUKUI","Yuki","06",1,{"$f":"VLOOKUP(B893*100+C893,氏名データ!$AC$2:$AJ$401,2,0)","v":"都国立"},null,"男",null,56015,"津久井","友基","ﾂｸｲ","ﾕｳｷ","TSUKUI","Yuki","男","06",1]
[56016,5,60,"前川","稜斗","ﾏｴｶﾜ","ﾘｮｳﾄ","MAEKAWA","Ryoto","06",1,{"$f":"VLOOKUP(B894*100+C894,氏名データ!$AC$2:$AJ$401,2,0)","v":"都国立"},null,"男",null,56016,"前川","稜斗","ﾏｴｶﾜ","ﾘｮｳﾄ","MAEKAWA","Ryoto","男","06",1]
[56017,5,60,"高槻","柊","ﾀｶﾂｷ","ｼｭｳ","TAKATSUKI","Shu","06",1,{"$f":"VLOOKUP(B895*100+C895,氏名データ!$AC$2:$AJ$401,2,0)","v":"都国立"},null,"男",null,56017,"高槻","柊","ﾀｶﾂｷ","ｼｭｳ","TAKATSUKI","Shu","男","06",1]
[56018,5,60,"茂木","優翔","ﾓｷﾞ","ﾕｳﾄ","MOGI","Yuto","07",1,{"$f":"VLOOKUP(B896*100+C896,氏名データ!$AC$2:$AJ$401,2,0)","v":"都国立"},null,"男",null,56018,"茂木","優翔","ﾓｷﾞ","ﾕｳﾄ","MOGI","Yuto","男","07",1]
[56019,5,60,"畑山","徹朗","ﾊﾀｹﾔﾏ","ﾃﾂﾛｳ","HATAKEYAMA","Tetsurou","06",1,{"$f":"VLOOKUP(B897*100+C897,氏名データ!$AC$2:$AJ$401,2,0)","v":"都国立"},null,"男",null,56019,"畑山","徹朗","ﾊﾀｹﾔﾏ","ﾃﾂﾛｳ","HATAKEYAMA","Tetsurou","男","06",1]
[56020,5,60,"内藤","太陽","ﾅｲﾄｳ","ﾀｲﾖｳ","NAITO","Taiyo","06",1,{"$f":"VLOOKUP(B898*100+C898,氏名データ!$AC$2:$AJ$401,2,0)","v":"都国立"},null,"男",null,56020,"内藤","太陽","ﾅｲﾄｳ","ﾀｲﾖｳ","NAITO","Taiyo","男","06",1]
[{"$f":"P899","v":56021},{"$f":"ROUNDDOWN(A899/10000,0)","v":5},{"$f":"ROUNDDOWN((A899-B899*10000)/100,0)","v":60},{"$f":"Q899","v":"新井"},{"$f":"R899","v":"宏和"},{"$f":"S899","v":"ｱﾗｲ"},{"$f":"T899","v":"ﾋﾛｶｽﾞ"},{"$f":"U899","v":"ARAI"},{"$f":"V899","v":"Hirokazu"},{"$f":"X899","v":"07"},{"$f":"Y899","v":1},{"$f":"VLOOKUP(B899*100+C899,氏名データ!$AC$2:$AJ$401,2,0)","v":"都国立"},null,{"$f":"W899","v":"男"},null,56021,"新井","宏和","ｱﾗｲ","ﾋﾛｶｽﾞ","ARAI","Hirokazu","男","07",1]
[56022,5,60,"新野","尊","ﾆｲﾉ","ﾀｹﾙ","NIINO","Takeru","06",1,{"$f":"VLOOKUP(B900*100+C900,氏名データ!$AC$2:$AJ$401,2,0)","v":"都国立"},null,"男",null,56022,"新野","尊","ﾆｲﾉ","ﾀｹﾙ","NIINO","Takeru","男","06",1]
[56023,5,60,"盛田","直人","ﾓﾘﾀ","ﾅｵﾄ","MORITA","Naoto","06",1,{"$f":"VLOOKUP(B901*100+C901,氏名データ!$AC$2:$AJ$401,2,0)","v":"都国立"},null,"男",null,56023,"盛田","直人","ﾓﾘﾀ","ﾅｵﾄ","MORITA","Naoto","男","06",1]
[56024,5,60,"屋代","航太","ﾔｼﾛ","ｺｳﾀ","YASHIRO","Kota","06",1,{"$f":"VLOOKUP(B902*100+C902,氏名データ!$AC$2:$AJ$401,2,0)","v":"都国立"},null,"男",null,56024,"屋代","航太","ﾔｼﾛ","ｺｳﾀ","YASHIRO","Kota","男","06",1]
[56025,5,60,"大森","諒太郎","ｵｵﾓﾘ","ﾘｮｳﾀﾛｳ","OMORI","Ryotaro","06",1,{"$f":"VLOOKUP(B903*100+C903,氏名データ!$AC$2:$AJ$401,2,0)","v":"都国立"},null,"男",null,56025,"大森","諒太郎","ｵｵﾓﾘ","ﾘｮｳﾀﾛｳ","OMORI","Ryotaro","男","06",1]
[56043,5,60,"飯沼","和也","ｲｲﾇﾏ","ｶｽﾞﾔ","IINUMA","Kazuya","04",3,{"$f":"VLOOKUP(B904*100+C904,氏名データ!$AC$2:$AJ$401,2,0)","v":"都国立"},null,"男",null,56043,"飯沼","和也","ｲｲﾇﾏ","ｶｽﾞﾔ","IINUMA","Kazuya","男","04",3]
[56044,5,60,"渋谷","慈英","ｼﾌﾞﾔ","ｼﾞｴｲ","SHIBUYA","Jiei","04",3,{"$f":"VLOOKUP(B905*100+C905,氏名データ!$AC$2:$AJ$401,2,0)","v":"都国立"},null,"男",null,56044,"渋谷","慈英","ｼﾌﾞﾔ","ｼﾞｴｲ","SHIBUYA","Jiei","男","04",3]
[56047,5,60,"茅野","航大","ﾁﾉ","ｺｳﾀﾞｲ","CHINO","Kodai","04",3,{"$f":"VLOOKUP(B906*100+C906,氏名データ!$AC$2:$AJ$401,2,0)","v":"都国立"},null,"男",null,56047,"茅野","航大","ﾁﾉ","ｺｳﾀﾞｲ","CHINO","Kodai","男","04",3]
[56049,5,60,"杉野","辰磨","ｽｷﾞﾉ","ﾀﾂﾏ","SUGINO","Tatsuma","04",3,{"$f":"VLOOKUP(B907*100+C907,氏名データ!$AC$2:$AJ$401,2,0)","v":"都国立"},null,"男",null,56049,"杉野","辰磨","ｽｷﾞﾉ","ﾀﾂﾏ","SUGINO","Tatsuma","男","04",3]
[56077,5,60,"山下","愛菜","ﾔﾏｼﾀ","ｱｲﾅ","YAMASHITA","Aina","04",3,{"$f":"VLOOKUP(B908*100+C908,氏名データ!$AC$2:$AJ$401,2,0)","v":"都国立"},null,"女",null,56077,"山下","愛菜","ﾔﾏｼﾀ","ｱｲﾅ","YAMASHITA","Aina","女","04",3]
[56078,5,60,"風間","日菜子","ｶｻﾞﾏ","ﾋﾅｺ","KAZAMZ","Hinako","04",3,{"$f":"VLOOKUP(B909*100+C909,氏名データ!$AC$2:$AJ$401,2,0)","v":"都国立"},null,"女",null,56078,"風間","日菜子","ｶｻﾞﾏ","ﾋﾅｺ","KAZAMZ","Hinako","女","04",3]
[56079,5,60,"野間","千智","ﾉﾏ","ﾁｻﾄ","NOMA","Chisato","05",2,{"$f":"VLOOKUP(B910*100+C910,氏名データ!$AC$2:$AJ$401,2,0)","v":"都国立"},null,"女",null,56079,"野間","千智","ﾉﾏ","ﾁｻﾄ","NOMA","Chisato","女","05",2]
[56080,5,60,"金子","未奈","ｶﾈｺ","ﾐﾅ","KANEKO","Mina","05",2,{"$f":"VLOOKUP(B911*100+C911,氏名データ!$AC$2:$AJ$401,2,0)","v":"都国立"},null,"女",null,56080,"金子","未奈","ｶﾈｺ","ﾐﾅ","KANEKO","Mina","女","05",2]
[56081,5,60,"松本","葉那","ﾏﾂﾓﾄ","ﾊﾅ","MATSUMOTO","Hana","05",2,{"$f":"VLOOKUP(B912*100+C912,氏名データ!$AC$2:$AJ$401,2,0)","v":"都国立"},null,"女",null,56081,"松本","葉那","ﾏﾂﾓﾄ","ﾊﾅ","MATSUMOTO","Hana","女","05",2]
[56082,5,60,"金子","千紘","ｶﾈｺ","ﾁﾋﾛ","KANEKO","Chihiro","06",1,{"$f":"VLOOKUP(B913*100+C913,氏名データ!$AC$2:$AJ$401,2,0)","v":"都国立"},null,"女",null,56082,"金子","千紘","ｶﾈｺ","ﾁﾋﾛ","KANEKO","Chihiro","女","06",1]
[56083,5,60,"永野","彩夏","ﾅｶﾞﾉ","ｱﾔｶ","NAGANO","Ayaka","06",1,{"$f":"VLOOKUP(B914*100+C914,氏名データ!$AC$2:$AJ$401,2,0)","v":"都国立"},null,"女",null,56083,"永野","彩夏","ﾅｶﾞﾉ","ｱﾔｶ","NAGANO","Ayaka","女","06",1]
[56205,5,62,"山中","智裕","ﾔﾏﾅｶ","ﾄﾓﾋﾛ","YAMANAKA","Tomohiro","04",3,{"$f":"VLOOKUP(B915*100+C915,氏名データ!$AC$2:$AJ$401,2,0)","v":"桐朋"},null,"男",null,56205,"山中","智裕","ﾔﾏﾅｶ","ﾄﾓﾋﾛ","YAMANAKA","Tomohiro","男","04",3]
[56206,5,62,"御子神","圭","ﾐｺｶﾞﾐ","ｹｲ","MIKOGAMI","Kei","05",3,{"$f":"VLOOKUP(B916*100+C916,氏名データ!$AC$2:$AJ$401,2,0)","v":"桐朋"},null,"男",null,56206,"御子神","圭","ﾐｺｶﾞﾐ","ｹｲ","MIKOGAMI","Kei","男","05",3]
[56216,5,62,"稲垣","俊之亮","ｲﾅｶﾞｷ","ｼｭﾝﾉｽｹ","INAGAKI","Shunnosuke","06",1,{"$f":"VLOOKUP(B917*100+C917,氏名データ!$AC$2:$AJ$401,2,0)","v":"桐朋"},null,"男",null,56216,"稲垣","俊之亮","ｲﾅｶﾞｷ","ｼｭﾝﾉｽｹ","INAGAKI","Shunnosuke","男","06",1]
[56217,5,62,"増子","遥斗","ﾏｽｺ","ﾊﾙﾄ","MASUKO","Haruto","06",1,{"$f":"VLOOKUP(B918*100+C918,氏名データ!$AC$2:$AJ$401,2,0)","v":"桐朋"},null,"男",null,56217,"増子","遥斗","ﾏｽｺ","ﾊﾙﾄ","MASUKO","Haruto","男","06",1]
[56218,5,62,"早坂","朋弥","ﾊﾔｻｶ","ﾄﾓﾔ","HAYASAKA","Tomoya","06",1,{"$f":"VLOOKUP(B919*100+C919,氏名データ!$AC$2:$AJ$401,2,0)","v":"桐朋"},null,"男",null,56218,"早坂","朋弥","ﾊﾔｻｶ","ﾄﾓﾔ","HAYASAKA","Tomoya","男","06",1]
[56219,5,62,"吉澤","登吾","ﾖｼｻﾞﾜ","ﾄｳｺﾞ","YOSHIZAWA","Togo","06",1,{"$f":"VLOOKUP(B920*100+C920,氏名データ!$AC$2:$AJ$401,2,0)","v":"桐朋"},null,"男",null,56219,"吉澤","登吾","ﾖｼｻﾞﾜ","ﾄｳｺﾞ","YOSHIZAWA","Togo","男","06",1]
[56220,5,62,"山中","啓聡","ﾔﾏﾅｶ","ﾋﾛｱｷ","YAMANAKA","Hiroaki","06",1,{"$f":"VLOOKUP(B921*100+C921,氏名データ!$AC$2:$AJ$401,2,0)","v":"桐朋"},null,"男",null,56220,"山中","啓聡","ﾔﾏﾅｶ","ﾋﾛｱｷ","YAMANAKA","Hiroaki","男","06",1]
[56221,5,62,"堀","徹平","ﾎﾘ","ﾃｯﾍﾟｲ","HORI","Teppei","06",1,{"$f":"VLOOKUP(B922*100+C922,氏名データ!$AC$2:$AJ$401,2,0)","v":"桐朋"},null,"男",null,56221,"堀","徹平","ﾎﾘ","ﾃｯﾍﾟｲ","HORI","Teppei","男","06",1]
[56223,5,62,"関田","恭平","ｾｷﾀ","ｷｮｳﾍｲ","SEKITA","Kyohei","06",1,{"$f":"VLOOKUP(B923*100+C923,氏名データ!$AC$2:$AJ$401,2,0)","v":"桐朋"},null,"男",null,56223,"関田","恭平","ｾｷﾀ","ｷｮｳﾍｲ","SEKITA","Kyohei","男","06",1]
[56224,5,62,"宮口","諒哉","ﾐﾔｸﾞﾁ","ﾘｮｳﾔ","MIYAGUCHI","Ryoya","06",1,{"$f":"VLOOKUP(B924*100+C924,氏名データ!$AC$2:$AJ$401,2,0)","v":"桐朋"},null,"男",null,56224,"宮口","諒哉","ﾐﾔｸﾞﾁ","ﾘｮｳﾔ","MIYAGUCHI","Ryoya","男","06",1]
[56225,5,62,"田倉","将弥","ﾀｸﾗ","ﾏｻﾔ","TAKURA","Masaya","06",1,{"$f":"VLOOKUP(B925*100+C925,氏名データ!$AC$2:$AJ$401,2,0)","v":"桐朋"},null,"男",null,56225,"田倉","将弥","ﾀｸﾗ","ﾏｻﾔ","TAKURA","Masaya","男","06",1]
[56226,5,62,"井梅","龍之介","ｲｳﾒ","ﾘｭｳﾉｽｹ","IUME","Ryunosuke","06",1,{"$f":"VLOOKUP(B926*100+C926,氏名データ!$AC$2:$AJ$401,2,0)","v":"桐朋"},null,"男",null,56226,"井梅","龍之介","ｲｳﾒ","ﾘｭｳﾉｽｹ","IUME","Ryunosuke","男","06",1]
[56234,5,62,"北村","駿","ｷﾀﾑﾗ","ｼｭﾝ","KITAMURA","Shun","05",2,{"$f":"VLOOKUP(B927*100+C927,氏名データ!$AC$2:$AJ$401,2,0)","v":"桐朋"},null,"男",null,56234,"北村","駿","ｷﾀﾑﾗ","ｼｭﾝ","KITAMURA","Shun","男","05",2]
[56235,5,62,"月岡","遼","ﾂｷｵｶ","ﾘｮｳ","TSUKIOKA","Ryo","05",2,{"$f":"VLOOKUP(B928*100+C928,氏名データ!$AC$2:$AJ$401,2,0)","v":"桐朋"},null,"男",null,56235,"月岡","遼","ﾂｷｵｶ","ﾘｮｳ","TSUKIOKA","Ryo","男","05",2]
[56236,5,62,"高橋","諒","ﾀｶﾊｼ","ﾘｮｳ","TAKAHASHI","Ryo","05",2,{"$f":"VLOOKUP(B929*100+C929,氏名データ!$AC$2:$AJ$401,2,0)","v":"桐朋"},null,"男",null,56236,"高橋","諒","ﾀｶﾊｼ","ﾘｮｳ","TAKAHASHI","Ryo","男","05",2]
[56237,5,62,"細萱","颯生","ﾎｿｶﾞﾔ","ｻﾂｷ","HOSOGAYA","Satsuki","05",2,{"$f":"VLOOKUP(B930*100+C930,氏名データ!$AC$2:$AJ$401,2,0)","v":"桐朋"},null,"男",null,56237,"細萱","颯生","ﾎｿｶﾞﾔ","ｻﾂｷ","HOSOGAYA","Satsuki","男","05",2]
[56238,5,62,"土田","淳真","ﾂﾁﾀﾞ","ｼﾞｭﾝﾏ","TSUCHIDA","Junma","05",2,{"$f":"VLOOKUP(B931*100+C931,氏名データ!$AC$2:$AJ$401,2,0)","v":"桐朋"},null,"男",null,56238,"土田","淳真","ﾂﾁﾀﾞ","ｼﾞｭﾝﾏ","TSUCHIDA","Junma","男","05",2]
[56239,5,62,"柳田","俊","ﾔﾅｷﾞﾀﾞ","ｼｭﾝ","YANAGIDA","Shun","05",2,{"$f":"VLOOKUP(B932*100+C932,氏名データ!$AC$2:$AJ$401,2,0)","v":"桐朋"},null,"男",null,56239,"柳田","俊","ﾔﾅｷﾞﾀﾞ","ｼｭﾝ","YANAGIDA","Shun","男","05",2]
[56240,5,62,"樋口","蒼也","ﾋｸﾞﾁ","ｿｳﾔ","HIGUCHI","Soya","05",2,{"$f":"VLOOKUP(B933*100+C933,氏名データ!$AC$2:$AJ$401,2,0)","v":"桐朋"},null,"男",null,56240,"樋口","蒼也","ﾋｸﾞﾁ","ｿｳﾔ","HIGUCHI","Soya","男","05",2]
[56241,5,62,"奥平","大星","ｵｸﾋﾗ","ﾀﾞｲｾｲ","OKUHIRA","Daisei","05",2,{"$f":"VLOOKUP(B934*100+C934,氏名データ!$AC$2:$AJ$401,2,0)","v":"桐朋"},null,"男",null,56241,"奥平","大星","ｵｸﾋﾗ","ﾀﾞｲｾｲ","OKUHIRA","Daisei","男","05",2]
[56242,5,62,"西田","康平","ﾆｼﾀﾞ","ｺｳﾍｲ","NISHIDA","Kohei","05",2,{"$f":"VLOOKUP(B935*100+C935,氏名データ!$AC$2:$AJ$401,2,0)","v":"桐朋"},null,"男",null,56242,"西田","康平","ﾆｼﾀﾞ","ｺｳﾍｲ","NISHIDA","Kohei","男","05",2]
[56243,5,62,"大谷","颯一朗","ｵｵﾀﾆ","ｿｳｲﾁﾛｳ","OTANI","Soichiro","05",2,{"$f":"VLOOKUP(B936*100+C936,氏名データ!$AC$2:$AJ$401,2,0)","v":"桐朋"},null,"男",null,56243,"大谷","颯一朗","ｵｵﾀﾆ","ｿｳｲﾁﾛｳ","OTANI","Soichiro","男","05",2]
[56244,5,62,"若海","弘一郎","ﾜｶｳﾐ","ｺｳｲﾁﾛｳ","WAKAUMI","Koichiro","05",2,{"$f":"VLOOKUP(B937*100+C937,氏名データ!$AC$2:$AJ$401,2,0)","v":"桐朋"},null,"男",null,56244,"若海","弘一郎","ﾜｶｳﾐ","ｺｳｲﾁﾛｳ","WAKAUMI","Koichiro","男","05",2]
[56245,5,62,"米山","真宙","ﾖﾈﾔﾏ","ﾏﾋﾛ","YONEYAMA","Mahiro","05",2,{"$f":"VLOOKUP(B938*100+C938,氏名データ!$AC$2:$AJ$401,2,0)","v":"桐朋"},null,"男",null,56245,"米山","真宙","ﾖﾈﾔﾏ","ﾏﾋﾛ","YONEYAMA","Mahiro","男","05",2]
[56246,5,62,"白井","桜杜","ｼﾗｲ","ｵﾄ","SHIRAI","Oto","05",2,{"$f":"VLOOKUP(B939*100+C939,氏名データ!$AC$2:$AJ$401,2,0)","v":"桐朋"},null,"男",null,56246,"白井","桜杜","ｼﾗｲ","ｵﾄ","SHIRAI","Oto","男","05",2]
[56247,5,62,"篠原","嘉伯","ｼﾉﾊﾗ","ﾖｼﾉﾘ","SHINOHARA","Yoshinori","05",2,{"$f":"VLOOKUP(B940*100+C940,氏名データ!$AC$2:$AJ$401,2,0)","v":"桐朋"},null,"男",null,56247,"篠原","嘉伯","ｼﾉﾊﾗ","ﾖｼﾉﾘ","SHINOHARA","Yoshinori","男","05",2]
[56248,5,62,"舟﨑","唯真","ﾌﾅｻﾞｷ","ｲﾏ","FUNAZAKI","Ima","05",2,{"$f":"VLOOKUP(B941*100+C941,氏名データ!$AC$2:$AJ$401,2,0)","v":"桐朋"},null,"男",null,56248,"舟﨑","唯真","ﾌﾅｻﾞｷ","ｲﾏ","FUNAZAKI","Ima","男","05",2]
[56250,5,62,"原","義貴","ﾊﾗ","ﾖｼｷ","HARA","Yoshiki","05",2,{"$f":"VLOOKUP(B942*100+C942,氏名データ!$AC$2:$AJ$401,2,0)","v":"桐朋"},null,"男",null,56250,"原","義貴","ﾊﾗ","ﾖｼｷ","HARA","Yoshiki","男","05",2]
[56251,5,62,"松本","淳ノ介","ﾏﾂﾓﾄ","ｼﾞｭﾝﾉｽｹ","MATSUMOTO","Junnosuke","06",2,{"$f":"VLOOKUP(B943*100+C943,氏名データ!$AC$2:$AJ$401,2,0)","v":"桐朋"},null,"男",null,56251,"松本","淳ノ介","ﾏﾂﾓﾄ","ｼﾞｭﾝﾉｽｹ","MATSUMOTO","Junnosuke","男","06",2]
[56252,5,62,"中山","陽太","ﾅｶﾔﾏ","ﾖｳﾀ","NAKAYAMA","Yota","05",2,{"$f":"VLOOKUP(B944*100+C944,氏名データ!$AC$2:$AJ$401,2,0)","v":"桐朋"},null,"男",null,56252,"中山","陽太","ﾅｶﾔﾏ","ﾖｳﾀ","NAKAYAMA","Yota","男","05",2]
[56253,5,62,"倉橋","一王","ｸﾗﾊｼ","ｶｽﾞｵｳ","KURAHASHI","Kazuoh","05",2,{"$f":"VLOOKUP(B945*100+C945,氏名データ!$AC$2:$AJ$401,2,0)","v":"桐朋"},null,"男",null,56253,"倉橋","一王","ｸﾗﾊｼ","ｶｽﾞｵｳ","KURAHASHI","Kazuoh","男","05",2]
[56254,5,62,"富田","侑起","ﾄﾐﾀ","ﾕｳｷ","TOMITA","Yuki","05",2,{"$f":"VLOOKUP(B946*100+C946,氏名データ!$AC$2:$AJ$401,2,0)","v":"桐朋"},null,"男",null,56254,"富田","侑起","ﾄﾐﾀ","ﾕｳｷ","TOMITA","Yuki","男","05",2]
[56255,5,62,"西尾","伊織","ﾆｼｵ","ｲｵﾘ","NISHIO","Iori","05",2,{"$f":"VLOOKUP(B947*100+C947,氏名データ!$AC$2:$AJ$401,2,0)","v":"桐朋"},null,"男",null,56255,"西尾","伊織","ﾆｼｵ","ｲｵﾘ","NISHIO","Iori","男","05",2]
[56256,5,62,"道下","隼","ﾐﾁｼﾀ","ｼﾞｭﾝ","MICHISHITA","Jun","05",2,{"$f":"VLOOKUP(B948*100+C948,氏名データ!$AC$2:$AJ$401,2,0)","v":"桐朋"},null,"男",null,56256,"道下","隼","ﾐﾁｼﾀ","ｼﾞｭﾝ","MICHISHITA","Jun","男","05",2]
[56301,5,63,"津曲","輝人","ﾂﾏｶﾞﾘ","ｷﾗﾄ","TSUMAGARI","Kirato","05",2,{"$f":"VLOOKUP(B949*100+C949,氏名データ!$AC$2:$AJ$401,2,0)","v":"都日野"},null,"男",null,56301,"津曲","輝人","ﾂﾏｶﾞﾘ","ｷﾗﾄ","TSUMAGARI","Kirato","男","05",2]
[56302,5,63,"田代","悠無","ﾀｼﾛ","ﾕｳﾑ","TASHIRO","Yumu","06",2,{"$f":"VLOOKUP(B950*100+C950,氏名データ!$AC$2:$AJ$401,2,0)","v":"都日野"},null,"男",null,56302,"田代","悠無","ﾀｼﾛ","ﾕｳﾑ","TASHIRO","Yumu","男","06",2]
[56303,5,63,"伊藤","麗桜","ｲﾄｳ","ﾚｵ","ITO","Reo","07",1,{"$f":"VLOOKUP(B951*100+C951,氏名データ!$AC$2:$AJ$401,2,0)","v":"都日野"},null,"男",null,56303,"伊藤","麗桜","ｲﾄｳ","ﾚｵ","ITO","Reo","男","07",1]
[56304,5,63,"井上","勇河","ｲﾉｳｴ","ﾕｳｶﾞ","INOUE","Yuuga","06",1,{"$f":"VLOOKUP(B952*100+C952,氏名データ!$AC$2:$AJ$401,2,0)","v":"都日野"},null,"男",null,56304,"井上","勇河","ｲﾉｳｴ","ﾕｳｶﾞ","INOUE","Yuuga","男","06",1]
[56305,5,63,"岩城","和隼","ｲﾜｷ","ﾔﾏﾄ","IWAKI","Yamato","07",1,{"$f":"VLOOKUP(B953*100+C953,氏名データ!$AC$2:$AJ$401,2,0)","v":"都日野"},null,"男",null,56305,"岩城","和隼","ｲﾜｷ","ﾔﾏﾄ","IWAKI","Yamato","男","07",1]
[56306,5,63,"宇野","広太","ｳﾉ","ｺｳﾀ","UNO","Kota","06",1,{"$f":"VLOOKUP(B954*100+C954,氏名データ!$AC$2:$AJ$401,2,0)","v":"都日野"},null,"男",null,56306,"宇野","広太","ｳﾉ","ｺｳﾀ","UNO","Kota","男","06",1]
[56307,5,63,"大田","伸一","ｵｵﾀ","ｼﾝｲﾁ","OTA","Shinichi","06",1,{"$f":"VLOOKUP(B955*100+C955,氏名データ!$AC$2:$AJ$401,2,0)","v":"都日野"},null,"男",null,56307,"大田","伸一","ｵｵﾀ","ｼﾝｲﾁ","OTA","Shinichi","男","06",1]
[56308,5,63,"佐藤","遼和","ｻﾄｳ","ﾊﾙﾄ","SATO","Haruto","06",1,{"$f":"VLOOKUP(B956*100+C956,氏名データ!$AC$2:$AJ$401,2,0)","v":"都日野"},null,"男",null,56308,"佐藤","遼和","ｻﾄｳ","ﾊﾙﾄ","SATO","Haruto","男","06",1]
[56309,5,63,"橋田","龍青","ﾊｼﾀﾞ","ﾘｭｳｾｲ","HASHIDA","Ryusei","06",1,{"$f":"VLOOKUP(B957*100+C957,氏名データ!$AC$2:$AJ$401,2,0)","v":"都日野"},null,"男",null,56309,"橋田","龍青","ﾊｼﾀﾞ","ﾘｭｳｾｲ","HASHIDA","Ryusei","男","06",1]
[56327,5,63,"内野","嵩大","ｳﾁﾉ","ﾀｶﾋﾛ","UCHINO","Takahiro","04",3,{"$f":"VLOOKUP(B958*100+C958,氏名データ!$AC$2:$AJ$401,2,0)","v":"都日野"},null,"男",null,56327,"内野","嵩大","ｳﾁﾉ","ﾀｶﾋﾛ","UCHINO","Takahiro","男","04",3]
[56328,5,63,"及川","将平","ｵｲｶﾜ","ｼｮｳﾍｲ","OIKAWA","Shohei","04",3,{"$f":"VLOOKUP(B959*100+C959,氏名データ!$AC$2:$AJ$401,2,0)","v":"都日野"},null,"男",null,56328,"及川","将平","ｵｲｶﾜ","ｼｮｳﾍｲ","OIKAWA","Shohei","男","04",3]
[56329,5,63,"大友","湧斗","ｵｵﾄﾓ","ﾕｳﾄ","OTOMO","Yuto","04",3,{"$f":"VLOOKUP(B960*100+C960,氏名データ!$AC$2:$AJ$401,2,0)","v":"都日野"},null,"男",null,56329,"大友","湧斗","ｵｵﾄﾓ","ﾕｳﾄ","OTOMO","Yuto","男","04",3]
[56330,5,63,"上條","匠海","ｶﾐｼﾞｮｳ","ﾀｸﾐ","KAMIJYOU","Takumi","04",3,{"$f":"VLOOKUP(B961*100+C961,氏名データ!$AC$2:$AJ$401,2,0)","v":"都日野"},null,"男",null,56330,"上條","匠海","ｶﾐｼﾞｮｳ","ﾀｸﾐ","KAMIJYOU","Takumi","男","04",3]
[56331,5,63,"志茂","透侍","ｼﾓ","ﾄｵｼﾞ","SHIMO","Toji","04",3,{"$f":"VLOOKUP(B962*100+C962,氏名データ!$AC$2:$AJ$401,2,0)","v":"都日野"},null,"男",null,56331,"志茂","透侍","ｼﾓ","ﾄｵｼﾞ","SHIMO","Toji","男","04",3]
[{"$f":"P963","v":56334},{"$f":"ROUNDDOWN(A963/10000,0)","v":5},{"$f":"ROUNDDOWN((A963-B963*10000)/100,0)","v":63},{"$f":"Q963","v":"吉田"},{"$f":"R963","v":"雄太"},{"$f":"S963","v":"ﾖｼﾀﾞ"},{"$f":"T963","v":"ﾕｳﾀ"},{"$f":"U963","v":"YOSHIDA"},{"$f":"V963","v":"Yuuta"},{"$f":"X963","v":"05"},{"$f":"Y963","v":3},{"$f":"VLOOKUP(B963*100+C963,氏名データ!$AC$2:$AJ$401,2,0)","v":"都日野"},null,{"$f":"W963","v":"男"},null,56334,"吉田","雄太","ﾖｼﾀﾞ","ﾕｳﾀ","YOSHIDA","Yuuta","男","05",3]
[56335,5,63,"増田","綾人","ﾏｽﾀﾞ","ｱﾔﾄ","MASUDA","Ayato","05",3,{"$f":"VLOOKUP(B964*100+C964,氏名データ!$AC$2:$AJ$401,2,0)","v":"都日野"},null,"男",null,56335,"増田","綾人","ﾏｽﾀﾞ","ｱﾔﾄ","MASUDA","Ayato","男","05",3]
[56336,5,63,"藤原","拓未","ﾌｼﾞﾜﾗ","ﾀｸﾐ","FUJIWARA","Takumi","04",3,{"$f":"VLOOKUP(B965*100+C965,氏名データ!$AC$2:$AJ$401,2,0)","v":"都日野"},null,"男",null,56336,"藤原","拓未","ﾌｼﾞﾜﾗ","ﾀｸﾐ","FUJIWARA","Takumi","男","04",3]
[56337,5,63,"芦田","咲人","ｱｼﾀﾞ","ｻｸﾋﾄ","ASHIDA","Sakuhito","05",3,{"$f":"VLOOKUP(B966*100+C966,氏名データ!$AC$2:$AJ$401,2,0)","v":"都日野"},null,"男",null,56337,"芦田","咲人","ｱｼﾀﾞ","ｻｸﾋﾄ","ASHIDA","Sakuhito","男","05",3]
[56339,5,63,"川﨑","颯良","ｶﾜｻｷ","ｿﾗ","KAWASAKI","Sora","05",2,{"$f":"VLOOKUP(B967*100+C967,氏名データ!$AC$2:$AJ$401,2,0)","v":"都日野"},null,"男",null,56339,"川﨑","颯良","ｶﾜｻｷ","ｿﾗ","KAWASAKI","Sora","男","05",2]
[56340,5,63,"田口","裕","ﾀｸﾞﾁ","ﾕｳ","TAGUCHI","Yu","05",2,{"$f":"VLOOKUP(B968*100+C968,氏名データ!$AC$2:$AJ$401,2,0)","v":"都日野"},null,"男",null,56340,"田口","裕","ﾀｸﾞﾁ","ﾕｳ","TAGUCHI","Yu","男","05",2]
[56341,5,63,"坪井","鉄汰","ﾂﾎﾞｲ","ﾃｯﾀ","TSUBOI","Tetta","05",2,{"$f":"VLOOKUP(B969*100+C969,氏名データ!$AC$2:$AJ$401,2,0)","v":"都日野"},null,"男",null,56341,"坪井","鉄汰","ﾂﾎﾞｲ","ﾃｯﾀ","TSUBOI","Tetta","男","05",2]
[56342,5,63,"杉本","充生","ｽｷﾞﾓﾄ","ｱﾂｷ","SUGIMOTO","Atsuki","05",2,{"$f":"VLOOKUP(B970*100+C970,氏名データ!$AC$2:$AJ$401,2,0)","v":"都日野"},null,"男",null,56342,"杉本","充生","ｽｷﾞﾓﾄ","ｱﾂｷ","SUGIMOTO","Atsuki","男","05",2]
[56343,5,63,"吉野","留生","ﾖｼﾉ","ﾙｲ","YOSHINO","Rui","06",2,{"$f":"VLOOKUP(B971*100+C971,氏名データ!$AC$2:$AJ$401,2,0)","v":"都日野"},null,"男",null,56343,"吉野","留生","ﾖｼﾉ","ﾙｲ","YOSHINO","Rui","男","06",2]
[56344,5,63,"平金","颯人","ﾋﾗｶﾈ","ﾊﾔﾄ","HIRAKANE","Hayato","05",2,{"$f":"VLOOKUP(B972*100+C972,氏名データ!$AC$2:$AJ$401,2,0)","v":"都日野"},null,"男",null,56344,"平金","颯人","ﾋﾗｶﾈ","ﾊﾔﾄ","HIRAKANE","Hayato","男","05",2]
[56345,5,63,"田部","俊亮","ﾀﾍﾞ","ｼｭﾝｽｹ","TABE","Shunsuke","05",2,{"$f":"VLOOKUP(B973*100+C973,氏名データ!$AC$2:$AJ$401,2,0)","v":"都日野"},null,"男",null,56345,"田部","俊亮","ﾀﾍﾞ","ｼｭﾝｽｹ","TABE","Shunsuke","男","05",2]
[56346,5,63,"大井","涼聖","ｵｵｲ","ﾘｮｳｾｲ","OHI","Ryosei","05",2,{"$f":"VLOOKUP(B974*100+C974,氏名データ!$AC$2:$AJ$401,2,0)","v":"都日野"},null,"男",null,56346,"大井","涼聖","ｵｵｲ","ﾘｮｳｾｲ","OHI","Ryosei","男","05",2]
[56347,5,63,"瀧澤","仁","ﾀｷｻﾞﾜ","ｼﾞﾝ","TAKIZAWA","Jin","05",2,{"$f":"VLOOKUP(B975*100+C975,氏名データ!$AC$2:$AJ$401,2,0)","v":"都日野"},null,"男",null,56347,"瀧澤","仁","ﾀｷｻﾞﾜ","ｼﾞﾝ","TAKIZAWA","Jin","男","05",2]
[56348,5,63,"花田","昊汰","ﾊﾅﾀﾞ","ｺｳﾀ","HANADA","Kota","05",2,{"$f":"VLOOKUP(B976*100+C976,氏名データ!$AC$2:$AJ$401,2,0)","v":"都日野"},null,"男",null,56348,"花田","昊汰","ﾊﾅﾀﾞ","ｺｳﾀ","HANADA","Kota","男","05",2]
[56349,5,63,"十川","優哉","ｿｶﾞﾜ","ﾕｳﾔ","SOGAWA","Yuya","05",2,{"$f":"VLOOKUP(B977*100+C977,氏名データ!$AC$2:$AJ$401,2,0)","v":"都日野"},null,"男",null,56349,"十川","優哉","ｿｶﾞﾜ","ﾕｳﾔ","SOGAWA","Yuya","男","05",2]
[56350,5,63,"張","雪猛","ﾁｮｳ","ｼｮﾓﾝ","CHOU","Shomon","06",2,{"$f":"VLOOKUP(B978*100+C978,氏名データ!$AC$2:$AJ$401,2,0)","v":"都日野"},null,"男",null,56350,"張","雪猛","ﾁｮｳ","ｼｮﾓﾝ","CHOU","Shomon","男","06",2]
[56370,5,63,"功刀","由菜","ｸﾇｷﾞ","ﾕｳﾅ","KUNUGI","Yuna","04",3,{"$f":"VLOOKUP(B979*100+C979,氏名データ!$AC$2:$AJ$401,2,0)","v":"都日野"},null,"女",null,56370,"功刀","由菜","ｸﾇｷﾞ","ﾕｳﾅ","KUNUGI","Yuna","女","04",3]
[56371,5,63,"斉藤","愛実","ｻｲﾄｳ","ﾏﾅﾐ","SAITO","Manami","04",3,{"$f":"VLOOKUP(B980*100+C980,氏名データ!$AC$2:$AJ$401,2,0)","v":"都日野"},null,"女",null,56371,"斉藤","愛実","ｻｲﾄｳ","ﾏﾅﾐ","SAITO","Manami","女","04",3]
[56372,5,63,"渡邉","美乃里","ﾜﾀﾅﾍﾞ","ﾐﾉﾘ","WATANABE","Minori","04",3,{"$f":"VLOOKUP(B981*100+C981,氏名データ!$AC$2:$AJ$401,2,0)","v":"都日野"},null,"女",null,56372,"渡邉","美乃里","ﾜﾀﾅﾍﾞ","ﾐﾉﾘ","WATANABE","Minori","女","04",3]
[56373,5,63,"金子","樹里","ｶﾈｺ","ｼﾞｭﾘ","KANEKO","Juri","05",2,{"$f":"VLOOKUP(B982*100+C982,氏名データ!$AC$2:$AJ$401,2,0)","v":"都日野"},null,"女",null,56373,"金子","樹里","ｶﾈｺ","ｼﾞｭﾘ","KANEKO","Juri","女","05",2]
[56374,5,63,"岡本","菜々心","ｵｶﾓﾄ","ﾅﾅﾐ","OKAMOTO","Nanami","06",1,{"$f":"VLOOKUP(B983*100+C983,氏名データ!$AC$2:$AJ$401,2,0)","v":"都日野"},null,"女",null,56374,"岡本","菜々心","ｵｶﾓﾄ","ﾅﾅﾐ","OKAMOTO","Nanami","女","06",1]
[56375,5,63,"加川","愛華","ｶｶﾞﾜ","ｱｲｶ","KAGAWA","Aika","07",1,{"$f":"VLOOKUP(B984*100+C984,氏名データ!$AC$2:$AJ$401,2,0)","v":"都日野"},null,"女",null,56375,"加川","愛華","ｶｶﾞﾜ","ｱｲｶ","KAGAWA","Aika","女","07",1]
[56401,5,64,"佐々木","大輔","ｻｻｷ","ﾀﾞｲｽｹ","SASAKI","Daisuke","04",3,{"$f":"VLOOKUP(B985*100+C985,氏名データ!$AC$2:$AJ$401,2,0)","v":"都日野台"},null,"男",null,56401,"佐々木","大輔","ｻｻｷ","ﾀﾞｲｽｹ","SASAKI","Daisuke","男","04",3]
[56402,5,64,"富田","涼真","ﾄﾐﾀ","ﾘｮｳﾏ","TOMITA","Ryoma","04",3,{"$f":"VLOOKUP(B986*100+C986,氏名データ!$AC$2:$AJ$401,2,0)","v":"都日野台"},null,"男",null,56402,"富田","涼真","ﾄﾐﾀ","ﾘｮｳﾏ","TOMITA","Ryoma","男","04",3]
[56403,5,64,"中島","隆太郎","ﾅｶｼﾏ","ﾘｭｳﾀﾛｳ","NAKASHIMA","Ryutarou","04",3,{"$f":"VLOOKUP(B987*100+C987,氏名データ!$AC$2:$AJ$401,2,0)","v":"都日野台"},null,"男",null,56403,"中島","隆太郎","ﾅｶｼﾏ","ﾘｭｳﾀﾛｳ","NAKASHIMA","Ryutarou","男","04",3]
[56404,5,64,"黒井","優","ｸﾛｲ","ﾕｳ","KUROI","Yu","04",3,{"$f":"VLOOKUP(B988*100+C988,氏名データ!$AC$2:$AJ$401,2,0)","v":"都日野台"},null,"男",null,56404,"黒井","優","ｸﾛｲ","ﾕｳ","KUROI","Yu","男","04",3]
[56405,5,64,"須崎","耀一","ｽｻｷ","ﾖｳｲﾁ","SUSAKI","Yoichi","04",3,{"$f":"VLOOKUP(B989*100+C989,氏名データ!$AC$2:$AJ$401,2,0)","v":"都日野台"},null,"男",null,56405,"須崎","耀一","ｽｻｷ","ﾖｳｲﾁ","SUSAKI","Yoichi","男","04",3]
[56406,5,64,"上世","陽仁","ｶﾐｾ","ﾊﾙﾄ","KAMISE","Haruto","04",3,{"$f":"VLOOKUP(B990*100+C990,氏名データ!$AC$2:$AJ$401,2,0)","v":"都日野台"},null,"男",null,56406,"上世","陽仁","ｶﾐｾ","ﾊﾙﾄ","KAMISE","Haruto","男","04",3]
[56407,5,64,"円城寺","天馬","ｴﾝｼﾞｮｳｼﾞ","ﾃﾝﾏ","ENJOJI","Tenma","04",3,{"$f":"VLOOKUP(B991*100+C991,氏名データ!$AC$2:$AJ$401,2,0)","v":"都日野台"},null,"男",null,56407,"円城寺","天馬","ｴﾝｼﾞｮｳｼﾞ","ﾃﾝﾏ","ENJOJI","Tenma","男","04",3]
[56408,5,64,"島田","匠","ｼﾏﾀﾞ","ﾀｸﾐ","SHIMADA","Takumi","04",3,{"$f":"VLOOKUP(B992*100+C992,氏名データ!$AC$2:$AJ$401,2,0)","v":"都日野台"},null,"男",null,56408,"島田","匠","ｼﾏﾀﾞ","ﾀｸﾐ","SHIMADA","Takumi","男","04",3]
[56409,5,64,"朝川","秀祐","ｱｻｶﾜ","ｼｭｳｽｹ","ASAKAWA","Shusuke","05",2,{"$f":"VLOOKUP(B993*100+C993,氏名データ!$AC$2:$AJ$401,2,0)","v":"都日野台"},null,"男",null,56409,"朝川","秀祐","ｱｻｶﾜ","ｼｭｳｽｹ","ASAKAWA","Shusuke","男","05",2]
[56410,5,64,"藤田","東湖","ﾌｼﾞﾀ","ﾄｳｺ","FUJITA","Toko","05",2,{"$f":"VLOOKUP(B994*100+C994,氏名データ!$AC$2:$AJ$401,2,0)","v":"都日野台"},null,"男",null,56410,"藤田","東湖","ﾌｼﾞﾀ","ﾄｳｺ","FUJITA","Toko","男","05",2]
[56411,5,64,"橋本","大雅","ﾊｼﾓﾄ","ﾀｲｶﾞ","HASHIMOTO","Taiga","05",2,{"$f":"VLOOKUP(B995*100+C995,氏名データ!$AC$2:$AJ$401,2,0)","v":"都日野台"},null,"男",null,56411,"橋本","大雅","ﾊｼﾓﾄ","ﾀｲｶﾞ","HASHIMOTO","Taiga","男","05",2]
[56412,5,64,"溝口","泰誠","ﾐｿﾞｸﾞﾁ","ﾀｲｾｲ","MIZOGUCHI","Taisei","05",2,{"$f":"VLOOKUP(B996*100+C996,氏名データ!$AC$2:$AJ$401,2,0)","v":"都日野台"},null,"男",null,56412,"溝口","泰誠","ﾐｿﾞｸﾞﾁ","ﾀｲｾｲ","MIZOGUCHI","Taisei","男","05",2]
[56413,5,64,"大江","悠暉","ｵｵｴ","ﾕｳｷ","OE","Yuki","05",2,{"$f":"VLOOKUP(B997*100+C997,氏名データ!$AC$2:$AJ$401,2,0)","v":"都日野台"},null,"男",null,56413,"大江","悠暉","ｵｵｴ","ﾕｳｷ","OE","Yuki","男","05",2]
[56414,5,64,"千葉","康太郎","ﾁﾊﾞ","ｺｳﾀﾛｳ","CHIBA","Kotaro","05",2,{"$f":"VLOOKUP(B998*100+C998,氏名データ!$AC$2:$AJ$401,2,0)","v":"都日野台"},null,"男",null,56414,"千葉","康太郎","ﾁﾊﾞ","ｺｳﾀﾛｳ","CHIBA","Kotaro","男","05",2]
[56415,5,64,"藤倉","珀向","ﾌｼﾞｸﾗ","ﾋﾅﾀ","FUJIKURA","Hinata","05",2,{"$f":"VLOOKUP(B999*100+C999,氏名データ!$AC$2:$AJ$401,2,0)","v":"都日野台"},null,"男",null,56415,"藤倉","珀向","ﾌｼﾞｸﾗ","ﾋﾅﾀ","FUJIKURA","Hinata","男","05",2]
[56416,5,64,"安陪","雅樹","ｱﾍﾞ","ﾏｻｷ","ABE","Masaki","05",2,{"$f":"VLOOKUP(B1000*100+C1000,氏名データ!$AC$2:$AJ$401,2,0)","v":"都日野台"},null,"男",null,56416,"安陪","雅樹","ｱﾍﾞ","ﾏｻｷ","ABE","Masaki","男","05",2]
[56417,5,64,"清田","空","ｷﾖﾀ","ｿﾗ","KIYOTA","Sora","05",2,{"$f":"VLOOKUP(B1001*100+C1001,氏名データ!$AC$2:$AJ$401,2,0)","v":"都日野台"},null,"男",null,56417,"清田","空","ｷﾖﾀ","ｿﾗ","KIYOTA","Sora","男","05",2]
[56418,5,64,"河野","望規","ｺｳﾉ","ﾐﾉﾘ","KONO","Minori","05",2,{"$f":"VLOOKUP(B1002*100+C1002,氏名データ!$AC$2:$AJ$401,2,0)","v":"都日野台"},null,"男",null,56418,"河野","望規","ｺｳﾉ","ﾐﾉﾘ","KONO","Minori","男","05",2]
[56419,5,64,"石田","武陽","ｲｼﾀﾞ","ﾀｹﾊﾙ","ISHIDA","Takeharu","05",2,{"$f":"VLOOKUP(B1003*100+C1003,氏名データ!$AC$2:$AJ$401,2,0)","v":"都日野台"},null,"男",null,56419,"石田","武陽","ｲｼﾀﾞ","ﾀｹﾊﾙ","ISHIDA","Takeharu","男","05",2]
[56420,5,64,"久保","築","ｸﾎﾞ","ｷｽﾞｷ","KUBO","Kizuki","05",2,{"$f":"VLOOKUP(B1004*100+C1004,氏名データ!$AC$2:$AJ$401,2,0)","v":"都日野台"},null,"男",null,56420,"久保","築","ｸﾎﾞ","ｷｽﾞｷ","KUBO","Kizuki","男","05",2]
[56421,5,64,"中島","怜","ﾅｶｼﾞﾏ","ﾚﾝ","NAKAJIMA","Ren","05",2,{"$f":"VLOOKUP(B1005*100+C1005,氏名データ!$AC$2:$AJ$401,2,0)","v":"都日野台"},null,"男",null,56421,"中島","怜","ﾅｶｼﾞﾏ","ﾚﾝ","NAKAJIMA","Ren","男","05",2]
[56422,5,64,"川島","伶","ｶﾜｼﾏ","ﾚｲ","KAWASHIMA","Rei","05",2,{"$f":"VLOOKUP(B1006*100+C1006,氏名データ!$AC$2:$AJ$401,2,0)","v":"都日野台"},null,"男",null,56422,"川島","伶","ｶﾜｼﾏ","ﾚｲ","KAWASHIMA","Rei","男","05",2]
[56423,5,64,"上條","遥","ｶﾐｼﾞｮｳ","ﾊﾙ","KAMIJO","Haru","06",1,{"$f":"VLOOKUP(B1007*100+C1007,氏名データ!$AC$2:$AJ$401,2,0)","v":"都日野台"},null,"男",null,56423,"上條","遥","ｶﾐｼﾞｮｳ","ﾊﾙ","KAMIJO","Haru","男","06",1]
[56424,5,64,"齋藤","響","ｻｲﾄｳ","ﾋﾋﾞｷ","SAITO","Hibiki","06",1,{"$f":"VLOOKUP(B1008*100+C1008,氏名データ!$AC$2:$AJ$401,2,0)","v":"都日野台"},null,"男",null,56424,"齋藤","響","ｻｲﾄｳ","ﾋﾋﾞｷ","SAITO","Hibiki","男","06",1]
[56425,5,64,"望月","大希","ﾓﾁﾂﾞｷ","ﾀｲｷ","MOCHIZUKI","Taiki","06",1,{"$f":"VLOOKUP(B1009*100+C1009,氏名データ!$AC$2:$AJ$401,2,0)","v":"都日野台"},null,"男",null,56425,"望月","大希","ﾓﾁﾂﾞｷ","ﾀｲｷ","MOCHIZUKI","Taiki","男","06",1]
[56426,5,64,"石樵","隆太","ｲｼｺﾘ","ﾘｭｳﾀ","ISHIKORI","Ryuta","06",1,{"$f":"VLOOKUP(B1010*100+C1010,氏名データ!$AC$2:$AJ$401,2,0)","v":"都日野台"},null,"男",null,56426,"石樵","隆太","ｲｼｺﾘ","ﾘｭｳﾀ","ISHIKORI","Ryuta","男","06",1]
[56427,5,64,"田中","健心","ﾀﾅｶ","ｹﾝｼﾝ","TANAKA","Kenshin","07",1,{"$f":"VLOOKUP(B1011*100+C1011,氏名データ!$AC$2:$AJ$401,2,0)","v":"都日野台"},null,"男",null,56427,"田中","健心","ﾀﾅｶ","ｹﾝｼﾝ","TANAKA","Kenshin","男","07",1]
[56428,5,64,"降矢","琉貴","ﾌﾙﾔ","ﾘｷ","FURUYA","Riki","06",1,{"$f":"VLOOKUP(B1012*100+C1012,氏名データ!$AC$2:$AJ$401,2,0)","v":"都日野台"},null,"男",null,56428,"降矢","琉貴","ﾌﾙﾔ","ﾘｷ","FURUYA","Riki","男","06",1]
[56429,5,64,"藤村","隆太","ﾌｼﾞﾑﾗ","ﾘｭｳﾀ","FUJIMURA","Ryuta","06",1,{"$f":"VLOOKUP(B1013*100+C1013,氏名データ!$AC$2:$AJ$401,2,0)","v":"都日野台"},null,"男",null,56429,"藤村","隆太","ﾌｼﾞﾑﾗ","ﾘｭｳﾀ","FUJIMURA","Ryuta","男","06",1]
[56449,5,64,"谷","和士","ﾀﾆ","ｶｽﾞﾄ","TANI","Kazuto","04",3,{"$f":"VLOOKUP(B1014*100+C1014,氏名データ!$AC$2:$AJ$401,2,0)","v":"都日野台"},null,"男",null,56449,"谷","和士","ﾀﾆ","ｶｽﾞﾄ","TANI","Kazuto","男","04",3]
[56451,5,64,"石川","海友","ｲｼｶﾜ","ﾐﾕ","ISHIKAWA","Miyu","06",1,{"$f":"VLOOKUP(B1015*100+C1015,氏名データ!$AC$2:$AJ$401,2,0)","v":"都日野台"},null,"女",null,56451,"石川","海友","ｲｼｶﾜ","ﾐﾕ","ISHIKAWA","Miyu","女","06",1]
[56452,5,64,"野治","心愛","ﾉｼﾞ","ｺｺｱ","NOJI","Cocoa","06",1,{"$f":"VLOOKUP(B1016*100+C1016,氏名データ!$AC$2:$AJ$401,2,0)","v":"都日野台"},null,"女",null,56452,"野治","心愛","ﾉｼﾞ","ｺｺｱ","NOJI","Cocoa","女","06",1]
[56453,5,64,"木村","充","ｷﾑﾗ","ﾐﾁﾙ","KIMURA","Michiru","06",1,{"$f":"VLOOKUP(B1017*100+C1017,氏名データ!$AC$2:$AJ$401,2,0)","v":"都日野台"},null,"女",null,56453,"木村","充","ｷﾑﾗ","ﾐﾁﾙ","KIMURA","Michiru","女","06",1]
[56454,5,64,"高橋","明理","ﾀｶﾊｼ","ｱｶﾘ","TAKAHASHI","Akari","06",1,{"$f":"VLOOKUP(B1018*100+C1018,氏名データ!$AC$2:$AJ$401,2,0)","v":"都日野台"},null,"女",null,56454,"高橋","明理","ﾀｶﾊｼ","ｱｶﾘ","TAKAHASHI","Akari","女","06",1]
[56455,5,64,"中村","恵万","ﾅｶﾑﾗ","ｴﾏ","NAKAMURA","Ema","06",1,{"$f":"VLOOKUP(B1019*100+C1019,氏名データ!$AC$2:$AJ$401,2,0)","v":"都日野台"},null,"女",null,56455,"中村","恵万","ﾅｶﾑﾗ","ｴﾏ","NAKAMURA","Ema","女","06",1]
[56456,5,64,"恵花","芽依","ｴﾊﾞﾅ","ﾒｲ","EBANA","Mei","06",1,{"$f":"VLOOKUP(B1020*100+C1020,氏名データ!$AC$2:$AJ$401,2,0)","v":"都日野台"},null,"女",null,56456,"恵花","芽依","ｴﾊﾞﾅ","ﾒｲ","EBANA","Mei","女","06",1]
[56491,5,64,"伊勢崎","真帆","ｲｾｻﾞｷ","ﾏﾎ","ISEZAKI","Maho","05",3,{"$f":"VLOOKUP(B1021*100+C1021,氏名データ!$AC$2:$AJ$401,2,0)","v":"都日野台"},null,"女",null,56491,"伊勢崎","真帆","ｲｾｻﾞｷ","ﾏﾎ","ISEZAKI","Maho","女","05",3]
[56492,5,64,"細沼","依吹","ﾎｿﾇﾏ","ｲﾌﾞ","HOSONUMA","Ibu","04",3,{"$f":"VLOOKUP(B1022*100+C1022,氏名データ!$AC$2:$AJ$401,2,0)","v":"都日野台"},null,"女",null,56492,"細沼","依吹","ﾎｿﾇﾏ","ｲﾌﾞ","HOSONUMA","Ibu","女","04",3]
[56493,5,64,"高岡","梓","ﾀｶｵｶ","ｱｽﾞｻ","TAKAOKA","Azusa","04",3,{"$f":"VLOOKUP(B1023*100+C1023,氏名データ!$AC$2:$AJ$401,2,0)","v":"都日野台"},null,"女",null,56493,"高岡","梓","ﾀｶｵｶ","ｱｽﾞｻ","TAKAOKA","Azusa","女","04",3]
[56494,5,64,"石川","瑠唯","ｲｼｶﾜ","ﾙｲ","ISHIKAWA","Rui","04",3,{"$f":"VLOOKUP(B1024*100+C1024,氏名データ!$AC$2:$AJ$401,2,0)","v":"都日野台"},null,"女",null,56494,"石川","瑠唯","ｲｼｶﾜ","ﾙｲ","ISHIKAWA","Rui","女","04",3]
[56495,5,64,"奥村","美咲","ｵｸﾑﾗ","ﾐｻｷ","OKUMURA","Misaki","05",2,{"$f":"VLOOKUP(B1025*100+C1025,氏名データ!$AC$2:$AJ$401,2,0)","v":"都日野台"},null,"女",null,56495,"奥村","美咲","ｵｸﾑﾗ","ﾐｻｷ","OKUMURA","Misaki","女","05",2]
[56496,5,64,"梅澤","茜","ｳﾒｻﾞﾜ","ｱｶﾈ","UMEZAWA","Akane","06",2,{"$f":"VLOOKUP(B1026*100+C1026,氏名データ!$AC$2:$AJ$401,2,0)","v":"都日野台"},null,"女",null,56496,"梅澤","茜","ｳﾒｻﾞﾜ","ｱｶﾈ","UMEZAWA","Akane","女","06",2]
[{"$f":"P1027","v":56497},{"$f":"ROUNDDOWN(A1027/10000,0)","v":5},{"$f":"ROUNDDOWN((A1027-B1027*10000)/100,0)","v":64},{"$f":"Q1027","v":"河本"},{"$f":"R1027","v":"彩音"},{"$f":"S1027","v":"ｶﾜﾓﾄ"},{"$f":"T1027","v":"ｱﾔﾈ"},{"$f":"U1027","v":"KAWAMOTO"},{"$f":"V1027","v":"Ayane"},{"$f":"X1027","v":"05"},{"$f":"Y1027","v":2},{"$f":"VLOOKUP(B1027*100+C1027,氏名データ!$AC$2:$AJ$401,2,0)","v":"都日野台"},null,{"$f":"W1027","v":"女"},null,56497,"河本","彩音","ｶﾜﾓﾄ","ｱﾔﾈ","KAWAMOTO","Ayane","女","05",2]
[56498,5,64,"井川","心","ｲｶﾜ","ｺｺﾛ","IKAWA","Kokoro","05",2,{"$f":"VLOOKUP(B1028*100+C1028,氏名データ!$AC$2:$AJ$401,2,0)","v":"都日野台"},null,"女",null,56498,"井川","心","ｲｶﾜ","ｺｺﾛ","IKAWA","Kokoro","女","05",2]
[56504,5,65,"長谷川","裕翔","ﾊｾｶﾞﾜ","ﾕｳﾄ","HASEGAWA","Yuto","04",3,{"$f":"VLOOKUP(B1029*100+C1029,氏名データ!$AC$2:$AJ$401,2,0)","v":"都南平"},null,"男",null,56504,"長谷川","裕翔","ﾊｾｶﾞﾜ","ﾕｳﾄ","HASEGAWA","Yuto","男","04",3]
[56505,5,65,"矢羽田","健人","ﾔﾊﾀ","ｹﾝﾄ","YAHATA","Kento","04",3,{"$f":"VLOOKUP(B1030*100+C1030,氏名データ!$AC$2:$AJ$401,2,0)","v":"都南平"},null,"男",null,56505,"矢羽田","健人","ﾔﾊﾀ","ｹﾝﾄ","YAHATA","Kento","男","04",3]
[56506,5,65,"細川","航平","ﾎｿｶﾜ","ｺｳﾍｲ","HOSOKAWA","Kohei","05",3,{"$f":"VLOOKUP(B1031*100+C1031,氏名データ!$AC$2:$AJ$401,2,0)","v":"都南平"},null,"男",null,56506,"細川","航平","ﾎｿｶﾜ","ｺｳﾍｲ","HOSOKAWA","Kohei","男","05",3]
[56507,5,65,"猫本","哲央","ﾈｺﾓﾄ","ﾃﾂｵ","NEKOMOTO","Tetsuo","04",3,{"$f":"VLOOKUP(B1032*100+C1032,氏名データ!$AC$2:$AJ$401,2,0)","v":"都南平"},null,"男",null,56507,"猫本","哲央","ﾈｺﾓﾄ","ﾃﾂｵ","NEKOMOTO","Tetsuo","男","04",3]
[56508,5,65,"平野","遼介","ﾋﾗﾉ","ﾘｮｳｽｹ","HIRANO","Ryosuke","05",3,{"$f":"VLOOKUP(B1033*100+C1033,氏名データ!$AC$2:$AJ$401,2,0)","v":"都南平"},null,"男",null,56508,"平野","遼介","ﾋﾗﾉ","ﾘｮｳｽｹ","HIRANO","Ryosuke","男","05",3]
[56509,5,65,"神代","海都","ｸﾏｼﾛ","ｶｲﾄ","KUMASHIRO","Kaito","04",3,{"$f":"VLOOKUP(B1034*100+C1034,氏名データ!$AC$2:$AJ$401,2,0)","v":"都南平"},null,"男",null,56509,"神代","海都","ｸﾏｼﾛ","ｶｲﾄ","KUMASHIRO","Kaito","男","04",3]
[56510,5,65,"祝迫","雅己","ｲﾜｲｻｺ","ﾏｻﾐ","IWAISAKO","Masami","04",3,{"$f":"VLOOKUP(B1035*100+C1035,氏名データ!$AC$2:$AJ$401,2,0)","v":"都南平"},null,"男",null,56510,"祝迫","雅己","ｲﾜｲｻｺ","ﾏｻﾐ","IWAISAKO","Masami","男","04",3]
[56511,5,65,"高橋","幸汰","ﾀｶﾊｼ","ｺｳﾀ","TAKAHASHI","Kota","04",3,{"$f":"VLOOKUP(B1036*100+C1036,氏名データ!$AC$2:$AJ$401,2,0)","v":"都南平"},null,"男",null,56511,"高橋","幸汰","ﾀｶﾊｼ","ｺｳﾀ","TAKAHASHI","Kota","男","04",3]
[56512,5,65,"野口","拓真","ﾉｸﾞﾁ","ﾀｸﾏ","NOGUCHI","Takuma","04",3,{"$f":"VLOOKUP(B1037*100+C1037,氏名データ!$AC$2:$AJ$401,2,0)","v":"都南平"},null,"男",null,56512,"野口","拓真","ﾉｸﾞﾁ","ﾀｸﾏ","NOGUCHI","Takuma","男","04",3]
[56513,5,65,"坂田","喜夏","ｻｶﾀ","ｷｯｶ","SAKATA","Kikka","05",2,{"$f":"VLOOKUP(B1038*100+C1038,氏名データ!$AC$2:$AJ$401,2,0)","v":"都南平"},null,"男",null,56513,"坂田","喜夏","ｻｶﾀ","ｷｯｶ","SAKATA","Kikka","男","05",2]
[56514,5,65,"阿部","颯真","ｱﾍﾞ","ｿｳﾏ","SOMA","Abe","06",2,{"$f":"VLOOKUP(B1039*100+C1039,氏名データ!$AC$2:$AJ$401,2,0)","v":"都南平"},null,"男",null,56514,"阿部","颯真","ｱﾍﾞ","ｿｳﾏ","SOMA","Abe","男","06",2]
[56515,5,65,"河田","康椰","ｶﾜﾀ","ｺｳﾔ","KOYA","Kawata","05",2,{"$f":"VLOOKUP(B1040*100+C1040,氏名データ!$AC$2:$AJ$401,2,0)","v":"都南平"},null,"男",null,56515,"河田","康椰","ｶﾜﾀ","ｺｳﾔ","KOYA","Kawata","男","05",2]
[56516,5,65,"木田","和希","ｷﾀﾞ","ｶｽﾞｷ","KAZUKI","Kida","05",2,{"$f":"VLOOKUP(B1041*100+C1041,氏名データ!$AC$2:$AJ$401,2,0)","v":"都南平"},null,"男",null,56516,"木田","和希","ｷﾀﾞ","ｶｽﾞｷ","KAZUKI","Kida","男","05",2]
[56517,5,65,"中尾","優和","ﾅｶｵ","ﾕｳﾜ","YUWA","Nakao","05",2,{"$f":"VLOOKUP(B1042*100+C1042,氏名データ!$AC$2:$AJ$401,2,0)","v":"都南平"},null,"男",null,56517,"中尾","優和","ﾅｶｵ","ﾕｳﾜ","YUWA","Nakao","男","05",2]
[56518,5,65,"小林","大智","ｺﾊﾞﾔｼ","ﾀｲﾁ","TAICHI","Kobayashi","06",2,{"$f":"VLOOKUP(B1043*100+C1043,氏名データ!$AC$2:$AJ$401,2,0)","v":"都南平"},null,"男",null,56518,"小林","大智","ｺﾊﾞﾔｼ","ﾀｲﾁ","TAICHI","Kobayashi","男","06",2]
[56519,5,65,"川村","隆徳","ｶﾜﾑﾗ","ﾀｶﾉﾘ","TAKANORI","Kawamura","05",2,{"$f":"VLOOKUP(B1044*100+C1044,氏名データ!$AC$2:$AJ$401,2,0)","v":"都南平"},null,"男",null,56519,"川村","隆徳","ｶﾜﾑﾗ","ﾀｶﾉﾘ","TAKANORI","Kawamura","男","05",2]
[56520,5,65,"磯前","翔駿","ｲｿﾏｴ","ｼｮｳﾏ","SHOMA","Isomae","05",2,{"$f":"VLOOKUP(B1045*100+C1045,氏名データ!$AC$2:$AJ$401,2,0)","v":"都南平"},null,"男",null,56520,"磯前","翔駿","ｲｿﾏｴ","ｼｮｳﾏ","SHOMA","Isomae","男","05",2]
[56521,5,65,"小野山","恵一","ｵﾉﾔﾏ","ｹｲｲﾁ","KEIICHI","Onoyama","05",2,{"$f":"VLOOKUP(B1046*100+C1046,氏名データ!$AC$2:$AJ$401,2,0)","v":"都南平"},null,"男",null,56521,"小野山","恵一","ｵﾉﾔﾏ","ｹｲｲﾁ","KEIICHI","Onoyama","男","05",2]
[56522,5,65,"鎌田","龍雄","ｶﾏﾀﾞ","ﾀﾂｵ","TATSUO","Kamada","07",1,{"$f":"VLOOKUP(B1047*100+C1047,氏名データ!$AC$2:$AJ$401,2,0)","v":"都南平"},null,"男",null,56522,"鎌田","龍雄","ｶﾏﾀﾞ","ﾀﾂｵ","TATSUO","Kamada","男","07",1]
[56524,5,65,"渡邊","勇仁","ﾜﾀﾅﾍﾞ","ﾊﾔﾄ","WATANABE","Hayato","07",1,{"$f":"VLOOKUP(B1048*100+C1048,氏名データ!$AC$2:$AJ$401,2,0)","v":"都南平"},null,"男",null,56524,"渡邊","勇仁","ﾜﾀﾅﾍﾞ","ﾊﾔﾄ","WATANABE","Hayato","男","07",1]
[56525,5,65,"青木","絢音","ｱｵｷ","ｹﾝﾄ","AOKI","Kento","07",1,{"$f":"VLOOKUP(B1049*100+C1049,氏名データ!$AC$2:$AJ$401,2,0)","v":"都南平"},null,"男",null,56525,"青木","絢音","ｱｵｷ","ｹﾝﾄ","AOKI","Kento","男","07",1]
[56526,5,65,"桐生","翔","ｷﾘｭｳ","ｼｮｳ","KIRYU","Syo","06",1,{"$f":"VLOOKUP(B1050*100+C1050,氏名データ!$AC$2:$AJ$401,2,0)","v":"都南平"},null,"男",null,56526,"桐生","翔","ｷﾘｭｳ","ｼｮｳ","KIRYU","Syo","男","06",1]
[56527,5,65,"野島","晶","ﾉｼﾞﾏ","ｱｷﾗ","NOJIMA","Akira","06",1,{"$f":"VLOOKUP(B1051*100+C1051,氏名データ!$AC$2:$AJ$401,2,0)","v":"都南平"},null,"男",null,56527,"野島","晶","ﾉｼﾞﾏ","ｱｷﾗ","NOJIMA","Akira","男","06",1]
[56528,5,65,"白濱","健太郎","ｼﾗﾊﾏ","ｹﾝﾀﾛｳ","SHIRAHAMA","Kentaro","06",1,{"$f":"VLOOKUP(B1052*100+C1052,氏名データ!$AC$2:$AJ$401,2,0)","v":"都南平"},null,"男",null,56528,"白濱","健太郎","ｼﾗﾊﾏ","ｹﾝﾀﾛｳ","SHIRAHAMA","Kentaro","男","06",1]
[56529,5,65,"安藤","優泰","ｱﾝﾄﾞｳ","ﾕｳﾀﾞｲ","ANDO","Yudai","06",1,{"$f":"VLOOKUP(B1053*100+C1053,氏名データ!$AC$2:$AJ$401,2,0)","v":"都南平"},null,"男",null,56529,"安藤","優泰","ｱﾝﾄﾞｳ","ﾕｳﾀﾞｲ","ANDO","Yudai","男","06",1]
[56530,5,65,"吉田","涼平","ﾖｼﾀﾞ","ﾘｮｳﾍｲ","YOSHIDA","Ryohei","06",1,{"$f":"VLOOKUP(B1054*100+C1054,氏名データ!$AC$2:$AJ$401,2,0)","v":"都南平"},null,"男",null,56530,"吉田","涼平","ﾖｼﾀﾞ","ﾘｮｳﾍｲ","YOSHIDA","Ryohei","男","06",1]
[56531,5,65,"千葉","真裕","ﾁﾊﾞ","ﾏﾋﾛ","CHIBA","Mahiro","06",1,{"$f":"VLOOKUP(B1055*100+C1055,氏名データ!$AC$2:$AJ$401,2,0)","v":"都南平"},null,"男",null,56531,"千葉","真裕","ﾁﾊﾞ","ﾏﾋﾛ","CHIBA","Mahiro","男","06",1]
[56532,5,65,"依田","誠吾","ﾖﾀﾞ","ｾｲｺﾞ","YODA","Seigo","06",1,{"$f":"VLOOKUP(B1056*100+C1056,氏名データ!$AC$2:$AJ$401,2,0)","v":"都南平"},null,"男",null,56532,"依田","誠吾","ﾖﾀﾞ","ｾｲｺﾞ","YODA","Seigo","男","06",1]
[56533,5,65,"吉本","光佑","ﾖｼﾓﾄ","ｺｳｽｹ","YOSHIMOTO","Kosuke","06",1,{"$f":"VLOOKUP(B1057*100+C1057,氏名データ!$AC$2:$AJ$401,2,0)","v":"都南平"},null,"男",null,56533,"吉本","光佑","ﾖｼﾓﾄ","ｺｳｽｹ","YOSHIMOTO","Kosuke","男","06",1]
[56534,5,65,"西尾","優武","ﾆｼｵ","ﾋﾛﾑ","NISHIO","Hiromu","07",1,{"$f":"VLOOKUP(B1058*100+C1058,氏名データ!$AC$2:$AJ$401,2,0)","v":"都南平"},null,"男",null,56534,"西尾","優武","ﾆｼｵ","ﾋﾛﾑ","NISHIO","Hiromu","男","07",1]
[56535,5,65,"堀井","幹太","ﾎﾘｲ","ｶﾝﾀ","HORII","Kanta","06",1,{"$f":"VLOOKUP(B1059*100+C1059,氏名データ!$AC$2:$AJ$401,2,0)","v":"都南平"},null,"男",null,56535,"堀井","幹太","ﾎﾘｲ","ｶﾝﾀ","HORII","Kanta","男","06",1]
[56551,5,65,"曽根原","未結","ｿﾈﾊﾗ","ﾐﾕ","SONEHARA","Miyu","04",3,{"$f":"VLOOKUP(B1060*100+C1060,氏名データ!$AC$2:$AJ$401,2,0)","v":"都南平"},null,"女",null,56551,"曽根原","未結","ｿﾈﾊﾗ","ﾐﾕ","SONEHARA","Miyu","女","04",3]
[56552,5,65,"服部","湧泉","ﾊｯﾄﾘ","ﾕﾉ","HATTORI","Yuno","04",3,{"$f":"VLOOKUP(B1061*100+C1061,氏名データ!$AC$2:$AJ$401,2,0)","v":"都南平"},null,"女",null,56552,"服部","湧泉","ﾊｯﾄﾘ","ﾕﾉ","HATTORI","Yuno","女","04",3]
[56553,5,65,"菊竹","舞","ｷｸﾀｹ","ﾏｲ","KIKUTAKE","Mai","04",3,{"$f":"VLOOKUP(B1062*100+C1062,氏名データ!$AC$2:$AJ$401,2,0)","v":"都南平"},null,"女",null,56553,"菊竹","舞","ｷｸﾀｹ","ﾏｲ","KIKUTAKE","Mai","女","04",3]
[56554,5,65,"吉田","若菜","ﾖｼﾀﾞ","ﾜｶﾅ","WAKANA","Yoshida","05",2,{"$f":"VLOOKUP(B1063*100+C1063,氏名データ!$AC$2:$AJ$401,2,0)","v":"都南平"},null,"女",null,56554,"吉田","若菜","ﾖｼﾀﾞ","ﾜｶﾅ","WAKANA","Yoshida","女","05",2]
[56555,5,65,"森","小倖","ﾓﾘ","ｺﾕｷ","KOYUKI","Mori","05",2,{"$f":"VLOOKUP(B1064*100+C1064,氏名データ!$AC$2:$AJ$401,2,0)","v":"都南平"},null,"女",null,56555,"森","小倖","ﾓﾘ","ｺﾕｷ","KOYUKI","Mori","女","05",2]
[56556,5,65,"大谷","美羽","ｵｵﾀﾆ","ﾐｳ","MIU","Otani","05",2,{"$f":"VLOOKUP(B1065*100+C1065,氏名データ!$AC$2:$AJ$401,2,0)","v":"都南平"},null,"女",null,56556,"大谷","美羽","ｵｵﾀﾆ","ﾐｳ","MIU","Otani","女","05",2]
[56558,5,65,"藤森","有咲","ﾌｼﾞﾓﾘ","ｱﾘｻ","ARISA","Fujimori","06",2,{"$f":"VLOOKUP(B1066*100+C1066,氏名データ!$AC$2:$AJ$401,2,0)","v":"都南平"},null,"女",null,56558,"藤森","有咲","ﾌｼﾞﾓﾘ","ｱﾘｻ","ARISA","Fujimori","女","06",2]
[56559,5,65,"臼井","琴美","ｳｽｲ","ｺﾄﾐ","USUI","Kotomi","06",1,{"$f":"VLOOKUP(B1067*100+C1067,氏名データ!$AC$2:$AJ$401,2,0)","v":"都南平"},null,"女",null,56559,"臼井","琴美","ｳｽｲ","ｺﾄﾐ","USUI","Kotomi","女","06",1]
[56560,5,65,"加藤","実咲","ｶﾄｳ","ﾐｻｷ","KATO","Misaki","06",1,{"$f":"VLOOKUP(B1068*100+C1068,氏名データ!$AC$2:$AJ$401,2,0)","v":"都南平"},null,"女",null,56560,"加藤","実咲","ｶﾄｳ","ﾐｻｷ","KATO","Misaki","女","06",1]
[56561,5,65,"柴","帆奈","ｼﾊﾞ","ﾊﾝﾅ","SHIBA","Hanna","06",1,{"$f":"VLOOKUP(B1069*100+C1069,氏名データ!$AC$2:$AJ$401,2,0)","v":"都南平"},null,"女",null,56561,"柴","帆奈","ｼﾊﾞ","ﾊﾝﾅ","SHIBA","Hanna","女","06",1]
[56562,5,65,"川瀬","杏奈","ｶﾜｾ","ｱﾝﾅ","KAWASE","Anna","06",1,{"$f":"VLOOKUP(B1070*100+C1070,氏名データ!$AC$2:$AJ$401,2,0)","v":"都南平"},null,"女",null,56562,"川瀬","杏奈","ｶﾜｾ","ｱﾝﾅ","KAWASE","Anna","女","06",1]
[56598,5,65,"見山","琴美","ﾐﾔﾏ","ｺﾄﾐ","MIYAMA","Kotomi","04",3,{"$f":"VLOOKUP(B1071*100+C1071,氏名データ!$AC$2:$AJ$401,2,0)","v":"都南平"},null,"女",null,56598,"見山","琴美","ﾐﾔﾏ","ｺﾄﾐ","MIYAMA","Kotomi","女","04",3]
[56701,5,67,"藤田","輝","ﾌｼﾞﾀ","ﾋｶﾙ","FUJITA","Hikaru","05",2,{"$f":"VLOOKUP(B1072*100+C1072,氏名データ!$AC$2:$AJ$401,2,0)","v":"都国分寺"},null,"男",null,56701,"藤田","輝","ﾌｼﾞﾀ","ﾋｶﾙ","FUJITA","Hikaru","男","05",2]
[56703,5,67,"山野","充輝","ﾔﾏﾉ","ﾐﾂｷ","YAMANO","Mitsuki","05",2,{"$f":"VLOOKUP(B1073*100+C1073,氏名データ!$AC$2:$AJ$401,2,0)","v":"都国分寺"},null,"男",null,56703,"山野","充輝","ﾔﾏﾉ","ﾐﾂｷ","YAMANO","Mitsuki","男","05",2]
[56704,5,67,"船山","幹太","ﾌﾅﾔﾏ","ｶﾝﾀ","FUNAYAMA","Kanta","05",2,{"$f":"VLOOKUP(B1074*100+C1074,氏名データ!$AC$2:$AJ$401,2,0)","v":"都国分寺"},null,"男",null,56704,"船山","幹太","ﾌﾅﾔﾏ","ｶﾝﾀ","FUNAYAMA","Kanta","男","05",2]
[56705,5,67,"鈴木","日大昊","ｽｽﾞｷ","ﾋｮｳｺﾞ","SUZUKI","Hyogo","05",2,{"$f":"VLOOKUP(B1075*100+C1075,氏名データ!$AC$2:$AJ$401,2,0)","v":"都国分寺"},null,"男",null,56705,"鈴木","日大昊","ｽｽﾞｷ","ﾋｮｳｺﾞ","SUZUKI","Hyogo","男","05",2]
[56706,5,67,"高村","真之介","ﾀｶﾑﾗ","ｼﾝﾉｽｹ","TAKAMURA","Shinnosuke","05",2,{"$f":"VLOOKUP(B1076*100+C1076,氏名データ!$AC$2:$AJ$401,2,0)","v":"都国分寺"},null,"男",null,56706,"高村","真之介","ﾀｶﾑﾗ","ｼﾝﾉｽｹ","TAKAMURA","Shinnosuke","男","05",2]
[56707,5,67,"大野","天馬","ｵｵﾉ","ﾃﾝﾏ","ONO","Tenma","05",2,{"$f":"VLOOKUP(B1077*100+C1077,氏名データ!$AC$2:$AJ$401,2,0)","v":"都国分寺"},null,"男",null,56707,"大野","天馬","ｵｵﾉ","ﾃﾝﾏ","ONO","Tenma","男","05",2]
[56708,5,67,"村井","悠人","ﾑﾗｲ","ﾕｳﾄ","MURAI","Yuto","06",2,{"$f":"VLOOKUP(B1078*100+C1078,氏名データ!$AC$2:$AJ$401,2,0)","v":"都国分寺"},null,"男",null,56708,"村井","悠人","ﾑﾗｲ","ﾕｳﾄ","MURAI","Yuto","男","06",2]
[56710,5,67,"吉井","想","ﾖｼｲ","ｶﾅﾀ","YOSHII","Kanata","06",2,{"$f":"VLOOKUP(B1079*100+C1079,氏名データ!$AC$2:$AJ$401,2,0)","v":"都国分寺"},null,"男",null,56710,"吉井","想","ﾖｼｲ","ｶﾅﾀ","YOSHII","Kanata","男","06",2]
[56711,5,67,"葛西","悠貴","ｶｻｲ","ﾕｳｷ","KASAI","Yuki","06",1,{"$f":"VLOOKUP(B1080*100+C1080,氏名データ!$AC$2:$AJ$401,2,0)","v":"都国分寺"},null,"男",null,56711,"葛西","悠貴","ｶｻｲ","ﾕｳｷ","KASAI","Yuki","男","06",1]
[56712,5,67,"渋谷","幹世","ｼﾌﾞﾔ","ｶﾝｾｲ","SHIBUYA","Kansei","06",1,{"$f":"VLOOKUP(B1081*100+C1081,氏名データ!$AC$2:$AJ$401,2,0)","v":"都国分寺"},null,"男",null,56712,"渋谷","幹世","ｼﾌﾞﾔ","ｶﾝｾｲ","SHIBUYA","Kansei","男","06",1]
[56713,5,67,"大岡","虹瑛","ｵｵｵｶ","ﾅﾅｱｷ","OOKA","Nanaaki","06",1,{"$f":"VLOOKUP(B1082*100+C1082,氏名データ!$AC$2:$AJ$401,2,0)","v":"都国分寺"},null,"男",null,56713,"大岡","虹瑛","ｵｵｵｶ","ﾅﾅｱｷ","OOKA","Nanaaki","男","06",1]
[56714,5,67,"荻原","健太","ｵｷﾞﾜﾗ","ｹﾝﾀ","OGIWARA","Kenta","06",1,{"$f":"VLOOKUP(B1083*100+C1083,氏名データ!$AC$2:$AJ$401,2,0)","v":"都国分寺"},null,"男",null,56714,"荻原","健太","ｵｷﾞﾜﾗ","ｹﾝﾀ","OGIWARA","Kenta","男","06",1]
[56715,5,67,"大﨑","岳仁","ｵｵｻｷ","ﾀｹﾋﾄ","OSAKI","Takehito","06",1,{"$f":"VLOOKUP(B1084*100+C1084,氏名データ!$AC$2:$AJ$401,2,0)","v":"都国分寺"},null,"男",null,56715,"大﨑","岳仁","ｵｵｻｷ","ﾀｹﾋﾄ","OSAKI","Takehito","男","06",1]
[56716,5,67,"伊藤","隆広","ｲﾄｳ","ﾀｶﾋﾛ","ITO","Takahiro","06",1,{"$f":"VLOOKUP(B1085*100+C1085,氏名データ!$AC$2:$AJ$401,2,0)","v":"都国分寺"},null,"男",null,56716,"伊藤","隆広","ｲﾄｳ","ﾀｶﾋﾛ","ITO","Takahiro","男","06",1]
[56717,5,67,"新﨑","恵悟","ｼﾝｻﾞｷ","ｹｲｺﾞ","SHINZAKI","Keigo","06",1,{"$f":"VLOOKUP(B1086*100+C1086,氏名データ!$AC$2:$AJ$401,2,0)","v":"都国分寺"},null,"男",null,56717,"新﨑","恵悟","ｼﾝｻﾞｷ","ｹｲｺﾞ","SHINZAKI","Keigo","男","06",1]
[56745,5,67,"小坂","雄人","ｺｻｶ","ﾕｳﾄ","KOSAKA","Yuto","04",3,{"$f":"VLOOKUP(B1087*100+C1087,氏名データ!$AC$2:$AJ$401,2,0)","v":"都国分寺"},null,"男",null,56745,"小坂","雄人","ｺｻｶ","ﾕｳﾄ","KOSAKA","Yuto","男","04",3]
[56746,5,67,"佐藤","匠真","ｻﾄｳ","ﾀｸﾏ","SATO","Takuma","04",3,{"$f":"VLOOKUP(B1088*100+C1088,氏名データ!$AC$2:$AJ$401,2,0)","v":"都国分寺"},null,"男",null,56746,"佐藤","匠真","ｻﾄｳ","ﾀｸﾏ","SATO","Takuma","男","04",3]
[56747,5,67,"児玉","湧","ｺﾀﾞﾏ","ﾜｸ","KODAMA","Waku","05",3,{"$f":"VLOOKUP(B1089*100+C1089,氏名データ!$AC$2:$AJ$401,2,0)","v":"都国分寺"},null,"男",null,56747,"児玉","湧","ｺﾀﾞﾏ","ﾜｸ","KODAMA","Waku","男","05",3]
[56748,5,67,"井戸下","風駕","ｲﾄﾞｼﾀ","ﾌｳｶﾞ","IDOSHITA","Fuga","05",2,{"$f":"VLOOKUP(B1090*100+C1090,氏名データ!$AC$2:$AJ$401,2,0)","v":"都国分寺"},null,"男",null,56748,"井戸下","風駕","ｲﾄﾞｼﾀ","ﾌｳｶﾞ","IDOSHITA","Fuga","男","05",2]
[{"$f":"P1091","v":56749},{"$f":"ROUNDDOWN(A1091/10000,0)","v":5},{"$f":"ROUNDDOWN((A1091-B1091*10000)/100,0)","v":67},{"$f":"Q1091","v":"濵島"},{"$f":"R1091","v":"秀陽"},{"$f":"S1091","v":"ﾊﾏｼﾞﾏ"},{"$f":"T1091","v":"ｼｭｳﾔ"},{"$f":"U1091","v":"HAMAJIMA"},{"$f":"V1091","v":"Shuya"},{"$f":"X1091","v":"06"},{"$f":"Y1091","v":2},{"$f":"VLOOKUP(B1091*100+C1091,氏名データ!$AC$2:$AJ$401,2,0)","v":"都国分寺"},null,{"$f":"W1091","v":"男"},null,56749,"濵島","秀陽","ﾊﾏｼﾞﾏ","ｼｭｳﾔ","HAMAJIMA","Shuya","男","06",2]
[56751,5,67,"村椿","芽依","ﾑﾗﾂﾊﾞｷ","ﾒｲ","MURATSUBAKI","Mei","04",3,{"$f":"VLOOKUP(B1092*100+C1092,氏名データ!$AC$2:$AJ$401,2,0)","v":"都国分寺"},null,"女",null,56751,"村椿","芽依","ﾑﾗﾂﾊﾞｷ","ﾒｲ","MURATSUBAKI","Mei","女","04",3]
[56752,5,67,"吉田","萌","ﾖｼﾀﾞ","ﾓｴ","YOSHIDA","Moe","04",3,{"$f":"VLOOKUP(B1093*100+C1093,氏名データ!$AC$2:$AJ$401,2,0)","v":"都国分寺"},null,"女",null,56752,"吉田","萌","ﾖｼﾀﾞ","ﾓｴ","YOSHIDA","Moe","女","04",3]
[56753,5,67,"酒井","果歩","ｻｶｲ","ｶﾎ","SAKAI","Kaho","04",3,{"$f":"VLOOKUP(B1094*100+C1094,氏名データ!$AC$2:$AJ$401,2,0)","v":"都国分寺"},null,"女",null,56753,"酒井","果歩","ｻｶｲ","ｶﾎ","SAKAI","Kaho","女","04",3]
[56754,5,67,"徳永","伊織","ﾄｸﾅｶﾞ","ｲｵﾘ","TOKUNAGA","Iori","04",3,{"$f":"VLOOKUP(B1095*100+C1095,氏名データ!$AC$2:$AJ$401,2,0)","v":"都国分寺"},null,"女",null,56754,"徳永","伊織","ﾄｸﾅｶﾞ","ｲｵﾘ","TOKUNAGA","Iori","女","04",3]
[56755,5,67,"原田","智咲","ﾊﾗﾀﾞ","ﾁｻ","HARADA","Chisa","06",2,{"$f":"VLOOKUP(B1096*100+C1096,氏名データ!$AC$2:$AJ$401,2,0)","v":"都国分寺"},null,"女",null,56755,"原田","智咲","ﾊﾗﾀﾞ","ﾁｻ","HARADA","Chisa","女","06",2]
[56756,5,67,"吉武","愛結","ﾖｼﾀｹ","ｱﾕﾐ","YOSHITAKE","Ayumi","05",2,{"$f":"VLOOKUP(B1097*100+C1097,氏名データ!$AC$2:$AJ$401,2,0)","v":"都国分寺"},null,"女",null,56756,"吉武","愛結","ﾖｼﾀｹ","ｱﾕﾐ","YOSHITAKE","Ayumi","女","05",2]
[56757,5,67,"栗田","佳歩","ｸﾘﾀ","ｶﾎ","KURITA","Kaho","05",2,{"$f":"VLOOKUP(B1098*100+C1098,氏名データ!$AC$2:$AJ$401,2,0)","v":"都国分寺"},null,"女",null,56757,"栗田","佳歩","ｸﾘﾀ","ｶﾎ","KURITA","Kaho","女","05",2]
[56758,5,67,"武富","さくら","ﾀｹﾄﾐ","ｻｸﾗ","TAKETOMI","Sakura","06",2,{"$f":"VLOOKUP(B1099*100+C1099,氏名データ!$AC$2:$AJ$401,2,0)","v":"都国分寺"},null,"女",null,56758,"武富","さくら","ﾀｹﾄﾐ","ｻｸﾗ","TAKETOMI","Sakura","女","06",2]
[56760,5,67,"植野","祐香","ｳｴﾉ","ﾕｳｶ","UENO","Yuka","05",2,{"$f":"VLOOKUP(B1100*100+C1100,氏名データ!$AC$2:$AJ$401,2,0)","v":"都国分寺"},null,"女",null,56760,"植野","祐香","ｳｴﾉ","ﾕｳｶ","UENO","Yuka","女","05",2]
[56761,5,67,"湯澤","昌子","ﾕｻﾞﾜ","ﾏｻｺ","YUZAWA","Masako","06",1,{"$f":"VLOOKUP(B1101*100+C1101,氏名データ!$AC$2:$AJ$401,2,0)","v":"都国分寺"},null,"女",null,56761,"湯澤","昌子","ﾕｻﾞﾜ","ﾏｻｺ","YUZAWA","Masako","女","06",1]
[56762,5,67,"榎本","颯花","ｴﾉﾓﾄ","ｿﾖｶ","ENOMOTO","Soyoka","06",1,{"$f":"VLOOKUP(B1102*100+C1102,氏名データ!$AC$2:$AJ$401,2,0)","v":"都国分寺"},null,"女",null,56762,"榎本","颯花","ｴﾉﾓﾄ","ｿﾖｶ","ENOMOTO","Soyoka","女","06",1]
[56763,5,67,"徳山","未夢","ﾄｸﾔﾏ","ﾐﾕ","TOKUYAMA","Miyu","06",1,{"$f":"VLOOKUP(B1103*100+C1103,氏名データ!$AC$2:$AJ$401,2,0)","v":"都国分寺"},null,"女",null,56763,"徳山","未夢","ﾄｸﾔﾏ","ﾐﾕ","TOKUYAMA","Miyu","女","06",1]
[56764,5,67,"武田","咲夏","ﾀｹﾀﾞ","ｻｷｶ","TAKEDA","Sakika","06",1,{"$f":"VLOOKUP(B1104*100+C1104,氏名データ!$AC$2:$AJ$401,2,0)","v":"都国分寺"},null,"女",null,56764,"武田","咲夏","ﾀｹﾀﾞ","ｻｷｶ","TAKEDA","Sakika","女","06",1]
[56765,5,67,"幕内","実咲","ﾏｸｳﾁ","ﾐｻｷ","MAKUUCHI","Misaki","06",1,{"$f":"VLOOKUP(B1105*100+C1105,氏名データ!$AC$2:$AJ$401,2,0)","v":"都国分寺"},null,"女",null,56765,"幕内","実咲","ﾏｸｳﾁ","ﾐｻｷ","MAKUUCHI","Misaki","女","06",1]
[56766,5,67,"小野木","春音","ｵﾉｷ","ﾊﾙﾈ","ONOKI","Harune","06",1,{"$f":"VLOOKUP(B1106*100+C1106,氏名データ!$AC$2:$AJ$401,2,0)","v":"都国分寺"},null,"女",null,56766,"小野木","春音","ｵﾉｷ","ﾊﾙﾈ","ONOKI","Harune","女","06",1]
[56795,5,67,"横田","葵","ﾖｺﾀ","ｱｵｲ","YOKOTA","Aoi","03",3,{"$f":"VLOOKUP(B1107*100+C1107,氏名データ!$AC$2:$AJ$401,2,0)","v":"都国分寺"},null,"女",null,56795,"横田","葵","ﾖｺﾀ","ｱｵｲ","YOKOTA","Aoi","女","03",3]
[56797,5,67,"奥村","奏穂","ｵｸﾑﾗ","ｶﾅﾎ","OKUMURA","Kanaho","04",3,{"$f":"VLOOKUP(B1108*100+C1108,氏名データ!$AC$2:$AJ$401,2,0)","v":"都国分寺"},null,"女",null,56797,"奥村","奏穂","ｵｸﾑﾗ","ｶﾅﾎ","OKUMURA","Kanaho","女","04",3]
[56798,5,67,"岡垣","文香","ｵｶｶﾞｷ","ﾌﾐｶ","OKAGAKI","Fumika","04",3,{"$f":"VLOOKUP(B1109*100+C1109,氏名データ!$AC$2:$AJ$401,2,0)","v":"都国分寺"},null,"女",null,56798,"岡垣","文香","ｵｶｶﾞｷ","ﾌﾐｶ","OKAGAKI","Fumika","女","04",3]
[56801,5,68,"山田","晃央","ﾔﾏﾀﾞ","ｺｳﾖｳ","YAMADA","Koyo","06",1,{"$f":"VLOOKUP(B1110*100+C1110,氏名データ!$AC$2:$AJ$401,2,0)","v":"早稲田実"},null,"男",null,56801,"山田","晃央","ﾔﾏﾀﾞ","ｺｳﾖｳ","YAMADA","Koyo","男","06",1]
[56802,5,68,"吉田","新","ﾖｼﾀﾞ","ｱﾗﾀ","YOSHIDA","Arata","06",1,{"$f":"VLOOKUP(B1111*100+C1111,氏名データ!$AC$2:$AJ$401,2,0)","v":"早稲田実"},null,"男",null,56802,"吉田","新","ﾖｼﾀﾞ","ｱﾗﾀ","YOSHIDA","Arata","男","06",1]
[56803,5,68,"吉田","拓海","ﾖｼﾀﾞ","ﾀｸﾐ","YOSHIDA","Takumi","06",1,{"$f":"VLOOKUP(B1112*100+C1112,氏名データ!$AC$2:$AJ$401,2,0)","v":"早稲田実"},null,"男",null,56803,"吉田","拓海","ﾖｼﾀﾞ","ﾀｸﾐ","YOSHIDA","Takumi","男","06",1]
[56804,5,68,"照井","雄一朗","ﾃﾙｲ","ﾕｳｲﾁﾛｳ","TERUI","Yuichiro","06",1,{"$f":"VLOOKUP(B1113*100+C1113,氏名データ!$AC$2:$AJ$401,2,0)","v":"早稲田実"},null,"男",null,56804,"照井","雄一朗","ﾃﾙｲ","ﾕｳｲﾁﾛｳ","TERUI","Yuichiro","男","06",1]
[56805,5,68,"丸山","寛貴","ﾏﾙﾔﾏ","ﾋﾛﾀｶ","MARUYAMA","Hirotaka","06",1,{"$f":"VLOOKUP(B1114*100+C1114,氏名データ!$AC$2:$AJ$401,2,0)","v":"早稲田実"},null,"男",null,56805,"丸山","寛貴","ﾏﾙﾔﾏ","ﾋﾛﾀｶ","MARUYAMA","Hirotaka","男","06",1]
[56806,5,68,"藤原","康佑","ﾌｼﾞﾜﾗ","ｺｳｽｹ","FUJIWARA","Kosuke","06",1,{"$f":"VLOOKUP(B1115*100+C1115,氏名データ!$AC$2:$AJ$401,2,0)","v":"早稲田実"},null,"男",null,56806,"藤原","康佑","ﾌｼﾞﾜﾗ","ｺｳｽｹ","FUJIWARA","Kosuke","男","06",1]
[56807,5,68,"森","天馬","ﾓﾘ","ﾃﾝﾏ","MORI","Tenma","05",2,{"$f":"VLOOKUP(B1116*100+C1116,氏名データ!$AC$2:$AJ$401,2,0)","v":"早稲田実"},null,"男",null,56807,"森","天馬","ﾓﾘ","ﾃﾝﾏ","MORI","Tenma","男","05",2]
[56825,5,68,"平野","快征","ﾋﾗﾉ","ｶｲｾｲ","HIRANO","Kaisei","04",3,{"$f":"VLOOKUP(B1117*100+C1117,氏名データ!$AC$2:$AJ$401,2,0)","v":"早稲田実"},null,"男",null,56825,"平野","快征","ﾋﾗﾉ","ｶｲｾｲ","HIRANO","Kaisei","男","04",3]
[56826,5,68,"小平","敦之","ｺﾀﾞｲﾗ","ｱﾂﾕｷ","KODAIRA","Atsuyuki","04",3,{"$f":"VLOOKUP(B1118*100+C1118,氏名データ!$AC$2:$AJ$401,2,0)","v":"早稲田実"},null,"男",null,56826,"小平","敦之","ｺﾀﾞｲﾗ","ｱﾂﾕｷ","KODAIRA","Atsuyuki","男","04",3]
[56827,5,68,"武田","知典","ﾀｹﾀﾞ","ﾊﾙﾖｼ","TAKEDA","Haruyoshi","04",3,{"$f":"VLOOKUP(B1119*100+C1119,氏名データ!$AC$2:$AJ$401,2,0)","v":"早稲田実"},null,"男",null,56827,"武田","知典","ﾀｹﾀﾞ","ﾊﾙﾖｼ","TAKEDA","Haruyoshi","男","04",3]
[56828,5,68,"平林","瑞己","ﾋﾗﾊﾞﾔｼ","ﾐｽﾞｷ","HIRABAYASHI","Mizuki","04",3,{"$f":"VLOOKUP(B1120*100+C1120,氏名データ!$AC$2:$AJ$401,2,0)","v":"早稲田実"},null,"男",null,56828,"平林","瑞己","ﾋﾗﾊﾞﾔｼ","ﾐｽﾞｷ","HIRABAYASHI","Mizuki","男","04",3]
[56830,5,68,"坂西","達基","ｻｶﾆｼ","ﾀﾂｷ","SAKANISHI","Tatsuki","04",3,{"$f":"VLOOKUP(B1121*100+C1121,氏名データ!$AC$2:$AJ$401,2,0)","v":"早稲田実"},null,"男",null,56830,"坂西","達基","ｻｶﾆｼ","ﾀﾂｷ","SAKANISHI","Tatsuki","男","04",3]
[56831,5,68,"幸田","英彦","ｺｳﾀﾞ","ﾋﾃﾞﾋｺ","KODA","Hidehiko","04",3,{"$f":"VLOOKUP(B1122*100+C1122,氏名データ!$AC$2:$AJ$401,2,0)","v":"早稲田実"},null,"男",null,56831,"幸田","英彦","ｺｳﾀﾞ","ﾋﾃﾞﾋｺ","KODA","Hidehiko","男","04",3]
[56832,5,68,"小畑","璃空","ｵﾊﾞﾀ","ﾘｸ","OBATA","Riku","04",3,{"$f":"VLOOKUP(B1123*100+C1123,氏名データ!$AC$2:$AJ$401,2,0)","v":"早稲田実"},null,"男",null,56832,"小畑","璃空","ｵﾊﾞﾀ","ﾘｸ","OBATA","Riku","男","04",3]
[56833,5,68,"笠井","隆太郎","ｶｻｲ","ﾘｭｳﾀﾛｳ","KASAI","Ryutaro","04",3,{"$f":"VLOOKUP(B1124*100+C1124,氏名データ!$AC$2:$AJ$401,2,0)","v":"早稲田実"},null,"男",null,56833,"笠井","隆太郎","ｶｻｲ","ﾘｭｳﾀﾛｳ","KASAI","Ryutaro","男","04",3]
[56834,5,68,"大久保","敦史","ｵｵｸﾎﾞ","ｱﾂｼ","OKUBO","Atsushi","04",3,{"$f":"VLOOKUP(B1125*100+C1125,氏名データ!$AC$2:$AJ$401,2,0)","v":"早稲田実"},null,"男",null,56834,"大久保","敦史","ｵｵｸﾎﾞ","ｱﾂｼ","OKUBO","Atsushi","男","04",3]
[56835,5,68,"白川","翔大","ｼﾗｶﾜ","ｼｮｳﾀ","SHIRAKAWA","Shota","04",3,{"$f":"VLOOKUP(B1126*100+C1126,氏名データ!$AC$2:$AJ$401,2,0)","v":"早稲田実"},null,"男",null,56835,"白川","翔大","ｼﾗｶﾜ","ｼｮｳﾀ","SHIRAKAWA","Shota","男","04",3]
[56836,5,68,"井上","陽翔","ｲﾉｳｴ","ﾊﾙﾄ","INOUE","Haruto","04",3,{"$f":"VLOOKUP(B1127*100+C1127,氏名データ!$AC$2:$AJ$401,2,0)","v":"早稲田実"},null,"男",null,56836,"井上","陽翔","ｲﾉｳｴ","ﾊﾙﾄ","INOUE","Haruto","男","04",3]
[56837,5,68,"佐藤","陽真","ｻﾄｳ","ﾊﾙﾏ","SATO","Haruma","04",3,{"$f":"VLOOKUP(B1128*100+C1128,氏名データ!$AC$2:$AJ$401,2,0)","v":"早稲田実"},null,"男",null,56837,"佐藤","陽真","ｻﾄｳ","ﾊﾙﾏ","SATO","Haruma","男","04",3]
[56838,5,68,"吉倉","ナヤブ直希","ﾖｼｸﾗ","ﾅﾔﾌﾞﾅｵｷ","YOSHIKURA","Nayab naoki","05",2,{"$f":"VLOOKUP(B1129*100+C1129,氏名データ!$AC$2:$AJ$401,2,0)","v":"早稲田実"},null,"男",null,56838,"吉倉","ナヤブ直希","ﾖｼｸﾗ","ﾅﾔﾌﾞﾅｵｷ","YOSHIKURA","Nayab naoki","男","05",2]
[56839,5,68,"浅川","京平","ｱｻｶﾜ","ｷｮｳﾍｲ","ASAKAWA","Kyohei","06",2,{"$f":"VLOOKUP(B1130*100+C1130,氏名データ!$AC$2:$AJ$401,2,0)","v":"早稲田実"},null,"男",null,56839,"浅川","京平","ｱｻｶﾜ","ｷｮｳﾍｲ","ASAKAWA","Kyohei","男","06",2]
[56840,5,68,"須藤","壮良","ｽﾄﾞｳ","ｿﾗ","SUDO","Sora","05",2,{"$f":"VLOOKUP(B1131*100+C1131,氏名データ!$AC$2:$AJ$401,2,0)","v":"早稲田実"},null,"男",null,56840,"須藤","壮良","ｽﾄﾞｳ","ｿﾗ","SUDO","Sora","男","05",2]
[56841,5,68,"鈴木","貴広","ｽｽﾞｷ","ﾀｶﾋﾛ","SUZUKI","Takahiro","05",2,{"$f":"VLOOKUP(B1132*100+C1132,氏名データ!$AC$2:$AJ$401,2,0)","v":"早稲田実"},null,"男",null,56841,"鈴木","貴広","ｽｽﾞｷ","ﾀｶﾋﾛ","SUZUKI","Takahiro","男","05",2]
[56842,5,68,"真山","開","ﾏﾔﾏ","ｶｲ","MAYAMA","Kai","06",2,{"$f":"VLOOKUP(B1133*100+C1133,氏名データ!$AC$2:$AJ$401,2,0)","v":"早稲田実"},null,"男",null,56842,"真山","開","ﾏﾔﾏ","ｶｲ","MAYAMA","Kai","男","06",2]
[56843,5,68,"船戸","一央","ﾌﾅﾄ","ｶｽﾞﾋﾛ","FUNATO","Kazuhiro","05",2,{"$f":"VLOOKUP(B1134*100+C1134,氏名データ!$AC$2:$AJ$401,2,0)","v":"早稲田実"},null,"男",null,56843,"船戸","一央","ﾌﾅﾄ","ｶｽﾞﾋﾛ","FUNATO","Kazuhiro","男","05",2]
[56844,5,68,"橋本","真旺","ﾊｼﾓﾄ","ﾏｵ","HASHIMOTO","Mao","05",2,{"$f":"VLOOKUP(B1135*100+C1135,氏名データ!$AC$2:$AJ$401,2,0)","v":"早稲田実"},null,"男",null,56844,"橋本","真旺","ﾊｼﾓﾄ","ﾏｵ","HASHIMOTO","Mao","男","05",2]
[56845,5,68,"向坂","健斗","ｻｷｻｶ","ｹﾝﾄ","SAKISAKA","Kento","05",2,{"$f":"VLOOKUP(B1136*100+C1136,氏名データ!$AC$2:$AJ$401,2,0)","v":"早稲田実"},null,"男",null,56845,"向坂","健斗","ｻｷｻｶ","ｹﾝﾄ","SAKISAKA","Kento","男","05",2]
[56846,5,68,"千葉","蒼馬","ﾁﾊﾞ","ｿｳﾏ","CHIBA","Soma","05",2,{"$f":"VLOOKUP(B1137*100+C1137,氏名データ!$AC$2:$AJ$401,2,0)","v":"早稲田実"},null,"男",null,56846,"千葉","蒼馬","ﾁﾊﾞ","ｿｳﾏ","CHIBA","Soma","男","05",2]
[56847,5,68,"横山","拓真","ﾖｺﾔﾏ","ﾀｸﾏ","YOKOYAMA","Takuma","05",2,{"$f":"VLOOKUP(B1138*100+C1138,氏名データ!$AC$2:$AJ$401,2,0)","v":"早稲田実"},null,"男",null,56847,"横山","拓真","ﾖｺﾔﾏ","ﾀｸﾏ","YOKOYAMA","Takuma","男","05",2]
[56848,5,68,"秋元","雅充","ｱｷﾓﾄ","ﾏｻﾐﾁ","AKIMOTO","Masamichi","06",2,{"$f":"VLOOKUP(B1139*100+C1139,氏名データ!$AC$2:$AJ$401,2,0)","v":"早稲田実"},null,"男",null,56848,"秋元","雅充","ｱｷﾓﾄ","ﾏｻﾐﾁ","AKIMOTO","Masamichi","男","06",2]
[56849,5,68,"石本","陸瑛","ｲｼﾓﾄ","ﾘｸｴｲ","ISHIMOTO","Rikuei","05",2,{"$f":"VLOOKUP(B1140*100+C1140,氏名データ!$AC$2:$AJ$401,2,0)","v":"早稲田実"},null,"男",null,56849,"石本","陸瑛","ｲｼﾓﾄ","ﾘｸｴｲ","ISHIMOTO","Rikuei","男","05",2]
[56850,5,68,"櫻井","翔太","ｻｸﾗｲ","ｼｮｳﾀ","SAKURAI","Shota","05",2,{"$f":"VLOOKUP(B1141*100+C1141,氏名データ!$AC$2:$AJ$401,2,0)","v":"早稲田実"},null,"男",null,56850,"櫻井","翔太","ｻｸﾗｲ","ｼｮｳﾀ","SAKURAI","Shota","男","05",2]
[56851,5,68,"藤本","加子","ﾌｼﾞﾓﾄ","ｶｺ","FUJIMOTO","Kako","04",3,{"$f":"VLOOKUP(B1142*100+C1142,氏名データ!$AC$2:$AJ$401,2,0)","v":"早稲田実"},null,"女",null,56851,"藤本","加子","ﾌｼﾞﾓﾄ","ｶｺ","FUJIMOTO","Kako","女","04",3]
[56852,5,68,"中村","彩良","ﾅｶﾑﾗ","ｻﾗ","NAKAMURA","Sara","05",2,{"$f":"VLOOKUP(B1143*100+C1143,氏名データ!$AC$2:$AJ$401,2,0)","v":"早稲田実"},null,"女",null,56852,"中村","彩良","ﾅｶﾑﾗ","ｻﾗ","NAKAMURA","Sara","女","05",2]
[56853,5,68,"道下","愛佳","ﾐﾁｼﾀ","ｱｲｶ","MICHISHITA","Aika","06",2,{"$f":"VLOOKUP(B1144*100+C1144,氏名データ!$AC$2:$AJ$401,2,0)","v":"早稲田実"},null,"女",null,56853,"道下","愛佳","ﾐﾁｼﾀ","ｱｲｶ","MICHISHITA","Aika","女","06",2]
[56854,5,68,"宮田","桃花","ﾐﾔﾀ","ﾓﾓｶ","MIYATA","Momoka","05",2,{"$f":"VLOOKUP(B1145*100+C1145,氏名データ!$AC$2:$AJ$401,2,0)","v":"早稲田実"},null,"女",null,56854,"宮田","桃花","ﾐﾔﾀ","ﾓﾓｶ","MIYATA","Momoka","女","05",2]
[56855,5,68,"吉村","美咲","ﾖｼﾑﾗ","ﾐｻｷ","YOSHIMURA","Misaki","06",2,{"$f":"VLOOKUP(B1146*100+C1146,氏名データ!$AC$2:$AJ$401,2,0)","v":"早稲田実"},null,"女",null,56855,"吉村","美咲","ﾖｼﾑﾗ","ﾐｻｷ","YOSHIMURA","Misaki","女","06",2]
[56856,5,68,"山﨑","美等乃","ﾔﾏｻﾞｷ","ﾐﾗﾉ","YAMAZAKI","Mirano","05",2,{"$f":"VLOOKUP(B1147*100+C1147,氏名データ!$AC$2:$AJ$401,2,0)","v":"早稲田実"},null,"女",null,56856,"山﨑","美等乃","ﾔﾏｻﾞｷ","ﾐﾗﾉ","YAMAZAKI","Mirano","女","05",2]
[56857,5,68,"熊倉","花萌","ｸﾏｸﾗ","ｶﾎ","KUMAKURA","Kaho","06",1,{"$f":"VLOOKUP(B1148*100+C1148,氏名データ!$AC$2:$AJ$401,2,0)","v":"早稲田実"},null,"女",null,56857,"熊倉","花萌","ｸﾏｸﾗ","ｶﾎ","KUMAKURA","Kaho","女","06",1]
[56858,5,68,"五味","彩花","ｺﾞﾐ","ｻﾔｶ","GOMI","Sayaka","06",1,{"$f":"VLOOKUP(B1149*100+C1149,氏名データ!$AC$2:$AJ$401,2,0)","v":"早稲田実"},null,"女",null,56858,"五味","彩花","ｺﾞﾐ","ｻﾔｶ","GOMI","Sayaka","女","06",1]
[56901,5,69,"橋口","凛乃介","ﾊｼｸﾞﾁ","ﾘﾝﾉｽｹ","HASHIGUCHI","Rinnosuke","06",1,{"$f":"VLOOKUP(B1150*100+C1150,氏名データ!$AC$2:$AJ$401,2,0)","v":"明大明治"},null,"男",null,56901,"橋口","凛乃介","ﾊｼｸﾞﾁ","ﾘﾝﾉｽｹ","HASHIGUCHI","Rinnosuke","男","06",1]
[56902,5,69,"佐々木","友紀","ｻｻｷ","ﾕｳｷ","SASAKI","Yuki","06",1,{"$f":"VLOOKUP(B1151*100+C1151,氏名データ!$AC$2:$AJ$401,2,0)","v":"明大明治"},null,"男",null,56902,"佐々木","友紀","ｻｻｷ","ﾕｳｷ","SASAKI","Yuki","男","06",1]
[56903,5,69,"翁","涼太","ｵｷﾅ","ﾘｮｳﾀ","OKINA","Ryota","06",1,{"$f":"VLOOKUP(B1152*100+C1152,氏名データ!$AC$2:$AJ$401,2,0)","v":"明大明治"},null,"男",null,56903,"翁","涼太","ｵｷﾅ","ﾘｮｳﾀ","OKINA","Ryota","男","06",1]
[56904,5,69,"山田","広","ﾔﾏﾀﾞ","ﾋﾛ","YAMADA","Hiro","06",1,{"$f":"VLOOKUP(B1153*100+C1153,氏名データ!$AC$2:$AJ$401,2,0)","v":"明大明治"},null,"男",null,56904,"山田","広","ﾔﾏﾀﾞ","ﾋﾛ","YAMADA","Hiro","男","06",1]
[56905,5,69,"庄子","大翔","ｼｮｳｼﾞ","ﾊﾙﾄ","SHOJI","Haruto","07",1,{"$f":"VLOOKUP(B1154*100+C1154,氏名データ!$AC$2:$AJ$401,2,0)","v":"明大明治"},null,"男",null,56905,"庄子","大翔","ｼｮｳｼﾞ","ﾊﾙﾄ","SHOJI","Haruto","男","07",1]
[{"$f":"P1155","v":56906},{"$f":"ROUNDDOWN(A1155/10000,0)","v":5},{"$f":"ROUNDDOWN((A1155-B1155*10000)/100,0)","v":69},{"$f":"Q1155","v":"齋藤"},{"$f":"R1155","v":"英斗"},{"$f":"S1155","v":"ｻｲﾄｳ"},{"$f":"T1155","v":"ﾋﾃﾞﾄ"},{"$f":"U1155","v":"SAITO"},{"$f":"V1155","v":"Hideto"},{"$f":"X1155","v":"06"},{"$f":"Y1155","v":1},{"$f":"VLOOKUP(B1155*100+C1155,氏名データ!$AC$2:$AJ$401,2,0)","v":"明大明治"},null,{"$f":"W1155","v":"男"},null,56906,"齋藤","英斗","ｻｲﾄｳ","ﾋﾃﾞﾄ","SAITO","Hideto","男","06",1]
[56907,5,69,"大塚","諒","ｵｵﾂｶ","ﾘｮｳ","OTUKA","Ryo","07",1,{"$f":"VLOOKUP(B1156*100+C1156,氏名データ!$AC$2:$AJ$401,2,0)","v":"明大明治"},null,"男",null,56907,"大塚","諒","ｵｵﾂｶ","ﾘｮｳ","OTUKA","Ryo","男","07",1]
[56930,5,69,"赤澤","真治","ｱｶｻﾞﾜ","ﾏｻﾊﾙ","AKAZAWA","Masaharu","04",3,{"$f":"VLOOKUP(B1157*100+C1157,氏名データ!$AC$2:$AJ$401,2,0)","v":"明大明治"},null,"男",null,56930,"赤澤","真治","ｱｶｻﾞﾜ","ﾏｻﾊﾙ","AKAZAWA","Masaharu","男","04",3]
[56931,5,69,"瀧見","颯太","ﾀｷﾐ","ｿｳﾀ","TAKIMI","Sota","04",3,{"$f":"VLOOKUP(B1158*100+C1158,氏名データ!$AC$2:$AJ$401,2,0)","v":"明大明治"},null,"男",null,56931,"瀧見","颯太","ﾀｷﾐ","ｿｳﾀ","TAKIMI","Sota","男","04",3]
[56932,5,69,"真野","航太朗","ﾏﾉ","ｺｳﾀﾛｳ","MANO","Kotaro","04",3,{"$f":"VLOOKUP(B1159*100+C1159,氏名データ!$AC$2:$AJ$401,2,0)","v":"明大明治"},null,"男",null,56932,"真野","航太朗","ﾏﾉ","ｺｳﾀﾛｳ","MANO","Kotaro","男","04",3]
[56933,5,69,"小原","爽楽","ｵﾊﾞﾗ","ｿﾗ","OBARA","Sora","04",3,{"$f":"VLOOKUP(B1160*100+C1160,氏名データ!$AC$2:$AJ$401,2,0)","v":"明大明治"},null,"男",null,56933,"小原","爽楽","ｵﾊﾞﾗ","ｿﾗ","OBARA","Sora","男","04",3]
[56934,5,69,"篠原","健伸","ｼﾉﾊﾗ","ｹﾝｼﾝ","SHINOHARA","Kensin","04",3,{"$f":"VLOOKUP(B1161*100+C1161,氏名データ!$AC$2:$AJ$401,2,0)","v":"明大明治"},null,"男",null,56934,"篠原","健伸","ｼﾉﾊﾗ","ｹﾝｼﾝ","SHINOHARA","Kensin","男","04",3]
[56940,5,69,"石毛","祐貴","ｲｼｹﾞ","ﾕｳｷ","ISHIGE","Yuki","05",2,{"$f":"VLOOKUP(B1162*100+C1162,氏名データ!$AC$2:$AJ$401,2,0)","v":"明大明治"},null,"男",null,56940,"石毛","祐貴","ｲｼｹﾞ","ﾕｳｷ","ISHIGE","Yuki","男","05",2]
[56941,5,69,"保田","廉","ﾔｽﾀﾞ","ﾚﾝ","YASUDA","Ren","05",2,{"$f":"VLOOKUP(B1163*100+C1163,氏名データ!$AC$2:$AJ$401,2,0)","v":"明大明治"},null,"男",null,56941,"保田","廉","ﾔｽﾀﾞ","ﾚﾝ","YASUDA","Ren","男","05",2]
[56942,5,69,"岡","渉","ｵｶ","ﾜﾀﾙ","OKA","Wataru","05",2,{"$f":"VLOOKUP(B1164*100+C1164,氏名データ!$AC$2:$AJ$401,2,0)","v":"明大明治"},null,"男",null,56942,"岡","渉","ｵｶ","ﾜﾀﾙ","OKA","Wataru","男","05",2]
[56951,5,69,"近藤","楓葉","ｺﾝﾄﾞｳ","ｶｴﾃﾞ","KONDO","Kaede","04",3,{"$f":"VLOOKUP(B1165*100+C1165,氏名データ!$AC$2:$AJ$401,2,0)","v":"明大明治"},null,"女",null,56951,"近藤","楓葉","ｺﾝﾄﾞｳ","ｶｴﾃﾞ","KONDO","Kaede","女","04",3]
[56952,5,69,"渡邉","杏美","ﾜﾀﾅﾍﾞ","ｱﾐ","WATANABE","Ami","04",3,{"$f":"VLOOKUP(B1166*100+C1166,氏名データ!$AC$2:$AJ$401,2,0)","v":"明大明治"},null,"女",null,56952,"渡邉","杏美","ﾜﾀﾅﾍﾞ","ｱﾐ","WATANABE","Ami","女","04",3]
[56953,5,69,"大熊","樹里","ｵｵｸﾏ","ｼﾞｭﾘ","OKUMA","Juri","04",3,{"$f":"VLOOKUP(B1167*100+C1167,氏名データ!$AC$2:$AJ$401,2,0)","v":"明大明治"},null,"女",null,56953,"大熊","樹里","ｵｵｸﾏ","ｼﾞｭﾘ","OKUMA","Juri","女","04",3]
[56954,5,69,"森","彩花","ﾓﾘ","ｱﾔｶ","MORI","Ayaka","04",3,{"$f":"VLOOKUP(B1168*100+C1168,氏名データ!$AC$2:$AJ$401,2,0)","v":"明大明治"},null,"女",null,56954,"森","彩花","ﾓﾘ","ｱﾔｶ","MORI","Ayaka","女","04",3]
[56960,5,69,"成瀬","綾乃","ﾅﾙｾ","ｱﾔﾉ","NARUSE","Ayano","05",2,{"$f":"VLOOKUP(B1169*100+C1169,氏名データ!$AC$2:$AJ$401,2,0)","v":"明大明治"},null,"女",null,56960,"成瀬","綾乃","ﾅﾙｾ","ｱﾔﾉ","NARUSE","Ayano","女","05",2]
[56961,5,69,"田口","栞","ﾀｸﾞﾁ","ｼｵﾘ","TAGUCHI","Siori","05",2,{"$f":"VLOOKUP(B1170*100+C1170,氏名データ!$AC$2:$AJ$401,2,0)","v":"明大明治"},null,"女",null,56961,"田口","栞","ﾀｸﾞﾁ","ｼｵﾘ","TAGUCHI","Siori","女","05",2]
[56962,5,69,"川田","莉歩","ｶﾜﾀﾞ","ﾘﾎ","KAWADA","Riho","05",2,{"$f":"VLOOKUP(B1171*100+C1171,氏名データ!$AC$2:$AJ$401,2,0)","v":"明大明治"},null,"女",null,56962,"川田","莉歩","ｶﾜﾀﾞ","ﾘﾎ","KAWADA","Riho","女","05",2]
[56970,5,69,"真木","悠華","ﾏｷ","ﾊﾙｶ","MAKI","Haruka","06",1,{"$f":"VLOOKUP(B1172*100+C1172,氏名データ!$AC$2:$AJ$401,2,0)","v":"明大明治"},null,"女",null,56970,"真木","悠華","ﾏｷ","ﾊﾙｶ","MAKI","Haruka","女","06",1]
[56971,5,69,"島津","那奈","ｼﾏﾂﾞ","ﾅﾅ","SHIMADU","Nana","06",1,{"$f":"VLOOKUP(B1173*100+C1173,氏名データ!$AC$2:$AJ$401,2,0)","v":"明大明治"},null,"女",null,56971,"島津","那奈","ｼﾏﾂﾞ","ﾅﾅ","SHIMADU","Nana","女","06",1]
[56972,5,69,"鈴木","心彩","ｽｽﾞｷ","ﾐｻｲ","SUZUKI","Misai","06",1,{"$f":"VLOOKUP(B1174*100+C1174,氏名データ!$AC$2:$AJ$401,2,0)","v":"明大明治"},null,"女",null,56972,"鈴木","心彩","ｽｽﾞｷ","ﾐｻｲ","SUZUKI","Misai","女","06",1]
[56973,5,69,"横森","万奈","ﾖｺﾓﾘ","ﾏﾅ","YOKOMORI","Mana","06",1,{"$f":"VLOOKUP(B1175*100+C1175,氏名データ!$AC$2:$AJ$401,2,0)","v":"明大明治"},null,"女",null,56973,"横森","万奈","ﾖｺﾓﾘ","ﾏﾅ","YOKOMORI","Mana","女","06",1]
[56974,5,69,"小木曽","沙菜","ｵｷﾞｿ","ｻﾅ","OGISO","Sana","06",1,{"$f":"VLOOKUP(B1176*100+C1176,氏名データ!$AC$2:$AJ$401,2,0)","v":"明大明治"},null,"女",null,56974,"小木曽","沙菜","ｵｷﾞｿ","ｻﾅ","OGISO","Sana","女","06",1]
[57001,5,70,"下出","璃音","ｼﾓﾃﾞ","ﾘｵﾝ","SHIMODE","Rion","04",3,{"$f":"VLOOKUP(B1177*100+C1177,氏名データ!$AC$2:$AJ$401,2,0)","v":"都町田総合"},null,"男",null,57001,"下出","璃音","ｼﾓﾃﾞ","ﾘｵﾝ","SHIMODE","Rion","男","04",3]
[57101,5,71,"榎橘","径徒","ｶｷﾂ","ﾊﾔﾄ","KAKITSU","Hayato","07",1,{"$f":"VLOOKUP(B1178*100+C1178,氏名データ!$AC$2:$AJ$401,2,0)","v":"ドルトン東京"},null,"男",null,57101,"榎橘","径徒","ｶｷﾂ","ﾊﾔﾄ","KAKITSU","Hayato","男","07",1]
[60101,6,1,"加藤","旭","ｶﾄｳ","ｱｻﾋ","KATOH","Asahi","05",2,{"$f":"VLOOKUP(B1179*100+C1179,氏名データ!$AC$2:$AJ$401,2,0)","v":"都立川国際"},null,"男",null,60101,"加藤","旭","ｶﾄｳ","ｱｻﾋ","KATOH","Asahi","男","05",2]
[60102,6,1,"シャザード","明歩","ｼｬｻﾞｰﾄﾞ","ｱｹﾌﾞ","SHAZARD","Akebu","05",2,{"$f":"VLOOKUP(B1180*100+C1180,氏名データ!$AC$2:$AJ$401,2,0)","v":"都立川国際"},null,"男",null,60102,"シャザード","明歩","ｼｬｻﾞｰﾄﾞ","ｱｹﾌﾞ","SHAZARD","Akebu","男","05",2]
[60103,6,1,"藤岡","聡","ﾌｼﾞｵｶ","ｻﾄｼ","FUJIOKA","Satoshi","05",2,{"$f":"VLOOKUP(B1181*100+C1181,氏名データ!$AC$2:$AJ$401,2,0)","v":"都立川国際"},null,"男",null,60103,"藤岡","聡","ﾌｼﾞｵｶ","ｻﾄｼ","FUJIOKA","Satoshi","男","05",2]
[60104,6,1,"藤野","史琉","ﾌｼﾞﾉ","ｼﾘｭｳ","FUJINO","Shiryu","05",2,{"$f":"VLOOKUP(B1182*100+C1182,氏名データ!$AC$2:$AJ$401,2,0)","v":"都立川国際"},null,"男",null,60104,"藤野","史琉","ﾌｼﾞﾉ","ｼﾘｭｳ","FUJINO","Shiryu","男","05",2]
[60105,6,1,"島川","樹","ｼﾏｶﾜ","ﾐｷ","SHIMAKAWA","Miki","06",2,{"$f":"VLOOKUP(B1183*100+C1183,氏名データ!$AC$2:$AJ$401,2,0)","v":"都立川国際"},null,"男",null,60105,"島川","樹","ｼﾏｶﾜ","ﾐｷ","SHIMAKAWA","Miki","男","06",2]
[60106,6,1,"橋本","昊","ﾊｼﾓﾄ","ｺｳ","HASHIMOTO","Ko","06",1,{"$f":"VLOOKUP(B1184*100+C1184,氏名データ!$AC$2:$AJ$401,2,0)","v":"都立川国際"},null,"男",null,60106,"橋本","昊","ﾊｼﾓﾄ","ｺｳ","HASHIMOTO","Ko","男","06",1]
[60108,6,1,"有岡","拓優","ｱﾘｵｶ","ﾀｸﾔ","ARIOKA","Takuya","07",1,{"$f":"VLOOKUP(B1185*100+C1185,氏名データ!$AC$2:$AJ$401,2,0)","v":"都立川国際"},null,"男",null,60108,"有岡","拓優","ｱﾘｵｶ","ﾀｸﾔ","ARIOKA","Takuya","男","07",1]
[60141,6,1,"弓家","暉大","ﾕｹﾞ","ﾃﾙﾋﾛ","YUGE","Teruhiro","04",3,{"$f":"VLOOKUP(B1186*100+C1186,氏名データ!$AC$2:$AJ$401,2,0)","v":"都立川国際"},null,"男",null,60141,"弓家","暉大","ﾕｹﾞ","ﾃﾙﾋﾛ","YUGE","Teruhiro","男","04",3]
[60142,6,1,"大川","留依","ｵｵｶﾜ","ﾙｲ","OKAWA","Rui","04",3,{"$f":"VLOOKUP(B1187*100+C1187,氏名データ!$AC$2:$AJ$401,2,0)","v":"都立川国際"},null,"男",null,60142,"大川","留依","ｵｵｶﾜ","ﾙｲ","OKAWA","Rui","男","04",3]
[60143,6,1,"嘉永","和紘","ｶﾅｶﾞ","ｶｽﾞﾋﾛ","KANAGA","Kazuhiro","04",3,{"$f":"VLOOKUP(B1188*100+C1188,氏名データ!$AC$2:$AJ$401,2,0)","v":"都立川国際"},null,"男",null,60143,"嘉永","和紘","ｶﾅｶﾞ","ｶｽﾞﾋﾛ","KANAGA","Kazuhiro","男","04",3]
[60144,6,1,"高橋","大樹","ﾀｶﾊｼ","ﾋﾛｷ","TAKAHASHI","Hiroki","04",3,{"$f":"VLOOKUP(B1189*100+C1189,氏名データ!$AC$2:$AJ$401,2,0)","v":"都立川国際"},null,"男",null,60144,"高橋","大樹","ﾀｶﾊｼ","ﾋﾛｷ","TAKAHASHI","Hiroki","男","04",3]
[60145,6,1,"高橋","侑杜","ﾀｶﾊｼ","ﾕｳﾄ","TAKAHASHI","Yuto","04",3,{"$f":"VLOOKUP(B1190*100+C1190,氏名データ!$AC$2:$AJ$401,2,0)","v":"都立川国際"},null,"男",null,60145,"高橋","侑杜","ﾀｶﾊｼ","ﾕｳﾄ","TAKAHASHI","Yuto","男","04",3]
[60146,6,1,"山田","樹","ﾔﾏﾀﾞ","ﾀﾂｷ","YAMADA","Tatsuki","04",3,{"$f":"VLOOKUP(B1191*100+C1191,氏名データ!$AC$2:$AJ$401,2,0)","v":"都立川国際"},null,"男",null,60146,"山田","樹","ﾔﾏﾀﾞ","ﾀﾂｷ","YAMADA","Tatsuki","男","04",3]
[60147,6,1,"後藤","駿","ｺﾞﾄｳ","ｼｭﾝ","GOTO","Shun","04",3,{"$f":"VLOOKUP(B1192*100+C1192,氏名データ!$AC$2:$AJ$401,2,0)","v":"都立川国際"},null,"男",null,60147,"後藤","駿","ｺﾞﾄｳ","ｼｭﾝ","GOTO","Shun","男","04",3]
[60148,6,1,"谷口","佳","ﾀﾆｸﾞﾁ","ｹｲ","TANIGUCHI","Kei","05",2,{"$f":"VLOOKUP(B1193*100+C1193,氏名データ!$AC$2:$AJ$401,2,0)","v":"都立川国際"},null,"男",null,60148,"谷口","佳","ﾀﾆｸﾞﾁ","ｹｲ","TANIGUCHI","Kei","男","05",2]
[60149,6,1,"平野","智士","ﾋﾗﾉ","ｻﾄｼ","HIRANO","Satoshi","06",2,{"$f":"VLOOKUP(B1194*100+C1194,氏名データ!$AC$2:$AJ$401,2,0)","v":"都立川国際"},null,"男",null,60149,"平野","智士","ﾋﾗﾉ","ｻﾄｼ","HIRANO","Satoshi","男","06",2]
[60150,6,1,"藤原","陽琉","ﾌｼﾞﾜﾗ","ﾊﾙ","FUJIWARA","Haru","05",2,{"$f":"VLOOKUP(B1195*100+C1195,氏名データ!$AC$2:$AJ$401,2,0)","v":"都立川国際"},null,"男",null,60150,"藤原","陽琉","ﾌｼﾞﾜﾗ","ﾊﾙ","FUJIWARA","Haru","男","05",2]
[60175,6,1,"平山","遥香","ﾋﾗﾔﾏ","ﾊﾙｶ","HIRAYAMA","Haruka","05",2,{"$f":"VLOOKUP(B1196*100+C1196,氏名データ!$AC$2:$AJ$401,2,0)","v":"都立川国際"},null,"女",null,60175,"平山","遥香","ﾋﾗﾔﾏ","ﾊﾙｶ","HIRAYAMA","Haruka","女","05",2]
[60306,6,3,"石原","叶翔","ｲｼﾊﾗ","ｶﾅﾄ","ISHIHARA","Kanato","05",3,{"$f":"VLOOKUP(B1197*100+C1197,氏名データ!$AC$2:$AJ$401,2,0)","v":"都立川"},null,"男",null,60306,"石原","叶翔","ｲｼﾊﾗ","ｶﾅﾄ","ISHIHARA","Kanato","男","05",3]
[60307,6,3,"岩熊","海斗","ｲﾜｸﾏ","ｶｲﾄ","IWAKUMA","Kaito","04",3,{"$f":"VLOOKUP(B1198*100+C1198,氏名データ!$AC$2:$AJ$401,2,0)","v":"都立川"},null,"男",null,60307,"岩熊","海斗","ｲﾜｸﾏ","ｶｲﾄ","IWAKUMA","Kaito","男","04",3]
[60308,6,3,"加賀谷","奏和","ｶｶﾞﾔ","ｶﾅﾄ","KAGAYA","Kanato","04",3,{"$f":"VLOOKUP(B1199*100+C1199,氏名データ!$AC$2:$AJ$401,2,0)","v":"都立川"},null,"男",null,60308,"加賀谷","奏和","ｶｶﾞﾔ","ｶﾅﾄ","KAGAYA","Kanato","男","04",3]
[60309,6,3,"加藤","遼","ｶﾄｳ","ﾘｮｳｽｹ","KATOH","Ryousuke","05",3,{"$f":"VLOOKUP(B1200*100+C1200,氏名データ!$AC$2:$AJ$401,2,0)","v":"都立川"},null,"男",null,60309,"加藤","遼","ｶﾄｳ","ﾘｮｳｽｹ","KATOH","Ryousuke","男","05",3]
[60310,6,3,"北谷","康朗","ｷﾀﾀﾆ","ﾔｽｱｷ","KITATANI","Yasuaki","04",3,{"$f":"VLOOKUP(B1201*100+C1201,氏名データ!$AC$2:$AJ$401,2,0)","v":"都立川"},null,"男",null,60310,"北谷","康朗","ｷﾀﾀﾆ","ﾔｽｱｷ","KITATANI","Yasuaki","男","04",3]
[60311,6,3,"坂田","雅澪","ｻｶﾀ","ﾐﾗﾝ","SAKATA","Miran","04",3,{"$f":"VLOOKUP(B1202*100+C1202,氏名データ!$AC$2:$AJ$401,2,0)","v":"都立川"},null,"男",null,60311,"坂田","雅澪","ｻｶﾀ","ﾐﾗﾝ","SAKATA","Miran","男","04",3]
[60312,6,3,"吉原","達紀","ﾖｼﾊﾗ","ﾀﾂｷ","YOSHIHARA","Tatsuki","04",3,{"$f":"VLOOKUP(B1203*100+C1203,氏名データ!$AC$2:$AJ$401,2,0)","v":"都立川"},null,"男",null,60312,"吉原","達紀","ﾖｼﾊﾗ","ﾀﾂｷ","YOSHIHARA","Tatsuki","男","04",3]
[60315,6,3,"秋羽","黎","ｱｷﾊﾞ","ﾚｲ","AKIBA","Rei","05",2,{"$f":"VLOOKUP(B1204*100+C1204,氏名データ!$AC$2:$AJ$401,2,0)","v":"都立川"},null,"男",null,60315,"秋羽","黎","ｱｷﾊﾞ","ﾚｲ","AKIBA","Rei","男","05",2]
[60316,6,3,"川瀬","優一朗","ｶﾜｾ","ﾕｳｲﾁﾛｳ","KAWASE","Yuichiro","05",2,{"$f":"VLOOKUP(B1205*100+C1205,氏名データ!$AC$2:$AJ$401,2,0)","v":"都立川"},null,"男",null,60316,"川瀬","優一朗","ｶﾜｾ","ﾕｳｲﾁﾛｳ","KAWASE","Yuichiro","男","05",2]
[60317,6,3,"近","太翔","ｺﾝ","ﾋﾛﾄ","KON","Hiroto","05",2,{"$f":"VLOOKUP(B1206*100+C1206,氏名データ!$AC$2:$AJ$401,2,0)","v":"都立川"},null,"男",null,60317,"近","太翔","ｺﾝ","ﾋﾛﾄ","KON","Hiroto","男","05",2]
[60318,6,3,"菅原","優太","ｽｶﾞﾜﾗ","ﾕｳﾀ","SUGAWARA","Yuta","05",2,{"$f":"VLOOKUP(B1207*100+C1207,氏名データ!$AC$2:$AJ$401,2,0)","v":"都立川"},null,"男",null,60318,"菅原","優太","ｽｶﾞﾜﾗ","ﾕｳﾀ","SUGAWARA","Yuta","男","05",2]
[60319,6,3,"天田","弥也嵩","ﾃﾝﾀﾞ","ﾐﾔﾀｶ","TENDA","Miyataka","06",2,{"$f":"VLOOKUP(B1208*100+C1208,氏名データ!$AC$2:$AJ$401,2,0)","v":"都立川"},null,"男",null,60319,"天田","弥也嵩","ﾃﾝﾀﾞ","ﾐﾔﾀｶ","TENDA","Miyataka","男","06",2]
[60320,6,3,"冨永","将来","ﾄﾐﾅｶﾞ","ﾏｻｷ","TOMINAGA","Masaki","05",2,{"$f":"VLOOKUP(B1209*100+C1209,氏名データ!$AC$2:$AJ$401,2,0)","v":"都立川"},null,"男",null,60320,"冨永","将来","ﾄﾐﾅｶﾞ","ﾏｻｷ","TOMINAGA","Masaki","男","05",2]
[60321,6,3,"森","響己","ﾓﾘ","ﾋﾋﾞｷ","MORI","Hibiki","06",2,{"$f":"VLOOKUP(B1210*100+C1210,氏名データ!$AC$2:$AJ$401,2,0)","v":"都立川"},null,"男",null,60321,"森","響己","ﾓﾘ","ﾋﾋﾞｷ","MORI","Hibiki","男","06",2]
[60322,6,3,"武井","一馬","ﾀｹｲ","ｶｽﾞﾏ","TAKEI","Kazuma","06",1,{"$f":"VLOOKUP(B1211*100+C1211,氏名データ!$AC$2:$AJ$401,2,0)","v":"都立川"},null,"男",null,60322,"武井","一馬","ﾀｹｲ","ｶｽﾞﾏ","TAKEI","Kazuma","男","06",1]
[60323,6,3,"岡田","克寛","ｵｶﾀﾞ","ｶﾂﾋﾛ","OKADA","Katsuhiro","06",1,{"$f":"VLOOKUP(B1212*100+C1212,氏名データ!$AC$2:$AJ$401,2,0)","v":"都立川"},null,"男",null,60323,"岡田","克寛","ｵｶﾀﾞ","ｶﾂﾋﾛ","OKADA","Katsuhiro","男","06",1]
[60324,6,3,"岡本","洋佑","ｵｶﾓﾄ","ﾖｳｽｹ","OKAMOTO","Yousuke","07",1,{"$f":"VLOOKUP(B1213*100+C1213,氏名データ!$AC$2:$AJ$401,2,0)","v":"都立川"},null,"男",null,60324,"岡本","洋佑","ｵｶﾓﾄ","ﾖｳｽｹ","OKAMOTO","Yousuke","男","07",1]
[60325,6,3,"木佐貫","陸斗","ｷｻﾇｷ","ﾘｸﾄ","KISANUKI","Rikuto","06",1,{"$f":"VLOOKUP(B1214*100+C1214,氏名データ!$AC$2:$AJ$401,2,0)","v":"都立川"},null,"男",null,60325,"木佐貫","陸斗","ｷｻﾇｷ","ﾘｸﾄ","KISANUKI","Rikuto","男","06",1]
[60326,6,3,"窪寺","伶哉","ｸﾎﾞﾃﾞﾗ","ﾚｲﾔ","KUBODERA","Reiya","06",1,{"$f":"VLOOKUP(B1215*100+C1215,氏名データ!$AC$2:$AJ$401,2,0)","v":"都立川"},null,"男",null,60326,"窪寺","伶哉","ｸﾎﾞﾃﾞﾗ","ﾚｲﾔ","KUBODERA","Reiya","男","06",1]
[60327,6,3,"小林","哲平","ｺﾊﾞﾔｼ","ﾃｯﾍﾟｲ","KOBAYASHI","Teppei","06",1,{"$f":"VLOOKUP(B1216*100+C1216,氏名データ!$AC$2:$AJ$401,2,0)","v":"都立川"},null,"男",null,60327,"小林","哲平","ｺﾊﾞﾔｼ","ﾃｯﾍﾟｲ","KOBAYASHI","Teppei","男","06",1]
[60328,6,3,"清水","拓","ｼﾐｽﾞ","ﾋﾗｸ","SHIMIZU","Hiraku","06",1,{"$f":"VLOOKUP(B1217*100+C1217,氏名データ!$AC$2:$AJ$401,2,0)","v":"都立川"},null,"男",null,60328,"清水","拓","ｼﾐｽﾞ","ﾋﾗｸ","SHIMIZU","Hiraku","男","06",1]
[60329,6,3,"祐成","慧真","ｽｹﾅﾘ","ｹｲﾏ","SUKENARI","Keima","07",1,{"$f":"VLOOKUP(B1218*100+C1218,氏名データ!$AC$2:$AJ$401,2,0)","v":"都立川"},null,"男",null,60329,"祐成","慧真","ｽｹﾅﾘ","ｹｲﾏ","SUKENARI","Keima","男","07",1]
[{"$f":"P1219","v":60330},{"$f":"ROUNDDOWN(A1219/10000,0)","v":6},{"$f":"ROUNDDOWN((A1219-B1219*10000)/100,0)","v":3},{"$f":"Q1219","v":"日高"},{"$f":"R1219","v":"康輝"},{"$f":"S1219","v":"ﾋﾀﾞｶ"},{"$f":"T1219","v":"ｺｳｷ"},{"$f":"U1219","v":"HIDAKA"},{"$f":"V1219","v":"Kouki"},{"$f":"X1219","v":"06"},{"$f":"Y1219","v":1},{"$f":"VLOOKUP(B1219*100+C1219,氏名データ!$AC$2:$AJ$401,2,0)","v":"都立川"},null,{"$f":"W1219","v":"男"},null,60330,"日高","康輝","ﾋﾀﾞｶ","ｺｳｷ","HIDAKA","Kouki","男","06",1]
[60331,6,3,"廣田","樹平","ﾋﾛﾀ","ｲｯﾍﾟｲ","HIROTA","Ippei","06",1,{"$f":"VLOOKUP(B1220*100+C1220,氏名データ!$AC$2:$AJ$401,2,0)","v":"都立川"},null,"男",null,60331,"廣田","樹平","ﾋﾛﾀ","ｲｯﾍﾟｲ","HIROTA","Ippei","男","06",1]
[60332,6,3,"平家","和志","ﾍｲｹ","ｶｽﾞｼ","HEIKE","Kazushi","06",1,{"$f":"VLOOKUP(B1221*100+C1221,氏名データ!$AC$2:$AJ$401,2,0)","v":"都立川"},null,"男",null,60332,"平家","和志","ﾍｲｹ","ｶｽﾞｼ","HEIKE","Kazushi","男","06",1]
[60333,6,3,"増田","凌玖","ﾏｽﾀﾞ","ﾘｸ","MASUDA","Riku","06",1,{"$f":"VLOOKUP(B1222*100+C1222,氏名データ!$AC$2:$AJ$401,2,0)","v":"都立川"},null,"男",null,60333,"増田","凌玖","ﾏｽﾀﾞ","ﾘｸ","MASUDA","Riku","男","06",1]
[60351,6,3,"池田","さくら","ｲｹﾀﾞ","ｻｸﾗ","IKEDA","Sakura","06",2,{"$f":"VLOOKUP(B1223*100+C1223,氏名データ!$AC$2:$AJ$401,2,0)","v":"都立川"},null,"女",null,60351,"池田","さくら","ｲｹﾀﾞ","ｻｸﾗ","IKEDA","Sakura","女","06",2]
[60352,6,3,"伊藤","和奏","ｲﾄｳ","ﾜｶﾅ","ITO","Wakana","05",2,{"$f":"VLOOKUP(B1224*100+C1224,氏名データ!$AC$2:$AJ$401,2,0)","v":"都立川"},null,"女",null,60352,"伊藤","和奏","ｲﾄｳ","ﾜｶﾅ","ITO","Wakana","女","05",2]
[60354,6,3,"古閑","詩季","ｺｶﾞ","ｼｷ","KOGA","Shiki","05",2,{"$f":"VLOOKUP(B1225*100+C1225,氏名データ!$AC$2:$AJ$401,2,0)","v":"都立川"},null,"女",null,60354,"古閑","詩季","ｺｶﾞ","ｼｷ","KOGA","Shiki","女","05",2]
[60355,6,3,"佐々木","裕生","ｻｻｷ","ﾕｳｲ","SASAKI","Yuui","05",2,{"$f":"VLOOKUP(B1226*100+C1226,氏名データ!$AC$2:$AJ$401,2,0)","v":"都立川"},null,"女",null,60355,"佐々木","裕生","ｻｻｷ","ﾕｳｲ","SASAKI","Yuui","女","05",2]
[60356,6,3,"高木","睦未","ﾀｶｷﾞ","ﾑﾂﾐ","TAKAGI","Mutsumi","06",2,{"$f":"VLOOKUP(B1227*100+C1227,氏名データ!$AC$2:$AJ$401,2,0)","v":"都立川"},null,"女",null,60356,"高木","睦未","ﾀｶｷﾞ","ﾑﾂﾐ","TAKAGI","Mutsumi","女","06",2]
[60357,6,3,"野瀬","珠美","ﾉｾ","ﾀﾏﾐ","NOSE","Tamami","05",2,{"$f":"VLOOKUP(B1228*100+C1228,氏名データ!$AC$2:$AJ$401,2,0)","v":"都立川"},null,"女",null,60357,"野瀬","珠美","ﾉｾ","ﾀﾏﾐ","NOSE","Tamami","女","05",2]
[60358,6,3,"原茂","美羽","ﾊﾗﾓ","ﾐｳ","HARAMO","Miu","05",2,{"$f":"VLOOKUP(B1229*100+C1229,氏名データ!$AC$2:$AJ$401,2,0)","v":"都立川"},null,"女",null,60358,"原茂","美羽","ﾊﾗﾓ","ﾐｳ","HARAMO","Miu","女","05",2]
[60359,6,3,"藤岡","幸","ﾌｼﾞｵｶ","ｻﾁ","FUJIOKA","Sachi","05",2,{"$f":"VLOOKUP(B1230*100+C1230,氏名データ!$AC$2:$AJ$401,2,0)","v":"都立川"},null,"女",null,60359,"藤岡","幸","ﾌｼﾞｵｶ","ｻﾁ","FUJIOKA","Sachi","女","05",2]
[60360,6,3,"石田","美羽","ｲｼﾀﾞ","ﾐｳ","ISHIDA","Miu","06",1,{"$f":"VLOOKUP(B1231*100+C1231,氏名データ!$AC$2:$AJ$401,2,0)","v":"都立川"},null,"女",null,60360,"石田","美羽","ｲｼﾀﾞ","ﾐｳ","ISHIDA","Miu","女","06",1]
[60361,6,3,"小池","恵生","ｺｲｹ","ﾒｲ","KOIKE","Mei","06",1,{"$f":"VLOOKUP(B1232*100+C1232,氏名データ!$AC$2:$AJ$401,2,0)","v":"都立川"},null,"女",null,60361,"小池","恵生","ｺｲｹ","ﾒｲ","KOIKE","Mei","女","06",1]
[60362,6,3,"清水","歩実","ｼﾐｽﾞ","ｱﾕﾐ","SHIMIZU","Ayumi","06",1,{"$f":"VLOOKUP(B1233*100+C1233,氏名データ!$AC$2:$AJ$401,2,0)","v":"都立川"},null,"女",null,60362,"清水","歩実","ｼﾐｽﾞ","ｱﾕﾐ","SHIMIZU","Ayumi","女","06",1]
[60363,6,3,"鈴木","菜心","ｽｽﾞｷ","ﾅﾅﾐ","SUZUKI","Nanami","06",1,{"$f":"VLOOKUP(B1234*100+C1234,氏名データ!$AC$2:$AJ$401,2,0)","v":"都立川"},null,"女",null,60363,"鈴木","菜心","ｽｽﾞｷ","ﾅﾅﾐ","SUZUKI","Nanami","女","06",1]
[60364,6,3,"波多野","由衣","ﾊﾀﾉ","ﾕｲ","HATANO","Yui","07",1,{"$f":"VLOOKUP(B1235*100+C1235,氏名データ!$AC$2:$AJ$401,2,0)","v":"都立川"},null,"女",null,60364,"波多野","由衣","ﾊﾀﾉ","ﾕｲ","HATANO","Yui","女","07",1]
[60393,6,3,"鈴木","彩珠","ｽｽﾞｷ","ｱﾐ","SUZUKI","Ami","04",3,{"$f":"VLOOKUP(B1236*100+C1236,氏名データ!$AC$2:$AJ$401,2,0)","v":"都立川"},null,"女",null,60393,"鈴木","彩珠","ｽｽﾞｷ","ｱﾐ","SUZUKI","Ami","女","04",3]
[60394,6,3,"高山","佳那美","ﾀｶﾔﾏ","ｶﾅﾐ","TAKAYAMA","Kanami","04",3,{"$f":"VLOOKUP(B1237*100+C1237,氏名データ!$AC$2:$AJ$401,2,0)","v":"都立川"},null,"女",null,60394,"高山","佳那美","ﾀｶﾔﾏ","ｶﾅﾐ","TAKAYAMA","Kanami","女","04",3]
[60396,6,3,"平岡","七海","ﾋﾗｵｶ","ﾅﾅﾐ","HIRAOKA","Nanami","05",3,{"$f":"VLOOKUP(B1238*100+C1238,氏名データ!$AC$2:$AJ$401,2,0)","v":"都立川"},null,"女",null,60396,"平岡","七海","ﾋﾗｵｶ","ﾅﾅﾐ","HIRAOKA","Nanami","女","05",3]
[60403,6,4,"滝澤","優斗","ﾀｷｻﾞﾜ","ﾏｻﾄ","TAKIZAWA","Masato","05",2,{"$f":"VLOOKUP(B1239*100+C1239,氏名データ!$AC$2:$AJ$401,2,0)","v":"都立川学園"},null,"男",null,60403,"滝澤","優斗","ﾀｷｻﾞﾜ","ﾏｻﾄ","TAKIZAWA","Masato","男","05",2]
[60404,6,4,"源河","大翔","ｹﾞﾝｶ","ﾊﾙﾄ","GENKA","Haruto","05",2,{"$f":"VLOOKUP(B1240*100+C1240,氏名データ!$AC$2:$AJ$401,2,0)","v":"都立川学園"},null,"男",null,60404,"源河","大翔","ｹﾞﾝｶ","ﾊﾙﾄ","GENKA","Haruto","男","05",2]
[60405,6,4,"小川","朔也","ｵｶﾞﾜ","ｻｸﾔ","OGAWA","Sakuya","05",2,{"$f":"VLOOKUP(B1241*100+C1241,氏名データ!$AC$2:$AJ$401,2,0)","v":"都立川学園"},null,"男",null,60405,"小川","朔也","ｵｶﾞﾜ","ｻｸﾔ","OGAWA","Sakuya","男","05",2]
[60501,6,5,"矢澤","祐悟","ﾔｻﾞﾜ","ﾕｳｺﾞ","YAZAWA","Yugo","05",3,{"$f":"VLOOKUP(B1242*100+C1242,氏名データ!$AC$2:$AJ$401,2,0)","v":"昭和一学園"},null,"男",null,60501,"矢澤","祐悟","ﾔｻﾞﾜ","ﾕｳｺﾞ","YAZAWA","Yugo","男","05",3]
[60502,6,5,"佐藤","孝成","ｻﾄｳ","ｺｳｾｲ","SATOU","Kousei","04",3,{"$f":"VLOOKUP(B1243*100+C1243,氏名データ!$AC$2:$AJ$401,2,0)","v":"昭和一学園"},null,"男",null,60502,"佐藤","孝成","ｻﾄｳ","ｺｳｾｲ","SATOU","Kousei","男","04",3]
[60503,6,5,"河合","広己","ｶﾜｲ","ﾋﾛｷ","KAWAI","Hiroki","05",2,{"$f":"VLOOKUP(B1244*100+C1244,氏名データ!$AC$2:$AJ$401,2,0)","v":"昭和一学園"},null,"男",null,60503,"河合","広己","ｶﾜｲ","ﾋﾛｷ","KAWAI","Hiroki","男","05",2]
[60504,6,5,"飯塚","天斗","ｲｲﾂﾞｶ","ｿﾗﾄ","IIDUKA","Sorato","05",2,{"$f":"VLOOKUP(B1245*100+C1245,氏名データ!$AC$2:$AJ$401,2,0)","v":"昭和一学園"},null,"男",null,60504,"飯塚","天斗","ｲｲﾂﾞｶ","ｿﾗﾄ","IIDUKA","Sorato","男","05",2]
[60505,6,5,"佐々木","陸恭","ｻｻｷ","ﾘｸ","SASAKI","Riku","05",2,{"$f":"VLOOKUP(B1246*100+C1246,氏名データ!$AC$2:$AJ$401,2,0)","v":"昭和一学園"},null,"男",null,60505,"佐々木","陸恭","ｻｻｷ","ﾘｸ","SASAKI","Riku","男","05",2]
[60506,6,5,"高野","翼","ﾀｶﾉ","ﾂﾊﾞｻ","TAKANO","Tsubasa","05",2,{"$f":"VLOOKUP(B1247*100+C1247,氏名データ!$AC$2:$AJ$401,2,0)","v":"昭和一学園"},null,"男",null,60506,"高野","翼","ﾀｶﾉ","ﾂﾊﾞｻ","TAKANO","Tsubasa","男","05",2]
[60507,6,5,"小岩","駿之介","ｺｲﾜ","ｼｭﾝﾉｽｹ","KOIWA","Shunnosuke","05",2,{"$f":"VLOOKUP(B1248*100+C1248,氏名データ!$AC$2:$AJ$401,2,0)","v":"昭和一学園"},null,"男",null,60507,"小岩","駿之介","ｺｲﾜ","ｼｭﾝﾉｽｹ","KOIWA","Shunnosuke","男","05",2]
[60508,6,5,"荒田","真杜","ｱﾗﾀ","ﾏﾅﾄ","ARATA","Manato","05",2,{"$f":"VLOOKUP(B1249*100+C1249,氏名データ!$AC$2:$AJ$401,2,0)","v":"昭和一学園"},null,"男",null,60508,"荒田","真杜","ｱﾗﾀ","ﾏﾅﾄ","ARATA","Manato","男","05",2]
[60509,6,5,"川上","大輝","ｶﾜｶﾐ","ﾀｲｷ","KAWAKAMI","Taiki","05",2,{"$f":"VLOOKUP(B1250*100+C1250,氏名データ!$AC$2:$AJ$401,2,0)","v":"昭和一学園"},null,"男",null,60509,"川上","大輝","ｶﾜｶﾐ","ﾀｲｷ","KAWAKAMI","Taiki","男","05",2]
[60511,6,5,"藤原","悠斗","ﾌｼﾞﾜﾗ","ﾕｳﾄ","FUJIWARA","Yuto","05",2,{"$f":"VLOOKUP(B1251*100+C1251,氏名データ!$AC$2:$AJ$401,2,0)","v":"昭和一学園"},null,"男",null,60511,"藤原","悠斗","ﾌｼﾞﾜﾗ","ﾕｳﾄ","FUJIWARA","Yuto","男","05",2]
[60512,6,5,"加藤","広夢","ｶﾄｳ","ﾋﾛﾑ","KATO","Hiromu","05",2,{"$f":"VLOOKUP(B1252*100+C1252,氏名データ!$AC$2:$AJ$401,2,0)","v":"昭和一学園"},null,"男",null,60512,"加藤","広夢","ｶﾄｳ","ﾋﾛﾑ","KATO","Hiromu","男","05",2]
[60513,6,5,"沖田","祥太郎","ｵｷﾀ","ｼｮｳﾀﾛｳ","OKITA","Shoutarou","05",2,{"$f":"VLOOKUP(B1253*100+C1253,氏名データ!$AC$2:$AJ$401,2,0)","v":"昭和一学園"},null,"男",null,60513,"沖田","祥太郎","ｵｷﾀ","ｼｮｳﾀﾛｳ","OKITA","Shoutarou","男","05",2]
[60514,6,5,"加藤","克樹","ｶﾄｳ","ﾖｼｷ","KATO","Yoshiki","05",2,{"$f":"VLOOKUP(B1254*100+C1254,氏名データ!$AC$2:$AJ$401,2,0)","v":"昭和一学園"},null,"男",null,60514,"加藤","克樹","ｶﾄｳ","ﾖｼｷ","KATO","Yoshiki","男","05",2]
[60516,6,5,"青本","和也","ｱｵﾓﾄ","ｶｽﾞﾔ","AOMOTO","Kazuya","06",2,{"$f":"VLOOKUP(B1255*100+C1255,氏名データ!$AC$2:$AJ$401,2,0)","v":"昭和一学園"},null,"男",null,60516,"青本","和也","ｱｵﾓﾄ","ｶｽﾞﾔ","AOMOTO","Kazuya","男","06",2]
[60517,6,5,"内山","空","ｳﾁﾔﾏ","ｿﾗ","UCHIYAMA","Sora","07",1,{"$f":"VLOOKUP(B1256*100+C1256,氏名データ!$AC$2:$AJ$401,2,0)","v":"昭和一学園"},null,"男",null,60517,"内山","空","ｳﾁﾔﾏ","ｿﾗ","UCHIYAMA","Sora","男","07",1]
[60518,6,5,"渡部","璃比斗","ﾜﾀﾅﾍﾞ","ﾘﾋﾄ","WATANABE","Rihito","06",1,{"$f":"VLOOKUP(B1257*100+C1257,氏名データ!$AC$2:$AJ$401,2,0)","v":"昭和一学園"},null,"男",null,60518,"渡部","璃比斗","ﾜﾀﾅﾍﾞ","ﾘﾋﾄ","WATANABE","Rihito","男","06",1]
[60519,6,5,"浅見","颯","ｱｻﾐ","ﾊﾔﾃ","ASAMI","Hayate","06",1,{"$f":"VLOOKUP(B1258*100+C1258,氏名データ!$AC$2:$AJ$401,2,0)","v":"昭和一学園"},null,"男",null,60519,"浅見","颯","ｱｻﾐ","ﾊﾔﾃ","ASAMI","Hayate","男","06",1]
[60520,6,5,"和田","拓弥","ﾜﾀﾞ","ﾀｸﾐ","WADA","Takumi","06",1,{"$f":"VLOOKUP(B1259*100+C1259,氏名データ!$AC$2:$AJ$401,2,0)","v":"昭和一学園"},null,"男",null,60520,"和田","拓弥","ﾜﾀﾞ","ﾀｸﾐ","WADA","Takumi","男","06",1]
[60521,6,5,"髙橋","瑠偉","ﾀｶﾊｼ","ﾙｲ","TAKAHASHI","Rui","06",1,{"$f":"VLOOKUP(B1260*100+C1260,氏名データ!$AC$2:$AJ$401,2,0)","v":"昭和一学園"},null,"男",null,60521,"髙橋","瑠偉","ﾀｶﾊｼ","ﾙｲ","TAKAHASHI","Rui","男","06",1]
[60522,6,5,"岡田","優人","ｵｶﾀﾞ","ﾕｳﾄ","OKADA","Yuuto","06",1,{"$f":"VLOOKUP(B1261*100+C1261,氏名データ!$AC$2:$AJ$401,2,0)","v":"昭和一学園"},null,"男",null,60522,"岡田","優人","ｵｶﾀﾞ","ﾕｳﾄ","OKADA","Yuuto","男","06",1]
[60523,6,5,"金澤","勇人","ｶﾅｻﾞﾜ","ﾕｳﾄ","KANAZAWA","Yuuto","06",1,{"$f":"VLOOKUP(B1262*100+C1262,氏名データ!$AC$2:$AJ$401,2,0)","v":"昭和一学園"},null,"男",null,60523,"金澤","勇人","ｶﾅｻﾞﾜ","ﾕｳﾄ","KANAZAWA","Yuuto","男","06",1]
[60524,6,5,"瓦","司穏","ｶﾜﾗ","ｼｵﾝ","KAWARA","Shion","06",1,{"$f":"VLOOKUP(B1263*100+C1263,氏名データ!$AC$2:$AJ$401,2,0)","v":"昭和一学園"},null,"男",null,60524,"瓦","司穏","ｶﾜﾗ","ｼｵﾝ","KAWARA","Shion","男","06",1]
[60525,6,5,"桐生","大地","ｷﾘｭｳ","ﾀﾞｲﾁ","KIRYUU","Daichi","06",1,{"$f":"VLOOKUP(B1264*100+C1264,氏名データ!$AC$2:$AJ$401,2,0)","v":"昭和一学園"},null,"男",null,60525,"桐生","大地","ｷﾘｭｳ","ﾀﾞｲﾁ","KIRYUU","Daichi","男","06",1]
[60526,6,5,"成澤","透碧","ﾅﾙｻﾜ","ﾄｳｱ","NARUSAWA","Toua","06",1,{"$f":"VLOOKUP(B1265*100+C1265,氏名データ!$AC$2:$AJ$401,2,0)","v":"昭和一学園"},null,"男",null,60526,"成澤","透碧","ﾅﾙｻﾜ","ﾄｳｱ","NARUSAWA","Toua","男","06",1]
[60527,6,5,"桑島","悠太","ｸﾜｼﾏ","ﾕｳﾀ","KUWASHIMA","Yuuta","06",1,{"$f":"VLOOKUP(B1266*100+C1266,氏名データ!$AC$2:$AJ$401,2,0)","v":"昭和一学園"},null,"男",null,60527,"桑島","悠太","ｸﾜｼﾏ","ﾕｳﾀ","KUWASHIMA","Yuuta","男","06",1]
[60537,6,5,"玉井","大貴","ﾀﾏｲ","ﾀﾞｲｷ","TAMAI","Daiki","04",3,{"$f":"VLOOKUP(B1267*100+C1267,氏名データ!$AC$2:$AJ$401,2,0)","v":"昭和一学園"},null,"男",null,60537,"玉井","大貴","ﾀﾏｲ","ﾀﾞｲｷ","TAMAI","Daiki","男","04",3]
[60538,6,5,"八木沢","結音","ﾔｷﾞｻﾜ","ﾕｲﾄ","YAGISAWA","Yuito","04",3,{"$f":"VLOOKUP(B1268*100+C1268,氏名データ!$AC$2:$AJ$401,2,0)","v":"昭和一学園"},null,"男",null,60538,"八木沢","結音","ﾔｷﾞｻﾜ","ﾕｲﾄ","YAGISAWA","Yuito","男","04",3]
[60539,6,5,"鈴木","陸斗","ｽｽﾞｷ","ﾘｸﾄ","SUZUKI","Rikuto","04",3,{"$f":"VLOOKUP(B1269*100+C1269,氏名データ!$AC$2:$AJ$401,2,0)","v":"昭和一学園"},null,"男",null,60539,"鈴木","陸斗","ｽｽﾞｷ","ﾘｸﾄ","SUZUKI","Rikuto","男","04",3]
[60541,6,5,"湯川","駿大","ﾕｶﾜ","ﾊﾔﾀ","YUKAWA","Hayata","06",2,{"$f":"VLOOKUP(B1270*100+C1270,氏名データ!$AC$2:$AJ$401,2,0)","v":"昭和一学園"},null,"男",null,60541,"湯川","駿大","ﾕｶﾜ","ﾊﾔﾀ","YUKAWA","Hayata","男","06",2]
[60542,6,5,"鈴木","佑将","ｽｽﾞｷ","ﾕｳｽｹ","SUZUKI","Yuusuke","06",2,{"$f":"VLOOKUP(B1271*100+C1271,氏名データ!$AC$2:$AJ$401,2,0)","v":"昭和一学園"},null,"男",null,60542,"鈴木","佑将","ｽｽﾞｷ","ﾕｳｽｹ","SUZUKI","Yuusuke","男","06",2]
[60543,6,5,"河内","琉晟","ｶﾜｳﾁ","ﾘｭｳｾｲ","KAWAUCHI","Ryuusei","05",2,{"$f":"VLOOKUP(B1272*100+C1272,氏名データ!$AC$2:$AJ$401,2,0)","v":"昭和一学園"},null,"男",null,60543,"河内","琉晟","ｶﾜｳﾁ","ﾘｭｳｾｲ","KAWAUCHI","Ryuusei","男","05",2]
[60545,6,5,"秋山","太一","ｱｷﾔﾏ","ﾀｲﾁ","AKIYAMA","Taichi","04",3,{"$f":"VLOOKUP(B1273*100+C1273,氏名データ!$AC$2:$AJ$401,2,0)","v":"昭和一学園"},null,"男",null,60545,"秋山","太一","ｱｷﾔﾏ","ﾀｲﾁ","AKIYAMA","Taichi","男","04",3]
[60546,6,5,"星野","皓輝","ﾎｼﾉ","ｺｳｷ","HOSHINO","Koki","04",3,{"$f":"VLOOKUP(B1274*100+C1274,氏名データ!$AC$2:$AJ$401,2,0)","v":"昭和一学園"},null,"男",null,60546,"星野","皓輝","ﾎｼﾉ","ｺｳｷ","HOSHINO","Koki","男","04",3]
[60548,6,5,"毛利","康暉","ﾓｳﾘ","ｺｳｷ","MORI","Koki","04",3,{"$f":"VLOOKUP(B1275*100+C1275,氏名データ!$AC$2:$AJ$401,2,0)","v":"昭和一学園"},null,"男",null,60548,"毛利","康暉","ﾓｳﾘ","ｺｳｷ","MORI","Koki","男","04",3]
[60549,6,5,"松本","輝","ﾏﾂﾓﾄ","ｱｷﾗ","MATSUMOTO","Akira","05",3,{"$f":"VLOOKUP(B1276*100+C1276,氏名データ!$AC$2:$AJ$401,2,0)","v":"昭和一学園"},null,"男",null,60549,"松本","輝","ﾏﾂﾓﾄ","ｱｷﾗ","MATSUMOTO","Akira","男","05",3]
[60568,6,5,"木村","陽奈","ｷﾑﾗ","ﾊﾙﾅ","KIMURA","Haruna","06",1,{"$f":"VLOOKUP(B1277*100+C1277,氏名データ!$AC$2:$AJ$401,2,0)","v":"昭和一学園"},null,"女",null,60568,"木村","陽奈","ｷﾑﾗ","ﾊﾙﾅ","KIMURA","Haruna","女","06",1]
[60569,6,5,"免田","美乃里","ﾒﾝﾀ","ﾐﾉﾘ","MENTA","Minori","06",1,{"$f":"VLOOKUP(B1278*100+C1278,氏名データ!$AC$2:$AJ$401,2,0)","v":"昭和一学園"},null,"女",null,60569,"免田","美乃里","ﾒﾝﾀ","ﾐﾉﾘ","MENTA","Minori","女","06",1]
[60572,6,5,"馬場","紀安","ﾊﾞﾊﾞ","ﾉｱﾝ","BABA","Noan","04",3,{"$f":"VLOOKUP(B1279*100+C1279,氏名データ!$AC$2:$AJ$401,2,0)","v":"昭和一学園"},null,"女",null,60572,"馬場","紀安","ﾊﾞﾊﾞ","ﾉｱﾝ","BABA","Noan","女","04",3]
[60573,6,5,"市川","満里奈","ｲﾁｶﾜ","ﾏﾘﾅ","ICHIKAWA","Marina","04",3,{"$f":"VLOOKUP(B1280*100+C1280,氏名データ!$AC$2:$AJ$401,2,0)","v":"昭和一学園"},null,"女",null,60573,"市川","満里奈","ｲﾁｶﾜ","ﾏﾘﾅ","ICHIKAWA","Marina","女","04",3]
[60574,6,5,"原島","瀬奈","ﾊﾗｼﾏ","ｾﾅ","HARASHIMA","Sena","04",3,{"$f":"VLOOKUP(B1281*100+C1281,氏名データ!$AC$2:$AJ$401,2,0)","v":"昭和一学園"},null,"女",null,60574,"原島","瀬奈","ﾊﾗｼﾏ","ｾﾅ","HARASHIMA","Sena","女","04",3]
[60575,6,5,"永田","優心","ﾅｶﾞﾀ","ｺｺﾛ","NAGATA","Kokoro","04",3,{"$f":"VLOOKUP(B1282*100+C1282,氏名データ!$AC$2:$AJ$401,2,0)","v":"昭和一学園"},null,"女",null,60575,"永田","優心","ﾅｶﾞﾀ","ｺｺﾛ","NAGATA","Kokoro","女","04",3]
[{"$f":"P1283","v":60576},{"$f":"ROUNDDOWN(A1283/10000,0)","v":6},{"$f":"ROUNDDOWN((A1283-B1283*10000)/100,0)","v":5},{"$f":"Q1283","v":"木嶋"},{"$f":"R1283","v":"美実"},{"$f":"S1283","v":"ｷｼﾞﾏ"},{"$f":"T1283","v":"ﾐﾐ"},{"$f":"U1283","v":"KIJIMA"},{"$f":"V1283","v":"Mimi"},{"$f":"X1283","v":"04"},{"$f":"Y1283","v":3},{"$f":"VLOOKUP(B1283*100+C1283,氏名データ!$AC$2:$AJ$401,2,0)","v":"昭和一学園"},null,{"$f":"W1283","v":"女"},null,60576,"木嶋","美実","ｷｼﾞﾏ","ﾐﾐ","KIJIMA","Mimi","女","04",3]
[60577,6,5,"瀧澤","美純","ﾀｷｻﾞﾜ","ﾐｽﾐ","TAKIZAWA","Misumi","05",2,{"$f":"VLOOKUP(B1284*100+C1284,氏名データ!$AC$2:$AJ$401,2,0)","v":"昭和一学園"},null,"女",null,60577,"瀧澤","美純","ﾀｷｻﾞﾜ","ﾐｽﾐ","TAKIZAWA","Misumi","女","05",2]
[60578,6,5,"加藤","真朱","ｶﾄｳ","ﾏｼｭ","KATO","Mashu","05",2,{"$f":"VLOOKUP(B1285*100+C1285,氏名データ!$AC$2:$AJ$401,2,0)","v":"昭和一学園"},null,"女",null,60578,"加藤","真朱","ｶﾄｳ","ﾏｼｭ","KATO","Mashu","女","05",2]
[60580,6,5,"吉田","向日葵","ﾖｼﾀﾞ","ﾋﾏﾘ","YOSHIDA","Himari","05",2,{"$f":"VLOOKUP(B1286*100+C1286,氏名データ!$AC$2:$AJ$401,2,0)","v":"昭和一学園"},null,"女",null,60580,"吉田","向日葵","ﾖｼﾀﾞ","ﾋﾏﾘ","YOSHIDA","Himari","女","05",2]
[60701,6,7,"林","大地","ﾊﾔｼ","ﾀﾞｲﾁ","HAYASHI","Daichi","04",3,{"$f":"VLOOKUP(B1287*100+C1287,氏名データ!$AC$2:$AJ$401,2,0)","v":"都片倉"},null,"男",null,60701,"林","大地","ﾊﾔｼ","ﾀﾞｲﾁ","HAYASHI","Daichi","男","04",3]
[60702,6,7,"田中","晴貴","ﾀﾅｶ","ﾊﾙｷ","TANAKA","Haruki","04",3,{"$f":"VLOOKUP(B1288*100+C1288,氏名データ!$AC$2:$AJ$401,2,0)","v":"都片倉"},null,"男",null,60702,"田中","晴貴","ﾀﾅｶ","ﾊﾙｷ","TANAKA","Haruki","男","04",3]
[60703,6,7,"長塚","紀彦","ﾅｶﾞﾂｶ","ﾉﾘﾋｺ","NAGATSUKA","Norihiko","04",3,{"$f":"VLOOKUP(B1289*100+C1289,氏名データ!$AC$2:$AJ$401,2,0)","v":"都片倉"},null,"男",null,60703,"長塚","紀彦","ﾅｶﾞﾂｶ","ﾉﾘﾋｺ","NAGATSUKA","Norihiko","男","04",3]
[60706,6,7,"大塚","洸明","ｵｵﾂｶ","ﾋﾛｱｷ","OTSUKA","Hiroaki","05",2,{"$f":"VLOOKUP(B1290*100+C1290,氏名データ!$AC$2:$AJ$401,2,0)","v":"都片倉"},null,"男",null,60706,"大塚","洸明","ｵｵﾂｶ","ﾋﾛｱｷ","OTSUKA","Hiroaki","男","05",2]
[60707,6,7,"國安","大悟","ｸﾆﾔｽ","ﾀﾞｲｺﾞ","KUNIYASU","Daigo","05",2,{"$f":"VLOOKUP(B1291*100+C1291,氏名データ!$AC$2:$AJ$401,2,0)","v":"都片倉"},null,"男",null,60707,"國安","大悟","ｸﾆﾔｽ","ﾀﾞｲｺﾞ","KUNIYASU","Daigo","男","05",2]
[60708,6,7,"清水","信宏","ｼﾐｽﾞ","ﾉﾌﾞﾋﾛ","SHIMIZU","Nobuhiro","06",2,{"$f":"VLOOKUP(B1292*100+C1292,氏名データ!$AC$2:$AJ$401,2,0)","v":"都片倉"},null,"男",null,60708,"清水","信宏","ｼﾐｽﾞ","ﾉﾌﾞﾋﾛ","SHIMIZU","Nobuhiro","男","06",2]
[60709,6,7,"田中","怜太","ﾀﾅｶ","ﾘｮｳﾀ","TANAKA","Ryota","05",2,{"$f":"VLOOKUP(B1293*100+C1293,氏名データ!$AC$2:$AJ$401,2,0)","v":"都片倉"},null,"男",null,60709,"田中","怜太","ﾀﾅｶ","ﾘｮｳﾀ","TANAKA","Ryota","男","05",2]
[60710,6,7,"花輪","宙直","ﾊﾅﾜ","ｿﾅ","HANAWA","Sona","05",2,{"$f":"VLOOKUP(B1294*100+C1294,氏名データ!$AC$2:$AJ$401,2,0)","v":"都片倉"},null,"男",null,60710,"花輪","宙直","ﾊﾅﾜ","ｿﾅ","HANAWA","Sona","男","05",2]
[60711,6,7,"染谷","瑠途","ｿﾒﾔ","ﾘｭｳﾄ","SOMEYA","Ryuto","05",2,{"$f":"VLOOKUP(B1295*100+C1295,氏名データ!$AC$2:$AJ$401,2,0)","v":"都片倉"},null,"男",null,60711,"染谷","瑠途","ｿﾒﾔ","ﾘｭｳﾄ","SOMEYA","Ryuto","男","05",2]
[60712,6,7,"二本柳","漣","ﾆﾎﾝﾔﾅｷﾞ","ﾚﾝ","NIHONYANAGI","Ren","05",2,{"$f":"VLOOKUP(B1296*100+C1296,氏名データ!$AC$2:$AJ$401,2,0)","v":"都片倉"},null,"男",null,60712,"二本柳","漣","ﾆﾎﾝﾔﾅｷﾞ","ﾚﾝ","NIHONYANAGI","Ren","男","05",2]
[60713,6,7,"増田","健人","ﾏｽﾀﾞ","ｹﾝﾄ","MASUDA","Kent","06",1,{"$f":"VLOOKUP(B1297*100+C1297,氏名データ!$AC$2:$AJ$401,2,0)","v":"都片倉"},null,"男",null,60713,"増田","健人","ﾏｽﾀﾞ","ｹﾝﾄ","MASUDA","Kent","男","06",1]
[60714,6,7,"田口","祐太","ﾀｸﾞﾁ","ﾕｳﾀ","TAGUCHI","Yuuta","07",1,{"$f":"VLOOKUP(B1298*100+C1298,氏名データ!$AC$2:$AJ$401,2,0)","v":"都片倉"},null,"男",null,60714,"田口","祐太","ﾀｸﾞﾁ","ﾕｳﾀ","TAGUCHI","Yuuta","男","07",1]
[60715,6,7,"山下","聖志郎","ﾔﾏｼﾀ","ｾｲｼﾛｳ","YAMASHITA","Seishiro","06",1,{"$f":"VLOOKUP(B1299*100+C1299,氏名データ!$AC$2:$AJ$401,2,0)","v":"都片倉"},null,"男",null,60715,"山下","聖志郎","ﾔﾏｼﾀ","ｾｲｼﾛｳ","YAMASHITA","Seishiro","男","06",1]
[60716,6,7,"池田","空向","ｲｹﾀﾞ","ｶﾅﾀ","IKEDA","Kanata","06",1,{"$f":"VLOOKUP(B1300*100+C1300,氏名データ!$AC$2:$AJ$401,2,0)","v":"都片倉"},null,"男",null,60716,"池田","空向","ｲｹﾀﾞ","ｶﾅﾀ","IKEDA","Kanata","男","06",1]
[60717,6,7,"平林","壱朗","ﾋﾗﾊﾞﾔｼ","ｲﾁﾛｳ","HIRABAYASHI","Ichiro","06",1,{"$f":"VLOOKUP(B1301*100+C1301,氏名データ!$AC$2:$AJ$401,2,0)","v":"都片倉"},null,"男",null,60717,"平林","壱朗","ﾋﾗﾊﾞﾔｼ","ｲﾁﾛｳ","HIRABAYASHI","Ichiro","男","06",1]
[60718,6,7,"恩曽","悠介","ｵﾝｿ","ﾕｳｽｹ","ONSO","Yusuke","06",1,{"$f":"VLOOKUP(B1302*100+C1302,氏名データ!$AC$2:$AJ$401,2,0)","v":"都片倉"},null,"男",null,60718,"恩曽","悠介","ｵﾝｿ","ﾕｳｽｹ","ONSO","Yusuke","男","06",1]
[60719,6,7,"浦尾","漣","ｳﾗｵ","ﾚﾝ","URAO","Ren","06",1,{"$f":"VLOOKUP(B1303*100+C1303,氏名データ!$AC$2:$AJ$401,2,0)","v":"都片倉"},null,"男",null,60719,"浦尾","漣","ｳﾗｵ","ﾚﾝ","URAO","Ren","男","06",1]
[60720,6,7,"井倉","拓海","ｲｸﾗ","ﾀｸﾐ","IKURA","Takumi","06",1,{"$f":"VLOOKUP(B1304*100+C1304,氏名データ!$AC$2:$AJ$401,2,0)","v":"都片倉"},null,"男",null,60720,"井倉","拓海","ｲｸﾗ","ﾀｸﾐ","IKURA","Takumi","男","06",1]
[60721,6,7,"軍司","真義","ｸﾞﾝｼﾞ","ﾏｻﾖｼ","GUNJI","Masayoshi","07",1,{"$f":"VLOOKUP(B1305*100+C1305,氏名データ!$AC$2:$AJ$401,2,0)","v":"都片倉"},null,"男",null,60721,"軍司","真義","ｸﾞﾝｼﾞ","ﾏｻﾖｼ","GUNJI","Masayoshi","男","07",1]
[60722,6,7,"込山","大翔","ｺﾐﾔﾏ","ﾊﾙﾄ","KOMIYAMA","Haruto","06",1,{"$f":"VLOOKUP(B1306*100+C1306,氏名データ!$AC$2:$AJ$401,2,0)","v":"都片倉"},null,"男",null,60722,"込山","大翔","ｺﾐﾔﾏ","ﾊﾙﾄ","KOMIYAMA","Haruto","男","06",1]
[60723,6,7,"福永","柊太","ﾌｸﾅｶﾞ","ｼｭｳﾀ","FUKUNAGA","Syuta","06",1,{"$f":"VLOOKUP(B1307*100+C1307,氏名データ!$AC$2:$AJ$401,2,0)","v":"都片倉"},null,"男",null,60723,"福永","柊太","ﾌｸﾅｶﾞ","ｼｭｳﾀ","FUKUNAGA","Syuta","男","06",1]
[60746,6,7,"鎌田","孝道","ｶﾏﾀ","ﾀｶﾐﾁ","KAMATA","Takamichi","04",3,{"$f":"VLOOKUP(B1308*100+C1308,氏名データ!$AC$2:$AJ$401,2,0)","v":"都片倉"},null,"男",null,60746,"鎌田","孝道","ｶﾏﾀ","ﾀｶﾐﾁ","KAMATA","Takamichi","男","04",3]
[60747,6,7,"常住","晴琉","ﾂﾈｽﾞﾐ","ﾊﾙ","TSUNEZUMI","Haru","04",3,{"$f":"VLOOKUP(B1309*100+C1309,氏名データ!$AC$2:$AJ$401,2,0)","v":"都片倉"},null,"男",null,60747,"常住","晴琉","ﾂﾈｽﾞﾐ","ﾊﾙ","TSUNEZUMI","Haru","男","04",3]
[60748,6,7,"斎藤","龍矢","ｻｲﾄｳ","ﾘｭｳﾔ","SAITO","Ryuya","04",3,{"$f":"VLOOKUP(B1310*100+C1310,氏名データ!$AC$2:$AJ$401,2,0)","v":"都片倉"},null,"男",null,60748,"斎藤","龍矢","ｻｲﾄｳ","ﾘｭｳﾔ","SAITO","Ryuya","男","04",3]
[60749,6,7,"山之内","央輔","ﾔﾏﾉｳﾁ","ｵｳｽｹ","YAMANOUCHI","Ousuke","04",3,{"$f":"VLOOKUP(B1311*100+C1311,氏名データ!$AC$2:$AJ$401,2,0)","v":"都片倉"},null,"男",null,60749,"山之内","央輔","ﾔﾏﾉｳﾁ","ｵｳｽｹ","YAMANOUCHI","Ousuke","男","04",3]
[60750,6,7,"佐野","虎之助","ｻﾉ","ﾄﾗﾉｽｹ","SANO","Tranosuke","04",3,{"$f":"VLOOKUP(B1312*100+C1312,氏名データ!$AC$2:$AJ$401,2,0)","v":"都片倉"},null,"男",null,60750,"佐野","虎之助","ｻﾉ","ﾄﾗﾉｽｹ","SANO","Tranosuke","男","04",3]
[60751,6,7,"稲葉","さくら","ｲﾅﾊﾞ","ｻｸﾗ","INABA","Sakura","07",1,{"$f":"VLOOKUP(B1313*100+C1313,氏名データ!$AC$2:$AJ$401,2,0)","v":"都片倉"},null,"女",null,60751,"稲葉","さくら","ｲﾅﾊﾞ","ｻｸﾗ","INABA","Sakura","女","07",1]
[60752,6,7,"秋葉","悠衣","ｱｷﾊﾞ","ﾕｲ","AKIBA","Yui","06",1,{"$f":"VLOOKUP(B1314*100+C1314,氏名データ!$AC$2:$AJ$401,2,0)","v":"都片倉"},null,"女",null,60752,"秋葉","悠衣","ｱｷﾊﾞ","ﾕｲ","AKIBA","Yui","女","06",1]
[60787,6,7,"林","菜々子","ﾊﾔｼ","ﾅﾅｺ","HAYASHI","Nanako","04",3,{"$f":"VLOOKUP(B1315*100+C1315,氏名データ!$AC$2:$AJ$401,2,0)","v":"都片倉"},null,"女",null,60787,"林","菜々子","ﾊﾔｼ","ﾅﾅｺ","HAYASHI","Nanako","女","04",3]
[60788,6,7,"上村","なつみ","ｳｴﾑﾗ","ﾅﾂﾐ","UEMURA","Natsumi","04",3,{"$f":"VLOOKUP(B1316*100+C1316,氏名データ!$AC$2:$AJ$401,2,0)","v":"都片倉"},null,"女",null,60788,"上村","なつみ","ｳｴﾑﾗ","ﾅﾂﾐ","UEMURA","Natsumi","女","04",3]
[60789,6,7,"古川","歩美","ｺｶﾞﾜ","ｱﾕﾐ","KOGAWA","Ayumi","04",3,{"$f":"VLOOKUP(B1317*100+C1317,氏名データ!$AC$2:$AJ$401,2,0)","v":"都片倉"},null,"女",null,60789,"古川","歩美","ｺｶﾞﾜ","ｱﾕﾐ","KOGAWA","Ayumi","女","04",3]
[60790,6,7,"鷹箸","美桜","ﾀｶﾉﾊｼ","ﾐｵ","TAKANOHASHI","Mio","05",2,{"$f":"VLOOKUP(B1318*100+C1318,氏名データ!$AC$2:$AJ$401,2,0)","v":"都片倉"},null,"女",null,60790,"鷹箸","美桜","ﾀｶﾉﾊｼ","ﾐｵ","TAKANOHASHI","Mio","女","05",2]
[60791,6,7,"村田","明里","ﾑﾗﾀ","ｱｶﾘ","MURATA","Akari","05",2,{"$f":"VLOOKUP(B1319*100+C1319,氏名データ!$AC$2:$AJ$401,2,0)","v":"都片倉"},null,"女",null,60791,"村田","明里","ﾑﾗﾀ","ｱｶﾘ","MURATA","Akari","女","05",2]
[60792,6,7,"今野","奈菜","ｺﾝﾉ","ﾅﾅ","KONNO","Nana","04",3,{"$f":"VLOOKUP(B1320*100+C1320,氏名データ!$AC$2:$AJ$401,2,0)","v":"都片倉"},null,"女",null,60792,"今野","奈菜","ｺﾝﾉ","ﾅﾅ","KONNO","Nana","女","04",3]
[60793,6,7,"大橋","知佳","ｵｵﾊｼ","ﾁｶ","OHASHI","Chika","06",2,{"$f":"VLOOKUP(B1321*100+C1321,氏名データ!$AC$2:$AJ$401,2,0)","v":"都片倉"},null,"女",null,60793,"大橋","知佳","ｵｵﾊｼ","ﾁｶ","OHASHI","Chika","女","06",2]
[60794,6,7,"田中","詩音","ﾀﾅｶ","ｼｵﾝ","TANAKA","Shion","05",2,{"$f":"VLOOKUP(B1322*100+C1322,氏名データ!$AC$2:$AJ$401,2,0)","v":"都片倉"},null,"女",null,60794,"田中","詩音","ﾀﾅｶ","ｼｵﾝ","TANAKA","Shion","女","05",2]
[60795,6,7,"水越","未羽","ﾐｽﾞｺｼ","ﾐｳ","MIZUKOSHI","Miu","05",2,{"$f":"VLOOKUP(B1323*100+C1323,氏名データ!$AC$2:$AJ$401,2,0)","v":"都片倉"},null,"女",null,60795,"水越","未羽","ﾐｽﾞｺｼ","ﾐｳ","MIZUKOSHI","Miu","女","05",2]
[60796,6,7,"長谷川","凜音","ﾊｾｶﾞﾜ","ﾘｵ","HASEGAWA","Rio","05",2,{"$f":"VLOOKUP(B1324*100+C1324,氏名データ!$AC$2:$AJ$401,2,0)","v":"都片倉"},null,"女",null,60796,"長谷川","凜音","ﾊｾｶﾞﾜ","ﾘｵ","HASEGAWA","Rio","女","05",2]
[60798,6,7,"芳賀","美祐","ﾊｶﾞ","ﾐﾕｳ","HAGA","Miyuu","06",1,{"$f":"VLOOKUP(B1325*100+C1325,氏名データ!$AC$2:$AJ$401,2,0)","v":"都片倉"},null,"女",null,60798,"芳賀","美祐","ﾊｶﾞ","ﾐﾕｳ","HAGA","Miyuu","女","06",1]
[60799,6,7,"河津","鈴","ｶﾜﾂﾞ","ﾘﾝ","KAWAZU","Rin","07",1,{"$f":"VLOOKUP(B1326*100+C1326,氏名データ!$AC$2:$AJ$401,2,0)","v":"都片倉"},null,"女",null,60799,"河津","鈴","ｶﾜﾂﾞ","ﾘﾝ","KAWAZU","Rin","女","07",1]
[60801,6,8,"阿部","恵","ｱﾍﾞ","ﾒｸﾞﾑ","ABE","Megumu","06",1,{"$f":"VLOOKUP(B1327*100+C1327,氏名データ!$AC$2:$AJ$401,2,0)","v":"都翔陽"},null,"男",null,60801,"阿部","恵","ｱﾍﾞ","ﾒｸﾞﾑ","ABE","Megumu","男","06",1]
[60802,6,8,"田中","俊輔","ﾀﾅｶ","ｼｭﾝｽｹ","TANAKA","Shunsuke","06",1,{"$f":"VLOOKUP(B1328*100+C1328,氏名データ!$AC$2:$AJ$401,2,0)","v":"都翔陽"},null,"男",null,60802,"田中","俊輔","ﾀﾅｶ","ｼｭﾝｽｹ","TANAKA","Shunsuke","男","06",1]
[60803,6,8,"丹羽","剛士","ﾆﾜ","ﾂﾖｼ","NIWA","Tsuyoshi","06",1,{"$f":"VLOOKUP(B1329*100+C1329,氏名データ!$AC$2:$AJ$401,2,0)","v":"都翔陽"},null,"男",null,60803,"丹羽","剛士","ﾆﾜ","ﾂﾖｼ","NIWA","Tsuyoshi","男","06",1]
[60804,6,8,"長山","朔","ﾅｶﾞﾔﾏ","ｻｸ","NAGAYAMA","Saku","06",1,{"$f":"VLOOKUP(B1330*100+C1330,氏名データ!$AC$2:$AJ$401,2,0)","v":"都翔陽"},null,"男",null,60804,"長山","朔","ﾅｶﾞﾔﾏ","ｻｸ","NAGAYAMA","Saku","男","06",1]
[60805,6,8,"大道","眞手","ﾀﾞｲﾄﾞｳ","ﾏﾅﾃ","DAIDO","Manate","07",1,{"$f":"VLOOKUP(B1331*100+C1331,氏名データ!$AC$2:$AJ$401,2,0)","v":"都翔陽"},null,"男",null,60805,"大道","眞手","ﾀﾞｲﾄﾞｳ","ﾏﾅﾃ","DAIDO","Manate","男","07",1]
[60847,6,8,"五十嵐","準","ｲｶﾞﾗｼ","ｼﾞｭﾝ","IGARASHI","Jun","04",3,{"$f":"VLOOKUP(B1332*100+C1332,氏名データ!$AC$2:$AJ$401,2,0)","v":"都翔陽"},null,"男",null,60847,"五十嵐","準","ｲｶﾞﾗｼ","ｼﾞｭﾝ","IGARASHI","Jun","男","04",3]
[60848,6,8,"志村","優太","ｼﾑﾗ","ﾕｳﾀ","SIMURA","Yuta","04",3,{"$f":"VLOOKUP(B1333*100+C1333,氏名データ!$AC$2:$AJ$401,2,0)","v":"都翔陽"},null,"男",null,60848,"志村","優太","ｼﾑﾗ","ﾕｳﾀ","SIMURA","Yuta","男","04",3]
[60849,6,8,"南雲","陸","ﾅｸﾞﾓ","ﾘｸ","NAGUMO","Riku","05",2,{"$f":"VLOOKUP(B1334*100+C1334,氏名データ!$AC$2:$AJ$401,2,0)","v":"都翔陽"},null,"男",null,60849,"南雲","陸","ﾅｸﾞﾓ","ﾘｸ","NAGUMO","Riku","男","05",2]
[60851,6,8,"長谷川","真唯","ﾊｾｶﾞﾜ","ﾏｲ","HASEGAWA","Mai","06",1,{"$f":"VLOOKUP(B1335*100+C1335,氏名データ!$AC$2:$AJ$401,2,0)","v":"都翔陽"},null,"女",null,60851,"長谷川","真唯","ﾊｾｶﾞﾜ","ﾏｲ","HASEGAWA","Mai","女","06",1]
[60866,6,8,"村永","彩衣","ﾑﾗﾅｶﾞ","ｱｲ","MURANAGA","Ai","04",3,{"$f":"VLOOKUP(B1336*100+C1336,氏名データ!$AC$2:$AJ$401,2,0)","v":"都翔陽"},null,"女",null,60866,"村永","彩衣","ﾑﾗﾅｶﾞ","ｱｲ","MURANAGA","Ai","女","04",3]
[60869,6,8,"小阪","芽生","ｺｻｶ","ﾒｲ","KOSAKA","Mei","05",2,{"$f":"VLOOKUP(B1337*100+C1337,氏名データ!$AC$2:$AJ$401,2,0)","v":"都翔陽"},null,"女",null,60869,"小阪","芽生","ｺｻｶ","ﾒｲ","KOSAKA","Mei","女","05",2]
[60870,6,8,"髙橋","杏実","ﾀｶﾊｼ","ｱﾝﾐ","TAKAHASHI","Anmi","05",2,{"$f":"VLOOKUP(B1338*100+C1338,氏名データ!$AC$2:$AJ$401,2,0)","v":"都翔陽"},null,"女",null,60870,"髙橋","杏実","ﾀｶﾊｼ","ｱﾝﾐ","TAKAHASHI","Anmi","女","05",2]
[60871,6,8,"小金澤","風香","ｺｶﾞﾈｻﾞﾜ","ﾌｳｶ","KOGANEZAWA","Fuka","06",2,{"$f":"VLOOKUP(B1339*100+C1339,氏名データ!$AC$2:$AJ$401,2,0)","v":"都翔陽"},null,"女",null,60871,"小金澤","風香","ｺｶﾞﾈｻﾞﾜ","ﾌｳｶ","KOGANEZAWA","Fuka","女","06",2]
[60872,6,8,"曽我","夏実","ｿｶﾞ","ﾅﾂﾐ","SOGA","Natsumi","05",2,{"$f":"VLOOKUP(B1340*100+C1340,氏名データ!$AC$2:$AJ$401,2,0)","v":"都翔陽"},null,"女",null,60872,"曽我","夏実","ｿｶﾞ","ﾅﾂﾐ","SOGA","Natsumi","女","05",2]
[60873,6,8,"高橋","みさき","ﾀｶﾊｼ","ﾐｻｷ","TAKAHASHI","Misaki","05",2,{"$f":"VLOOKUP(B1341*100+C1341,氏名データ!$AC$2:$AJ$401,2,0)","v":"都翔陽"},null,"女",null,60873,"高橋","みさき","ﾀｶﾊｼ","ﾐｻｷ","TAKAHASHI","Misaki","女","05",2]
[60874,6,8,"山下","結依子","ﾔﾏｼﾀ","ﾕｲｺ","YAMASHITA","Yuiko","06",2,{"$f":"VLOOKUP(B1342*100+C1342,氏名データ!$AC$2:$AJ$401,2,0)","v":"都翔陽"},null,"女",null,60874,"山下","結依子","ﾔﾏｼﾀ","ﾕｲｺ","YAMASHITA","Yuiko","女","06",2]
[61001,6,10,"阿部","遥大","ｱﾍﾞ","ﾊﾙﾄ","ABE","Haruto","07",1,{"$f":"VLOOKUP(B1343*100+C1343,氏名データ!$AC$2:$AJ$401,2,0)","v":"都八王子北"},null,"男",null,61001,"阿部","遥大","ｱﾍﾞ","ﾊﾙﾄ","ABE","Haruto","男","07",1]
[61002,6,10,"神来社","奏夢","ｶﾗｲﾄ","ｶﾅﾑ","KARAITO","Kanamu","06",1,{"$f":"VLOOKUP(B1344*100+C1344,氏名データ!$AC$2:$AJ$401,2,0)","v":"都八王子北"},null,"男",null,61002,"神来社","奏夢","ｶﾗｲﾄ","ｶﾅﾑ","KARAITO","Kanamu","男","06",1]
[61003,6,10,"川西","和樹","ｶﾜﾆｼ","ｶｽﾞｷ","KAWANISHI","Kazuki","06",1,{"$f":"VLOOKUP(B1345*100+C1345,氏名データ!$AC$2:$AJ$401,2,0)","v":"都八王子北"},null,"男",null,61003,"川西","和樹","ｶﾜﾆｼ","ｶｽﾞｷ","KAWANISHI","Kazuki","男","06",1]
[61004,6,10,"中西","旅都","ﾅｶﾆｼ","ﾘｮｳﾄ","NAKANISHI","Ryouto","06",1,{"$f":"VLOOKUP(B1346*100+C1346,氏名データ!$AC$2:$AJ$401,2,0)","v":"都八王子北"},null,"男",null,61004,"中西","旅都","ﾅｶﾆｼ","ﾘｮｳﾄ","NAKANISHI","Ryouto","男","06",1]
[{"$f":"P1347","v":61041},{"$f":"ROUNDDOWN(A1347/10000,0)","v":6},{"$f":"ROUNDDOWN((A1347-B1347*10000)/100,0)","v":10},{"$f":"Q1347","v":"伊藤"},{"$f":"R1347","v":"光貴"},{"$f":"S1347","v":"ｲﾄｳ"},{"$f":"T1347","v":"ﾐﾂｷ"},{"$f":"U1347","v":"ITO"},{"$f":"V1347","v":"Mitsuki"},{"$f":"X1347","v":"04"},{"$f":"Y1347","v":3},{"$f":"VLOOKUP(B1347*100+C1347,氏名データ!$AC$2:$AJ$401,2,0)","v":"都八王子北"},null,{"$f":"W1347","v":"男"},null,61041,"伊藤","光貴","ｲﾄｳ","ﾐﾂｷ","ITO","Mitsuki","男","04",3]
[61042,6,10,"上村","友大","ｳｴﾑﾗ","ﾕｳﾀﾞｲ","UEMURA","Yudai","04",3,{"$f":"VLOOKUP(B1348*100+C1348,氏名データ!$AC$2:$AJ$401,2,0)","v":"都八王子北"},null,"男",null,61042,"上村","友大","ｳｴﾑﾗ","ﾕｳﾀﾞｲ","UEMURA","Yudai","男","04",3]
[61043,6,10,"井上","心継","ｲﾉｳｴ","ﾓﾄﾂｸﾞ","INOUE","Mototsugu","06",2,{"$f":"VLOOKUP(B1349*100+C1349,氏名データ!$AC$2:$AJ$401,2,0)","v":"都八王子北"},null,"男",null,61043,"井上","心継","ｲﾉｳｴ","ﾓﾄﾂｸﾞ","INOUE","Mototsugu","男","06",2]
[61044,6,10,"舘","翼","ﾀﾃ","ﾂﾊﾞｻ","TATE","Tsubasa","05",2,{"$f":"VLOOKUP(B1350*100+C1350,氏名データ!$AC$2:$AJ$401,2,0)","v":"都八王子北"},null,"男",null,61044,"舘","翼","ﾀﾃ","ﾂﾊﾞｻ","TATE","Tsubasa","男","05",2]
[61045,6,10,"土橋","亮介","ﾄﾞﾊﾞｼ","ﾘｮｳｽｹ","DOBASHI","Ryosuke","05",2,{"$f":"VLOOKUP(B1351*100+C1351,氏名データ!$AC$2:$AJ$401,2,0)","v":"都八王子北"},null,"男",null,61045,"土橋","亮介","ﾄﾞﾊﾞｼ","ﾘｮｳｽｹ","DOBASHI","Ryosuke","男","05",2]
[61047,6,10,"峯尾","滉希","ﾐﾈｵ","ｺｳｷ","MINEO","Kouki","06",2,{"$f":"VLOOKUP(B1352*100+C1352,氏名データ!$AC$2:$AJ$401,2,0)","v":"都八王子北"},null,"男",null,61047,"峯尾","滉希","ﾐﾈｵ","ｺｳｷ","MINEO","Kouki","男","06",2]
[61048,6,10,"山口","大智","ﾔﾏｸﾞﾁ","ﾀｲﾁ","YAMAGUCHI","Taichi","06",2,{"$f":"VLOOKUP(B1353*100+C1353,氏名データ!$AC$2:$AJ$401,2,0)","v":"都八王子北"},null,"男",null,61048,"山口","大智","ﾔﾏｸﾞﾁ","ﾀｲﾁ","YAMAGUCHI","Taichi","男","06",2]
[61084,6,10,"井上","ひかる","ｲﾉｳｴ","ﾋｶﾙ","INOUE","Hikaru","06",1,{"$f":"VLOOKUP(B1354*100+C1354,氏名データ!$AC$2:$AJ$401,2,0)","v":"都八王子北"},null,"女",null,61084,"井上","ひかる","ｲﾉｳｴ","ﾋｶﾙ","INOUE","Hikaru","女","06",1]
[61110,6,11,"齋藤","翔真","ｻｲﾄｳ","ｼｮｳﾏ","SAITOU","Shouma","05",2,{"$f":"VLOOKUP(B1355*100+C1355,氏名データ!$AC$2:$AJ$401,2,0)","v":"都八王子桑志"},null,"男",null,61110,"齋藤","翔真","ｻｲﾄｳ","ｼｮｳﾏ","SAITOU","Shouma","男","05",2]
[61111,6,11,"豊岡","潤也","ﾄﾖｵｶ","ｼﾞｭﾝﾔ","TOYOKA","Junya","05",2,{"$f":"VLOOKUP(B1356*100+C1356,氏名データ!$AC$2:$AJ$401,2,0)","v":"都八王子桑志"},null,"男",null,61111,"豊岡","潤也","ﾄﾖｵｶ","ｼﾞｭﾝﾔ","TOYOKA","Junya","男","05",2]
[61128,6,11,"渡邉","晴季","ﾜﾀﾅﾍﾞ","ﾊﾙｷ","WATANABE","Haruki","04",3,{"$f":"VLOOKUP(B1357*100+C1357,氏名データ!$AC$2:$AJ$401,2,0)","v":"都八王子桑志"},null,"男",null,61128,"渡邉","晴季","ﾜﾀﾅﾍﾞ","ﾊﾙｷ","WATANABE","Haruki","男","04",3]
[61129,6,11,"牛久","龍斗","ｳｼｸ","ﾘｭｳﾄ","USHIKU","Ryuto","04",3,{"$f":"VLOOKUP(B1358*100+C1358,氏名データ!$AC$2:$AJ$401,2,0)","v":"都八王子桑志"},null,"男",null,61129,"牛久","龍斗","ｳｼｸ","ﾘｭｳﾄ","USHIKU","Ryuto","男","04",3]
[61301,6,13,"伊藤","瑛太郎","ｲﾄｳ","ｴｲﾀﾛｳ","ITO","Eitarou","06",1,{"$f":"VLOOKUP(B1359*100+C1359,氏名データ!$AC$2:$AJ$401,2,0)","v":"都八王子東"},null,"男",null,61301,"伊藤","瑛太郎","ｲﾄｳ","ｴｲﾀﾛｳ","ITO","Eitarou","男","06",1]
[61302,6,13,"舟橋","幸希","ﾌﾅﾊﾞｼ","ｺｳｷ","FUNABASHI","Koki","06",1,{"$f":"VLOOKUP(B1360*100+C1360,氏名データ!$AC$2:$AJ$401,2,0)","v":"都八王子東"},null,"男",null,61302,"舟橋","幸希","ﾌﾅﾊﾞｼ","ｺｳｷ","FUNABASHI","Koki","男","06",1]
[61303,6,13,"太刀川","瑠","ﾀﾁｶﾜ","ﾙｲ","TACHIKAWA","Rui","06",1,{"$f":"VLOOKUP(B1361*100+C1361,氏名データ!$AC$2:$AJ$401,2,0)","v":"都八王子東"},null,"男",null,61303,"太刀川","瑠","ﾀﾁｶﾜ","ﾙｲ","TACHIKAWA","Rui","男","06",1]
[61304,6,13,"清水","頌太","ｼﾐｽﾞ","ｼｮｳﾀ","SHIMIZU","Shouta","07",1,{"$f":"VLOOKUP(B1362*100+C1362,氏名データ!$AC$2:$AJ$401,2,0)","v":"都八王子東"},null,"男",null,61304,"清水","頌太","ｼﾐｽﾞ","ｼｮｳﾀ","SHIMIZU","Shouta","男","07",1]
[61305,6,13,"淺沼","功達","ｱｻﾇﾏ","ｺｳﾀﾂ","ASANUMA","Koutatsu","06",1,{"$f":"VLOOKUP(B1363*100+C1363,氏名データ!$AC$2:$AJ$401,2,0)","v":"都八王子東"},null,"男",null,61305,"淺沼","功達","ｱｻﾇﾏ","ｺｳﾀﾂ","ASANUMA","Koutatsu","男","06",1]
[61306,6,13,"森田","涼平","ﾓﾘﾀ","ﾘｮｳﾍｲ","MORITA","Ryohei","06",1,{"$f":"VLOOKUP(B1364*100+C1364,氏名データ!$AC$2:$AJ$401,2,0)","v":"都八王子東"},null,"男",null,61306,"森田","涼平","ﾓﾘﾀ","ﾘｮｳﾍｲ","MORITA","Ryohei","男","06",1]
[61307,6,13,"吉松","大燿","ﾖｼﾏﾂ","ﾀｲﾖｳ","YOSHIMATSU","Taiyo","07",1,{"$f":"VLOOKUP(B1365*100+C1365,氏名データ!$AC$2:$AJ$401,2,0)","v":"都八王子東"},null,"男",null,61307,"吉松","大燿","ﾖｼﾏﾂ","ﾀｲﾖｳ","YOSHIMATSU","Taiyo","男","07",1]
[61308,6,13,"柿島","颯太","ｶｷｼﾏ","ｿｳﾀ","KAKISHIMA","Sota","06",1,{"$f":"VLOOKUP(B1366*100+C1366,氏名データ!$AC$2:$AJ$401,2,0)","v":"都八王子東"},null,"男",null,61308,"柿島","颯太","ｶｷｼﾏ","ｿｳﾀ","KAKISHIMA","Sota","男","06",1]
[61309,6,13,"栁瀨","結貴","ﾔﾅｾ","ﾕｳｷ","YANASE","Yuki","06",1,{"$f":"VLOOKUP(B1367*100+C1367,氏名データ!$AC$2:$AJ$401,2,0)","v":"都八王子東"},null,"男",null,61309,"栁瀨","結貴","ﾔﾅｾ","ﾕｳｷ","YANASE","Yuki","男","06",1]
[61310,6,13,"髙野","隼大","ﾀｶﾉ","ｼｭﾝﾀ","TAKANO","Shunta","05",2,{"$f":"VLOOKUP(B1368*100+C1368,氏名データ!$AC$2:$AJ$401,2,0)","v":"都八王子東"},null,"男",null,61310,"髙野","隼大","ﾀｶﾉ","ｼｭﾝﾀ","TAKANO","Shunta","男","05",2]
[61311,6,13,"安藤","壮汰","ｱﾝﾄﾞｳ","ｿｳﾀ","ANDOU","Souta","05",2,{"$f":"VLOOKUP(B1369*100+C1369,氏名データ!$AC$2:$AJ$401,2,0)","v":"都八王子東"},null,"男",null,61311,"安藤","壮汰","ｱﾝﾄﾞｳ","ｿｳﾀ","ANDOU","Souta","男","05",2]
[61312,6,13,"齊田","誠","ｻｲﾀﾞ","ﾏｺﾄ","SAIDA","Makoto","06",2,{"$f":"VLOOKUP(B1370*100+C1370,氏名データ!$AC$2:$AJ$401,2,0)","v":"都八王子東"},null,"男",null,61312,"齊田","誠","ｻｲﾀﾞ","ﾏｺﾄ","SAIDA","Makoto","男","06",2]
[61313,6,13,"髙橋","孔明","ﾀｶﾊｼ","ｺｳﾒｲ","TAKAHASHI","Komei","05",2,{"$f":"VLOOKUP(B1371*100+C1371,氏名データ!$AC$2:$AJ$401,2,0)","v":"都八王子東"},null,"男",null,61313,"髙橋","孔明","ﾀｶﾊｼ","ｺｳﾒｲ","TAKAHASHI","Komei","男","05",2]
[61314,6,13,"竹内","滉","ﾀｹｳﾁ","ｺｳ","TAKEUCHI","Koh","06",2,{"$f":"VLOOKUP(B1372*100+C1372,氏名データ!$AC$2:$AJ$401,2,0)","v":"都八王子東"},null,"男",null,61314,"竹内","滉","ﾀｹｳﾁ","ｺｳ","TAKEUCHI","Koh","男","06",2]
[61315,6,13,"田中","孔明","ﾀﾅｶ","ｺｳﾒｲ","TANAKA","Koumei","05",2,{"$f":"VLOOKUP(B1373*100+C1373,氏名データ!$AC$2:$AJ$401,2,0)","v":"都八王子東"},null,"男",null,61315,"田中","孔明","ﾀﾅｶ","ｺｳﾒｲ","TANAKA","Koumei","男","05",2]
[61316,6,13,"出島","大資","ﾃﾞｼﾞﾏ","ﾀﾞｲｽｹ","DEJIMA","Daisuke","05",2,{"$f":"VLOOKUP(B1374*100+C1374,氏名データ!$AC$2:$AJ$401,2,0)","v":"都八王子東"},null,"男",null,61316,"出島","大資","ﾃﾞｼﾞﾏ","ﾀﾞｲｽｹ","DEJIMA","Daisuke","男","05",2]
[61317,6,13,"松本","敢汰","ﾏﾂﾓﾄ","ｶﾝﾀ","MATSUMOTO","Kanta","06",2,{"$f":"VLOOKUP(B1375*100+C1375,氏名データ!$AC$2:$AJ$401,2,0)","v":"都八王子東"},null,"男",null,61317,"松本","敢汰","ﾏﾂﾓﾄ","ｶﾝﾀ","MATSUMOTO","Kanta","男","06",2]
[61318,6,13,"和田","煌輝","ﾜﾀﾞ","ｺｳｷ","WADA","Koki","05",2,{"$f":"VLOOKUP(B1376*100+C1376,氏名データ!$AC$2:$AJ$401,2,0)","v":"都八王子東"},null,"男",null,61318,"和田","煌輝","ﾜﾀﾞ","ｺｳｷ","WADA","Koki","男","05",2]
[61319,6,13,"加藤","照葉","ｶﾄｳ","ﾃﾙﾊ","KATO","Teruha","06",2,{"$f":"VLOOKUP(B1377*100+C1377,氏名データ!$AC$2:$AJ$401,2,0)","v":"都八王子東"},null,"男",null,61319,"加藤","照葉","ｶﾄｳ","ﾃﾙﾊ","KATO","Teruha","男","06",2]
[61320,6,13,"砂川","友志","ｲｻｶﾞﾜ","ﾄﾓｼ","ISAGAWA","Tomoshi","05",3,{"$f":"VLOOKUP(B1378*100+C1378,氏名データ!$AC$2:$AJ$401,2,0)","v":"都八王子東"},null,"男",null,61320,"砂川","友志","ｲｻｶﾞﾜ","ﾄﾓｼ","ISAGAWA","Tomoshi","男","05",3]
[61321,6,13,"小倉","直途","ｵｸﾞﾗ","ﾅｵﾄ","OGURA","Naoto","04",3,{"$f":"VLOOKUP(B1379*100+C1379,氏名データ!$AC$2:$AJ$401,2,0)","v":"都八王子東"},null,"男",null,61321,"小倉","直途","ｵｸﾞﾗ","ﾅｵﾄ","OGURA","Naoto","男","04",3]
[61330,6,13,"市川","明雄","ｲﾁｶﾜ","ｱｷｵ","ICHIKAWA","Akio","05",2,{"$f":"VLOOKUP(B1380*100+C1380,氏名データ!$AC$2:$AJ$401,2,0)","v":"都八王子東"},null,"男",null,61330,"市川","明雄","ｲﾁｶﾜ","ｱｷｵ","ICHIKAWA","Akio","男","05",2]
[61338,6,13,"菊池","隆仁","ｷｸﾁ","ﾘｭｳﾄ","KIKUCHI","Ryuto","06",1,{"$f":"VLOOKUP(B1381*100+C1381,氏名データ!$AC$2:$AJ$401,2,0)","v":"都八王子東"},null,"男",null,61338,"菊池","隆仁","ｷｸﾁ","ﾘｭｳﾄ","KIKUCHI","Ryuto","男","06",1]
[61339,6,13,"原","康太","ﾊﾗ","ｺｳﾀ","HARA","Kouta","06",1,{"$f":"VLOOKUP(B1382*100+C1382,氏名データ!$AC$2:$AJ$401,2,0)","v":"都八王子東"},null,"男",null,61339,"原","康太","ﾊﾗ","ｺｳﾀ","HARA","Kouta","男","06",1]
[61340,6,13,"東","柊佑","ｱｽﾞﾏ","ｼｭｳ","AZUMA","Shu","04",3,{"$f":"VLOOKUP(B1383*100+C1383,氏名データ!$AC$2:$AJ$401,2,0)","v":"都八王子東"},null,"男",null,61340,"東","柊佑","ｱｽﾞﾏ","ｼｭｳ","AZUMA","Shu","男","04",3]
[61341,6,13,"八波","夏毅","ﾔﾂﾅﾐ","ﾅﾂｷ","YATSUNAMI","Natsuki","04",3,{"$f":"VLOOKUP(B1384*100+C1384,氏名データ!$AC$2:$AJ$401,2,0)","v":"都八王子東"},null,"男",null,61341,"八波","夏毅","ﾔﾂﾅﾐ","ﾅﾂｷ","YATSUNAMI","Natsuki","男","04",3]
[61342,6,13,"渡邊","悠希","ﾜﾀﾅﾍﾞ","ﾊﾙｷ","WATANABE","Haruki","04",3,{"$f":"VLOOKUP(B1385*100+C1385,氏名データ!$AC$2:$AJ$401,2,0)","v":"都八王子東"},null,"男",null,61342,"渡邊","悠希","ﾜﾀﾅﾍﾞ","ﾊﾙｷ","WATANABE","Haruki","男","04",3]
[61343,6,13,"井上","耕太","ｲﾉｳｴ","ｺｳﾀ","INOUE","Kota","04",3,{"$f":"VLOOKUP(B1386*100+C1386,氏名データ!$AC$2:$AJ$401,2,0)","v":"都八王子東"},null,"男",null,61343,"井上","耕太","ｲﾉｳｴ","ｺｳﾀ","INOUE","Kota","男","04",3]
[61344,6,13,"大塚","登人","ｵｵﾂｶ","ﾄｳﾄ","OTSUKA","Toto","04",3,{"$f":"VLOOKUP(B1387*100+C1387,氏名データ!$AC$2:$AJ$401,2,0)","v":"都八王子東"},null,"男",null,61344,"大塚","登人","ｵｵﾂｶ","ﾄｳﾄ","OTSUKA","Toto","男","04",3]
[61345,6,13,"苗村","諒","ﾅｴﾑﾗ","ﾘｮｳ","NAEMURA","Ryo","05",3,{"$f":"VLOOKUP(B1388*100+C1388,氏名データ!$AC$2:$AJ$401,2,0)","v":"都八王子東"},null,"男",null,61345,"苗村","諒","ﾅｴﾑﾗ","ﾘｮｳ","NAEMURA","Ryo","男","05",3]
[61346,6,13,"柴田","耕佑","ｼﾊﾞﾀ","ｺｳｽｹ","SHIBATA","Kosuke","05",3,{"$f":"VLOOKUP(B1389*100+C1389,氏名データ!$AC$2:$AJ$401,2,0)","v":"都八王子東"},null,"男",null,61346,"柴田","耕佑","ｼﾊﾞﾀ","ｺｳｽｹ","SHIBATA","Kosuke","男","05",3]
[61347,6,13,"佐々木","達広","ｻｻｷ","ﾀﾂﾋﾛ","SASAKI","Tatsuhiro","04",3,{"$f":"VLOOKUP(B1390*100+C1390,氏名データ!$AC$2:$AJ$401,2,0)","v":"都八王子東"},null,"男",null,61347,"佐々木","達広","ｻｻｷ","ﾀﾂﾋﾛ","SASAKI","Tatsuhiro","男","04",3]
[61348,6,13,"野見山","蒼太","ﾉﾐﾔﾏ","ｿｳﾀ","NOMIYAMA","Sota","04",3,{"$f":"VLOOKUP(B1391*100+C1391,氏名データ!$AC$2:$AJ$401,2,0)","v":"都八王子東"},null,"男",null,61348,"野見山","蒼太","ﾉﾐﾔﾏ","ｿｳﾀ","NOMIYAMA","Sota","男","04",3]
[61349,6,13,"本田","温大","ﾎﾝﾀﾞ","ｱﾂﾋﾛ","HONDA","Atsuhiro","04",3,{"$f":"VLOOKUP(B1392*100+C1392,氏名データ!$AC$2:$AJ$401,2,0)","v":"都八王子東"},null,"男",null,61349,"本田","温大","ﾎﾝﾀﾞ","ｱﾂﾋﾛ","HONDA","Atsuhiro","男","04",3]
[61351,6,13,"飯田","琴美","ｲｲﾀﾞ","ｺﾄﾐ","IIDA","Kotomi","05",2,{"$f":"VLOOKUP(B1393*100+C1393,氏名データ!$AC$2:$AJ$401,2,0)","v":"都八王子東"},null,"女",null,61351,"飯田","琴美","ｲｲﾀﾞ","ｺﾄﾐ","IIDA","Kotomi","女","05",2]
[61352,6,13,"佐々木","千紘","ｻｻｷ","ﾁﾋﾛ","SASAKI","Chihiro","05",2,{"$f":"VLOOKUP(B1394*100+C1394,氏名データ!$AC$2:$AJ$401,2,0)","v":"都八王子東"},null,"女",null,61352,"佐々木","千紘","ｻｻｷ","ﾁﾋﾛ","SASAKI","Chihiro","女","05",2]
[61353,6,13,"大坪","ゆい","ｵｵﾂﾎﾞ","ﾕｲ","OTSUBO","Yui","05",2,{"$f":"VLOOKUP(B1395*100+C1395,氏名データ!$AC$2:$AJ$401,2,0)","v":"都八王子東"},null,"女",null,61353,"大坪","ゆい","ｵｵﾂﾎﾞ","ﾕｲ","OTSUBO","Yui","女","05",2]
[61355,6,13,"大畑","晴菜","ｵｵﾊﾀ","ﾊﾙﾅ","OOHATA","Haruna","06",1,{"$f":"VLOOKUP(B1396*100+C1396,氏名データ!$AC$2:$AJ$401,2,0)","v":"都八王子東"},null,"女",null,61355,"大畑","晴菜","ｵｵﾊﾀ","ﾊﾙﾅ","OOHATA","Haruna","女","06",1]
[61356,6,13,"竹内","香穏","ﾀｹｳﾁ","ｶﾉﾝ","TAKEUCHI","Kanon","07",1,{"$f":"VLOOKUP(B1397*100+C1397,氏名データ!$AC$2:$AJ$401,2,0)","v":"都八王子東"},null,"女",null,61356,"竹内","香穏","ﾀｹｳﾁ","ｶﾉﾝ","TAKEUCHI","Kanon","女","07",1]
[61381,6,13,"増子","恵里花","ﾏｼｺ","ｴﾘｶ","MASHIKO","Erika","04",3,{"$f":"VLOOKUP(B1398*100+C1398,氏名データ!$AC$2:$AJ$401,2,0)","v":"都八王子東"},null,"女",null,61381,"増子","恵里花","ﾏｼｺ","ｴﾘｶ","MASHIKO","Erika","女","04",3]
[61410,6,14,"渥美","陽斗","ｱﾂﾐ","ﾊﾙﾄ","ATSUMI","Haruto","04",3,{"$f":"VLOOKUP(B1399*100+C1399,氏名データ!$AC$2:$AJ$401,2,0)","v":"都富士森"},null,"男",null,61410,"渥美","陽斗","ｱﾂﾐ","ﾊﾙﾄ","ATSUMI","Haruto","男","04",3]
[61411,6,14,"岡田","希望","ｵｶﾀﾞ","ﾉｿﾞﾐ","OKADA","Nozomi","04",3,{"$f":"VLOOKUP(B1400*100+C1400,氏名データ!$AC$2:$AJ$401,2,0)","v":"都富士森"},null,"男",null,61411,"岡田","希望","ｵｶﾀﾞ","ﾉｿﾞﾐ","OKADA","Nozomi","男","04",3]
[61412,6,14,"小林","直路","ｺﾊﾞﾔｼ","ﾅｵﾐﾁ","KOBAYASHI","Naomichi","04",3,{"$f":"VLOOKUP(B1401*100+C1401,氏名データ!$AC$2:$AJ$401,2,0)","v":"都富士森"},null,"男",null,61412,"小林","直路","ｺﾊﾞﾔｼ","ﾅｵﾐﾁ","KOBAYASHI","Naomichi","男","04",3]
[61413,6,14,"柴田","航佑","ｼﾊﾞﾀ","ｺｳｽｹ","SHIBATA","Kousuke","04",3,{"$f":"VLOOKUP(B1402*100+C1402,氏名データ!$AC$2:$AJ$401,2,0)","v":"都富士森"},null,"男",null,61413,"柴田","航佑","ｼﾊﾞﾀ","ｺｳｽｹ","SHIBATA","Kousuke","男","04",3]
[61414,6,14,"鈴木","清之助","ｽｽﾞｷ","ｼﾝﾉｽｹ","SUZUKI","Shinnosuke","04",3,{"$f":"VLOOKUP(B1403*100+C1403,氏名データ!$AC$2:$AJ$401,2,0)","v":"都富士森"},null,"男",null,61414,"鈴木","清之助","ｽｽﾞｷ","ｼﾝﾉｽｹ","SUZUKI","Shinnosuke","男","04",3]
[61415,6,14,"田代","陽太","ﾀｼﾛ","ﾋﾅﾀ","TASHIRO","Hinata","04",3,{"$f":"VLOOKUP(B1404*100+C1404,氏名データ!$AC$2:$AJ$401,2,0)","v":"都富士森"},null,"男",null,61415,"田代","陽太","ﾀｼﾛ","ﾋﾅﾀ","TASHIRO","Hinata","男","04",3]
[61416,6,14,"津野","稜翔","ﾂﾉ","ﾘｮｳﾄ","TSUNO","Ryoto","05",3,{"$f":"VLOOKUP(B1405*100+C1405,氏名データ!$AC$2:$AJ$401,2,0)","v":"都富士森"},null,"男",null,61416,"津野","稜翔","ﾂﾉ","ﾘｮｳﾄ","TSUNO","Ryoto","男","05",3]
[61417,6,14,"ナディア","ジョイ海藍人","ﾅﾃﾞｨｱ","ｼﾞｮｲﾐﾗﾝﾄﾞ","NADEAK","Joymilando","05",3,{"$f":"VLOOKUP(B1406*100+C1406,氏名データ!$AC$2:$AJ$401,2,0)","v":"都富士森"},null,"男",null,61417,"ナディア","ジョイ海藍人","ﾅﾃﾞｨｱ","ｼﾞｮｲﾐﾗﾝﾄﾞ","NADEAK","Joymilando","男","05",3]
[61418,6,14,"前田","隼","ﾏｴﾀﾞ","ﾊﾔﾄ","MAEDA","Hayato","04",3,{"$f":"VLOOKUP(B1407*100+C1407,氏名データ!$AC$2:$AJ$401,2,0)","v":"都富士森"},null,"男",null,61418,"前田","隼","ﾏｴﾀﾞ","ﾊﾔﾄ","MAEDA","Hayato","男","04",3]
[61421,6,14,"山田","逢介","ﾔﾏﾀﾞ","ｵｳｽｹ","YAMADA","Ousuke","04",3,{"$f":"VLOOKUP(B1408*100+C1408,氏名データ!$AC$2:$AJ$401,2,0)","v":"都富士森"},null,"男",null,61421,"山田","逢介","ﾔﾏﾀﾞ","ｵｳｽｹ","YAMADA","Ousuke","男","04",3]
[61422,6,14,"田代","漣","ﾀｼﾛ","ﾚﾝ","TASHIRO","Ren","05",2,{"$f":"VLOOKUP(B1409*100+C1409,氏名データ!$AC$2:$AJ$401,2,0)","v":"都富士森"},null,"男",null,61422,"田代","漣","ﾀｼﾛ","ﾚﾝ","TASHIRO","Ren","男","05",2]
[61423,6,14,"勝本","悠友","ｶﾂﾓﾄ","ﾕｳﾄ","KATUMOTO","Yuuto","06",2,{"$f":"VLOOKUP(B1410*100+C1410,氏名データ!$AC$2:$AJ$401,2,0)","v":"都富士森"},null,"男",null,61423,"勝本","悠友","ｶﾂﾓﾄ","ﾕｳﾄ","KATUMOTO","Yuuto","男","06",2]
[{"$f":"P1411","v":61424},{"$f":"ROUNDDOWN(A1411/10000,0)","v":6},{"$f":"ROUNDDOWN((A1411-B1411*10000)/100,0)","v":14},{"$f":"Q1411","v":"町田"},{"$f":"R1411","v":"那由多"},{"$f":"S1411","v":"ﾏﾁﾀﾞ"},{"$f":"T1411","v":"ﾅﾕﾀ"},{"$f":"U1411","v":"MACHIDA"},{"$f":"V1411","v":"Nayuta"},{"$f":"X1411","v":"05"},{"$f":"Y1411","v":2},{"$f":"VLOOKUP(B1411*100+C1411,氏名データ!$AC$2:$AJ$401,2,0)","v":"都富士森"},null,{"$f":"W1411","v":"男"},null,61424,"町田","那由多","ﾏﾁﾀﾞ","ﾅﾕﾀ","MACHIDA","Nayuta","男","05",2]
[61425,6,14,"松倉","輝","ﾏﾂｸﾗ","ﾋｶﾙ","MATSUKURA","Hikaru","05",2,{"$f":"VLOOKUP(B1412*100+C1412,氏名データ!$AC$2:$AJ$401,2,0)","v":"都富士森"},null,"男",null,61425,"松倉","輝","ﾏﾂｸﾗ","ﾋｶﾙ","MATSUKURA","Hikaru","男","05",2]
[61426,6,14,"若林","寛人","ﾜｶﾊﾞﾔｼ","ﾋﾛﾄ","WAKABAYASI","Hiroto","05",2,{"$f":"VLOOKUP(B1413*100+C1413,氏名データ!$AC$2:$AJ$401,2,0)","v":"都富士森"},null,"男",null,61426,"若林","寛人","ﾜｶﾊﾞﾔｼ","ﾋﾛﾄ","WAKABAYASI","Hiroto","男","05",2]
[61430,6,14,"大塚","陸斗","ｵｵﾂｶ","ﾘｸﾄ","OTSUKA","Rikuto","06",1,{"$f":"VLOOKUP(B1414*100+C1414,氏名データ!$AC$2:$AJ$401,2,0)","v":"都富士森"},null,"男",null,61430,"大塚","陸斗","ｵｵﾂｶ","ﾘｸﾄ","OTSUKA","Rikuto","男","06",1]
[61431,6,14,"神田","優朔","ｶﾝﾀﾞ","ﾕｳｻｸ","KANDA","Yusaku","06",1,{"$f":"VLOOKUP(B1415*100+C1415,氏名データ!$AC$2:$AJ$401,2,0)","v":"都富士森"},null,"男",null,61431,"神田","優朔","ｶﾝﾀﾞ","ﾕｳｻｸ","KANDA","Yusaku","男","06",1]
[61432,6,14,"倉沢","湧里","ｸﾗｻﾜ","ﾕｳﾘ","KURASAWA","Yuuri","06",1,{"$f":"VLOOKUP(B1416*100+C1416,氏名データ!$AC$2:$AJ$401,2,0)","v":"都富士森"},null,"男",null,61432,"倉沢","湧里","ｸﾗｻﾜ","ﾕｳﾘ","KURASAWA","Yuuri","男","06",1]
[61433,6,14,"齋藤","瑠輝亜","ｻｲﾄｳ","ﾙｷｱ","SAITO","Rukia","06",1,{"$f":"VLOOKUP(B1417*100+C1417,氏名データ!$AC$2:$AJ$401,2,0)","v":"都富士森"},null,"男",null,61433,"齋藤","瑠輝亜","ｻｲﾄｳ","ﾙｷｱ","SAITO","Rukia","男","06",1]
[61434,6,14,"田中","裕介","ﾀﾅｶ","ﾕｳｽｹ","TANAKA","Yusuke","07",1,{"$f":"VLOOKUP(B1418*100+C1418,氏名データ!$AC$2:$AJ$401,2,0)","v":"都富士森"},null,"男",null,61434,"田中","裕介","ﾀﾅｶ","ﾕｳｽｹ","TANAKA","Yusuke","男","07",1]
[61435,6,14,"渡邉","晃平","ﾜﾀﾅﾍﾞ","ｺｳﾍｲ","WATANABE","Kohei","06",1,{"$f":"VLOOKUP(B1419*100+C1419,氏名データ!$AC$2:$AJ$401,2,0)","v":"都富士森"},null,"男",null,61435,"渡邉","晃平","ﾜﾀﾅﾍﾞ","ｺｳﾍｲ","WATANABE","Kohei","男","06",1]
[61451,6,14,"古谷野","楓","ｺﾔﾉ","ｶｴﾃﾞ","KOYANO","Kaede","04",3,{"$f":"VLOOKUP(B1420*100+C1420,氏名データ!$AC$2:$AJ$401,2,0)","v":"都富士森"},null,"女",null,61451,"古谷野","楓","ｺﾔﾉ","ｶｴﾃﾞ","KOYANO","Kaede","女","04",3]
[61452,6,14,"篠木","彩乃","ｼﾉｷ","ｱﾔﾉ","SHINOKI","Ayano","04",3,{"$f":"VLOOKUP(B1421*100+C1421,氏名データ!$AC$2:$AJ$401,2,0)","v":"都富士森"},null,"女",null,61452,"篠木","彩乃","ｼﾉｷ","ｱﾔﾉ","SHINOKI","Ayano","女","04",3]
[61460,6,14,"小俣","朋花","ｵﾏﾀ","ﾄﾓｶ","OMATA","Tomoka","06",1,{"$f":"VLOOKUP(B1422*100+C1422,氏名データ!$AC$2:$AJ$401,2,0)","v":"都富士森"},null,"女",null,61460,"小俣","朋花","ｵﾏﾀ","ﾄﾓｶ","OMATA","Tomoka","女","06",1]
[61461,6,14,"伊藤","優花","ｲﾄｳ","ﾕｳｶ","ITO","Yuuka","06",1,{"$f":"VLOOKUP(B1423*100+C1423,氏名データ!$AC$2:$AJ$401,2,0)","v":"都富士森"},null,"女",null,61461,"伊藤","優花","ｲﾄｳ","ﾕｳｶ","ITO","Yuuka","女","06",1]
[61462,6,14,"松村","優季歩","ﾏﾂﾑﾗ","ﾕｷﾎ","MATSUMURA","Yukiho","07",1,{"$f":"VLOOKUP(B1424*100+C1424,氏名データ!$AC$2:$AJ$401,2,0)","v":"都富士森"},null,"女",null,61462,"松村","優季歩","ﾏﾂﾑﾗ","ﾕｷﾎ","MATSUMURA","Yukiho","女","07",1]
[61506,6,15,"松岡","涼介","ﾏﾂｵｶ","ﾘｮｳｽｹ","MATSOKA","Ryosuke","04",3,{"$f":"VLOOKUP(B1425*100+C1425,氏名データ!$AC$2:$AJ$401,2,0)","v":"都松が谷"},null,"男",null,61506,"松岡","涼介","ﾏﾂｵｶ","ﾘｮｳｽｹ","MATSOKA","Ryosuke","男","04",3]
[61507,6,15,"森田","龍生","ﾓﾘﾀ","ﾘｭｳｾｲ","MORITA","Ryusei","04",3,{"$f":"VLOOKUP(B1426*100+C1426,氏名データ!$AC$2:$AJ$401,2,0)","v":"都松が谷"},null,"男",null,61507,"森田","龍生","ﾓﾘﾀ","ﾘｭｳｾｲ","MORITA","Ryusei","男","04",3]
[61508,6,15,"井上","数基","ｲﾉｳｴ","ｶｽﾞｷ","INOUE","Kazuki","04",3,{"$f":"VLOOKUP(B1427*100+C1427,氏名データ!$AC$2:$AJ$401,2,0)","v":"都松が谷"},null,"男",null,61508,"井上","数基","ｲﾉｳｴ","ｶｽﾞｷ","INOUE","Kazuki","男","04",3]
[61509,6,15,"小坂","凌央","ｺｻｶ","ﾘｵ","KOSAKA","Rio","05",3,{"$f":"VLOOKUP(B1428*100+C1428,氏名データ!$AC$2:$AJ$401,2,0)","v":"都松が谷"},null,"男",null,61509,"小坂","凌央","ｺｻｶ","ﾘｵ","KOSAKA","Rio","男","05",3]
[61511,6,15,"肥田","祐紀","ﾋﾀﾞ","ﾕｳｷ","HIDA","Yuki","04",3,{"$f":"VLOOKUP(B1429*100+C1429,氏名データ!$AC$2:$AJ$401,2,0)","v":"都松が谷"},null,"男",null,61511,"肥田","祐紀","ﾋﾀﾞ","ﾕｳｷ","HIDA","Yuki","男","04",3]
[61512,6,15,"阿部","浩輝","ｱﾍﾞ","ﾊﾙｷ","ABE","Haruki","04",3,{"$f":"VLOOKUP(B1430*100+C1430,氏名データ!$AC$2:$AJ$401,2,0)","v":"都松が谷"},null,"男",null,61512,"阿部","浩輝","ｱﾍﾞ","ﾊﾙｷ","ABE","Haruki","男","04",3]
[61513,6,15,"木村","広志","ｷﾑﾗ","ﾋﾛｼ","KIMURA","Hiroshi","04",3,{"$f":"VLOOKUP(B1431*100+C1431,氏名データ!$AC$2:$AJ$401,2,0)","v":"都松が谷"},null,"男",null,61513,"木村","広志","ｷﾑﾗ","ﾋﾛｼ","KIMURA","Hiroshi","男","04",3]
[61514,6,15,"築島","拓麻","ﾂｷｼﾏ","ﾀｸﾏ","TSUKISHIMA","Takuma","04",3,{"$f":"VLOOKUP(B1432*100+C1432,氏名データ!$AC$2:$AJ$401,2,0)","v":"都松が谷"},null,"男",null,61514,"築島","拓麻","ﾂｷｼﾏ","ﾀｸﾏ","TSUKISHIMA","Takuma","男","04",3]
[61517,6,15,"森","巧也","ﾓﾘ","ｺｳﾔ","MORI","Koya","04",3,{"$f":"VLOOKUP(B1433*100+C1433,氏名データ!$AC$2:$AJ$401,2,0)","v":"都松が谷"},null,"男",null,61517,"森","巧也","ﾓﾘ","ｺｳﾔ","MORI","Koya","男","04",3]
[61520,6,15,"古山","璃空","ﾌﾙﾔﾏ","ﾘｸ","FURUYAMA","Riku","06",2,{"$f":"VLOOKUP(B1434*100+C1434,氏名データ!$AC$2:$AJ$401,2,0)","v":"都松が谷"},null,"男",null,61520,"古山","璃空","ﾌﾙﾔﾏ","ﾘｸ","FURUYAMA","Riku","男","06",2]
[61521,6,15,"小林","勇裕","ｺﾊﾞﾔｼ","ﾀｹﾋﾛ","KOBAYASHI","Takehiro","05",2,{"$f":"VLOOKUP(B1435*100+C1435,氏名データ!$AC$2:$AJ$401,2,0)","v":"都松が谷"},null,"男",null,61521,"小林","勇裕","ｺﾊﾞﾔｼ","ﾀｹﾋﾛ","KOBAYASHI","Takehiro","男","05",2]
[61522,6,15,"藤原","秀旭","ﾌｼﾞﾜﾗ","ﾋﾃﾞｱｷ","FUJIWARA","Hideaki","05",2,{"$f":"VLOOKUP(B1436*100+C1436,氏名データ!$AC$2:$AJ$401,2,0)","v":"都松が谷"},null,"男",null,61522,"藤原","秀旭","ﾌｼﾞﾜﾗ","ﾋﾃﾞｱｷ","FUJIWARA","Hideaki","男","05",2]
[61523,6,15,"國本","晴哉","ｸﾆﾓﾄ","ﾊﾙﾔ","KUNIMOTO","Haruya","05",2,{"$f":"VLOOKUP(B1437*100+C1437,氏名データ!$AC$2:$AJ$401,2,0)","v":"都松が谷"},null,"男",null,61523,"國本","晴哉","ｸﾆﾓﾄ","ﾊﾙﾔ","KUNIMOTO","Haruya","男","05",2]
[61524,6,15,"二見","諒","ﾌﾀﾐ","ﾘｮｳ","FUTAMI","Ryo","06",2,{"$f":"VLOOKUP(B1438*100+C1438,氏名データ!$AC$2:$AJ$401,2,0)","v":"都松が谷"},null,"男",null,61524,"二見","諒","ﾌﾀﾐ","ﾘｮｳ","FUTAMI","Ryo","男","06",2]
[61525,6,15,"角井","菜種","ﾂﾉｲ","ﾅﾀﾈ","TSUNOI","Natane","06",2,{"$f":"VLOOKUP(B1439*100+C1439,氏名データ!$AC$2:$AJ$401,2,0)","v":"都松が谷"},null,"男",null,61525,"角井","菜種","ﾂﾉｲ","ﾅﾀﾈ","TSUNOI","Natane","男","06",2]
[61526,6,15,"上杉","奏斗","ｳｴｽｷﾞ","ｶﾅﾄ","UESUGI","Kanato","05",2,{"$f":"VLOOKUP(B1440*100+C1440,氏名データ!$AC$2:$AJ$401,2,0)","v":"都松が谷"},null,"男",null,61526,"上杉","奏斗","ｳｴｽｷﾞ","ｶﾅﾄ","UESUGI","Kanato","男","05",2]
[61527,6,15,"齋藤","玄樹","ｻｲﾄｳ","ｹﾞﾝｷ","SAITO","Genki","05",2,{"$f":"VLOOKUP(B1441*100+C1441,氏名データ!$AC$2:$AJ$401,2,0)","v":"都松が谷"},null,"男",null,61527,"齋藤","玄樹","ｻｲﾄｳ","ｹﾞﾝｷ","SAITO","Genki","男","05",2]
[61528,6,15,"西","光一朗","ﾆｼ","ｺｳｲﾁﾛｳ","NISHI","Kouichirou","05",2,{"$f":"VLOOKUP(B1442*100+C1442,氏名データ!$AC$2:$AJ$401,2,0)","v":"都松が谷"},null,"男",null,61528,"西","光一朗","ﾆｼ","ｺｳｲﾁﾛｳ","NISHI","Kouichirou","男","05",2]
[61529,6,15,"守谷","春乃助","ﾓﾘﾔ","ﾊﾙﾉｽｹ","MORIYA","Harunosuke","05",2,{"$f":"VLOOKUP(B1443*100+C1443,氏名データ!$AC$2:$AJ$401,2,0)","v":"都松が谷"},null,"男",null,61529,"守谷","春乃助","ﾓﾘﾔ","ﾊﾙﾉｽｹ","MORIYA","Harunosuke","男","05",2]
[61530,6,15,"三浦","想太","ﾐｳﾗ","ｿｳﾀ","MIURA","Sota","05",2,{"$f":"VLOOKUP(B1444*100+C1444,氏名データ!$AC$2:$AJ$401,2,0)","v":"都松が谷"},null,"男",null,61530,"三浦","想太","ﾐｳﾗ","ｿｳﾀ","MIURA","Sota","男","05",2]
[61532,6,15,"磯部","葵","ｲｿﾍﾞ","ｱｵｲ","ISOBE","Aoi","06",2,{"$f":"VLOOKUP(B1445*100+C1445,氏名データ!$AC$2:$AJ$401,2,0)","v":"都松が谷"},null,"男",null,61532,"磯部","葵","ｲｿﾍﾞ","ｱｵｲ","ISOBE","Aoi","男","06",2]
[61533,6,15,"町田","陸斗","ﾏﾁﾀﾞ","ﾘｸﾄ","MACHIDA","Rikuto","06",2,{"$f":"VLOOKUP(B1446*100+C1446,氏名データ!$AC$2:$AJ$401,2,0)","v":"都松が谷"},null,"男",null,61533,"町田","陸斗","ﾏﾁﾀﾞ","ﾘｸﾄ","MACHIDA","Rikuto","男","06",2]
[61535,6,15,"和田","幹太","ﾜﾀﾞ","ｶﾝﾀ","WADA","Kanta","06",1,{"$f":"VLOOKUP(B1447*100+C1447,氏名データ!$AC$2:$AJ$401,2,0)","v":"都松が谷"},null,"男",null,61535,"和田","幹太","ﾜﾀﾞ","ｶﾝﾀ","WADA","Kanta","男","06",1]
[61536,6,15,"和田","悠希","ﾜﾀﾞ","ﾕｳｷ","WADA","Yuki","06",1,{"$f":"VLOOKUP(B1448*100+C1448,氏名データ!$AC$2:$AJ$401,2,0)","v":"都松が谷"},null,"男",null,61536,"和田","悠希","ﾜﾀﾞ","ﾕｳｷ","WADA","Yuki","男","06",1]
[61537,6,15,"加藤","啓優","ｶﾄｳ","ﾋﾛﾔ","KATO","Hiroya","07",1,{"$f":"VLOOKUP(B1449*100+C1449,氏名データ!$AC$2:$AJ$401,2,0)","v":"都松が谷"},null,"男",null,61537,"加藤","啓優","ｶﾄｳ","ﾋﾛﾔ","KATO","Hiroya","男","07",1]
[61538,6,15,"国吉","龍磨","ｸﾆﾖｼ","ﾘｮｳﾏ","KUNIYOSHI","Ryoma","06",1,{"$f":"VLOOKUP(B1450*100+C1450,氏名データ!$AC$2:$AJ$401,2,0)","v":"都松が谷"},null,"男",null,61538,"国吉","龍磨","ｸﾆﾖｼ","ﾘｮｳﾏ","KUNIYOSHI","Ryoma","男","06",1]
[61539,6,15,"佐藤","禅","ｻﾄｳ","ｾﾞﾝ","SATO","Zen","06",1,{"$f":"VLOOKUP(B1451*100+C1451,氏名データ!$AC$2:$AJ$401,2,0)","v":"都松が谷"},null,"男",null,61539,"佐藤","禅","ｻﾄｳ","ｾﾞﾝ","SATO","Zen","男","06",1]
[61540,6,15,"グレゴリー","ジェイリン","ｸﾞﾚｺﾞﾘｰ","ｼﾞｪｲﾘﾝ","GREGORY","Jalyn","07",1,{"$f":"VLOOKUP(B1452*100+C1452,氏名データ!$AC$2:$AJ$401,2,0)","v":"都松が谷"},null,"男",null,61540,"グレゴリー","ジェイリン","ｸﾞﾚｺﾞﾘｰ","ｼﾞｪｲﾘﾝ","GREGORY","Jalyn","男","07",1]
[61541,6,15,"鈴木","遥斗","ｽｽﾞｷ","ﾊﾙﾄ","SUZUKI","Haruto","06",1,{"$f":"VLOOKUP(B1453*100+C1453,氏名データ!$AC$2:$AJ$401,2,0)","v":"都松が谷"},null,"男",null,61541,"鈴木","遥斗","ｽｽﾞｷ","ﾊﾙﾄ","SUZUKI","Haruto","男","06",1]
[61542,6,15,"阿久津","虎太朗","ｱｸﾂ","ﾄﾗﾀﾛｳ","AKUTSU","Torataro","06",1,{"$f":"VLOOKUP(B1454*100+C1454,氏名データ!$AC$2:$AJ$401,2,0)","v":"都松が谷"},null,"男",null,61542,"阿久津","虎太朗","ｱｸﾂ","ﾄﾗﾀﾛｳ","AKUTSU","Torataro","男","06",1]
[61543,6,15,"内藤","蒼汰","ﾅｲﾄｳ","ｿｳﾀ","NAITO","Sota","06",1,{"$f":"VLOOKUP(B1455*100+C1455,氏名データ!$AC$2:$AJ$401,2,0)","v":"都松が谷"},null,"男",null,61543,"内藤","蒼汰","ﾅｲﾄｳ","ｿｳﾀ","NAITO","Sota","男","06",1]
[61544,6,15,"佐々木","悠仁","ｻｻｷ","ﾕｳｼﾞﾝ","SASAKI","Yujin","07",1,{"$f":"VLOOKUP(B1456*100+C1456,氏名データ!$AC$2:$AJ$401,2,0)","v":"都松が谷"},null,"男",null,61544,"佐々木","悠仁","ｻｻｷ","ﾕｳｼﾞﾝ","SASAKI","Yujin","男","07",1]
[61568,6,15,"田代","瑞季","ﾀｼﾛ","ﾐｽﾞｷ","TASHIRO","Mizuki","04",3,{"$f":"VLOOKUP(B1457*100+C1457,氏名データ!$AC$2:$AJ$401,2,0)","v":"都松が谷"},null,"女",null,61568,"田代","瑞季","ﾀｼﾛ","ﾐｽﾞｷ","TASHIRO","Mizuki","女","04",3]
[61569,6,15,"野澤","拓乃","ﾉｻﾞﾜ","ﾋﾛﾉ","NOZAWA","Hirono","04",3,{"$f":"VLOOKUP(B1458*100+C1458,氏名データ!$AC$2:$AJ$401,2,0)","v":"都松が谷"},null,"女",null,61569,"野澤","拓乃","ﾉｻﾞﾜ","ﾋﾛﾉ","NOZAWA","Hirono","女","04",3]
[61571,6,15,"加藤","まりあ","ｶﾄｳ","ﾏﾘｱ","KATO","Maria","05",3,{"$f":"VLOOKUP(B1459*100+C1459,氏名データ!$AC$2:$AJ$401,2,0)","v":"都松が谷"},null,"女",null,61571,"加藤","まりあ","ｶﾄｳ","ﾏﾘｱ","KATO","Maria","女","05",3]
[61573,6,15,"松本","かさね","ﾏﾂﾓﾄ","ｶｻﾈ","MATSUMOTO","Kasane","05",2,{"$f":"VLOOKUP(B1460*100+C1460,氏名データ!$AC$2:$AJ$401,2,0)","v":"都松が谷"},null,"女",null,61573,"松本","かさね","ﾏﾂﾓﾄ","ｶｻﾈ","MATSUMOTO","Kasane","女","05",2]
[61574,6,15,"佐藤","沙弥花","ｻﾄｳ","ｻﾔｶ","SATO","Sayaka","05",2,{"$f":"VLOOKUP(B1461*100+C1461,氏名データ!$AC$2:$AJ$401,2,0)","v":"都松が谷"},null,"女",null,61574,"佐藤","沙弥花","ｻﾄｳ","ｻﾔｶ","SATO","Sayaka","女","05",2]
[61575,6,15,"石川","裕美","ｲｼｶﾜ","ﾕｳﾐ","ISHIKAWA","Yuumi","05",2,{"$f":"VLOOKUP(B1462*100+C1462,氏名データ!$AC$2:$AJ$401,2,0)","v":"都松が谷"},null,"女",null,61575,"石川","裕美","ｲｼｶﾜ","ﾕｳﾐ","ISHIKAWA","Yuumi","女","05",2]
[61577,6,15,"菅野","未来","ｶﾝﾉ","ﾐｸ","KANNO","Miku","05",2,{"$f":"VLOOKUP(B1463*100+C1463,氏名データ!$AC$2:$AJ$401,2,0)","v":"都松が谷"},null,"女",null,61577,"菅野","未来","ｶﾝﾉ","ﾐｸ","KANNO","Miku","女","05",2]
[61578,6,15,"石塚","恋羽","ｲｼﾂｶ","ｺﾊﾈ","ISHITUKA","Kohane","06",2,{"$f":"VLOOKUP(B1464*100+C1464,氏名データ!$AC$2:$AJ$401,2,0)","v":"都松が谷"},null,"女",null,61578,"石塚","恋羽","ｲｼﾂｶ","ｺﾊﾈ","ISHITUKA","Kohane","女","06",2]
[61579,6,15,"髙橋","実生","ﾀｶﾊｼ","ﾐｳ","TAKAHASHI","Miu","06",2,{"$f":"VLOOKUP(B1465*100+C1465,氏名データ!$AC$2:$AJ$401,2,0)","v":"都松が谷"},null,"女",null,61579,"髙橋","実生","ﾀｶﾊｼ","ﾐｳ","TAKAHASHI","Miu","女","06",2]
[61580,6,15,"菅","由奈","ｽｶﾞ","ﾕﾅ","SUGA","Yuna","06",1,{"$f":"VLOOKUP(B1466*100+C1466,氏名データ!$AC$2:$AJ$401,2,0)","v":"都松が谷"},null,"女",null,61580,"菅","由奈","ｽｶﾞ","ﾕﾅ","SUGA","Yuna","女","06",1]
[61581,6,15,"塚田","菜月","ﾂｶﾀﾞ","ﾅﾂｷ","TSUKADA","Natsuki","07",1,{"$f":"VLOOKUP(B1467*100+C1467,氏名データ!$AC$2:$AJ$401,2,0)","v":"都松が谷"},null,"女",null,61581,"塚田","菜月","ﾂｶﾀﾞ","ﾅﾂｷ","TSUKADA","Natsuki","女","07",1]
[61582,6,15,"栗原","紗和","ｸﾘﾊﾗ","ｻﾜ","KURIHARA","Sawa","06",1,{"$f":"VLOOKUP(B1468*100+C1468,氏名データ!$AC$2:$AJ$401,2,0)","v":"都松が谷"},null,"女",null,61582,"栗原","紗和","ｸﾘﾊﾗ","ｻﾜ","KURIHARA","Sawa","女","06",1]
[61601,6,16,"石井","誠太郎","ｲｼｲ","ｾｲﾀﾛｳ","ISHII","Seitaro","05",2,{"$f":"VLOOKUP(B1469*100+C1469,氏名データ!$AC$2:$AJ$401,2,0)","v":"都南多摩中等"},null,"男",null,61601,"石井","誠太郎","ｲｼｲ","ｾｲﾀﾛｳ","ISHII","Seitaro","男","05",2]
[61602,6,16,"五嶋","快成","ｺﾞﾄｳ","ｶｲｾｲ","GOTO","Kaisei","06",2,{"$f":"VLOOKUP(B1470*100+C1470,氏名データ!$AC$2:$AJ$401,2,0)","v":"都南多摩中等"},null,"男",null,61602,"五嶋","快成","ｺﾞﾄｳ","ｶｲｾｲ","GOTO","Kaisei","男","06",2]
[61603,6,16,"小倉","拓己","ｵｸﾞﾗ","ﾀｸﾐ","OGURA","Takumi","05",2,{"$f":"VLOOKUP(B1471*100+C1471,氏名データ!$AC$2:$AJ$401,2,0)","v":"都南多摩中等"},null,"男",null,61603,"小倉","拓己","ｵｸﾞﾗ","ﾀｸﾐ","OGURA","Takumi","男","05",2]
[61604,6,16,"東","隆翔","ﾋｶﾞｼ","ﾘｭｳﾄ","HIGASHI","Ryuto","06",2,{"$f":"VLOOKUP(B1472*100+C1472,氏名データ!$AC$2:$AJ$401,2,0)","v":"都南多摩中等"},null,"男",null,61604,"東","隆翔","ﾋｶﾞｼ","ﾘｭｳﾄ","HIGASHI","Ryuto","男","06",2]
[61605,6,16,"松崎","州","ﾏﾂｻﾞｷ","ｼｭｳ","MATUZAKI","Syu","05",2,{"$f":"VLOOKUP(B1473*100+C1473,氏名データ!$AC$2:$AJ$401,2,0)","v":"都南多摩中等"},null,"男",null,61605,"松崎","州","ﾏﾂｻﾞｷ","ｼｭｳ","MATUZAKI","Syu","男","05",2]
[61606,6,16,"菊川","知行","ｷｸｶﾜ","ﾄﾓﾕｷ","KIKUKAWA","Tomoyuki","06",1,{"$f":"VLOOKUP(B1474*100+C1474,氏名データ!$AC$2:$AJ$401,2,0)","v":"都南多摩中等"},null,"男",null,61606,"菊川","知行","ｷｸｶﾜ","ﾄﾓﾕｷ","KIKUKAWA","Tomoyuki","男","06",1]
[{"$f":"P1475","v":61607},{"$f":"ROUNDDOWN(A1475/10000,0)","v":6},{"$f":"ROUNDDOWN((A1475-B1475*10000)/100,0)","v":16},{"$f":"Q1475","v":"武部"},{"$f":"R1475","v":"俊太郎"},{"$f":"S1475","v":"ﾀｹﾍﾞ"},{"$f":"T1475","v":"ｼｭﾝﾀﾛｳ"},{"$f":"U1475","v":"TAKEBE"},{"$f":"V1475","v":"Syuntaro"},{"$f":"X1475","v":"06"},{"$f":"Y1475","v":1},{"$f":"VLOOKUP(B1475*100+C1475,氏名データ!$AC$2:$AJ$401,2,0)","v":"都南多摩中等"},null,{"$f":"W1475","v":"男"},null,61607,"武部","俊太郎","ﾀｹﾍﾞ","ｼｭﾝﾀﾛｳ","TAKEBE","Syuntaro","男","06",1]
[61608,6,16,"古市","有毅","ﾌﾙｲﾁ","ﾕｷ","FURUICHI","Yuki","06",1,{"$f":"VLOOKUP(B1476*100+C1476,氏名データ!$AC$2:$AJ$401,2,0)","v":"都南多摩中等"},null,"男",null,61608,"古市","有毅","ﾌﾙｲﾁ","ﾕｷ","FURUICHI","Yuki","男","06",1]
[61641,6,16,"小川","悠介","ｵｶﾞﾜ","ﾕｳｽｹ","OGAWA","Yusuke","04",3,{"$f":"VLOOKUP(B1477*100+C1477,氏名データ!$AC$2:$AJ$401,2,0)","v":"都南多摩中等"},null,"男",null,61641,"小川","悠介","ｵｶﾞﾜ","ﾕｳｽｹ","OGAWA","Yusuke","男","04",3]
[61642,6,16,"菅野","颯太","ｶﾝﾉ","ｿｳﾀ","KANNO","Sota","04",3,{"$f":"VLOOKUP(B1478*100+C1478,氏名データ!$AC$2:$AJ$401,2,0)","v":"都南多摩中等"},null,"男",null,61642,"菅野","颯太","ｶﾝﾉ","ｿｳﾀ","KANNO","Sota","男","04",3]
[61645,6,16,"髙野","航季","ﾀｶﾉ","ｺｳｷ","TAKANO","Koki","04",3,{"$f":"VLOOKUP(B1479*100+C1479,氏名データ!$AC$2:$AJ$401,2,0)","v":"都南多摩中等"},null,"男",null,61645,"髙野","航季","ﾀｶﾉ","ｺｳｷ","TAKANO","Koki","男","04",3]
[61648,6,16,"舛方","将起","ﾏｽｶﾀ","ﾏｻｷ","MASUKATA","Masaki","04",3,{"$f":"VLOOKUP(B1480*100+C1480,氏名データ!$AC$2:$AJ$401,2,0)","v":"都南多摩中等"},null,"男",null,61648,"舛方","将起","ﾏｽｶﾀ","ﾏｻｷ","MASUKATA","Masaki","男","04",3]
[61671,6,16,"野口","ふみ","ﾉｸﾞﾁ","ﾌﾐ","NOGUCHI","Fumi","04",3,{"$f":"VLOOKUP(B1481*100+C1481,氏名データ!$AC$2:$AJ$401,2,0)","v":"都南多摩中等"},null,"女",null,61671,"野口","ふみ","ﾉｸﾞﾁ","ﾌﾐ","NOGUCHI","Fumi","女","04",3]
[61672,6,16,"廣瀬","里実","ﾋﾛｾ","ｻﾄﾐ","HIROSE","Satomi","04",3,{"$f":"VLOOKUP(B1482*100+C1482,氏名データ!$AC$2:$AJ$401,2,0)","v":"都南多摩中等"},null,"女",null,61672,"廣瀬","里実","ﾋﾛｾ","ｻﾄﾐ","HIROSE","Satomi","女","04",3]
[61674,6,16,"谷口","美希","ﾀﾆｸﾞﾁ","ﾐｷ","TANIGUCHI","Miki","05",2,{"$f":"VLOOKUP(B1483*100+C1483,氏名データ!$AC$2:$AJ$401,2,0)","v":"都南多摩中等"},null,"女",null,61674,"谷口","美希","ﾀﾆｸﾞﾁ","ﾐｷ","TANIGUCHI","Miki","女","05",2]
[61675,6,16,"川村","遥香","ｶﾜﾑﾗ","ﾊﾙｶ","KAWAMURA","Haruka","06",1,{"$f":"VLOOKUP(B1484*100+C1484,氏名データ!$AC$2:$AJ$401,2,0)","v":"都南多摩中等"},null,"女",null,61675,"川村","遥香","ｶﾜﾑﾗ","ﾊﾙｶ","KAWAMURA","Haruka","女","06",1]
[61676,6,16,"川村","悠香","ｶﾜﾑﾗ","ﾕｳｶ","KAWAMURA","Yuka","06",1,{"$f":"VLOOKUP(B1485*100+C1485,氏名データ!$AC$2:$AJ$401,2,0)","v":"都南多摩中等"},null,"女",null,61676,"川村","悠香","ｶﾜﾑﾗ","ﾕｳｶ","KAWAMURA","Yuka","女","06",1]
[61677,6,16,"高瀬","真緒","ﾀｶｾ","ﾏｵ","TAKASE","Mao","06",1,{"$f":"VLOOKUP(B1486*100+C1486,氏名データ!$AC$2:$AJ$401,2,0)","v":"都南多摩中等"},null,"女",null,61677,"高瀬","真緒","ﾀｶｾ","ﾏｵ","TAKASE","Mao","女","06",1]
[61678,6,16,"山上","有梨紗","ﾔﾏｶﾞﾐ","ﾕﾘｻ","YAMAGAMI","Yurisa","06",1,{"$f":"VLOOKUP(B1487*100+C1487,氏名データ!$AC$2:$AJ$401,2,0)","v":"都南多摩中等"},null,"女",null,61678,"山上","有梨紗","ﾔﾏｶﾞﾐ","ﾕﾘｻ","YAMAGAMI","Yurisa","女","06",1]
[61679,6,16,"南谷","希咲","ﾐﾅﾐﾀﾆ","ｷｻ","MINAMITANI","Kisa","06",1,{"$f":"VLOOKUP(B1488*100+C1488,氏名データ!$AC$2:$AJ$401,2,0)","v":"都南多摩中等"},null,"女",null,61679,"南谷","希咲","ﾐﾅﾐﾀﾆ","ｷｻ","MINAMITANI","Kisa","女","06",1]
[61680,6,16,"村木","莉奈","ﾑﾗｷ","ﾘﾅ","MURAKI","Rina","06",1,{"$f":"VLOOKUP(B1489*100+C1489,氏名データ!$AC$2:$AJ$401,2,0)","v":"都南多摩中等"},null,"女",null,61680,"村木","莉奈","ﾑﾗｷ","ﾘﾅ","MURAKI","Rina","女","06",1]
[61701,6,17,"齊藤","颯一朗","ｻｲﾄｳ","ｿｳｲﾁﾛｳ","SAITO","Souichiro","06",1,{"$f":"VLOOKUP(B1490*100+C1490,氏名データ!$AC$2:$AJ$401,2,0)","v":"穎明館"},null,"男",null,61701,"齊藤","颯一朗","ｻｲﾄｳ","ｿｳｲﾁﾛｳ","SAITO","Souichiro","男","06",1]
[61702,6,17,"宇佐美","亮介","ｳｻﾐ","ﾘｮｳｽｹ","USAMI","Ryosuke","07",1,{"$f":"VLOOKUP(B1491*100+C1491,氏名データ!$AC$2:$AJ$401,2,0)","v":"穎明館"},null,"男",null,61702,"宇佐美","亮介","ｳｻﾐ","ﾘｮｳｽｹ","USAMI","Ryosuke","男","07",1]
[61703,6,17,"宮田","恭輔","ﾐﾔﾀ","ｷｮｳｽｹ","MIYATA","Kyosuke","06",1,{"$f":"VLOOKUP(B1492*100+C1492,氏名データ!$AC$2:$AJ$401,2,0)","v":"穎明館"},null,"男",null,61703,"宮田","恭輔","ﾐﾔﾀ","ｷｮｳｽｹ","MIYATA","Kyosuke","男","06",1]
[61704,6,17,"宮田","渉平","ﾐﾔﾀ","ｼｮｳﾍｲ","MIYATA","Shohei","06",1,{"$f":"VLOOKUP(B1493*100+C1493,氏名データ!$AC$2:$AJ$401,2,0)","v":"穎明館"},null,"男",null,61704,"宮田","渉平","ﾐﾔﾀ","ｼｮｳﾍｲ","MIYATA","Shohei","男","06",1]
[61705,6,17,"加藤","優","ｶﾄｳ","ﾕｳ","KATO","Yu","07",1,{"$f":"VLOOKUP(B1494*100+C1494,氏名データ!$AC$2:$AJ$401,2,0)","v":"穎明館"},null,"男",null,61705,"加藤","優","ｶﾄｳ","ﾕｳ","KATO","Yu","男","07",1]
[61744,6,17,"井上","翼","ｲﾉｳｴ","ﾂﾊﾞｻ","INOUE","Tsubasa","04",3,{"$f":"VLOOKUP(B1495*100+C1495,氏名データ!$AC$2:$AJ$401,2,0)","v":"穎明館"},null,"男",null,61744,"井上","翼","ｲﾉｳｴ","ﾂﾊﾞｻ","INOUE","Tsubasa","男","04",3]
[61745,6,17,"永野","嶺","ﾅｶﾞﾉ","ﾚｲ","NAGANO","Rei","04",3,{"$f":"VLOOKUP(B1496*100+C1496,氏名データ!$AC$2:$AJ$401,2,0)","v":"穎明館"},null,"男",null,61745,"永野","嶺","ﾅｶﾞﾉ","ﾚｲ","NAGANO","Rei","男","04",3]
[61746,6,17,"神谷","陸","ｶﾐﾔ","ﾘｸ","KAMIYA","Riku","05",2,{"$f":"VLOOKUP(B1497*100+C1497,氏名データ!$AC$2:$AJ$401,2,0)","v":"穎明館"},null,"男",null,61746,"神谷","陸","ｶﾐﾔ","ﾘｸ","KAMIYA","Riku","男","05",2]
[61787,6,17,"伊東","千夏","ｲﾄｳ","ﾁﾅﾂ","ITO","Chinatsu","04",3,{"$f":"VLOOKUP(B1498*100+C1498,氏名データ!$AC$2:$AJ$401,2,0)","v":"穎明館"},null,"女",null,61787,"伊東","千夏","ｲﾄｳ","ﾁﾅﾂ","ITO","Chinatsu","女","04",3]
[61789,6,17,"熊倉","綾胡","ｸﾏｸﾗ","ｱｺ","KUMAKURA","Ako","04",3,{"$f":"VLOOKUP(B1499*100+C1499,氏名データ!$AC$2:$AJ$401,2,0)","v":"穎明館"},null,"女",null,61789,"熊倉","綾胡","ｸﾏｸﾗ","ｱｺ","KUMAKURA","Ako","女","04",3]
[61790,6,17,"原","里咲","ﾊﾗ","ﾘｻ","HARA","Lisa","06",1,{"$f":"VLOOKUP(B1500*100+C1500,氏名データ!$AC$2:$AJ$401,2,0)","v":"穎明館"},null,"女",null,61790,"原","里咲","ﾊﾗ","ﾘｻ","HARA","Lisa","女","06",1]
[61791,6,17,"真野","伊蕗","ﾏﾉ","ｲﾌﾞｷ","MANO","Ibuki","06",1,{"$f":"VLOOKUP(B1501*100+C1501,氏名データ!$AC$2:$AJ$401,2,0)","v":"穎明館"},null,"女",null,61791,"真野","伊蕗","ﾏﾉ","ｲﾌﾞｷ","MANO","Ibuki","女","06",1]
[61871,6,18,"坂本","涼風","ｻｶﾓﾄ","ｽｽﾞｶ","SAKAMOTO","Suzuka","04",3,{"$f":"VLOOKUP(B1502*100+C1502,氏名データ!$AC$2:$AJ$401,2,0)","v":"共立女二"},null,"女",null,61871,"坂本","涼風","ｻｶﾓﾄ","ｽｽﾞｶ","SAKAMOTO","Suzuka","女","04",3]
[61872,6,18,"竹馬","栞","ﾁｸﾊﾞ","ｼｵﾘ","CHIKUBA","Shiori","05",3,{"$f":"VLOOKUP(B1503*100+C1503,氏名データ!$AC$2:$AJ$401,2,0)","v":"共立女二"},null,"女",null,61872,"竹馬","栞","ﾁｸﾊﾞ","ｼｵﾘ","CHIKUBA","Shiori","女","05",3]
[61873,6,18,"後本","恵梨葉","ﾉﾁﾓﾄ","ｴﾘﾊ","NOCHIMOTO","Eriha","04",3,{"$f":"VLOOKUP(B1504*100+C1504,氏名データ!$AC$2:$AJ$401,2,0)","v":"共立女二"},null,"女",null,61873,"後本","恵梨葉","ﾉﾁﾓﾄ","ｴﾘﾊ","NOCHIMOTO","Eriha","女","04",3]
[61874,6,18,"伴場","琉寧","ﾊﾞﾝﾊﾞ","ﾙﾈ","BAMBA","Rune","04",3,{"$f":"VLOOKUP(B1505*100+C1505,氏名データ!$AC$2:$AJ$401,2,0)","v":"共立女二"},null,"女",null,61874,"伴場","琉寧","ﾊﾞﾝﾊﾞ","ﾙﾈ","BAMBA","Rune","女","04",3]
[61881,6,18,"瀬戸","百華","ｾﾄ","ﾓﾓｶ","SETO","Momoka","06",2,{"$f":"VLOOKUP(B1506*100+C1506,氏名データ!$AC$2:$AJ$401,2,0)","v":"共立女二"},null,"女",null,61881,"瀬戸","百華","ｾﾄ","ﾓﾓｶ","SETO","Momoka","女","06",2]
[61882,6,18,"幡谷","弥生","ﾊﾀﾔ","ﾔﾖｲ","HATAYA","Yayoi","05",2,{"$f":"VLOOKUP(B1507*100+C1507,氏名データ!$AC$2:$AJ$401,2,0)","v":"共立女二"},null,"女",null,61882,"幡谷","弥生","ﾊﾀﾔ","ﾔﾖｲ","HATAYA","Yayoi","女","05",2]
[61883,6,18,"飯塚","美緒","ｲｲｽﾞｶ","ﾐｵ","IIZUKA","Mio","05",2,{"$f":"VLOOKUP(B1508*100+C1508,氏名データ!$AC$2:$AJ$401,2,0)","v":"共立女二"},null,"女",null,61883,"飯塚","美緒","ｲｲｽﾞｶ","ﾐｵ","IIZUKA","Mio","女","05",2]
[61884,6,18,"櫻沢","彩乃","ｻｸﾗｻﾞﾜ","ｱﾔﾉ","SAKURAZAWA","Ayano","05",2,{"$f":"VLOOKUP(B1509*100+C1509,氏名データ!$AC$2:$AJ$401,2,0)","v":"共立女二"},null,"女",null,61884,"櫻沢","彩乃","ｻｸﾗｻﾞﾜ","ｱﾔﾉ","SAKURAZAWA","Ayano","女","05",2]
[61885,6,18,"野村","美緒","ﾉﾑﾗ","ﾐｵ","NOMURA","Mio","05",2,{"$f":"VLOOKUP(B1510*100+C1510,氏名データ!$AC$2:$AJ$401,2,0)","v":"共立女二"},null,"女",null,61885,"野村","美緒","ﾉﾑﾗ","ﾐｵ","NOMURA","Mio","女","05",2]
[61886,6,18,"近藤","菜乃","ｺﾝﾄﾞｳ","ﾅﾉ","KONDOU","Nano","05",2,{"$f":"VLOOKUP(B1511*100+C1511,氏名データ!$AC$2:$AJ$401,2,0)","v":"共立女二"},null,"女",null,61886,"近藤","菜乃","ｺﾝﾄﾞｳ","ﾅﾉ","KONDOU","Nano","女","05",2]
[61891,6,18,"藤田","菜々","ﾌｼﾞﾀ","ﾅﾅ","FUJITA","Nana","07",1,{"$f":"VLOOKUP(B1512*100+C1512,氏名データ!$AC$2:$AJ$401,2,0)","v":"共立女二"},null,"女",null,61891,"藤田","菜々","ﾌｼﾞﾀ","ﾅﾅ","FUJITA","Nana","女","07",1]
[61892,6,18,"杉浦","遥","ｽｷﾞｳﾗ","ﾊﾙｶ","SUGIURA","Haruka","06",1,{"$f":"VLOOKUP(B1513*100+C1513,氏名データ!$AC$2:$AJ$401,2,0)","v":"共立女二"},null,"女",null,61892,"杉浦","遥","ｽｷﾞｳﾗ","ﾊﾙｶ","SUGIURA","Haruka","女","06",1]
[61901,6,19,"寺澤","蒼一郎","ﾃﾗｻﾜ","ｿｳｲﾁﾛｳ","TERASAWA","Souitirou","06",1,{"$f":"VLOOKUP(B1514*100+C1514,氏名データ!$AC$2:$AJ$401,2,0)","v":"工学院"},null,"男",null,61901,"寺澤","蒼一郎","ﾃﾗｻﾜ","ｿｳｲﾁﾛｳ","TERASAWA","Souitirou","男","06",1]
[61902,6,19,"石川","貴大","ｲｼｶﾜ","ﾀｶﾋﾛ","ISHIKAWA","Takahiro","07",1,{"$f":"VLOOKUP(B1515*100+C1515,氏名データ!$AC$2:$AJ$401,2,0)","v":"工学院"},null,"男",null,61902,"石川","貴大","ｲｼｶﾜ","ﾀｶﾋﾛ","ISHIKAWA","Takahiro","男","07",1]
[61925,6,19,"亀田","俊輔","ｶﾒﾀﾞ","ｼｭﾝｽｹ","KAMEDA","Syunsuke","04",3,{"$f":"VLOOKUP(B1516*100+C1516,氏名データ!$AC$2:$AJ$401,2,0)","v":"工学院"},null,"男",null,61925,"亀田","俊輔","ｶﾒﾀﾞ","ｼｭﾝｽｹ","KAMEDA","Syunsuke","男","04",3]
[61926,6,19,"飯郷","史幹","ｲｲｺﾞｳ","ﾋﾄｷ","IIGOU","Hitoki","05",3,{"$f":"VLOOKUP(B1517*100+C1517,氏名データ!$AC$2:$AJ$401,2,0)","v":"工学院"},null,"男",null,61926,"飯郷","史幹","ｲｲｺﾞｳ","ﾋﾄｷ","IIGOU","Hitoki","男","05",3]
[61927,6,19,"蔵持","優哉","ｸﾗﾓﾁ","ﾕｳﾔ","KURAMOCHI","Yuya","04",3,{"$f":"VLOOKUP(B1518*100+C1518,氏名データ!$AC$2:$AJ$401,2,0)","v":"工学院"},null,"男",null,61927,"蔵持","優哉","ｸﾗﾓﾁ","ﾕｳﾔ","KURAMOCHI","Yuya","男","04",3]
[61930,6,19,"成嶋","佑太","ﾅﾙｼﾏ","ﾕｳﾀ","NARUSHIMA","Yuta","04",3,{"$f":"VLOOKUP(B1519*100+C1519,氏名データ!$AC$2:$AJ$401,2,0)","v":"工学院"},null,"男",null,61930,"成嶋","佑太","ﾅﾙｼﾏ","ﾕｳﾀ","NARUSHIMA","Yuta","男","04",3]
[61931,6,19,"梶山","丈","ｶｼﾞﾔﾏ","ｼﾞｮｳ","KAJIYAMA","Jo","05",2,{"$f":"VLOOKUP(B1520*100+C1520,氏名データ!$AC$2:$AJ$401,2,0)","v":"工学院"},null,"男",null,61931,"梶山","丈","ｶｼﾞﾔﾏ","ｼﾞｮｳ","KAJIYAMA","Jo","男","05",2]
[61932,6,19,"佐藤","麟之介","ｻﾄｳ","ﾘﾝﾉｽｹ","SATO","Rinnosuke","05",2,{"$f":"VLOOKUP(B1521*100+C1521,氏名データ!$AC$2:$AJ$401,2,0)","v":"工学院"},null,"男",null,61932,"佐藤","麟之介","ｻﾄｳ","ﾘﾝﾉｽｹ","SATO","Rinnosuke","男","05",2]
[61933,6,19,"玉内","健生","ﾀﾏﾅｲ","ﾄｼｷ","TAMANAI","Toshiki","05",2,{"$f":"VLOOKUP(B1522*100+C1522,氏名データ!$AC$2:$AJ$401,2,0)","v":"工学院"},null,"男",null,61933,"玉内","健生","ﾀﾏﾅｲ","ﾄｼｷ","TAMANAI","Toshiki","男","05",2]
[61934,6,19,"二階堂","聖也","ﾆｶｲﾄﾞｳ","ｾﾅ","NIKAIDO","Sena","06",2,{"$f":"VLOOKUP(B1523*100+C1523,氏名データ!$AC$2:$AJ$401,2,0)","v":"工学院"},null,"男",null,61934,"二階堂","聖也","ﾆｶｲﾄﾞｳ","ｾﾅ","NIKAIDO","Sena","男","06",2]
[61935,6,19,"萩原","匠梧","ﾊｷﾞﾜﾗ","ｼｮｳｺﾞ","HAGIWARA","Shogo","06",2,{"$f":"VLOOKUP(B1524*100+C1524,氏名データ!$AC$2:$AJ$401,2,0)","v":"工学院"},null,"男",null,61935,"萩原","匠梧","ﾊｷﾞﾜﾗ","ｼｮｳｺﾞ","HAGIWARA","Shogo","男","06",2]
[61936,6,19,"本田","悠","ﾎﾝﾀﾞ","ﾕｳ","HONDA","Yu","05",2,{"$f":"VLOOKUP(B1525*100+C1525,氏名データ!$AC$2:$AJ$401,2,0)","v":"工学院"},null,"男",null,61936,"本田","悠","ﾎﾝﾀﾞ","ﾕｳ","HONDA","Yu","男","05",2]
[61937,6,19,"高橋","朋希","ﾀｶﾊｼ","ﾄﾓｷ","TAKAHASHI","Tomoki","06",2,{"$f":"VLOOKUP(B1526*100+C1526,氏名データ!$AC$2:$AJ$401,2,0)","v":"工学院"},null,"男",null,61937,"高橋","朋希","ﾀｶﾊｼ","ﾄﾓｷ","TAKAHASHI","Tomoki","男","06",2]
[61938,6,19,"笠原","湧天","ｶｻﾊﾗ","ﾕｳﾏ","KASAHARA","Yuuma","06",1,{"$f":"VLOOKUP(B1527*100+C1527,氏名データ!$AC$2:$AJ$401,2,0)","v":"工学院"},null,"男",null,61938,"笠原","湧天","ｶｻﾊﾗ","ﾕｳﾏ","KASAHARA","Yuuma","男","06",1]
[61939,6,19,"高野","真伍","ﾀｶﾉ","ｼﾝｺﾞ","TAKANO","Shingo","06",1,{"$f":"VLOOKUP(B1528*100+C1528,氏名データ!$AC$2:$AJ$401,2,0)","v":"工学院"},null,"男",null,61939,"高野","真伍","ﾀｶﾉ","ｼﾝｺﾞ","TAKANO","Shingo","男","06",1]
[61940,6,19,"金井","一真","ｶﾅｲ","ｶｽﾞﾏ","KANAI","Kazuma","06",1,{"$f":"VLOOKUP(B1529*100+C1529,氏名データ!$AC$2:$AJ$401,2,0)","v":"工学院"},null,"男",null,61940,"金井","一真","ｶﾅｲ","ｶｽﾞﾏ","KANAI","Kazuma","男","06",1]
[61941,6,19,"松浦","光聖","ﾏﾂｳﾗ","ｺｳｾｲ","MATSUURA","Kousei","07",1,{"$f":"VLOOKUP(B1530*100+C1530,氏名データ!$AC$2:$AJ$401,2,0)","v":"工学院"},null,"男",null,61941,"松浦","光聖","ﾏﾂｳﾗ","ｺｳｾｲ","MATSUURA","Kousei","男","07",1]
[61942,6,19,"今井","悠","ｲﾏｲ","ﾕｳ","IMAI","Yu","06",1,{"$f":"VLOOKUP(B1531*100+C1531,氏名データ!$AC$2:$AJ$401,2,0)","v":"工学院"},null,"男",null,61942,"今井","悠","ｲﾏｲ","ﾕｳ","IMAI","Yu","男","06",1]
[61943,6,19,"山本","弘斗","ﾔﾏﾓﾄ","ﾋﾛﾄ","YAMAMOTO","Hiroto","06",1,{"$f":"VLOOKUP(B1532*100+C1532,氏名データ!$AC$2:$AJ$401,2,0)","v":"工学院"},null,"男",null,61943,"山本","弘斗","ﾔﾏﾓﾄ","ﾋﾛﾄ","YAMAMOTO","Hiroto","男","06",1]
[61944,6,19,"神前","勇太","ｶﾐﾏｴ","ﾕｳﾀ","KAMIMAE","Yuuta","06",1,{"$f":"VLOOKUP(B1533*100+C1533,氏名データ!$AC$2:$AJ$401,2,0)","v":"工学院"},null,"男",null,61944,"神前","勇太","ｶﾐﾏｴ","ﾕｳﾀ","KAMIMAE","Yuuta","男","06",1]
[61945,6,19,"樋野","要銘","ﾋﾉ","ｶﾅﾒ","HINO","Kaname","06",1,{"$f":"VLOOKUP(B1534*100+C1534,氏名データ!$AC$2:$AJ$401,2,0)","v":"工学院"},null,"男",null,61945,"樋野","要銘","ﾋﾉ","ｶﾅﾒ","HINO","Kaname","男","06",1]
[61946,6,19,"メリー","友輝","ﾒﾘｰ","ﾄﾓｷ","MERRY","Tomoki","06",1,{"$f":"VLOOKUP(B1535*100+C1535,氏名データ!$AC$2:$AJ$401,2,0)","v":"工学院"},null,"男",null,61946,"メリー","友輝","ﾒﾘｰ","ﾄﾓｷ","MERRY","Tomoki","男","06",1]
[61947,6,19,"菊地","悠生","ｷｸﾁ","ﾕｳｾｲ","KIKUCHI","Yusei","05",2,{"$f":"VLOOKUP(B1536*100+C1536,氏名データ!$AC$2:$AJ$401,2,0)","v":"工学院"},null,"男",null,61947,"菊地","悠生","ｷｸﾁ","ﾕｳｾｲ","KIKUCHI","Yusei","男","05",2]
[61948,6,19,"関","海翔","ｾｷ","ｶｲﾄ","SEKI","Kaito","06",1,{"$f":"VLOOKUP(B1537*100+C1537,氏名データ!$AC$2:$AJ$401,2,0)","v":"工学院"},null,"男",null,61948,"関","海翔","ｾｷ","ｶｲﾄ","SEKI","Kaito","男","06",1]
[61949,6,19,"須崎","健斗","ｽｻﾞｷ","ｹﾝﾄ","SUZAKI","Kento","06",1,{"$f":"VLOOKUP(B1538*100+C1538,氏名データ!$AC$2:$AJ$401,2,0)","v":"工学院"},null,"男",null,61949,"須崎","健斗","ｽｻﾞｷ","ｹﾝﾄ","SUZAKI","Kento","男","06",1]
[{"$f":"P1539","v":61957},{"$f":"ROUNDDOWN(A1539/10000,0)","v":6},{"$f":"ROUNDDOWN((A1539-B1539*10000)/100,0)","v":19},{"$f":"Q1539","v":"中丸"},{"$f":"R1539","v":"結衣"},{"$f":"S1539","v":"ﾅｶﾏﾙ"},{"$f":"T1539","v":"ﾕｲ"},{"$f":"U1539","v":"NAKAMARU"},{"$f":"V1539","v":"Yui"},{"$f":"X1539","v":"06"},{"$f":"Y1539","v":1},{"$f":"VLOOKUP(B1539*100+C1539,氏名データ!$AC$2:$AJ$401,2,0)","v":"工学院"},null,{"$f":"W1539","v":"女"},null,61957,"中丸","結衣","ﾅｶﾏﾙ","ﾕｲ","NAKAMARU","Yui","女","06",1]
[61958,6,19,"伊藤","きらら","ｲﾄｳ","ｷﾗﾗ","ITO","Kirara","06",1,{"$f":"VLOOKUP(B1540*100+C1540,氏名データ!$AC$2:$AJ$401,2,0)","v":"工学院"},null,"女",null,61958,"伊藤","きらら","ｲﾄｳ","ｷﾗﾗ","ITO","Kirara","女","06",1]
[62201,6,22,"山本","隼暉","ﾔﾏﾓﾄ","ﾊﾔｷ","YAMAMOTO","Hayaki","06",1,{"$f":"VLOOKUP(B1541*100+C1541,氏名データ!$AC$2:$AJ$401,2,0)","v":"八王子"},null,"男",null,62201,"山本","隼暉","ﾔﾏﾓﾄ","ﾊﾔｷ","YAMAMOTO","Hayaki","男","06",1]
[62202,6,22,"紙田","健吾","ｶﾐﾀ","ｹﾝｺﾞ","KAMITA","Kengo","06",1,{"$f":"VLOOKUP(B1542*100+C1542,氏名データ!$AC$2:$AJ$401,2,0)","v":"八王子"},null,"男",null,62202,"紙田","健吾","ｶﾐﾀ","ｹﾝｺﾞ","KAMITA","Kengo","男","06",1]
[62203,6,22,"田中","日向太","ﾀﾅｶ","ﾋﾅﾀ","TANAKA","Hinata","06",1,{"$f":"VLOOKUP(B1543*100+C1543,氏名データ!$AC$2:$AJ$401,2,0)","v":"八王子"},null,"男",null,62203,"田中","日向太","ﾀﾅｶ","ﾋﾅﾀ","TANAKA","Hinata","男","06",1]
[62204,6,22,"羽矢","誠","ﾊﾔ","ﾏｺﾄ","HAYA","Makoto","06",1,{"$f":"VLOOKUP(B1544*100+C1544,氏名データ!$AC$2:$AJ$401,2,0)","v":"八王子"},null,"男",null,62204,"羽矢","誠","ﾊﾔ","ﾏｺﾄ","HAYA","Makoto","男","06",1]
[62205,6,22,"菊田","力輝","ｷｸﾀ","ﾘｷ","KIKUTA","Riki","06",1,{"$f":"VLOOKUP(B1545*100+C1545,氏名データ!$AC$2:$AJ$401,2,0)","v":"八王子"},null,"男",null,62205,"菊田","力輝","ｷｸﾀ","ﾘｷ","KIKUTA","Riki","男","06",1]
[62206,6,22,"渡部","遥斗","ﾜﾀﾍﾞ","ﾊﾙﾄ","WATABE","Haruto","06",1,{"$f":"VLOOKUP(B1546*100+C1546,氏名データ!$AC$2:$AJ$401,2,0)","v":"八王子"},null,"男",null,62206,"渡部","遥斗","ﾜﾀﾍﾞ","ﾊﾙﾄ","WATABE","Haruto","男","06",1]
[62207,6,22,"加藤","潤麻","ｶﾄｳ","ｳﾙﾏ","KATO","Uruma","07",1,{"$f":"VLOOKUP(B1547*100+C1547,氏名データ!$AC$2:$AJ$401,2,0)","v":"八王子"},null,"男",null,62207,"加藤","潤麻","ｶﾄｳ","ｳﾙﾏ","KATO","Uruma","男","07",1]
[62208,6,22,"黒木","正暢","ｸﾛｷ","ﾏｻｷ","KUROKI","Masaki","06",1,{"$f":"VLOOKUP(B1548*100+C1548,氏名データ!$AC$2:$AJ$401,2,0)","v":"八王子"},null,"男",null,62208,"黒木","正暢","ｸﾛｷ","ﾏｻｷ","KUROKI","Masaki","男","06",1]
[62209,6,22,"川名","涼太","ｶﾜﾅ","ﾘｮｳﾀ","KAWANA","Ryota","06",1,{"$f":"VLOOKUP(B1549*100+C1549,氏名データ!$AC$2:$AJ$401,2,0)","v":"八王子"},null,"男",null,62209,"川名","涼太","ｶﾜﾅ","ﾘｮｳﾀ","KAWANA","Ryota","男","06",1]
[62210,6,22,"河口","瑛太","ｶﾜｸﾞﾁ","ｴｲﾀ","KAWAGUHI","Eita","06",1,{"$f":"VLOOKUP(B1550*100+C1550,氏名データ!$AC$2:$AJ$401,2,0)","v":"八王子"},null,"男",null,62210,"河口","瑛太","ｶﾜｸﾞﾁ","ｴｲﾀ","KAWAGUHI","Eita","男","06",1]
[62211,6,22,"守屋","遥翔","ﾓﾘﾔ","ﾊﾙﾄ","MORIYA","Haruto","06",1,{"$f":"VLOOKUP(B1551*100+C1551,氏名データ!$AC$2:$AJ$401,2,0)","v":"八王子"},null,"男",null,62211,"守屋","遥翔","ﾓﾘﾔ","ﾊﾙﾄ","MORIYA","Haruto","男","06",1]
[62212,6,22,"山下","聖人","ﾔﾏｼﾀ","ﾏｻﾄ","YAMASHITA","Masato","06",1,{"$f":"VLOOKUP(B1552*100+C1552,氏名データ!$AC$2:$AJ$401,2,0)","v":"八王子"},null,"男",null,62212,"山下","聖人","ﾔﾏｼﾀ","ﾏｻﾄ","YAMASHITA","Masato","男","06",1]
[62213,6,22,"笠井","颯太","ｶｻｲ","ｿｳﾀ","KASAI","Sota","07",1,{"$f":"VLOOKUP(B1553*100+C1553,氏名データ!$AC$2:$AJ$401,2,0)","v":"八王子"},null,"男",null,62213,"笠井","颯太","ｶｻｲ","ｿｳﾀ","KASAI","Sota","男","07",1]
[62214,6,22,"阪","啓輝","ｻｶ","ﾋﾛｷ","SAKA","Hiroki","04",3,{"$f":"VLOOKUP(B1554*100+C1554,氏名データ!$AC$2:$AJ$401,2,0)","v":"八王子"},null,"男",null,62214,"阪","啓輝","ｻｶ","ﾋﾛｷ","SAKA","Hiroki","男","04",3]
[62215,6,22,"金子","来夢","ｶﾈｺ","ﾗｲﾑ","KANEKO","Raimu","04",3,{"$f":"VLOOKUP(B1555*100+C1555,氏名データ!$AC$2:$AJ$401,2,0)","v":"八王子"},null,"男",null,62215,"金子","来夢","ｶﾈｺ","ﾗｲﾑ","KANEKO","Raimu","男","04",3]
[62216,6,22,"恩曽","敬展","ｵﾝｿ","ﾀｶﾉﾌﾞ","ONSO","Takanobu","04",3,{"$f":"VLOOKUP(B1556*100+C1556,氏名データ!$AC$2:$AJ$401,2,0)","v":"八王子"},null,"男",null,62216,"恩曽","敬展","ｵﾝｿ","ﾀｶﾉﾌﾞ","ONSO","Takanobu","男","04",3]
[62217,6,22,"諸星","真優","ﾓﾛﾎｼ","ﾏﾋﾛ","MOROHOSHI","Mahiro","04",3,{"$f":"VLOOKUP(B1557*100+C1557,氏名データ!$AC$2:$AJ$401,2,0)","v":"八王子"},null,"男",null,62217,"諸星","真優","ﾓﾛﾎｼ","ﾏﾋﾛ","MOROHOSHI","Mahiro","男","04",3]
[62218,6,22,"城条","涼介","ｼﾞｮｳｼﾞｮｳ","ﾘｮｳｽｹ","JOJO","Ryosuke","04",3,{"$f":"VLOOKUP(B1558*100+C1558,氏名データ!$AC$2:$AJ$401,2,0)","v":"八王子"},null,"男",null,62218,"城条","涼介","ｼﾞｮｳｼﾞｮｳ","ﾘｮｳｽｹ","JOJO","Ryosuke","男","04",3]
[62222,6,22,"四谷","渉真","ﾖﾂﾔ","ｼｮｳﾏ","YOTSUYA","Shoma","05",3,{"$f":"VLOOKUP(B1559*100+C1559,氏名データ!$AC$2:$AJ$401,2,0)","v":"八王子"},null,"男",null,62222,"四谷","渉真","ﾖﾂﾔ","ｼｮｳﾏ","YOTSUYA","Shoma","男","05",3]
[62223,6,22,"伊藤","誠","ｲﾄｳ","ﾏｺﾄ","ITO","Makoto","04",3,{"$f":"VLOOKUP(B1560*100+C1560,氏名データ!$AC$2:$AJ$401,2,0)","v":"八王子"},null,"男",null,62223,"伊藤","誠","ｲﾄｳ","ﾏｺﾄ","ITO","Makoto","男","04",3]
[62224,6,22,"平出","悠人","ﾋﾗｲﾃﾞ","ﾊﾙﾄ","HIRAIDE","Haruto","04",3,{"$f":"VLOOKUP(B1561*100+C1561,氏名データ!$AC$2:$AJ$401,2,0)","v":"八王子"},null,"男",null,62224,"平出","悠人","ﾋﾗｲﾃﾞ","ﾊﾙﾄ","HIRAIDE","Haruto","男","04",3]
[62225,6,22,"片山","大地","ｶﾀﾔﾏ","ﾀﾞｲﾁ","KATAYAMA","Daichi","04",3,{"$f":"VLOOKUP(B1562*100+C1562,氏名データ!$AC$2:$AJ$401,2,0)","v":"八王子"},null,"男",null,62225,"片山","大地","ｶﾀﾔﾏ","ﾀﾞｲﾁ","KATAYAMA","Daichi","男","04",3]
[62226,6,22,"管浪","翔","ｶﾝﾅﾐ","ｼｮｳ","KANNAMI","Sho","04",3,{"$f":"VLOOKUP(B1563*100+C1563,氏名データ!$AC$2:$AJ$401,2,0)","v":"八王子"},null,"男",null,62226,"管浪","翔","ｶﾝﾅﾐ","ｼｮｳ","KANNAMI","Sho","男","04",3]
[62228,6,22,"神山","雷羅","ｶﾐﾔﾏ","ﾗｲﾗ","KAMIYAMA","Raira","05",3,{"$f":"VLOOKUP(B1564*100+C1564,氏名データ!$AC$2:$AJ$401,2,0)","v":"八王子"},null,"男",null,62228,"神山","雷羅","ｶﾐﾔﾏ","ﾗｲﾗ","KAMIYAMA","Raira","男","05",3]
[62230,6,22,"出田","悠真","ｲﾃﾞﾀ","ﾕｳﾏ","IDETA","Yuma","04",3,{"$f":"VLOOKUP(B1565*100+C1565,氏名データ!$AC$2:$AJ$401,2,0)","v":"八王子"},null,"男",null,62230,"出田","悠真","ｲﾃﾞﾀ","ﾕｳﾏ","IDETA","Yuma","男","04",3]
[62231,6,22,"北峯","蓮","ｷﾀﾐﾈ","ﾚﾝ","KITAMINE","Ren","04",3,{"$f":"VLOOKUP(B1566*100+C1566,氏名データ!$AC$2:$AJ$401,2,0)","v":"八王子"},null,"男",null,62231,"北峯","蓮","ｷﾀﾐﾈ","ﾚﾝ","KITAMINE","Ren","男","04",3]
[62232,6,22,"桑嶋","翔琉","ｸﾜｼﾞﾏ","ｶｹﾙ","KUWAJIMA","Kakeru","04",3,{"$f":"VLOOKUP(B1567*100+C1567,氏名データ!$AC$2:$AJ$401,2,0)","v":"八王子"},null,"男",null,62232,"桑嶋","翔琉","ｸﾜｼﾞﾏ","ｶｹﾙ","KUWAJIMA","Kakeru","男","04",3]
[62233,6,22,"滝澤","遼太","ﾀｷｻﾞﾜ","ﾘｮｳﾀ","TAKIZAWA","Ryota","05",2,{"$f":"VLOOKUP(B1568*100+C1568,氏名データ!$AC$2:$AJ$401,2,0)","v":"八王子"},null,"男",null,62233,"滝澤","遼太","ﾀｷｻﾞﾜ","ﾘｮｳﾀ","TAKIZAWA","Ryota","男","05",2]
[62234,6,22,"中村","友哉","ﾅｶﾑﾗ","ﾄﾓﾔ","NAKAMURA","Tomoya","05",2,{"$f":"VLOOKUP(B1569*100+C1569,氏名データ!$AC$2:$AJ$401,2,0)","v":"八王子"},null,"男",null,62234,"中村","友哉","ﾅｶﾑﾗ","ﾄﾓﾔ","NAKAMURA","Tomoya","男","05",2]
[62235,6,22,"木住野","幸大","ｷｼﾉ","ｺｳﾀﾞｲ","KISHINO","Kodai","05",2,{"$f":"VLOOKUP(B1570*100+C1570,氏名データ!$AC$2:$AJ$401,2,0)","v":"八王子"},null,"男",null,62235,"木住野","幸大","ｷｼﾉ","ｺｳﾀﾞｲ","KISHINO","Kodai","男","05",2]
[62236,6,22,"渡部","楓","ﾜﾀﾅﾍﾞ","ｶｴﾃﾞ","WATANABE","Kaede","05",2,{"$f":"VLOOKUP(B1571*100+C1571,氏名データ!$AC$2:$AJ$401,2,0)","v":"八王子"},null,"男",null,62236,"渡部","楓","ﾜﾀﾅﾍﾞ","ｶｴﾃﾞ","WATANABE","Kaede","男","05",2]
[62237,6,22,"高原","一希","ﾀｶﾊﾗ","ｶｽﾞｷ","TAKAHARA","Kazuki","05",2,{"$f":"VLOOKUP(B1572*100+C1572,氏名データ!$AC$2:$AJ$401,2,0)","v":"八王子"},null,"男",null,62237,"高原","一希","ﾀｶﾊﾗ","ｶｽﾞｷ","TAKAHARA","Kazuki","男","05",2]
[62249,6,22,"山口","隼人","ﾔﾏｸﾞﾁ","ﾊﾔﾄ","YAMAGUCHI","Hayato","05",2,{"$f":"VLOOKUP(B1573*100+C1573,氏名データ!$AC$2:$AJ$401,2,0)","v":"八王子"},null,"男",null,62249,"山口","隼人","ﾔﾏｸﾞﾁ","ﾊﾔﾄ","YAMAGUCHI","Hayato","男","05",2]
[62250,6,22,"高橋","快周","ﾀｶﾊｼ","ｶｲｼｭｳ","TAKAHASHI","Kaisyu","06",2,{"$f":"VLOOKUP(B1574*100+C1574,氏名データ!$AC$2:$AJ$401,2,0)","v":"八王子"},null,"男",null,62250,"高橋","快周","ﾀｶﾊｼ","ｶｲｼｭｳ","TAKAHASHI","Kaisyu","男","06",2]
[62258,6,22,"宮田","稜子","ﾐﾔﾀ","ﾘｮｳｺ","MIYATA","Ryoko","04",3,{"$f":"VLOOKUP(B1575*100+C1575,氏名データ!$AC$2:$AJ$401,2,0)","v":"八王子"},null,"女",null,62258,"宮田","稜子","ﾐﾔﾀ","ﾘｮｳｺ","MIYATA","Ryoko","女","04",3]
[62259,6,22,"長谷川","有希奈","ﾊｾｶﾞﾜ","ﾕｷﾅ","HASEGAWA","Yukina","04",3,{"$f":"VLOOKUP(B1576*100+C1576,氏名データ!$AC$2:$AJ$401,2,0)","v":"八王子"},null,"女",null,62259,"長谷川","有希奈","ﾊｾｶﾞﾜ","ﾕｷﾅ","HASEGAWA","Yukina","女","04",3]
[62260,6,22,"宮島","和花","ﾐﾔｼﾞﾏ","ﾜｶ","MIYAJIMA","Waka","04",3,{"$f":"VLOOKUP(B1577*100+C1577,氏名データ!$AC$2:$AJ$401,2,0)","v":"八王子"},null,"女",null,62260,"宮島","和花","ﾐﾔｼﾞﾏ","ﾜｶ","MIYAJIMA","Waka","女","04",3]
[62261,6,22,"関田","結穂","ｾｷﾀ","ﾕｲﾎ","SEKITA","Yuiho","04",3,{"$f":"VLOOKUP(B1578*100+C1578,氏名データ!$AC$2:$AJ$401,2,0)","v":"八王子"},null,"女",null,62261,"関田","結穂","ｾｷﾀ","ﾕｲﾎ","SEKITA","Yuiho","女","04",3]
[62262,6,22,"初田","柚香","ﾊﾂﾀﾞ","ﾕｳｶ","HATSUDA","Yuuka","04",3,{"$f":"VLOOKUP(B1579*100+C1579,氏名データ!$AC$2:$AJ$401,2,0)","v":"八王子"},null,"女",null,62262,"初田","柚香","ﾊﾂﾀﾞ","ﾕｳｶ","HATSUDA","Yuuka","女","04",3]
[62263,6,22,"大口","桃果","ｵｵｸﾁ","ﾓﾓｶ","OHKUCHI","Momoka","05",3,{"$f":"VLOOKUP(B1580*100+C1580,氏名データ!$AC$2:$AJ$401,2,0)","v":"八王子"},null,"女",null,62263,"大口","桃果","ｵｵｸﾁ","ﾓﾓｶ","OHKUCHI","Momoka","女","05",3]
[62264,6,22,"村上","日南","ﾑﾗｶﾐ","ﾋﾅﾀ","MURAKAMI","Hinata","05",3,{"$f":"VLOOKUP(B1581*100+C1581,氏名データ!$AC$2:$AJ$401,2,0)","v":"八王子"},null,"女",null,62264,"村上","日南","ﾑﾗｶﾐ","ﾋﾅﾀ","MURAKAMI","Hinata","女","05",3]
[62276,6,22,"川﨑","啓子","ｶﾜｻｷ","ｹｲｺ","KAWASAKI","Keiko","06",2,{"$f":"VLOOKUP(B1582*100+C1582,氏名データ!$AC$2:$AJ$401,2,0)","v":"八王子"},null,"女",null,62276,"川﨑","啓子","ｶﾜｻｷ","ｹｲｺ","KAWASAKI","Keiko","女","06",2]
[62277,6,22,"中村","咲良","ﾅｶﾑﾗ","ｻｸﾗ","NAKAMURA","Sakura","05",2,{"$f":"VLOOKUP(B1583*100+C1583,氏名データ!$AC$2:$AJ$401,2,0)","v":"八王子"},null,"女",null,62277,"中村","咲良","ﾅｶﾑﾗ","ｻｸﾗ","NAKAMURA","Sakura","女","05",2]
[62278,6,22,"入江","有咲陽","ｲﾘｴ","ｱｻﾋ","IRIE","Asahi","05",2,{"$f":"VLOOKUP(B1584*100+C1584,氏名データ!$AC$2:$AJ$401,2,0)","v":"八王子"},null,"女",null,62278,"入江","有咲陽","ｲﾘｴ","ｱｻﾋ","IRIE","Asahi","女","05",2]
[62279,6,22,"高橋","愛心","ﾀｶﾊｼ","ｴﾚﾝ","TAKAHASHI","Eren","05",2,{"$f":"VLOOKUP(B1585*100+C1585,氏名データ!$AC$2:$AJ$401,2,0)","v":"八王子"},null,"女",null,62279,"高橋","愛心","ﾀｶﾊｼ","ｴﾚﾝ","TAKAHASHI","Eren","女","05",2]
[62280,6,22,"坂井","十和子","ｻｶｲ","ﾄﾜｺ","SAKAI","Towako","05",2,{"$f":"VLOOKUP(B1586*100+C1586,氏名データ!$AC$2:$AJ$401,2,0)","v":"八王子"},null,"女",null,62280,"坂井","十和子","ｻｶｲ","ﾄﾜｺ","SAKAI","Towako","女","05",2]
[62281,6,22,"坂本","恵美","ｻｶﾓﾄ","ﾒｸﾞﾐ","SAKAMOTO","Megumi","04",3,{"$f":"VLOOKUP(B1587*100+C1587,氏名データ!$AC$2:$AJ$401,2,0)","v":"八王子"},null,"女",null,62281,"坂本","恵美","ｻｶﾓﾄ","ﾒｸﾞﾐ","SAKAMOTO","Megumi","女","04",3]
[62283,6,22,"本間","美結","ﾎﾝﾏ","ﾐｭｳ","HOMMA","Myu","06",1,{"$f":"VLOOKUP(B1588*100+C1588,氏名データ!$AC$2:$AJ$401,2,0)","v":"八王子"},null,"女",null,62283,"本間","美結","ﾎﾝﾏ","ﾐｭｳ","HOMMA","Myu","女","06",1]
[62284,6,22,"齊藤","美咲","ｻｲﾄｳ","ﾐｻｷ","SAITO","Misaki","07",1,{"$f":"VLOOKUP(B1589*100+C1589,氏名データ!$AC$2:$AJ$401,2,0)","v":"八王子"},null,"女",null,62284,"齊藤","美咲","ｻｲﾄｳ","ﾐｻｷ","SAITO","Misaki","女","07",1]
[62285,6,22,"田中","美羽","ﾀﾅｶ","ﾐｳ","TANAKA","Miu","06",1,{"$f":"VLOOKUP(B1590*100+C1590,氏名データ!$AC$2:$AJ$401,2,0)","v":"八王子"},null,"女",null,62285,"田中","美羽","ﾀﾅｶ","ﾐｳ","TANAKA","Miu","女","06",1]
[62286,6,22,"佐藤","初音","ｻﾄｳ","ﾊﾂﾈ","SATO","Hatsune","06",1,{"$f":"VLOOKUP(B1591*100+C1591,氏名データ!$AC$2:$AJ$401,2,0)","v":"八王子"},null,"女",null,62286,"佐藤","初音","ｻﾄｳ","ﾊﾂﾈ","SATO","Hatsune","女","06",1]
[62287,6,22,"橋根","真理","ﾊｼﾈ","ﾏﾘ","HASHINE","Mari","06",1,{"$f":"VLOOKUP(B1592*100+C1592,氏名データ!$AC$2:$AJ$401,2,0)","v":"八王子"},null,"女",null,62287,"橋根","真理","ﾊｼﾈ","ﾏﾘ","HASHINE","Mari","女","06",1]
[62288,6,22,"中村","桜雪","ﾅｶﾑﾗ","ｵｳｾ","NAKAMURA","Ose","06",1,{"$f":"VLOOKUP(B1593*100+C1593,氏名データ!$AC$2:$AJ$401,2,0)","v":"八王子"},null,"女",null,62288,"中村","桜雪","ﾅｶﾑﾗ","ｵｳｾ","NAKAMURA","Ose","女","06",1]
[62290,6,22,"福西","和香子","ﾌｸﾆｼ","ﾜｶｺ","FUKUNISHI","Wakako","06",1,{"$f":"VLOOKUP(B1594*100+C1594,氏名データ!$AC$2:$AJ$401,2,0)","v":"八王子"},null,"女",null,62290,"福西","和香子","ﾌｸﾆｼ","ﾜｶｺ","FUKUNISHI","Wakako","女","06",1]
[62291,6,22,"小野寺","優奈","ｵﾉﾃﾞﾗ","ﾕｳﾅ","ONODERA","Yuna","07",1,{"$f":"VLOOKUP(B1595*100+C1595,氏名データ!$AC$2:$AJ$401,2,0)","v":"八王子"},null,"女",null,62291,"小野寺","優奈","ｵﾉﾃﾞﾗ","ﾕｳﾅ","ONODERA","Yuna","女","07",1]
[62292,6,22,"大槻","さくら","ｵｵﾂｷ","ｻｸﾗ","OTSUKI","Sakura","06",1,{"$f":"VLOOKUP(B1596*100+C1596,氏名データ!$AC$2:$AJ$401,2,0)","v":"八王子"},null,"女",null,62292,"大槻","さくら","ｵｵﾂｷ","ｻｸﾗ","OTSUKI","Sakura","女","06",1]
[62293,6,22,"原本","梨花","ﾊﾗﾓﾄ","ﾘﾝｶ","HARAMOTO","Rinka","06",1,{"$f":"VLOOKUP(B1597*100+C1597,氏名データ!$AC$2:$AJ$401,2,0)","v":"八王子"},null,"女",null,62293,"原本","梨花","ﾊﾗﾓﾄ","ﾘﾝｶ","HARAMOTO","Rinka","女","06",1]
[62294,6,22,"大高","虹香","ｵｵﾀｶ","ﾆｺ","OTAKA","Niko","06",1,{"$f":"VLOOKUP(B1598*100+C1598,氏名データ!$AC$2:$AJ$401,2,0)","v":"八王子"},null,"女",null,62294,"大高","虹香","ｵｵﾀｶ","ﾆｺ","OTAKA","Niko","女","06",1]
[62295,6,22,"村松","瑠奈","ﾑﾗﾏﾂ","ﾙﾅ","MURAMATSU","Luna","06",1,{"$f":"VLOOKUP(B1599*100+C1599,氏名データ!$AC$2:$AJ$401,2,0)","v":"八王子"},null,"女",null,62295,"村松","瑠奈","ﾑﾗﾏﾂ","ﾙﾅ","MURAMATSU","Luna","女","06",1]
[62296,6,22,"篠山","那弥子","ｼﾉﾔﾏ","ﾅﾐｺ","SHINOYAMA","Namiko","07",1,{"$f":"VLOOKUP(B1600*100+C1600,氏名データ!$AC$2:$AJ$401,2,0)","v":"八王子"},null,"女",null,62296,"篠山","那弥子","ｼﾉﾔﾏ","ﾅﾐｺ","SHINOYAMA","Namiko","女","07",1]
[62297,6,22,"真野","友芭","ﾏﾉ","ﾄﾓﾊ","MANO","Tomoha","06",1,{"$f":"VLOOKUP(B1601*100+C1601,氏名データ!$AC$2:$AJ$401,2,0)","v":"八王子"},null,"女",null,62297,"真野","友芭","ﾏﾉ","ﾄﾓﾊ","MANO","Tomoha","女","06",1]
[62298,6,22,"太田原","葵","ｵｵﾀﾜﾗ","ｱｵｲ","OTAWARA","Aoi","07",1,{"$f":"VLOOKUP(B1602*100+C1602,氏名データ!$AC$2:$AJ$401,2,0)","v":"八王子"},null,"女",null,62298,"太田原","葵","ｵｵﾀﾜﾗ","ｱｵｲ","OTAWARA","Aoi","女","07",1]
[{"$f":"P1603","v":62299},{"$f":"ROUNDDOWN(A1603/10000,0)","v":6},{"$f":"ROUNDDOWN((A1603-B1603*10000)/100,0)","v":22},{"$f":"Q1603","v":"山上"},{"$f":"R1603","v":"沙羅"},{"$f":"S1603","v":"ﾔﾏｶﾞﾐ"},{"$f":"T1603","v":"ｻﾗ"},{"$f":"U1603","v":"YAMAGAMI"},{"$f":"V1603","v":"Sara"},{"$f":"X1603","v":"05"},{"$f":"Y1603","v":2},{"$f":"VLOOKUP(B1603*100+C1603,氏名データ!$AC$2:$AJ$401,2,0)","v":"八王子"},null,{"$f":"W1603","v":"女"},null,62299,"山上","沙羅","ﾔﾏｶﾞﾐ","ｻﾗ","YAMAGAMI","Sara","女","05",2]
[62301,6,23,"青栁","輝俊","ｱｵﾔｷﾞ","ﾃﾙﾄｼ","AOYAGI","Terutoshi","06",1,{"$f":"VLOOKUP(B1604*100+C1604,氏名データ!$AC$2:$AJ$401,2,0)","v":"八王子実践"},null,"男",null,62301,"青栁","輝俊","ｱｵﾔｷﾞ","ﾃﾙﾄｼ","AOYAGI","Terutoshi","男","06",1]
[62302,6,23,"雨宮","友貴","ｱﾒﾐﾔ","ﾕｳｷ","AMEMIYA","Yuki","06",1,{"$f":"VLOOKUP(B1605*100+C1605,氏名データ!$AC$2:$AJ$401,2,0)","v":"八王子実践"},null,"男",null,62302,"雨宮","友貴","ｱﾒﾐﾔ","ﾕｳｷ","AMEMIYA","Yuki","男","06",1]
[62303,6,23,"岩﨑","翔真","ｲﾜｻｷ","ｼｮｳﾏ","IWASAKI","Shoma","06",1,{"$f":"VLOOKUP(B1606*100+C1606,氏名データ!$AC$2:$AJ$401,2,0)","v":"八王子実践"},null,"男",null,62303,"岩﨑","翔真","ｲﾜｻｷ","ｼｮｳﾏ","IWASAKI","Shoma","男","06",1]
[62304,6,23,"及川","慶","ｵｲｶﾜ","ｹｲ","OIKAWA","Kei","06",1,{"$f":"VLOOKUP(B1607*100+C1607,氏名データ!$AC$2:$AJ$401,2,0)","v":"八王子実践"},null,"男",null,62304,"及川","慶","ｵｲｶﾜ","ｹｲ","OIKAWA","Kei","男","06",1]
[62305,6,23,"大石","隼人","ｵｵｲｼ","ﾊﾔﾄ","OISHI","Hayato","06",1,{"$f":"VLOOKUP(B1608*100+C1608,氏名データ!$AC$2:$AJ$401,2,0)","v":"八王子実践"},null,"男",null,62305,"大石","隼人","ｵｵｲｼ","ﾊﾔﾄ","OISHI","Hayato","男","06",1]
[62306,6,23,"佐藤","陽星","ｻﾄｳ","ﾖｳｾｲ","SATO","Yosei","06",1,{"$f":"VLOOKUP(B1609*100+C1609,氏名データ!$AC$2:$AJ$401,2,0)","v":"八王子実践"},null,"男",null,62306,"佐藤","陽星","ｻﾄｳ","ﾖｳｾｲ","SATO","Yosei","男","06",1]
[62307,6,23,"新佛","柊也","ｼﾝﾌﾞﾂ","ｼｭｳﾔ","SINBUTSU","Syuya","06",1,{"$f":"VLOOKUP(B1610*100+C1610,氏名データ!$AC$2:$AJ$401,2,0)","v":"八王子実践"},null,"男",null,62307,"新佛","柊也","ｼﾝﾌﾞﾂ","ｼｭｳﾔ","SINBUTSU","Syuya","男","06",1]
[62308,6,23,"角野","優斗","ｽﾐﾉ","ﾕｳﾄ","SUMINO","Yuto","06",1,{"$f":"VLOOKUP(B1611*100+C1611,氏名データ!$AC$2:$AJ$401,2,0)","v":"八王子実践"},null,"男",null,62308,"角野","優斗","ｽﾐﾉ","ﾕｳﾄ","SUMINO","Yuto","男","06",1]
[62309,6,23,"庭山","正太","ﾆﾜﾔﾏ","ｼｮｳﾀ","NIWAYAMA","Syota","06",1,{"$f":"VLOOKUP(B1612*100+C1612,氏名データ!$AC$2:$AJ$401,2,0)","v":"八王子実践"},null,"男",null,62309,"庭山","正太","ﾆﾜﾔﾏ","ｼｮｳﾀ","NIWAYAMA","Syota","男","06",1]
[62310,6,23,"根津","弘毅","ﾈﾂﾞ","ﾋﾛｷ","NEDU","Hiroki","06",1,{"$f":"VLOOKUP(B1613*100+C1613,氏名データ!$AC$2:$AJ$401,2,0)","v":"八王子実践"},null,"男",null,62310,"根津","弘毅","ﾈﾂﾞ","ﾋﾛｷ","NEDU","Hiroki","男","06",1]
[62311,6,23,"林","凜","ﾊﾔｼ","ﾘﾝ","HAYASHI","Rin","07",1,{"$f":"VLOOKUP(B1614*100+C1614,氏名データ!$AC$2:$AJ$401,2,0)","v":"八王子実践"},null,"男",null,62311,"林","凜","ﾊﾔｼ","ﾘﾝ","HAYASHI","Rin","男","07",1]
[62312,6,23,"藤﨑","悠人","ﾌｼﾞｻｷ","ﾕｳﾄ","FUJISAKI","Yuto","06",1,{"$f":"VLOOKUP(B1615*100+C1615,氏名データ!$AC$2:$AJ$401,2,0)","v":"八王子実践"},null,"男",null,62312,"藤﨑","悠人","ﾌｼﾞｻｷ","ﾕｳﾄ","FUJISAKI","Yuto","男","06",1]
[62313,6,23,"峯浦","颯太朗","ﾐﾈｳﾗ","ｿｳﾀﾛｳ","MINEURA","Sotaro","06",1,{"$f":"VLOOKUP(B1616*100+C1616,氏名データ!$AC$2:$AJ$401,2,0)","v":"八王子実践"},null,"男",null,62313,"峯浦","颯太朗","ﾐﾈｳﾗ","ｿｳﾀﾛｳ","MINEURA","Sotaro","男","06",1]
[62314,6,23,"三堀","滉大","ﾐﾎﾘ","ｺｳﾀ","MIHORI","Kota","06",1,{"$f":"VLOOKUP(B1617*100+C1617,氏名データ!$AC$2:$AJ$401,2,0)","v":"八王子実践"},null,"男",null,62314,"三堀","滉大","ﾐﾎﾘ","ｺｳﾀ","MIHORI","Kota","男","06",1]
[62315,6,23,"宮田","賢信","ﾐﾔﾀ","ｹﾝｼﾝ","MIYATA","Kenshin","06",1,{"$f":"VLOOKUP(B1618*100+C1618,氏名データ!$AC$2:$AJ$401,2,0)","v":"八王子実践"},null,"男",null,62315,"宮田","賢信","ﾐﾔﾀ","ｹﾝｼﾝ","MIYATA","Kenshin","男","06",1]
[62316,6,23,"宮本","海凪","ﾐﾔﾓﾄ","ﾐﾅｷﾞ","MIYAMOTO","Minagi","06",1,{"$f":"VLOOKUP(B1619*100+C1619,氏名データ!$AC$2:$AJ$401,2,0)","v":"八王子実践"},null,"男",null,62316,"宮本","海凪","ﾐﾔﾓﾄ","ﾐﾅｷﾞ","MIYAMOTO","Minagi","男","06",1]
[62325,6,23,"喜多","真大","ｷﾀ","ﾏｵ","KITA","Mao","04",3,{"$f":"VLOOKUP(B1620*100+C1620,氏名データ!$AC$2:$AJ$401,2,0)","v":"八王子実践"},null,"男",null,62325,"喜多","真大","ｷﾀ","ﾏｵ","KITA","Mao","男","04",3]
[62326,6,23,"西村","悠晟","ﾆｼﾑﾗ","ﾕｳｾｲ","NISHIMURA","Yusei","04",3,{"$f":"VLOOKUP(B1621*100+C1621,氏名データ!$AC$2:$AJ$401,2,0)","v":"八王子実践"},null,"男",null,62326,"西村","悠晟","ﾆｼﾑﾗ","ﾕｳｾｲ","NISHIMURA","Yusei","男","04",3]
[62327,6,23,"吉田","雄優心","ﾖｼ","ﾕｳｼﾞﾝ","YOSHIDA","Yujin","04",3,{"$f":"VLOOKUP(B1622*100+C1622,氏名データ!$AC$2:$AJ$401,2,0)","v":"八王子実践"},null,"男",null,62327,"吉田","雄優心","ﾖｼ","ﾕｳｼﾞﾝ","YOSHIDA","Yujin","男","04",3]
[62328,6,23,"星野","晴太朗","ﾎｼﾉ","ｾｲﾀﾛｳ","HOSHINO","Seitaro","04",3,{"$f":"VLOOKUP(B1623*100+C1623,氏名データ!$AC$2:$AJ$401,2,0)","v":"八王子実践"},null,"男",null,62328,"星野","晴太朗","ﾎｼﾉ","ｾｲﾀﾛｳ","HOSHINO","Seitaro","男","04",3]
[62329,6,23,"清水","勇理","ｼﾐｽﾞ","ﾕｳﾘ","SHIMIZU","Yuuri","05",3,{"$f":"VLOOKUP(B1624*100+C1624,氏名データ!$AC$2:$AJ$401,2,0)","v":"八王子実践"},null,"男",null,62329,"清水","勇理","ｼﾐｽﾞ","ﾕｳﾘ","SHIMIZU","Yuuri","男","05",3]
[62330,6,23,"名倉","文剛","ﾅｸﾞﾗ","ﾌﾐﾀｹ","NAGURA","Fumitake","04",3,{"$f":"VLOOKUP(B1625*100+C1625,氏名データ!$AC$2:$AJ$401,2,0)","v":"八王子実践"},null,"男",null,62330,"名倉","文剛","ﾅｸﾞﾗ","ﾌﾐﾀｹ","NAGURA","Fumitake","男","04",3]
[62333,6,23,"小林","大耀","ｺﾊﾞﾔｼ","ﾀｲﾖｳ","KOBAYASHI","Taiyou","04",3,{"$f":"VLOOKUP(B1626*100+C1626,氏名データ!$AC$2:$AJ$401,2,0)","v":"八王子実践"},null,"男",null,62333,"小林","大耀","ｺﾊﾞﾔｼ","ﾀｲﾖｳ","KOBAYASHI","Taiyou","男","04",3]
[62334,6,23,"助岡","佑一","ｽｹｵｶ","ﾕｳｲﾁ","SUKEOKA","Yuichi","04",3,{"$f":"VLOOKUP(B1627*100+C1627,氏名データ!$AC$2:$AJ$401,2,0)","v":"八王子実践"},null,"男",null,62334,"助岡","佑一","ｽｹｵｶ","ﾕｳｲﾁ","SUKEOKA","Yuichi","男","04",3]
[62335,6,23,"日比","尚人","ﾋﾋﾞ","ﾅｵﾄ","HIBI","Naoto","04",3,{"$f":"VLOOKUP(B1628*100+C1628,氏名データ!$AC$2:$AJ$401,2,0)","v":"八王子実践"},null,"男",null,62335,"日比","尚人","ﾋﾋﾞ","ﾅｵﾄ","HIBI","Naoto","男","04",3]
[62336,6,23,"牧野","兼大","ﾏｷﾉ","ｹﾝﾄ","MAKINO","Kento","04",3,{"$f":"VLOOKUP(B1629*100+C1629,氏名データ!$AC$2:$AJ$401,2,0)","v":"八王子実践"},null,"男",null,62336,"牧野","兼大","ﾏｷﾉ","ｹﾝﾄ","MAKINO","Kento","男","04",3]
[62337,6,23,"山野","太日陽","ﾔﾏﾉ","ﾀｶﾊﾙ","YAMANO","Takaharu","04",3,{"$f":"VLOOKUP(B1630*100+C1630,氏名データ!$AC$2:$AJ$401,2,0)","v":"八王子実践"},null,"男",null,62337,"山野","太日陽","ﾔﾏﾉ","ﾀｶﾊﾙ","YAMANO","Takaharu","男","04",3]
[62338,6,23,"菅野","拓海","ｽｶﾞﾉ","ﾀｸﾐ","SUGANO","Takumi","04",3,{"$f":"VLOOKUP(B1631*100+C1631,氏名データ!$AC$2:$AJ$401,2,0)","v":"八王子実践"},null,"男",null,62338,"菅野","拓海","ｽｶﾞﾉ","ﾀｸﾐ","SUGANO","Takumi","男","04",3]
[62339,6,23,"秋常","宗幸","ｱｷﾂﾈ","ﾑﾈﾕｷ","AKITUNE","Muneyuki","05",3,{"$f":"VLOOKUP(B1632*100+C1632,氏名データ!$AC$2:$AJ$401,2,0)","v":"八王子実践"},null,"男",null,62339,"秋常","宗幸","ｱｷﾂﾈ","ﾑﾈﾕｷ","AKITUNE","Muneyuki","男","05",3]
[62340,6,23,"一瀬","隼矢","ｲﾁﾉｾ","ｼｭﾝﾔ","ICHINOSE","Syunya","05",2,{"$f":"VLOOKUP(B1633*100+C1633,氏名データ!$AC$2:$AJ$401,2,0)","v":"八王子実践"},null,"男",null,62340,"一瀬","隼矢","ｲﾁﾉｾ","ｼｭﾝﾔ","ICHINOSE","Syunya","男","05",2]
[62341,6,23,"杉浦","亮成","ｽｷﾞｳﾗ","ﾘｮｳｾｲ","SUGIURA","Ryosei","05",2,{"$f":"VLOOKUP(B1634*100+C1634,氏名データ!$AC$2:$AJ$401,2,0)","v":"八王子実践"},null,"男",null,62341,"杉浦","亮成","ｽｷﾞｳﾗ","ﾘｮｳｾｲ","SUGIURA","Ryosei","男","05",2]
[62342,6,23,"稲葉","里和","ｲﾅﾊﾞ","ﾘｵ","INABA","Rio","05",2,{"$f":"VLOOKUP(B1635*100+C1635,氏名データ!$AC$2:$AJ$401,2,0)","v":"八王子実践"},null,"男",null,62342,"稲葉","里和","ｲﾅﾊﾞ","ﾘｵ","INABA","Rio","男","05",2]
[62344,6,23,"牛越","達哉","ｳｼｺｼ","ﾀﾂﾔ","USHIKOSHI","Tatsuya","05",2,{"$f":"VLOOKUP(B1636*100+C1636,氏名データ!$AC$2:$AJ$401,2,0)","v":"八王子実践"},null,"男",null,62344,"牛越","達哉","ｳｼｺｼ","ﾀﾂﾔ","USHIKOSHI","Tatsuya","男","05",2]
[62345,6,23,"門倉","尚矢","ｶﾄﾞｸﾗ","ﾅｵﾔ","KADOKURA","Naoya","05",2,{"$f":"VLOOKUP(B1637*100+C1637,氏名データ!$AC$2:$AJ$401,2,0)","v":"八王子実践"},null,"男",null,62345,"門倉","尚矢","ｶﾄﾞｸﾗ","ﾅｵﾔ","KADOKURA","Naoya","男","05",2]
[62346,6,23,"大西","夢羽飛","ｵｵﾆｼ","ﾕｳﾋ","OONISHI","Yuuhi","05",2,{"$f":"VLOOKUP(B1638*100+C1638,氏名データ!$AC$2:$AJ$401,2,0)","v":"八王子実践"},null,"男",null,62346,"大西","夢羽飛","ｵｵﾆｼ","ﾕｳﾋ","OONISHI","Yuuhi","男","05",2]
[62348,6,23,"大隅","仰陽","ｵｵｽﾐ","ｺｳﾖｳ","OOSUMI","Koyo","05",2,{"$f":"VLOOKUP(B1639*100+C1639,氏名データ!$AC$2:$AJ$401,2,0)","v":"八王子実践"},null,"男",null,62348,"大隅","仰陽","ｵｵｽﾐ","ｺｳﾖｳ","OOSUMI","Koyo","男","05",2]
[62349,6,23,"小松","雄大","ｺﾏﾂ","ﾕｳﾀﾞｲ","KOMATSU","Yudai","05",2,{"$f":"VLOOKUP(B1640*100+C1640,氏名データ!$AC$2:$AJ$401,2,0)","v":"八王子実践"},null,"男",null,62349,"小松","雄大","ｺﾏﾂ","ﾕｳﾀﾞｲ","KOMATSU","Yudai","男","05",2]
[62350,6,23,"小倉","武希","ｵｸﾞﾗ","ﾀﾂｷ","OGURA","Tatsuki","05",2,{"$f":"VLOOKUP(B1641*100+C1641,氏名データ!$AC$2:$AJ$401,2,0)","v":"八王子実践"},null,"男",null,62350,"小倉","武希","ｵｸﾞﾗ","ﾀﾂｷ","OGURA","Tatsuki","男","05",2]
[62360,6,23,"森田","結梨","ﾓﾘﾀ","ﾕｳﾘ","MORITA","Yuuri","05",2,{"$f":"VLOOKUP(B1642*100+C1642,氏名データ!$AC$2:$AJ$401,2,0)","v":"八王子実践"},null,"女",null,62360,"森田","結梨","ﾓﾘﾀ","ﾕｳﾘ","MORITA","Yuuri","女","05",2]
[62361,6,23,"宮寺","葵","ﾐﾔﾃﾞﾗ","ｱｵｲ","MIYADERA","Aoi","05",2,{"$f":"VLOOKUP(B1643*100+C1643,氏名データ!$AC$2:$AJ$401,2,0)","v":"八王子実践"},null,"女",null,62361,"宮寺","葵","ﾐﾔﾃﾞﾗ","ｱｵｲ","MIYADERA","Aoi","女","05",2]
[62363,6,23,"森岡","優海","ﾓﾘｵｶ","ﾕｳﾐ","MORIOKA","Yuumi","05",2,{"$f":"VLOOKUP(B1644*100+C1644,氏名データ!$AC$2:$AJ$401,2,0)","v":"八王子実践"},null,"女",null,62363,"森岡","優海","ﾓﾘｵｶ","ﾕｳﾐ","MORIOKA","Yuumi","女","05",2]
[62364,6,23,"佐野","綾音","ｻﾉ","ｱﾔﾈ","SANO","Ayane","06",2,{"$f":"VLOOKUP(B1645*100+C1645,氏名データ!$AC$2:$AJ$401,2,0)","v":"八王子実践"},null,"女",null,62364,"佐野","綾音","ｻﾉ","ｱﾔﾈ","SANO","Ayane","女","06",2]
[62365,6,23,"栗原","梨来","ｸﾘﾊﾗ","ﾘｺ","KURIHARA","Riko","05",2,{"$f":"VLOOKUP(B1646*100+C1646,氏名データ!$AC$2:$AJ$401,2,0)","v":"八王子実践"},null,"女",null,62365,"栗原","梨来","ｸﾘﾊﾗ","ﾘｺ","KURIHARA","Riko","女","05",2]
[62366,6,23,"中野","由唯","ﾅｶﾉ","ﾕｲ","NAKANO","Yui","05",2,{"$f":"VLOOKUP(B1647*100+C1647,氏名データ!$AC$2:$AJ$401,2,0)","v":"八王子実践"},null,"女",null,62366,"中野","由唯","ﾅｶﾉ","ﾕｲ","NAKANO","Yui","女","05",2]
[62367,6,23,"三輪","栞奈","ﾐﾜ","ｶﾝﾅ","MIWA","Kanna","06",1,{"$f":"VLOOKUP(B1648*100+C1648,氏名データ!$AC$2:$AJ$401,2,0)","v":"八王子実践"},null,"女",null,62367,"三輪","栞奈","ﾐﾜ","ｶﾝﾅ","MIWA","Kanna","女","06",1]
[62368,6,23,"太田","侑希","ｵｵﾀ","ﾕｷ","OTA","Yuki","06",1,{"$f":"VLOOKUP(B1649*100+C1649,氏名データ!$AC$2:$AJ$401,2,0)","v":"八王子実践"},null,"女",null,62368,"太田","侑希","ｵｵﾀ","ﾕｷ","OTA","Yuki","女","06",1]
[62369,6,23,"遠藤","結生","ｴﾝﾄﾞｳ","ﾕｲ","ENDO","Yui","06",1,{"$f":"VLOOKUP(B1650*100+C1650,氏名データ!$AC$2:$AJ$401,2,0)","v":"八王子実践"},null,"女",null,62369,"遠藤","結生","ｴﾝﾄﾞｳ","ﾕｲ","ENDO","Yui","女","06",1]
[62370,6,23,"黒川","古都美","ｸﾛｶﾜ","ｺﾄﾐ","KUROKAWA","Kotomi","07",1,{"$f":"VLOOKUP(B1651*100+C1651,氏名データ!$AC$2:$AJ$401,2,0)","v":"八王子実践"},null,"女",null,62370,"黒川","古都美","ｸﾛｶﾜ","ｺﾄﾐ","KUROKAWA","Kotomi","女","07",1]
[62371,6,23,"坂上","花","ｻｶｳｴ","ﾊﾅ","SAKAUE","Hana","06",1,{"$f":"VLOOKUP(B1652*100+C1652,氏名データ!$AC$2:$AJ$401,2,0)","v":"八王子実践"},null,"女",null,62371,"坂上","花","ｻｶｳｴ","ﾊﾅ","SAKAUE","Hana","女","06",1]
[62372,6,23,"岡部","来海","ｵｶﾍﾞ","ｸﾙﾐ","OKABE","Kurumi","06",1,{"$f":"VLOOKUP(B1653*100+C1653,氏名データ!$AC$2:$AJ$401,2,0)","v":"八王子実践"},null,"女",null,62372,"岡部","来海","ｵｶﾍﾞ","ｸﾙﾐ","OKABE","Kurumi","女","06",1]
[62373,6,23,"山口","優衣","ﾔﾏｸﾞﾁ","ﾕｲ","YAMAGUCHI","Yui","06",1,{"$f":"VLOOKUP(B1654*100+C1654,氏名データ!$AC$2:$AJ$401,2,0)","v":"八王子実践"},null,"女",null,62373,"山口","優衣","ﾔﾏｸﾞﾁ","ﾕｲ","YAMAGUCHI","Yui","女","06",1]
[62412,6,24,"永石","雄大","ﾅｶﾞｲｼ","ﾕｳﾀ","NAGAISHI","Yuta","04",3,{"$f":"VLOOKUP(B1655*100+C1655,氏名データ!$AC$2:$AJ$401,2,0)","v":"明中八王子"},null,"男",null,62412,"永石","雄大","ﾅｶﾞｲｼ","ﾕｳﾀ","NAGAISHI","Yuta","男","04",3]
[62413,6,24,"岸本","空","ｷｼﾓﾄ","ｿﾗ","KISHIMOTO","Sora","04",3,{"$f":"VLOOKUP(B1656*100+C1656,氏名データ!$AC$2:$AJ$401,2,0)","v":"明中八王子"},null,"男",null,62413,"岸本","空","ｷｼﾓﾄ","ｿﾗ","KISHIMOTO","Sora","男","04",3]
[62414,6,24,"千葉","優太","ﾁﾊﾞ","ﾕｳﾀ","CHIBA","Yuta","04",3,{"$f":"VLOOKUP(B1657*100+C1657,氏名データ!$AC$2:$AJ$401,2,0)","v":"明中八王子"},null,"男",null,62414,"千葉","優太","ﾁﾊﾞ","ﾕｳﾀ","CHIBA","Yuta","男","04",3]
[62416,6,24,"土屋","悠翔","ﾂﾁﾔ","ﾕｳﾄ","TSUCHIYA","Yuto","04",3,{"$f":"VLOOKUP(B1658*100+C1658,氏名データ!$AC$2:$AJ$401,2,0)","v":"明中八王子"},null,"男",null,62416,"土屋","悠翔","ﾂﾁﾔ","ﾕｳﾄ","TSUCHIYA","Yuto","男","04",3]
[62417,6,24,"古山","尚季","ﾌﾙﾔﾏ","ﾅｵｷ","FURUYAMA","Naoki","04",3,{"$f":"VLOOKUP(B1659*100+C1659,氏名データ!$AC$2:$AJ$401,2,0)","v":"明中八王子"},null,"男",null,62417,"古山","尚季","ﾌﾙﾔﾏ","ﾅｵｷ","FURUYAMA","Naoki","男","04",3]
[62418,6,24,"鵜野","惠冴","ｳﾉ","ｹｲｺﾞ","UNO","Keigo","04",3,{"$f":"VLOOKUP(B1660*100+C1660,氏名データ!$AC$2:$AJ$401,2,0)","v":"明中八王子"},null,"男",null,62418,"鵜野","惠冴","ｳﾉ","ｹｲｺﾞ","UNO","Keigo","男","04",3]
[62419,6,24,"川嶋","敬典","ｶﾜｼﾏ","ﾀｶﾉﾘ","KAWASHIMA","Takanori","04",3,{"$f":"VLOOKUP(B1661*100+C1661,氏名データ!$AC$2:$AJ$401,2,0)","v":"明中八王子"},null,"男",null,62419,"川嶋","敬典","ｶﾜｼﾏ","ﾀｶﾉﾘ","KAWASHIMA","Takanori","男","04",3]
[62420,6,24,"田中","智也","ﾀﾅｶ","ﾄﾓﾔ","TANAKA","Tomoya","04",3,{"$f":"VLOOKUP(B1662*100+C1662,氏名データ!$AC$2:$AJ$401,2,0)","v":"明中八王子"},null,"男",null,62420,"田中","智也","ﾀﾅｶ","ﾄﾓﾔ","TANAKA","Tomoya","男","04",3]
[62421,6,24,"呉","世安","ｸﾚ","ｾｱﾝ","KURE","Sean","04",3,{"$f":"VLOOKUP(B1663*100+C1663,氏名データ!$AC$2:$AJ$401,2,0)","v":"明中八王子"},null,"男",null,62421,"呉","世安","ｸﾚ","ｾｱﾝ","KURE","Sean","男","04",3]
[62422,6,24,"野口","龍功","ﾉｸﾞﾁ","ﾘｭｳｸ","NOGUCHI","Ryuku","05",3,{"$f":"VLOOKUP(B1664*100+C1664,氏名データ!$AC$2:$AJ$401,2,0)","v":"明中八王子"},null,"男",null,62422,"野口","龍功","ﾉｸﾞﾁ","ﾘｭｳｸ","NOGUCHI","Ryuku","男","05",3]
[62423,6,24,"松岡","李樹","ﾏﾂｵｶ","ﾘｷ","MATSUOKA","Riki","05",3,{"$f":"VLOOKUP(B1665*100+C1665,氏名データ!$AC$2:$AJ$401,2,0)","v":"明中八王子"},null,"男",null,62423,"松岡","李樹","ﾏﾂｵｶ","ﾘｷ","MATSUOKA","Riki","男","05",3]
[62424,6,24,"里","拓哉","ｻﾄ","ﾀｸﾔ","SATO","Takuya","04",3,{"$f":"VLOOKUP(B1666*100+C1666,氏名データ!$AC$2:$AJ$401,2,0)","v":"明中八王子"},null,"男",null,62424,"里","拓哉","ｻﾄ","ﾀｸﾔ","SATO","Takuya","男","04",3]
[{"$f":"P1667","v":62425},{"$f":"ROUNDDOWN(A1667/10000,0)","v":6},{"$f":"ROUNDDOWN((A1667-B1667*10000)/100,0)","v":24},{"$f":"Q1667","v":"有山"},{"$f":"R1667","v":"将太郎"},{"$f":"S1667","v":"ｱﾘﾔﾏ"},{"$f":"T1667","v":"ｼｮｳﾀﾛｳ"},{"$f":"U1667","v":"ARIYAMA"},{"$f":"V1667","v":"Shotaro"},{"$f":"X1667","v":"06"},{"$f":"Y1667","v":2},{"$f":"VLOOKUP(B1667*100+C1667,氏名データ!$AC$2:$AJ$401,2,0)","v":"明中八王子"},null,{"$f":"W1667","v":"男"},null,62425,"有山","将太郎","ｱﾘﾔﾏ","ｼｮｳﾀﾛｳ","ARIYAMA","Shotaro","男","06",2]
[62426,6,24,"岩元","快龍","ｲﾜﾓﾄ","ｶｲﾘｭｳ","IWAMOTO","Kairyu","06",2,{"$f":"VLOOKUP(B1668*100+C1668,氏名データ!$AC$2:$AJ$401,2,0)","v":"明中八王子"},null,"男",null,62426,"岩元","快龍","ｲﾜﾓﾄ","ｶｲﾘｭｳ","IWAMOTO","Kairyu","男","06",2]
[62427,6,24,"伊藤","健成","ｲﾄｳ","ｹﾝｾｲ","ITO","Kensei","06",2,{"$f":"VLOOKUP(B1669*100+C1669,氏名データ!$AC$2:$AJ$401,2,0)","v":"明中八王子"},null,"男",null,62427,"伊藤","健成","ｲﾄｳ","ｹﾝｾｲ","ITO","Kensei","男","06",2]
[62428,6,24,"清野","悠介","ｷﾖﾉ","ﾕｳｽｹ","KIYONO","Yusuke","05",2,{"$f":"VLOOKUP(B1670*100+C1670,氏名データ!$AC$2:$AJ$401,2,0)","v":"明中八王子"},null,"男",null,62428,"清野","悠介","ｷﾖﾉ","ﾕｳｽｹ","KIYONO","Yusuke","男","05",2]
[62429,6,24,"髙橋","駿太","ﾀｶﾊｼ","ｼｭﾝﾀ","TAKAHASHI","Shunta","06",2,{"$f":"VLOOKUP(B1671*100+C1671,氏名データ!$AC$2:$AJ$401,2,0)","v":"明中八王子"},null,"男",null,62429,"髙橋","駿太","ﾀｶﾊｼ","ｼｭﾝﾀ","TAKAHASHI","Shunta","男","06",2]
[62430,6,24,"桑本","慶","ｸﾜﾓﾄ","ｹｲ","KUWAMOTO","Kei","05",2,{"$f":"VLOOKUP(B1672*100+C1672,氏名データ!$AC$2:$AJ$401,2,0)","v":"明中八王子"},null,"男",null,62430,"桑本","慶","ｸﾜﾓﾄ","ｹｲ","KUWAMOTO","Kei","男","05",2]
[62431,6,24,"平岡","佳樹","ﾋﾗｵｶ","ﾖｼｷ","HIRAOKA","Yoshiki","05",2,{"$f":"VLOOKUP(B1673*100+C1673,氏名データ!$AC$2:$AJ$401,2,0)","v":"明中八王子"},null,"男",null,62431,"平岡","佳樹","ﾋﾗｵｶ","ﾖｼｷ","HIRAOKA","Yoshiki","男","05",2]
[62432,6,24,"村山","裕紀","ﾑﾗﾔﾏ","ﾋﾛｷ","MURAYAMA","Hiroki","06",1,{"$f":"VLOOKUP(B1674*100+C1674,氏名データ!$AC$2:$AJ$401,2,0)","v":"明中八王子"},null,"男",null,62432,"村山","裕紀","ﾑﾗﾔﾏ","ﾋﾛｷ","MURAYAMA","Hiroki","男","06",1]
[62433,6,24,"井上","凌我","ｲﾉｳｴ","ﾘｮｳｶﾞ","INOUE","Ryoga","06",1,{"$f":"VLOOKUP(B1675*100+C1675,氏名データ!$AC$2:$AJ$401,2,0)","v":"明中八王子"},null,"男",null,62433,"井上","凌我","ｲﾉｳｴ","ﾘｮｳｶﾞ","INOUE","Ryoga","男","06",1]
[62434,6,24,"横溝","泰秀","ﾖｺﾐｿﾞ","ﾔｽﾋﾃﾞ","YOKOMIZO","Yasuhide","06",1,{"$f":"VLOOKUP(B1676*100+C1676,氏名データ!$AC$2:$AJ$401,2,0)","v":"明中八王子"},null,"男",null,62434,"横溝","泰秀","ﾖｺﾐｿﾞ","ﾔｽﾋﾃﾞ","YOKOMIZO","Yasuhide","男","06",1]
[62435,6,24,"板本","勇樹","ｲﾀﾓﾄ","ﾕｳｷ","ITAMOTO","Yuki","06",1,{"$f":"VLOOKUP(B1677*100+C1677,氏名データ!$AC$2:$AJ$401,2,0)","v":"明中八王子"},null,"男",null,62435,"板本","勇樹","ｲﾀﾓﾄ","ﾕｳｷ","ITAMOTO","Yuki","男","06",1]
[62436,6,24,"伊藤","颯悟","ｲﾄｳ","ｿｳｺﾞ","ITO","Sogo","06",1,{"$f":"VLOOKUP(B1678*100+C1678,氏名データ!$AC$2:$AJ$401,2,0)","v":"明中八王子"},null,"男",null,62436,"伊藤","颯悟","ｲﾄｳ","ｿｳｺﾞ","ITO","Sogo","男","06",1]
[62437,6,24,"岡","理太郎","ｵｶ","ﾘﾀﾛｳ","OKA","Ritaro","06",1,{"$f":"VLOOKUP(B1679*100+C1679,氏名データ!$AC$2:$AJ$401,2,0)","v":"明中八王子"},null,"男",null,62437,"岡","理太郎","ｵｶ","ﾘﾀﾛｳ","OKA","Ritaro","男","06",1]
[62438,6,24,"小名木","大知","ｵﾅｷﾞ","ﾀﾞｲﾁ","ONAGI","Daichi","06",1,{"$f":"VLOOKUP(B1680*100+C1680,氏名データ!$AC$2:$AJ$401,2,0)","v":"明中八王子"},null,"男",null,62438,"小名木","大知","ｵﾅｷﾞ","ﾀﾞｲﾁ","ONAGI","Daichi","男","06",1]
[62439,6,24,"澤田","昊朔","ｻﾜﾀﾞ","ｺｳｻｸ","SAWADA","Kosaku","06",1,{"$f":"VLOOKUP(B1681*100+C1681,氏名データ!$AC$2:$AJ$401,2,0)","v":"明中八王子"},null,"男",null,62439,"澤田","昊朔","ｻﾜﾀﾞ","ｺｳｻｸ","SAWADA","Kosaku","男","06",1]
[62440,6,24,"平","健誠","ﾀｲﾗ","ｹﾝｾｲ","TAIRA","Kensei","06",1,{"$f":"VLOOKUP(B1682*100+C1682,氏名データ!$AC$2:$AJ$401,2,0)","v":"明中八王子"},null,"男",null,62440,"平","健誠","ﾀｲﾗ","ｹﾝｾｲ","TAIRA","Kensei","男","06",1]
[62441,6,24,"鳥井","洸太朗","ﾄﾘｲ","ｺｳﾀﾛｳ","TORII","Kotaro","06",1,{"$f":"VLOOKUP(B1683*100+C1683,氏名データ!$AC$2:$AJ$401,2,0)","v":"明中八王子"},null,"男",null,62441,"鳥井","洸太朗","ﾄﾘｲ","ｺｳﾀﾛｳ","TORII","Kotaro","男","06",1]
[62442,6,24,"中津","優人","ﾅｶﾂ","ﾕｳﾄ","NAKATSU","Yuto","06",1,{"$f":"VLOOKUP(B1684*100+C1684,氏名データ!$AC$2:$AJ$401,2,0)","v":"明中八王子"},null,"男",null,62442,"中津","優人","ﾅｶﾂ","ﾕｳﾄ","NAKATSU","Yuto","男","06",1]
[62443,6,24,"橋山","明広","ﾊｼﾔﾏ","ｱｷﾋﾛ","HASHIYAMA","Akihiro","06",1,{"$f":"VLOOKUP(B1685*100+C1685,氏名データ!$AC$2:$AJ$401,2,0)","v":"明中八王子"},null,"男",null,62443,"橋山","明広","ﾊｼﾔﾏ","ｱｷﾋﾛ","HASHIYAMA","Akihiro","男","06",1]
[62444,6,24,"松沢","勇希","ﾏﾂｻﾞﾜ","ﾕｳｷ","MATSUZAWA","Yuki","06",1,{"$f":"VLOOKUP(B1686*100+C1686,氏名データ!$AC$2:$AJ$401,2,0)","v":"明中八王子"},null,"男",null,62444,"松沢","勇希","ﾏﾂｻﾞﾜ","ﾕｳｷ","MATSUZAWA","Yuki","男","06",1]
[62445,6,24,"吉永","昌玄","ﾖｼﾅｶﾞ","ｼｮｳｹﾞﾝ","YOSHINAGA","Shogen","06",1,{"$f":"VLOOKUP(B1687*100+C1687,氏名データ!$AC$2:$AJ$401,2,0)","v":"明中八王子"},null,"男",null,62445,"吉永","昌玄","ﾖｼﾅｶﾞ","ｼｮｳｹﾞﾝ","YOSHINAGA","Shogen","男","06",1]
[62460,6,24,"堀井","彩未","ﾎﾘｲ","ｱﾔﾐ","HORII","Ayami","05",3,{"$f":"VLOOKUP(B1688*100+C1688,氏名データ!$AC$2:$AJ$401,2,0)","v":"明中八王子"},null,"女",null,62460,"堀井","彩未","ﾎﾘｲ","ｱﾔﾐ","HORII","Ayami","女","05",3]
[62461,6,24,"橋本","小春","ﾊｼﾓﾄ","ｺﾊﾙ","HASHIMOTO","Koharu","05",3,{"$f":"VLOOKUP(B1689*100+C1689,氏名データ!$AC$2:$AJ$401,2,0)","v":"明中八王子"},null,"女",null,62461,"橋本","小春","ﾊｼﾓﾄ","ｺﾊﾙ","HASHIMOTO","Koharu","女","05",3]
[62463,6,24,"片伊木","うらら","ｶﾀｲｷ","ｳﾗﾗ","KATAIKI","Urara","04",3,{"$f":"VLOOKUP(B1690*100+C1690,氏名データ!$AC$2:$AJ$401,2,0)","v":"明中八王子"},null,"女",null,62463,"片伊木","うらら","ｶﾀｲｷ","ｳﾗﾗ","KATAIKI","Urara","女","04",3]
[62465,6,24,"吉田","鈴","ﾖｼﾀﾞ","ｽｽﾞ","YOSHIDA","Suzu","04",3,{"$f":"VLOOKUP(B1691*100+C1691,氏名データ!$AC$2:$AJ$401,2,0)","v":"明中八王子"},null,"女",null,62465,"吉田","鈴","ﾖｼﾀﾞ","ｽｽﾞ","YOSHIDA","Suzu","女","04",3]
[62466,6,24,"椎名","ひまり","ｼｲﾅ","ﾋﾏﾘ","SHIINA","Himari","05",2,{"$f":"VLOOKUP(B1692*100+C1692,氏名データ!$AC$2:$AJ$401,2,0)","v":"明中八王子"},null,"女",null,62466,"椎名","ひまり","ｼｲﾅ","ﾋﾏﾘ","SHIINA","Himari","女","05",2]
[62467,6,24,"市川","さつき","ｲﾁｶﾜ","ｻﾂｷ","ICHIKAWA","Satsuki","05",2,{"$f":"VLOOKUP(B1693*100+C1693,氏名データ!$AC$2:$AJ$401,2,0)","v":"明中八王子"},null,"女",null,62467,"市川","さつき","ｲﾁｶﾜ","ｻﾂｷ","ICHIKAWA","Satsuki","女","05",2]
[62468,6,24,"東","凪沙","ｱｽﾞﾏ","ﾅｷﾞｻ","AZUMA","Nagisa","05",2,{"$f":"VLOOKUP(B1694*100+C1694,氏名データ!$AC$2:$AJ$401,2,0)","v":"明中八王子"},null,"女",null,62468,"東","凪沙","ｱｽﾞﾏ","ﾅｷﾞｻ","AZUMA","Nagisa","女","05",2]
[62470,6,24,"德竹","陽乃","ﾄｸﾀｹ","ﾋﾉ","TOKUTAKE","Hino","07",1,{"$f":"VLOOKUP(B1695*100+C1695,氏名データ!$AC$2:$AJ$401,2,0)","v":"明中八王子"},null,"女",null,62470,"德竹","陽乃","ﾄｸﾀｹ","ﾋﾉ","TOKUTAKE","Hino","女","07",1]
[62471,6,24,"山岸","冴英子","ﾔﾏｷﾞｼ","ｻｴｺ","YAMAGISHI","Saeko","06",1,{"$f":"VLOOKUP(B1696*100+C1696,氏名データ!$AC$2:$AJ$401,2,0)","v":"明中八王子"},null,"女",null,62471,"山岸","冴英子","ﾔﾏｷﾞｼ","ｻｴｺ","YAMAGISHI","Saeko","女","06",1]
[62472,6,24,"長谷","真悠","ﾅｶﾞﾔ","ﾏﾕ","NAGAYA","Mayu","06",1,{"$f":"VLOOKUP(B1697*100+C1697,氏名データ!$AC$2:$AJ$401,2,0)","v":"明中八王子"},null,"女",null,62472,"長谷","真悠","ﾅｶﾞﾔ","ﾏﾕ","NAGAYA","Mayu","女","06",1]
[62473,6,24,"白石","葉月","ｼﾗｲｼ","ﾊﾂﾞｷ","SHIRAISHI","Hazuki","06",1,{"$f":"VLOOKUP(B1698*100+C1698,氏名データ!$AC$2:$AJ$401,2,0)","v":"明中八王子"},null,"女",null,62473,"白石","葉月","ｼﾗｲｼ","ﾊﾂﾞｷ","SHIRAISHI","Hazuki","女","06",1]
[62474,6,24,"安藤","慶","ｱﾝﾄﾞｳ","ｹｲ","ANDO","Kei","06",1,{"$f":"VLOOKUP(B1699*100+C1699,氏名データ!$AC$2:$AJ$401,2,0)","v":"明中八王子"},null,"女",null,62474,"安藤","慶","ｱﾝﾄﾞｳ","ｹｲ","ANDO","Kei","女","06",1]
[62475,6,24,"橋本","萌生","ﾊｼﾓﾄ","ﾒｲ","HASHIMOTO","Mei","06",1,{"$f":"VLOOKUP(B1700*100+C1700,氏名データ!$AC$2:$AJ$401,2,0)","v":"明中八王子"},null,"女",null,62475,"橋本","萌生","ﾊｼﾓﾄ","ﾒｲ","HASHIMOTO","Mei","女","06",1]
[62476,6,24,"岐部","夏海","ｷﾍﾞ","ﾅﾂﾐ","KIBE","Natsumi","06",1,{"$f":"VLOOKUP(B1701*100+C1701,氏名データ!$AC$2:$AJ$401,2,0)","v":"明中八王子"},null,"女",null,62476,"岐部","夏海","ｷﾍﾞ","ﾅﾂﾐ","KIBE","Natsumi","女","06",1]
[62612,6,26,"相川","洋輝","ｱｲｶﾜ","ﾋﾛｷ","AIKAWA","Hiroki","04",3,{"$f":"VLOOKUP(B1702*100+C1702,氏名データ!$AC$2:$AJ$401,2,0)","v":"東京工業高専"},null,"男",null,62612,"相川","洋輝","ｱｲｶﾜ","ﾋﾛｷ","AIKAWA","Hiroki","男","04",3]
[62613,6,26,"渡邉","開","ﾜﾀﾅﾍﾞ","ｶｲ","WATANABE","Kai","05",3,{"$f":"VLOOKUP(B1703*100+C1703,氏名データ!$AC$2:$AJ$401,2,0)","v":"東京工業高専"},null,"男",null,62613,"渡邉","開","ﾜﾀﾅﾍﾞ","ｶｲ","WATANABE","Kai","男","05",3]
[62614,6,26,"三塚","元晴","ﾐﾂﾂﾞｶ","ﾓﾄﾊﾙ","MITSUZUKA","Motoharu","04",3,{"$f":"VLOOKUP(B1704*100+C1704,氏名データ!$AC$2:$AJ$401,2,0)","v":"東京工業高専"},null,"男",null,62614,"三塚","元晴","ﾐﾂﾂﾞｶ","ﾓﾄﾊﾙ","MITSUZUKA","Motoharu","男","04",3]
[62615,6,26,"菊地","悠斗","ｷｸﾁ","ﾕｳﾄ","KIKUCHI","Yuto","06",1,{"$f":"VLOOKUP(B1705*100+C1705,氏名データ!$AC$2:$AJ$401,2,0)","v":"東京工業高専"},null,"男",null,62615,"菊地","悠斗","ｷｸﾁ","ﾕｳﾄ","KIKUCHI","Yuto","男","06",1]
[62701,6,27,"狐塚","大和","ｺﾂﾞｶ","ﾔﾏﾄ","KOZUKA","Yamato","05",2,{"$f":"VLOOKUP(B1706*100+C1706,氏名データ!$AC$2:$AJ$401,2,0)","v":"都小平"},null,"男",null,62701,"狐塚","大和","ｺﾂﾞｶ","ﾔﾏﾄ","KOZUKA","Yamato","男","05",2]
[62702,6,27,"富岡","幸佑","ﾄﾐｵｶ","ｺｳｽｹ","TOMIOKA","Kousuke","05",2,{"$f":"VLOOKUP(B1707*100+C1707,氏名データ!$AC$2:$AJ$401,2,0)","v":"都小平"},null,"男",null,62702,"富岡","幸佑","ﾄﾐｵｶ","ｺｳｽｹ","TOMIOKA","Kousuke","男","05",2]
[62703,6,27,"中屋","大樹","ﾅｶﾔ","ﾀﾞｲｷ","NAKAYA","Daiki","05",2,{"$f":"VLOOKUP(B1708*100+C1708,氏名データ!$AC$2:$AJ$401,2,0)","v":"都小平"},null,"男",null,62703,"中屋","大樹","ﾅｶﾔ","ﾀﾞｲｷ","NAKAYA","Daiki","男","05",2]
[62704,6,27,"古橋","和樹","ﾌﾙﾊｼ","ｶｽﾞｷ","FURUHASHI","Kazuki","05",2,{"$f":"VLOOKUP(B1709*100+C1709,氏名データ!$AC$2:$AJ$401,2,0)","v":"都小平"},null,"男",null,62704,"古橋","和樹","ﾌﾙﾊｼ","ｶｽﾞｷ","FURUHASHI","Kazuki","男","05",2]
[62705,6,27,"佐藤","心星","ｻﾄｳ","ｼﾝｾｲ","SATO","Shinsei","06",2,{"$f":"VLOOKUP(B1710*100+C1710,氏名データ!$AC$2:$AJ$401,2,0)","v":"都小平"},null,"男",null,62705,"佐藤","心星","ｻﾄｳ","ｼﾝｾｲ","SATO","Shinsei","男","06",2]
[62706,6,27,"曽根原","暖人","ｿﾈﾊﾗ","ﾊﾙﾄ","SONEHARA","Haruto","06",2,{"$f":"VLOOKUP(B1711*100+C1711,氏名データ!$AC$2:$AJ$401,2,0)","v":"都小平"},null,"男",null,62706,"曽根原","暖人","ｿﾈﾊﾗ","ﾊﾙﾄ","SONEHARA","Haruto","男","06",2]
[62711,6,27,"吉田","多誠","ﾖｼﾀﾞ","ﾀｾｲ","YOSHIDA","Tasei","05",3,{"$f":"VLOOKUP(B1712*100+C1712,氏名データ!$AC$2:$AJ$401,2,0)","v":"都小平"},null,"男",null,62711,"吉田","多誠","ﾖｼﾀﾞ","ﾀｾｲ","YOSHIDA","Tasei","男","05",3]
[62712,6,27,"中山","空朗","ﾅｶﾔﾏ","ｿﾗ","NAKAYAMA","Sora","05",3,{"$f":"VLOOKUP(B1713*100+C1713,氏名データ!$AC$2:$AJ$401,2,0)","v":"都小平"},null,"男",null,62712,"中山","空朗","ﾅｶﾔﾏ","ｿﾗ","NAKAYAMA","Sora","男","05",3]
[62713,6,27,"加藤","幸奏","ｶﾄｳ","ｺｳｷ","KATO","Koki","04",3,{"$f":"VLOOKUP(B1714*100+C1714,氏名データ!$AC$2:$AJ$401,2,0)","v":"都小平"},null,"男",null,62713,"加藤","幸奏","ｶﾄｳ","ｺｳｷ","KATO","Koki","男","04",3]
[62717,6,27,"永井","稜馬","ﾅｶﾞｲ","ﾘｮｳﾏ","NAGAI","Ryoma","05",3,{"$f":"VLOOKUP(B1715*100+C1715,氏名データ!$AC$2:$AJ$401,2,0)","v":"都小平"},null,"男",null,62717,"永井","稜馬","ﾅｶﾞｲ","ﾘｮｳﾏ","NAGAI","Ryoma","男","05",3]
[62718,6,27,"宗","駿一郎","ｿｳ","ｼｭﾝｲﾁﾛｳ","SO","Shunichiro","06",1,{"$f":"VLOOKUP(B1716*100+C1716,氏名データ!$AC$2:$AJ$401,2,0)","v":"都小平"},null,"男",null,62718,"宗","駿一郎","ｿｳ","ｼｭﾝｲﾁﾛｳ","SO","Shunichiro","男","06",1]
[62719,6,27,"渡邉","大真","ﾜﾀﾅﾍﾞ","ﾋﾛﾏｻ","WATANABE","Hiromasa","06",1,{"$f":"VLOOKUP(B1717*100+C1717,氏名データ!$AC$2:$AJ$401,2,0)","v":"都小平"},null,"男",null,62719,"渡邉","大真","ﾜﾀﾅﾍﾞ","ﾋﾛﾏｻ","WATANABE","Hiromasa","男","06",1]
[62720,6,27,"鈴木","未来","ｽｽﾞｷ","ﾐﾗｲ","SUZUKI","Mirai","07",1,{"$f":"VLOOKUP(B1718*100+C1718,氏名データ!$AC$2:$AJ$401,2,0)","v":"都小平"},null,"男",null,62720,"鈴木","未来","ｽｽﾞｷ","ﾐﾗｲ","SUZUKI","Mirai","男","07",1]
[62721,6,27,"坂井","唯志郎","ｻｶｲ","ﾕｲｼﾛｳ","SAKAI","Yuishiro","07",1,{"$f":"VLOOKUP(B1719*100+C1719,氏名データ!$AC$2:$AJ$401,2,0)","v":"都小平"},null,"男",null,62721,"坂井","唯志郎","ｻｶｲ","ﾕｲｼﾛｳ","SAKAI","Yuishiro","男","07",1]
[62722,6,27,"沼畑","伊織","ﾇﾏﾊﾀ","ｲｵﾘ","NUMAHATA","Iori","06",1,{"$f":"VLOOKUP(B1720*100+C1720,氏名データ!$AC$2:$AJ$401,2,0)","v":"都小平"},null,"男",null,62722,"沼畑","伊織","ﾇﾏﾊﾀ","ｲｵﾘ","NUMAHATA","Iori","男","06",1]
[62751,6,27,"鵜川","朝日","ｳｶﾜ","ｱｻﾋ","UKAWA","Asahi","05",2,{"$f":"VLOOKUP(B1721*100+C1721,氏名データ!$AC$2:$AJ$401,2,0)","v":"都小平"},null,"女",null,62751,"鵜川","朝日","ｳｶﾜ","ｱｻﾋ","UKAWA","Asahi","女","05",2]
[62752,6,27,"小古間","莉子","ｺｺﾞﾏ","ﾘｺ","KOGOMA","Riko","05",2,{"$f":"VLOOKUP(B1722*100+C1722,氏名データ!$AC$2:$AJ$401,2,0)","v":"都小平"},null,"女",null,62752,"小古間","莉子","ｺｺﾞﾏ","ﾘｺ","KOGOMA","Riko","女","05",2]
[62753,6,27,"佐藤","環","ｻﾄｳ","ﾀﾏｷ","SATO","Tamaki","05",2,{"$f":"VLOOKUP(B1723*100+C1723,氏名データ!$AC$2:$AJ$401,2,0)","v":"都小平"},null,"女",null,62753,"佐藤","環","ｻﾄｳ","ﾀﾏｷ","SATO","Tamaki","女","05",2]
[62754,6,27,"佐多","満奈美","ｻﾀ","ﾏﾅﾐ","SATA","Manami","06",1,{"$f":"VLOOKUP(B1724*100+C1724,氏名データ!$AC$2:$AJ$401,2,0)","v":"都小平"},null,"女",null,62754,"佐多","満奈美","ｻﾀ","ﾏﾅﾐ","SATA","Manami","女","06",1]
[62755,6,27,"本間","里沙","ﾎﾝﾏ","ﾘｻ","HONMA","Risa","06",1,{"$f":"VLOOKUP(B1725*100+C1725,氏名データ!$AC$2:$AJ$401,2,0)","v":"都小平"},null,"女",null,62755,"本間","里沙","ﾎﾝﾏ","ﾘｻ","HONMA","Risa","女","06",1]
[62761,6,27,"森","あかね","ﾓﾘ","ｱｶﾈ","MORI","Akane","04",3,{"$f":"VLOOKUP(B1726*100+C1726,氏名データ!$AC$2:$AJ$401,2,0)","v":"都小平"},null,"女",null,62761,"森","あかね","ﾓﾘ","ｱｶﾈ","MORI","Akane","女","04",3]
[62762,6,27,"岡部","美稀","ｵｶﾍﾞ","ﾐｽﾞｷ","OKABE","Mizuki","04",3,{"$f":"VLOOKUP(B1727*100+C1727,氏名データ!$AC$2:$AJ$401,2,0)","v":"都小平"},null,"女",null,62762,"岡部","美稀","ｵｶﾍﾞ","ﾐｽﾞｷ","OKABE","Mizuki","女","04",3]
[62763,6,27,"豊田","万李江","ﾄﾖﾀ","ﾏﾘｴ","TOYOTA","Marie","04",3,{"$f":"VLOOKUP(B1728*100+C1728,氏名データ!$AC$2:$AJ$401,2,0)","v":"都小平"},null,"女",null,62763,"豊田","万李江","ﾄﾖﾀ","ﾏﾘｴ","TOYOTA","Marie","女","04",3]
[62764,6,27,"坂口","瑞季","ｻｶｸﾞﾁ","ﾐｽﾞｷ","SAKAGUCHI","Mizuki","04",3,{"$f":"VLOOKUP(B1729*100+C1729,氏名データ!$AC$2:$AJ$401,2,0)","v":"都小平"},null,"女",null,62764,"坂口","瑞季","ｻｶｸﾞﾁ","ﾐｽﾞｷ","SAKAGUCHI","Mizuki","女","04",3]
[62765,6,27,"松橋","愛","ﾏﾂﾊｼ","ｱｲ","MATSUHASHI","Ai","04",3,{"$f":"VLOOKUP(B1730*100+C1730,氏名データ!$AC$2:$AJ$401,2,0)","v":"都小平"},null,"女",null,62765,"松橋","愛","ﾏﾂﾊｼ","ｱｲ","MATSUHASHI","Ai","女","04",3]
[{"$f":"P1731","v":62811},{"$f":"ROUNDDOWN(A1731/10000,0)","v":6},{"$f":"ROUNDDOWN((A1731-B1731*10000)/100,0)","v":28},{"$f":"Q1731","v":"秋山"},{"$f":"R1731","v":"勇介"},{"$f":"S1731","v":"ｱｷﾔﾏ"},{"$f":"T1731","v":"ﾕｳｽｹ"},{"$f":"U1731","v":"AKIYAMA"},{"$f":"V1731","v":"Yusuke"},{"$f":"X1731","v":"06"},{"$f":"Y1731","v":1},{"$f":"VLOOKUP(B1731*100+C1731,氏名データ!$AC$2:$AJ$401,2,0)","v":"都小平西"},null,{"$f":"W1731","v":"男"},null,62811,"秋山","勇介","ｱｷﾔﾏ","ﾕｳｽｹ","AKIYAMA","Yusuke","男","06",1]
[62812,6,28,"中村","大成","ﾅｶﾑﾗ","ﾀｲｾｲ","NAKAMURA","Taisei","07",1,{"$f":"VLOOKUP(B1732*100+C1732,氏名データ!$AC$2:$AJ$401,2,0)","v":"都小平西"},null,"男",null,62812,"中村","大成","ﾅｶﾑﾗ","ﾀｲｾｲ","NAKAMURA","Taisei","男","07",1]
[62813,6,28,"水越","悠斗","ﾐｽﾞｺｼ","ﾕｳﾄ","MIZUKOSHI","Yuuto","06",1,{"$f":"VLOOKUP(B1733*100+C1733,氏名データ!$AC$2:$AJ$401,2,0)","v":"都小平西"},null,"男",null,62813,"水越","悠斗","ﾐｽﾞｺｼ","ﾕｳﾄ","MIZUKOSHI","Yuuto","男","06",1]
[62814,6,28,"山田","準","ﾔﾏﾀﾞ","ｼﾞｭﾝ","YAMADA","Jun","06",1,{"$f":"VLOOKUP(B1734*100+C1734,氏名データ!$AC$2:$AJ$401,2,0)","v":"都小平西"},null,"男",null,62814,"山田","準","ﾔﾏﾀﾞ","ｼﾞｭﾝ","YAMADA","Jun","男","06",1]
[62834,6,28,"芦澤","柊羽","ｱｼｻﾞﾜ","ｼｭｳ","ASHIZAWA","Shu","05",2,{"$f":"VLOOKUP(B1735*100+C1735,氏名データ!$AC$2:$AJ$401,2,0)","v":"都小平西"},null,"男",null,62834,"芦澤","柊羽","ｱｼｻﾞﾜ","ｼｭｳ","ASHIZAWA","Shu","男","05",2]
[62835,6,28,"荒井","蓮都","ｱﾗｲ","ﾚﾝﾄ","ARAI","Rento","06",2,{"$f":"VLOOKUP(B1736*100+C1736,氏名データ!$AC$2:$AJ$401,2,0)","v":"都小平西"},null,"男",null,62835,"荒井","蓮都","ｱﾗｲ","ﾚﾝﾄ","ARAI","Rento","男","06",2]
[62836,6,28,"伊藤","淳之介","ｲﾄｳ","ｼﾞｭﾝﾉｽｹ","ITO","Junnosuke","06",2,{"$f":"VLOOKUP(B1737*100+C1737,氏名データ!$AC$2:$AJ$401,2,0)","v":"都小平西"},null,"男",null,62836,"伊藤","淳之介","ｲﾄｳ","ｼﾞｭﾝﾉｽｹ","ITO","Junnosuke","男","06",2]
[62837,6,28,"黒滝","真太郎","ｸﾛﾀｷ","ｼﾝﾀﾛｳ","KUROTAKI","Shintaro","05",2,{"$f":"VLOOKUP(B1738*100+C1738,氏名データ!$AC$2:$AJ$401,2,0)","v":"都小平西"},null,"男",null,62837,"黒滝","真太郎","ｸﾛﾀｷ","ｼﾝﾀﾛｳ","KUROTAKI","Shintaro","男","05",2]
[62838,6,28,"作田","大夢","ｻｸﾀ","ﾋﾛﾑ","SAKUTA","Hiromu","06",2,{"$f":"VLOOKUP(B1739*100+C1739,氏名データ!$AC$2:$AJ$401,2,0)","v":"都小平西"},null,"男",null,62838,"作田","大夢","ｻｸﾀ","ﾋﾛﾑ","SAKUTA","Hiromu","男","06",2]
[62839,6,28,"中嶋","恵","ﾅｶｼﾞﾏ","ﾒｸﾞﾐ","NAKAJIMA","Megumi","06",2,{"$f":"VLOOKUP(B1740*100+C1740,氏名データ!$AC$2:$AJ$401,2,0)","v":"都小平西"},null,"男",null,62839,"中嶋","恵","ﾅｶｼﾞﾏ","ﾒｸﾞﾐ","NAKAJIMA","Megumi","男","06",2]
[62841,6,28,"藤原","紘匡","ﾌｼﾞﾜﾗ","ﾋﾛﾀﾀﾞ","FUJIWARA","Hirotada","06",2,{"$f":"VLOOKUP(B1741*100+C1741,氏名データ!$AC$2:$AJ$401,2,0)","v":"都小平西"},null,"男",null,62841,"藤原","紘匡","ﾌｼﾞﾜﾗ","ﾋﾛﾀﾀﾞ","FUJIWARA","Hirotada","男","06",2]
[62842,6,28,"小森","和也","ｺﾓﾘ","ｶｽﾞﾔ","KOMORI","Kazuya","05",2,{"$f":"VLOOKUP(B1742*100+C1742,氏名データ!$AC$2:$AJ$401,2,0)","v":"都小平西"},null,"男",null,62842,"小森","和也","ｺﾓﾘ","ｶｽﾞﾔ","KOMORI","Kazuya","男","05",2]
[62861,6,28,"池田","優","ｲｹﾀﾞ","ﾕｳ","IKEDA","Yu","05",2,{"$f":"VLOOKUP(B1743*100+C1743,氏名データ!$AC$2:$AJ$401,2,0)","v":"都小平西"},null,"女",null,62861,"池田","優","ｲｹﾀﾞ","ﾕｳ","IKEDA","Yu","女","05",2]
[62871,6,28,"榊田","一華","ｻｶｷﾀﾞ","ｲﾁｶ","SAKAKIDA","Ichika","06",1,{"$f":"VLOOKUP(B1744*100+C1744,氏名データ!$AC$2:$AJ$401,2,0)","v":"都小平西"},null,"女",null,62871,"榊田","一華","ｻｶｷﾀﾞ","ｲﾁｶ","SAKAKIDA","Ichika","女","06",1]
[62872,6,28,"佐々木","里愛來","ｻｻｷ","ﾘｱﾗ","SASAKI","Riara","06",1,{"$f":"VLOOKUP(B1745*100+C1745,氏名データ!$AC$2:$AJ$401,2,0)","v":"都小平西"},null,"女",null,62872,"佐々木","里愛來","ｻｻｷ","ﾘｱﾗ","SASAKI","Riara","女","06",1]
[62873,6,28,"矢野","莉都","ﾔﾉ","ﾘﾋﾛ","YANO","Rihiro","06",1,{"$f":"VLOOKUP(B1746*100+C1746,氏名データ!$AC$2:$AJ$401,2,0)","v":"都小平西"},null,"女",null,62873,"矢野","莉都","ﾔﾉ","ﾘﾋﾛ","YANO","Rihiro","女","06",1]
[62874,6,28,"山浦","杏菜","ﾔﾏｳﾗ","ｱﾝﾅ","YAMAURA","Anna","06",1,{"$f":"VLOOKUP(B1747*100+C1747,氏名データ!$AC$2:$AJ$401,2,0)","v":"都小平西"},null,"女",null,62874,"山浦","杏菜","ﾔﾏｳﾗ","ｱﾝﾅ","YAMAURA","Anna","女","06",1]
[62875,6,28,"渡邉","結杏","ﾜﾀﾅﾍﾞ","ﾕｱ","WATANABE","Yua","07",1,{"$f":"VLOOKUP(B1748*100+C1748,氏名データ!$AC$2:$AJ$401,2,0)","v":"都小平西"},null,"女",null,62875,"渡邉","結杏","ﾜﾀﾅﾍﾞ","ﾕｱ","WATANABE","Yua","女","07",1]
[62902,6,29,"舟尾","蓮","ﾌﾅｵ","ﾚﾝ","FUNAO","Ren","05",2,{"$f":"VLOOKUP(B1749*100+C1749,氏名データ!$AC$2:$AJ$401,2,0)","v":"都小平南"},null,"男",null,62902,"舟尾","蓮","ﾌﾅｵ","ﾚﾝ","FUNAO","Ren","男","05",2]
[62903,6,29,"野島","優哉","ﾉｼﾞﾏ","ﾏｻﾄｼ","NOJIMA","Masatoshi","05",2,{"$f":"VLOOKUP(B1750*100+C1750,氏名データ!$AC$2:$AJ$401,2,0)","v":"都小平南"},null,"男",null,62903,"野島","優哉","ﾉｼﾞﾏ","ﾏｻﾄｼ","NOJIMA","Masatoshi","男","05",2]
[62904,6,29,"吉澤","鮎人","ﾖｼｻﾞﾜ","ｱﾕﾄ","YOSHIZAWA","Ayuto","05",2,{"$f":"VLOOKUP(B1751*100+C1751,氏名データ!$AC$2:$AJ$401,2,0)","v":"都小平南"},null,"男",null,62904,"吉澤","鮎人","ﾖｼｻﾞﾜ","ｱﾕﾄ","YOSHIZAWA","Ayuto","男","05",2]
[62905,6,29,"宮崎","柊一","ﾐﾔｻﾞｷ","ｼｭｳｲﾁ","MIYAZAKI","Shuichi","06",2,{"$f":"VLOOKUP(B1752*100+C1752,氏名データ!$AC$2:$AJ$401,2,0)","v":"都小平南"},null,"男",null,62905,"宮崎","柊一","ﾐﾔｻﾞｷ","ｼｭｳｲﾁ","MIYAZAKI","Shuichi","男","06",2]
[62906,6,29,"山口","天","ﾔﾏｸﾞﾁ","ﾃﾝ","YAMAGUCHI","Ten","05",2,{"$f":"VLOOKUP(B1753*100+C1753,氏名データ!$AC$2:$AJ$401,2,0)","v":"都小平南"},null,"男",null,62906,"山口","天","ﾔﾏｸﾞﾁ","ﾃﾝ","YAMAGUCHI","Ten","男","05",2]
[62907,6,29,"石郷岡","佳吾","ｲｼｺﾞｳｵｶ","ｹｲｺﾞ","ISHIGOUOKA","Keigo","06",2,{"$f":"VLOOKUP(B1754*100+C1754,氏名データ!$AC$2:$AJ$401,2,0)","v":"都小平南"},null,"男",null,62907,"石郷岡","佳吾","ｲｼｺﾞｳｵｶ","ｹｲｺﾞ","ISHIGOUOKA","Keigo","男","06",2]
[62908,6,29,"金子","聖那","ｶﾈｺ","ｾﾅ","KANEKO","Sena","05",2,{"$f":"VLOOKUP(B1755*100+C1755,氏名データ!$AC$2:$AJ$401,2,0)","v":"都小平南"},null,"男",null,62908,"金子","聖那","ｶﾈｺ","ｾﾅ","KANEKO","Sena","男","05",2]
[62909,6,29,"小山田","優輝","ｵﾔﾏﾀﾞ","ﾕｳｷ","OYAMADA","Yuki","06",1,{"$f":"VLOOKUP(B1756*100+C1756,氏名データ!$AC$2:$AJ$401,2,0)","v":"都小平南"},null,"男",null,62909,"小山田","優輝","ｵﾔﾏﾀﾞ","ﾕｳｷ","OYAMADA","Yuki","男","06",1]
[62910,6,29,"相田","空輝","ｱｲﾀﾞ","ｺｳｷ","AIDA","Kouki","06",1,{"$f":"VLOOKUP(B1757*100+C1757,氏名データ!$AC$2:$AJ$401,2,0)","v":"都小平南"},null,"男",null,62910,"相田","空輝","ｱｲﾀﾞ","ｺｳｷ","AIDA","Kouki","男","06",1]
[62911,6,29,"室井","浩人","ﾑﾛｲ","ﾋﾛﾄ","MUROI","Hiroto","06",1,{"$f":"VLOOKUP(B1758*100+C1758,氏名データ!$AC$2:$AJ$401,2,0)","v":"都小平南"},null,"男",null,62911,"室井","浩人","ﾑﾛｲ","ﾋﾛﾄ","MUROI","Hiroto","男","06",1]
[62936,6,29,"縣","圭佑","ｱｶﾞﾀ","ｹｲｽｹ","AGATA","Keisuke","04",3,{"$f":"VLOOKUP(B1759*100+C1759,氏名データ!$AC$2:$AJ$401,2,0)","v":"都小平南"},null,"男",null,62936,"縣","圭佑","ｱｶﾞﾀ","ｹｲｽｹ","AGATA","Keisuke","男","04",3]
[62937,6,29,"内田","和翔","ｳﾁﾀﾞ","ｶｽﾞﾄ","UCHIDA","Kazuto","05",3,{"$f":"VLOOKUP(B1760*100+C1760,氏名データ!$AC$2:$AJ$401,2,0)","v":"都小平南"},null,"男",null,62937,"内田","和翔","ｳﾁﾀﾞ","ｶｽﾞﾄ","UCHIDA","Kazuto","男","05",3]
[62938,6,29,"大川","陽向","ｵｵｶﾜ","ﾋﾅﾀ","OKAWA","Hinata","04",3,{"$f":"VLOOKUP(B1761*100+C1761,氏名データ!$AC$2:$AJ$401,2,0)","v":"都小平南"},null,"男",null,62938,"大川","陽向","ｵｵｶﾜ","ﾋﾅﾀ","OKAWA","Hinata","男","04",3]
[62939,6,29,"丸山","夏樹","ﾏﾙﾔﾏ","ﾅﾂｷ","MARUYAMA","Natsuki","04",3,{"$f":"VLOOKUP(B1762*100+C1762,氏名データ!$AC$2:$AJ$401,2,0)","v":"都小平南"},null,"男",null,62939,"丸山","夏樹","ﾏﾙﾔﾏ","ﾅﾂｷ","MARUYAMA","Natsuki","男","04",3]
[62966,6,29,"太田","光咲","ｵｵﾀ","ｱﾘｻ","OTA","Arisa","04",3,{"$f":"VLOOKUP(B1763*100+C1763,氏名データ!$AC$2:$AJ$401,2,0)","v":"都小平南"},null,"女",null,62966,"太田","光咲","ｵｵﾀ","ｱﾘｻ","OTA","Arisa","女","04",3]
[62967,6,29,"新井","沙奈","ｱﾗｲ","ｻﾅ","ARAI","Sana","04",3,{"$f":"VLOOKUP(B1764*100+C1764,氏名データ!$AC$2:$AJ$401,2,0)","v":"都小平南"},null,"女",null,62967,"新井","沙奈","ｱﾗｲ","ｻﾅ","ARAI","Sana","女","04",3]
[62975,6,29,"山下","倫果","ﾔﾏｼﾀ","ﾘﾝｶ","YAMASHITA","Rinka","04",3,{"$f":"VLOOKUP(B1765*100+C1765,氏名データ!$AC$2:$AJ$401,2,0)","v":"都小平南"},null,"女",null,62975,"山下","倫果","ﾔﾏｼﾀ","ﾘﾝｶ","YAMASHITA","Rinka","女","04",3]
[62977,6,29,"中澤","美由希","ﾅｶｻﾞﾜ","ﾐﾕｷ","NAKAZAWA","Miyuki","06",2,{"$f":"VLOOKUP(B1766*100+C1766,氏名データ!$AC$2:$AJ$401,2,0)","v":"都小平南"},null,"女",null,62977,"中澤","美由希","ﾅｶｻﾞﾜ","ﾐﾕｷ","NAKAZAWA","Miyuki","女","06",2]
[62978,6,29,"小圷","寧映","ｺｱｸﾂ","ｼｽﾞﾊ","KOAKUTSU","Sizuha","05",2,{"$f":"VLOOKUP(B1767*100+C1767,氏名データ!$AC$2:$AJ$401,2,0)","v":"都小平南"},null,"女",null,62978,"小圷","寧映","ｺｱｸﾂ","ｼｽﾞﾊ","KOAKUTSU","Sizuha","女","05",2]
[62979,6,29,"花岡","佳音","ﾊﾅｵｶ","ｶﾉﾝ","HANAOKA","Kanon","06",1,{"$f":"VLOOKUP(B1768*100+C1768,氏名データ!$AC$2:$AJ$401,2,0)","v":"都小平南"},null,"女",null,62979,"花岡","佳音","ﾊﾅｵｶ","ｶﾉﾝ","HANAOKA","Kanon","女","06",1]
[62980,6,29,"細川","稟央","ﾎｿｶﾜ","ﾘｵ","HOSOKAWA","Rio","06",1,{"$f":"VLOOKUP(B1769*100+C1769,氏名データ!$AC$2:$AJ$401,2,0)","v":"都小平南"},null,"女",null,62980,"細川","稟央","ﾎｿｶﾜ","ﾘｵ","HOSOKAWA","Rio","女","06",1]
[62981,6,29,"山上","まりえ","ﾔﾏｶﾞﾐ","ﾏﾘｴ","YAMAGAMI","Marie","06",1,{"$f":"VLOOKUP(B1770*100+C1770,氏名データ!$AC$2:$AJ$401,2,0)","v":"都小平南"},null,"女",null,62981,"山上","まりえ","ﾔﾏｶﾞﾐ","ﾏﾘｴ","YAMAGAMI","Marie","女","06",1]
[62982,6,29,"高橋","由有里","ﾀｶﾊｼ","ﾕｳﾘ","TAKAHASHI","Yuri","06",1,{"$f":"VLOOKUP(B1771*100+C1771,氏名データ!$AC$2:$AJ$401,2,0)","v":"都小平南"},null,"女",null,62982,"高橋","由有里","ﾀｶﾊｼ","ﾕｳﾘ","TAKAHASHI","Yuri","女","06",1]
[63021,6,30,"大原","徹也","ｵｵﾊﾗ","ﾃﾂﾔ","OHARA","Tetsuya","05",2,{"$f":"VLOOKUP(B1772*100+C1772,氏名データ!$AC$2:$AJ$401,2,0)","v":"錦城"},null,"男",null,63021,"大原","徹也","ｵｵﾊﾗ","ﾃﾂﾔ","OHARA","Tetsuya","男","05",2]
[63022,6,30,"桑田","陸駆","ｸﾜﾀ","ﾘｸ","KUWATA","Riku","05",2,{"$f":"VLOOKUP(B1773*100+C1773,氏名データ!$AC$2:$AJ$401,2,0)","v":"錦城"},null,"男",null,63022,"桑田","陸駆","ｸﾜﾀ","ﾘｸ","KUWATA","Riku","男","05",2]
[63024,6,30,"佐藤","圭","ｻﾄｳ","ｹｲ","SATO","Kei","05",2,{"$f":"VLOOKUP(B1774*100+C1774,氏名データ!$AC$2:$AJ$401,2,0)","v":"錦城"},null,"男",null,63024,"佐藤","圭","ｻﾄｳ","ｹｲ","SATO","Kei","男","05",2]
[63025,6,30,"広瀬","優","ﾋﾛｾ","ﾕｳ","HIROSE","Yu","05",2,{"$f":"VLOOKUP(B1775*100+C1775,氏名データ!$AC$2:$AJ$401,2,0)","v":"錦城"},null,"男",null,63025,"広瀬","優","ﾋﾛｾ","ﾕｳ","HIROSE","Yu","男","05",2]
[63026,6,30,"班目","心","ﾏﾀﾞﾗﾒ","ｼﾝ","MADARAME","Shin","05",2,{"$f":"VLOOKUP(B1776*100+C1776,氏名データ!$AC$2:$AJ$401,2,0)","v":"錦城"},null,"男",null,63026,"班目","心","ﾏﾀﾞﾗﾒ","ｼﾝ","MADARAME","Shin","男","05",2]
[63027,6,30,"渡部","航太","ﾜﾀﾅﾍﾞ","ｺｳﾀ","WATANABE","Kota","05",2,{"$f":"VLOOKUP(B1777*100+C1777,氏名データ!$AC$2:$AJ$401,2,0)","v":"錦城"},null,"男",null,63027,"渡部","航太","ﾜﾀﾅﾍﾞ","ｺｳﾀ","WATANABE","Kota","男","05",2]
[63028,6,30,"渡邊","大地","ﾜﾀﾅﾍﾞ","ﾀﾞｲﾁ","WATANABE","Daichi","05",2,{"$f":"VLOOKUP(B1778*100+C1778,氏名データ!$AC$2:$AJ$401,2,0)","v":"錦城"},null,"男",null,63028,"渡邊","大地","ﾜﾀﾅﾍﾞ","ﾀﾞｲﾁ","WATANABE","Daichi","男","05",2]
[63029,6,30,"梅澤","涼太","ｳﾒｻﾞﾜ","ﾘｮｳﾀ","UMEZAWA","Ryota","07",1,{"$f":"VLOOKUP(B1779*100+C1779,氏名データ!$AC$2:$AJ$401,2,0)","v":"錦城"},null,"男",null,63029,"梅澤","涼太","ｳﾒｻﾞﾜ","ﾘｮｳﾀ","UMEZAWA","Ryota","男","07",1]
[63030,6,30,"木崎","陽翔","ｷｻﾞｷ","ﾊﾙﾄ","KIZAKI","Haruto","06",1,{"$f":"VLOOKUP(B1780*100+C1780,氏名データ!$AC$2:$AJ$401,2,0)","v":"錦城"},null,"男",null,63030,"木崎","陽翔","ｷｻﾞｷ","ﾊﾙﾄ","KIZAKI","Haruto","男","06",1]
[63031,6,30,"佐々木","希","ｻｻｷ","ﾉｿﾞﾐ","SASAKI","Nozomi","06",1,{"$f":"VLOOKUP(B1781*100+C1781,氏名データ!$AC$2:$AJ$401,2,0)","v":"錦城"},null,"男",null,63031,"佐々木","希","ｻｻｷ","ﾉｿﾞﾐ","SASAKI","Nozomi","男","06",1]
[63032,6,30,"須加","湧大","ｽｶ","ﾕｳﾀﾞｲ","SUKA","Yudai","06",1,{"$f":"VLOOKUP(B1782*100+C1782,氏名データ!$AC$2:$AJ$401,2,0)","v":"錦城"},null,"男",null,63032,"須加","湧大","ｽｶ","ﾕｳﾀﾞｲ","SUKA","Yudai","男","06",1]
[63033,6,30,"中島","崇太","ﾅｶｼﾞﾏ","ｿｳﾀ","NAKAJIMA","Sota","06",1,{"$f":"VLOOKUP(B1783*100+C1783,氏名データ!$AC$2:$AJ$401,2,0)","v":"錦城"},null,"男",null,63033,"中島","崇太","ﾅｶｼﾞﾏ","ｿｳﾀ","NAKAJIMA","Sota","男","06",1]
[63034,6,30,"中村","哲也","ﾅｶﾑﾗ","ﾃﾂﾔ","NAKAMURA","Tetsuya","06",1,{"$f":"VLOOKUP(B1784*100+C1784,氏名データ!$AC$2:$AJ$401,2,0)","v":"錦城"},null,"男",null,63034,"中村","哲也","ﾅｶﾑﾗ","ﾃﾂﾔ","NAKAMURA","Tetsuya","男","06",1]
[63035,6,30,"平沼","健太","ﾋﾗﾇﾏ","ｹﾝﾀ","HIRANUMA","Kenta","06",1,{"$f":"VLOOKUP(B1785*100+C1785,氏名データ!$AC$2:$AJ$401,2,0)","v":"錦城"},null,"男",null,63035,"平沼","健太","ﾋﾗﾇﾏ","ｹﾝﾀ","HIRANUMA","Kenta","男","06",1]
[63036,6,30,"深澤","亮祐","ﾌｶｻﾜ","ﾘｮｳｳｹ","FUKASAWA","Ryosuke","06",1,{"$f":"VLOOKUP(B1786*100+C1786,氏名データ!$AC$2:$AJ$401,2,0)","v":"錦城"},null,"男",null,63036,"深澤","亮祐","ﾌｶｻﾜ","ﾘｮｳｳｹ","FUKASAWA","Ryosuke","男","06",1]
[63037,6,30,"細田","翔月","ﾎｿﾀﾞ","ｶﾂﾞｷ","HOSODA","Kazuki","06",1,{"$f":"VLOOKUP(B1787*100+C1787,氏名データ!$AC$2:$AJ$401,2,0)","v":"錦城"},null,"男",null,63037,"細田","翔月","ﾎｿﾀﾞ","ｶﾂﾞｷ","HOSODA","Kazuki","男","06",1]
[63038,6,30,"矢部","心平","ﾔﾍﾞ","ｼﾝﾍﾟｲ","YABE","Shimpei","06",1,{"$f":"VLOOKUP(B1788*100+C1788,氏名データ!$AC$2:$AJ$401,2,0)","v":"錦城"},null,"男",null,63038,"矢部","心平","ﾔﾍﾞ","ｼﾝﾍﾟｲ","YABE","Shimpei","男","06",1]
[63039,6,30,"唐澤","慶太","ｶﾗｻﾜ","ｹｲﾀ","KARASAWA","Keita","06",1,{"$f":"VLOOKUP(B1789*100+C1789,氏名データ!$AC$2:$AJ$401,2,0)","v":"錦城"},null,"男",null,63039,"唐澤","慶太","ｶﾗｻﾜ","ｹｲﾀ","KARASAWA","Keita","男","06",1]
[63041,6,30,"伊藤","李央","ｲﾄｳ","ﾘｵ","ITO","Rio","04",3,{"$f":"VLOOKUP(B1790*100+C1790,氏名データ!$AC$2:$AJ$401,2,0)","v":"錦城"},null,"男",null,63041,"伊藤","李央","ｲﾄｳ","ﾘｵ","ITO","Rio","男","04",3]
[63042,6,30,"新野","陸","ﾆｲﾉ","ﾘｸ","NIINO","Riku","04",3,{"$f":"VLOOKUP(B1791*100+C1791,氏名データ!$AC$2:$AJ$401,2,0)","v":"錦城"},null,"男",null,63042,"新野","陸","ﾆｲﾉ","ﾘｸ","NIINO","Riku","男","04",3]
[63044,6,30,"武藤","孝太郎","ﾑﾄｳ","ｺｳﾀﾛｳ","MUTO","Kotaro","04",3,{"$f":"VLOOKUP(B1792*100+C1792,氏名データ!$AC$2:$AJ$401,2,0)","v":"錦城"},null,"男",null,63044,"武藤","孝太郎","ﾑﾄｳ","ｺｳﾀﾛｳ","MUTO","Kotaro","男","04",3]
[63051,6,30,"安藤","こころ","ｱﾝﾄﾞｳ","ｺｺﾛ","ANDO","Kokoro","06",1,{"$f":"VLOOKUP(B1793*100+C1793,氏名データ!$AC$2:$AJ$401,2,0)","v":"錦城"},null,"女",null,63051,"安藤","こころ","ｱﾝﾄﾞｳ","ｺｺﾛ","ANDO","Kokoro","女","06",1]
[63052,6,30,"石井","瑶子","ｲｼｲ","ﾖｳｺ","ISHII","Yoko","07",1,{"$f":"VLOOKUP(B1794*100+C1794,氏名データ!$AC$2:$AJ$401,2,0)","v":"錦城"},null,"女",null,63052,"石井","瑶子","ｲｼｲ","ﾖｳｺ","ISHII","Yoko","女","07",1]
[{"$f":"P1795","v":63053},{"$f":"ROUNDDOWN(A1795/10000,0)","v":6},{"$f":"ROUNDDOWN((A1795-B1795*10000)/100,0)","v":30},{"$f":"Q1795","v":"遠藤"},{"$f":"R1795","v":"まゆ"},{"$f":"S1795","v":"ｴﾝﾄﾞｳ"},{"$f":"T1795","v":"ﾏﾕ"},{"$f":"U1795","v":"ENDO"},{"$f":"V1795","v":"Mayu"},{"$f":"X1795","v":"06"},{"$f":"Y1795","v":1},{"$f":"VLOOKUP(B1795*100+C1795,氏名データ!$AC$2:$AJ$401,2,0)","v":"錦城"},null,{"$f":"W1795","v":"女"},null,63053,"遠藤","まゆ","ｴﾝﾄﾞｳ","ﾏﾕ","ENDO","Mayu","女","06",1]
[63054,6,30,"太田","結菜","ｵｵﾀ","ﾕｲﾅ","OTA","Yuina","06",1,{"$f":"VLOOKUP(B1796*100+C1796,氏名データ!$AC$2:$AJ$401,2,0)","v":"錦城"},null,"女",null,63054,"太田","結菜","ｵｵﾀ","ﾕｲﾅ","OTA","Yuina","女","06",1]
[63055,6,30,"小田桐","歩花","ｵﾀﾞｷﾞﾘ","ｱﾕｶ","ODAGIRI","Ayuka","06",1,{"$f":"VLOOKUP(B1797*100+C1797,氏名データ!$AC$2:$AJ$401,2,0)","v":"錦城"},null,"女",null,63055,"小田桐","歩花","ｵﾀﾞｷﾞﾘ","ｱﾕｶ","ODAGIRI","Ayuka","女","06",1]
[63056,6,30,"清水","莉音","ｼﾐｽﾞ","ﾘｵﾝ","SHIMIZU","Rion","06",1,{"$f":"VLOOKUP(B1798*100+C1798,氏名データ!$AC$2:$AJ$401,2,0)","v":"錦城"},null,"女",null,63056,"清水","莉音","ｼﾐｽﾞ","ﾘｵﾝ","SHIMIZU","Rion","女","06",1]
[63057,6,30,"田中","莉麻","ﾀﾅｶ","ﾘｵ","TANAKA","Rio","06",1,{"$f":"VLOOKUP(B1799*100+C1799,氏名データ!$AC$2:$AJ$401,2,0)","v":"錦城"},null,"女",null,63057,"田中","莉麻","ﾀﾅｶ","ﾘｵ","TANAKA","Rio","女","06",1]
[63058,6,30,"早川","愛花","ﾊﾔｶﾜ","ｱｲｶ","HAYAKAWA","Aika","06",1,{"$f":"VLOOKUP(B1800*100+C1800,氏名データ!$AC$2:$AJ$401,2,0)","v":"錦城"},null,"女",null,63058,"早川","愛花","ﾊﾔｶﾜ","ｱｲｶ","HAYAKAWA","Aika","女","06",1]
[63081,6,30,"田川","真友歌","ﾀｶﾞﾜ","ﾏﾕｶ","TAGAWA","Mayuka","04",3,{"$f":"VLOOKUP(B1801*100+C1801,氏名データ!$AC$2:$AJ$401,2,0)","v":"錦城"},null,"女",null,63081,"田川","真友歌","ﾀｶﾞﾜ","ﾏﾕｶ","TAGAWA","Mayuka","女","04",3]
[63082,6,30,"澤多","志織","ｻﾜﾀﾞ","ｼｵﾘ","SAWADA","Shiori","04",3,{"$f":"VLOOKUP(B1802*100+C1802,氏名データ!$AC$2:$AJ$401,2,0)","v":"錦城"},null,"女",null,63082,"澤多","志織","ｻﾜﾀﾞ","ｼｵﾘ","SAWADA","Shiori","女","04",3]
[63091,6,30,"池田","美和","ｲｹﾀﾞ","ﾐﾜ","IKEDA","Miwa","05",2,{"$f":"VLOOKUP(B1803*100+C1803,氏名データ!$AC$2:$AJ$401,2,0)","v":"錦城"},null,"女",null,63091,"池田","美和","ｲｹﾀﾞ","ﾐﾜ","IKEDA","Miwa","女","05",2]
[63092,6,30,"田村","沙代子","ﾀﾑﾗ","ｻﾖｺ","TAMURA","Sayoko","06",2,{"$f":"VLOOKUP(B1804*100+C1804,氏名データ!$AC$2:$AJ$401,2,0)","v":"錦城"},null,"女",null,63092,"田村","沙代子","ﾀﾑﾗ","ｻﾖｺ","TAMURA","Sayoko","女","06",2]
[63093,6,30,"土屋","陽香","ﾂﾁﾔ","ﾊﾙｶ","TSUCHIYA","Haruka","05",2,{"$f":"VLOOKUP(B1805*100+C1805,氏名データ!$AC$2:$AJ$401,2,0)","v":"錦城"},null,"女",null,63093,"土屋","陽香","ﾂﾁﾔ","ﾊﾙｶ","TSUCHIYA","Haruka","女","05",2]
[63095,6,30,"村野","一花","ﾑﾗﾉ","ｲﾁｶ","MURANO","Ichika","06",2,{"$f":"VLOOKUP(B1806*100+C1806,氏名データ!$AC$2:$AJ$401,2,0)","v":"錦城"},null,"女",null,63095,"村野","一花","ﾑﾗﾉ","ｲﾁｶ","MURANO","Ichika","女","06",2]
[63096,6,30,"山並","さくら","ﾔﾏﾅﾐ","ｻｸﾗ","YAMANAMI","Sakura","05",2,{"$f":"VLOOKUP(B1807*100+C1807,氏名データ!$AC$2:$AJ$401,2,0)","v":"錦城"},null,"女",null,63096,"山並","さくら","ﾔﾏﾅﾐ","ｻｸﾗ","YAMANAMI","Sakura","女","05",2]
[63097,6,30,"吉川","佳凛","ﾖｼｶﾜ","ｶﾘﾝ","YOSHIKAWA","Karin","06",2,{"$f":"VLOOKUP(B1808*100+C1808,氏名データ!$AC$2:$AJ$401,2,0)","v":"錦城"},null,"女",null,63097,"吉川","佳凛","ﾖｼｶﾜ","ｶﾘﾝ","YOSHIKAWA","Karin","女","06",2]
[63151,6,31,"大友","愛子","ｵｵﾄﾓ","ｱｲｺ","OTOMO","Aiko","04",3,{"$f":"VLOOKUP(B1809*100+C1809,氏名データ!$AC$2:$AJ$401,2,0)","v":"白梅学園"},null,"女",null,63151,"大友","愛子","ｵｵﾄﾓ","ｱｲｺ","OTOMO","Aiko","女","04",3]
[63152,6,31,"岡","小春","ｵｶ","ｺﾊﾙ","OKA","Koharu","05",3,{"$f":"VLOOKUP(B1810*100+C1810,氏名データ!$AC$2:$AJ$401,2,0)","v":"白梅学園"},null,"女",null,63152,"岡","小春","ｵｶ","ｺﾊﾙ","OKA","Koharu","女","05",3]
[63153,6,31,"京岡","優里","ｷｮｳｵｶ","ﾕｳﾘ","KYOUOKA","Yuuri","04",3,{"$f":"VLOOKUP(B1811*100+C1811,氏名データ!$AC$2:$AJ$401,2,0)","v":"白梅学園"},null,"女",null,63153,"京岡","優里","ｷｮｳｵｶ","ﾕｳﾘ","KYOUOKA","Yuuri","女","04",3]
[63154,6,31,"小泉","璃莉","ｺｲｽﾞﾐ","ﾘﾘ","KOIZUMI","Riri","04",3,{"$f":"VLOOKUP(B1812*100+C1812,氏名データ!$AC$2:$AJ$401,2,0)","v":"白梅学園"},null,"女",null,63154,"小泉","璃莉","ｺｲｽﾞﾐ","ﾘﾘ","KOIZUMI","Riri","女","04",3]
[63155,6,31,"勝","くるみ","ｽｸﾞﾚ","ｸﾙﾐ","SUGURE","Kurumi","04",3,{"$f":"VLOOKUP(B1813*100+C1813,氏名データ!$AC$2:$AJ$401,2,0)","v":"白梅学園"},null,"女",null,63155,"勝","くるみ","ｽｸﾞﾚ","ｸﾙﾐ","SUGURE","Kurumi","女","04",3]
[63156,6,31,"高宮","芙季","ﾀｶﾐﾔ","ﾌｷ","TAKAMIYA","Fuki","04",3,{"$f":"VLOOKUP(B1814*100+C1814,氏名データ!$AC$2:$AJ$401,2,0)","v":"白梅学園"},null,"女",null,63156,"高宮","芙季","ﾀｶﾐﾔ","ﾌｷ","TAKAMIYA","Fuki","女","04",3]
[63157,6,31,"中村","絢音","ﾅｶﾑﾗ","ｱﾔﾈ","NAKAMURA","Ayane","04",3,{"$f":"VLOOKUP(B1815*100+C1815,氏名データ!$AC$2:$AJ$401,2,0)","v":"白梅学園"},null,"女",null,63157,"中村","絢音","ﾅｶﾑﾗ","ｱﾔﾈ","NAKAMURA","Ayane","女","04",3]
[63158,6,31,"藤原","結衣","ﾌｼﾞﾜﾗ","ﾕｲ","FUJIWARA","Yui","04",3,{"$f":"VLOOKUP(B1816*100+C1816,氏名データ!$AC$2:$AJ$401,2,0)","v":"白梅学園"},null,"女",null,63158,"藤原","結衣","ﾌｼﾞﾜﾗ","ﾕｲ","FUJIWARA","Yui","女","04",3]
[63159,6,31,"宮川","麻衣","ﾐﾔｶﾜ","ﾏｲ","MIYAKAWA","Mai","04",3,{"$f":"VLOOKUP(B1817*100+C1817,氏名データ!$AC$2:$AJ$401,2,0)","v":"白梅学園"},null,"女",null,63159,"宮川","麻衣","ﾐﾔｶﾜ","ﾏｲ","MIYAKAWA","Mai","女","04",3]
[63160,6,31,"折本","ひかる","ｵﾘﾓﾄ","ﾋｶﾙ","ORIMOTO","Hikaru","06",2,{"$f":"VLOOKUP(B1818*100+C1818,氏名データ!$AC$2:$AJ$401,2,0)","v":"白梅学園"},null,"女",null,63160,"折本","ひかる","ｵﾘﾓﾄ","ﾋｶﾙ","ORIMOTO","Hikaru","女","06",2]
[63161,6,31,"狩浦","菜々実","ｶﾘｳﾗ","ﾅﾅﾐ","KARIURA","Nanami","06",2,{"$f":"VLOOKUP(B1819*100+C1819,氏名データ!$AC$2:$AJ$401,2,0)","v":"白梅学園"},null,"女",null,63161,"狩浦","菜々実","ｶﾘｳﾗ","ﾅﾅﾐ","KARIURA","Nanami","女","06",2]
[63162,6,31,"来山","柚子","ｷﾀﾔﾏ","ﾕｽﾞ","KITAYAMA","Yuzu","05",2,{"$f":"VLOOKUP(B1820*100+C1820,氏名データ!$AC$2:$AJ$401,2,0)","v":"白梅学園"},null,"女",null,63162,"来山","柚子","ｷﾀﾔﾏ","ﾕｽﾞ","KITAYAMA","Yuzu","女","05",2]
[63163,6,31,"下元","香凜","ｼﾓﾓﾄ","ｶﾘﾝ","SHIMOMOTO","Karin","05",2,{"$f":"VLOOKUP(B1821*100+C1821,氏名データ!$AC$2:$AJ$401,2,0)","v":"白梅学園"},null,"女",null,63163,"下元","香凜","ｼﾓﾓﾄ","ｶﾘﾝ","SHIMOMOTO","Karin","女","05",2]
[63164,6,31,"新奥","恵香","ｼﾝｵｸ","ｹｲｶ","SHINOKU","Keika","05",2,{"$f":"VLOOKUP(B1822*100+C1822,氏名データ!$AC$2:$AJ$401,2,0)","v":"白梅学園"},null,"女",null,63164,"新奥","恵香","ｼﾝｵｸ","ｹｲｶ","SHINOKU","Keika","女","05",2]
[63165,6,31,"鈴木","菜央","ｽｽﾞｷ","ﾅｵ","SUZUKI","Nao","05",2,{"$f":"VLOOKUP(B1823*100+C1823,氏名データ!$AC$2:$AJ$401,2,0)","v":"白梅学園"},null,"女",null,63165,"鈴木","菜央","ｽｽﾞｷ","ﾅｵ","SUZUKI","Nao","女","05",2]
[63167,6,31,"高橋","実結","ﾀｶﾊｼ","ﾐﾕ","TAKAHASHI","Miyu","06",2,{"$f":"VLOOKUP(B1824*100+C1824,氏名データ!$AC$2:$AJ$401,2,0)","v":"白梅学園"},null,"女",null,63167,"高橋","実結","ﾀｶﾊｼ","ﾐﾕ","TAKAHASHI","Miyu","女","06",2]
[63168,6,31,"滝沢","彩佳","ﾀｷｻﾞﾜ","ｱﾔｶ","TAKIZAWA","Ayaka","05",2,{"$f":"VLOOKUP(B1825*100+C1825,氏名データ!$AC$2:$AJ$401,2,0)","v":"白梅学園"},null,"女",null,63168,"滝沢","彩佳","ﾀｷｻﾞﾜ","ｱﾔｶ","TAKIZAWA","Ayaka","女","05",2]
[63169,6,31,"中島","あんな","ﾅｶｼﾞﾏ","ｱﾝﾅ","NAKAJIMA","Anna","05",2,{"$f":"VLOOKUP(B1826*100+C1826,氏名データ!$AC$2:$AJ$401,2,0)","v":"白梅学園"},null,"女",null,63169,"中島","あんな","ﾅｶｼﾞﾏ","ｱﾝﾅ","NAKAJIMA","Anna","女","05",2]
[63171,6,31,"三田","朋佳","ﾐﾀ","ﾄﾓｶ","MITA","Tomoka","05",2,{"$f":"VLOOKUP(B1827*100+C1827,氏名データ!$AC$2:$AJ$401,2,0)","v":"白梅学園"},null,"女",null,63171,"三田","朋佳","ﾐﾀ","ﾄﾓｶ","MITA","Tomoka","女","05",2]
[63172,6,31,"山中","心愛","ﾔﾏﾅｶ","ｺｺｱ","YAMANAKA","Kokoa","05",2,{"$f":"VLOOKUP(B1828*100+C1828,氏名データ!$AC$2:$AJ$401,2,0)","v":"白梅学園"},null,"女",null,63172,"山中","心愛","ﾔﾏﾅｶ","ｺｺｱ","YAMANAKA","Kokoa","女","05",2]
[63173,6,31,"吉野","友菜","ﾖｼﾉ","ﾕｳﾅ","YOSHINO","Yuuna","06",2,{"$f":"VLOOKUP(B1829*100+C1829,氏名データ!$AC$2:$AJ$401,2,0)","v":"白梅学園"},null,"女",null,63173,"吉野","友菜","ﾖｼﾉ","ﾕｳﾅ","YOSHINO","Yuuna","女","06",2]
[63174,6,31,"塩崎","渚咲","ｼｵｻﾞｷ","ﾅｷﾞｻ","SHIOZAKI","Nagisa","06",1,{"$f":"VLOOKUP(B1830*100+C1830,氏名データ!$AC$2:$AJ$401,2,0)","v":"白梅学園"},null,"女",null,63174,"塩崎","渚咲","ｼｵｻﾞｷ","ﾅｷﾞｻ","SHIOZAKI","Nagisa","女","06",1]
[63175,6,31,"肥沼","由桜","ｺｲﾇﾏ","ﾕﾗ","KOINUMA","Yura","07",1,{"$f":"VLOOKUP(B1831*100+C1831,氏名データ!$AC$2:$AJ$401,2,0)","v":"白梅学園"},null,"女",null,63175,"肥沼","由桜","ｺｲﾇﾏ","ﾕﾗ","KOINUMA","Yura","女","07",1]
[63222,6,32,"松野","直人","ﾏﾂﾉ","ﾅｵﾄ","MATSUNO","Naoto","04",3,{"$f":"VLOOKUP(B1832*100+C1832,氏名データ!$AC$2:$AJ$401,2,0)","v":"創価"},null,"男",null,63222,"松野","直人","ﾏﾂﾉ","ﾅｵﾄ","MATSUNO","Naoto","男","04",3]
[63223,6,32,"藤本","空","ﾌｼﾞﾓﾄ","ｿﾗ","FUJIMOTO","Sora","04",3,{"$f":"VLOOKUP(B1833*100+C1833,氏名データ!$AC$2:$AJ$401,2,0)","v":"創価"},null,"男",null,63223,"藤本","空","ﾌｼﾞﾓﾄ","ｿﾗ","FUJIMOTO","Sora","男","04",3]
[63224,6,32,"川﨑","正雄","ｶﾜｻｷ","ﾏｻｵ","KAWASAKI","Masao","04",3,{"$f":"VLOOKUP(B1834*100+C1834,氏名データ!$AC$2:$AJ$401,2,0)","v":"創価"},null,"男",null,63224,"川﨑","正雄","ｶﾜｻｷ","ﾏｻｵ","KAWASAKI","Masao","男","04",3]
[63225,6,32,"石坂","旦妃","ｲｼｻﾞｶ","ｱｻﾋ","ISHIZAKA","Asahi","04",3,{"$f":"VLOOKUP(B1835*100+C1835,氏名データ!$AC$2:$AJ$401,2,0)","v":"創価"},null,"女",null,63225,"石坂","旦妃","ｲｼｻﾞｶ","ｱｻﾋ","ISHIZAKA","Asahi","女","04",3]
[63241,6,32,"大島","創磨","ｵｵｼﾏ","ｿｳﾏ","OSHIMA","Soma","05",2,{"$f":"VLOOKUP(B1836*100+C1836,氏名データ!$AC$2:$AJ$401,2,0)","v":"創価"},null,"男",null,63241,"大島","創磨","ｵｵｼﾏ","ｿｳﾏ","OSHIMA","Soma","男","05",2]
[63242,6,32,"松井","高志","ﾏﾂｲ","ﾀｶｼ","MATSUI","Takashi","05",2,{"$f":"VLOOKUP(B1837*100+C1837,氏名データ!$AC$2:$AJ$401,2,0)","v":"創価"},null,"男",null,63242,"松井","高志","ﾏﾂｲ","ﾀｶｼ","MATSUI","Takashi","男","05",2]
[63243,6,32,"森","大翔","ﾓﾘ","ﾋﾛﾄ","MORI","Hiroto","06",2,{"$f":"VLOOKUP(B1838*100+C1838,氏名データ!$AC$2:$AJ$401,2,0)","v":"創価"},null,"男",null,63243,"森","大翔","ﾓﾘ","ﾋﾛﾄ","MORI","Hiroto","男","06",2]
[63244,6,32,"松永","康之介","ﾏﾂﾅｶﾞ","ｺｳﾉｽｹ","MATSUNAGA","Konosuke","05",2,{"$f":"VLOOKUP(B1839*100+C1839,氏名データ!$AC$2:$AJ$401,2,0)","v":"創価"},null,"男",null,63244,"松永","康之介","ﾏﾂﾅｶﾞ","ｺｳﾉｽｹ","MATSUNAGA","Konosuke","男","05",2]
[63245,6,32,"長洲","勇太","ﾅｶﾞｽ","ﾕｳﾀ","NAGASU","Yuta","06",2,{"$f":"VLOOKUP(B1840*100+C1840,氏名データ!$AC$2:$AJ$401,2,0)","v":"創価"},null,"男",null,63245,"長洲","勇太","ﾅｶﾞｽ","ﾕｳﾀ","NAGASU","Yuta","男","06",2]
[63247,6,32,"神保","広宣","ｼﾞﾝﾎﾞ","ﾋﾛﾉﾌﾞ","JIMBO","Hironobu","07",1,{"$f":"VLOOKUP(B1841*100+C1841,氏名データ!$AC$2:$AJ$401,2,0)","v":"創価"},null,"男",null,63247,"神保","広宣","ｼﾞﾝﾎﾞ","ﾋﾛﾉﾌﾞ","JIMBO","Hironobu","男","07",1]
[63248,6,32,"牧野","陽","ﾏｷﾉ","ﾊﾙ","MAKINO","Haru","06",1,{"$f":"VLOOKUP(B1842*100+C1842,氏名データ!$AC$2:$AJ$401,2,0)","v":"創価"},null,"男",null,63248,"牧野","陽","ﾏｷﾉ","ﾊﾙ","MAKINO","Haru","男","06",1]
[63249,6,32,"村山","一城","ﾑﾗﾔﾏ","ｶｽﾞｷ","MURAYAMA","Kazuki","06",1,{"$f":"VLOOKUP(B1843*100+C1843,氏名データ!$AC$2:$AJ$401,2,0)","v":"創価"},null,"男",null,63249,"村山","一城","ﾑﾗﾔﾏ","ｶｽﾞｷ","MURAYAMA","Kazuki","男","06",1]
[63250,6,32,"千葉","誠","ﾁﾊﾞ","ﾏｺﾄ","CHIBA","Makoto","06",1,{"$f":"VLOOKUP(B1844*100+C1844,氏名データ!$AC$2:$AJ$401,2,0)","v":"創価"},null,"男",null,63250,"千葉","誠","ﾁﾊﾞ","ﾏｺﾄ","CHIBA","Makoto","男","06",1]
[63256,6,32,"野沢","千夏","ﾉｻﾞﾜ","ﾁﾅﾂ","NOZAWA","Chinatsu","06",1,{"$f":"VLOOKUP(B1845*100+C1845,氏名データ!$AC$2:$AJ$401,2,0)","v":"創価"},null,"女",null,63256,"野沢","千夏","ﾉｻﾞﾜ","ﾁﾅﾂ","NOZAWA","Chinatsu","女","06",1]
[63257,6,32,"山口","翼","ﾔﾏｸﾞﾁ","ﾂﾊﾞｻ","YAMAGUCHI","Tsubasa","06",1,{"$f":"VLOOKUP(B1846*100+C1846,氏名データ!$AC$2:$AJ$401,2,0)","v":"創価"},null,"女",null,63257,"山口","翼","ﾔﾏｸﾞﾁ","ﾂﾊﾞｻ","YAMAGUCHI","Tsubasa","女","06",1]
[63301,6,33,"岡部","州","ｵｶﾍﾞ","ｼｭｳ","OKABE","Shu","05",2,{"$f":"VLOOKUP(B1847*100+C1847,氏名データ!$AC$2:$AJ$401,2,0)","v":"拓大一"},null,"男",null,63301,"岡部","州","ｵｶﾍﾞ","ｼｭｳ","OKABE","Shu","男","05",2]
[63302,6,33,"迎","暖人","ﾑｶｴ","ﾊﾙﾄ","MUKAE","Haruto","06",2,{"$f":"VLOOKUP(B1848*100+C1848,氏名データ!$AC$2:$AJ$401,2,0)","v":"拓大一"},null,"男",null,63302,"迎","暖人","ﾑｶｴ","ﾊﾙﾄ","MUKAE","Haruto","男","06",2]
[63303,6,33,"佐藤","匠真","ｻﾄｳ","ﾀｸﾏ","SATO","Takuma","05",2,{"$f":"VLOOKUP(B1849*100+C1849,氏名データ!$AC$2:$AJ$401,2,0)","v":"拓大一"},null,"男",null,63303,"佐藤","匠真","ｻﾄｳ","ﾀｸﾏ","SATO","Takuma","男","05",2]
[63304,6,33,"辻","昂介","ﾂｼﾞ","ｺｳｽｹ","TSUJI","Kousuke","05",2,{"$f":"VLOOKUP(B1850*100+C1850,氏名データ!$AC$2:$AJ$401,2,0)","v":"拓大一"},null,"男",null,63304,"辻","昂介","ﾂｼﾞ","ｺｳｽｹ","TSUJI","Kousuke","男","05",2]
[63305,6,33,"中野","智貴","ﾅｶﾉ","ﾄﾓｷ","NAKANO","Tomoki","05",2,{"$f":"VLOOKUP(B1851*100+C1851,氏名データ!$AC$2:$AJ$401,2,0)","v":"拓大一"},null,"男",null,63305,"中野","智貴","ﾅｶﾉ","ﾄﾓｷ","NAKANO","Tomoki","男","05",2]
[63306,6,33,"松本","光生","ﾏﾂﾓﾄ","ｺｳｾｲ","MATSUMOTO","Kosei","05",2,{"$f":"VLOOKUP(B1852*100+C1852,氏名データ!$AC$2:$AJ$401,2,0)","v":"拓大一"},null,"男",null,63306,"松本","光生","ﾏﾂﾓﾄ","ｺｳｾｲ","MATSUMOTO","Kosei","男","05",2]
[63307,6,33,"平井","璃空","ﾋﾗｲ","ﾘｸ","HIRAI","Riku","05",2,{"$f":"VLOOKUP(B1853*100+C1853,氏名データ!$AC$2:$AJ$401,2,0)","v":"拓大一"},null,"男",null,63307,"平井","璃空","ﾋﾗｲ","ﾘｸ","HIRAI","Riku","男","05",2]
[63308,6,33,"平尾","陸","ﾋﾗｵ","ﾘｸ","HIRAO","Riku","05",2,{"$f":"VLOOKUP(B1854*100+C1854,氏名データ!$AC$2:$AJ$401,2,0)","v":"拓大一"},null,"男",null,63308,"平尾","陸","ﾋﾗｵ","ﾘｸ","HIRAO","Riku","男","05",2]
[63309,6,33,"保髙","連皇","ﾎﾀｶ","ﾚｵﾝ","HOTAKA","Leon","06",2,{"$f":"VLOOKUP(B1855*100+C1855,氏名データ!$AC$2:$AJ$401,2,0)","v":"拓大一"},null,"男",null,63309,"保髙","連皇","ﾎﾀｶ","ﾚｵﾝ","HOTAKA","Leon","男","06",2]
[63310,6,33,"梶本","昊希","ｶｼﾞﾓﾄ","ｺｳｷ","KAJIMOTO","Koki","05",2,{"$f":"VLOOKUP(B1856*100+C1856,氏名データ!$AC$2:$AJ$401,2,0)","v":"拓大一"},null,"男",null,63310,"梶本","昊希","ｶｼﾞﾓﾄ","ｺｳｷ","KAJIMOTO","Koki","男","05",2]
[63312,6,33,"白井","徳悠","ｼﾗｲ","ﾉﾘﾁｶ","SHIRAI","Norichika","05",2,{"$f":"VLOOKUP(B1857*100+C1857,氏名データ!$AC$2:$AJ$401,2,0)","v":"拓大一"},null,"男",null,63312,"白井","徳悠","ｼﾗｲ","ﾉﾘﾁｶ","SHIRAI","Norichika","男","05",2]
[63313,6,33,"石川","翔梧","ｲｼｶﾜ","ｼｮｳｺﾞ","ISHIKAWA","Shogo","05",2,{"$f":"VLOOKUP(B1858*100+C1858,氏名データ!$AC$2:$AJ$401,2,0)","v":"拓大一"},null,"男",null,63313,"石川","翔梧","ｲｼｶﾜ","ｼｮｳｺﾞ","ISHIKAWA","Shogo","男","05",2]
[{"$f":"P1859","v":63314},{"$f":"ROUNDDOWN(A1859/10000,0)","v":6},{"$f":"ROUNDDOWN((A1859-B1859*10000)/100,0)","v":33},{"$f":"Q1859","v":"宇賀神"},{"$f":"R1859","v":"太地"},{"$f":"S1859","v":"ｳｶﾞｼﾞﾝ"},{"$f":"T1859","v":"ﾀｲﾁ"},{"$f":"U1859","v":"UGAJIN"},{"$f":"V1859","v":"Taichi"},{"$f":"X1859","v":"05"},{"$f":"Y1859","v":2},{"$f":"VLOOKUP(B1859*100+C1859,氏名データ!$AC$2:$AJ$401,2,0)","v":"拓大一"},null,{"$f":"W1859","v":"男"},null,63314,"宇賀神","太地","ｳｶﾞｼﾞﾝ","ﾀｲﾁ","UGAJIN","Taichi","男","05",2]
[63315,6,33,"海野","翔平","ｳﾝﾉ","ｼｮｳﾍｲ","UNNO","Shohei","05",2,{"$f":"VLOOKUP(B1860*100+C1860,氏名データ!$AC$2:$AJ$401,2,0)","v":"拓大一"},null,"男",null,63315,"海野","翔平","ｳﾝﾉ","ｼｮｳﾍｲ","UNNO","Shohei","男","05",2]
[63316,6,33,"川口","俊哉","ｶﾜｸﾞﾁ","ｼｭﾝﾔ","KAWAGUCHI","Shunya","05",2,{"$f":"VLOOKUP(B1861*100+C1861,氏名データ!$AC$2:$AJ$401,2,0)","v":"拓大一"},null,"男",null,63316,"川口","俊哉","ｶﾜｸﾞﾁ","ｼｭﾝﾔ","KAWAGUCHI","Shunya","男","05",2]
[63318,6,33,"櫛引","祐己","ｸｼﾋﾞｷ","ﾕｳｷ","KUSHIBIKI","Yuuki","05",2,{"$f":"VLOOKUP(B1862*100+C1862,氏名データ!$AC$2:$AJ$401,2,0)","v":"拓大一"},null,"男",null,63318,"櫛引","祐己","ｸｼﾋﾞｷ","ﾕｳｷ","KUSHIBIKI","Yuuki","男","05",2]
[63320,6,33,"渋谷","勇斗","ｼﾌﾞﾔ","ﾊﾔﾄ","SHIBUYA","Hayato","05",2,{"$f":"VLOOKUP(B1863*100+C1863,氏名データ!$AC$2:$AJ$401,2,0)","v":"拓大一"},null,"男",null,63320,"渋谷","勇斗","ｼﾌﾞﾔ","ﾊﾔﾄ","SHIBUYA","Hayato","男","05",2]
[63321,6,33,"細川","竜希","ﾎｿｶﾜ","ﾀﾂｷ","HOSOKAWA","Tatsuki","05",2,{"$f":"VLOOKUP(B1864*100+C1864,氏名データ!$AC$2:$AJ$401,2,0)","v":"拓大一"},null,"男",null,63321,"細川","竜希","ﾎｿｶﾜ","ﾀﾂｷ","HOSOKAWA","Tatsuki","男","05",2]
[63322,6,33,"山下","拓海","ﾔﾏｼﾀ","ﾀｸﾐ","YAMASHITA","Takumi","05",2,{"$f":"VLOOKUP(B1865*100+C1865,氏名データ!$AC$2:$AJ$401,2,0)","v":"拓大一"},null,"男",null,63322,"山下","拓海","ﾔﾏｼﾀ","ﾀｸﾐ","YAMASHITA","Takumi","男","05",2]
[63323,6,33,"石井","崚雅","ｲｼｲ","ﾘｮｳｶﾞ","ISHII","Ryoga","06",1,{"$f":"VLOOKUP(B1866*100+C1866,氏名データ!$AC$2:$AJ$401,2,0)","v":"拓大一"},null,"男",null,63323,"石井","崚雅","ｲｼｲ","ﾘｮｳｶﾞ","ISHII","Ryoga","男","06",1]
[63324,6,33,"熊谷","士葵","ｸﾏｶﾞｲ","ｼｷ","KUMAGAI","Shiki","06",1,{"$f":"VLOOKUP(B1867*100+C1867,氏名データ!$AC$2:$AJ$401,2,0)","v":"拓大一"},null,"男",null,63324,"熊谷","士葵","ｸﾏｶﾞｲ","ｼｷ","KUMAGAI","Shiki","男","06",1]
[63325,6,33,"熊田","寛","ｸﾏﾀ","ｶﾝ","KUMATA","Kan","06",1,{"$f":"VLOOKUP(B1868*100+C1868,氏名データ!$AC$2:$AJ$401,2,0)","v":"拓大一"},null,"男",null,63325,"熊田","寛","ｸﾏﾀ","ｶﾝ","KUMATA","Kan","男","06",1]
[63326,6,33,"小島","嵩倖","ｺｼﾞﾏ","ﾀｶﾕｷ","KOJIMA","Takayuki","06",1,{"$f":"VLOOKUP(B1869*100+C1869,氏名データ!$AC$2:$AJ$401,2,0)","v":"拓大一"},null,"男",null,63326,"小島","嵩倖","ｺｼﾞﾏ","ﾀｶﾕｷ","KOJIMA","Takayuki","男","06",1]
[63327,6,33,"田端","悠","ﾀﾊﾞﾀ","ﾕｳ","TABATA","Yu","06",1,{"$f":"VLOOKUP(B1870*100+C1870,氏名データ!$AC$2:$AJ$401,2,0)","v":"拓大一"},null,"男",null,63327,"田端","悠","ﾀﾊﾞﾀ","ﾕｳ","TABATA","Yu","男","06",1]
[63328,6,33,"トラクサル","澄海","ﾄﾗｸｻﾙ","ｽｶｲ","TRUXAL","Sukai","06",1,{"$f":"VLOOKUP(B1871*100+C1871,氏名データ!$AC$2:$AJ$401,2,0)","v":"拓大一"},null,"男",null,63328,"トラクサル","澄海","ﾄﾗｸｻﾙ","ｽｶｲ","TRUXAL","Sukai","男","06",1]
[63329,6,33,"古田","遥","ﾌﾙﾀ","ﾊﾙ","FURUTA","Haru","06",1,{"$f":"VLOOKUP(B1872*100+C1872,氏名データ!$AC$2:$AJ$401,2,0)","v":"拓大一"},null,"男",null,63329,"古田","遥","ﾌﾙﾀ","ﾊﾙ","FURUTA","Haru","男","06",1]
[63330,6,33,"増田","晃大","ﾏｽﾀﾞ","ｱｷﾋﾛ","MASUDA","Akihiro","06",1,{"$f":"VLOOKUP(B1873*100+C1873,氏名データ!$AC$2:$AJ$401,2,0)","v":"拓大一"},null,"男",null,63330,"増田","晃大","ﾏｽﾀﾞ","ｱｷﾋﾛ","MASUDA","Akihiro","男","06",1]
[63331,6,33,"松本","惺","ﾏﾂﾓﾄ","ｻﾄﾙ","MATSUMOTO","Satoru","06",1,{"$f":"VLOOKUP(B1874*100+C1874,氏名データ!$AC$2:$AJ$401,2,0)","v":"拓大一"},null,"男",null,63331,"松本","惺","ﾏﾂﾓﾄ","ｻﾄﾙ","MATSUMOTO","Satoru","男","06",1]
[63332,6,33,"山川","真裕","ﾔﾏｶﾜ","ﾏﾋﾛ","YAMAKAWA","Mahiro","06",1,{"$f":"VLOOKUP(B1875*100+C1875,氏名データ!$AC$2:$AJ$401,2,0)","v":"拓大一"},null,"男",null,63332,"山川","真裕","ﾔﾏｶﾜ","ﾏﾋﾛ","YAMAKAWA","Mahiro","男","06",1]
[63333,6,33,"後藤","真碧","ｺﾞﾄｳ","ﾏｵ","GOTO","Mao","07",1,{"$f":"VLOOKUP(B1876*100+C1876,氏名データ!$AC$2:$AJ$401,2,0)","v":"拓大一"},null,"男",null,63333,"後藤","真碧","ｺﾞﾄｳ","ﾏｵ","GOTO","Mao","男","07",1]
[63334,6,33,"小笠原","正洋","ｵｶﾞｻﾜﾗ","ﾏｻﾋﾛ","OGASAWARA","Masahiro","06",1,{"$f":"VLOOKUP(B1877*100+C1877,氏名データ!$AC$2:$AJ$401,2,0)","v":"拓大一"},null,"男",null,63334,"小笠原","正洋","ｵｶﾞｻﾜﾗ","ﾏｻﾋﾛ","OGASAWARA","Masahiro","男","06",1]
[63335,6,33,"尾崎","俊輔","ｵｻﾞｷ","ｼｭﾝｽｹ","OZAKI","Shunsuke","06",1,{"$f":"VLOOKUP(B1878*100+C1878,氏名データ!$AC$2:$AJ$401,2,0)","v":"拓大一"},null,"男",null,63335,"尾崎","俊輔","ｵｻﾞｷ","ｼｭﾝｽｹ","OZAKI","Shunsuke","男","06",1]
[63336,6,33,"釘田","稜也","ｸｷﾞﾀ","ﾘｮｳﾔ","KUGITA","Ryoya","06",1,{"$f":"VLOOKUP(B1879*100+C1879,氏名データ!$AC$2:$AJ$401,2,0)","v":"拓大一"},null,"男",null,63336,"釘田","稜也","ｸｷﾞﾀ","ﾘｮｳﾔ","KUGITA","Ryoya","男","06",1]
[63337,6,33,"福井","悠真","ﾌｸｲ","ﾕｳﾏ","FUKUI","Yuma","06",1,{"$f":"VLOOKUP(B1880*100+C1880,氏名データ!$AC$2:$AJ$401,2,0)","v":"拓大一"},null,"男",null,63337,"福井","悠真","ﾌｸｲ","ﾕｳﾏ","FUKUI","Yuma","男","06",1]
[63338,6,33,"松原","凌","ﾏﾂﾊﾞﾗ","ﾘｮｳ","MATSUBARA","Ryou","06",1,{"$f":"VLOOKUP(B1881*100+C1881,氏名データ!$AC$2:$AJ$401,2,0)","v":"拓大一"},null,"男",null,63338,"松原","凌","ﾏﾂﾊﾞﾗ","ﾘｮｳ","MATSUBARA","Ryou","男","06",1]
[63339,6,33,"松本","碧生","ﾏﾂﾓﾄ","ｱｵｲ","MATSUMOTO","Aoi","06",1,{"$f":"VLOOKUP(B1882*100+C1882,氏名データ!$AC$2:$AJ$401,2,0)","v":"拓大一"},null,"男",null,63339,"松本","碧生","ﾏﾂﾓﾄ","ｱｵｲ","MATSUMOTO","Aoi","男","06",1]
[63340,6,33,"伊藤","匠海","ｲﾄｳ","ﾀｸﾐ","ITO","Takumi","04",3,{"$f":"VLOOKUP(B1883*100+C1883,氏名データ!$AC$2:$AJ$401,2,0)","v":"拓大一"},null,"男",null,63340,"伊藤","匠海","ｲﾄｳ","ﾀｸﾐ","ITO","Takumi","男","04",3]
[63341,6,33,"小美野","諒","ｺﾐﾉ","ﾘｮｳ","KOMINO","Ryo","04",3,{"$f":"VLOOKUP(B1884*100+C1884,氏名データ!$AC$2:$AJ$401,2,0)","v":"拓大一"},null,"男",null,63341,"小美野","諒","ｺﾐﾉ","ﾘｮｳ","KOMINO","Ryo","男","04",3]
[63344,6,33,"藤川","岬汰","ﾌｼﾞｶﾜ","ｺｳﾀ","FUJIKAWA","Kouta","04",3,{"$f":"VLOOKUP(B1885*100+C1885,氏名データ!$AC$2:$AJ$401,2,0)","v":"拓大一"},null,"男",null,63344,"藤川","岬汰","ﾌｼﾞｶﾜ","ｺｳﾀ","FUJIKAWA","Kouta","男","04",3]
[63345,6,33,"榎戸","勇哉","ｴﾉｷﾄﾞ","ﾕｳﾔ","ENOKIDO","Yuya","07",1,{"$f":"VLOOKUP(B1886*100+C1886,氏名データ!$AC$2:$AJ$401,2,0)","v":"拓大一"},null,"男",null,63345,"榎戸","勇哉","ｴﾉｷﾄﾞ","ﾕｳﾔ","ENOKIDO","Yuya","男","07",1]
[63347,6,33,"下間","達矢","ｼﾓﾂﾏ","ﾀﾂﾔ","SHIMOTSUMA","Tatsuya","04",3,{"$f":"VLOOKUP(B1887*100+C1887,氏名データ!$AC$2:$AJ$401,2,0)","v":"拓大一"},null,"男",null,63347,"下間","達矢","ｼﾓﾂﾏ","ﾀﾂﾔ","SHIMOTSUMA","Tatsuya","男","04",3]
[63349,6,33,"村田","亮","ﾑﾗﾀ","ﾘｮｳ","MURATA","Ryo","04",3,{"$f":"VLOOKUP(B1888*100+C1888,氏名データ!$AC$2:$AJ$401,2,0)","v":"拓大一"},null,"男",null,63349,"村田","亮","ﾑﾗﾀ","ﾘｮｳ","MURATA","Ryo","男","04",3]
[63351,6,33,"石川","里菜","ｲｼｶﾜ","ﾘﾅ","ISHIKAWA","Rina","05",2,{"$f":"VLOOKUP(B1889*100+C1889,氏名データ!$AC$2:$AJ$401,2,0)","v":"拓大一"},null,"女",null,63351,"石川","里菜","ｲｼｶﾜ","ﾘﾅ","ISHIKAWA","Rina","女","05",2]
[63352,6,33,"金田","彩花","ｶﾈﾀﾞ","ｱﾔｶ","KANEDA","Ayaka","05",2,{"$f":"VLOOKUP(B1890*100+C1890,氏名データ!$AC$2:$AJ$401,2,0)","v":"拓大一"},null,"女",null,63352,"金田","彩花","ｶﾈﾀﾞ","ｱﾔｶ","KANEDA","Ayaka","女","05",2]
[63353,6,33,"須長","杏珠","ｽﾅｶﾞ","ｱﾝｼﾞｭ","SUNAGA","Anju","05",2,{"$f":"VLOOKUP(B1891*100+C1891,氏名データ!$AC$2:$AJ$401,2,0)","v":"拓大一"},null,"女",null,63353,"須長","杏珠","ｽﾅｶﾞ","ｱﾝｼﾞｭ","SUNAGA","Anju","女","05",2]
[63354,6,33,"田村","優衣","ﾀﾑﾗ","ﾕｲ","TAMURA","Yui","06",2,{"$f":"VLOOKUP(B1892*100+C1892,氏名データ!$AC$2:$AJ$401,2,0)","v":"拓大一"},null,"女",null,63354,"田村","優衣","ﾀﾑﾗ","ﾕｲ","TAMURA","Yui","女","06",2]
[63355,6,33,"射場","なつみ","ｲﾊﾞ","ﾅﾂﾐ","IBA","Natsumi","06",1,{"$f":"VLOOKUP(B1893*100+C1893,氏名データ!$AC$2:$AJ$401,2,0)","v":"拓大一"},null,"女",null,63355,"射場","なつみ","ｲﾊﾞ","ﾅﾂﾐ","IBA","Natsumi","女","06",1]
[63356,6,33,"小美濃","真尋","ｵﾐﾉ","ﾏﾋﾛ","OMINO","Mahiro","07",1,{"$f":"VLOOKUP(B1894*100+C1894,氏名データ!$AC$2:$AJ$401,2,0)","v":"拓大一"},null,"女",null,63356,"小美濃","真尋","ｵﾐﾉ","ﾏﾋﾛ","OMINO","Mahiro","女","07",1]
[63357,6,33,"木村","海凪","ｷﾑﾗ","ﾐﾅ","KIMURA","Mina","06",1,{"$f":"VLOOKUP(B1895*100+C1895,氏名データ!$AC$2:$AJ$401,2,0)","v":"拓大一"},null,"女",null,63357,"木村","海凪","ｷﾑﾗ","ﾐﾅ","KIMURA","Mina","女","06",1]
[63358,6,33,"関野","愛里","ｾｷﾉ","ｱｲﾘ","SEKINO","Airi","06",1,{"$f":"VLOOKUP(B1896*100+C1896,氏名データ!$AC$2:$AJ$401,2,0)","v":"拓大一"},null,"女",null,63358,"関野","愛里","ｾｷﾉ","ｱｲﾘ","SEKINO","Airi","女","06",1]
[63392,6,33,"藤田","紗英","ﾌｼﾞﾀ","ｻｴ","FUJITA","Sae","04",3,{"$f":"VLOOKUP(B1897*100+C1897,氏名データ!$AC$2:$AJ$401,2,0)","v":"拓大一"},null,"女",null,63392,"藤田","紗英","ﾌｼﾞﾀ","ｻｴ","FUJITA","Sae","女","04",3]
[63501,6,35,"古川","謙慎","ﾌﾙｶﾜ","ｹﾝｼﾝ","HURUKAWA","Kenshin","04",3,{"$f":"VLOOKUP(B1898*100+C1898,氏名データ!$AC$2:$AJ$401,2,0)","v":"都東大和"},null,"男",null,63501,"古川","謙慎","ﾌﾙｶﾜ","ｹﾝｼﾝ","HURUKAWA","Kenshin","男","04",3]
[63502,6,35,"佐々木","駿人","ｻｻｷ","ﾊﾔﾄ","SASAKI","Hayato","06",1,{"$f":"VLOOKUP(B1899*100+C1899,氏名データ!$AC$2:$AJ$401,2,0)","v":"都東大和"},null,"男",null,63502,"佐々木","駿人","ｻｻｷ","ﾊﾔﾄ","SASAKI","Hayato","男","06",1]
[63503,6,35,"白崎","歩","ｼﾗｻｷ","ｱﾕﾐ","SHIRASAKI","Ayumi","06",1,{"$f":"VLOOKUP(B1900*100+C1900,氏名データ!$AC$2:$AJ$401,2,0)","v":"都東大和"},null,"男",null,63503,"白崎","歩","ｼﾗｻｷ","ｱﾕﾐ","SHIRASAKI","Ayumi","男","06",1]
[63504,6,35,"関田","琉志","ｾｷﾀ","ﾘｭｳｼﾞ","SEKITA","Ryuji","06",1,{"$f":"VLOOKUP(B1901*100+C1901,氏名データ!$AC$2:$AJ$401,2,0)","v":"都東大和"},null,"男",null,63504,"関田","琉志","ｾｷﾀ","ﾘｭｳｼﾞ","SEKITA","Ryuji","男","06",1]
[63505,6,35,"糸永","ハル","ｲﾄﾅｶﾞ","ﾊﾙ","ITONAGA","Haru","06",1,{"$f":"VLOOKUP(B1902*100+C1902,氏名データ!$AC$2:$AJ$401,2,0)","v":"都東大和"},null,"男",null,63505,"糸永","ハル","ｲﾄﾅｶﾞ","ﾊﾙ","ITONAGA","Haru","男","06",1]
[63506,6,35,"宗形","涼太","ﾑﾅｶﾀ","ﾘｮｳﾀ","MUNAKATA","Ryota","06",1,{"$f":"VLOOKUP(B1903*100+C1903,氏名データ!$AC$2:$AJ$401,2,0)","v":"都東大和"},null,"男",null,63506,"宗形","涼太","ﾑﾅｶﾀ","ﾘｮｳﾀ","MUNAKATA","Ryota","男","06",1]
[63507,6,35,"山田","裕太","ﾔﾏﾀﾞ","ﾕｳﾀ","YAMADA","Yuta","07",1,{"$f":"VLOOKUP(B1904*100+C1904,氏名データ!$AC$2:$AJ$401,2,0)","v":"都東大和"},null,"男",null,63507,"山田","裕太","ﾔﾏﾀﾞ","ﾕｳﾀ","YAMADA","Yuta","男","07",1]
[63508,6,35,"村中","亮介","ﾑﾗﾅｶ","ﾘｮｳｽｹ","MURANAKA","Ryousuke","06",1,{"$f":"VLOOKUP(B1905*100+C1905,氏名データ!$AC$2:$AJ$401,2,0)","v":"都東大和"},null,"男",null,63508,"村中","亮介","ﾑﾗﾅｶ","ﾘｮｳｽｹ","MURANAKA","Ryousuke","男","06",1]
[63509,6,35,"西川","奏汰","ﾆｼｶﾜ","ｿｳﾀ","NISHIKAWA","Souta","06",1,{"$f":"VLOOKUP(B1906*100+C1906,氏名データ!$AC$2:$AJ$401,2,0)","v":"都東大和"},null,"男",null,63509,"西川","奏汰","ﾆｼｶﾜ","ｿｳﾀ","NISHIKAWA","Souta","男","06",1]
[63510,6,35,"穴吹","智矩","ｱﾅﾌﾞｷ","ﾄﾓﾔ","ANABUKI","Tomoya","05",2,{"$f":"VLOOKUP(B1907*100+C1907,氏名データ!$AC$2:$AJ$401,2,0)","v":"都東大和"},null,"男",null,63510,"穴吹","智矩","ｱﾅﾌﾞｷ","ﾄﾓﾔ","ANABUKI","Tomoya","男","05",2]
[63511,6,35,"桑原","涼輔","ｸﾜﾊﾗ","ﾘｮｳｽｹ","KUWAHARA","Ryosuke","06",1,{"$f":"VLOOKUP(B1908*100+C1908,氏名データ!$AC$2:$AJ$401,2,0)","v":"都東大和"},null,"男",null,63511,"桑原","涼輔","ｸﾜﾊﾗ","ﾘｮｳｽｹ","KUWAHARA","Ryosuke","男","06",1]
[63512,6,35,"清水","裕人","ｼﾐｽﾞ","ﾋﾛﾄ","SIMIZU","Hroto","05",2,{"$f":"VLOOKUP(B1909*100+C1909,氏名データ!$AC$2:$AJ$401,2,0)","v":"都東大和"},null,"男",null,63512,"清水","裕人","ｼﾐｽﾞ","ﾋﾛﾄ","SIMIZU","Hroto","男","05",2]
[63514,6,35,"関矢","皓亮","ｾｷﾔ","ｺｳｽｹ","SEKIYA","Kousuke","04",3,{"$f":"VLOOKUP(B1910*100+C1910,氏名データ!$AC$2:$AJ$401,2,0)","v":"都東大和"},null,"男",null,63514,"関矢","皓亮","ｾｷﾔ","ｺｳｽｹ","SEKIYA","Kousuke","男","04",3]
[63515,6,35,"今","信行","ｺﾝ","ﾉﾌﾞﾕｷ","KON","Nobuyuki","04",3,{"$f":"VLOOKUP(B1911*100+C1911,氏名データ!$AC$2:$AJ$401,2,0)","v":"都東大和"},null,"男",null,63515,"今","信行","ｺﾝ","ﾉﾌﾞﾕｷ","KON","Nobuyuki","男","04",3]
[63516,6,35,"出","義明","ｲﾃﾞ","ﾖｼｱｷ","IDE","Yoshiaki","04",3,{"$f":"VLOOKUP(B1912*100+C1912,氏名データ!$AC$2:$AJ$401,2,0)","v":"都東大和"},null,"男",null,63516,"出","義明","ｲﾃﾞ","ﾖｼｱｷ","IDE","Yoshiaki","男","04",3]
[63517,6,35,"鈴木","康大","ｽｽﾞｷ","ｺｳﾀﾞｲ","SUZUKI","Kodai","04",3,{"$f":"VLOOKUP(B1913*100+C1913,氏名データ!$AC$2:$AJ$401,2,0)","v":"都東大和"},null,"男",null,63517,"鈴木","康大","ｽｽﾞｷ","ｺｳﾀﾞｲ","SUZUKI","Kodai","男","04",3]
[63519,6,35,"荻原","遼平","ｵｷﾞﾜﾗ","ﾘｮｳﾍｲ","OGIWARA","Ryouhei","05",2,{"$f":"VLOOKUP(B1914*100+C1914,氏名データ!$AC$2:$AJ$401,2,0)","v":"都東大和"},null,"男",null,63519,"荻原","遼平","ｵｷﾞﾜﾗ","ﾘｮｳﾍｲ","OGIWARA","Ryouhei","男","05",2]
[63520,6,35,"小澤","廣大","ｵｻﾞﾜ","ｺｳﾀﾞｲ","OZAWA","Koudai","04",3,{"$f":"VLOOKUP(B1915*100+C1915,氏名データ!$AC$2:$AJ$401,2,0)","v":"都東大和"},null,"男",null,63520,"小澤","廣大","ｵｻﾞﾜ","ｺｳﾀﾞｲ","OZAWA","Koudai","男","04",3]
[63521,6,35,"山本","蒼輝","ﾔﾏﾓﾄ","ｿｳｷ","YAMAMOTO","Souki","04",3,{"$f":"VLOOKUP(B1916*100+C1916,氏名データ!$AC$2:$AJ$401,2,0)","v":"都東大和"},null,"男",null,63521,"山本","蒼輝","ﾔﾏﾓﾄ","ｿｳｷ","YAMAMOTO","Souki","男","04",3]
[63523,6,35,"西川","琉翔","ﾆｼｶﾜ","ﾘｭｳﾄ","NISHIKAWA","Ryuuto","05",3,{"$f":"VLOOKUP(B1917*100+C1917,氏名データ!$AC$2:$AJ$401,2,0)","v":"都東大和"},null,"男",null,63523,"西川","琉翔","ﾆｼｶﾜ","ﾘｭｳﾄ","NISHIKAWA","Ryuuto","男","05",3]
[{"$f":"P1918","v":63524},{"$f":"ROUNDDOWN(A1918/10000,0)","v":6},{"$f":"ROUNDDOWN((A1918-B1918*10000)/100,0)","v":35},{"$f":"Q1918","v":"浅野"},{"$f":"R1918","v":"遥斗"},{"$f":"S1918","v":"ｱｻﾉ"},{"$f":"T1918","v":"ﾊﾙﾄ"},"ASANO","Haruto","04",{"$f":"Y1918","v":3},{"$f":"VLOOKUP(B1918*100+C1918,氏名データ!$AC$2:$AJ$401,2,0)","v":"都東大和"},null,{"$f":"W1918","v":"男"},null,63524,"浅野","遥斗","ｱｻﾉ","ﾊﾙﾄ","ASANO","Haruto","男","04",3]
[63525,6,35,"渡部","翔貴","ﾜﾀﾍﾞ","ｼｮｳｷ","WATABE","Syouki","05",3,{"$f":"VLOOKUP(B1919*100+C1919,氏名データ!$AC$2:$AJ$401,2,0)","v":"都東大和"},null,"男",null,63525,"渡部","翔貴","ﾜﾀﾍﾞ","ｼｮｳｷ","WATABE","Syouki","男","05",3]
[63526,6,35,"熊谷","優那","ｸｶﾞﾏｲ","ﾕｳﾅ","KUMAGAI","Yuuna","04",3,{"$f":"VLOOKUP(B1920*100+C1920,氏名データ!$AC$2:$AJ$401,2,0)","v":"都東大和"},null,"男",null,63526,"熊谷","優那","ｸｶﾞﾏｲ","ﾕｳﾅ","KUMAGAI","Yuuna","男","04",3]
[63527,6,35,"熊田","大己","ｸﾏﾀﾞ","ﾀﾞｲｷ","KUMADA","Daiki","05",2,{"$f":"VLOOKUP(B1921*100+C1921,氏名データ!$AC$2:$AJ$401,2,0)","v":"都東大和"},null,"男",null,63527,"熊田","大己","ｸﾏﾀﾞ","ﾀﾞｲｷ","KUMADA","Daiki","男","05",2]
[63528,6,35,"吉田","伊吹","ﾖｼﾀﾞ","ｲﾌﾞｷ","YOSHIDA","Ibuki","05",2,{"$f":"VLOOKUP(B1922*100+C1922,氏名データ!$AC$2:$AJ$401,2,0)","v":"都東大和"},null,"男",null,63528,"吉田","伊吹","ﾖｼﾀﾞ","ｲﾌﾞｷ","YOSHIDA","Ibuki","男","05",2]
[63529,6,35,"中園","響","ﾅｶｿﾞﾉ","ﾋﾋﾞｷ",{"$f":"U1923","v":"NAKAZONO"},{"$f":"V1923","v":"Hibiki"},{"$f":"X1923","v":"05"},2,{"$f":"VLOOKUP(B1923*100+C1923,氏名データ!$AC$2:$AJ$401,2,0)","v":"都東大和"},null,"男",null,63529,"中園","響","ﾅｶｿﾞﾉ","ﾋﾋﾞｷ","NAKAZONO","Hibiki","男","05",2]
[63530,6,35,"小澤","駿平","ｵｻﾞﾜ","ｼｭﾝﾍﾟｲ","OZAWA","Syunpei","05",2,{"$f":"VLOOKUP(B1924*100+C1924,氏名データ!$AC$2:$AJ$401,2,0)","v":"都東大和"},null,"男",null,63530,"小澤","駿平","ｵｻﾞﾜ","ｼｭﾝﾍﾟｲ","OZAWA","Syunpei","男","05",2]
[63531,6,35,"根建","暖大","ﾈﾀﾞﾃ","ﾊﾙﾄ","NEDATE","Haruto","05",2,{"$f":"VLOOKUP(B1925*100+C1925,氏名データ!$AC$2:$AJ$401,2,0)","v":"都東大和"},null,"男",null,63531,"根建","暖大","ﾈﾀﾞﾃ","ﾊﾙﾄ","NEDATE","Haruto","男","05",2]
[63532,6,35,"新小倉","誠也","ｼﾝｺｸﾗ","ｾｲﾔ","SHINKOKURA","Seiya","04",3,{"$f":"VLOOKUP(B1926*100+C1926,氏名データ!$AC$2:$AJ$401,2,0)","v":"都東大和"},null,"男",null,63532,"新小倉","誠也","ｼﾝｺｸﾗ","ｾｲﾔ","SHINKOKURA","Seiya","男","04",3]
[63533,6,35,"中井","秀幸","ﾅｶｲ","ﾋﾃﾞﾕｷ","NAKAI","Hideyuki","05",2,{"$f":"VLOOKUP(B1927*100+C1927,氏名データ!$AC$2:$AJ$401,2,0)","v":"都東大和"},null,"男",null,63533,"中井","秀幸","ﾅｶｲ","ﾋﾃﾞﾕｷ","NAKAI","Hideyuki","男","05",2]
[63534,6,35,"河村","飛鷹","ｶﾜﾑﾗ","ｱｽｶ","KAWAMURA","Asuka","05",2,{"$f":"VLOOKUP(B1928*100+C1928,氏名データ!$AC$2:$AJ$401,2,0)","v":"都東大和"},null,"男",null,63534,"河村","飛鷹","ｶﾜﾑﾗ","ｱｽｶ","KAWAMURA","Asuka","男","05",2]
[63535,6,35,"川添","一輝","ｶﾜｿﾞｴ","ｲｯｷ","KAWAZOE","Ikki","05",2,{"$f":"VLOOKUP(B1929*100+C1929,氏名データ!$AC$2:$AJ$401,2,0)","v":"都東大和"},null,"男",null,63535,"川添","一輝","ｶﾜｿﾞｴ","ｲｯｷ","KAWAZOE","Ikki","男","05",2]
[63536,6,35,"加藤","翼","ｶﾄｳ","ﾂﾊﾞｻ","KATOU","Tubasa","06",1,{"$f":"VLOOKUP(B1930*100+C1930,氏名データ!$AC$2:$AJ$401,2,0)","v":"都東大和"},null,"男",null,63536,"加藤","翼","ｶﾄｳ","ﾂﾊﾞｻ","KATOU","Tubasa","男","06",1]
[63537,6,35,"内藤","朔也","ﾅｲﾄｳ","ｻｸﾔ","NAITO","Sakuya","06",1,{"$f":"VLOOKUP(B1931*100+C1931,氏名データ!$AC$2:$AJ$401,2,0)","v":"都東大和"},null,"男",null,63537,"内藤","朔也","ﾅｲﾄｳ","ｻｸﾔ","NAITO","Sakuya","男","06",1]
[63538,6,35,"友野","晃誓","ﾄﾓﾉ","ﾃﾙﾁｶ","TOMONO","Terutika","05",2,{"$f":"VLOOKUP(B1932*100+C1932,氏名データ!$AC$2:$AJ$401,2,0)","v":"都東大和"},null,"男",null,63538,"友野","晃誓","ﾄﾓﾉ","ﾃﾙﾁｶ","TOMONO","Terutika","男","05",2]
[63540,6,35,"大槻","海翔","ｵｵﾂｷ","ｶｲﾄ","OTUKI","Kaito","06",2,{"$f":"VLOOKUP(B1933*100+C1933,氏名データ!$AC$2:$AJ$401,2,0)","v":"都東大和"},null,"男",null,63540,"大槻","海翔","ｵｵﾂｷ","ｶｲﾄ","OTUKI","Kaito","男","06",2]
[63541,6,35,"渡邉","宗一郎","ﾜﾀﾅﾍﾞ","ｿｳｲﾁﾛｳ","WATANABE","Souichirou","07",1,{"$f":"VLOOKUP(B1934*100+C1934,氏名データ!$AC$2:$AJ$401,2,0)","v":"都東大和"},null,"男",null,63541,"渡邉","宗一郎","ﾜﾀﾅﾍﾞ","ｿｳｲﾁﾛｳ","WATANABE","Souichirou","男","07",1]
[63542,6,35,"内倉","颯太","ｳﾁｸﾗ","ｿｳﾀ","UTIKURA","Souta","06",1,{"$f":"VLOOKUP(B1935*100+C1935,氏名データ!$AC$2:$AJ$401,2,0)","v":"都東大和"},null,"男",null,63542,"内倉","颯太","ｳﾁｸﾗ","ｿｳﾀ","UTIKURA","Souta","男","06",1]
[63543,6,35,"会田","廉","ｶｲﾀﾞ","ﾚﾝ","KAIDA","Ren","06",1,{"$f":"VLOOKUP(B1936*100+C1936,氏名データ!$AC$2:$AJ$401,2,0)","v":"都東大和"},null,"男",null,63543,"会田","廉","ｶｲﾀﾞ","ﾚﾝ","KAIDA","Ren","男","06",1]
[63544,6,35,"鈴木","蹴斗","ｽｽﾞｷ","ｼｭｳﾄ","SUZUKI","Shuto","06",1,{"$f":"VLOOKUP(B1937*100+C1937,氏名データ!$AC$2:$AJ$401,2,0)","v":"都東大和"},null,"男",null,63544,"鈴木","蹴斗","ｽｽﾞｷ","ｼｭｳﾄ","SUZUKI","Shuto","男","06",1]
[63545,6,35,"谷本","快翔","ﾀﾆﾓﾄ","ｶｲﾄ","TANIMOTO","Kaito","06",1,{"$f":"VLOOKUP(B1938*100+C1938,氏名データ!$AC$2:$AJ$401,2,0)","v":"都東大和"},null,"男",null,63545,"谷本","快翔","ﾀﾆﾓﾄ","ｶｲﾄ","TANIMOTO","Kaito","男","06",1]
[63546,6,35,"中野","寛己","ﾅｶﾉ","ﾋﾛｷ","NAKANO","Hiroki","06",1,{"$f":"VLOOKUP(B1939*100+C1939,氏名データ!$AC$2:$AJ$401,2,0)","v":"都東大和"},null,"男",null,63546,"中野","寛己","ﾅｶﾉ","ﾋﾛｷ","NAKANO","Hiroki","男","06",1]
[63547,6,35,"櫻澤","優翔","ｻｸﾗｻﾞﾜ","ﾕｳﾄ","SAKURAZAWA","Yuto","07",1,{"$f":"VLOOKUP(B1940*100+C1940,氏名データ!$AC$2:$AJ$401,2,0)","v":"都東大和"},null,"男",null,63547,"櫻澤","優翔","ｻｸﾗｻﾞﾜ","ﾕｳﾄ","SAKURAZAWA","Yuto","男","07",1]
[63548,6,35,"工藤","壮一郎","ｸﾄﾞｳ","ｿｳｲﾁﾛｳ","KUDOU","Souichirou","06",1,{"$f":"VLOOKUP(B1941*100+C1941,氏名データ!$AC$2:$AJ$401,2,0)","v":"都東大和"},null,"男",null,63548,"工藤","壮一郎","ｸﾄﾞｳ","ｿｳｲﾁﾛｳ","KUDOU","Souichirou","男","06",1]
[63549,6,35,"金子","俊祐","ｶﾈｺ","ｼｭﾝｽｹ","KANEKO","Syunsuke","06",1,{"$f":"VLOOKUP(B1942*100+C1942,氏名データ!$AC$2:$AJ$401,2,0)","v":"都東大和"},null,"男",null,63549,"金子","俊祐","ｶﾈｺ","ｼｭﾝｽｹ","KANEKO","Syunsuke","男","06",1]
[63550,6,35,"森岡","隼","ﾓﾘｵｶ","ｼｭﾝ","MORIOKA","Shun","06",1,{"$f":"VLOOKUP(B1943*100+C1943,氏名データ!$AC$2:$AJ$401,2,0)","v":"都東大和"},null,"男",null,63550,"森岡","隼","ﾓﾘｵｶ","ｼｭﾝ","MORIOKA","Shun","男","06",1]
[63551,6,35,"加藤","春","ｶﾄｳ","ﾊﾙ","KATO","Haru","05",2,{"$f":"VLOOKUP(B1944*100+C1944,氏名データ!$AC$2:$AJ$401,2,0)","v":"都東大和"},null,"男",null,63551,"加藤","春","ｶﾄｳ","ﾊﾙ","KATO","Haru","男","05",2]
[63561,6,35,"村野","晴香","ﾑﾗﾉ","ﾊﾙｶ","MURANO","Hruka","05",2,{"$f":"VLOOKUP(B1945*100+C1945,氏名データ!$AC$2:$AJ$401,2,0)","v":"都東大和"},null,"女",null,63561,"村野","晴香","ﾑﾗﾉ","ﾊﾙｶ","MURANO","Hruka","女","05",2]
[63562,6,35,"米谷","陽奈乃","ﾖﾈﾀﾆ","ﾋﾅﾉ","YONETANI","Hinano","05",2,{"$f":"VLOOKUP(B1946*100+C1946,氏名データ!$AC$2:$AJ$401,2,0)","v":"都東大和"},null,"女",null,63562,"米谷","陽奈乃","ﾖﾈﾀﾆ","ﾋﾅﾉ","YONETANI","Hinano","女","05",2]
[63563,6,35,"渡辺","優羽","ﾜﾀﾅﾍﾞ","ﾕｳ","WATANABE","Yu","05",2,{"$f":"VLOOKUP(B1947*100+C1947,氏名データ!$AC$2:$AJ$401,2,0)","v":"都東大和"},null,"女",null,63563,"渡辺","優羽","ﾜﾀﾅﾍﾞ","ﾕｳ","WATANABE","Yu","女","05",2]
[63564,6,35,"青柳","未来","ｱｵﾔｷﾞ","ﾐｸ","AOYAGI","Miku","05",2,{"$f":"VLOOKUP(B1948*100+C1948,氏名データ!$AC$2:$AJ$401,2,0)","v":"都東大和"},null,"女",null,63564,"青柳","未来","ｱｵﾔｷﾞ","ﾐｸ","AOYAGI","Miku","女","05",2]
[63565,6,35,"山田","優奈","ﾔﾏﾀﾞ","ﾕｳﾅ","YAMADA","Yuna","06",1,{"$f":"VLOOKUP(B1949*100+C1949,氏名データ!$AC$2:$AJ$401,2,0)","v":"都東大和"},null,"女",null,63565,"山田","優奈","ﾔﾏﾀﾞ","ﾕｳﾅ","YAMADA","Yuna","女","06",1]
[63566,6,35,"和田","心春","ﾜﾀﾞ","ｺﾊﾙ","WADA","Koharu","07",1,{"$f":"VLOOKUP(B1950*100+C1950,氏名データ!$AC$2:$AJ$401,2,0)","v":"都東大和"},null,"女",null,63566,"和田","心春","ﾜﾀﾞ","ｺﾊﾙ","WADA","Koharu","女","07",1]
[63567,6,35,"井出","日和","ｲﾃﾞ","ﾋﾖﾘ","IDE","Hiyori","05",2,{"$f":"VLOOKUP(B1951*100+C1951,氏名データ!$AC$2:$AJ$401,2,0)","v":"都東大和"},null,"女",null,63567,"井出","日和","ｲﾃﾞ","ﾋﾖﾘ","IDE","Hiyori","女","05",2]
[63569,6,35,"矢後","茜音","ﾔｺﾞ","ｱｶﾈ","YAGO","Akane","05",2,{"$f":"VLOOKUP(B1952*100+C1952,氏名データ!$AC$2:$AJ$401,2,0)","v":"都東大和"},null,"女",null,63569,"矢後","茜音","ﾔｺﾞ","ｱｶﾈ","YAGO","Akane","女","05",2]
[63580,6,35,"横山","美萌","ﾖｺﾔﾏ","ﾐﾎ","YOKOYAMA","Miho","05",2,{"$f":"VLOOKUP(B1953*100+C1953,氏名データ!$AC$2:$AJ$401,2,0)","v":"都東大和"},null,"女",null,63580,"横山","美萌","ﾖｺﾔﾏ","ﾐﾎ","YOKOYAMA","Miho","女","05",2]
[63581,6,35,"佐藤","結貴","ｻﾄｳ","ﾕｷ","SATOU","Yuki","06",1,{"$f":"VLOOKUP(B1954*100+C1954,氏名データ!$AC$2:$AJ$401,2,0)","v":"都東大和"},null,"女",null,63581,"佐藤","結貴","ｻﾄｳ","ﾕｷ","SATOU","Yuki","女","06",1]
[63582,6,35,"住吉","由安","ｽﾐﾖｼ","ﾕｱﾝ","SUMIYOSHI","Yuan","06",1,{"$f":"VLOOKUP(B1955*100+C1955,氏名データ!$AC$2:$AJ$401,2,0)","v":"都東大和"},null,"女",null,63582,"住吉","由安","ｽﾐﾖｼ","ﾕｱﾝ","SUMIYOSHI","Yuan","女","06",1]
[63583,6,35,"細野","怜杏","ﾎｿﾉ","ﾚｲｱ","HOSONO","Reia","07",1,{"$f":"VLOOKUP(B1956*100+C1956,氏名データ!$AC$2:$AJ$401,2,0)","v":"都東大和"},null,"女",null,63583,"細野","怜杏","ﾎｿﾉ","ﾚｲｱ","HOSONO","Reia","女","07",1]
[63584,6,35,"恵花","知里","ｴﾊﾞﾅ","ﾁｻﾄ","EBANA","Tisato","04",3,{"$f":"VLOOKUP(B1957*100+C1957,氏名データ!$AC$2:$AJ$401,2,0)","v":"都東大和"},null,"女",null,63584,"恵花","知里","ｴﾊﾞﾅ","ﾁｻﾄ","EBANA","Tisato","女","04",3]
[63585,6,35,"川口","満有花","ｶﾜｸﾞﾁ","ﾏﾘｶ","KAWAGUTI","Marika","05",3,{"$f":"VLOOKUP(B1958*100+C1958,氏名データ!$AC$2:$AJ$401,2,0)","v":"都東大和"},null,"女",null,63585,"川口","満有花","ｶﾜｸﾞﾁ","ﾏﾘｶ","KAWAGUTI","Marika","女","05",3]
[63586,6,35,"緑川","莉亜","ﾐﾄﾞﾘｶﾜ","ﾏﾘｱ","MIDORIKAWA","Maria","04",3,{"$f":"VLOOKUP(B1959*100+C1959,氏名データ!$AC$2:$AJ$401,2,0)","v":"都東大和"},null,"女",null,63586,"緑川","莉亜","ﾐﾄﾞﾘｶﾜ","ﾏﾘｱ","MIDORIKAWA","Maria","女","04",3]
[63587,6,35,"尾関","茜","ｵｾﾞｷ","ｱｶﾈ","OZEKI","Akane","04",3,{"$f":"VLOOKUP(B1960*100+C1960,氏名データ!$AC$2:$AJ$401,2,0)","v":"都東大和"},null,"女",null,63587,"尾関","茜","ｵｾﾞｷ","ｱｶﾈ","OZEKI","Akane","女","04",3]
[63588,6,35,"中島","凜","ﾅｶｼﾞﾏ","ﾘﾝ","NAKAJIMA","Rin","04",3,{"$f":"VLOOKUP(B1961*100+C1961,氏名データ!$AC$2:$AJ$401,2,0)","v":"都東大和"},null,"女",null,63588,"中島","凜","ﾅｶｼﾞﾏ","ﾘﾝ","NAKAJIMA","Rin","女","04",3]
[63589,6,35,"古田","彩季","ﾌﾙﾀ","ｻｷ","HURUTA","Saki","04",3,{"$f":"VLOOKUP(B1962*100+C1962,氏名データ!$AC$2:$AJ$401,2,0)","v":"都東大和"},null,"女",null,63589,"古田","彩季","ﾌﾙﾀ","ｻｷ","HURUTA","Saki","女","04",3]
[63591,6,35,"田中","史織","ﾀﾅｶ","ｼｵﾘ","TANAKA","Shiori","05",3,{"$f":"VLOOKUP(B1963*100+C1963,氏名データ!$AC$2:$AJ$401,2,0)","v":"都東大和"},null,"女",null,63591,"田中","史織","ﾀﾅｶ","ｼｵﾘ","TANAKA","Shiori","女","05",3]
[63592,6,35,"常盤","麻文","ﾄｷﾜ","ﾏｱﾔ","TOKIWA","Maaya","04",3,{"$f":"VLOOKUP(B1964*100+C1964,氏名データ!$AC$2:$AJ$401,2,0)","v":"都東大和"},null,"女",null,63592,"常盤","麻文","ﾄｷﾜ","ﾏｱﾔ","TOKIWA","Maaya","女","04",3]
[63631,6,36,"小幡","波留弥","ｵﾊﾞﾀ","ﾊﾙﾔ","OBATA","Haruya","05",3,{"$f":"VLOOKUP(B1965*100+C1965,氏名データ!$AC$2:$AJ$401,2,0)","v":"都東大和南"},null,"男",null,63631,"小幡","波留弥","ｵﾊﾞﾀ","ﾊﾙﾔ","OBATA","Haruya","男","05",3]
[63633,6,36,"狩野","慶喜","ｶﾉｳ","ﾖｼﾉﾌﾞ","KANO","Yoshinobu","04",3,{"$f":"VLOOKUP(B1966*100+C1966,氏名データ!$AC$2:$AJ$401,2,0)","v":"都東大和南"},null,"男",null,63633,"狩野","慶喜","ｶﾉｳ","ﾖｼﾉﾌﾞ","KANO","Yoshinobu","男","04",3]
[63634,6,36,"大山","裕優太","ｵｵﾔﾏ","ﾕｳﾀ","OYAMA","Yuta","04",3,{"$f":"VLOOKUP(B1967*100+C1967,氏名データ!$AC$2:$AJ$401,2,0)","v":"都東大和南"},null,"男",null,63634,"大山","裕優太","ｵｵﾔﾏ","ﾕｳﾀ","OYAMA","Yuta","男","04",3]
[63635,6,36,"山田","卓実","ﾔﾏﾀﾞ","ﾀｸﾐ","YAMADA","Takumi","04",3,{"$f":"VLOOKUP(B1968*100+C1968,氏名データ!$AC$2:$AJ$401,2,0)","v":"都東大和南"},null,"男",null,63635,"山田","卓実","ﾔﾏﾀﾞ","ﾀｸﾐ","YAMADA","Takumi","男","04",3]
[63636,6,36,"吉田","和真","ﾖｼﾀﾞ","ｶｽﾞﾏ","YOSHIDA","Kazuma","04",3,{"$f":"VLOOKUP(B1969*100+C1969,氏名データ!$AC$2:$AJ$401,2,0)","v":"都東大和南"},null,"男",null,63636,"吉田","和真","ﾖｼﾀﾞ","ｶｽﾞﾏ","YOSHIDA","Kazuma","男","04",3]
[63637,6,36,"川内","蓮翔","ｶﾜｳﾁ","ﾚﾝﾄ","KAWAUCHI","Rento","04",3,{"$f":"VLOOKUP(B1970*100+C1970,氏名データ!$AC$2:$AJ$401,2,0)","v":"都東大和南"},null,"男",null,63637,"川内","蓮翔","ｶﾜｳﾁ","ﾚﾝﾄ","KAWAUCHI","Rento","男","04",3]
[63640,6,36,"井上","知啓","ｲﾉｳｴ","ﾁﾋﾛ","INOUE","Chihiro","05",2,{"$f":"VLOOKUP(B1971*100+C1971,氏名データ!$AC$2:$AJ$401,2,0)","v":"都東大和南"},null,"男",null,63640,"井上","知啓","ｲﾉｳｴ","ﾁﾋﾛ","INOUE","Chihiro","男","05",2]
[63641,6,36,"松島","聡希","ﾏﾂｼﾏ","ﾄｼｷ","MATSUSHIMA","Toshiki","05",2,{"$f":"VLOOKUP(B1972*100+C1972,氏名データ!$AC$2:$AJ$401,2,0)","v":"都東大和南"},null,"男",null,63641,"松島","聡希","ﾏﾂｼﾏ","ﾄｼｷ","MATSUSHIMA","Toshiki","男","05",2]
[63642,6,36,"加藤","未樹也","ｶﾄｳ","ﾐｷﾔ","KATO","Mikiya","05",2,{"$f":"VLOOKUP(B1973*100+C1973,氏名データ!$AC$2:$AJ$401,2,0)","v":"都東大和南"},null,"男",null,63642,"加藤","未樹也","ｶﾄｳ","ﾐｷﾔ","KATO","Mikiya","男","05",2]
[63643,6,36,"原","維吹樹","ﾊﾗ","ｲﾌﾞｷ","HARA","Ibuki","05",2,{"$f":"VLOOKUP(B1974*100+C1974,氏名データ!$AC$2:$AJ$401,2,0)","v":"都東大和南"},null,"男",null,63643,"原","維吹樹","ﾊﾗ","ｲﾌﾞｷ","HARA","Ibuki","男","05",2]
[63650,6,36,"赤石","耀士","ｱｶｲｼ","ﾖｳｼﾞ","AKAISHI","Yoji","06",1,{"$f":"VLOOKUP(B1975*100+C1975,氏名データ!$AC$2:$AJ$401,2,0)","v":"都東大和南"},null,"男",null,63650,"赤石","耀士","ｱｶｲｼ","ﾖｳｼﾞ","AKAISHI","Yoji","男","06",1]
[63651,6,36,"石塚","大智","ｲｼﾂﾞｶ","ﾀﾞｲﾁ","ISHIZUKA","Daichi","06",1,{"$f":"VLOOKUP(B1976*100+C1976,氏名データ!$AC$2:$AJ$401,2,0)","v":"都東大和南"},null,"男",null,63651,"石塚","大智","ｲｼﾂﾞｶ","ﾀﾞｲﾁ","ISHIZUKA","Daichi","男","06",1]
[63652,6,36,"今井","兜人","ｲﾏｲ","ｶﾌﾞﾄ","IMAI","Kabuto","06",1,{"$f":"VLOOKUP(B1977*100+C1977,氏名データ!$AC$2:$AJ$401,2,0)","v":"都東大和南"},null,"男",null,63652,"今井","兜人","ｲﾏｲ","ｶﾌﾞﾄ","IMAI","Kabuto","男","06",1]
[63653,6,36,"大谷","博輝","ｵｵﾀﾆ","ﾋﾛｷ","OOTANI","Hiroki","06",1,{"$f":"VLOOKUP(B1978*100+C1978,氏名データ!$AC$2:$AJ$401,2,0)","v":"都東大和南"},null,"男",null,63653,"大谷","博輝","ｵｵﾀﾆ","ﾋﾛｷ","OOTANI","Hiroki","男","06",1]
[63654,6,36,"小金澤","優人","ｺｶﾞﾈｻﾞﾜ","ﾕｳﾄ","KOGANEZAWA","Yuto","07",1,{"$f":"VLOOKUP(B1979*100+C1979,氏名データ!$AC$2:$AJ$401,2,0)","v":"都東大和南"},null,"男",null,63654,"小金澤","優人","ｺｶﾞﾈｻﾞﾜ","ﾕｳﾄ","KOGANEZAWA","Yuto","男","07",1]
[63655,6,36,"近藤","正太郎","ｺﾝﾄﾞｳ","ｼｮｳﾀﾛｳ","KONDO","Shotaro","06",1,{"$f":"VLOOKUP(B1980*100+C1980,氏名データ!$AC$2:$AJ$401,2,0)","v":"都東大和南"},null,"男",null,63655,"近藤","正太郎","ｺﾝﾄﾞｳ","ｼｮｳﾀﾛｳ","KONDO","Shotaro","男","06",1]
[63656,6,36,"手塚","侑生","ﾃﾂﾞｶ","ﾕｳｷ","TEZUKA","Yuki","06",1,{"$f":"VLOOKUP(B1981*100+C1981,氏名データ!$AC$2:$AJ$401,2,0)","v":"都東大和南"},null,"男",null,63656,"手塚","侑生","ﾃﾂﾞｶ","ﾕｳｷ","TEZUKA","Yuki","男","06",1]
[{"$f":"P1982","v":63657},{"$f":"ROUNDDOWN(A1982/10000,0)","v":6},{"$f":"ROUNDDOWN((A1982-B1982*10000)/100,0)","v":36},{"$f":"Q1982","v":"野口"},"泰誠","ﾉｸﾞﾁ","ﾀｲｾｲ","NOGUCHI","Taisei","06",{"$f":"Y1982","v":1},{"$f":"VLOOKUP(B1982*100+C1982,氏名データ!$AC$2:$AJ$401,2,0)","v":"都東大和南"},null,{"$f":"W1982","v":"男"},null,63657,"野口","泰誠","ﾉｸﾞﾁ","ﾀｲｾｲ","NOGUCHI","Taisei","男","06",1]
[63658,6,36,"渡辺","雄太","ﾜﾀﾅﾍﾞ","ﾕｳﾀ","WATANABE","Yuta","06",1,{"$f":"VLOOKUP(B1983*100+C1983,氏名データ!$AC$2:$AJ$401,2,0)","v":"都東大和南"},null,"男",null,63658,"渡辺","雄太","ﾜﾀﾅﾍﾞ","ﾕｳﾀ","WATANABE","Yuta","男","06",1]
[63673,6,36,"鈴木","真愛華","ｽｽﾞｷ","ﾏﾅｶ","SUZUKI","Manaka","04",3,{"$f":"VLOOKUP(B1984*100+C1984,氏名データ!$AC$2:$AJ$401,2,0)","v":"都東大和南"},null,"女",null,63673,"鈴木","真愛華","ｽｽﾞｷ","ﾏﾅｶ","SUZUKI","Manaka","女","04",3]
[63680,6,36,{"$f":"Q1985","v":"西"},{"$f":"R1985","v":"愛栞"},{"$f":"S1985","v":"ﾆｼ"},{"$f":"T1985","v":"ﾏﾅｶ"},"NISHI","Manaka","05",2,{"$f":"VLOOKUP(B1985*100+C1985,氏名データ!$AC$2:$AJ$401,2,0)","v":"都東大和南"},null,"女",null,63680,"西","愛栞","ﾆｼ","ﾏﾅｶ","NISHI","Manaka","女","05",2]
[63681,6,36,"徹辺","朱子","ﾃﾂﾍﾞ","ｼｭｺ","TETSUBE","Syuko","05",2,{"$f":"VLOOKUP(B1986*100+C1986,氏名データ!$AC$2:$AJ$401,2,0)","v":"都東大和南"},null,"女",null,63681,"徹辺","朱子","ﾃﾂﾍﾞ","ｼｭｺ","TETSUBE","Syuko","女","05",2]
[63682,6,36,"山田","玲菜","ﾔﾏﾀﾞ","ﾚｲﾅ",{"$f":"U1987","v":"YAMADA"},{"$f":"V1987","v":"Reina"},{"$f":"X1987","v":"06"},2,{"$f":"VLOOKUP(B1987*100+C1987,氏名データ!$AC$2:$AJ$401,2,0)","v":"都東大和南"},null,"女",null,63682,"山田","玲菜","ﾔﾏﾀﾞ","ﾚｲﾅ","YAMADA","Reina","女","06",2]
[63683,6,36,"三橋","ナアラ実々","ﾐﾂﾊｼ","ﾅｱﾗﾐﾐ","MITSUHASHI","Nalamimi","05",2,{"$f":"VLOOKUP(B1988*100+C1988,氏名データ!$AC$2:$AJ$401,2,0)","v":"都東大和南"},null,"女",null,63683,"三橋","ナアラ実々","ﾐﾂﾊｼ","ﾅｱﾗﾐﾐ","MITSUHASHI","Nalamimi","女","05",2]
[63690,6,36,"中鉢","翠","ﾁｭｳﾊﾞﾁ","ｽｲ","CHUBACHI","Sui","06",1,{"$f":"VLOOKUP(B1989*100+C1989,氏名データ!$AC$2:$AJ$401,2,0)","v":"都東大和南"},null,"女",null,63690,"中鉢","翠","ﾁｭｳﾊﾞﾁ","ｽｲ","CHUBACHI","Sui","女","06",1]
[63691,6,36,"西村","友里","ﾆｼﾑﾗ","ﾕﾘ","NISHIMURA","Yuri","06",1,{"$f":"VLOOKUP(B1990*100+C1990,氏名データ!$AC$2:$AJ$401,2,0)","v":"都東大和南"},null,"女",null,63691,"西村","友里","ﾆｼﾑﾗ","ﾕﾘ","NISHIMURA","Yuri","女","06",1]
[63692,6,36,"古川","菜々美","ﾌﾙｶﾜ","ﾅﾅﾐ","HURUKAWA","Nanami","06",1,{"$f":"VLOOKUP(B1991*100+C1991,氏名データ!$AC$2:$AJ$401,2,0)","v":"都東大和南"},null,"女",null,63692,"古川","菜々美","ﾌﾙｶﾜ","ﾅﾅﾐ","HURUKAWA","Nanami","女","06",1]
[63693,6,36,"山田","雪乃","ﾔﾏﾀﾞ","ﾕｷﾉ","YAMADA","Yukino","06",1,{"$f":"VLOOKUP(B1992*100+C1992,氏名データ!$AC$2:$AJ$401,2,0)","v":"都東大和南"},null,"女",null,63693,"山田","雪乃","ﾔﾏﾀﾞ","ﾕｷﾉ","YAMADA","Yukino","女","06",1]
[63701,6,37,"落合","悠馬","ｵﾁｱｲ","ﾕｳﾏ","OCHIAI","Yuma","07",1,{"$f":"VLOOKUP(B1993*100+C1993,氏名データ!$AC$2:$AJ$401,2,0)","v":"都多摩工"},null,"男",null,63701,"落合","悠馬","ｵﾁｱｲ","ﾕｳﾏ","OCHIAI","Yuma","男","07",1]
[63702,6,37,"髙橋","空","ﾀｶﾊｼ","ｿﾗ","TAKAHASHI","Sora","06",1,{"$f":"VLOOKUP(B1994*100+C1994,氏名データ!$AC$2:$AJ$401,2,0)","v":"都多摩工"},null,"男",null,63702,"髙橋","空","ﾀｶﾊｼ","ｿﾗ","TAKAHASHI","Sora","男","06",1]
[{"$f":"P1995","v":63703},{"$f":"ROUNDDOWN(A1995/10000,0)","v":6},{"$f":"ROUNDDOWN((A1995-B1995*10000)/100,0)","v":37},{"$f":"Q1995","v":"井熊"},{"$f":"R1995","v":"豪輝"},{"$f":"S1995","v":"ｲｸﾏ"},{"$f":"T1995","v":"ｺﾞｳｷ"},"IKUMA","Gouki","06",{"$f":"Y1995","v":1},{"$f":"VLOOKUP(B1995*100+C1995,氏名データ!$AC$2:$AJ$401,2,0)","v":"都多摩工"},null,{"$f":"W1995","v":"男"},null,63703,"井熊","豪輝","ｲｸﾏ","ｺﾞｳｷ","IKUMA","Gouki","男","06",1]
[63704,6,37,"高桑","駿翔","ﾀｶｸﾜ","ｼｭﾝﾄ","TAKAKUWA","Syunto","06",1,{"$f":"VLOOKUP(B1996*100+C1996,氏名データ!$AC$2:$AJ$401,2,0)","v":"都多摩工"},null,"男",null,63704,"高桑","駿翔","ﾀｶｸﾜ","ｼｭﾝﾄ","TAKAKUWA","Syunto","男","06",1]
[63705,6,37,"林田","柊歩","ﾊﾔｼﾀﾞ","ｼｭｳﾄ","HAYASHIDA","Syuto","07",1,{"$f":"VLOOKUP(B1997*100+C1997,氏名データ!$AC$2:$AJ$401,2,0)","v":"都多摩工"},null,"男",null,63705,"林田","柊歩","ﾊﾔｼﾀﾞ","ｼｭｳﾄ","HAYASHIDA","Syuto","男","07",1]
[63706,6,37,"田中","凛","ﾀﾅｶ","ﾘﾝ","TANAKA","Rin","06",1,{"$f":"VLOOKUP(B1998*100+C1998,氏名データ!$AC$2:$AJ$401,2,0)","v":"都多摩工"},null,"男",null,63706,"田中","凛","ﾀﾅｶ","ﾘﾝ","TANAKA","Rin","男","06",1]
[63732,6,37,"及川","周","ｵｲｶﾜ","ｱﾏﾈ","OIKAWA","Amane","04",3,{"$f":"VLOOKUP(B1999*100+C1999,氏名データ!$AC$2:$AJ$401,2,0)","v":"都多摩工"},null,"男",null,63732,"及川","周","ｵｲｶﾜ","ｱﾏﾈ","OIKAWA","Amane","男","04",3]
[63733,6,37,"小林","卓彌","ｺﾊﾞﾔｼ","ﾀｸﾔ","KOBAYASHI","Takuya","04",3,{"$f":"VLOOKUP(B2000*100+C2000,氏名データ!$AC$2:$AJ$401,2,0)","v":"都多摩工"},null,"男",null,63733,"小林","卓彌","ｺﾊﾞﾔｼ","ﾀｸﾔ","KOBAYASHI","Takuya","男","04",3]
[63742,6,37,"石川","聖也","ｲｼｶﾜ","ｾｲﾔ","ISHIKAWA","Seiya","05",2,{"$f":"VLOOKUP(B2002*100+C2002,氏名データ!$AC$2:$AJ$401,2,0)","v":"都多摩工"},null,"男",null,63742,"石川","聖也","ｲｼｶﾜ","ｾｲﾔ","ISHIKAWA","Seiya","男","05",2]
[63743,6,37,"筒井","滉平","ﾂﾂｲ","ｺｳﾍｲ","TSUTSUI","Kohei","05",2,{"$f":"VLOOKUP(B2003*100+C2003,氏名データ!$AC$2:$AJ$401,2,0)","v":"都多摩工"},null,"男",null,63743,"筒井","滉平","ﾂﾂｲ","ｺｳﾍｲ","TSUTSUI","Kohei","男","05",2]
[63747,6,37,"土屋","賢信","ﾂﾁﾔ","ｹﾝｼﾝ","TSUCHIYA","Kenshin","06",2,{"$f":"VLOOKUP(B2006*100+C2006,氏名データ!$AC$2:$AJ$401,2,0)","v":"都多摩工"},null,"男",null,63747,"土屋","賢信","ﾂﾁﾔ","ｹﾝｼﾝ","TSUCHIYA","Kenshin","男","06",2]
[{"$f":"P2009","v":63750},{"$f":"ROUNDDOWN(A2009/10000,0)","v":6},{"$f":"ROUNDDOWN((A2009-B2009*10000)/100,0)","v":37},{"$f":"Q2009","v":"天海"},{"$f":"R2009","v":"優成"},{"$f":"S2009","v":"ｱﾏｶﾞｲ"},{"$f":"T2009","v":"ﾕｳｾｲ"},"AMAGAI","Yusei","06",{"$f":"Y2009","v":1},{"$f":"VLOOKUP(B2009*100+C2009,氏名データ!$AC$2:$AJ$401,2,0)","v":"都多摩工"},null,{"$f":"W2009","v":"男"},null,63750,"天海","優成","ｱﾏｶﾞｲ","ﾕｳｾｲ","AMAGAI","Yusei","男","06",1]
[63836,6,38,"鈴木","崚太","ｽｽﾞｷ","ﾘｮｳﾀ","SUZUKI","Ryota","04",3,{"$f":"VLOOKUP(B2011*100+C2011,氏名データ!$AC$2:$AJ$401,2,0)","v":"都福生"},null,"男",null,63836,"鈴木","崚太","ｽｽﾞｷ","ﾘｮｳﾀ","SUZUKI","Ryota","男","04",3]
[63837,6,38,"龍﨑","智史","ﾘｭｳｻﾞｷ","ｻﾄｼ","RYUZAKI","Satoshi","04",3,{"$f":"VLOOKUP(B2012*100+C2012,氏名データ!$AC$2:$AJ$401,2,0)","v":"都福生"},null,"男",null,63837,"龍﨑","智史","ﾘｭｳｻﾞｷ","ｻﾄｼ","RYUZAKI","Satoshi","男","04",3]
[63841,6,38,"髙野","晃希","ﾀｶﾉ","ｺｳｷ","TAKANO","Koki","05",2,{"$f":"VLOOKUP(B2015*100+C2015,氏名データ!$AC$2:$AJ$401,2,0)","v":"都福生"},null,"男",null,63841,"髙野","晃希","ﾀｶﾉ","ｺｳｷ","TAKANO","Koki","男","05",2]
[63842,6,38,"宮野","太楊","ﾐﾔﾉ","ﾀｲﾖｳ","MIYANO","Taiyo","05",2,{"$f":"VLOOKUP(B2016*100+C2016,氏名データ!$AC$2:$AJ$401,2,0)","v":"都福生"},null,"男",null,63842,"宮野","太楊","ﾐﾔﾉ","ﾀｲﾖｳ","MIYANO","Taiyo","男","05",2]
[63846,6,38,"狩野","陸斗","ｶﾉ","ﾘｸﾄ","KANO","Rikuto","07",1,{"$f":"VLOOKUP(B2020*100+C2020,氏名データ!$AC$2:$AJ$401,2,0)","v":"都福生"},null,"男",null,63846,"狩野","陸斗","ｶﾉ","ﾘｸﾄ","KANO","Rikuto","男","07",1]
[63860,6,38,"浅見","楓","ｱｻﾐ","ｶｴﾃﾞ","ASAMI","Kaede","04",3,{"$f":"VLOOKUP(B2021*100+C2021,氏名データ!$AC$2:$AJ$401,2,0)","v":"都福生"},null,"女",null,63860,"浅見","楓","ｱｻﾐ","ｶｴﾃﾞ","ASAMI","Kaede","女","04",3]
[63863,6,38,"大堀","千咲","ｵｵﾎﾘ","ﾁｻｷ","OHORI","Chisaki","05",2,{"$f":"VLOOKUP(B2024*100+C2024,氏名データ!$AC$2:$AJ$401,2,0)","v":"都福生"},null,"女",null,63863,"大堀","千咲","ｵｵﾎﾘ","ﾁｻｷ","OHORI","Chisaki","女","05",2]
[63867,6,38,"佐々木","遥菜","ｻｻｷ","ﾊﾙﾅ","SASAKI","Haruna","06",1,{"$f":"VLOOKUP(B2027*100+C2027,氏名データ!$AC$2:$AJ$401,2,0)","v":"都福生"},null,"女",null,63867,"佐々木","遥菜","ｻｻｷ","ﾊﾙﾅ","SASAKI","Haruna","女","06",1]
[63869,6,38,"宮崎","汐蘭","ﾐﾔｻﾞｷ","ﾕﾗ","MIYAZAKI","Yura","07",1,{"$f":"VLOOKUP(B2029*100+C2029,氏名データ!$AC$2:$AJ$401,2,0)","v":"都福生"},null,"女",null,63869,"宮崎","汐蘭","ﾐﾔｻﾞｷ","ﾕﾗ","MIYAZAKI","Yura","女","07",1]
[63870,6,38,"栗原","美月","ｸﾘﾊﾗ","ﾐﾂﾞｷ","KURIHARA","Mizuki","07",1,{"$f":"VLOOKUP(B2030*100+C2030,氏名データ!$AC$2:$AJ$401,2,0)","v":"都福生"},null,"女",null,63870,"栗原","美月","ｸﾘﾊﾗ","ﾐﾂﾞｷ","KURIHARA","Mizuki","女","07",1]
[64222,6,42,"安部","晃生","ｱﾍﾞ","ｺｳｷ","ABE","Koki","04",3,{"$f":"VLOOKUP(B2033*100+C2033,氏名データ!$AC$2:$AJ$401,2,0)","v":"都昭和"},null,"男",null,64222,"安部","晃生","ｱﾍﾞ","ｺｳｷ","ABE","Koki","男","04",3]
[64223,6,42,"荒井","航汰","ｱﾗｲ","ｺｳﾀ","ARAI","Kota","05",3,{"$f":"VLOOKUP(B2034*100+C2034,氏名データ!$AC$2:$AJ$401,2,0)","v":"都昭和"},null,"男",null,64223,"荒井","航汰","ｱﾗｲ","ｺｳﾀ","ARAI","Kota","男","05",3]
[64227,6,42,"佐藤","晴侍","ｻﾄｳ","ｾｲｼﾞ","SATO","Seji","05",3,{"$f":"VLOOKUP(B2038*100+C2038,氏名データ!$AC$2:$AJ$401,2,0)","v":"都昭和"},null,"男",null,64227,"佐藤","晴侍","ｻﾄｳ","ｾｲｼﾞ","SATO","Seji","男","05",3]
[64228,6,42,"西村","拓真","ﾆｼﾑﾗ","ﾀｸﾏ","NISHIMURA","Takuma","05",3,{"$f":"VLOOKUP(B2039*100+C2039,氏名データ!$AC$2:$AJ$401,2,0)","v":"都昭和"},null,"男",null,64228,"西村","拓真","ﾆｼﾑﾗ","ﾀｸﾏ","NISHIMURA","Takuma","男","05",3]
[64231,6,42,"島田","旅歌","ｼﾏﾀﾞ","ﾘｮｳﾀ","SHIMADA","Ryota","05",2,{"$f":"VLOOKUP(B2042*100+C2042,氏名データ!$AC$2:$AJ$401,2,0)","v":"都昭和"},null,"男",null,64231,"島田","旅歌","ｼﾏﾀﾞ","ﾘｮｳﾀ","SHIMADA","Ryota","男","05",2]
[64235,6,42,"西山","響","ﾆｼﾔﾏ","ﾋﾋﾞｷ","NISHIYAMA","Hibiki","05",2,{"$f":"VLOOKUP(B2045*100+C2045,氏名データ!$AC$2:$AJ$401,2,0)","v":"都昭和"},null,"男",null,64235,"西山","響","ﾆｼﾔﾏ","ﾋﾋﾞｷ","NISHIYAMA","Hibiki","男","05",2]
[64237,6,42,"小﨑","禅","ｺｻﾞｷ","ｾﾞﾝ","KOZAKI","Zen","06",1,{"$f":"VLOOKUP(B2047*100+C2047,氏名データ!$AC$2:$AJ$401,2,0)","v":"都昭和"},null,"男",null,64237,"小﨑","禅","ｺｻﾞｷ","ｾﾞﾝ","KOZAKI","Zen","男","06",1]
[64238,6,42,"上三垣","颯人","ｶﾐﾐｶﾞｷ","ﾊﾔﾄ","KAMIMIGAKI","Hayato","06",1,{"$f":"VLOOKUP(B2048*100+C2048,氏名データ!$AC$2:$AJ$401,2,0)","v":"都昭和"},null,"男",null,64238,"上三垣","颯人","ｶﾐﾐｶﾞｷ","ﾊﾔﾄ","KAMIMIGAKI","Hayato","男","06",1]
[64286,6,42,"長沼","春和","ﾅｶﾞﾇﾏ","ｼｭﾝﾅ",{"$f":"U2051","v":"NAGANUMA"},{"$f":"V2051","v":"Shunna"},{"$f":"X2051","v":"05"},3,{"$f":"VLOOKUP(B2051*100+C2051,氏名データ!$AC$2:$AJ$401,2,0)","v":"都昭和"},null,"女",null,64286,"長沼","春和","ﾅｶﾞﾇﾏ","ｼｭﾝﾅ","NAGANUMA","Shunna","女","05",3]
[64287,6,42,"小川","和那","ｵｶﾞﾜ","ｶｽﾞﾅ","OGAWA","Kazuna","04",3,{"$f":"VLOOKUP(B2052*100+C2052,氏名データ!$AC$2:$AJ$401,2,0)","v":"都昭和"},null,"女",null,64287,"小川","和那","ｵｶﾞﾜ","ｶｽﾞﾅ","OGAWA","Kazuna","女","04",3]
[64293,6,42,"髙橋","苺","ﾀｶﾊｼ","ﾏｲ","TAKAHASHI","Mai","07",1,{"$f":"VLOOKUP(B2056*100+C2056,氏名データ!$AC$2:$AJ$401,2,0)","v":"都昭和"},null,"女",null,64293,"髙橋","苺","ﾀｶﾊｼ","ﾏｲ","TAKAHASHI","Mai","女","07",1]
[64294,6,42,"福丸","七緒","ﾌｸﾏﾙ","ﾅｵ","FUKUMARU","Nao","06",1,{"$f":"VLOOKUP(B2057*100+C2057,氏名データ!$AC$2:$AJ$401,2,0)","v":"都昭和"},null,"女",null,64294,"福丸","七緒","ﾌｸﾏﾙ","ﾅｵ","FUKUMARU","Nao","女","06",1]
[64297,6,42,"大和田","真衣","ｵｵﾜﾀﾞ","ﾏｲ","OWADA","Mai","06",1,{"$f":"VLOOKUP(B2060*100+C2060,氏名データ!$AC$2:$AJ$401,2,0)","v":"都昭和"},null,"女",null,64297,"大和田","真衣","ｵｵﾜﾀﾞ","ﾏｲ","OWADA","Mai","女","06",1]
[64302,6,43,"石原","海星","ｲｼﾊﾗ","ｶｲｾｲ","ISHIHARA","Kaisei","06",1,{"$f":"VLOOKUP(B2063*100+C2063,氏名データ!$AC$2:$AJ$401,2,0)","v":"都拝島"},null,"男",null,64302,"石原","海星","ｲｼﾊﾗ","ｶｲｾｲ","ISHIHARA","Kaisei","男","06",1]
[64304,6,43,"萱嶋","渚","ｶﾔｼﾏ","ﾅｷﾞｻ","KAYASHIMA","Nagisa","06",1,{"$f":"VLOOKUP(B2065*100+C2065,氏名データ!$AC$2:$AJ$401,2,0)","v":"都拝島"},null,"男",null,64304,"萱嶋","渚","ｶﾔｼﾏ","ﾅｷﾞｻ","KAYASHIMA","Nagisa","男","06",1]
[64305,6,43,"小林","大翔","ｺﾊﾞﾔｼ","ﾋﾛﾄ","KOBAYASHI","Hiroto","07",1,{"$f":"VLOOKUP(B2066*100+C2066,氏名データ!$AC$2:$AJ$401,2,0)","v":"都拝島"},null,"男",null,64305,"小林","大翔","ｺﾊﾞﾔｼ","ﾋﾛﾄ","KOBAYASHI","Hiroto","男","07",1]
[64347,6,43,"岡崎","晃仁","ｵｶｻﾞｷ","ｱｷﾋﾄ","OKAZAKI","Akihito","04",3,{"$f":"VLOOKUP(B2069*100+C2069,氏名データ!$AC$2:$AJ$401,2,0)","v":"都拝島"},null,"男",null,64347,"岡崎","晃仁","ｵｶｻﾞｷ","ｱｷﾋﾄ","OKAZAKI","Akihito","男","04",3]
[64348,6,43,"梅田","速斗","ｳﾒﾀﾞ","ﾊﾔﾄ","UMEDA","Hayato","05",3,{"$f":"VLOOKUP(B2070*100+C2070,氏名データ!$AC$2:$AJ$401,2,0)","v":"都拝島"},null,"男",null,64348,"梅田","速斗","ｳﾒﾀﾞ","ﾊﾔﾄ","UMEDA","Hayato","男","05",3]
[64384,6,43,"寳榮","はな恵","ﾎｳｴｲ","ﾊﾅｴ","HOEI","Hanae","05",3,{"$f":"VLOOKUP(B2074*100+C2074,氏名データ!$AC$2:$AJ$401,2,0)","v":"都拝島"},null,"女",null,64384,"寳榮","はな恵","ﾎｳｴｲ","ﾊﾅｴ","HOEI","Hanae","女","05",3]
[64385,6,43,"松永","良美","ﾏﾂﾅｶﾞ","ﾖｼﾐ","MATSUNAGA","Yoshimi","04",3,{"$f":"VLOOKUP(B2075*100+C2075,氏名データ!$AC$2:$AJ$401,2,0)","v":"都拝島"},null,"女",null,64385,"松永","良美","ﾏﾂﾅｶﾞ","ﾖｼﾐ","MATSUNAGA","Yoshimi","女","04",3]
[64388,6,43,"町田","聖佳","ﾏﾁﾀﾞ","ｷﾖｶ","MACHIDA","Kiyoka","06",1,{"$f":"VLOOKUP(B2078*100+C2078,氏名データ!$AC$2:$AJ$401,2,0)","v":"都拝島"},null,"女",null,64388,"町田","聖佳","ﾏﾁﾀﾞ","ｷﾖｶ","MACHIDA","Kiyoka","女","06",1]
[64403,6,44,"大森","祐毅","ｵｵﾓﾘ","ﾕｳｷ","OMORI","Yuki","06",1,{"$f":"VLOOKUP(B2081*100+C2081,氏名データ!$AC$2:$AJ$401,2,0)","v":"啓明学園"},null,"男",null,64403,"大森","祐毅","ｵｵﾓﾘ","ﾕｳｷ","OMORI","Yuki","男","06",1]
[64457,6,44,"野添","裕美","ﾉｿﾞｴ","ﾕﾐ","NOZOE","Yumi","04",3,{"$f":"VLOOKUP(B2083*100+C2083,氏名データ!$AC$2:$AJ$401,2,0)","v":"啓明学園"},null,"女",null,64457,"野添","裕美","ﾉｿﾞｴ","ﾕﾐ","NOZOE","Yumi","女","04",3]
[64612,6,46,"井上","珠也","ｲﾉｳｴ","ｼｭｳﾔ","INOUE","Syuya","05",3,{"$f":"VLOOKUP(B2084*100+C2084,氏名データ!$AC$2:$AJ$401,2,0)","v":"都秋留台"},null,"男",null,64612,"井上","珠也","ｲﾉｳｴ","ｼｭｳﾔ","INOUE","Syuya","男","05",3]
[64615,6,46,"河野","貴聡","ｺｳﾉ","ﾀｶｱｷ","KONO","Takaaki","04",3,{"$f":"VLOOKUP(B2087*100+C2087,氏名データ!$AC$2:$AJ$401,2,0)","v":"都秋留台"},null,"男",null,64615,"河野","貴聡","ｺｳﾉ","ﾀｶｱｷ","KONO","Takaaki","男","04",3]
[64616,6,46,"小林","颯哉","ｺﾊﾞﾔｼ","ﾌﾐﾔ","KOBAYASHI","Fumiya","04",3,{"$f":"VLOOKUP(B2088*100+C2088,氏名データ!$AC$2:$AJ$401,2,0)","v":"都秋留台"},null,"男",null,64616,"小林","颯哉","ｺﾊﾞﾔｼ","ﾌﾐﾔ","KOBAYASHI","Fumiya","男","04",3]
[64620,6,46,"宮岡","龍聖","ﾐﾔｵｶ","ﾘｭｳｾｲ","MIYAOKA","Ryusei","05",2,{"$f":"VLOOKUP(B2092*100+C2092,氏名データ!$AC$2:$AJ$401,2,0)","v":"都秋留台"},null,"男",null,64620,"宮岡","龍聖","ﾐﾔｵｶ","ﾘｭｳｾｲ","MIYAOKA","Ryusei","男","05",2]
[64621,6,46,"伊藤","典史","ｲﾄｳ","ﾉﾘﾌﾐ","ITO","Norifumi","06",1,{"$f":"VLOOKUP(B2093*100+C2093,氏名データ!$AC$2:$AJ$401,2,0)","v":"都秋留台"},null,"男",null,64621,"伊藤","典史","ｲﾄｳ","ﾉﾘﾌﾐ","ITO","Norifumi","男","06",1]
[64624,6,46,"黒澤","賢作","ｸﾛｻﾜ","ｹﾝｻｸ","KUROSAWA","Kensaku","07",1,{"$f":"VLOOKUP(B2096*100+C2096,氏名データ!$AC$2:$AJ$401,2,0)","v":"都秋留台"},null,"男",null,64624,"黒澤","賢作","ｸﾛｻﾜ","ｹﾝｻｸ","KUROSAWA","Kensaku","男","07",1]
[64684,6,46,"小澤","萌香","ｵｻﾞﾜ","ﾓｶ","OZAWA","Moka","04",3,{"$f":"VLOOKUP(B2099*100+C2099,氏名データ!$AC$2:$AJ$401,2,0)","v":"都秋留台"},null,"女",null,64684,"小澤","萌香","ｵｻﾞﾜ","ﾓｶ","OZAWA","Moka","女","04",3]
[64686,6,46,"傍士","美結","ﾎｳｼﾞ","ﾐﾕ","HOUJI","Miyu","07",1,{"$f":"VLOOKUP(B2101*100+C2101,氏名データ!$AC$2:$AJ$401,2,0)","v":"都秋留台"},null,"女",null,64686,"傍士","美結","ﾎｳｼﾞ","ﾐﾕ","HOUJI","Miyu","女","07",1]
[64687,6,46,"山本","穂香","ﾔﾏﾓﾄ","ﾎﾉｶ","YAMAMOTO","Honoka","06",1,{"$f":"VLOOKUP(B2102*100+C2102,氏名データ!$AC$2:$AJ$401,2,0)","v":"都秋留台"},null,"女",null,64687,"山本","穂香","ﾔﾏﾓﾄ","ﾎﾉｶ","YAMAMOTO","Honoka","女","06",1]
[64716,6,47,"深谷","大琉","ﾌｶﾔ","ﾄﾏﾙ","FUKAYA","Tomaru","04",3,{"$f":"VLOOKUP(B2105*100+C2105,氏名データ!$AC$2:$AJ$401,2,0)","v":"東海大菅生"},null,"男",null,64716,"深谷","大琉","ﾌｶﾔ","ﾄﾏﾙ","FUKAYA","Tomaru","男","04",3]
[64717,6,47,"三井","友葵","ﾐﾂｲ","ﾄﾓｷ","MITSUI","Tomoki","04",3,{"$f":"VLOOKUP(B2106*100+C2106,氏名データ!$AC$2:$AJ$401,2,0)","v":"東海大菅生"},null,"男",null,64717,"三井","友葵","ﾐﾂｲ","ﾄﾓｷ","MITSUI","Tomoki","男","04",3]
[64721,6,47,"野中","柊歩","ﾉﾅｶ","ｼｭｳﾎ","NONAKA","Shuho","05",3,{"$f":"VLOOKUP(B2110*100+C2110,氏名データ!$AC$2:$AJ$401,2,0)","v":"東海大菅生"},null,"男",null,64721,"野中","柊歩","ﾉﾅｶ","ｼｭｳﾎ","NONAKA","Shuho","男","05",3]
[64722,6,47,"熊谷","優希","ｸﾏｶﾞｲ","ﾕｳｷ","KUMAGAI","Yuki","05",3,{"$f":"VLOOKUP(B2111*100+C2111,氏名データ!$AC$2:$AJ$401,2,0)","v":"東海大菅生"},null,"男",null,64722,"熊谷","優希","ｸﾏｶﾞｲ","ﾕｳｷ","KUMAGAI","Yuki","男","05",3]
[64725,6,47,"大川","佳己","ｵｵｶﾜ","ﾖｼｷ","OKAWA","Yoshiki","04",3,{"$f":"VLOOKUP(B2114*100+C2114,氏名データ!$AC$2:$AJ$401,2,0)","v":"東海大菅生"},null,"男",null,64725,"大川","佳己","ｵｵｶﾜ","ﾖｼｷ","OKAWA","Yoshiki","男","04",3]
[64728,6,47,"金子","桐斗","ｶﾈｺ","ｷﾘﾄ","KANEKO","Kirito","05",2,{"$f":"VLOOKUP(B2117*100+C2117,氏名データ!$AC$2:$AJ$401,2,0)","v":"東海大菅生"},null,"男",null,64728,"金子","桐斗","ｶﾈｺ","ｷﾘﾄ","KANEKO","Kirito","男","05",2]
[64730,6,47,"成塚","一巧","ﾅﾘﾂﾞｶ","ｲｯｺｳ","NARIZUKA","Ikko","05",2,{"$f":"VLOOKUP(B2119*100+C2119,氏名データ!$AC$2:$AJ$401,2,0)","v":"東海大菅生"},null,"男",null,64730,"成塚","一巧","ﾅﾘﾂﾞｶ","ｲｯｺｳ","NARIZUKA","Ikko","男","05",2]
[64731,6,47,"森田","歩充","ﾓﾘﾀ","ｱﾕﾐﾁ","MORITA","Ayumichi","05",2,{"$f":"VLOOKUP(B2120*100+C2120,氏名データ!$AC$2:$AJ$401,2,0)","v":"東海大菅生"},null,"男",null,64731,"森田","歩充","ﾓﾘﾀ","ｱﾕﾐﾁ","MORITA","Ayumichi","男","05",2]
[64734,6,47,"大矢","空","ｵｵﾔ","ｿﾗ","OYA","Sora","05",2,{"$f":"VLOOKUP(B2123*100+C2123,氏名データ!$AC$2:$AJ$401,2,0)","v":"東海大菅生"},null,"男",null,64734,"大矢","空","ｵｵﾔ","ｿﾗ","OYA","Sora","男","05",2]
[64737,6,47,"中里","櫂吏","ﾅｶｻﾞﾄ","ｶｲﾘ","NAKAZATO","Kairi","06",1,{"$f":"VLOOKUP(B2125*100+C2125,氏名データ!$AC$2:$AJ$401,2,0)","v":"東海大菅生"},null,"男",null,64737,"中里","櫂吏","ﾅｶｻﾞﾄ","ｶｲﾘ","NAKAZATO","Kairi","男","06",1]
[64740,6,47,"葛西","隼","ｶｻｲ","ﾊﾔﾄ","KASAI","Hayato","06",1,{"$f":"VLOOKUP(B2128*100+C2128,氏名データ!$AC$2:$AJ$401,2,0)","v":"東海大菅生"},null,"男",null,64740,"葛西","隼","ｶｻｲ","ﾊﾔﾄ","KASAI","Hayato","男","06",1]
[64741,6,47,"本多","啓人","ﾎﾝﾀﾞ","ｹｲﾄ","HONDA","Keito","06",1,{"$f":"VLOOKUP(B2129*100+C2129,氏名データ!$AC$2:$AJ$401,2,0)","v":"東海大菅生"},null,"男",null,64741,"本多","啓人","ﾎﾝﾀﾞ","ｹｲﾄ","HONDA","Keito","男","06",1]
[64781,6,47,"志村","栞","ｼﾑﾗ","ｼｵﾘ","SHIMURA","Shiori","04",3,{"$f":"VLOOKUP(B2132*100+C2132,氏名データ!$AC$2:$AJ$401,2,0)","v":"東海大菅生"},null,"女",null,64781,"志村","栞","ｼﾑﾗ","ｼｵﾘ","SHIMURA","Shiori","女","04",3]
[64784,6,47,"髙橋","結衣","ﾀｶﾊｼ","ﾕｲ","TAKAHASHI","Yui","04",3,{"$f":"VLOOKUP(B2135*100+C2135,氏名データ!$AC$2:$AJ$401,2,0)","v":"東海大菅生"},null,"女",null,64784,"髙橋","結衣","ﾀｶﾊｼ","ﾕｲ","TAKAHASHI","Yui","女","04",3]
[{"$f":"P2137","v":64786},{"$f":"ROUNDDOWN(A2137/10000,0)","v":6},{"$f":"ROUNDDOWN((A2137-B2137*10000)/100,0)","v":47},{"$f":"Q2137","v":"京極ヌーリ"},{"$f":"R2137","v":"メリナ"},{"$f":"S2137","v":"ｷｮｳｺﾞｸﾇｰﾘ"},{"$f":"T2137","v":"ﾒﾘﾅ"},"KYOUGOKUNUURI","Melina","04",{"$f":"Y2137","v":3},{"$f":"VLOOKUP(B2137*100+C2137,氏名データ!$AC$2:$AJ$401,2,0)","v":"東海大菅生"},null,{"$f":"W2137","v":"女"},null,64786,"京極ヌーリ","メリナ","ｷｮｳｺﾞｸﾇｰﾘ","ﾒﾘﾅ","KYOUGOKUNUURI","Melina","女","04",3]
[64787,6,47,"青木","夏蓮","ｱｵｷ","ｶﾚﾝ","AOKI","Karen","05",2,{"$f":"VLOOKUP(B2138*100+C2138,氏名データ!$AC$2:$AJ$401,2,0)","v":"東海大菅生"},null,"女",null,64787,"青木","夏蓮","ｱｵｷ","ｶﾚﾝ","AOKI","Karen","女","05",2]
[64790,6,47,"角野","樹里","ｽﾐﾉ","ｼﾞｭﾘ","SUMINO","Juri","05",2,{"$f":"VLOOKUP(B2141*100+C2141,氏名データ!$AC$2:$AJ$401,2,0)","v":"東海大菅生"},null,"女",null,64790,"角野","樹里","ｽﾐﾉ","ｼﾞｭﾘ","SUMINO","Juri","女","05",2]
[64793,6,47,"江幡","澪","ｴﾊﾞﾀ","ﾚｲ","EBATA","Rei","06",2,{"$f":"VLOOKUP(B2143*100+C2143,氏名データ!$AC$2:$AJ$401,2,0)","v":"東海大菅生"},null,"女",null,64793,"江幡","澪","ｴﾊﾞﾀ","ﾚｲ","EBATA","Rei","女","06",2]
[64796,6,47,"倉富","もも","ｸﾗﾄﾐ","ﾓﾓ","KURATOMI","Momo","06",1,{"$f":"VLOOKUP(B2146*100+C2146,氏名データ!$AC$2:$AJ$401,2,0)","v":"東海大菅生"},null,"女",null,64796,"倉富","もも","ｸﾗﾄﾐ","ﾓﾓ","KURATOMI","Momo","女","06",1]
[64823,6,48,"榎戸","琉晟","ｴﾉｷﾄﾞ","ﾘｭｳｾｲ","ENOKIDO","Ryuusei","05",3,{"$f":"VLOOKUP(B2147*100+C2147,氏名データ!$AC$2:$AJ$401,2,0)","v":"都武蔵村山"},null,"男",null,64823,"榎戸","琉晟","ｴﾉｷﾄﾞ","ﾘｭｳｾｲ","ENOKIDO","Ryuusei","男","05",3]
[64826,6,48,"黒澤","航太","ｸﾛｻﾜ","ｺｳﾀ","KUROSAWA","Kouta","05",2,{"$f":"VLOOKUP(B2150*100+C2150,氏名データ!$AC$2:$AJ$401,2,0)","v":"都武蔵村山"},null,"男",null,64826,"黒澤","航太","ｸﾛｻﾜ","ｺｳﾀ","KUROSAWA","Kouta","男","05",2]
[64829,6,48,"髙鳥","瑠唯","ﾀｶﾄﾘ","ﾙｲ","TAKATORI","Rui","07",1,{"$f":"VLOOKUP(B2153*100+C2153,氏名データ!$AC$2:$AJ$401,2,0)","v":"都武蔵村山"},null,"男",null,64829,"髙鳥","瑠唯","ﾀｶﾄﾘ","ﾙｲ","TAKATORI","Rui","男","07",1]
[64873,6,48,"佐藤","明日可","ｻﾄｳ","ｱｽｶ","SATOU","Asuka","05",2,{"$f":"VLOOKUP(B2155*100+C2155,氏名データ!$AC$2:$AJ$401,2,0)","v":"都武蔵村山"},null,"女",null,64873,"佐藤","明日可","ｻﾄｳ","ｱｽｶ","SATOU","Asuka","女","05",2]
[64874,6,48,"西本","真琴","ﾆｼﾓﾄ","ﾏｺﾄ","NISHIMOTO","Makoto","05",2,{"$f":"VLOOKUP(B2156*100+C2156,氏名データ!$AC$2:$AJ$401,2,0)","v":"都武蔵村山"},null,"女",null,64874,"西本","真琴","ﾆｼﾓﾄ","ﾏｺﾄ","NISHIMOTO","Makoto","女","05",2]
[64902,6,49,"鳴澤","侑弥","ﾅﾙｻﾜ","ﾕｳﾔ","NARUSAWA","Yuya","06",2,{"$f":"VLOOKUP(B2159*100+C2159,氏名データ!$AC$2:$AJ$401,2,0)","v":"都上水"},null,"男",null,64902,"鳴澤","侑弥","ﾅﾙｻﾜ","ﾕｳﾔ","NARUSAWA","Yuya","男","06",2]
[64905,6,49,"永川","陸","ｴｶﾞﾜ","ﾘｸ","EGAWA","Riku","05",2,{"$f":"VLOOKUP(B2161*100+C2161,氏名データ!$AC$2:$AJ$401,2,0)","v":"都上水"},null,"男",null,64905,"永川","陸","ｴｶﾞﾜ","ﾘｸ","EGAWA","Riku","男","05",2]
[64908,6,49,"関戸","瑞輝","ｾｷﾄﾞ","ﾐｽﾞｷ","SEKIDO","Mizuki","06",1,{"$f":"VLOOKUP(B2164*100+C2164,氏名データ!$AC$2:$AJ$401,2,0)","v":"都上水"},null,"男",null,64908,"関戸","瑞輝","ｾｷﾄﾞ","ﾐｽﾞｷ","SEKIDO","Mizuki","男","06",1]
[64909,6,49,"前田","知毅","ﾏｴﾀﾞ","ﾄﾓﾀｶ","MAEDA","Tomotaka","06",1,{"$f":"VLOOKUP(B2165*100+C2165,氏名データ!$AC$2:$AJ$401,2,0)","v":"都上水"},null,"男",null,64909,"前田","知毅","ﾏｴﾀﾞ","ﾄﾓﾀｶ","MAEDA","Tomotaka","男","06",1]
[64912,6,49,"廣","眞斗","ﾋﾛ","ﾏﾅﾄ","HIRO","Manato","06",1,{"$f":"VLOOKUP(B2168*100+C2168,氏名データ!$AC$2:$AJ$401,2,0)","v":"都上水"},null,"男",null,64912,"廣","眞斗","ﾋﾛ","ﾏﾅﾄ","HIRO","Manato","男","06",1]
[64947,6,49,"塚本","尊","ﾂｶﾓﾄ","ﾀｹﾙ","TSUKAMOTO","Takeru","04",3,{"$f":"VLOOKUP(B2171*100+C2171,氏名データ!$AC$2:$AJ$401,2,0)","v":"都上水"},null,"男",null,64947,"塚本","尊","ﾂｶﾓﾄ","ﾀｹﾙ","TSUKAMOTO","Takeru","男","04",3]
[64949,6,49,"大浦","秀作","ｵｵｳﾗ","ｼｭｳｻｸ","OURA","Shusaku","04",3,{"$f":"VLOOKUP(B2173*100+C2173,氏名データ!$AC$2:$AJ$401,2,0)","v":"都上水"},null,"男",null,64949,"大浦","秀作","ｵｵｳﾗ","ｼｭｳｻｸ","OURA","Shusaku","男","04",3]
[64950,6,49,"小山","裕人","ｺﾔﾏ","ﾋﾛﾄ","KOYAMA","Hiroto","04",3,{"$f":"VLOOKUP(B2174*100+C2174,氏名データ!$AC$2:$AJ$401,2,0)","v":"都上水"},null,"男",null,64950,"小山","裕人","ｺﾔﾏ","ﾋﾛﾄ","KOYAMA","Hiroto","男","04",3]
[64954,6,49,"鈴木","初夏","ｽｽﾞｷ","ｼｮｶ","SUZUKI","Shoka","06",1,{"$f":"VLOOKUP(B2177*100+C2177,氏名データ!$AC$2:$AJ$401,2,0)","v":"都上水"},null,"女",null,64954,"鈴木","初夏","ｽｽﾞｷ","ｼｮｶ","SUZUKI","Shoka","女","06",1]
[64990,6,49,"桑島","奏","ｸﾜｼﾞﾏ","ｶﾅﾃﾞ",{"$f":"U2179","v":"KUWAJIMA"},{"$f":"V2179","v":"Kanade"},{"$f":"X2179","v":"04"},3,{"$f":"VLOOKUP(B2179*100+C2179,氏名データ!$AC$2:$AJ$401,2,0)","v":"都上水"},null,"女",null,64990,"桑島","奏","ｸﾜｼﾞﾏ","ｶﾅﾃﾞ","KUWAJIMA","Kanade","女","04",3]
[64993,6,49,"佐野","菜月","ｻﾉ","ﾅﾂｷ","SANO","Natsuki","04",3,{"$f":"VLOOKUP(B2182*100+C2182,氏名データ!$AC$2:$AJ$401,2,0)","v":"都上水"},null,"女",null,64993,"佐野","菜月","ｻﾉ","ﾅﾂｷ","SANO","Natsuki","女","04",3]
[64994,6,49,"高松","明梨","ﾀｶﾏﾂ","ｱｶﾘ","TAKAMATSU","Akari","05",3,{"$f":"VLOOKUP(B2183*100+C2183,氏名データ!$AC$2:$AJ$401,2,0)","v":"都上水"},null,"女",null,64994,"高松","明梨","ﾀｶﾏﾂ","ｱｶﾘ","TAKAMATSU","Akari","女","05",3]
[64998,6,49,"永池","佑梨","ﾅｶﾞｲｹ","ﾕﾘ","NAGAIKE","Yuri","05",2,{"$f":"VLOOKUP(B2186*100+C2186,氏名データ!$AC$2:$AJ$401,2,0)","v":"都上水"},null,"女",null,64998,"永池","佑梨","ﾅｶﾞｲｹ","ﾕﾘ","NAGAIKE","Yuri","女","05",2]
[65003,6,50,"塙","雅巳","ﾊﾅﾜ","ﾏｻﾐ","HANAWA","Masami","06",2,{"$f":"VLOOKUP(B2189*100+C2189,氏名データ!$AC$2:$AJ$401,2,0)","v":"都東村山"},null,"男",null,65003,"塙","雅巳","ﾊﾅﾜ","ﾏｻﾐ","HANAWA","Masami","男","06",2]
[65005,6,50,"中川","遥登","ﾅｶｶﾞﾜ","ﾊﾙﾄ","NAKAGAWA","Haruto","06",1,{"$f":"VLOOKUP(B2191*100+C2191,氏名データ!$AC$2:$AJ$401,2,0)","v":"都東村山"},null,"男",null,65005,"中川","遥登","ﾅｶｶﾞﾜ","ﾊﾙﾄ","NAKAGAWA","Haruto","男","06",1]
[65007,6,50,"立川","奏時","ﾀﾁｶﾜ","ｿｳｼﾞ","TACHIKAWA","Souji","06",1,{"$f":"VLOOKUP(B2192*100+C2192,氏名データ!$AC$2:$AJ$401,2,0)","v":"都東村山"},null,"男",null,65007,"立川","奏時","ﾀﾁｶﾜ","ｿｳｼﾞ","TACHIKAWA","Souji","男","06",1]
[65022,6,50,"越智","雄史郎","ｵﾁ","ﾕｳｼﾞﾛｳ","OCHI","Yujirou","04",3,{"$f":"VLOOKUP(B2195*100+C2195,氏名データ!$AC$2:$AJ$401,2,0)","v":"都東村山"},null,"男",null,65022,"越智","雄史郎","ｵﾁ","ﾕｳｼﾞﾛｳ","OCHI","Yujirou","男","04",3]
[65101,6,51,"神田","珠輝","ｶﾝﾀﾞ","ｼｭｳｷ","KANDA","Shuuki","05",2,{"$f":"VLOOKUP(B2197*100+C2197,氏名データ!$AC$2:$AJ$401,2,0)","v":"都東村山西"},null,"男",null,65101,"神田","珠輝","ｶﾝﾀﾞ","ｼｭｳｷ","KANDA","Shuuki","男","05",2]
[65104,6,51,"津田","希海","ﾂﾀﾞ","ﾉｿﾞﾐ","TSUDA","Nozomi","06",2,{"$f":"VLOOKUP(B2200*100+C2200,氏名データ!$AC$2:$AJ$401,2,0)","v":"都東村山西"},null,"男",null,65104,"津田","希海","ﾂﾀﾞ","ﾉｿﾞﾐ","TSUDA","Nozomi","男","06",2]
[{"$f":"P2201","v":65105},{"$f":"ROUNDDOWN(A2201/10000,0)","v":6},{"$f":"ROUNDDOWN((A2201-B2201*10000)/100,0)","v":51},{"$f":"Q2201","v":"大野"},{"$f":"R2201","v":"瑛翔"},{"$f":"S2201","v":"ｵｵﾉ"},{"$f":"T2201","v":"ｴｲﾄ"},"OHNO","Eito","07",{"$f":"Y2201","v":1},{"$f":"VLOOKUP(B2201*100+C2201,氏名データ!$AC$2:$AJ$401,2,0)","v":"都東村山西"},null,{"$f":"W2201","v":"男"},null,65105,"大野","瑛翔","ｵｵﾉ","ｴｲﾄ","OHNO","Eito","男","07",1]
[65108,6,51,"村山","廣瑛","ﾑﾗﾔﾏ","ﾋﾛｱｷ","MURAYAMA","Hiroaki","06",1,{"$f":"VLOOKUP(B2204*100+C2204,氏名データ!$AC$2:$AJ$401,2,0)","v":"都東村山西"},null,"男",null,65108,"村山","廣瑛","ﾑﾗﾔﾏ","ﾋﾛｱｷ","MURAYAMA","Hiroaki","男","06",1]
[65146,6,51,"笹野","陽輝","ｻｻﾉ","ﾊﾙｷ","SASANO","Haruki","04",3,{"$f":"VLOOKUP(B2207*100+C2207,氏名データ!$AC$2:$AJ$401,2,0)","v":"都東村山西"},null,"男",null,65146,"笹野","陽輝","ｻｻﾉ","ﾊﾙｷ","SASANO","Haruki","男","04",3]
[65149,6,51,"檜山","大輝","ﾋﾔﾏ","ﾀﾞｲｷ","HIYAMA","Daiki","04",3,{"$f":"VLOOKUP(B2209*100+C2209,氏名データ!$AC$2:$AJ$401,2,0)","v":"都東村山西"},null,"男",null,65149,"檜山","大輝","ﾋﾔﾏ","ﾀﾞｲｷ","HIYAMA","Daiki","男","04",3]
[65166,6,51,"本多","真那","ﾎﾝﾀﾞ","ﾏﾅ","HONDA","Mana","04",3,{"$f":"VLOOKUP(B2210*100+C2210,氏名データ!$AC$2:$AJ$401,2,0)","v":"都東村山西"},null,"女",null,65166,"本多","真那","ﾎﾝﾀﾞ","ﾏﾅ","HONDA","Mana","女","04",3]
[65254,6,52,"石井","優羽","ｲｼｲ","ﾕｳ","ISHII","Yuu","06",2,{"$f":"VLOOKUP(B2213*100+C2213,氏名データ!$AC$2:$AJ$401,2,0)","v":"日体大桜華"},null,"女",null,65254,"石井","優羽","ｲｼｲ","ﾕｳ","ISHII","Yuu","女","06",2]
[65256,6,52,"長澤","愛","ﾅｶﾞｻﾜ","ﾏﾅ","NAGASAWA","Mana","05",2,{"$f":"VLOOKUP(B2215*100+C2215,氏名データ!$AC$2:$AJ$401,2,0)","v":"日体大桜華"},null,"女",null,65256,"長澤","愛","ﾅｶﾞｻﾜ","ﾏﾅ","NAGASAWA","Mana","女","05",2]
[65259,6,52,"利根","璃奈","ﾄﾈ","ﾘﾅ","TONE","Rina","05",2,{"$f":"VLOOKUP(B2218*100+C2218,氏名データ!$AC$2:$AJ$401,2,0)","v":"日体大桜華"},null,"女",null,65259,"利根","璃奈","ﾄﾈ","ﾘﾅ","TONE","Rina","女","05",2]
[65260,6,52,"高山","結衣","ｺｳﾔﾏ","ﾕｲ","KOUYAMA","Yui","05",2,{"$f":"VLOOKUP(B2219*100+C2219,氏名データ!$AC$2:$AJ$401,2,0)","v":"日体大桜華"},null,"女",null,65260,"高山","結衣","ｺｳﾔﾏ","ﾕｲ","KOUYAMA","Yui","女","05",2]
[65263,6,52,"福島","美結","ﾌｸｼﾏ","ﾐﾕｳ","FUKUSHIMA","Miyuu","05",2,{"$f":"VLOOKUP(B2222*100+C2222,氏名データ!$AC$2:$AJ$401,2,0)","v":"日体大桜華"},null,"女",null,65263,"福島","美結","ﾌｸｼﾏ","ﾐﾕｳ","FUKUSHIMA","Miyuu","女","05",2]
[65266,6,52,"石丸","奈美","ｲｼﾏﾙ","ﾅﾐ","ISIMARU","Nami","05",2,{"$f":"VLOOKUP(B2225*100+C2225,氏名データ!$AC$2:$AJ$401,2,0)","v":"日体大桜華"},null,"女",null,65266,"石丸","奈美","ｲｼﾏﾙ","ﾅﾐ","ISIMARU","Nami","女","05",2]
[65268,6,52,"宮田","夢々楓","ﾐﾔﾀ","ﾕﾕｶ","MIYATA","Yuyuka","06",1,{"$f":"VLOOKUP(B2227*100+C2227,氏名データ!$AC$2:$AJ$401,2,0)","v":"日体大桜華"},null,"女",null,65268,"宮田","夢々楓","ﾐﾔﾀ","ﾕﾕｶ","MIYATA","Yuyuka","女","06",1]
[65269,6,52,"木野宮","夢咲","ｷﾉﾐﾔ","ﾕﾗ","KINOMIYA","Yura","06",1,{"$f":"VLOOKUP(B2228*100+C2228,氏名データ!$AC$2:$AJ$401,2,0)","v":"日体大桜華"},null,"女",null,65269,"木野宮","夢咲","ｷﾉﾐﾔ","ﾕﾗ","KINOMIYA","Yura","女","06",1]
[65272,6,52,"清水","優風","ｼﾐｽﾞ","ﾕｳｶ","SHIMIZU","Yuuka","06",1,{"$f":"VLOOKUP(B2231*100+C2231,氏名データ!$AC$2:$AJ$401,2,0)","v":"日体大桜華"},null,"女",null,65272,"清水","優風","ｼﾐｽﾞ","ﾕｳｶ","SHIMIZU","Yuuka","女","06",1]
[65274,6,52,"田中","優美","ﾀﾅｶ","ｵｶﾞﾈﾙｴﾑ","TANAKA","Oganeruemu","06",1,{"$f":"VLOOKUP(B2233*100+C2233,氏名データ!$AC$2:$AJ$401,2,0)","v":"日体大桜華"},null,"女",null,65274,"田中","優美","ﾀﾅｶ","ｵｶﾞﾈﾙｴﾑ","TANAKA","Oganeruemu","女","06",1]
[65297,6,52,"新村","心結","ﾆｲﾑﾗ","ﾐﾕ","NIIMURA","Miyu","04",3,{"$f":"VLOOKUP(B2236*100+C2236,氏名データ!$AC$2:$AJ$401,2,0)","v":"日体大桜華"},null,"女",null,65297,"新村","心結","ﾆｲﾑﾗ","ﾐﾕ","NIIMURA","Miyu","女","04",3]
[65298,6,52,"髙橋","花里菜","ﾀｶﾊｼ","ｶﾘﾅ","TAKAHASHI","Karina","04",3,{"$f":"VLOOKUP(B2237*100+C2237,氏名データ!$AC$2:$AJ$401,2,0)","v":"日体大桜華"},null,"女",null,65298,"髙橋","花里菜","ﾀｶﾊｼ","ｶﾘﾅ","TAKAHASHI","Karina","女","04",3]
[65302,6,53,"中尾","匡孝","ﾅｶｵ","ﾏｻﾀｶ","NAKAO","Masataka","06",1,{"$f":"VLOOKUP(B2240*100+C2240,氏名データ!$AC$2:$AJ$401,2,0)","v":"明学東村山"},null,"男",null,65302,"中尾","匡孝","ﾅｶｵ","ﾏｻﾀｶ","NAKAO","Masataka","男","06",1]
[65305,6,53,"八巻","蓮","ﾔﾏｷ","ﾚﾝ",{"$f":"U2243","v":"YAMAKI"},{"$f":"V2243","v":"Ren"},{"$f":"X2243","v":"06"},1,{"$f":"VLOOKUP(B2243*100+C2243,氏名データ!$AC$2:$AJ$401,2,0)","v":"明学東村山"},null,"男",null,65305,"八巻","蓮","ﾔﾏｷ","ﾚﾝ","YAMAKI","Ren","男","06",1]
[65307,6,53,"佐久間","洸","ｻｸﾏ","ﾋｶﾙ","SAKUMA","Hkaru","06",1,{"$f":"VLOOKUP(B2245*100+C2245,氏名データ!$AC$2:$AJ$401,2,0)","v":"明学東村山"},null,"男",null,65307,"佐久間","洸","ｻｸﾏ","ﾋｶﾙ","SAKUMA","Hkaru","男","06",1]
[65308,6,53,"中村","水月","ﾅｶﾑﾗ","ﾐﾂｷ","NAKAMURA","Mitsuki","06",1,{"$f":"VLOOKUP(B2246*100+C2246,氏名データ!$AC$2:$AJ$401,2,0)","v":"明学東村山"},null,"男",null,65308,"中村","水月","ﾅｶﾑﾗ","ﾐﾂｷ","NAKAMURA","Mitsuki","男","06",1]
[65311,6,53,"尾崎","昴","ｵｻﾞｷ","ｽﾊﾞﾙ","OZAKI","Subaru","06",1,{"$f":"VLOOKUP(B2249*100+C2249,氏名データ!$AC$2:$AJ$401,2,0)","v":"明学東村山"},null,"男",null,65311,"尾崎","昴","ｵｻﾞｷ","ｽﾊﾞﾙ","OZAKI","Subaru","男","06",1]
[65313,6,53,"森田","修司","ﾓﾘﾀ","ｼｭｳｼﾞ","MORITA","Shuji","06",1,{"$f":"VLOOKUP(B2251*100+C2251,氏名データ!$AC$2:$AJ$401,2,0)","v":"明学東村山"},null,"男",null,65313,"森田","修司","ﾓﾘﾀ","ｼｭｳｼﾞ","MORITA","Shuji","男","06",1]
[65335,6,53,"三富","悠之介","ﾐﾄﾐ","ﾕｳﾉｽｹ","MITOMI","Yunosuke","04",3,{"$f":"VLOOKUP(B2254*100+C2254,氏名データ!$AC$2:$AJ$401,2,0)","v":"明学東村山"},null,"男",null,65335,"三富","悠之介","ﾐﾄﾐ","ﾕｳﾉｽｹ","MITOMI","Yunosuke","男","04",3]
[65337,6,53,"松下","天","ﾏﾂｼﾀ","ｿﾗ","MATSUSHITA","Sora","04",3,{"$f":"VLOOKUP(B2255*100+C2255,氏名データ!$AC$2:$AJ$401,2,0)","v":"明学東村山"},null,"男",null,65337,"松下","天","ﾏﾂｼﾀ","ｿﾗ","MATSUSHITA","Sora","男","04",3]
[65341,6,53,"星","大輝","ﾎｼ","ﾀﾞｲｷ","HOSHI","Daiki","05",2,{"$f":"VLOOKUP(B2258*100+C2258,氏名データ!$AC$2:$AJ$401,2,0)","v":"明学東村山"},null,"男",null,65341,"星","大輝","ﾎｼ","ﾀﾞｲｷ","HOSHI","Daiki","男","05",2]
[65346,6,53,"平栗","悠大","ﾋﾗｸﾘ","ﾕｳﾀ","HIRAKURI","Yuta","05",2,{"$f":"VLOOKUP(B2261*100+C2261,氏名データ!$AC$2:$AJ$401,2,0)","v":"明学東村山"},null,"男",null,65346,"平栗","悠大","ﾋﾗｸﾘ","ﾕｳﾀ","HIRAKURI","Yuta","男","05",2]
[65352,6,53,"各務","実桜","ｶｶﾞﾐ","ﾐｵ","KAGAMI","Mio","04",3,{"$f":"VLOOKUP(B2263*100+C2263,氏名データ!$AC$2:$AJ$401,2,0)","v":"明学東村山"},null,"女",null,65352,"各務","実桜","ｶｶﾞﾐ","ﾐｵ","KAGAMI","Mio","女","04",3]
[65353,6,53,"金子","萌珂","ｶﾈｺ","ｱｽｶ","KANEKO","Asuka","04",3,{"$f":"VLOOKUP(B2264*100+C2264,氏名データ!$AC$2:$AJ$401,2,0)","v":"明学東村山"},null,"女",null,65353,"金子","萌珂","ｶﾈｺ","ｱｽｶ","KANEKO","Asuka","女","04",3]
[65356,6,53,"松田","涼花","ﾏﾂﾀﾞ","ｽｽﾞｶ","MATSUDA","Suzuka","05",2,{"$f":"VLOOKUP(B2267*100+C2267,氏名データ!$AC$2:$AJ$401,2,0)","v":"明学東村山"},null,"女",null,65356,"松田","涼花","ﾏﾂﾀﾞ","ｽｽﾞｶ","MATSUDA","Suzuka","女","05",2]
[65358,6,53,"野澤","あかり","ﾉｻﾞﾜ","ｱｶﾘ","NOZAWA","Akari","05",2,{"$f":"VLOOKUP(B2269*100+C2269,氏名データ!$AC$2:$AJ$401,2,0)","v":"明学東村山"},null,"女",null,65358,"野澤","あかり","ﾉｻﾞﾜ","ｱｶﾘ","NOZAWA","Akari","女","05",2]
[65362,6,53,"赤荻","由佳","ｱｶｵｷﾞ","ﾕｶ","AKAOGI","Yuka","06",1,{"$f":"VLOOKUP(B2272*100+C2272,氏名データ!$AC$2:$AJ$401,2,0)","v":"明学東村山"},null,"女",null,65362,"赤荻","由佳","ｱｶｵｷﾞ","ﾕｶ","AKAOGI","Yuka","女","06",1]
[65363,6,53,"髙野","葵衣","ﾀｶﾉ","ｱｵｲ","TAKANO","Aoi","06",1,{"$f":"VLOOKUP(B2273*100+C2273,氏名データ!$AC$2:$AJ$401,2,0)","v":"明学東村山"},null,"女",null,65363,"髙野","葵衣","ﾀｶﾉ","ｱｵｲ","TAKANO","Aoi","女","06",1]
[65366,6,53,"有野","真彩","ｱﾘﾉ","ﾏｱﾔ","ARINO","Maaya","06",1,{"$f":"VLOOKUP(B2276*100+C2276,氏名データ!$AC$2:$AJ$401,2,0)","v":"明学東村山"},null,"女",null,65366,"有野","真彩","ｱﾘﾉ","ﾏｱﾔ","ARINO","Maaya","女","06",1]
[65437,6,54,"鈴木","蒼空","ｽｽﾞｷ","ｿﾗ","SUZUKI","Sora","05",2,{"$f":"VLOOKUP(B2279*100+C2279,氏名データ!$AC$2:$AJ$401,2,0)","v":"明法"},null,"男",null,65437,"鈴木","蒼空","ｽｽﾞｷ","ｿﾗ","SUZUKI","Sora","男","05",2]
[65439,6,54,"堤","孝太朗","ﾂﾂﾐ","ｺｳﾀﾛｳ","TSUTSUMI","Kotaro","06",2,{"$f":"VLOOKUP(B2281*100+C2281,氏名データ!$AC$2:$AJ$401,2,0)","v":"明法"},null,"男",null,65439,"堤","孝太朗","ﾂﾂﾐ","ｺｳﾀﾛｳ","TSUTSUMI","Kotaro","男","06",2]
[65442,6,54,"今川","優真","ｲﾏｶﾞﾜ","ﾕｳﾏ","IMAGAWA","Yuma","06",1,{"$f":"VLOOKUP(B2282*100+C2282,氏名データ!$AC$2:$AJ$401,2,0)","v":"明法"},null,"男",null,65442,"今川","優真","ｲﾏｶﾞﾜ","ﾕｳﾏ","IMAGAWA","Yuma","男","06",1]
[65455,6,54,"堀","小春","ﾎﾘ","ｺﾊﾙ","HORI","Koharu","05",2,{"$f":"VLOOKUP(B2285*100+C2285,氏名データ!$AC$2:$AJ$401,2,0)","v":"明法"},null,"女",null,65455,"堀","小春","ﾎﾘ","ｺﾊﾙ","HORI","Koharu","女","05",2]
[65503,6,55,"深浦","優希","ﾌｶｳﾗ","ﾕｳｷ","FUKAURA","Yuuki","05",2,{"$f":"VLOOKUP(B2287*100+C2287,氏名データ!$AC$2:$AJ$401,2,0)","v":"都羽村"},null,"男",null,65503,"深浦","優希","ﾌｶｳﾗ","ﾕｳｷ","FUKAURA","Yuuki","男","05",2]
[65701,6,57,"近藤","知輝","ｺﾝﾄﾞｳ","ﾄﾓｷ","KONDO","Tomoki","04",3,{"$f":"VLOOKUP(B2290*100+C2290,氏名データ!$AC$2:$AJ$401,2,0)","v":"都瑞穂農芸"},null,"男",null,65701,"近藤","知輝","ｺﾝﾄﾞｳ","ﾄﾓｷ","KONDO","Tomoki","男","04",3]
[65762,6,57,"原","薫","ﾊﾗ","ｶｵﾙ","HARA","Kaoru","05",3,{"$f":"VLOOKUP(B2291*100+C2291,氏名データ!$AC$2:$AJ$401,2,0)","v":"都瑞穂農芸"},null,"女",null,65762,"原","薫","ﾊﾗ","ｶｵﾙ","HARA","Kaoru","女","05",3]
[65834,6,58,"矢内","陸琥","ﾔﾅｲ","ﾘｸ","YANAI","Riku","05",3,{"$f":"VLOOKUP(B2294*100+C2294,氏名データ!$AC$2:$AJ$401,2,0)","v":"都青梅総合"},null,"男",null,65834,"矢内","陸琥","ﾔﾅｲ","ﾘｸ","YANAI","Riku","男","05",3]
[65835,6,58,"小山","翔太","ｺﾔﾏ","ｼｮｳﾀ","KOYAMA","Shota","04",3,{"$f":"VLOOKUP(B2295*100+C2295,氏名データ!$AC$2:$AJ$401,2,0)","v":"都青梅総合"},null,"男",null,65835,"小山","翔太","ｺﾔﾏ","ｼｮｳﾀ","KOYAMA","Shota","男","04",3]
[65839,6,58,"伊藤","優希","ｲﾄｳ","ﾕｳｷ","ITO","Yuki","05",2,{"$f":"VLOOKUP(B2299*100+C2299,氏名データ!$AC$2:$AJ$401,2,0)","v":"都青梅総合"},null,"男",null,65839,"伊藤","優希","ｲﾄｳ","ﾕｳｷ","ITO","Yuki","男","05",2]
[65840,6,58,"内野","賢心","ｳﾁﾉ","ｹﾝｼﾝ","UCHINO","Kenshin","05",2,{"$f":"VLOOKUP(B2300*100+C2300,氏名データ!$AC$2:$AJ$401,2,0)","v":"都青梅総合"},null,"男",null,65840,"内野","賢心","ｳﾁﾉ","ｹﾝｼﾝ","UCHINO","Kenshin","男","05",2]
[65844,6,58,"原村","和希","ﾊﾗﾑﾗ","ｶｽﾞｷ","HARAMURA","Kazuki","06",1,{"$f":"VLOOKUP(B2303*100+C2303,氏名データ!$AC$2:$AJ$401,2,0)","v":"都青梅総合"},null,"男",null,65844,"原村","和希","ﾊﾗﾑﾗ","ｶｽﾞｷ","HARAMURA","Kazuki","男","06",1]
[65846,6,58,"堀江","晄成","ﾎﾘｴ","ｺｳｾｲ","HORIE","Kosei","06",1,{"$f":"VLOOKUP(B2305*100+C2305,氏名データ!$AC$2:$AJ$401,2,0)","v":"都青梅総合"},null,"男",null,65846,"堀江","晄成","ﾎﾘｴ","ｺｳｾｲ","HORIE","Kosei","男","06",1]
[65849,6,58,"大塚","晴心","ｵｵﾂｶ","ﾊﾙﾄ","OTSUKA","Haruto","07",1,{"$f":"VLOOKUP(B2308*100+C2308,氏名データ!$AC$2:$AJ$401,2,0)","v":"都青梅総合"},null,"男",null,65849,"大塚","晴心","ｵｵﾂｶ","ﾊﾙﾄ","OTSUKA","Haruto","男","07",1]
[65851,6,58,"酒井","夢歩","ｻｶｲ","ﾕﾒﾎ","SAKAI","Yumeho","05",2,{"$f":"VLOOKUP(B2309*100+C2309,氏名データ!$AC$2:$AJ$401,2,0)","v":"都青梅総合"},null,"女",null,65851,"酒井","夢歩","ｻｶｲ","ﾕﾒﾎ","SAKAI","Yumeho","女","05",2]
[65896,6,58,"佐伯","紗愛","ｻｴｷ","ｻｴﾗ","SAEKI","Saera","04",3,{"$f":"VLOOKUP(B2312*100+C2312,氏名データ!$AC$2:$AJ$401,2,0)","v":"都青梅総合"},null,"女",null,65896,"佐伯","紗愛","ｻｴｷ","ｻｴﾗ","SAEKI","Saera","女","04",3]
[65897,6,58,"乙幡","愛花","ｵｯﾊﾟﾀ","ｱｲｶ","OPPATA","Aika","04",3,{"$f":"VLOOKUP(B2313*100+C2313,氏名データ!$AC$2:$AJ$401,2,0)","v":"都青梅総合"},null,"女",null,65897,"乙幡","愛花","ｵｯﾊﾟﾀ","ｱｲｶ","OPPATA","Aika","女","04",3]
[65902,6,59,"小甲","純平","ｺｶﾌﾞ","ｼﾞｭﾝﾍﾟｲ","KOKABU","Junpei","06",1,{"$f":"VLOOKUP(B2317*100+C2317,氏名データ!$AC$2:$AJ$401,2,0)","v":"帝京大"},null,"男",null,65902,"小甲","純平","ｺｶﾌﾞ","ｼﾞｭﾝﾍﾟｲ","KOKABU","Junpei","男","06",1]
[65903,6,59,"津田","蒼汰","ﾂﾀﾞ","ｿｳﾀ","TSUDA","Sota","06",1,{"$f":"VLOOKUP(B2318*100+C2318,氏名データ!$AC$2:$AJ$401,2,0)","v":"帝京大"},null,"男",null,65903,"津田","蒼汰","ﾂﾀﾞ","ｿｳﾀ","TSUDA","Sota","男","06",1]
[65906,6,59,"皆川","凛太郎","ﾐﾅｶﾞﾜ","ﾘﾝﾀﾛｳ","MINAGAWA","Rintaro","06",1,{"$f":"VLOOKUP(B2321*100+C2321,氏名データ!$AC$2:$AJ$401,2,0)","v":"帝京大"},null,"男",null,65906,"皆川","凛太郎","ﾐﾅｶﾞﾜ","ﾘﾝﾀﾛｳ","MINAGAWA","Rintaro","男","06",1]
[65934,6,59,"沼尻","尚大","ﾇﾏｼﾞﾘ","ｼｮｳﾀ","NUMAJIRI","Shouta","04",3,{"$f":"VLOOKUP(B2323*100+C2323,氏名データ!$AC$2:$AJ$401,2,0)","v":"帝京大"},null,"男",null,65934,"沼尻","尚大","ﾇﾏｼﾞﾘ","ｼｮｳﾀ","NUMAJIRI","Shouta","男","04",3]
[65938,6,59,"江島","匡悦","ｴｼﾞﾏ","ﾀﾀﾞﾉﾌﾞ","EJIMA","Tadanobu","05",2,{"$f":"VLOOKUP(B2326*100+C2326,氏名データ!$AC$2:$AJ$401,2,0)","v":"帝京大"},null,"男",null,65938,"江島","匡悦","ｴｼﾞﾏ","ﾀﾀﾞﾉﾌﾞ","EJIMA","Tadanobu","男","05",2]
[65939,6,59,"小久保","和真","ｺｸﾎﾞ","ｶｽﾞﾏ","KOKUBO","Kazuma","05",2,{"$f":"VLOOKUP(B2327*100+C2327,氏名データ!$AC$2:$AJ$401,2,0)","v":"帝京大"},null,"男",null,65939,"小久保","和真","ｺｸﾎﾞ","ｶｽﾞﾏ","KOKUBO","Kazuma","男","05",2]
[65943,6,59,"田代","路明","ﾀｼﾛ","ﾐﾁｱｷ","TASHIRO","Michiaki","05",2,{"$f":"VLOOKUP(B2330*100+C2330,氏名データ!$AC$2:$AJ$401,2,0)","v":"帝京大"},null,"男",null,65943,"田代","路明","ﾀｼﾛ","ﾐﾁｱｷ","TASHIRO","Michiaki","男","05",2]
[65944,6,59,"渡邉","恒己","ﾜﾀﾅﾍﾞ","ｺｳｷ","WATANABE","Kouki","06",2,{"$f":"VLOOKUP(B2331*100+C2331,氏名データ!$AC$2:$AJ$401,2,0)","v":"帝京大"},null,"男",null,65944,"渡邉","恒己","ﾜﾀﾅﾍﾞ","ｺｳｷ","WATANABE","Kouki","男","06",2]
[65978,6,59,"下田","眞子","ｼﾓﾀﾞ","ﾏｺ","SHIMODA","Mako","05",2,{"$f":"VLOOKUP(B2335*100+C2335,氏名データ!$AC$2:$AJ$401,2,0)","v":"帝京大"},null,"女",null,65978,"下田","眞子","ｼﾓﾀﾞ","ﾏｺ","SHIMODA","Mako","女","05",2]
[65979,6,59,"土方","千鶴","ﾋｼﾞｶﾀ","ﾁﾂﾞﾙ","HIJIKATA","Chiduru","05",2,{"$f":"VLOOKUP(B2336*100+C2336,氏名データ!$AC$2:$AJ$401,2,0)","v":"帝京大"},null,"女",null,65979,"土方","千鶴","ﾋｼﾞｶﾀ","ﾁﾂﾞﾙ","HIJIKATA","Chiduru","女","05",2]
[65982,6,59,"久保田","実希","ｸﾎﾞｸﾎﾞﾀ","ﾐｷ","KUBOTA","Miki","06",2,{"$f":"VLOOKUP(B2339*100+C2339,氏名データ!$AC$2:$AJ$401,2,0)","v":"帝京大"},null,"女",null,65982,"久保田","実希","ｸﾎﾞｸﾎﾞﾀ","ﾐｷ","KUBOTA","Miki","女","06",2]
[65984,6,59,"渡邉","美羽","ﾜﾀﾅﾍﾞ","ﾐﾊﾈ","WATANABE","Mihane","05",2,{"$f":"VLOOKUP(B2341*100+C2341,氏名データ!$AC$2:$AJ$401,2,0)","v":"帝京大"},null,"女",null,65984,"渡邉","美羽","ﾜﾀﾅﾍﾞ","ﾐﾊﾈ","WATANABE","Mihane","女","05",2]
[65987,6,59,"橋本","ゆずか","ﾊｼﾓﾄ","ﾕｽﾞｶ","HASHIMOTO","Yuzuka","06",1,{"$f":"VLOOKUP(B2344*100+C2344,氏名データ!$AC$2:$AJ$401,2,0)","v":"帝京大"},null,"女",null,65987,"橋本","ゆずか","ﾊｼﾓﾄ","ﾕｽﾞｶ","HASHIMOTO","Yuzuka","女","06",1]
[0,0,0,0,0,0,0,0,0,0,0,{"$f":"VLOOKUP(B2345*100+C2345,氏名データ!$AC$2:$AJ$401,2,0)","v":{"$error":"#N/A"}},null,0]
[0,0,0,0,0,0,0,0,0,0,0,{"$f":"VLOOKUP(B2348*100+C2348,氏名データ!$AC$2:$AJ$401,2,0)","v":{"$error":"#N/A"}},null,0]
[0,0,0,0,0,0,0,0,0,0,0,{"$f":"VLOOKUP(B2349*100+C2349,氏名データ!$AC$2:$AJ$401,2,0)","v":{"$error":"#N/A"}},null,0]
[0,0,0,0,0,0,0,0,0,0,0,{"$f":"VLOOKUP(B2353*100+C2353,氏名データ!$AC$2:$AJ$401,2,0)","v":{"$error":"#N/A"}},null,0]
[0,0,0,0,0,0,0,0,0,0,0,{"$f":"VLOOKUP(B2354*100+C2354,氏名データ!$AC$2:$AJ$401,2,0)","v":{"$error":"#N/A"}},null,0]
[0,0,0,0,0,0,0,0,0,0,0,{"$f":"VLOOKUP(B2357*100+C2357,氏名データ!$AC$2:$AJ$401,2,0)","v":{"$error":"#N/A"}},null,0]
[0,0,0,0,0,0,0,0,0,0,0,{"$f":"VLOOKUP(B2359*100+C2359,氏名データ!$AC$2:$AJ$401,2,0)","v":{"$error":"#N/A"}},null,0]
[0,0,0,0,0,0,0,0,0,0,0,{"$f":"VLOOKUP(B2362*100+C2362,氏名データ!$AC$2:$AJ$401,2,0)","v":{"$error":"#N/A"}},null,0]
[0,0,0,0,0,0,0,0,0,0,0,{"$f":"VLOOKUP(B2363*100+C2363,氏名データ!$AC$2:$AJ$401,2,0)","v":{"$error":"#N/A"}},null,0]
[0,0,0,0,0,0,0,0,0,0,0,{"$f":"VLOOKUP(B2366*100+C2366,氏名データ!$AC$2:$AJ$401,2,0)","v":{"$error":"#N/A"}},null,0]
[0,0,0,0,0,0,0,0,0,0,0,{"$f":"VLOOKUP(B2367*100+C2367,氏名データ!$AC$2:$AJ$401,2,0)","v":{"$error":"#N/A"}},null,0]
[0,0,0,0,0,0,0,{"$f":"U2371","v":0},{"$f":"V2371","v":0},{"$f":"X2371","v":0},0,{"$f":"VLOOKUP(B2371*100+C2371,氏名データ!$AC$2:$AJ$401,2,0)","v":{"$error":"#N/A"}},null,0]
[0,0,0,0,0,0,0,0,0,0,0,{"$f":"VLOOKUP(B2372*100+C2372,氏名データ!$AC$2:$AJ$401,2,0)","v":{"$error":"#N/A"}},null,0]
[0,0,0,0,0,0,0,0,0,0,0,{"$f":"VLOOKUP(B2375*100+C2375,氏名データ!$AC$2:$AJ$401,2,0)","v":{"$error":"#N/A"}},null,0]
[0,0,0,0,0,0,0,0,0,0,0,{"$f":"VLOOKUP(B2377*100+C2377,氏名データ!$AC$2:$AJ$401,2,0)","v":{"$error":"#N/A"}},null,0]
[0,0,0,0,0,0,0,0,0,0,0,{"$f":"VLOOKUP(B2380*100+C2380,氏名データ!$AC$2:$AJ$401,2,0)","v":{"$error":"#N/A"}},null,0]
[0,0,0,0,0,0,0,0,0,0,0,{"$f":"VLOOKUP(B2381*100+C2381,氏名データ!$AC$2:$AJ$401,2,0)","v":{"$error":"#N/A"}},null,0]
[0,0,0,0,0,0,0,0,0,0,0,{"$f":"VLOOKUP(B2384*100+C2384,氏名データ!$AC$2:$AJ$401,2,0)","v":{"$error":"#N/A"}},null,0]
[0,0,0,0,0,0,0,0,0,0,0,{"$f":"VLOOKUP(B2385*100+C2385,氏名データ!$AC$2:$AJ$401,2,0)","v":{"$error":"#N/A"}},null,0]
[0,0,0,0,0,0,0,0,0,0,0,{"$f":"VLOOKUP(B2389*100+C2389,氏名データ!$AC$2:$AJ$401,2,0)","v":{"$error":"#N/A"}},null,0]
[0,0,0,0,0,0,0,0,0,0,0,{"$f":"VLOOKUP(B2390*100+C2390,氏名データ!$AC$2:$AJ$401,2,0)","v":{"$error":"#N/A"}},null,0]
[{"$f":"P2393","v":0},{"$f":"ROUNDDOWN(A2393/10000,0)","v":0},{"$f":"ROUNDDOWN((A2393-B2393*10000)/100,0)","v":0},{"$f":"Q2393","v":0},{"$f":"R2393","v":0},{"$f":"S2393","v":0},{"$f":"T2393","v":0},0,0,0,{"$f":"Y2393","v":0},{"$f":"VLOOKUP(B2393*100+C2393,氏名データ!$AC$2:$AJ$401,2,0)","v":{"$error":"#N/A"}},null,{"$f":"W2393","v":0}]
[0,0,0,0,0,0,0,0,0,0,0,{"$f":"VLOOKUP(B2395*100+C2395,氏名データ!$AC$2:$AJ$401,2,0)","v":{"$error":"#N/A"}},null,0]
[0,0,0,0,0,0,0,0,0,0,0,{"$f":"VLOOKUP(B2398*100+C2398,氏名データ!$AC$2:$AJ$401,2,0)","v":{"$error":"#N/A"}},null,0]
[0,0,0,0,0,0,0,0,0,0,0,{"$f":"VLOOKUP(B2399*100+C2399,氏名データ!$AC$2:$AJ$401,2,0)","v":{"$error":"#N/A"}},null,0]
[0,0,0,0,0,0,0,0,0,0,0,{"$f":"VLOOKUP(B2402*100+C2402,氏名データ!$AC$2:$AJ$401,2,0)","v":{"$error":"#N/A"}},null,0]
[0,0,0,0,0,0,0,0,0,0,0,{"$f":"VLOOKUP(B2403*100+C2403,氏名データ!$AC$2:$AJ$401,2,0)","v":{"$error":"#N/A"}},null,0]
[0,0,0,0,0,0,0,0,0,0,0,{"$f":"VLOOKUP(B2407*100+C2407,氏名データ!$AC$2:$AJ$401,2,0)","v":{"$error":"#N/A"}},null,0]
[0,0,0,0,0,0,0,0,0,0,0,{"$f":"VLOOKUP(B2408*100+C2408,氏名データ!$AC$2:$AJ$401,2,0)","v":{"$error":"#N/A"}},null,0]
[0,0,0,0,0,0,0,0,0,0,0,{"$f":"VLOOKUP(B2411*100+C2411,氏名データ!$AC$2:$AJ$401,2,0)","v":{"$error":"#N/A"}},null,0]
[0,0,0,0,0,0,0,0,0,0,0,{"$f":"VLOOKUP(B2413*100+C2413,氏名データ!$AC$2:$AJ$401,2,0)","v":{"$error":"#N/A"}},null,0]
[0,0,0,0,0,0,0,0,0,0,0,{"$f":"VLOOKUP(B2416*100+C2416,氏名データ!$AC$2:$AJ$401,2,0)","v":{"$error":"#N/A"}},null,0]
[0,0,0,0,0,0,0,0,0,0,0,{"$f":"VLOOKUP(B2417*100+C2417,氏名データ!$AC$2:$AJ$401,2,0)","v":{"$error":"#N/A"}},null,0]
[0,0,0,0,0,0,0,0,0,0,0,{"$f":"VLOOKUP(B2420*100+C2420,氏名データ!$AC$2:$AJ$401,2,0)","v":{"$error":"#N/A"}},null,0]
[0,0,0,0,0,0,0,0,0,0,0,{"$f":"VLOOKUP(B2421*100+C2421,氏名データ!$AC$2:$AJ$401,2,0)","v":{"$error":"#N/A"}},null,0]
[0,0,0,0,0,0,0,0,0,0,0,{"$f":"VLOOKUP(B2425*100+C2425,氏名データ!$AC$2:$AJ$401,2,0)","v":{"$error":"#N/A"}},null,0]
[0,0,0,0,0,0,0,0,0,0,0,{"$f":"VLOOKUP(B2426*100+C2426,氏名データ!$AC$2:$AJ$401,2,0)","v":{"$error":"#N/A"}},null,0]
[0,0,0,0,0,0,0,0,0,0,0,{"$f":"VLOOKUP(B2429*100+C2429,氏名データ!$AC$2:$AJ$401,2,0)","v":{"$error":"#N/A"}},null,0]
[0,0,0,0,0,0,0,0,0,0,0,{"$f":"VLOOKUP(B2431*100+C2431,氏名データ!$AC$2:$AJ$401,2,0)","v":{"$error":"#N/A"}},null,0]
[0,0,0,0,0,0,0,0,0,0,0,{"$f":"VLOOKUP(B2434*100+C2434,氏名データ!$AC$2:$AJ$401,2,0)","v":{"$error":"#N/A"}},null,0]
[0,0,0,0,0,0,0,{"$f":"U2435","v":0},{"$f":"V2435","v":0},{"$f":"X2435","v":0},0,{"$f":"VLOOKUP(B2435*100+C2435,氏名データ!$AC$2:$AJ$401,2,0)","v":{"$error":"#N/A"}},null,0]
[0,0,0,0,0,0,0,0,0,0,0,{"$f":"VLOOKUP(B2438*100+C2438,氏名データ!$AC$2:$AJ$401,2,0)","v":{"$error":"#N/A"}},null,0]
[0,0,0,0,0,0,0,0,0,0,0,{"$f":"VLOOKUP(B2439*100+C2439,氏名データ!$AC$2:$AJ$401,2,0)","v":{"$error":"#N/A"}},null,0]
[0,0,0,0,0,0,0,0,0,0,0,{"$f":"VLOOKUP(B2443*100+C2443,氏名データ!$AC$2:$AJ$401,2,0)","v":{"$error":"#N/A"}},null,0]
[0,0,0,0,0,0,0,0,0,0,0,{"$f":"VLOOKUP(B2444*100+C2444,氏名データ!$AC$2:$AJ$401,2,0)","v":{"$error":"#N/A"}},null,0]
[0,0,0,0,0,0,0,0,0,0,0,{"$f":"VLOOKUP(B2447*100+C2447,氏名データ!$AC$2:$AJ$401,2,0)","v":{"$error":"#N/A"}},null,0]
[0,0,0,0,0,0,0,0,0,0,0,{"$f":"VLOOKUP(B2450*100+C2450,氏名データ!$AC$2:$AJ$401,2,0)","v":{"$error":"#N/A"}},null,0]
[0,0,0,0,0,0,0,0,0,0,0,{"$f":"VLOOKUP(B2452*100+C2452,氏名データ!$AC$2:$AJ$401,2,0)","v":{"$error":"#N/A"}},null,0]
[0,0,0,0,0,0,0,0,0,0,0,{"$f":"VLOOKUP(B2453*100+C2453,氏名データ!$AC$2:$AJ$401,2,0)","v":{"$error":"#N/A"}},null,0]
[0,0,0,0,0,0,0,0,0,0,0,{"$f":"VLOOKUP(B2456*100+C2456,氏名データ!$AC$2:$AJ$401,2,0)","v":{"$error":"#N/A"}},null,0]
[{"$f":"P2457","v":0},{"$f":"ROUNDDOWN(A2457/10000,0)","v":0},{"$f":"ROUNDDOWN((A2457-B2457*10000)/100,0)","v":0},{"$f":"Q2457","v":0},{"$f":"R2457","v":0},{"$f":"S2457","v":0},{"$f":"T2457","v":0},0,0,0,{"$f":"Y2457","v":0},{"$f":"VLOOKUP(B2457*100+C2457,氏名データ!$AC$2:$AJ$401,2,0)","v":{"$error":"#N/A"}},null,{"$f":"W2457","v":0}]
[0,0,0,0,0,0,0,0,0,0,0,{"$f":"VLOOKUP(B2461*100+C2461,氏名データ!$AC$2:$AJ$401,2,0)","v":{"$error":"#N/A"}},null,0]
[0,0,0,0,0,0,0,0,0,0,0,{"$f":"VLOOKUP(B2462*100+C2462,氏名データ!$AC$2:$AJ$401,2,0)","v":{"$error":"#N/A"}},null,0]
[0,0,0,0,0,0,0,0,0,0,0,{"$f":"VLOOKUP(B2465*100+C2465,氏名データ!$AC$2:$AJ$401,2,0)","v":{"$error":"#N/A"}},null,0]
[0,0,0,0,0,0,0,0,0,0,0,{"$f":"VLOOKUP(B2468*100+C2468,氏名データ!$AC$2:$AJ$401,2,0)","v":{"$error":"#N/A"}},null,0]
[0,0,0,0,0,0,0,0,0,0,0,{"$f":"VLOOKUP(B2470*100+C2470,氏名データ!$AC$2:$AJ$401,2,0)","v":{"$error":"#N/A"}},null,0]
[0,0,0,0,0,0,0,0,0,0,0,{"$f":"VLOOKUP(B2471*100+C2471,氏名データ!$AC$2:$AJ$401,2,0)","v":{"$error":"#N/A"}},null,0]
[0,0,0,0,0,0,0,0,0,0,0,{"$f":"VLOOKUP(B2474*100+C2474,氏名データ!$AC$2:$AJ$401,2,0)","v":{"$error":"#N/A"}},null,0]
[0,0,0,0,0,0,0,0,0,0,0,{"$f":"VLOOKUP(B2475*100+C2475,氏名データ!$AC$2:$AJ$401,2,0)","v":{"$error":"#N/A"}},null,0]
[0,0,0,0,0,0,0,0,0,0,0,{"$f":"VLOOKUP(B2479*100+C2479,氏名データ!$AC$2:$AJ$401,2,0)","v":{"$error":"#N/A"}},null,0]
[0,0,0,0,0,0,0,0,0,0,0,{"$f":"VLOOKUP(B2480*100+C2480,氏名データ!$AC$2:$AJ$401,2,0)","v":{"$error":"#N/A"}},null,0]
[0,0,0,0,0,0,0,0,0,0,0,{"$f":"VLOOKUP(B2483*100+C2483,氏名データ!$AC$2:$AJ$401,2,0)","v":{"$error":"#N/A"}},null,0]
[0,0,0,0,0,0,0,0,0,0,0,{"$f":"VLOOKUP(B2486*100+C2486,氏名データ!$AC$2:$AJ$401,2,0)","v":{"$error":"#N/A"}},null,0]
[0,0,0,0,0,0,0,0,0,0,0,{"$f":"VLOOKUP(B2488*100+C2488,氏名データ!$AC$2:$AJ$401,2,0)","v":{"$error":"#N/A"}},null,0]
[0,0,0,0,0,0,0,0,0,0,0,{"$f":"VLOOKUP(B2489*100+C2489,氏名データ!$AC$2:$AJ$401,2,0)","v":{"$error":"#N/A"}},null,0]
[0,0,0,0,0,0,0,0,0,0,0,{"$f":"VLOOKUP(B2492*100+C2492,氏名データ!$AC$2:$AJ$401,2,0)","v":{"$error":"#N/A"}},null,0]
[0,0,0,0,0,0,0,0,0,0,0,{"$f":"VLOOKUP(B2493*100+C2493,氏名データ!$AC$2:$AJ$401,2,0)","v":{"$error":"#N/A"}},null,0]
[0,0,0,0,0,0,0,0,0,0,0,{"$f":"VLOOKUP(B2497*100+C2497,氏名データ!$AC$2:$AJ$401,2,0)","v":{"$error":"#N/A"}},null,0]
[0,0,0,0,0,0,0,0,0,0,0,{"$f":"VLOOKUP(B2498*100+C2498,氏名データ!$AC$2:$AJ$401,2,0)","v":{"$error":"#N/A"}},null,0]
[0,0,0,0,0,0,0,0,0,0,0,{"$f":"VLOOKUP(B2501*100+C2501,氏名データ!$AC$2:$AJ$401,2,0)","v":{"$error":"#N/A"}},null,0]
[0,0,0,0,0,0,0,0,0,0,0,{"$f":"VLOOKUP(B2504*100+C2504,氏名データ!$AC$2:$AJ$401,2,0)","v":{"$error":"#N/A"}},null,0]
[0,0,0,0,0,0,0,0,0,0,0,{"$f":"VLOOKUP(B2506*100+C2506,氏名データ!$AC$2:$AJ$401,2,0)","v":{"$error":"#N/A"}},null,0]
[0,0,0,0,0,0,0,0,0,0,0,{"$f":"VLOOKUP(B2507*100+C2507,氏名データ!$AC$2:$AJ$401,2,0)","v":{"$error":"#N/A"}},null,0]
[0,0,0,0,0,0,0,0,0,0,0,{"$f":"VLOOKUP(B2510*100+C2510,氏名データ!$AC$2:$AJ$401,2,0)","v":{"$error":"#N/A"}},null,0]
[0,0,0,0,0,0,0,0,0,0,0,{"$f":"VLOOKUP(B2511*100+C2511,氏名データ!$AC$2:$AJ$401,2,0)","v":{"$error":"#N/A"}},null,0]
[0,0,0,0,0,0,0,0,0,0,0,{"$f":"VLOOKUP(B2515*100+C2515,氏名データ!$AC$2:$AJ$401,2,0)","v":{"$error":"#N/A"}},null,0]
[0,0,0,0,0,0,0,0,0,0,0,{"$f":"VLOOKUP(B2516*100+C2516,氏名データ!$AC$2:$AJ$401,2,0)","v":{"$error":"#N/A"}},null,0]
[0,0,0,0,0,0,0,0,0,0,0,{"$f":"VLOOKUP(B2519*100+C2519,氏名データ!$AC$2:$AJ$401,2,0)","v":{"$error":"#N/A"}},null,0]
[0,0,0,0,0,0,0,0,0,0,0,{"$f":"VLOOKUP(B2522*100+C2522,氏名データ!$AC$2:$AJ$401,2,0)","v":{"$error":"#N/A"}},null,0]
[0,0,0,0,0,0,0,0,0,0,0,{"$f":"VLOOKUP(B2524*100+C2524,氏名データ!$AC$2:$AJ$401,2,0)","v":{"$error":"#N/A"}},null,0]
[0,0,0,0,0,0,0,0,0,0,0,{"$f":"VLOOKUP(B2525*100+C2525,氏名データ!$AC$2:$AJ$401,2,0)","v":{"$error":"#N/A"}},null,0]
[0,0,0,0,0,0,0,0,0,0,0,{"$f":"VLOOKUP(B2528*100+C2528,氏名データ!$AC$2:$AJ$401,2,0)","v":{"$error":"#N/A"}},null,0]
[0,0,0,0,0,0,0,0,0,0,0,{"$f":"VLOOKUP(B2529*100+C2529,氏名データ!$AC$2:$AJ$401,2,0)","v":{"$error":"#N/A"}},null,0]
[0,0,0,0,0,0,0,0,0,0,0,{"$f":"VLOOKUP(B2533*100+C2533,氏名データ!$AC$2:$AJ$401,2,0)","v":{"$error":"#N/A"}},null,0]
[0,0,0,0,0,0,0,0,0,0,0,{"$f":"VLOOKUP(B2534*100+C2534,氏名データ!$AC$2:$AJ$401,2,0)","v":{"$error":"#N/A"}},null,0]
[0,0,0,0,0,0,0,0,0,0,0,{"$f":"VLOOKUP(B2537*100+C2537,氏名データ!$AC$2:$AJ$401,2,0)","v":{"$error":"#N/A"}},null,0]
[0,0,0,0,0,0,0,0,0,0,0,{"$f":"VLOOKUP(B2540*100+C2540,氏名データ!$AC$2:$AJ$401,2,0)","v":{"$error":"#N/A"}},null,0]
[0,0,0,0,0,0,0,0,0,0,0,{"$f":"VLOOKUP(B2542*100+C2542,氏名データ!$AC$2:$AJ$401,2,0)","v":{"$error":"#N/A"}},null,0]
[0,0,0,0,0,0,0,0,0,0,0,{"$f":"VLOOKUP(B2543*100+C2543,氏名データ!$AC$2:$AJ$401,2,0)","v":{"$error":"#N/A"}},null,0]
[0,0,0,0,0,0,0,0,0,0,0,{"$f":"VLOOKUP(B2546*100+C2546,氏名データ!$AC$2:$AJ$401,2,0)","v":{"$error":"#N/A"}},null,0]
[0,0,0,0,0,0,0,0,0,0,0,{"$f":"VLOOKUP(B2547*100+C2547,氏名データ!$AC$2:$AJ$401,2,0)","v":{"$error":"#N/A"}},null,0]
[0,0,0,0,0,0,0,0,0,0,0,{"$f":"VLOOKUP(B2551*100+C2551,氏名データ!$AC$2:$AJ$401,2,0)","v":{"$error":"#N/A"}},null,0]
[0,0,0,0,0,0,0,0,0,0,0,{"$f":"VLOOKUP(B2552*100+C2552,氏名データ!$AC$2:$AJ$401,2,0)","v":{"$error":"#N/A"}},null,0]
[0,0,0,0,0,0,0,0,0,0,0,{"$f":"VLOOKUP(B2555*100+C2555,氏名データ!$AC$2:$AJ$401,2,0)","v":{"$error":"#N/A"}},null,0]
[0,0,0,0,0,0,0,0,0,0,0,{"$f":"VLOOKUP(B2558*100+C2558,氏名データ!$AC$2:$AJ$401,2,0)","v":{"$error":"#N/A"}},null,0]
[0,0,0,0,0,0,0,0,0,0,0,{"$f":"VLOOKUP(B2560*100+C2560,氏名データ!$AC$2:$AJ$401,2,0)","v":{"$error":"#N/A"}},null,0]
[0,0,0,0,0,0,0,0,0,0,0,{"$f":"VLOOKUP(B2561*100+C2561,氏名データ!$AC$2:$AJ$401,2,0)","v":{"$error":"#N/A"}},null,0]
[0,0,0,0,0,0,0,0,0,0,0,{"$f":"VLOOKUP(B2564*100+C2564,氏名データ!$AC$2:$AJ$401,2,0)","v":{"$error":"#N/A"}},null,0]
[0,0,0,0,0,0,0,0,0,0,0,{"$f":"VLOOKUP(B2565*100+C2565,氏名データ!$AC$2:$AJ$401,2,0)","v":{"$error":"#N/A"}},null,0]
[0,0,0,0,0,0,0,0,0,0,0,{"$f":"VLOOKUP(B2569*100+C2569,氏名データ!$AC$2:$AJ$401,2,0)","v":{"$error":"#N/A"}},null,0]
[0,0,0,0,0,0,0,0,0,0,0,{"$f":"VLOOKUP(B2570*100+C2570,氏名データ!$AC$2:$AJ$401,2,0)","v":{"$error":"#N/A"}},null,0]
[0,0,0,0,0,0,0,0,0,0,0,{"$f":"VLOOKUP(B2573*100+C2573,氏名データ!$AC$2:$AJ$401,2,0)","v":{"$error":"#N/A"}},null,0]
[0,0,0,0,0,0,0,0,0,0,0,{"$f":"VLOOKUP(B2576*100+C2576,氏名データ!$AC$2:$AJ$401,2,0)","v":{"$error":"#N/A"}},null,0]
[0,0,0,0,0,0,0,0,0,0,0,{"$f":"VLOOKUP(B2578*100+C2578,氏名データ!$AC$2:$AJ$401,2,0)","v":{"$error":"#N/A"}},null,0]
[0,0,0,0,0,0,0,0,0,0,0,{"$f":"VLOOKUP(B2579*100+C2579,氏名データ!$AC$2:$AJ$401,2,0)","v":{"$error":"#N/A"}},null,0]
[0,0,0,0,0,0,0,0,0,0,0,{"$f":"VLOOKUP(B2582*100+C2582,氏名データ!$AC$2:$AJ$401,2,0)","v":{"$error":"#N/A"}},null,0]
[0,0,0,0,0,0,0,0,0,0,0,{"$f":"VLOOKUP(B2583*100+C2583,氏名データ!$AC$2:$AJ$401,2,0)","v":{"$error":"#N/A"}},null,0]
[0,0,0,0,0,0,0,0,0,0,0,{"$f":"VLOOKUP(B2587*100+C2587,氏名データ!$AC$2:$AJ$401,2,0)","v":{"$error":"#N/A"}},null,0]
[0,0,0,0,0,0,0,0,0,0,0,{"$f":"VLOOKUP(B2588*100+C2588,氏名データ!$AC$2:$AJ$401,2,0)","v":{"$error":"#N/A"}},null,0]
[0,0,0,0,0,0,0,0,0,0,0,{"$f":"VLOOKUP(B2591*100+C2591,氏名データ!$AC$2:$AJ$401,2,0)","v":{"$error":"#N/A"}},null,0]
[0,0,0,0,0,0,0,0,0,0,0,{"$f":"VLOOKUP(B2594*100+C2594,氏名データ!$AC$2:$AJ$401,2,0)","v":{"$error":"#N/A"}},null,0]
[0,0,0,0,0,0,0,0,0,0,0,{"$f":"VLOOKUP(B2596*100+C2596,氏名データ!$AC$2:$AJ$401,2,0)","v":{"$error":"#N/A"}},null,0]
[0,0,0,0,0,0,0,0,0,0,0,{"$f":"VLOOKUP(B2597*100+C2597,氏名データ!$AC$2:$AJ$401,2,0)","v":{"$error":"#N/A"}},null,0]
[0,0,0,0,0,0,0,0,0,0,0,{"$f":"VLOOKUP(B2600*100+C2600,氏名データ!$AC$2:$AJ$401,2,0)","v":{"$error":"#N/A"}},null,0]
[0,0,0,0,0,0,0,0,0,0,0,{"$f":"VLOOKUP(B2601*100+C2601,氏名データ!$AC$2:$AJ$401,2,0)","v":{"$error":"#N/A"}},null,0]
[0,0,0,0,0,0,0,0,0,0,0,{"$f":"VLOOKUP(B2605*100+C2605,氏名データ!$AC$2:$AJ$401,2,0)","v":{"$error":"#N/A"}},null,0]
[0,0,0,0,0,0,0,0,0,0,0,{"$f":"VLOOKUP(B2606*100+C2606,氏名データ!$AC$2:$AJ$401,2,0)","v":{"$error":"#N/A"}},null,0]
[0,0,0,0,0,0,0,0,0,0,0,{"$f":"VLOOKUP(B2609*100+C2609,氏名データ!$AC$2:$AJ$401,2,0)","v":{"$error":"#N/A"}},null,0]
[0,0,0,0,0,0,0,0,0,0,0,{"$f":"VLOOKUP(B2612*100+C2612,氏名データ!$AC$2:$AJ$401,2,0)","v":{"$error":"#N/A"}},null,0]
[0,0,0,0,0,0,0,0,0,0,0,{"$f":"VLOOKUP(B2614*100+C2614,氏名データ!$AC$2:$AJ$401,2,0)","v":{"$error":"#N/A"}},null,0]
[0,0,0,0,0,0,0,0,0,0,0,{"$f":"VLOOKUP(B2615*100+C2615,氏名データ!$AC$2:$AJ$401,2,0)","v":{"$error":"#N/A"}},null,0]
[0,0,0,0,0,0,0,0,0,0,0,{"$f":"VLOOKUP(B2618*100+C2618,氏名データ!$AC$2:$AJ$401,2,0)","v":{"$error":"#N/A"}},null,0]
[0,0,0,0,0,0,0,0,0,0,0,{"$f":"VLOOKUP(B2620*100+C2620,氏名データ!$AC$2:$AJ$401,2,0)","v":{"$error":"#N/A"}},null,0]
[0,0,0,0,0,0,0,0,0,0,0,{"$f":"VLOOKUP(B2623*100+C2623,氏名データ!$AC$2:$AJ$401,2,0)","v":{"$error":"#N/A"}},null,0]
[0,0,0,0,0,0,0,0,0,0,0,{"$f":"VLOOKUP(B2624*100+C2624,氏名データ!$AC$2:$AJ$401,2,0)","v":{"$error":"#N/A"}},null,0]
[0,0,0,0,0,0,0,{"$f":"U2627","v":0},{"$f":"V2627","v":0},{"$f":"X2627","v":0},0,{"$f":"VLOOKUP(B2627*100+C2627,氏名データ!$AC$2:$AJ$401,2,0)","v":{"$error":"#N/A"}},null,0]
[0,0,0,0,0,0,0,0,0,0,0,{"$f":"VLOOKUP(B2630*100+C2630,氏名データ!$AC$2:$AJ$401,2,0)","v":{"$error":"#N/A"}},null,0]
[0,0,0,0,0,0,0,0,0,0,0,{"$f":"VLOOKUP(B2632*100+C2632,氏名データ!$AC$2:$AJ$401,2,0)","v":{"$error":"#N/A"}},null,0]
[0,0,0,0,0,0,0,0,0,0,0,{"$f":"VLOOKUP(B2633*100+C2633,氏名データ!$AC$2:$AJ$401,2,0)","v":{"$error":"#N/A"}},null,0]
[0,0,0,0,0,0,0,0,0,0,0,{"$f":"VLOOKUP(B2636*100+C2636,氏名データ!$AC$2:$AJ$401,2,0)","v":{"$error":"#N/A"}},null,0]
[0,0,0,0,0,0,0,0,0,0,0,{"$f":"VLOOKUP(B2638*100+C2638,氏名データ!$AC$2:$AJ$401,2,0)","v":{"$error":"#N/A"}},null,0]
[0,0,0,0,0,0,0,0,0,0,0,{"$f":"VLOOKUP(B2641*100+C2641,氏名データ!$AC$2:$AJ$401,2,0)","v":{"$error":"#N/A"}},null,0]
[0,0,0,0,0,0,0,0,0,0,0,{"$f":"VLOOKUP(B2642*100+C2642,氏名データ!$AC$2:$AJ$401,2,0)","v":{"$error":"#N/A"}},null,0]
[0,0,0,0,0,0,0,0,0,0,0,{"$f":"VLOOKUP(B2645*100+C2645,氏名データ!$AC$2:$AJ$401,2,0)","v":{"$error":"#N/A"}},null,0]
[0,0,0,0,0,0,0,0,0,0,0,{"$f":"VLOOKUP(B2648*100+C2648,氏名データ!$AC$2:$AJ$401,2,0)","v":{"$error":"#N/A"}},null,0]
[0,0,0,0,0,0,0,0,0,0,0,{"$f":"VLOOKUP(B2650*100+C2650,氏名データ!$AC$2:$AJ$401,2,0)","v":{"$error":"#N/A"}},null,0]
[0,0,0,0,0,0,0,0,0,0,0,{"$f":"VLOOKUP(B2651*100+C2651,氏名データ!$AC$2:$AJ$401,2,0)","v":{"$error":"#N/A"}},null,0]
[0,0,0,0,0,0,0,0,0,0,0,{"$f":"VLOOKUP(B2654*100+C2654,氏名データ!$AC$2:$AJ$401,2,0)","v":{"$error":"#N/A"}},null,0]
[0,0,0,0,0,0,0,0,0,0,0,{"$f":"VLOOKUP(B2656*100+C2656,氏名データ!$AC$2:$AJ$401,2,0)","v":{"$error":"#N/A"}},null,0]
[0,0,0,0,0,0,0,0,0,0,0,{"$f":"VLOOKUP(B2659*100+C2659,氏名データ!$AC$2:$AJ$401,2,0)","v":{"$error":"#N/A"}},null,0]
[0,0,0,0,0,0,0,0,0,0,0,{"$f":"VLOOKUP(B2660*100+C2660,氏名データ!$AC$2:$AJ$401,2,0)","v":{"$error":"#N/A"}},null,0]
[0,0,0,0,0,0,0,0,0,0,0,{"$f":"VLOOKUP(B2663*100+C2663,氏名データ!$AC$2:$AJ$401,2,0)","v":{"$error":"#N/A"}},null,0]
[0,0,0,0,0,0,0,0,0,0,0,{"$f":"VLOOKUP(B2666*100+C2666,氏名データ!$AC$2:$AJ$401,2,0)","v":{"$error":"#N/A"}},null,0]
[0,0,0,0,0,0,0,0,0,0,0,{"$f":"VLOOKUP(B2668*100+C2668,氏名データ!$AC$2:$AJ$401,2,0)","v":{"$error":"#N/A"}},null,0]
[0,0,0,0,0,0,0,0,0,0,0,{"$f":"VLOOKUP(B2669*100+C2669,氏名データ!$AC$2:$AJ$401,2,0)","v":{"$error":"#N/A"}},null,0]
[0,0,0,0,0,0,0,0,0,0,0,{"$f":"VLOOKUP(B2672*100+C2672,氏名データ!$AC$2:$AJ$401,2,0)","v":{"$error":"#N/A"}},null,0]
[0,0,0,0,0,0,0,0,0,0,0,{"$f":"VLOOKUP(B2674*100+C2674,氏名データ!$AC$2:$AJ$401,2,0)","v":{"$error":"#N/A"}},null,0]
[0,0,0,0,0,0,0,0,0,0,0,{"$f":"VLOOKUP(B2677*100+C2677,氏名データ!$AC$2:$AJ$401,2,0)","v":{"$error":"#N/A"}},null,0]
[0,0,0,0,0,0,0,0,0,0,0,{"$f":"VLOOKUP(B2678*100+C2678,氏名データ!$AC$2:$AJ$401,2,0)","v":{"$error":"#N/A"}},null,0]
[0,0,0,0,0,0,0,0,0,0,0,{"$f":"VLOOKUP(B2681*100+C2681,氏名データ!$AC$2:$AJ$401,2,0)","v":{"$error":"#N/A"}},null,0]
[0,0,0,0,0,0,0,0,0,0,0,{"$f":"VLOOKUP(B2684*100+C2684,氏名データ!$AC$2:$AJ$401,2,0)","v":{"$error":"#N/A"}},null,0]
[0,0,0,0,0,0,0,0,0,0,0,{"$f":"VLOOKUP(B2686*100+C2686,氏名データ!$AC$2:$AJ$401,2,0)","v":{"$error":"#N/A"}},null,0]
[0,0,0,0,0,0,0,0,0,0,0,{"$f":"VLOOKUP(B2687*100+C2687,氏名データ!$AC$2:$AJ$401,2,0)","v":{"$error":"#N/A"}},null,0]
[0,0,0,0,0,0,0,0,0,0,0,{"$f":"VLOOKUP(B2690*100+C2690,氏名データ!$AC$2:$AJ$401,2,0)","v":{"$error":"#N/A"}},null,0]
[0,0,0,0,0,0,0,0,0,0,0,{"$f":"VLOOKUP(B2692*100+C2692,氏名データ!$AC$2:$AJ$401,2,0)","v":{"$error":"#N/A"}},null,0]
[0,0,0,0,0,0,0,0,0,0,0,{"$f":"VLOOKUP(B2695*100+C2695,氏名データ!$AC$2:$AJ$401,2,0)","v":{"$error":"#N/A"}},null,0]
[0,0,0,0,0,0,0,0,0,0,0,{"$f":"VLOOKUP(B2696*100+C2696,氏名データ!$AC$2:$AJ$401,2,0)","v":{"$error":"#N/A"}},null,0]
[0,0,0,0,0,0,0,0,0,0,0,{"$f":"VLOOKUP(B2699*100+C2699,氏名データ!$AC$2:$AJ$401,2,0)","v":{"$error":"#N/A"}},null,0]
[0,0,0,0,0,0,0,0,0,0,0,{"$f":"VLOOKUP(B2702*100+C2702,氏名データ!$AC$2:$AJ$401,2,0)","v":{"$error":"#N/A"}},null,0]
[0,0,0,0,0,0,0,0,0,0,0,{"$f":"VLOOKUP(B2704*100+C2704,氏名データ!$AC$2:$AJ$401,2,0)","v":{"$error":"#N/A"}},null,0]
[0,0,0,0,0,0,0,0,0,0,0,{"$f":"VLOOKUP(B2705*100+C2705,氏名データ!$AC$2:$AJ$401,2,0)","v":{"$error":"#N/A"}},null,0]
[0,0,0,0,0,0,0,0,0,0,0,{"$f":"VLOOKUP(B2708*100+C2708,氏名データ!$AC$2:$AJ$401,2,0)","v":{"$error":"#N/A"}},null,0]
[0,0,0,0,0,0,0,0,0,0,0,{"$f":"VLOOKUP(B2710*100+C2710,氏名データ!$AC$2:$AJ$401,2,0)","v":{"$error":"#N/A"}},null,0]
[{"$f":"P2713","v":0},{"$f":"ROUNDDOWN(A2713/10000,0)","v":0},{"$f":"ROUNDDOWN((A2713-B2713*10000)/100,0)","v":0},{"$f":"Q2713","v":0},{"$f":"R2713","v":0},{"$f":"S2713","v":0},{"$f":"T2713","v":0},0,0,0,{"$f":"Y2713","v":0},{"$f":"VLOOKUP(B2713*100+C2713,氏名データ!$AC$2:$AJ$401,2,0)","v":{"$error":"#N/A"}},null,{"$f":"W2713","v":0}]
[0,0,0,0,0,0,0,0,0,0,0,{"$f":"VLOOKUP(B2714*100+C2714,氏名データ!$AC$2:$AJ$401,2,0)","v":{"$error":"#N/A"}},null,0]
[0,0,0,0,0,0,0,0,0,0,0,{"$f":"VLOOKUP(B2717*100+C2717,氏名データ!$AC$2:$AJ$401,2,0)","v":{"$error":"#N/A"}},null,0]
[0,0,0,0,0,0,0,0,0,0,0,{"$f":"VLOOKUP(B2720*100+C2720,氏名データ!$AC$2:$AJ$401,2,0)","v":{"$error":"#N/A"}},null,0]
[0,0,0,0,0,0,0,0,0,0,0,{"$f":"VLOOKUP(B2722*100+C2722,氏名データ!$AC$2:$AJ$401,2,0)","v":{"$error":"#N/A"}},null,0]
[0,0,0,0,0,0,0,0,0,0,0,{"$f":"VLOOKUP(B2723*100+C2723,氏名データ!$AC$2:$AJ$401,2,0)","v":{"$error":"#N/A"}},null,0]
[0,0,0,0,0,0,0,0,0,0,0,{"$f":"VLOOKUP(B2726*100+C2726,氏名データ!$AC$2:$AJ$401,2,0)","v":{"$error":"#N/A"}},null,0]
[0,0,0,0,0,0,0,0,0,0,0,{"$f":"VLOOKUP(B2728*100+C2728,氏名データ!$AC$2:$AJ$401,2,0)","v":{"$error":"#N/A"}},null,0]
[0,0,0,0,0,0,0,0,0,0,0,{"$f":"VLOOKUP(B2731*100+C2731,氏名データ!$AC$2:$AJ$401,2,0)","v":{"$error":"#N/A"}},null,0]
[0,0,0,0,0,0,0,0,0,0,0,{"$f":"VLOOKUP(B2732*100+C2732,氏名データ!$AC$2:$AJ$401,2,0)","v":{"$error":"#N/A"}},null,0]
[0,0,0,0,0,0,0,0,0,0,0,{"$f":"VLOOKUP(B2735*100+C2735,氏名データ!$AC$2:$AJ$401,2,0)","v":{"$error":"#N/A"}},null,0]
[0,0,0,0,0,0,0,0,0,0,0,{"$f":"VLOOKUP(B2738*100+C2738,氏名データ!$AC$2:$AJ$401,2,0)","v":{"$error":"#N/A"}},null,0]
[{"$f":"P2740","v":0},{"$f":"ROUNDDOWN(A2740/10000,0)","v":0},{"$f":"ROUNDDOWN((A2740-B2740*10000)/100,0)","v":0},{"$f":"Q2740","v":0},{"$f":"R2740","v":0},{"$f":"S2740","v":0},{"$f":"T2740","v":0},0,0,0,{"$f":"Y2740","v":0},{"$f":"VLOOKUP(B2740*100+C2740,氏名データ!$AC$2:$AJ$401,2,0)","v":{"$error":"#N/A"}},null,{"$f":"W2740","v":0}]
[0,0,0,0,0,0,0,0,0,0,0,{"$f":"VLOOKUP(B2741*100+C2741,氏名データ!$AC$2:$AJ$401,2,0)","v":{"$error":"#N/A"}},null,0]
[0,0,0,0,0,0,0,0,0,0,0,{"$f":"VLOOKUP(B2744*100+C2744,氏名データ!$AC$2:$AJ$401,2,0)","v":{"$error":"#N/A"}},null,0]
[0,0,0,0,0,0,0,0,0,0,0,{"$f":"VLOOKUP(B2746*100+C2746,氏名データ!$AC$2:$AJ$401,2,0)","v":{"$error":"#N/A"}},null,0]
[0,0,0,0,0,0,0,0,0,0,0,{"$f":"VLOOKUP(B2749*100+C2749,氏名データ!$AC$2:$AJ$401,2,0)","v":{"$error":"#N/A"}},null,0]
[0,0,0,0,0,0,0,0,0,0,0,{"$f":"VLOOKUP(B2750*100+C2750,氏名データ!$AC$2:$AJ$401,2,0)","v":{"$error":"#N/A"}},null,0]
[0,0,0,0,0,0,0,0,0,0,0,{"$f":"VLOOKUP(B2753*100+C2753,氏名データ!$AC$2:$AJ$401,2,0)","v":{"$error":"#N/A"}},null,0]
[0,0,0,0,0,0,0,0,0,0,0,{"$f":"VLOOKUP(B2756*100+C2756,氏名データ!$AC$2:$AJ$401,2,0)","v":{"$error":"#N/A"}},null,0]
[0,0,0,0,0,0,0,0,0,0,0,{"$f":"VLOOKUP(B2758*100+C2758,氏名データ!$AC$2:$AJ$401,2,0)","v":{"$error":"#N/A"}},null,0]
[0,0,0,0,0,0,0,0,0,0,0,{"$f":"VLOOKUP(B2759*100+C2759,氏名データ!$AC$2:$AJ$401,2,0)","v":{"$error":"#N/A"}},null,0]
[0,0,0,0,0,0,0,0,0,0,0,{"$f":"VLOOKUP(B2762*100+C2762,氏名データ!$AC$2:$AJ$401,2,0)","v":{"$error":"#N/A"}},null,0]
[0,0,0,0,0,0,0,0,0,0,0,{"$f":"VLOOKUP(B2764*100+C2764,氏名データ!$AC$2:$AJ$401,2,0)","v":{"$error":"#N/A"}},null,0]
[0,0,0,0,0,0,0,0,0,0,0,{"$f":"VLOOKUP(B2767*100+C2767,氏名データ!$AC$2:$AJ$401,2,0)","v":{"$error":"#N/A"}},null,0]
[0,0,0,0,0,0,0,0,0,0,0,{"$f":"VLOOKUP(B2768*100+C2768,氏名データ!$AC$2:$AJ$401,2,0)","v":{"$error":"#N/A"}},null,0]
[0,0,0,0,0,0,0,0,0,0,0,{"$f":"VLOOKUP(B2771*100+C2771,氏名データ!$AC$2:$AJ$401,2,0)","v":{"$error":"#N/A"}},null,0]
[0,0,0,0,0,0,0,0,0,0,0,{"$f":"VLOOKUP(B2772*100+C2772,氏名データ!$AC$2:$AJ$401,2,0)","v":{"$error":"#N/A"}},null,0]
[0,0,0,0,0,0,0,0,0,0,0,{"$f":"VLOOKUP(B2776*100+C2776,氏名データ!$AC$2:$AJ$401,2,0)","v":{"$error":"#N/A"}},null,0]
[0,0,0,0,0,0,0,0,0,0,0,{"$f":"VLOOKUP(B2777*100+C2777,氏名データ!$AC$2:$AJ$401,2,0)","v":{"$error":"#N/A"}},null,0]
[0,0,0,0,0,0,0,0,0,0,0,{"$f":"VLOOKUP(B2780*100+C2780,氏名データ!$AC$2:$AJ$401,2,0)","v":{"$error":"#N/A"}},null,0]
[0,0,0,0,0,0,0,0,0,0,0,{"$f":"VLOOKUP(B2782*100+C2782,氏名データ!$AC$2:$AJ$401,2,0)","v":{"$error":"#N/A"}},null,0]
[0,0,0,0,0,0,0,0,0,0,0,{"$f":"VLOOKUP(B2785*100+C2785,氏名データ!$AC$2:$AJ$401,2,0)","v":{"$error":"#N/A"}},null,0]
[0,0,0,0,0,0,0,0,0,0,0,{"$f":"VLOOKUP(B2786*100+C2786,氏名データ!$AC$2:$AJ$401,2,0)","v":{"$error":"#N/A"}},null,0]
[0,0,0,0,0,0,0,0,0,0,0,{"$f":"VLOOKUP(B2789*100+C2789,氏名データ!$AC$2:$AJ$401,2,0)","v":{"$error":"#N/A"}},null,0]
[0,0,0,0,0,0,0,0,0,0,0,{"$f":"VLOOKUP(B2790*100+C2790,氏名データ!$AC$2:$AJ$401,2,0)","v":{"$error":"#N/A"}},null,0]
[0,0,0,0,0,0,0,0,0,0,0,{"$f":"VLOOKUP(B2794*100+C2794,氏名データ!$AC$2:$AJ$401,2,0)","v":{"$error":"#N/A"}},null,0]
[0,0,0,0,0,0,0,0,0,0,0,{"$f":"VLOOKUP(B2795*100+C2795,氏名データ!$AC$2:$AJ$401,2,0)","v":{"$error":"#N/A"}},null,0]
[0,0,0,0,0,0,0,0,0,0,0,{"$f":"VLOOKUP(B2798*100+C2798,氏名データ!$AC$2:$AJ$401,2,0)","v":{"$error":"#N/A"}},null,0]
[0,0,0,0,0,0,0,0,0,0,0,{"$f":"VLOOKUP(B2800*100+C2800,氏名データ!$AC$2:$AJ$401,2,0)","v":{"$error":"#N/A"}},null,0]
[0,0,0,0,0,0,0,0,0,0,0,{"$f":"VLOOKUP(B2803*100+C2803,氏名データ!$AC$2:$AJ$401,2,0)","v":{"$error":"#N/A"}},null,0]
[0,0,0,0,0,0,0,0,0,0,0,{"$f":"VLOOKUP(B2804*100+C2804,氏名データ!$AC$2:$AJ$401,2,0)","v":{"$error":"#N/A"}},null,0]
[0,0,0,0,0,0,0,0,0,0,0,{"$f":"VLOOKUP(B2807*100+C2807,氏名データ!$AC$2:$AJ$401,2,0)","v":{"$error":"#N/A"}},null,0]
[0,0,0,0,0,0,0,0,0,0,0,{"$f":"VLOOKUP(B2808*100+C2808,氏名データ!$AC$2:$AJ$401,2,0)","v":{"$error":"#N/A"}},null,0]
[0,0,0,0,0,0,0,0,0,0,0,{"$f":"VLOOKUP(B2812*100+C2812,氏名データ!$AC$2:$AJ$401,2,0)","v":{"$error":"#N/A"}},null,0]
[0,0,0,0,0,0,0,0,0,0,0,{"$f":"VLOOKUP(B2813*100+C2813,氏名データ!$AC$2:$AJ$401,2,0)","v":{"$error":"#N/A"}},null,0]
[0,0,0,0,0,0,0,0,0,0,0,{"$f":"VLOOKUP(B2816*100+C2816,氏名データ!$AC$2:$AJ$401,2,0)","v":{"$error":"#N/A"}},null,0]
[0,0,0,0,0,0,0,0,0,0,0,{"$f":"VLOOKUP(B2818*100+C2818,氏名データ!$AC$2:$AJ$401,2,0)","v":{"$error":"#N/A"}},null,0]
[0,0,0,0,0,0,0,0,0,0,0,{"$f":"VLOOKUP(B2821*100+C2821,氏名データ!$AC$2:$AJ$401,2,0)","v":{"$error":"#N/A"}},null,0]
[0,0,0,0,0,0,0,0,0,0,0,{"$f":"VLOOKUP(B2822*100+C2822,氏名データ!$AC$2:$AJ$401,2,0)","v":{"$error":"#N/A"}},null,0]
[0,0,0,0,0,0,0,0,0,0,0,{"$f":"VLOOKUP(B2825*100+C2825,氏名データ!$AC$2:$AJ$401,2,0)","v":{"$error":"#N/A"}},null,0]
[0,0,0,0,0,0,0,0,0,0,0,{"$f":"VLOOKUP(B2826*100+C2826,氏名データ!$AC$2:$AJ$401,2,0)","v":{"$error":"#N/A"}},null,0]
[0,0,0,0,0,0,0,0,0,0,0,{"$f":"VLOOKUP(B2830*100+C2830,氏名データ!$AC$2:$AJ$401,2,0)","v":{"$error":"#N/A"}},null,0]
[0,0,0,0,0,0,0,0,0,0,0,{"$f":"VLOOKUP(B2831*100+C2831,氏名データ!$AC$2:$AJ$401,2,0)","v":{"$error":"#N/A"}},null,0]
[0,0,0,0,0,0,0,0,0,0,0,{"$f":"VLOOKUP(B2834*100+C2834,氏名データ!$AC$2:$AJ$401,2,0)","v":{"$error":"#N/A"}},null,0]
[0,0,0,0,0,0,0,0,0,0,0,{"$f":"VLOOKUP(B2836*100+C2836,氏名データ!$AC$2:$AJ$401,2,0)","v":{"$error":"#N/A"}},null,0]
[0,0,0,0,0,0,0,0,0,0,0,{"$f":"VLOOKUP(B2839*100+C2839,氏名データ!$AC$2:$AJ$401,2,0)","v":{"$error":"#N/A"}},null,0]
[0,0,0,0,0,0,0,0,0,0,0,{"$f":"VLOOKUP(B2840*100+C2840,氏名データ!$AC$2:$AJ$401,2,0)","v":{"$error":"#N/A"}},null,0]
[0,0,0,0,0,0,0,0,0,0,0,{"$f":"VLOOKUP(B2843*100+C2843,氏名データ!$AC$2:$AJ$401,2,0)","v":{"$error":"#N/A"}},null,0]
[0,0,0,0,0,0,0,0,0,0,0,{"$f":"VLOOKUP(B2844*100+C2844,氏名データ!$AC$2:$AJ$401,2,0)","v":{"$error":"#N/A"}},null,0]
[0,0,0,0,0,0,0,0,0,0,0,{"$f":"VLOOKUP(B2848*100+C2848,氏名データ!$AC$2:$AJ$401,2,0)","v":{"$error":"#N/A"}},null,0]
[0,0,0,0,0,0,0,0,0,0,0,{"$f":"VLOOKUP(B2849*100+C2849,氏名データ!$AC$2:$AJ$401,2,0)","v":{"$error":"#N/A"}},null,0]
[{"$f":"P2852","v":0},{"$f":"ROUNDDOWN(A2852/10000,0)","v":0},{"$f":"ROUNDDOWN((A2852-B2852*10000)/100,0)","v":0},{"$f":"Q2852","v":0},{"$f":"R2852","v":0},{"$f":"S2852","v":0},{"$f":"T2852","v":0},0,0,0,{"$f":"Y2852","v":0},{"$f":"VLOOKUP(B2852*100+C2852,氏名データ!$AC$2:$AJ$401,2,0)","v":{"$error":"#N/A"}},null,{"$f":"W2852","v":0}]
[0,0,0,0,0,0,0,0,0,0,0,{"$f":"VLOOKUP(B2854*100+C2854,氏名データ!$AC$2:$AJ$401,2,0)","v":{"$error":"#N/A"}},null,0]
[0,0,0,0,0,0,0,0,0,0,0,{"$f":"VLOOKUP(B2857*100+C2857,氏名データ!$AC$2:$AJ$401,2,0)","v":{"$error":"#N/A"}},null,0]
[0,0,0,0,0,0,0,0,0,0,0,{"$f":"VLOOKUP(B2858*100+C2858,氏名データ!$AC$2:$AJ$401,2,0)","v":{"$error":"#N/A"}},null,0]
[0,0,0,0,0,0,0,0,0,0,0,{"$f":"VLOOKUP(B2861*100+C2861,氏名データ!$AC$2:$AJ$401,2,0)","v":{"$error":"#N/A"}},null,0]
[0,0,0,0,0,0,0,0,0,0,0,{"$f":"VLOOKUP(B2862*100+C2862,氏名データ!$AC$2:$AJ$401,2,0)","v":{"$error":"#N/A"}},null,0]
[0,0,0,0,0,0,0,0,0,0,0,{"$f":"VLOOKUP(B2866*100+C2866,氏名データ!$AC$2:$AJ$401,2,0)","v":{"$error":"#N/A"}},null,0]
[0,0,0,0,0,0,0,0,0,0,0,{"$f":"VLOOKUP(B2867*100+C2867,氏名データ!$AC$2:$AJ$401,2,0)","v":{"$error":"#N/A"}},null,0]
[0,0,0,0,0,0,0,0,0,0,0,{"$f":"VLOOKUP(B2870*100+C2870,氏名データ!$AC$2:$AJ$401,2,0)","v":{"$error":"#N/A"}},null,0]
[0,0,0,0,0,0,0,0,0,0,0,{"$f":"VLOOKUP(B2872*100+C2872,氏名データ!$AC$2:$AJ$401,2,0)","v":{"$error":"#N/A"}},null,0]
[0,0,0,0,0,0,0,0,0,0,0,{"$f":"VLOOKUP(B2875*100+C2875,氏名データ!$AC$2:$AJ$401,2,0)","v":{"$error":"#N/A"}},null,0]
[0,0,0,0,0,0,0,0,0,0,0,{"$f":"VLOOKUP(B2876*100+C2876,氏名データ!$AC$2:$AJ$401,2,0)","v":{"$error":"#N/A"}},null,0]
[0,0,0,0,0,0,0,0,0,0,0,{"$f":"VLOOKUP(B2879*100+C2879,氏名データ!$AC$2:$AJ$401,2,0)","v":{"$error":"#N/A"}},null,0]
[0,0,0,0,0,0,0,0,0,0,0,{"$f":"VLOOKUP(B2880*100+C2880,氏名データ!$AC$2:$AJ$401,2,0)","v":{"$error":"#N/A"}},null,0]
[0,0,0,0,0,0,0,0,0,0,0,{"$f":"VLOOKUP(B2884*100+C2884,氏名データ!$AC$2:$AJ$401,2,0)","v":{"$error":"#N/A"}},null,0]
[0,0,0,0,0,0,0,0,0,0,0,{"$f":"VLOOKUP(B2885*100+C2885,氏名データ!$AC$2:$AJ$401,2,0)","v":{"$error":"#N/A"}},null,0]
[0,0,0,0,0,0,0,0,0,0,0,{"$f":"VLOOKUP(B2888*100+C2888,氏名データ!$AC$2:$AJ$401,2,0)","v":{"$error":"#N/A"}},null,0]
[0,0,0,0,0,0,0,0,0,0,0,{"$f":"VLOOKUP(B2890*100+C2890,氏名データ!$AC$2:$AJ$401,2,0)","v":{"$error":"#N/A"}},null,0]
[0,0,0,0,0,0,0,0,0,0,0,{"$f":"VLOOKUP(B2893*100+C2893,氏名データ!$AC$2:$AJ$401,2,0)","v":{"$error":"#N/A"}},null,0]
[0,0,0,0,0,0,0,0,0,0,0,{"$f":"VLOOKUP(B2894*100+C2894,氏名データ!$AC$2:$AJ$401,2,0)","v":{"$error":"#N/A"}},null,0]
[0,0,0,0,0,0,0,0,0,0,0,{"$f":"VLOOKUP(B2897*100+C2897,氏名データ!$AC$2:$AJ$401,2,0)","v":{"$error":"#N/A"}},null,0]
[0,0,0,0,0,0,0,0,0,0,0,{"$f":"VLOOKUP(B2898*100+C2898,氏名データ!$AC$2:$AJ$401,2,0)","v":{"$error":"#N/A"}},null,0]
[0,0,0,0,0,0,0,0,0,0,0,{"$f":"VLOOKUP(B2902*100+C2902,氏名データ!$AC$2:$AJ$401,2,0)","v":{"$error":"#N/A"}},null,0]
[0,0,0,0,0,0,0,0,0,0,0,{"$f":"VLOOKUP(B2903*100+C2903,氏名データ!$AC$2:$AJ$401,2,0)","v":{"$error":"#N/A"}},null,0]
[0,0,0,0,0,0,0,0,0,0,0,{"$f":"VLOOKUP(B2906*100+C2906,氏名データ!$AC$2:$AJ$401,2,0)","v":{"$error":"#N/A"}},null,0]
[0,0,0,0,0,0,0,0,0,0,0,{"$f":"VLOOKUP(B2908*100+C2908,氏名データ!$AC$2:$AJ$401,2,0)","v":{"$error":"#N/A"}},null,0]
[0,0,0,0,0,0,0,0,0,0,0,{"$f":"VLOOKUP(B2911*100+C2911,氏名データ!$AC$2:$AJ$401,2,0)","v":{"$error":"#N/A"}},null,0]
[0,0,0,0,0,0,0,0,0,0,0,{"$f":"VLOOKUP(B2912*100+C2912,氏名データ!$AC$2:$AJ$401,2,0)","v":{"$error":"#N/A"}},null,0]
[0,0,0,0,0,0,0,0,0,0,0,{"$f":"VLOOKUP(B2915*100+C2915,氏名データ!$AC$2:$AJ$401,2,0)","v":{"$error":"#N/A"}},null,0]
[{"$f":"P2916","v":0},{"$f":"ROUNDDOWN(A2916/10000,0)","v":0},{"$f":"ROUNDDOWN((A2916-B2916*10000)/100,0)","v":0},{"$f":"Q2916","v":0},{"$f":"R2916","v":0},{"$f":"S2916","v":0},{"$f":"T2916","v":0},0,0,0,{"$f":"Y2916","v":0},{"$f":"VLOOKUP(B2916*100+C2916,氏名データ!$AC$2:$AJ$401,2,0)","v":{"$error":"#N/A"}},null,{"$f":"W2916","v":0}]
[0,0,0,0,0,0,0,0,0,0,0,{"$f":"VLOOKUP(B2920*100+C2920,氏名データ!$AC$2:$AJ$401,2,0)","v":{"$error":"#N/A"}},null,0]
[0,0,0,0,0,0,0,0,0,0,0,{"$f":"VLOOKUP(B2921*100+C2921,氏名データ!$AC$2:$AJ$401,2,0)","v":{"$error":"#N/A"}},null,0]
[0,0,0,0,0,0,0,0,0,0,0,{"$f":"VLOOKUP(B2924*100+C2924,氏名データ!$AC$2:$AJ$401,2,0)","v":{"$error":"#N/A"}},null,0]
[0,0,0,0,0,0,0,0,0,0,0,{"$f":"VLOOKUP(B2926*100+C2926,氏名データ!$AC$2:$AJ$401,2,0)","v":{"$error":"#N/A"}},null,0]
[0,0,0,0,0,0,0,0,0,0,0,{"$f":"VLOOKUP(B2929*100+C2929,氏名データ!$AC$2:$AJ$401,2,0)","v":{"$error":"#N/A"}},null,0]
[0,0,0,0,0,0,0,0,0,0,0,{"$f":"VLOOKUP(B2930*100+C2930,氏名データ!$AC$2:$AJ$401,2,0)","v":{"$error":"#N/A"}},null,0]
[0,0,0,0,0,0,0,0,0,0,0,{"$f":"VLOOKUP(B2933*100+C2933,氏名データ!$AC$2:$AJ$401,2,0)","v":{"$error":"#N/A"}},null,0]
[0,0,0,0,0,0,0,0,0,0,0,{"$f":"VLOOKUP(B2934*100+C2934,氏名データ!$AC$2:$AJ$401,2,0)","v":{"$error":"#N/A"}},null,0]
[0,0,0,0,0,0,0,0,0,0,0,{"$f":"VLOOKUP(B2938*100+C2938,氏名データ!$AC$2:$AJ$401,2,0)","v":{"$error":"#N/A"}},null,0]
[0,0,0,0,0,0,0,0,0,0,0,{"$f":"VLOOKUP(B2939*100+C2939,氏名データ!$AC$2:$AJ$401,2,0)","v":{"$error":"#N/A"}},null,0]
[0,0,0,0,0,0,0,0,0,0,0,{"$f":"VLOOKUP(B2942*100+C2942,氏名データ!$AC$2:$AJ$401,2,0)","v":{"$error":"#N/A"}},null,0]
[0,0,0,0,0,0,0,0,0,0,0,{"$f":"VLOOKUP(B2945*100+C2945,氏名データ!$AC$2:$AJ$401,2,0)","v":{"$error":"#N/A"}},null,0]
[0,0,0,0,0,0,0,{"$f":"U2947","v":0},{"$f":"V2947","v":0},{"$f":"X2947","v":0},0,{"$f":"VLOOKUP(B2947*100+C2947,氏名データ!$AC$2:$AJ$401,2,0)","v":{"$error":"#N/A"}},null,0]
[0,0,0,0,0,0,0,0,0,0,0,{"$f":"VLOOKUP(B2948*100+C2948,氏名データ!$AC$2:$AJ$401,2,0)","v":{"$error":"#N/A"}},null,0]
[0,0,0,0,0,0,0,0,0,0,0,{"$f":"VLOOKUP(B2951*100+C2951,氏名データ!$AC$2:$AJ$401,2,0)","v":{"$error":"#N/A"}},null,0]
[0,0,0,0,0,0,0,0,0,0,0,{"$f":"VLOOKUP(B2952*100+C2952,氏名データ!$AC$2:$AJ$401,2,0)","v":{"$error":"#N/A"}},null,0]
[0,0,0,0,0,0,0,0,0,0,0,{"$f":"VLOOKUP(B2956*100+C2956,氏名データ!$AC$2:$AJ$401,2,0)","v":{"$error":"#N/A"}},null,0]
[0,0,0,0,0,0,0,0,0,0,0,{"$f":"VLOOKUP(B2957*100+C2957,氏名データ!$AC$2:$AJ$401,2,0)","v":{"$error":"#N/A"}},null,0]
[0,0,0,0,0,0,0,0,0,0,0,{"$f":"VLOOKUP(B2960*100+C2960,氏名データ!$AC$2:$AJ$401,2,0)","v":{"$error":"#N/A"}},null,0]
[0,0,0,0,0,0,0,0,0,0,0,{"$f":"VLOOKUP(B2963*100+C2963,氏名データ!$AC$2:$AJ$401,2,0)","v":{"$error":"#N/A"}},null,0]
[0,0,0,0,0,0,0,0,0,0,0,{"$f":"VLOOKUP(B2965*100+C2965,氏名データ!$AC$2:$AJ$401,2,0)","v":{"$error":"#N/A"}},null,0]
[0,0,0,0,0,0,0,0,0,0,0,{"$f":"VLOOKUP(B2966*100+C2966,氏名データ!$AC$2:$AJ$401,2,0)","v":{"$error":"#N/A"}},null,0]
[0,0,0,0,0,0,0,0,0,0,0,{"$f":"VLOOKUP(B2969*100+C2969,氏名データ!$AC$2:$AJ$401,2,0)","v":{"$error":"#N/A"}},null,0]
[0,0,0,0,0,0,0,0,0,0,0,{"$f":"VLOOKUP(B2970*100+C2970,氏名データ!$AC$2:$AJ$401,2,0)","v":{"$error":"#N/A"}},null,0]
[0,0,0,0,0,0,0,0,0,0,0,{"$f":"VLOOKUP(B2974*100+C2974,氏名データ!$AC$2:$AJ$401,2,0)","v":{"$error":"#N/A"}},null,0]
[0,0,0,0,0,0,0,0,0,0,0,{"$f":"VLOOKUP(B2975*100+C2975,氏名データ!$AC$2:$AJ$401,2,0)","v":{"$error":"#N/A"}},null,0]
[0,0,0,0,0,0,0,0,0,0,0,{"$f":"VLOOKUP(B2978*100+C2978,氏名データ!$AC$2:$AJ$401,2,0)","v":{"$error":"#N/A"}},null,0]
[0,0,0,0,0,0,0,0,0,0,0,{"$f":"VLOOKUP(B2981*100+C2981,氏名データ!$AC$2:$AJ$401,2,0)","v":{"$error":"#N/A"}},null,0]
[0,0,0,0,0,0,0,0,0,0,0,{"$f":"VLOOKUP(B2983*100+C2983,氏名データ!$AC$2:$AJ$401,2,0)","v":{"$error":"#N/A"}},null,0]
[0,0,0,0,0,0,0,0,0,0,0,{"$f":"VLOOKUP(B2984*100+C2984,氏名データ!$AC$2:$AJ$401,2,0)","v":{"$error":"#N/A"}},null,0]
[0,0,0,0,0,0,0,0,0,0,0,{"$f":"VLOOKUP(B2987*100+C2987,氏名データ!$AC$2:$AJ$401,2,0)","v":{"$error":"#N/A"}},null,0]
[0,0,0,0,0,0,0,0,0,0,0,{"$f":"VLOOKUP(B2988*100+C2988,氏名データ!$AC$2:$AJ$401,2,0)","v":{"$error":"#N/A"}},null,0]
[0,0,0,0,0,0,0,0,0,0,0,{"$f":"VLOOKUP(B2992*100+C2992,氏名データ!$AC$2:$AJ$401,2,0)","v":{"$error":"#N/A"}},null,0]
[0,0,0,0,0,0,0,0,0,0,0,{"$f":"VLOOKUP(B2993*100+C2993,氏名データ!$AC$2:$AJ$401,2,0)","v":{"$error":"#N/A"}},null,0]
[0,0,0,0,0,0,0,0,0,0,0,{"$f":"VLOOKUP(B2996*100+C2996,氏名データ!$AC$2:$AJ$401,2,0)","v":{"$error":"#N/A"}},null,0]
[0,0,0,0,0,0,0,0,0,0,0,{"$f":"VLOOKUP(B2999*100+C2999,氏名データ!$AC$2:$AJ$401,2,0)","v":{"$error":"#N/A"}},null,0]
[{"$f":"P3001","v":0},{"$f":"ROUNDDOWN(A3001/10000,0)","v":0},{"$f":"ROUNDDOWN((A3001-B3001*10000)/100,0)","v":0},{"$f":"Q3001","v":0},{"$f":"R3001","v":0},{"$f":"S3001","v":0},{"$f":"T3001","v":0},0,0,0,{"$f":"Y3001","v":0},{"$f":"VLOOKUP(B3001*100+C3001,氏名データ!$AC$2:$AJ$401,2,0)","v":{"$error":"#N/A"}},null,{"$f":"W3001","v":0}]
[0,0,0,0,0,0,0,0,0,0,0,{"$f":"VLOOKUP(B3002*100+C3002,氏名データ!$AC$2:$AJ$401,2,0)","v":{"$error":"#N/A"}},null,0]
[0,0,0,0,0,0,0,0,0,0,0,{"$f":"VLOOKUP(B3005*100+C3005,氏名データ!$AC$2:$AJ$401,2,0)","v":{"$error":"#N/A"}},null,0]
[0,0,0,0,0,0,0,0,0,0,0,{"$f":"VLOOKUP(B3006*100+C3006,氏名データ!$AC$2:$AJ$401,2,0)","v":{"$error":"#N/A"}},null,0]
[0,0,0,0,0,0,0,0,0,0,0,{"$f":"VLOOKUP(B3010*100+C3010,氏名データ!$AC$2:$AJ$401,2,0)","v":{"$error":"#N/A"}},null,0]
[0,0,0,0,0,0,0,{"$f":"U3011","v":0},{"$f":"V3011","v":0},{"$f":"X3011","v":0},0,{"$f":"VLOOKUP(B3011*100+C3011,氏名データ!$AC$2:$AJ$401,2,0)","v":{"$error":"#N/A"}},null,0]
[0,0,0,0,0,0,0,0,0,0,0,{"$f":"VLOOKUP(B3014*100+C3014,氏名データ!$AC$2:$AJ$401,2,0)","v":{"$error":"#N/A"}},null,0]
[0,0,0,0,0,0,0,0,0,0,0,{"$f":"VLOOKUP(B3017*100+C3017,氏名データ!$AC$2:$AJ$401,2,0)","v":{"$error":"#N/A"}},null,0]
[0,0,0,0,0,0,0,0,0,0,0,{"$f":"VLOOKUP(B3019*100+C3019,氏名データ!$AC$2:$AJ$401,2,0)","v":{"$error":"#N/A"}},null,0]
[0,0,0,0,0,0,0,0,0,0,0,{"$f":"VLOOKUP(B3020*100+C3020,氏名データ!$AC$2:$AJ$401,2,0)","v":{"$error":"#N/A"}},null,0]
[0,0,0,0,0,0,0,0,0,0,0,{"$f":"VLOOKUP(B3023*100+C3023,氏名データ!$AC$2:$AJ$401,2,0)","v":{"$error":"#N/A"}},null,0]
[0,0,0,0,0,0,0,0,0,0,0,{"$f":"VLOOKUP(B3024*100+C3024,氏名データ!$AC$2:$AJ$401,2,0)","v":{"$error":"#N/A"}},null,0]
[0,0,0,0,0,0,0,0,0,0,0,{"$f":"VLOOKUP(B3028*100+C3028,氏名データ!$AC$2:$AJ$401,2,0)","v":{"$error":"#N/A"}},null,0]
[0,0,0,0,0,0,0,0,0,0,0,{"$f":"VLOOKUP(B3029*100+C3029,氏名データ!$AC$2:$AJ$401,2,0)","v":{"$error":"#N/A"}},null,0]
[0,0,0,0,0,0,0,0,0,0,0,{"$f":"VLOOKUP(B3032*100+C3032,氏名データ!$AC$2:$AJ$401,2,0)","v":{"$error":"#N/A"}},null,0]
[0,0,0,0,0,0,0,0,0,0,0,{"$f":"VLOOKUP(B3035*100+C3035,氏名データ!$AC$2:$AJ$401,2,0)","v":{"$error":"#N/A"}},null,0]
[0,0,0,0,0,0,0,0,0,0,0,{"$f":"VLOOKUP(B3037*100+C3037,氏名データ!$AC$2:$AJ$401,2,0)","v":{"$error":"#N/A"}},null,0]
[0,0,0,0,0,0,0,0,0,0,0,{"$f":"VLOOKUP(B3038*100+C3038,氏名データ!$AC$2:$AJ$401,2,0)","v":{"$error":"#N/A"}},null,0]
[0,0,0,0,0,0,0,0,0,0,0,{"$f":"VLOOKUP(B3041*100+C3041,氏名データ!$AC$2:$AJ$401,2,0)","v":{"$error":"#N/A"}},null,0]
[0,0,0,0,0,0,0,0,0,0,0,{"$f":"VLOOKUP(B3042*100+C3042,氏名データ!$AC$2:$AJ$401,2,0)","v":{"$error":"#N/A"}},null,0]
[0,0,0,0,0,0,0,0,0,0,0,{"$f":"VLOOKUP(B3046*100+C3046,氏名データ!$AC$2:$AJ$401,2,0)","v":{"$error":"#N/A"}},null,0]
[0,0,0,0,0,0,0,0,0,0,0,{"$f":"VLOOKUP(B3047*100+C3047,氏名データ!$AC$2:$AJ$401,2,0)","v":{"$error":"#N/A"}},null,0]
[0,0,0,0,0,0,0,0,0,0,0,{"$f":"VLOOKUP(B3050*100+C3050,氏名データ!$AC$2:$AJ$401,2,0)","v":{"$error":"#N/A"}},null,0]
[0,0,0,0,0,0,0,0,0,0,0,{"$f":"VLOOKUP(B3053*100+C3053,氏名データ!$AC$2:$AJ$401,2,0)","v":{"$error":"#N/A"}},null,0]
[0,0,0,0,0,0,0,0,0,0,0,{"$f":"VLOOKUP(B3055*100+C3055,氏名データ!$AC$2:$AJ$401,2,0)","v":{"$error":"#N/A"}},null,0]
[0,0,0,0,0,0,0,0,0,0,0,{"$f":"VLOOKUP(B3056*100+C3056,氏名データ!$AC$2:$AJ$401,2,0)","v":{"$error":"#N/A"}},null,0]
[0,0,0,0,0,0,0,0,0,0,0,{"$f":"VLOOKUP(B3059*100+C3059,氏名データ!$AC$2:$AJ$401,2,0)","v":{"$error":"#N/A"}},null,0]
[0,0,0,0,0,0,0,0,0,0,0,{"$f":"VLOOKUP(B3060*100+C3060,氏名データ!$AC$2:$AJ$401,2,0)","v":{"$error":"#N/A"}},null,0]
[0,0,0,0,0,0,0,0,0,0,0,{"$f":"VLOOKUP(B3064*100+C3064,氏名データ!$AC$2:$AJ$401,2,0)","v":{"$error":"#N/A"}},null,0]
[{"$f":"P3065","v":0},{"$f":"ROUNDDOWN(A3065/10000,0)","v":0},{"$f":"ROUNDDOWN((A3065-B3065*10000)/100,0)","v":0},{"$f":"Q3065","v":0},{"$f":"R3065","v":0},{"$f":"S3065","v":0},{"$f":"T3065","v":0},0,0,0,{"$f":"Y3065","v":0},{"$f":"VLOOKUP(B3065*100+C3065,氏名データ!$AC$2:$AJ$401,2,0)","v":{"$error":"#N/A"}},null,{"$f":"W3065","v":0}]
[0,0,0,0,0,0,0,0,0,0,0,{"$f":"VLOOKUP(B3068*100+C3068,氏名データ!$AC$2:$AJ$401,2,0)","v":{"$error":"#N/A"}},null,0]
[0,0,0,0,0,0,0,0,0,0,0,{"$f":"VLOOKUP(B3071*100+C3071,氏名データ!$AC$2:$AJ$401,2,0)","v":{"$error":"#N/A"}},null,0]
[0,0,0,0,0,0,0,0,0,0,0,{"$f":"VLOOKUP(B3073*100+C3073,氏名データ!$AC$2:$AJ$401,2,0)","v":{"$error":"#N/A"}},null,0]
[0,0,0,0,0,0,0,0,0,0,0,{"$f":"VLOOKUP(B3074*100+C3074,氏名データ!$AC$2:$AJ$401,2,0)","v":{"$error":"#N/A"}},null,0]
[0,0,0,0,0,0,0,0,0,0,0,{"$f":"VLOOKUP(B3077*100+C3077,氏名データ!$AC$2:$AJ$401,2,0)","v":{"$error":"#N/A"}},null,0]
[0,0,0,0,0,0,0,0,0,0,0,{"$f":"VLOOKUP(B3078*100+C3078,氏名データ!$AC$2:$AJ$401,2,0)","v":{"$error":"#N/A"}},null,0]
[0,0,0,0,0,0,0,0,0,0,0,{"$f":"VLOOKUP(B3082*100+C3082,氏名データ!$AC$2:$AJ$401,2,0)","v":{"$error":"#N/A"}},null,0]
[0,0,0,0,0,0,0,0,0,0,0,{"$f":"VLOOKUP(B3083*100+C3083,氏名データ!$AC$2:$AJ$401,2,0)","v":{"$error":"#N/A"}},null,0]
[0,0,0,0,0,0,0,0,0,0,0,{"$f":"VLOOKUP(B3086*100+C3086,氏名データ!$AC$2:$AJ$401,2,0)","v":{"$error":"#N/A"}},null,0]
[0,0,0,0,0,0,0,0,0,0,0,{"$f":"VLOOKUP(B3089*100+C3089,氏名データ!$AC$2:$AJ$401,2,0)","v":{"$error":"#N/A"}},null,0]
[0,0,0,0,0,0,0,0,0,0,0,{"$f":"VLOOKUP(B3091*100+C3091,氏名データ!$AC$2:$AJ$401,2,0)","v":{"$error":"#N/A"}},null,0]
[0,0,0,0,0,0,0,0,0,0,0,{"$f":"VLOOKUP(B3092*100+C3092,氏名データ!$AC$2:$AJ$401,2,0)","v":{"$error":"#N/A"}},null,0]
[0,0,0,0,0,0,0,0,0,0,0,{"$f":"VLOOKUP(B3095*100+C3095,氏名データ!$AC$2:$AJ$401,2,0)","v":{"$error":"#N/A"}},null,0]
[0,0,0,0,0,0,0,0,0,0,0,{"$f":"VLOOKUP(B3097*100+C3097,氏名データ!$AC$2:$AJ$401,2,0)","v":{"$error":"#N/A"}},null,0]
[0,0,0,0,0,0,0,0,0,0,0,{"$f":"VLOOKUP(B3100*100+C3100,氏名データ!$AC$2:$AJ$401,2,0)","v":{"$error":"#N/A"}},null,0]
[0,0,0,0,0,0,0,0,0,0,0,{"$f":"VLOOKUP(B3101*100+C3101,氏名データ!$AC$2:$AJ$401,2,0)","v":{"$error":"#N/A"}},null,0]
[0,0,0,0,0,0,0,0,0,0,0,{"$f":"VLOOKUP(B3104*100+C3104,氏名データ!$AC$2:$AJ$401,2,0)","v":{"$error":"#N/A"}},null,0]
[0,0,0,0,0,0,0,0,0,0,0,{"$f":"VLOOKUP(B3107*100+C3107,氏名データ!$AC$2:$AJ$401,2,0)","v":{"$error":"#N/A"}},null,0]
[0,0,0,0,0,0,0,0,0,0,0,{"$f":"VLOOKUP(B3109*100+C3109,氏名データ!$AC$2:$AJ$401,2,0)","v":{"$error":"#N/A"}},null,0]
[0,0,0,0,0,0,0,0,0,0,0,{"$f":"VLOOKUP(B3110*100+C3110,氏名データ!$AC$2:$AJ$401,2,0)","v":{"$error":"#N/A"}},null,0]
[0,0,0,0,0,0,0,0,0,0,0,{"$f":"VLOOKUP(B3113*100+C3113,氏名データ!$AC$2:$AJ$401,2,0)","v":{"$error":"#N/A"}},null,0]
[0,0,0,0,0,0,0,0,0,0,0,{"$f":"VLOOKUP(B3115*100+C3115,氏名データ!$AC$2:$AJ$401,2,0)","v":{"$error":"#N/A"}},null,0]
[0,0,0,0,0,0,0,0,0,0,0,{"$f":"VLOOKUP(B3118*100+C3118,氏名データ!$AC$2:$AJ$401,2,0)","v":{"$error":"#N/A"}},null,0]
[0,0,0,0,0,0,0,0,0,0,0,{"$f":"VLOOKUP(B3119*100+C3119,氏名データ!$AC$2:$AJ$401,2,0)","v":{"$error":"#N/A"}},null,0]
[0,0,0,0,0,0,0,0,0,0,0,{"$f":"VLOOKUP(B3122*100+C3122,氏名データ!$AC$2:$AJ$401,2,0)","v":{"$error":"#N/A"}},null,0]
[0,0,0,0,0,0,0,0,0,0,0,{"$f":"VLOOKUP(B3125*100+C3125,氏名データ!$AC$2:$AJ$401,2,0)","v":{"$error":"#N/A"}},null,0]
[0,0,0,0,0,0,0,0,0,0,0,{"$f":"VLOOKUP(B3127*100+C3127,氏名データ!$AC$2:$AJ$401,2,0)","v":{"$error":"#N/A"}},null,0]
[0,0,0,0,0,0,0,0,0,0,0,{"$f":"VLOOKUP(B3128*100+C3128,氏名データ!$AC$2:$AJ$401,2,0)","v":{"$error":"#N/A"}},null,0]
[0,0,0,0,0,0,0,0,0,0,0,{"$f":"VLOOKUP(B3131*100+C3131,氏名データ!$AC$2:$AJ$401,2,0)","v":{"$error":"#N/A"}},null,0]
[0,0,0,0,0,0,0,0,0,0,0,{"$f":"VLOOKUP(B3133*100+C3133,氏名データ!$AC$2:$AJ$401,2,0)","v":{"$error":"#N/A"}},null,0]
[0,0,0,0,0,0,0,0,0,0,0,{"$f":"VLOOKUP(B3136*100+C3136,氏名データ!$AC$2:$AJ$401,2,0)","v":{"$error":"#N/A"}},null,0]
[0,0,0,0,0,0,0,0,0,0,0,{"$f":"VLOOKUP(B3137*100+C3137,氏名データ!$AC$2:$AJ$401,2,0)","v":{"$error":"#N/A"}},null,0]
[0,0,0,0,0,0,0,0,0,0,0,{"$f":"VLOOKUP(B3140*100+C3140,氏名データ!$AC$2:$AJ$401,2,0)","v":{"$error":"#N/A"}},null,0]
[0,0,0,0,0,0,0,0,0,0,0,{"$f":"VLOOKUP(B3143*100+C3143,氏名データ!$AC$2:$AJ$401,2,0)","v":{"$error":"#N/A"}},null,0]
[0,0,0,0,0,0,0,0,0,0,0,{"$f":"VLOOKUP(B3145*100+C3145,氏名データ!$AC$2:$AJ$401,2,0)","v":{"$error":"#N/A"}},null,0]
[0,0,0,0,0,0,0,0,0,0,0,{"$f":"VLOOKUP(B3146*100+C3146,氏名データ!$AC$2:$AJ$401,2,0)","v":{"$error":"#N/A"}},null,0]
[0,0,0,0,0,0,0,0,0,0,0,{"$f":"VLOOKUP(B3149*100+C3149,氏名データ!$AC$2:$AJ$401,2,0)","v":{"$error":"#N/A"}},null,0]
[0,0,0,0,0,0,0,0,0,0,0,{"$f":"VLOOKUP(B3151*100+C3151,氏名データ!$AC$2:$AJ$401,2,0)","v":{"$error":"#N/A"}},null,0]
[0,0,0,0,0,0,0,0,0,0,0,{"$f":"VLOOKUP(B3154*100+C3154,氏名データ!$AC$2:$AJ$401,2,0)","v":{"$error":"#N/A"}},null,0]
[0,0,0,0,0,0,0,0,0,0,0,{"$f":"VLOOKUP(B3155*100+C3155,氏名データ!$AC$2:$AJ$401,2,0)","v":{"$error":"#N/A"}},null,0]
[0,0,0,0,0,0,0,0,0,0,0,{"$f":"VLOOKUP(B3158*100+C3158,氏名データ!$AC$2:$AJ$401,2,0)","v":{"$error":"#N/A"}},null,0]
[0,0,0,0,0,0,0,0,0,0,0,{"$f":"VLOOKUP(B3161*100+C3161,氏名データ!$AC$2:$AJ$401,2,0)","v":{"$error":"#N/A"}},null,0]
[0,0,0,0,0,0,0,0,0,0,0,{"$f":"VLOOKUP(B3163*100+C3163,氏名データ!$AC$2:$AJ$401,2,0)","v":{"$error":"#N/A"}},null,0]
[0,0,0,0,0,0,0,0,0,0,0,{"$f":"VLOOKUP(B3164*100+C3164,氏名データ!$AC$2:$AJ$401,2,0)","v":{"$error":"#N/A"}},null,0]
[0,0,0,0,0,0,0,0,0,0,0,{"$f":"VLOOKUP(B3167*100+C3167,氏名データ!$AC$2:$AJ$401,2,0)","v":{"$error":"#N/A"}},null,0]
[0,0,0,0,0,0,0,0,0,0,0,{"$f":"VLOOKUP(B3169*100+C3169,氏名データ!$AC$2:$AJ$401,2,0)","v":{"$error":"#N/A"}},null,0]
[0,0,0,0,0,0,0,0,0,0,0,{"$f":"VLOOKUP(B3172*100+C3172,氏名データ!$AC$2:$AJ$401,2,0)","v":{"$error":"#N/A"}},null,0]
[0,0,0,0,0,0,0,0,0,0,0,{"$f":"VLOOKUP(B3173*100+C3173,氏名データ!$AC$2:$AJ$401,2,0)","v":{"$error":"#N/A"}},null,0]
[0,0,0,0,0,0,0,0,0,0,0,{"$f":"VLOOKUP(B3176*100+C3176,氏名データ!$AC$2:$AJ$401,2,0)","v":{"$error":"#N/A"}},null,0]
[0,0,0,0,0,0,0,0,0,0,0,{"$f":"VLOOKUP(B3179*100+C3179,氏名データ!$AC$2:$AJ$401,2,0)","v":{"$error":"#N/A"}},null,0]
[0,0,0,0,0,0,0,0,0,0,0,{"$f":"VLOOKUP(B3181*100+C3181,氏名データ!$AC$2:$AJ$401,2,0)","v":{"$error":"#N/A"}},null,0]
[0,0,0,0,0,0,0,0,0,0,0,{"$f":"VLOOKUP(B3182*100+C3182,氏名データ!$AC$2:$AJ$401,2,0)","v":{"$error":"#N/A"}},null,0]
[0,0,0,0,0,0,0,0,0,0,0,{"$f":"VLOOKUP(B3185*100+C3185,氏名データ!$AC$2:$AJ$401,2,0)","v":{"$error":"#N/A"}},null,0]
[0,0,0,0,0,0,0,0,0,0,0,{"$f":"VLOOKUP(B3187*100+C3187,氏名データ!$AC$2:$AJ$401,2,0)","v":{"$error":"#N/A"}},null,0]
[0,0,0,0,0,0,0,0,0,0,0,{"$f":"VLOOKUP(B3190*100+C3190,氏名データ!$AC$2:$AJ$401,2,0)","v":{"$error":"#N/A"}},null,0]
[0,0,0,0,0,0,0,0,0,0,0,{"$f":"VLOOKUP(B3191*100+C3191,氏名データ!$AC$2:$AJ$401,2,0)","v":{"$error":"#N/A"}},null,0]
[0,0,0,0,0,0,0,0,0,0,0,{"$f":"VLOOKUP(B3194*100+C3194,氏名データ!$AC$2:$AJ$401,2,0)","v":{"$error":"#N/A"}},null,0]
[0,0,0,0,0,0,0,0,0,0,0,{"$f":"VLOOKUP(B3197*100+C3197,氏名データ!$AC$2:$AJ$401,2,0)","v":{"$error":"#N/A"}},null,0]
[0,0,0,0,0,0,0,0,0,0,0,{"$f":"VLOOKUP(B3199*100+C3199,氏名データ!$AC$2:$AJ$401,2,0)","v":{"$error":"#N/A"}},null,0]
[0,0,0,0,0,0,0,0,0,0,0,{"$f":"VLOOKUP(B3200*100+C3200,氏名データ!$AC$2:$AJ$401,2,0)","v":{"$error":"#N/A"}},null,0]
[0,0,0,0,0,0,0,{"$f":"U3203","v":0},{"$f":"V3203","v":0},{"$f":"X3203","v":0},0,{"$f":"VLOOKUP(B3203*100+C3203,氏名データ!$AC$2:$AJ$401,2,0)","v":{"$error":"#N/A"}},null,0]
[0,0,0,0,0,0,0,0,0,0,0,{"$f":"VLOOKUP(B3205*100+C3205,氏名データ!$AC$2:$AJ$401,2,0)","v":{"$error":"#N/A"}},null,0]
[0,0,0,0,0,0,0,0,0,0,0,{"$f":"VLOOKUP(B3208*100+C3208,氏名データ!$AC$2:$AJ$401,2,0)","v":{"$error":"#N/A"}},null,0]
[0,0,0,0,0,0,0,0,0,0,0,{"$f":"VLOOKUP(B3209*100+C3209,氏名データ!$AC$2:$AJ$401,2,0)","v":{"$error":"#N/A"}},null,0]
[0,0,0,0,0,0,0,0,0,0,0,{"$f":"VLOOKUP(B3212*100+C3212,氏名データ!$AC$2:$AJ$401,2,0)","v":{"$error":"#N/A"}},null,0]
[0,0,0,0,0,0,0,0,0,0,0,{"$f":"VLOOKUP(B3215*100+C3215,氏名データ!$AC$2:$AJ$401,2,0)","v":{"$error":"#N/A"}},null,0]
[0,0,0,0,0,0,0,0,0,0,0,{"$f":"VLOOKUP(B3217*100+C3217,氏名データ!$AC$2:$AJ$401,2,0)","v":{"$error":"#N/A"}},null,0]
[0,0,0,0,0,0,0,0,0,0,0,{"$f":"VLOOKUP(B3218*100+C3218,氏名データ!$AC$2:$AJ$401,2,0)","v":{"$error":"#N/A"}},null,0]
[0,0,0,0,0,0,0,0,0,0,0,{"$f":"VLOOKUP(B3221*100+C3221,氏名データ!$AC$2:$AJ$401,2,0)","v":{"$error":"#N/A"}},null,0]
[0,0,0,0,0,0,0,0,0,0,0,{"$f":"VLOOKUP(B3223*100+C3223,氏名データ!$AC$2:$AJ$401,2,0)","v":{"$error":"#N/A"}},null,0]
[0,0,0,0,0,0,0,0,0,0,0,{"$f":"VLOOKUP(B3226*100+C3226,氏名データ!$AC$2:$AJ$401,2,0)","v":{"$error":"#N/A"}},null,0]
[0,0,0,0,0,0,0,0,0,0,0,{"$f":"VLOOKUP(B3227*100+C3227,氏名データ!$AC$2:$AJ$401,2,0)","v":{"$error":"#N/A"}},null,0]
[0,0,0,0,0,0,0,0,0,0,0,{"$f":"VLOOKUP(B3230*100+C3230,氏名データ!$AC$2:$AJ$401,2,0)","v":{"$error":"#N/A"}},null,0]
[0,0,0,0,0,0,0,0,0,0,0,{"$f":"VLOOKUP(B3233*100+C3233,氏名データ!$AC$2:$AJ$401,2,0)","v":{"$error":"#N/A"}},null,0]
[0,0,0,0,0,0,0,0,0,0,0,{"$f":"VLOOKUP(B3235*100+C3235,氏名データ!$AC$2:$AJ$401,2,0)","v":{"$error":"#N/A"}},null,0]
[0,0,0,0,0,0,0,0,0,0,0,{"$f":"VLOOKUP(B3236*100+C3236,氏名データ!$AC$2:$AJ$401,2,0)","v":{"$error":"#N/A"}},null,0]
[0,0,0,0,0,0,0,0,0,0,0,{"$f":"VLOOKUP(B3239*100+C3239,氏名データ!$AC$2:$AJ$401,2,0)","v":{"$error":"#N/A"}},null,0]
[0,0,0,0,0,0,0,0,0,0,0,{"$f":"VLOOKUP(B3241*100+C3241,氏名データ!$AC$2:$AJ$401,2,0)","v":{"$error":"#N/A"}},null,0]
[0,0,0,0,0,0,0,0,0,0,0,{"$f":"VLOOKUP(B3244*100+C3244,氏名データ!$AC$2:$AJ$401,2,0)","v":{"$error":"#N/A"}},null,0]
[0,0,0,0,0,0,0,0,0,0,0,{"$f":"VLOOKUP(B3245*100+C3245,氏名データ!$AC$2:$AJ$401,2,0)","v":{"$error":"#N/A"}},null,0]
[0,0,0,0,0,0,0,0,0,0,0,{"$f":"VLOOKUP(B3248*100+C3248,氏名データ!$AC$2:$AJ$401,2,0)","v":{"$error":"#N/A"}},null,0]
[0,0,0,0,0,0,0,0,0,0,0,{"$f":"VLOOKUP(B3251*100+C3251,氏名データ!$AC$2:$AJ$401,2,0)","v":{"$error":"#N/A"}},null,0]
[0,0,0,0,0,0,0,0,0,0,0,{"$f":"VLOOKUP(B3253*100+C3253,氏名データ!$AC$2:$AJ$401,2,0)","v":{"$error":"#N/A"}},null,0]
[0,0,0,0,0,0,0,0,0,0,0,{"$f":"VLOOKUP(B3254*100+C3254,氏名データ!$AC$2:$AJ$401,2,0)","v":{"$error":"#N/A"}},null,0]
[{"$f":"P3257","v":0},{"$f":"ROUNDDOWN(A3257/10000,0)","v":0},{"$f":"ROUNDDOWN((A3257-B3257*10000)/100,0)","v":0},{"$f":"Q3257","v":0},{"$f":"R3257","v":0},{"$f":"S3257","v":0},{"$f":"T3257","v":0},0,0,0,{"$f":"Y3257","v":0},{"$f":"VLOOKUP(B3257*100+C3257,氏名データ!$AC$2:$AJ$401,2,0)","v":{"$error":"#N/A"}},null,{"$f":"W3257","v":0}]
[0,0,0,0,0,0,0,0,0,0,0,{"$f":"VLOOKUP(B3259*100+C3259,氏名データ!$AC$2:$AJ$401,2,0)","v":{"$error":"#N/A"}},null,0]
[0,0,0,0,0,0,0,0,0,0,0,{"$f":"VLOOKUP(B3262*100+C3262,氏名データ!$AC$2:$AJ$401,2,0)","v":{"$error":"#N/A"}},null,0]
[0,0,0,0,0,0,0,0,0,0,0,{"$f":"VLOOKUP(B3263*100+C3263,氏名データ!$AC$2:$AJ$401,2,0)","v":{"$error":"#N/A"}},null,0]
[0,0,0,0,0,0,0,0,0,0,0,{"$f":"VLOOKUP(B3266*100+C3266,氏名データ!$AC$2:$AJ$401,2,0)","v":{"$error":"#N/A"}},null,0]
[0,0,0,0,0,0,0,{"$f":"U3267","v":0},{"$f":"V3267","v":0},{"$f":"X3267","v":0},0,{"$f":"VLOOKUP(B3267*100+C3267,氏名データ!$AC$2:$AJ$401,2,0)","v":{"$error":"#N/A"}},null,0]
[0,0,0,0,0,0,0,0,0,0,0,{"$f":"VLOOKUP(B3271*100+C3271,氏名データ!$AC$2:$AJ$401,2,0)","v":{"$error":"#N/A"}},null,0]
[0,0,0,0,0,0,0,0,0,0,0,{"$f":"VLOOKUP(B3272*100+C3272,氏名データ!$AC$2:$AJ$401,2,0)","v":{"$error":"#N/A"}},null,0]
[0,0,0,0,0,0,0,0,0,0,0,{"$f":"VLOOKUP(B3275*100+C3275,氏名データ!$AC$2:$AJ$401,2,0)","v":{"$error":"#N/A"}},null,0]
[0,0,0,0,0,0,0,0,0,0,0,{"$f":"VLOOKUP(B3277*100+C3277,氏名データ!$AC$2:$AJ$401,2,0)","v":{"$error":"#N/A"}},null,0]
[0,0,0,0,0,0,0,0,0,0,0,{"$f":"VLOOKUP(B3280*100+C3280,氏名データ!$AC$2:$AJ$401,2,0)","v":{"$error":"#N/A"}},null,0]
[0,0,0,0,0,0,0,0,0,0,0,{"$f":"VLOOKUP(B3281*100+C3281,氏名データ!$AC$2:$AJ$401,2,0)","v":{"$error":"#N/A"}},null,0]
[0,0,0,0,0,0,0,0,0,0,0,{"$f":"VLOOKUP(B3284*100+C3284,氏名データ!$AC$2:$AJ$401,2,0)","v":{"$error":"#N/A"}},null,0]
[0,0,0,0,0,0,0,0,0,0,0,{"$f":"VLOOKUP(B3285*100+C3285,氏名データ!$AC$2:$AJ$401,2,0)","v":{"$error":"#N/A"}},null,0]
[0,0,0,0,0,0,0,0,0,0,0,{"$f":"VLOOKUP(B3289*100+C3289,氏名データ!$AC$2:$AJ$401,2,0)","v":{"$error":"#N/A"}},null,0]
[0,0,0,0,0,0,0,0,0,0,0,{"$f":"VLOOKUP(B3290*100+C3290,氏名データ!$AC$2:$AJ$401,2,0)","v":{"$error":"#N/A"}},null,0]
[0,0,0,0,0,0,0,0,0,0,0,{"$f":"VLOOKUP(B3293*100+C3293,氏名データ!$AC$2:$AJ$401,2,0)","v":{"$error":"#N/A"}},null,0]
[0,0,0,0,0,0,0,0,0,0,0,{"$f":"VLOOKUP(B3295*100+C3295,氏名データ!$AC$2:$AJ$401,2,0)","v":{"$error":"#N/A"}},null,0]
[0,0,0,0,0,0,0,0,0,0,0,{"$f":"VLOOKUP(B3298*100+C3298,氏名データ!$AC$2:$AJ$401,2,0)","v":{"$error":"#N/A"}},null,0]
[0,0,0,0,0,0,0,0,0,0,0,{"$f":"VLOOKUP(B3299*100+C3299,氏名データ!$AC$2:$AJ$401,2,0)","v":{"$error":"#N/A"}},null,0]
[0,0,0,0,0,0,0,0,0,0,0,{"$f":"VLOOKUP(B3302*100+C3302,氏名データ!$AC$2:$AJ$401,2,0)","v":{"$error":"#N/A"}},null,0]
[0,0,0,0,0,0,0,0,0,0,0,{"$f":"VLOOKUP(B3303*100+C3303,氏名データ!$AC$2:$AJ$401,2,0)","v":{"$error":"#N/A"}},null,0]
[0,0,0,0,0,0,0,0,0,0,0,{"$f":"VLOOKUP(B3307*100+C3307,氏名データ!$AC$2:$AJ$401,2,0)","v":{"$error":"#N/A"}},null,0]
[0,0,0,0,0,0,0,0,0,0,0,{"$f":"VLOOKUP(B3308*100+C3308,氏名データ!$AC$2:$AJ$401,2,0)","v":{"$error":"#N/A"}},null,0]
[0,0,0,0,0,0,0,0,0,0,0,{"$f":"VLOOKUP(B3311*100+C3311,氏名データ!$AC$2:$AJ$401,2,0)","v":{"$error":"#N/A"}},null,0]
[0,0,0,0,0,0,0,0,0,0,0,{"$f":"VLOOKUP(B3313*100+C3313,氏名データ!$AC$2:$AJ$401,2,0)","v":{"$error":"#N/A"}},null,0]
[0,0,0,0,0,0,0,0,0,0,0,{"$f":"VLOOKUP(B3316*100+C3316,氏名データ!$AC$2:$AJ$401,2,0)","v":{"$error":"#N/A"}},null,0]
[0,0,0,0,0,0,0,0,0,0,0,{"$f":"VLOOKUP(B3317*100+C3317,氏名データ!$AC$2:$AJ$401,2,0)","v":{"$error":"#N/A"}},null,0]
[0,0,0,0,0,0,0,0,0,0,0,{"$f":"VLOOKUP(B3320*100+C3320,氏名データ!$AC$2:$AJ$401,2,0)","v":{"$error":"#N/A"}},null,0]
[{"$f":"P3321","v":0},{"$f":"ROUNDDOWN(A3321/10000,0)","v":0},{"$f":"ROUNDDOWN((A3321-B3321*10000)/100,0)","v":0},{"$f":"Q3321","v":0},{"$f":"R3321","v":0},{"$f":"S3321","v":0},{"$f":"T3321","v":0},0,0,0,{"$f":"Y3321","v":0},{"$f":"VLOOKUP(B3321*100+C3321,氏名データ!$AC$2:$AJ$401,2,0)","v":{"$error":"#N/A"}},null,{"$f":"W3321","v":0}]
[0,0,0,0,0,0,0,0,0,0,0,{"$f":"VLOOKUP(B3325*100+C3325,氏名データ!$AC$2:$AJ$401,2,0)","v":{"$error":"#N/A"}},null,0]
[0,0,0,0,0,0,0,0,0,0,0,{"$f":"VLOOKUP(B3326*100+C3326,氏名データ!$AC$2:$AJ$401,2,0)","v":{"$error":"#N/A"}},null,0]
[0,0,0,0,0,0,0,0,0,0,0,{"$f":"VLOOKUP(B3329*100+C3329,氏名データ!$AC$2:$AJ$401,2,0)","v":{"$error":"#N/A"}},null,0]
[0,0,0,0,0,0,0,{"$f":"U3331","v":0},{"$f":"V3331","v":0},{"$f":"X3331","v":0},0,{"$f":"VLOOKUP(B3331*100+C3331,氏名データ!$AC$2:$AJ$401,2,0)","v":{"$error":"#N/A"}},null,0]
[0,0,0,0,0,0,0,0,0,0,0,{"$f":"VLOOKUP(B3334*100+C3334,氏名データ!$AC$2:$AJ$401,2,0)","v":{"$error":"#N/A"}},null,0]
[0,0,0,0,0,0,0,0,0,0,0,{"$f":"VLOOKUP(B3335*100+C3335,氏名データ!$AC$2:$AJ$401,2,0)","v":{"$error":"#N/A"}},null,0]
[0,0,0,0,0,0,0,0,0,0,0,{"$f":"VLOOKUP(B3338*100+C3338,氏名データ!$AC$2:$AJ$401,2,0)","v":{"$error":"#N/A"}},null,0]
[0,0,0,0,0,0,0,0,0,0,0,{"$f":"VLOOKUP(B3339*100+C3339,氏名データ!$AC$2:$AJ$401,2,0)","v":{"$error":"#N/A"}},null,0]
[0,0,0,0,0,0,0,0,0,0,0,{"$f":"VLOOKUP(B3343*100+C3343,氏名データ!$AC$2:$AJ$401,2,0)","v":{"$error":"#N/A"}},null,0]
[0,0,0,0,0,0,0,0,0,0,0,{"$f":"VLOOKUP(B3344*100+C3344,氏名データ!$AC$2:$AJ$401,2,0)","v":{"$error":"#N/A"}},null,0]
[0,0,0,0,0,0,0,0,0,0,0,{"$f":"VLOOKUP(B3347*100+C3347,氏名データ!$AC$2:$AJ$401,2,0)","v":{"$error":"#N/A"}},null,0]
[0,0,0,0,0,0,0,0,0,0,0,{"$f":"VLOOKUP(B3349*100+C3349,氏名データ!$AC$2:$AJ$401,2,0)","v":{"$error":"#N/A"}},null,0]
[0,0,0,0,0,0,0,0,0,0,0,{"$f":"VLOOKUP(B3352*100+C3352,氏名データ!$AC$2:$AJ$401,2,0)","v":{"$error":"#N/A"}},null,0]
[0,0,0,0,0,0,0,0,0,0,0,{"$f":"VLOOKUP(B3353*100+C3353,氏名データ!$AC$2:$AJ$401,2,0)","v":{"$error":"#N/A"}},null,0]
[0,0,0,0,0,0,0,0,0,0,0,{"$f":"VLOOKUP(B3356*100+C3356,氏名データ!$AC$2:$AJ$401,2,0)","v":{"$error":"#N/A"}},null,0]
[0,0,0,0,0,0,0,0,0,0,0,{"$f":"VLOOKUP(B3357*100+C3357,氏名データ!$AC$2:$AJ$401,2,0)","v":{"$error":"#N/A"}},null,0]
[0,0,0,0,0,0,0,0,0,0,0,{"$f":"VLOOKUP(B3361*100+C3361,氏名データ!$AC$2:$AJ$401,2,0)","v":{"$error":"#N/A"}},null,0]
[0,0,0,0,0,0,0,0,0,0,0,{"$f":"VLOOKUP(B3362*100+C3362,氏名データ!$AC$2:$AJ$401,2,0)","v":{"$error":"#N/A"}},null,0]
[0,0,0,0,0,0,0,0,0,0,0,{"$f":"VLOOKUP(B3365*100+C3365,氏名データ!$AC$2:$AJ$401,2,0)","v":{"$error":"#N/A"}},null,0]
[0,0,0,0,0,0,0,0,0,0,0,{"$f":"VLOOKUP(B3367*100+C3367,氏名データ!$AC$2:$AJ$401,2,0)","v":{"$error":"#N/A"}},null,0]
[0,0,0,0,0,0,0,0,0,0,0,{"$f":"VLOOKUP(B3370*100+C3370,氏名データ!$AC$2:$AJ$401,2,0)","v":{"$error":"#N/A"}},null,0]
[0,0,0,0,0,0,0,0,0,0,0,{"$f":"VLOOKUP(B3371*100+C3371,氏名データ!$AC$2:$AJ$401,2,0)","v":{"$error":"#N/A"}},null,0]
[0,0,0,0,0,0,0,0,0,0,0,{"$f":"VLOOKUP(B3374*100+C3374,氏名データ!$AC$2:$AJ$401,2,0)","v":{"$error":"#N/A"}},null,0]
[0,0,0,0,0,0,0,0,0,0,0,{"$f":"VLOOKUP(B3375*100+C3375,氏名データ!$AC$2:$AJ$401,2,0)","v":{"$error":"#N/A"}},null,0]
[0,0,0,0,0,0,0,0,0,0,0,{"$f":"VLOOKUP(B3379*100+C3379,氏名データ!$AC$2:$AJ$401,2,0)","v":{"$error":"#N/A"}},null,0]
[0,0,0,0,0,0,0,0,0,0,0,{"$f":"VLOOKUP(B3380*100+C3380,氏名データ!$AC$2:$AJ$401,2,0)","v":{"$error":"#N/A"}},null,0]
[0,0,0,0,0,0,0,0,0,0,0,{"$f":"VLOOKUP(B3383*100+C3383,氏名データ!$AC$2:$AJ$401,2,0)","v":{"$error":"#N/A"}},null,0]
[{"$f":"P3385","v":0},{"$f":"ROUNDDOWN(A3385/10000,0)","v":0},{"$f":"ROUNDDOWN((A3385-B3385*10000)/100,0)","v":0},{"$f":"Q3385","v":0},{"$f":"R3385","v":0},{"$f":"S3385","v":0},{"$f":"T3385","v":0},0,0,0,{"$f":"Y3385","v":0},{"$f":"VLOOKUP(B3385*100+C3385,氏名データ!$AC$2:$AJ$401,2,0)","v":{"$error":"#N/A"}},null,{"$f":"W3385","v":0}]
[0,0,0,0,0,0,0,0,0,0,0,{"$f":"VLOOKUP(B3388*100+C3388,氏名データ!$AC$2:$AJ$401,2,0)","v":{"$error":"#N/A"}},null,0]
[0,0,0,0,0,0,0,0,0,0,0,{"$f":"VLOOKUP(B3389*100+C3389,氏名データ!$AC$2:$AJ$401,2,0)","v":{"$error":"#N/A"}},null,0]
[0,0,0,0,0,0,0,0,0,0,0,{"$f":"VLOOKUP(B3392*100+C3392,氏名データ!$AC$2:$AJ$401,2,0)","v":{"$error":"#N/A"}},null,0]
[0,0,0,0,0,0,0,0,0,0,0,{"$f":"VLOOKUP(B3393*100+C3393,氏名データ!$AC$2:$AJ$401,2,0)","v":{"$error":"#N/A"}},null,0]
[0,0,0,0,0,0,0,0,0,0,0,{"$f":"VLOOKUP(B3397*100+C3397,氏名データ!$AC$2:$AJ$401,2,0)","v":{"$error":"#N/A"}},null,0]
[0,0,0,0,0,0,0,0,0,0,0,{"$f":"VLOOKUP(B3398*100+C3398,氏名データ!$AC$2:$AJ$401,2,0)","v":{"$error":"#N/A"}},null,0]
[0,0,0,0,0,0,0,0,0,0,0,{"$f":"VLOOKUP(B3401*100+C3401,氏名データ!$AC$2:$AJ$401,2,0)","v":{"$error":"#N/A"}},null,0]
[0,0,0,0,0,0,0,0,0,0,0,{"$f":"VLOOKUP(B3403*100+C3403,氏名データ!$AC$2:$AJ$401,2,0)","v":{"$error":"#N/A"}},null,0]
[0,0,0,0,0,0,0,0,0,0,0,{"$f":"VLOOKUP(B3406*100+C3406,氏名データ!$AC$2:$AJ$401,2,0)","v":{"$error":"#N/A"}},null,0]
[0,0,0,0,0,0,0,0,0,0,0,{"$f":"VLOOKUP(B3407*100+C3407,氏名データ!$AC$2:$AJ$401,2,0)","v":{"$error":"#N/A"}},null,0]
[0,0,0,0,0,0,0,0,0,0,0,{"$f":"VLOOKUP(B3410*100+C3410,氏名データ!$AC$2:$AJ$401,2,0)","v":{"$error":"#N/A"}},null,0]
[0,0,0,0,0,0,0,0,0,0,0,{"$f":"VLOOKUP(B3411*100+C3411,氏名データ!$AC$2:$AJ$401,2,0)","v":{"$error":"#N/A"}},null,0]
[0,0,0,0,0,0,0,0,0,0,0,{"$f":"VLOOKUP(B3415*100+C3415,氏名データ!$AC$2:$AJ$401,2,0)","v":{"$error":"#N/A"}},null,0]
[0,0,0,0,0,0,0,0,0,0,0,{"$f":"VLOOKUP(B3416*100+C3416,氏名データ!$AC$2:$AJ$401,2,0)","v":{"$error":"#N/A"}},null,0]
[0,0,0,0,0,0,0,0,0,0,0,{"$f":"VLOOKUP(B3419*100+C3419,氏名データ!$AC$2:$AJ$401,2,0)","v":{"$error":"#N/A"}},null,0]
[0,0,0,0,0,0,0,0,0,0,0,{"$f":"VLOOKUP(B3422*100+C3422,氏名データ!$AC$2:$AJ$401,2,0)","v":{"$error":"#N/A"}},null,0]
[0,0,0,0,0,0,0,0,0,0,0,{"$f":"VLOOKUP(B3424*100+C3424,氏名データ!$AC$2:$AJ$401,2,0)","v":{"$error":"#N/A"}},null,0]
[0,0,0,0,0,0,0,0,0,0,0,{"$f":"VLOOKUP(B3425*100+C3425,氏名データ!$AC$2:$AJ$401,2,0)","v":{"$error":"#N/A"}},null,0]
[0,0,0,0,0,0,0,0,0,0,0,{"$f":"VLOOKUP(B3428*100+C3428,氏名データ!$AC$2:$AJ$401,2,0)","v":{"$error":"#N/A"}},null,0]
[0,0,0,0,0,0,0,0,0,0,0,{"$f":"VLOOKUP(B3429*100+C3429,氏名データ!$AC$2:$AJ$401,2,0)","v":{"$error":"#N/A"}},null,0]
[0,0,0,0,0,0,0,0,0,0,0,{"$f":"VLOOKUP(B3433*100+C3433,氏名データ!$AC$2:$AJ$401,2,0)","v":{"$error":"#N/A"}},null,0]
[0,0,0,0,0,0,0,0,0,0,0,{"$f":"VLOOKUP(B3434*100+C3434,氏名データ!$AC$2:$AJ$401,2,0)","v":{"$error":"#N/A"}},null,0]
[0,0,0,0,0,0,0,0,0,0,0,{"$f":"VLOOKUP(B3437*100+C3437,氏名データ!$AC$2:$AJ$401,2,0)","v":{"$error":"#N/A"}},null,0]
[0,0,0,0,0,0,0,0,0,0,0,{"$f":"VLOOKUP(B3440*100+C3440,氏名データ!$AC$2:$AJ$401,2,0)","v":{"$error":"#N/A"}},null,0]
[0,0,0,0,0,0,0,0,0,0,0,{"$f":"VLOOKUP(B3442*100+C3442,氏名データ!$AC$2:$AJ$401,2,0)","v":{"$error":"#N/A"}},null,0]
[0,0,0,0,0,0,0,0,0,0,0,{"$f":"VLOOKUP(B3443*100+C3443,氏名データ!$AC$2:$AJ$401,2,0)","v":{"$error":"#N/A"}},null,0]
[0,0,0,0,0,0,0,0,0,0,0,{"$f":"VLOOKUP(B3446*100+C3446,氏名データ!$AC$2:$AJ$401,2,0)","v":{"$error":"#N/A"}},null,0]
[0,0,0,0,0,0,0,0,0,0,0,{"$f":"VLOOKUP(B3447*100+C3447,氏名データ!$AC$2:$AJ$401,2,0)","v":{"$error":"#N/A"}},null,0]
[0,0,0,0,0,0,0,0,0,0,0,{"$f":"VLOOKUP(B3451*100+C3451,氏名データ!$AC$2:$AJ$401,2,0)","v":{"$error":"#N/A"}},null,0]
[0,0,0,0,0,0,0,0,0,0,0,{"$f":"VLOOKUP(B3452*100+C3452,氏名データ!$AC$2:$AJ$401,2,0)","v":{"$error":"#N/A"}},null,0]
[0,0,0,0,0,0,0,0,0,0,0,{"$f":"VLOOKUP(B3455*100+C3455,氏名データ!$AC$2:$AJ$401,2,0)","v":{"$error":"#N/A"}},null,0]
[0,0,0,0,0,0,0,0,0,0,0,{"$f":"VLOOKUP(B3458*100+C3458,氏名データ!$AC$2:$AJ$401,2,0)","v":{"$error":"#N/A"}},null,0]
[0,0,0,0,0,0,0,0,0,0,0,{"$f":"VLOOKUP(B3460*100+C3460,氏名データ!$AC$2:$AJ$401,2,0)","v":{"$error":"#N/A"}},null,0]
[0,0,0,0,0,0,0,0,0,0,0,{"$f":"VLOOKUP(B3461*100+C3461,氏名データ!$AC$2:$AJ$401,2,0)","v":{"$error":"#N/A"}},null,0]
[0,0,0,0,0,0,0,0,0,0,0,{"$f":"VLOOKUP(B3464*100+C3464,氏名データ!$AC$2:$AJ$401,2,0)","v":{"$error":"#N/A"}},null,0]
[0,0,0,0,0,0,0,0,0,0,0,{"$f":"VLOOKUP(B3465*100+C3465,氏名データ!$AC$2:$AJ$401,2,0)","v":{"$error":"#N/A"}},null,0]
[0,0,0,0,0,0,0,0,0,0,0,{"$f":"VLOOKUP(B3469*100+C3469,氏名データ!$AC$2:$AJ$401,2,0)","v":{"$error":"#N/A"}},null,0]
[0,0,0,0,0,0,0,0,0,0,0,{"$f":"VLOOKUP(B3470*100+C3470,氏名データ!$AC$2:$AJ$401,2,0)","v":{"$error":"#N/A"}},null,0]
[0,0,0,0,0,0,0,0,0,0,0,{"$f":"VLOOKUP(B3473*100+C3473,氏名データ!$AC$2:$AJ$401,2,0)","v":{"$error":"#N/A"}},null,0]
[0,0,0,0,0,0,0,0,0,0,0,{"$f":"VLOOKUP(B3476*100+C3476,氏名データ!$AC$2:$AJ$401,2,0)","v":{"$error":"#N/A"}},null,0]
[0,0,0,0,0,0,0,0,0,0,0,{"$f":"VLOOKUP(B3478*100+C3478,氏名データ!$AC$2:$AJ$401,2,0)","v":{"$error":"#N/A"}},null,0]
[0,0,0,0,0,0,0,0,0,0,0,{"$f":"VLOOKUP(B3479*100+C3479,氏名データ!$AC$2:$AJ$401,2,0)","v":{"$error":"#N/A"}},null,0]
[0,0,0,0,0,0,0,0,0,0,0,{"$f":"VLOOKUP(B3482*100+C3482,氏名データ!$AC$2:$AJ$401,2,0)","v":{"$error":"#N/A"}},null,0]
[0,0,0,0,0,0,0,0,0,0,0,{"$f":"VLOOKUP(B3483*100+C3483,氏名データ!$AC$2:$AJ$401,2,0)","v":{"$error":"#N/A"}},null,0]
[0,0,0,0,0,0,0,0,0,0,0,{"$f":"VLOOKUP(B3487*100+C3487,氏名データ!$AC$2:$AJ$401,2,0)","v":{"$error":"#N/A"}},null,0]
[0,0,0,0,0,0,0,0,0,0,0,{"$f":"VLOOKUP(B3488*100+C3488,氏名データ!$AC$2:$AJ$401,2,0)","v":{"$error":"#N/A"}},null,0]
[0,0,0,0,0,0,0,0,0,0,0,{"$f":"VLOOKUP(B3491*100+C3491,氏名データ!$AC$2:$AJ$401,2,0)","v":{"$error":"#N/A"}},null,0]
[0,0,0,0,0,0,0,0,0,0,0,{"$f":"VLOOKUP(B3494*100+C3494,氏名データ!$AC$2:$AJ$401,2,0)","v":{"$error":"#N/A"}},null,0]
[0,0,0,0,0,0,0,0,0,0,0,{"$f":"VLOOKUP(B3496*100+C3496,氏名データ!$AC$2:$AJ$401,2,0)","v":{"$error":"#N/A"}},null,0]
[0,0,0,0,0,0,0,0,0,0,0,{"$f":"VLOOKUP(B3497*100+C3497,氏名データ!$AC$2:$AJ$401,2,0)","v":{"$error":"#N/A"}},null,0]
[0,0,0,0,0,0,0,0,0,0,0,{"$f":"VLOOKUP(B3500*100+C3500,氏名データ!$AC$2:$AJ$401,2,0)","v":{"$error":"#N/A"}},null,0]
[0,0,0,0,0,0,0,0,0,0,0,{"$f":"VLOOKUP(B3501*100+C3501,氏名データ!$AC$2:$AJ$401,2,0)","v":{"$error":"#N/A"}},null,0]
[0,0,0,0,0,0,0,0,0,0,0,{"$f":"VLOOKUP(B3505*100+C3505,氏名データ!$AC$2:$AJ$401,2,0)","v":{"$error":"#N/A"}},null,0]
[0,0,0,0,0,0,0,0,0,0,0,{"$f":"VLOOKUP(B3506*100+C3506,氏名データ!$AC$2:$AJ$401,2,0)","v":{"$error":"#N/A"}},null,0]
[0,0,0,0,0,0,0,0,0,0,0,{"$f":"VLOOKUP(B3509*100+C3509,氏名データ!$AC$2:$AJ$401,2,0)","v":{"$error":"#N/A"}},null,0]
[0,0,0,0,0,0,0,0,0,0,0,{"$f":"VLOOKUP(B3512*100+C3512,氏名データ!$AC$2:$AJ$401,2,0)","v":{"$error":"#N/A"}},null,0]
[0,0,0,0,0,0,0,0,0,0,0,{"$f":"VLOOKUP(B3514*100+C3514,氏名データ!$AC$2:$AJ$401,2,0)","v":{"$error":"#N/A"}},null,0]
[0,0,0,0,0,0,0,0,0,0,0,{"$f":"VLOOKUP(B3515*100+C3515,氏名データ!$AC$2:$AJ$401,2,0)","v":{"$error":"#N/A"}},null,0]
[0,0,0,0,0,0,0,0,0,0,0,{"$f":"VLOOKUP(B3518*100+C3518,氏名データ!$AC$2:$AJ$401,2,0)","v":{"$error":"#N/A"}},null,0]
[0,0,0,0,0,0,0,0,0,0,0,{"$f":"VLOOKUP(B3519*100+C3519,氏名データ!$AC$2:$AJ$401,2,0)","v":{"$error":"#N/A"}},null,0]
[0,0,0,0,0,0,0,{"$f":"U3523","v":0},{"$f":"V3523","v":0},{"$f":"X3523","v":0},0,{"$f":"VLOOKUP(B3523*100+C3523,氏名データ!$AC$2:$AJ$401,2,0)","v":{"$error":"#N/A"}},null,0]
[0,0,0,0,0,0,0,0,0,0,0,{"$f":"VLOOKUP(B3524*100+C3524,氏名データ!$AC$2:$AJ$401,2,0)","v":{"$error":"#N/A"}},null,0]
[0,0,0,0,0,0,0,0,0,0,0,{"$f":"VLOOKUP(B3527*100+C3527,氏名データ!$AC$2:$AJ$401,2,0)","v":{"$error":"#N/A"}},null,0]
[0,0,0,0,0,0,0,0,0,0,0,{"$f":"VLOOKUP(B3530*100+C3530,氏名データ!$AC$2:$AJ$401,2,0)","v":{"$error":"#N/A"}},null,0]
[0,0,0,0,0,0,0,0,0,0,0,{"$f":"VLOOKUP(B3532*100+C3532,氏名データ!$AC$2:$AJ$401,2,0)","v":{"$error":"#N/A"}},null,0]
[0,0,0,0,0,0,0,0,0,0,0,{"$f":"VLOOKUP(B3533*100+C3533,氏名データ!$AC$2:$AJ$401,2,0)","v":{"$error":"#N/A"}},null,0]
[0,0,0,0,0,0,0,0,0,0,0,{"$f":"VLOOKUP(B3536*100+C3536,氏名データ!$AC$2:$AJ$401,2,0)","v":{"$error":"#N/A"}},null,0]
[0,0,0,0,0,0,0,0,0,0,0,{"$f":"VLOOKUP(B3537*100+C3537,氏名データ!$AC$2:$AJ$401,2,0)","v":{"$error":"#N/A"}},null,0]
[0,0,0,0,0,0,0,0,0,0,0,{"$f":"VLOOKUP(B3541*100+C3541,氏名データ!$AC$2:$AJ$401,2,0)","v":{"$error":"#N/A"}},null,0]
[0,0,0,0,0,0,0,0,0,0,0,{"$f":"VLOOKUP(B3542*100+C3542,氏名データ!$AC$2:$AJ$401,2,0)","v":{"$error":"#N/A"}},null,0]
[0,0,0,0,0,0,0,0,0,0,0,{"$f":"VLOOKUP(B3545*100+C3545,氏名データ!$AC$2:$AJ$401,2,0)","v":{"$error":"#N/A"}},null,0]
[0,0,0,0,0,0,0,0,0,0,0,{"$f":"VLOOKUP(B3548*100+C3548,氏名データ!$AC$2:$AJ$401,2,0)","v":{"$error":"#N/A"}},null,0]
[0,0,0,0,0,0,0,0,0,0,0,{"$f":"VLOOKUP(B3550*100+C3550,氏名データ!$AC$2:$AJ$401,2,0)","v":{"$error":"#N/A"}},null,0]
[0,0,0,0,0,0,0,0,0,0,0,{"$f":"VLOOKUP(B3551*100+C3551,氏名データ!$AC$2:$AJ$401,2,0)","v":{"$error":"#N/A"}},null,0]
[0,0,0,0,0,0,0,0,0,0,0,{"$f":"VLOOKUP(B3554*100+C3554,氏名データ!$AC$2:$AJ$401,2,0)","v":{"$error":"#N/A"}},null,0]
[0,0,0,0,0,0,0,0,0,0,0,{"$f":"VLOOKUP(B3555*100+C3555,氏名データ!$AC$2:$AJ$401,2,0)","v":{"$error":"#N/A"}},null,0]
[0,0,0,0,0,0,0,0,0,0,0,{"$f":"VLOOKUP(B3559*100+C3559,氏名データ!$AC$2:$AJ$401,2,0)","v":{"$error":"#N/A"}},null,0]
[0,0,0,0,0,0,0,0,0,0,0,{"$f":"VLOOKUP(B3560*100+C3560,氏名データ!$AC$2:$AJ$401,2,0)","v":{"$error":"#N/A"}},null,0]
[0,0,0,0,0,0,0,0,0,0,0,{"$f":"VLOOKUP(B3563*100+C3563,氏名データ!$AC$2:$AJ$401,2,0)","v":{"$error":"#N/A"}},null,0]
[0,0,0,0,0,0,0,0,0,0,0,{"$f":"VLOOKUP(B3566*100+C3566,氏名データ!$AC$2:$AJ$401,2,0)","v":{"$error":"#N/A"}},null,0]
[0,0,0,0,0,0,0,0,0,0,0,{"$f":"VLOOKUP(B3568*100+C3568,氏名データ!$AC$2:$AJ$401,2,0)","v":{"$error":"#N/A"}},null,0]
[0,0,0,0,0,0,0,0,0,0,0,{"$f":"VLOOKUP(B3569*100+C3569,氏名データ!$AC$2:$AJ$401,2,0)","v":{"$error":"#N/A"}},null,0]
[0,0,0,0,0,0,0,0,0,0,0,{"$f":"VLOOKUP(B3572*100+C3572,氏名データ!$AC$2:$AJ$401,2,0)","v":{"$error":"#N/A"}},null,0]
[0,0,0,0,0,0,0,0,0,0,0,{"$f":"VLOOKUP(B3573*100+C3573,氏名データ!$AC$2:$AJ$401,2,0)","v":{"$error":"#N/A"}},null,0]
[{"$f":"P3577","v":0},{"$f":"ROUNDDOWN(A3577/10000,0)","v":0},{"$f":"ROUNDDOWN((A3577-B3577*10000)/100,0)","v":0},{"$f":"Q3577","v":0},{"$f":"R3577","v":0},{"$f":"S3577","v":0},{"$f":"T3577","v":0},0,0,0,{"$f":"Y3577","v":0},{"$f":"VLOOKUP(B3577*100+C3577,氏名データ!$AC$2:$AJ$401,2,0)","v":{"$error":"#N/A"}},null,{"$f":"W3577","v":0}]
[0,0,0,0,0,0,0,0,0,0,0,{"$f":"VLOOKUP(B3578*100+C3578,氏名データ!$AC$2:$AJ$401,2,0)","v":{"$error":"#N/A"}},null,0]
[0,0,0,0,0,0,0,0,0,0,0,{"$f":"VLOOKUP(B3581*100+C3581,氏名データ!$AC$2:$AJ$401,2,0)","v":{"$error":"#N/A"}},null,0]
[0,0,0,0,0,0,0,0,0,0,0,{"$f":"VLOOKUP(B3584*100+C3584,氏名データ!$AC$2:$AJ$401,2,0)","v":{"$error":"#N/A"}},null,0]
[0,0,0,0,0,0,0,0,0,0,0,{"$f":"VLOOKUP(B3586*100+C3586,氏名データ!$AC$2:$AJ$401,2,0)","v":{"$error":"#N/A"}},null,0]
[0,0,0,0,0,0,0,{"$f":"U3587","v":0},{"$f":"V3587","v":0},{"$f":"X3587","v":0},0,{"$f":"VLOOKUP(B3587*100+C3587,氏名データ!$AC$2:$AJ$401,2,0)","v":{"$error":"#N/A"}},null,0]
[0,0,0,0,0,0,0,0,0,0,0,{"$f":"VLOOKUP(B3590*100+C3590,氏名データ!$AC$2:$AJ$401,2,0)","v":{"$error":"#N/A"}},null,0]
[0,0,0,0,0,0,0,0,0,0,0,{"$f":"VLOOKUP(B3592*100+C3592,氏名データ!$AC$2:$AJ$401,2,0)","v":{"$error":"#N/A"}},null,0]
[0,0,0,0,0,0,0,0,0,0,0,{"$f":"VLOOKUP(B3595*100+C3595,氏名データ!$AC$2:$AJ$401,2,0)","v":{"$error":"#N/A"}},null,0]
[0,0,0,0,0,0,0,0,0,0,0,{"$f":"VLOOKUP(B3596*100+C3596,氏名データ!$AC$2:$AJ$401,2,0)","v":{"$error":"#N/A"}},null,0]
[0,0,0,0,0,0,0,0,0,0,0,{"$f":"VLOOKUP(B3599*100+C3599,氏名データ!$AC$2:$AJ$401,2,0)","v":{"$error":"#N/A"}},null,0]
[0,0,0,0,0,0,0,0,0,0,0,{"$f":"VLOOKUP(B3602*100+C3602,氏名データ!$AC$2:$AJ$401,2,0)","v":{"$error":"#N/A"}},null,0]
[0,0,0,0,0,0,0,0,0,0,0,{"$f":"VLOOKUP(B3604*100+C3604,氏名データ!$AC$2:$AJ$401,2,0)","v":{"$error":"#N/A"}},null,0]
[0,0,0,0,0,0,0,0,0,0,0,{"$f":"VLOOKUP(B3605*100+C3605,氏名データ!$AC$2:$AJ$401,2,0)","v":{"$error":"#N/A"}},null,0]
[0,0,0,0,0,0,0,0,0,0,0,{"$f":"VLOOKUP(B3608*100+C3608,氏名データ!$AC$2:$AJ$401,2,0)","v":{"$error":"#N/A"}},null,0]
[0,0,0,0,0,0,0,0,0,0,0,{"$f":"VLOOKUP(B3610*100+C3610,氏名データ!$AC$2:$AJ$401,2,0)","v":{"$error":"#N/A"}},null,0]
[0,0,0,0,0,0,0,0,0,0,0,{"$f":"VLOOKUP(B3613*100+C3613,氏名データ!$AC$2:$AJ$401,2,0)","v":{"$error":"#N/A"}},null,0]
[0,0,0,0,0,0,0,0,0,0,0,{"$f":"VLOOKUP(B3614*100+C3614,氏名データ!$AC$2:$AJ$401,2,0)","v":{"$error":"#N/A"}},null,0]
[0,0,0,0,0,0,0,0,0,0,0,{"$f":"VLOOKUP(B3617*100+C3617,氏名データ!$AC$2:$AJ$401,2,0)","v":{"$error":"#N/A"}},null,0]
[0,0,0,0,0,0,0,0,0,0,0,{"$f":"VLOOKUP(B3620*100+C3620,氏名データ!$AC$2:$AJ$401,2,0)","v":{"$error":"#N/A"}},null,0]
[0,0,0,0,0,0,0,0,0,0,0,{"$f":"VLOOKUP(B3622*100+C3622,氏名データ!$AC$2:$AJ$401,2,0)","v":{"$error":"#N/A"}},null,0]
[0,0,0,0,0,0,0,0,0,0,0,{"$f":"VLOOKUP(B3623*100+C3623,氏名データ!$AC$2:$AJ$401,2,0)","v":{"$error":"#N/A"}},null,0]
[0,0,0,0,0,0,0,0,0,0,0,{"$f":"VLOOKUP(B3626*100+C3626,氏名データ!$AC$2:$AJ$401,2,0)","v":{"$error":"#N/A"}},null,0]
[0,0,0,0,0,0,0,0,0,0,0,{"$f":"VLOOKUP(B3628*100+C3628,氏名データ!$AC$2:$AJ$401,2,0)","v":{"$error":"#N/A"}},null,0]
[0,0,0,0,0,0,0,0,0,0,0,{"$f":"VLOOKUP(B3631*100+C3631,氏名データ!$AC$2:$AJ$401,2,0)","v":{"$error":"#N/A"}},null,0]
[0,0,0,0,0,0,0,0,0,0,0,{"$f":"VLOOKUP(B3632*100+C3632,氏名データ!$AC$2:$AJ$401,2,0)","v":{"$error":"#N/A"}},null,0]
[0,0,0,0,0,0,0,0,0,0,0,{"$f":"VLOOKUP(B3635*100+C3635,氏名データ!$AC$2:$AJ$401,2,0)","v":{"$error":"#N/A"}},null,0]
[0,0,0,0,0,0,0,0,0,0,0,{"$f":"VLOOKUP(B3638*100+C3638,氏名データ!$AC$2:$AJ$401,2,0)","v":{"$error":"#N/A"}},null,0]
[0,0,0,0,0,0,0,0,0,0,0,{"$f":"VLOOKUP(B3640*100+C3640,氏名データ!$AC$2:$AJ$401,2,0)","v":{"$error":"#N/A"}},null,0]
[{"$f":"P3641","v":0},{"$f":"ROUNDDOWN(A3641/10000,0)","v":0},{"$f":"ROUNDDOWN((A3641-B3641*10000)/100,0)","v":0},{"$f":"Q3641","v":0},{"$f":"R3641","v":0},{"$f":"S3641","v":0},{"$f":"T3641","v":0},0,0,0,{"$f":"Y3641","v":0},{"$f":"VLOOKUP(B3641*100+C3641,氏名データ!$AC$2:$AJ$401,2,0)","v":{"$error":"#N/A"}},null,{"$f":"W3641","v":0}]
[0,0,0,0,0,0,0,0,0,0,0,{"$f":"VLOOKUP(B3644*100+C3644,氏名データ!$AC$2:$AJ$401,2,0)","v":{"$error":"#N/A"}},null,0]
[0,0,0,0,0,0,0,0,0,0,0,{"$f":"VLOOKUP(B3646*100+C3646,氏名データ!$AC$2:$AJ$401,2,0)","v":{"$error":"#N/A"}},null,0]
[0,0,0,0,0,0,0,0,0,0,0,{"$f":"VLOOKUP(B3649*100+C3649,氏名データ!$AC$2:$AJ$401,2,0)","v":{"$error":"#N/A"}},null,0]
[0,0,0,0,0,0,0,0,0,0,0,{"$f":"VLOOKUP(B3650*100+C3650,氏名データ!$AC$2:$AJ$401,2,0)","v":{"$error":"#N/A"}},null,0]
[0,0,0,0,0,0,0,0,0,0,0,{"$f":"VLOOKUP(B3653*100+C3653,氏名データ!$AC$2:$AJ$401,2,0)","v":{"$error":"#N/A"}},null,0]
[0,0,0,0,0,0,0,0,0,0,0,{"$f":"VLOOKUP(B3656*100+C3656,氏名データ!$AC$2:$AJ$401,2,0)","v":{"$error":"#N/A"}},null,0]
[0,0,0,0,0,0,0,0,0,0,0,{"$f":"VLOOKUP(B3658*100+C3658,氏名データ!$AC$2:$AJ$401,2,0)","v":{"$error":"#N/A"}},null,0]
[0,0,0,0,0,0,0,0,0,0,0,{"$f":"VLOOKUP(B3659*100+C3659,氏名データ!$AC$2:$AJ$401,2,0)","v":{"$error":"#N/A"}},null,0]
[0,0,0,0,0,0,0,0,0,0,0,{"$f":"VLOOKUP(B3662*100+C3662,氏名データ!$AC$2:$AJ$401,2,0)","v":{"$error":"#N/A"}},null,0]
[0,0,0,0,0,0,0,0,0,0,0,{"$f":"VLOOKUP(B3664*100+C3664,氏名データ!$AC$2:$AJ$401,2,0)","v":{"$error":"#N/A"}},null,0]
[0,0,0,0,0,0,0,0,0,0,0,{"$f":"VLOOKUP(B3667*100+C3667,氏名データ!$AC$2:$AJ$401,2,0)","v":{"$error":"#N/A"}},null,0]
[0,0,0,0,0,0,0,0,0,0,0,{"$f":"VLOOKUP(B3668*100+C3668,氏名データ!$AC$2:$AJ$401,2,0)","v":{"$error":"#N/A"}},null,0]
[0,0,0,0,0,0,0,0,0,0,0,{"$f":"VLOOKUP(B3671*100+C3671,氏名データ!$AC$2:$AJ$401,2,0)","v":{"$error":"#N/A"}},null,0]
[0,0,0,0,0,0,0,0,0,0,0,{"$f":"VLOOKUP(B3674*100+C3674,氏名データ!$AC$2:$AJ$401,2,0)","v":{"$error":"#N/A"}},null,0]
[0,0,0,0,0,0,0,0,0,0,0,{"$f":"VLOOKUP(B3676*100+C3676,氏名データ!$AC$2:$AJ$401,2,0)","v":{"$error":"#N/A"}},null,0]
[0,0,0,0,0,0,0,0,0,0,0,{"$f":"VLOOKUP(B3677*100+C3677,氏名データ!$AC$2:$AJ$401,2,0)","v":{"$error":"#N/A"}},null,0]
[0,0,0,0,0,0,0,0,0,0,0,{"$f":"VLOOKUP(B3680*100+C3680,氏名データ!$AC$2:$AJ$401,2,0)","v":{"$error":"#N/A"}},null,0]
[0,0,0,0,0,0,0,0,0,0,0,{"$f":"VLOOKUP(B3682*100+C3682,氏名データ!$AC$2:$AJ$401,2,0)","v":{"$error":"#N/A"}},null,0]
[0,0,0,0,0,0,0,0,0,0,0,{"$f":"VLOOKUP(B3685*100+C3685,氏名データ!$AC$2:$AJ$401,2,0)","v":{"$error":"#N/A"}},null,0]
[0,0,0,0,0,0,0,0,0,0,0,{"$f":"VLOOKUP(B3686*100+C3686,氏名データ!$AC$2:$AJ$401,2,0)","v":{"$error":"#N/A"}},null,0]
[0,0,0,0,0,0,0,0,0,0,0,{"$f":"VLOOKUP(B3689*100+C3689,氏名データ!$AC$2:$AJ$401,2,0)","v":{"$error":"#N/A"}},null,0]
[0,0,0,0,0,0,0,0,0,0,0,{"$f":"VLOOKUP(B3692*100+C3692,氏名データ!$AC$2:$AJ$401,2,0)","v":{"$error":"#N/A"}},null,0]
[0,0,0,0,0,0,0,0,0,0,0,{"$f":"VLOOKUP(B3694*100+C3694,氏名データ!$AC$2:$AJ$401,2,0)","v":{"$error":"#N/A"}},null,0]
[0,0,0,0,0,0,0,0,0,0,0,{"$f":"VLOOKUP(B3695*100+C3695,氏名データ!$AC$2:$AJ$401,2,0)","v":{"$error":"#N/A"}},null,0]
[0,0,0,0,0,0,0,0,0,0,0,{"$f":"VLOOKUP(B3698*100+C3698,氏名データ!$AC$2:$AJ$401,2,0)","v":{"$error":"#N/A"}},null,0]
[0,0,0,0,0,0,0,0,0,0,0,{"$f":"VLOOKUP(B3700*100+C3700,氏名データ!$AC$2:$AJ$401,2,0)","v":{"$error":"#N/A"}},null,0]
[0,0,0,0,0,0,0,0,0,0,0,{"$f":"VLOOKUP(B3703*100+C3703,氏名データ!$AC$2:$AJ$401,2,0)","v":{"$error":"#N/A"}},null,0]
[0,0,0,0,0,0,0,0,0,0,0,{"$f":"VLOOKUP(B3704*100+C3704,氏名データ!$AC$2:$AJ$401,2,0)","v":{"$error":"#N/A"}},null,0]
[0,0,0,0,0,0,0,0,0,0,0,{"$f":"VLOOKUP(B3707*100+C3707,氏名データ!$AC$2:$AJ$401,2,0)","v":{"$error":"#N/A"}},null,0]
[0,0,0,0,0,0,0,0,0,0,0,{"$f":"VLOOKUP(B3710*100+C3710,氏名データ!$AC$2:$AJ$401,2,0)","v":{"$error":"#N/A"}},null,0]
[0,0,0,0,0,0,0,0,0,0,0,{"$f":"VLOOKUP(B3712*100+C3712,氏名データ!$AC$2:$AJ$401,2,0)","v":{"$error":"#N/A"}},null,0]
[0,0,0,0,0,0,0,0,0,0,0,{"$f":"VLOOKUP(B3713*100+C3713,氏名データ!$AC$2:$AJ$401,2,0)","v":{"$error":"#N/A"}},null,0]
[0,0,0,0,0,0,0,0,0,0,0,{"$f":"VLOOKUP(B3716*100+C3716,氏名データ!$AC$2:$AJ$401,2,0)","v":{"$error":"#N/A"}},null,0]
[0,0,0,0,0,0,0,0,0,0,0,{"$f":"VLOOKUP(B3718*100+C3718,氏名データ!$AC$2:$AJ$401,2,0)","v":{"$error":"#N/A"}},null,0]
[0,0,0,0,0,0,0,0,0,0,0,{"$f":"VLOOKUP(B3721*100+C3721,氏名データ!$AC$2:$AJ$401,2,0)","v":{"$error":"#N/A"}},null,0]
[0,0,0,0,0,0,0,0,0,0,0,{"$f":"VLOOKUP(B3722*100+C3722,氏名データ!$AC$2:$AJ$401,2,0)","v":{"$error":"#N/A"}},null,0]
[0,0,0,0,0,0,0,0,0,0,0,{"$f":"VLOOKUP(B3725*100+C3725,氏名データ!$AC$2:$AJ$401,2,0)","v":{"$error":"#N/A"}},null,0]
[0,0,0,0,0,0,0,0,0,0,0,{"$f":"VLOOKUP(B3728*100+C3728,氏名データ!$AC$2:$AJ$401,2,0)","v":{"$error":"#N/A"}},null,0]
[0,0,0,0,0,0,0,0,0,0,0,{"$f":"VLOOKUP(B3730*100+C3730,氏名データ!$AC$2:$AJ$401,2,0)","v":{"$error":"#N/A"}},null,0]
[0,0,0,0,0,0,0,0,0,0,0,{"$f":"VLOOKUP(B3731*100+C3731,氏名データ!$AC$2:$AJ$401,2,0)","v":{"$error":"#N/A"}},null,0]
[0,0,0,0,0,0,0,0,0,0,0,{"$f":"VLOOKUP(B3734*100+C3734,氏名データ!$AC$2:$AJ$401,2,0)","v":{"$error":"#N/A"}},null,0]
[0,0,0,0,0,0,0,0,0,0,0,{"$f":"VLOOKUP(B3736*100+C3736,氏名データ!$AC$2:$AJ$401,2,0)","v":{"$error":"#N/A"}},null,0]
[0,0,0,0,0,0,0,0,0,0,0,{"$f":"VLOOKUP(B3739*100+C3739,氏名データ!$AC$2:$AJ$401,2,0)","v":{"$error":"#N/A"}},null,0]
[0,0,0,0,0,0,0,0,0,0,0,{"$f":"VLOOKUP(B3740*100+C3740,氏名データ!$AC$2:$AJ$401,2,0)","v":{"$error":"#N/A"}},null,0]
[0,0,0,0,0,0,0,0,0,0,0,{"$f":"VLOOKUP(B3743*100+C3743,氏名データ!$AC$2:$AJ$401,2,0)","v":{"$error":"#N/A"}},null,0]
[0,0,0,0,0,0,0,0,0,0,0,{"$f":"VLOOKUP(B3744*100+C3744,氏名データ!$AC$2:$AJ$401,2,0)","v":{"$error":"#N/A"}},null,0]
[0,0,0,0,0,0,0,0,0,0,0,{"$f":"VLOOKUP(B3748*100+C3748,氏名データ!$AC$2:$AJ$401,2,0)","v":{"$error":"#N/A"}},null,0]
[0,0,0,0,0,0,0,0,0,0,0,{"$f":"VLOOKUP(B3749*100+C3749,氏名データ!$AC$2:$AJ$401,2,0)","v":{"$error":"#N/A"}},null,0]
[0,0,0,0,0,0,0,0,0,0,0,{"$f":"VLOOKUP(B3752*100+C3752,氏名データ!$AC$2:$AJ$401,2,0)","v":{"$error":"#N/A"}},null,0]
[0,0,0,0,0,0,0,0,0,0,0,{"$f":"VLOOKUP(B3754*100+C3754,氏名データ!$AC$2:$AJ$401,2,0)","v":{"$error":"#N/A"}},null,0]
[0,0,0,0,0,0,0,0,0,0,0,{"$f":"VLOOKUP(B3757*100+C3757,氏名データ!$AC$2:$AJ$401,2,0)","v":{"$error":"#N/A"}},null,0]
[0,0,0,0,0,0,0,0,0,0,0,{"$f":"VLOOKUP(B3758*100+C3758,氏名データ!$AC$2:$AJ$401,2,0)","v":{"$error":"#N/A"}},null,0]
[0,0,0,0,0,0,0,0,0,0,0,{"$f":"VLOOKUP(B3761*100+C3761,氏名データ!$AC$2:$AJ$401,2,0)","v":{"$error":"#N/A"}},null,0]
[0,0,0,0,0,0,0,0,0,0,0,{"$f":"VLOOKUP(B3762*100+C3762,氏名データ!$AC$2:$AJ$401,2,0)","v":{"$error":"#N/A"}},null,0]
[0,0,0,0,0,0,0,0,0,0,0,{"$f":"VLOOKUP(B3766*100+C3766,氏名データ!$AC$2:$AJ$401,2,0)","v":{"$error":"#N/A"}},null,0]
[0,0,0,0,0,0,0,0,0,0,0,{"$f":"VLOOKUP(B3767*100+C3767,氏名データ!$AC$2:$AJ$401,2,0)","v":{"$error":"#N/A"}},null,0]
[0,0,0,0,0,0,0,0,0,0,0,{"$f":"VLOOKUP(B3770*100+C3770,氏名データ!$AC$2:$AJ$401,2,0)","v":{"$error":"#N/A"}},null,0]
[0,0,0,0,0,0,0,0,0,0,0,{"$f":"VLOOKUP(B3772*100+C3772,氏名データ!$AC$2:$AJ$401,2,0)","v":{"$error":"#N/A"}},null,0]
[0,0,0,0,0,0,0,0,0,0,0,{"$f":"VLOOKUP(B3775*100+C3775,氏名データ!$AC$2:$AJ$401,2,0)","v":{"$error":"#N/A"}},null,0]
[0,0,0,0,0,0,0,0,0,0,0,{"$f":"VLOOKUP(B3776*100+C3776,氏名データ!$AC$2:$AJ$401,2,0)","v":{"$error":"#N/A"}},null,0]
[0,0,0,0,0,0,0,{"$f":"U3779","v":0},{"$f":"V3779","v":0},{"$f":"X3779","v":0},0,{"$f":"VLOOKUP(B3779*100+C3779,氏名データ!$AC$2:$AJ$401,2,0)","v":{"$error":"#N/A"}},null,0]
[0,0,0,0,0,0,0,0,0,0,0,{"$f":"VLOOKUP(B3780*100+C3780,氏名データ!$AC$2:$AJ$401,2,0)","v":{"$error":"#N/A"}},null,0]
[0,0,0,0,0,0,0,0,0,0,0,{"$f":"VLOOKUP(B3784*100+C3784,氏名データ!$AC$2:$AJ$401,2,0)","v":{"$error":"#N/A"}},null,0]
[0,0,0,0,0,0,0,0,0,0,0,{"$f":"VLOOKUP(B3785*100+C3785,氏名データ!$AC$2:$AJ$401,2,0)","v":{"$error":"#N/A"}},null,0]
[0,0,0,0,0,0,0,0,0,0,0,{"$f":"VLOOKUP(B3788*100+C3788,氏名データ!$AC$2:$AJ$401,2,0)","v":{"$error":"#N/A"}},null,0]
[0,0,0,0,0,0,0,0,0,0,0,{"$f":"VLOOKUP(B3790*100+C3790,氏名データ!$AC$2:$AJ$401,2,0)","v":{"$error":"#N/A"}},null,0]
[0,0,0,0,0,0,0,0,0,0,0,{"$f":"VLOOKUP(B3793*100+C3793,氏名データ!$AC$2:$AJ$401,2,0)","v":{"$error":"#N/A"}},null,0]
[0,0,0,0,0,0,0,0,0,0,0,{"$f":"VLOOKUP(B3794*100+C3794,氏名データ!$AC$2:$AJ$401,2,0)","v":{"$error":"#N/A"}},null,0]
[0,0,0,0,0,0,0,0,0,0,0,{"$f":"VLOOKUP(B3797*100+C3797,氏名データ!$AC$2:$AJ$401,2,0)","v":{"$error":"#N/A"}},null,0]
[0,0,0,0,0,0,0,0,0,0,0,{"$f":"VLOOKUP(B3798*100+C3798,氏名データ!$AC$2:$AJ$401,2,0)","v":{"$error":"#N/A"}},null,0]
[0,0,0,0,0,0,0,0,0,0,0,{"$f":"VLOOKUP(B3802*100+C3802,氏名データ!$AC$2:$AJ$401,2,0)","v":{"$error":"#N/A"}},null,0]
[0,0,0,0,0,0,0,0,0,0,0,{"$f":"VLOOKUP(B3803*100+C3803,氏名データ!$AC$2:$AJ$401,2,0)","v":{"$error":"#N/A"}},null,0]
[0,0,0,0,0,0,0,0,0,0,0,{"$f":"VLOOKUP(B3806*100+C3806,氏名データ!$AC$2:$AJ$401,2,0)","v":{"$error":"#N/A"}},null,0]
[0,0,0,0,0,0,0,0,0,0,0,{"$f":"VLOOKUP(B3808*100+C3808,氏名データ!$AC$2:$AJ$401,2,0)","v":{"$error":"#N/A"}},null,0]
[0,0,0,0,0,0,0,0,0,0,0,{"$f":"VLOOKUP(B3811*100+C3811,氏名データ!$AC$2:$AJ$401,2,0)","v":{"$error":"#N/A"}},null,0]
[0,0,0,0,0,0,0,0,0,0,0,{"$f":"VLOOKUP(B3812*100+C3812,氏名データ!$AC$2:$AJ$401,2,0)","v":{"$error":"#N/A"}},null,0]
[0,0,0,0,0,0,0,0,0,0,0,{"$f":"VLOOKUP(B3815*100+C3815,氏名データ!$AC$2:$AJ$401,2,0)","v":{"$error":"#N/A"}},null,0]
[0,0,0,0,0,0,0,0,0,0,0,{"$f":"VLOOKUP(B3816*100+C3816,氏名データ!$AC$2:$AJ$401,2,0)","v":{"$error":"#N/A"}},null,0]
[0,0,0,0,0,0,0,0,0,0,0,{"$f":"VLOOKUP(B3820*100+C3820,氏名データ!$AC$2:$AJ$401,2,0)","v":{"$error":"#N/A"}},null,0]
[0,0,0,0,0,0,0,0,0,0,0,{"$f":"VLOOKUP(B3821*100+C3821,氏名データ!$AC$2:$AJ$401,2,0)","v":{"$error":"#N/A"}},null,0]
[0,0,0,0,0,0,0,0,0,0,0,{"$f":"VLOOKUP(B3824*100+C3824,氏名データ!$AC$2:$AJ$401,2,0)","v":{"$error":"#N/A"}},null,0]
[0,0,0,0,0,0,0,0,0,0,0,{"$f":"VLOOKUP(B3826*100+C3826,氏名データ!$AC$2:$AJ$401,2,0)","v":{"$error":"#N/A"}},null,0]
[0,0,0,0,0,0,0,0,0,0,0,{"$f":"VLOOKUP(B3829*100+C3829,氏名データ!$AC$2:$AJ$401,2,0)","v":{"$error":"#N/A"}},null,0]
[0,0,0,0,0,0,0,0,0,0,0,{"$f":"VLOOKUP(B3830*100+C3830,氏名データ!$AC$2:$AJ$401,2,0)","v":{"$error":"#N/A"}},null,0]
[{"$f":"P3833","v":0},{"$f":"ROUNDDOWN(A3833/10000,0)","v":0},{"$f":"ROUNDDOWN((A3833-B3833*10000)/100,0)","v":0},{"$f":"Q3833","v":0},{"$f":"R3833","v":0},{"$f":"S3833","v":0},{"$f":"T3833","v":0},0,0,0,{"$f":"Y3833","v":0},{"$f":"VLOOKUP(B3833*100+C3833,氏名データ!$AC$2:$AJ$401,2,0)","v":{"$error":"#N/A"}},null,{"$f":"W3833","v":0}]
[0,0,0,0,0,0,0,0,0,0,0,{"$f":"VLOOKUP(B3834*100+C3834,氏名データ!$AC$2:$AJ$401,2,0)","v":{"$error":"#N/A"}},null,0]
[0,0,0,0,0,0,0,0,0,0,0,{"$f":"VLOOKUP(B3838*100+C3838,氏名データ!$AC$2:$AJ$401,2,0)","v":{"$error":"#N/A"}},null,0]
[0,0,0,0,0,0,0,0,0,0,0,{"$f":"VLOOKUP(B3839*100+C3839,氏名データ!$AC$2:$AJ$401,2,0)","v":{"$error":"#N/A"}},null,0]
[0,0,0,0,0,0,0,0,0,0,0,{"$f":"VLOOKUP(B3842*100+C3842,氏名データ!$AC$2:$AJ$401,2,0)","v":{"$error":"#N/A"}},null,0]
[0,0,0,0,0,0,0,0,0,0,0,{"$f":"VLOOKUP(B3844*100+C3844,氏名データ!$AC$2:$AJ$401,2,0)","v":{"$error":"#N/A"}},null,0]
[0,0,0,0,0,0,0,0,0,0,0,{"$f":"VLOOKUP(B3847*100+C3847,氏名データ!$AC$2:$AJ$401,2,0)","v":{"$error":"#N/A"}},null,0]
[0,0,0,0,0,0,0,0,0,0,0,{"$f":"VLOOKUP(B3848*100+C3848,氏名データ!$AC$2:$AJ$401,2,0)","v":{"$error":"#N/A"}},null,0]
[0,0,0,0,0,0,0,0,0,0,0,{"$f":"VLOOKUP(B3851*100+C3851,氏名データ!$AC$2:$AJ$401,2,0)","v":{"$error":"#N/A"}},null,0]
[0,0,0,0,0,0,0,0,0,0,0,{"$f":"VLOOKUP(B3852*100+C3852,氏名データ!$AC$2:$AJ$401,2,0)","v":{"$error":"#N/A"}},null,0]
[0,0,0,0,0,0,0,0,0,0,0,{"$f":"VLOOKUP(B3856*100+C3856,氏名データ!$AC$2:$AJ$401,2,0)","v":{"$error":"#N/A"}},null,0]
[0,0,0,0,0,0,0,0,0,0,0,{"$f":"VLOOKUP(B3857*100+C3857,氏名データ!$AC$2:$AJ$401,2,0)","v":{"$error":"#N/A"}},null,0]
[0,0,0,0,0,0,0,0,0,0,0,{"$f":"VLOOKUP(B3860*100+C3860,氏名データ!$AC$2:$AJ$401,2,0)","v":{"$error":"#N/A"}},null,0]
[0,0,0,0,0,0,0,0,0,0,0,{"$f":"VLOOKUP(B3862*100+C3862,氏名データ!$AC$2:$AJ$401,2,0)","v":{"$error":"#N/A"}},null,0]
[0,0,0,0,0,0,0,0,0,0,0,{"$f":"VLOOKUP(B3865*100+C3865,氏名データ!$AC$2:$AJ$401,2,0)","v":{"$error":"#N/A"}},null,0]
[0,0,0,0,0,0,0,0,0,0,0,{"$f":"VLOOKUP(B3866*100+C3866,氏名データ!$AC$2:$AJ$401,2,0)","v":{"$error":"#N/A"}},null,0]
[0,0,0,0,0,0,0,0,0,0,0,{"$f":"VLOOKUP(B3869*100+C3869,氏名データ!$AC$2:$AJ$401,2,0)","v":{"$error":"#N/A"}},null,0]
[0,0,0,0,0,0,0,0,0,0,0,{"$f":"VLOOKUP(B3870*100+C3870,氏名データ!$AC$2:$AJ$401,2,0)","v":{"$error":"#N/A"}},null,0]
[0,0,0,0,0,0,0,0,0,0,0,{"$f":"VLOOKUP(B3874*100+C3874,氏名データ!$AC$2:$AJ$401,2,0)","v":{"$error":"#N/A"}},null,0]
[0,0,0,0,0,0,0,0,0,0,0,{"$f":"VLOOKUP(B3875*100+C3875,氏名データ!$AC$2:$AJ$401,2,0)","v":{"$error":"#N/A"}},null,0]
[0,0,0,0,0,0,0,0,0,0,0,{"$f":"VLOOKUP(B3878*100+C3878,氏名データ!$AC$2:$AJ$401,2,0)","v":{"$error":"#N/A"}},null,0]
[0,0,0,0,0,0,0,0,0,0,0,{"$f":"VLOOKUP(B3880*100+C3880,氏名データ!$AC$2:$AJ$401,2,0)","v":{"$error":"#N/A"}},null,0]
[0,0,0,0,0,0,0,0,0,0,0,{"$f":"VLOOKUP(B3883*100+C3883,氏名データ!$AC$2:$AJ$401,2,0)","v":{"$error":"#N/A"}},null,0]
[0,0,0,0,0,0,0,0,0,0,0,{"$f":"VLOOKUP(B3884*100+C3884,氏名データ!$AC$2:$AJ$401,2,0)","v":{"$error":"#N/A"}},null,0]
[0,0,0,0,0,0,0,0,0,0,0,{"$f":"VLOOKUP(B3887*100+C3887,氏名データ!$AC$2:$AJ$401,2,0)","v":{"$error":"#N/A"}},null,0]
[0,0,0,0,0,0,0,0,0,0,0,{"$f":"VLOOKUP(B3888*100+C3888,氏名データ!$AC$2:$AJ$401,2,0)","v":{"$error":"#N/A"}},null,0]
[0,0,0,0,0,0,0,0,0,0,0,{"$f":"VLOOKUP(B3892*100+C3892,氏名データ!$AC$2:$AJ$401,2,0)","v":{"$error":"#N/A"}},null,0]
[0,0,0,0,0,0,0,0,0,0,0,{"$f":"VLOOKUP(B3893*100+C3893,氏名データ!$AC$2:$AJ$401,2,0)","v":{"$error":"#N/A"}},null,0]
[0,0,0,0,0,0,0,0,0,0,0,{"$f":"VLOOKUP(B3896*100+C3896,氏名データ!$AC$2:$AJ$401,2,0)","v":{"$error":"#N/A"}},null,0]
[0,0,0,0,0,0,0,0,0,0,0,{"$f":"VLOOKUP(B3898*100+C3898,氏名データ!$AC$2:$AJ$401,2,0)","v":{"$error":"#N/A"}},null,0]
[0,0,0,0,0,0,0,0,0,0,0,{"$f":"VLOOKUP(B3901*100+C3901,氏名データ!$AC$2:$AJ$401,2,0)","v":{"$error":"#N/A"}},null,0]
[0,0,0,0,0,0,0,0,0,0,0,{"$f":"VLOOKUP(B3902*100+C3902,氏名データ!$AC$2:$AJ$401,2,0)","v":{"$error":"#N/A"}},null,0]
[0,0,0,0,0,0,0,0,0,0,0,{"$f":"VLOOKUP(B3905*100+C3905,氏名データ!$AC$2:$AJ$401,2,0)","v":{"$error":"#N/A"}},null,0]
[0,0,0,0,0,0,0,0,0,0,0,{"$f":"VLOOKUP(B3906*100+C3906,氏名データ!$AC$2:$AJ$401,2,0)","v":{"$error":"#N/A"}},null,0]
[0,0,0,0,0,0,0,0,0,0,0,{"$f":"VLOOKUP(B3910*100+C3910,氏名データ!$AC$2:$AJ$401,2,0)","v":{"$error":"#N/A"}},null,0]
[0,0,0,0,0,0,0,0,0,0,0,{"$f":"VLOOKUP(B3911*100+C3911,氏名データ!$AC$2:$AJ$401,2,0)","v":{"$error":"#N/A"}},null,0]
[0,0,0,0,0,0,0,0,0,0,0,{"$f":"VLOOKUP(B3914*100+C3914,氏名データ!$AC$2:$AJ$401,2,0)","v":{"$error":"#N/A"}},null,0]
[0,0,0,0,0,0,0,0,0,0,0,{"$f":"VLOOKUP(B3917*100+C3917,氏名データ!$AC$2:$AJ$401,2,0)","v":{"$error":"#N/A"}},null,0]
[0,0,0,0,0,0,0,0,0,0,0,{"$f":"VLOOKUP(B3919*100+C3919,氏名データ!$AC$2:$AJ$401,2,0)","v":{"$error":"#N/A"}},null,0]
[0,0,0,0,0,0,0,0,0,0,0,{"$f":"VLOOKUP(B3920*100+C3920,氏名データ!$AC$2:$AJ$401,2,0)","v":{"$error":"#N/A"}},null,0]
[0,0,0,0,0,0,0,0,0,0,0,{"$f":"VLOOKUP(B3923*100+C3923,氏名データ!$AC$2:$AJ$401,2,0)","v":{"$error":"#N/A"}},null,0]
[0,0,0,0,0,0,0,0,0,0,0,{"$f":"VLOOKUP(B3924*100+C3924,氏名データ!$AC$2:$AJ$401,2,0)","v":{"$error":"#N/A"}},null,0]
[0,0,0,0,0,0,0,0,0,0,0,{"$f":"VLOOKUP(B3928*100+C3928,氏名データ!$AC$2:$AJ$401,2,0)","v":{"$error":"#N/A"}},null,0]
[0,0,0,0,0,0,0,0,0,0,0,{"$f":"VLOOKUP(B3929*100+C3929,氏名データ!$AC$2:$AJ$401,2,0)","v":{"$error":"#N/A"}},null,0]
[0,0,0,0,0,0,0,0,0,0,0,{"$f":"VLOOKUP(B3932*100+C3932,氏名データ!$AC$2:$AJ$401,2,0)","v":{"$error":"#N/A"}},null,0]
[0,0,0,0,0,0,0,0,0,0,0,{"$f":"VLOOKUP(B3935*100+C3935,氏名データ!$AC$2:$AJ$401,2,0)","v":{"$error":"#N/A"}},null,0]
[0,0,0,0,0,0,0,0,0,0,0,{"$f":"VLOOKUP(B3937*100+C3937,氏名データ!$AC$2:$AJ$401,2,0)","v":{"$error":"#N/A"}},null,0]
[0,0,0,0,0,0,0,0,0,0,0,{"$f":"VLOOKUP(B3938*100+C3938,氏名データ!$AC$2:$AJ$401,2,0)","v":{"$error":"#N/A"}},null,0]
[0,0,0,0,0,0,0,0,0,0,0,{"$f":"VLOOKUP(B3941*100+C3941,氏名データ!$AC$2:$AJ$401,2,0)","v":{"$error":"#N/A"}},null,0]
[0,0,0,0,0,0,0,0,0,0,0,{"$f":"VLOOKUP(B3942*100+C3942,氏名データ!$AC$2:$AJ$401,2,0)","v":{"$error":"#N/A"}},null,0]
[0,0,0,0,0,0,0,0,0,0,0,{"$f":"VLOOKUP(B3946*100+C3946,氏名データ!$AC$2:$AJ$401,2,0)","v":{"$error":"#N/A"}},null,0]
[0,0,0,0,0,0,0,0,0,0,0,{"$f":"VLOOKUP(B3947*100+C3947,氏名データ!$AC$2:$AJ$401,2,0)","v":{"$error":"#N/A"}},null,0]
[0,0,0,0,0,0,0,0,0,0,0,{"$f":"VLOOKUP(B3950*100+C3950,氏名データ!$AC$2:$AJ$401,2,0)","v":{"$error":"#N/A"}},null,0]
[0,0,0,0,0,0,0,0,0,0,0,{"$f":"VLOOKUP(B3953*100+C3953,氏名データ!$AC$2:$AJ$401,2,0)","v":{"$error":"#N/A"}},null,0]
[0,0,0,0,0,0,0,0,0,0,0,{"$f":"VLOOKUP(B3955*100+C3955,氏名データ!$AC$2:$AJ$401,2,0)","v":{"$error":"#N/A"}},null,0]
[0,0,0,0,0,0,0,0,0,0,0,{"$f":"VLOOKUP(B3956*100+C3956,氏名データ!$AC$2:$AJ$401,2,0)","v":{"$error":"#N/A"}},null,0]
[0,0,0,0,0,0,0,0,0,0,0,{"$f":"VLOOKUP(B3959*100+C3959,氏名データ!$AC$2:$AJ$401,2,0)","v":{"$error":"#N/A"}},null,0]
[0,0,0,0,0,0,0,0,0,0,0,{"$f":"VLOOKUP(B3960*100+C3960,氏名データ!$AC$2:$AJ$401,2,0)","v":{"$error":"#N/A"}},null,0]
[0,0,0,0,0,0,0,0,0,0,0,{"$f":"VLOOKUP(B3964*100+C3964,氏名データ!$AC$2:$AJ$401,2,0)","v":{"$error":"#N/A"}},null,0]
[0,0,0,0,0,0,0,0,0,0,0,{"$f":"VLOOKUP(B3965*100+C3965,氏名データ!$AC$2:$AJ$401,2,0)","v":{"$error":"#N/A"}},null,0]
[0,0,0,0,0,0,0,0,0,0,0,{"$f":"VLOOKUP(B3968*100+C3968,氏名データ!$AC$2:$AJ$401,2,0)","v":{"$error":"#N/A"}},null,0]
[0,0,0,0,0,0,0,{"$f":"U3971","v":0},{"$f":"V3971","v":0},{"$f":"X3971","v":0},0,{"$f":"VLOOKUP(B3971*100+C3971,氏名データ!$AC$2:$AJ$401,2,0)","v":{"$error":"#N/A"}},null,0]
[0,0,0,0,0,0,0,0,0,0,0,{"$f":"VLOOKUP(B3973*100+C3973,氏名データ!$AC$2:$AJ$401,2,0)","v":{"$error":"#N/A"}},null,0]
[0,0,0,0,0,0,0,0,0,0,0,{"$f":"VLOOKUP(B3974*100+C3974,氏名データ!$AC$2:$AJ$401,2,0)","v":{"$error":"#N/A"}},null,0]
[0,0,0,0,0,0,0,0,0,0,0,{"$f":"VLOOKUP(B3977*100+C3977,氏名データ!$AC$2:$AJ$401,2,0)","v":{"$error":"#N/A"}},null,0]
[0,0,0,0,0,0,0,0,0,0,0,{"$f":"VLOOKUP(B3978*100+C3978,氏名データ!$AC$2:$AJ$401,2,0)","v":{"$error":"#N/A"}},null,0]
[0,0,0,0,0,0,0,0,0,0,0,{"$f":"VLOOKUP(B3982*100+C3982,氏名データ!$AC$2:$AJ$401,2,0)","v":{"$error":"#N/A"}},null,0]
[0,0,0,0,0,0,0,0,0,0,0,{"$f":"VLOOKUP(B3983*100+C3983,氏名データ!$AC$2:$AJ$401,2,0)","v":{"$error":"#N/A"}},null,0]
[0,0,0,0,0,0,0,0,0,0,0,{"$f":"VLOOKUP(B3986*100+C3986,氏名データ!$AC$2:$AJ$401,2,0)","v":{"$error":"#N/A"}},null,0]
[0,0,0,0,0,0,0,0,0,0,0,{"$f":"VLOOKUP(B3989*100+C3989,氏名データ!$AC$2:$AJ$401,2,0)","v":{"$error":"#N/A"}},null,0]
[0,0,0,0,0,0,0,0,0,0,0,{"$f":"VLOOKUP(B3991*100+C3991,氏名データ!$AC$2:$AJ$401,2,0)","v":{"$error":"#N/A"}},null,0]
[0,0,0,0,0,0,0,0,0,0,0,{"$f":"VLOOKUP(B3992*100+C3992,氏名データ!$AC$2:$AJ$401,2,0)","v":{"$error":"#N/A"}},null,0]
[0,0,0,0,0,0,0,0,0,0,0,{"$f":"VLOOKUP(B3995*100+C3995,氏名データ!$AC$2:$AJ$401,2,0)","v":{"$error":"#N/A"}},null,0]
[0,0,0,0,0,0,0,0,0,0,0,{"$f":"VLOOKUP(B3996*100+C3996,氏名データ!$AC$2:$AJ$401,2,0)","v":{"$error":"#N/A"}},null,0]
[0,0,0,0,0,0,0,0,0,0,0,{"$f":"VLOOKUP(B4000*100+C4000,氏名データ!$AC$2:$AJ$401,2,0)","v":{"$error":"#N/A"}},null,0]
[0,0,0,0,0,0,0,0,0,0,0,{"$f":"VLOOKUP(B4001*100+C4001,氏名データ!$AC$2:$AJ$401,2,0)","v":{"$error":"#N/A"}},null,0]
[0,0,0,0,0,0,0,0,0,0,0,{"$f":"VLOOKUP(B4004*100+C4004,氏名データ!$AC$2:$AJ$401,2,0)","v":{"$error":"#N/A"}},null,0]
[0,0,0,0,0,0,0,0,0,0,0,{"$f":"VLOOKUP(B4007*100+C4007,氏名データ!$AC$2:$AJ$401,2,0)","v":{"$error":"#N/A"}},null,0]
[0,0,0,0,0,0,0,0,0,0,0,{"$f":"VLOOKUP(B4009*100+C4009,氏名データ!$AC$2:$AJ$401,2,0)","v":{"$error":"#N/A"}},null,0]
[0,0,0,0,0,0,0,0,0,0,0,{"$f":"VLOOKUP(B4010*100+C4010,氏名データ!$AC$2:$AJ$401,2,0)","v":{"$error":"#N/A"}},null,0]
[0,0,0,0,0,0,0,0,0,0,0,{"$f":"VLOOKUP(B4013*100+C4013,氏名データ!$AC$2:$AJ$401,2,0)","v":{"$error":"#N/A"}},null,0]
[0,0,0,0,0,0,0,0,0,0,0,{"$f":"VLOOKUP(B4014*100+C4014,氏名データ!$AC$2:$AJ$401,2,0)","v":{"$error":"#N/A"}},null,0]
[0,0,0,0,0,0,0,0,0,0,0,{"$f":"VLOOKUP(B4018*100+C4018,氏名データ!$AC$2:$AJ$401,2,0)","v":{"$error":"#N/A"}},null,0]
[0,0,0,0,0,0,0,0,0,0,0,{"$f":"VLOOKUP(B4019*100+C4019,氏名データ!$AC$2:$AJ$401,2,0)","v":{"$error":"#N/A"}},null,0]
[0,0,0,0,0,0,0,0,0,0,0,{"$f":"VLOOKUP(B4022*100+C4022,氏名データ!$AC$2:$AJ$401,2,0)","v":{"$error":"#N/A"}},null,0]
[{"$f":"P4025","v":0},{"$f":"ROUNDDOWN(A4025/10000,0)","v":0},{"$f":"ROUNDDOWN((A4025-B4025*10000)/100,0)","v":0},{"$f":"Q4025","v":0},{"$f":"R4025","v":0},{"$f":"S4025","v":0},{"$f":"T4025","v":0},0,0,0,{"$f":"Y4025","v":0},{"$f":"VLOOKUP(B4025*100+C4025,氏名データ!$AC$2:$AJ$401,2,0)","v":{"$error":"#N/A"}},null,{"$f":"W4025","v":0}]
[0,0,0,0,0,0,0,0,0,0,0,{"$f":"VLOOKUP(B4027*100+C4027,氏名データ!$AC$2:$AJ$401,2,0)","v":{"$error":"#N/A"}},null,0]
[0,0,0,0,0,0,0,0,0,0,0,{"$f":"VLOOKUP(B4028*100+C4028,氏名データ!$AC$2:$AJ$401,2,0)","v":{"$error":"#N/A"}},null,0]
[0,0,0,0,0,0,0,0,0,0,0,{"$f":"VLOOKUP(B4031*100+C4031,氏名データ!$AC$2:$AJ$401,2,0)","v":{"$error":"#N/A"}},null,0]
[0,0,0,0,0,0,0,0,0,0,0,{"$f":"VLOOKUP(B4032*100+C4032,氏名データ!$AC$2:$AJ$401,2,0)","v":{"$error":"#N/A"}},null,0]
[0,0,0,0,0,0,0,0,0,0,0,{"$f":"VLOOKUP(B4036*100+C4036,氏名データ!$AC$2:$AJ$401,2,0)","v":{"$error":"#N/A"}},null,0]
[0,0,0,0,0,0,0,0,0,0,0,{"$f":"VLOOKUP(B4037*100+C4037,氏名データ!$AC$2:$AJ$401,2,0)","v":{"$error":"#N/A"}},null,0]
[0,0,0,0,0,0,0,0,0,0,0,{"$f":"VLOOKUP(B4040*100+C4040,氏名データ!$AC$2:$AJ$401,2,0)","v":{"$error":"#N/A"}},null,0]
[0,0,0,0,0,0,0,0,0,0,0,{"$f":"VLOOKUP(B4043*100+C4043,氏名データ!$AC$2:$AJ$401,2,0)","v":{"$error":"#N/A"}},null,0]
[0,0,0,0,0,0,0,0,0,0,0,{"$f":"VLOOKUP(B4045*100+C4045,氏名データ!$AC$2:$AJ$401,2,0)","v":{"$error":"#N/A"}},null,0]
[0,0,0,0,0,0,0,0,0,0,0,{"$f":"VLOOKUP(B4046*100+C4046,氏名データ!$AC$2:$AJ$401,2,0)","v":{"$error":"#N/A"}},null,0]
[0,0,0,0,0,0,0,0,0,0,0,{"$f":"VLOOKUP(B4049*100+C4049,氏名データ!$AC$2:$AJ$401,2,0)","v":{"$error":"#N/A"}},null,0]
[0,0,0,0,0,0,0,0,0,0,0,{"$f":"VLOOKUP(B4050*100+C4050,氏名データ!$AC$2:$AJ$401,2,0)","v":{"$error":"#N/A"}},null,0]
[0,0,0,0,0,0,0,0,0,0,0,{"$f":"VLOOKUP(B4054*100+C4054,氏名データ!$AC$2:$AJ$401,2,0)","v":{"$error":"#N/A"}},null,0]
[0,0,0,0,0,0,0,0,0,0,0,{"$f":"VLOOKUP(B4055*100+C4055,氏名データ!$AC$2:$AJ$401,2,0)","v":{"$error":"#N/A"}},null,0]
[0,0,0,0,0,0,0,0,0,0,0,{"$f":"VLOOKUP(B4058*100+C4058,氏名データ!$AC$2:$AJ$401,2,0)","v":{"$error":"#N/A"}},null,0]
[0,0,0,0,0,0,0,0,0,0,0,{"$f":"VLOOKUP(B4061*100+C4061,氏名データ!$AC$2:$AJ$401,2,0)","v":{"$error":"#N/A"}},null,0]
[0,0,0,0,0,0,0,0,0,0,0,{"$f":"VLOOKUP(B4063*100+C4063,氏名データ!$AC$2:$AJ$401,2,0)","v":{"$error":"#N/A"}},null,0]
[0,0,0,0,0,0,0,0,0,0,0,{"$f":"VLOOKUP(B4064*100+C4064,氏名データ!$AC$2:$AJ$401,2,0)","v":{"$error":"#N/A"}},null,0]
[0,0,0,0,0,0,0,0,0,0,0,{"$f":"VLOOKUP(B4067*100+C4067,氏名データ!$AC$2:$AJ$401,2,0)","v":{"$error":"#N/A"}},null,0]
[0,0,0,0,0,0,0,0,0,0,0,{"$f":"VLOOKUP(B4069*100+C4069,氏名データ!$AC$2:$AJ$401,2,0)","v":{"$error":"#N/A"}},null,0]
[0,0,0,0,0,0,0,0,0,0,0,{"$f":"VLOOKUP(B4072*100+C4072,氏名データ!$AC$2:$AJ$401,2,0)","v":{"$error":"#N/A"}},null,0]
[0,0,0,0,0,0,0,0,0,0,0,{"$f":"VLOOKUP(B4073*100+C4073,氏名データ!$AC$2:$AJ$401,2,0)","v":{"$error":"#N/A"}},null,0]
[0,0,0,0,0,0,0,0,0,0,0,{"$f":"VLOOKUP(B4076*100+C4076,氏名データ!$AC$2:$AJ$401,2,0)","v":{"$error":"#N/A"}},null,0]
[0,0,0,0,0,0,0,0,0,0,0,{"$f":"VLOOKUP(B4079*100+C4079,氏名データ!$AC$2:$AJ$401,2,0)","v":{"$error":"#N/A"}},null,0]
[0,0,0,0,0,0,0,0,0,0,0,{"$f":"VLOOKUP(B4081*100+C4081,氏名データ!$AC$2:$AJ$401,2,0)","v":{"$error":"#N/A"}},null,0]
[0,0,0,0,0,0,0,0,0,0,0,{"$f":"VLOOKUP(B4082*100+C4082,氏名データ!$AC$2:$AJ$401,2,0)","v":{"$error":"#N/A"}},null,0]
[0,0,0,0,0,0,0,0,0,0,0,{"$f":"VLOOKUP(B4085*100+C4085,氏名データ!$AC$2:$AJ$401,2,0)","v":{"$error":"#N/A"}},null,0]
[0,0,0,0,0,0,0,0,0,0,0,{"$f":"VLOOKUP(B4087*100+C4087,氏名データ!$AC$2:$AJ$401,2,0)","v":{"$error":"#N/A"}},null,0]
[0,0,0,0,0,0,0,0,0,0,0,{"$f":"VLOOKUP(B4090*100+C4090,氏名データ!$AC$2:$AJ$401,2,0)","v":{"$error":"#N/A"}},null,0]
[0,0,0,0,0,0,0,0,0,0,0,{"$f":"VLOOKUP(B4091*100+C4091,氏名データ!$AC$2:$AJ$401,2,0)","v":{"$error":"#N/A"}},null,0]
[0,0,0,0,0,0,0,0,0,0,0,{"$f":"VLOOKUP(B4094*100+C4094,氏名データ!$AC$2:$AJ$401,2,0)","v":{"$error":"#N/A"}},null,0]
[0,0,0,0,0,0,0,0,0,0,0,{"$f":"VLOOKUP(B4097*100+C4097,氏名データ!$AC$2:$AJ$401,2,0)","v":{"$error":"#N/A"}},null,0]
[0,0,0,0,0,0,0,{"$f":"U4099","v":0},{"$f":"V4099","v":0},{"$f":"X4099","v":0},0,{"$f":"VLOOKUP(B4099*100+C4099,氏名データ!$AC$2:$AJ$401,2,0)","v":{"$error":"#N/A"}},null,0]
[0,0,0,0,0,0,0,0,0,0,0,{"$f":"VLOOKUP(B4100*100+C4100,氏名データ!$AC$2:$AJ$401,2,0)","v":{"$error":"#N/A"}},null,0]
[0,0,0,0,0,0,0,0,0,0,0,{"$f":"VLOOKUP(B4103*100+C4103,氏名データ!$AC$2:$AJ$401,2,0)","v":{"$error":"#N/A"}},null,0]
[0,0,0,0,0,0,0,0,0,0,0,{"$f":"VLOOKUP(B4105*100+C4105,氏名データ!$AC$2:$AJ$401,2,0)","v":{"$error":"#N/A"}},null,0]
[0,0,0,0,0,0,0,0,0,0,0,{"$f":"VLOOKUP(B4108*100+C4108,氏名データ!$AC$2:$AJ$401,2,0)","v":{"$error":"#N/A"}},null,0]
[0,0,0,0,0,0,0,0,0,0,0,{"$f":"VLOOKUP(B4109*100+C4109,氏名データ!$AC$2:$AJ$401,2,0)","v":{"$error":"#N/A"}},null,0]
[0,0,0,0,0,0,0,0,0,0,0,{"$f":"VLOOKUP(B4112*100+C4112,氏名データ!$AC$2:$AJ$401,2,0)","v":{"$error":"#N/A"}},null,0]
[0,0,0,0,0,0,0,0,0,0,0,{"$f":"VLOOKUP(B4115*100+C4115,氏名データ!$AC$2:$AJ$401,2,0)","v":{"$error":"#N/A"}},null,0]
[0,0,0,0,0,0,0,0,0,0,0,{"$f":"VLOOKUP(B4117*100+C4117,氏名データ!$AC$2:$AJ$401,2,0)","v":{"$error":"#N/A"}},null,0]
[0,0,0,0,0,0,0,0,0,0,0,{"$f":"VLOOKUP(B4118*100+C4118,氏名データ!$AC$2:$AJ$401,2,0)","v":{"$error":"#N/A"}},null,0]
[0,0,0,0,0,0,0,0,0,0,0,{"$f":"VLOOKUP(B4121*100+C4121,氏名データ!$AC$2:$AJ$401,2,0)","v":{"$error":"#N/A"}},null,0]
[0,0,0,0,0,0,0,0,0,0,0,{"$f":"VLOOKUP(B4123*100+C4123,氏名データ!$AC$2:$AJ$401,2,0)","v":{"$error":"#N/A"}},null,0]
[0,0,0,0,0,0,0,0,0,0,0,{"$f":"VLOOKUP(B4126*100+C4126,氏名データ!$AC$2:$AJ$401,2,0)","v":{"$error":"#N/A"}},null,0]
[0,0,0,0,0,0,0,0,0,0,0,{"$f":"VLOOKUP(B4127*100+C4127,氏名データ!$AC$2:$AJ$401,2,0)","v":{"$error":"#N/A"}},null,0]
[0,0,0,0,0,0,0,0,0,0,0,{"$f":"VLOOKUP(B4130*100+C4130,氏名データ!$AC$2:$AJ$401,2,0)","v":{"$error":"#N/A"}},null,0]
[0,0,0,0,0,0,0,0,0,0,0,{"$f":"VLOOKUP(B4133*100+C4133,氏名データ!$AC$2:$AJ$401,2,0)","v":{"$error":"#N/A"}},null,0]
[0,0,0,0,0,0,0,0,0,0,0,{"$f":"VLOOKUP(B4135*100+C4135,氏名データ!$AC$2:$AJ$401,2,0)","v":{"$error":"#N/A"}},null,0]
[0,0,0,0,0,0,0,0,0,0,0,{"$f":"VLOOKUP(B4136*100+C4136,氏名データ!$AC$2:$AJ$401,2,0)","v":{"$error":"#N/A"}},null,0]
[0,0,0,0,0,0,0,0,0,0,0,{"$f":"VLOOKUP(B4139*100+C4139,氏名データ!$AC$2:$AJ$401,2,0)","v":{"$error":"#N/A"}},null,0]
[0,0,0,0,0,0,0,0,0,0,0,{"$f":"VLOOKUP(B4141*100+C4141,氏名データ!$AC$2:$AJ$401,2,0)","v":{"$error":"#N/A"}},null,0]
[0,0,0,0,0,0,0,0,0,0,0,{"$f":"VLOOKUP(B4144*100+C4144,氏名データ!$AC$2:$AJ$401,2,0)","v":{"$error":"#N/A"}},null,0]
[0,0,0,0,0,0,0,0,0,0,0,{"$f":"VLOOKUP(B4145*100+C4145,氏名データ!$AC$2:$AJ$401,2,0)","v":{"$error":"#N/A"}},null,0]
[0,0,0,0,0,0,0,0,0,0,0,{"$f":"VLOOKUP(B4148*100+C4148,氏名データ!$AC$2:$AJ$401,2,0)","v":{"$error":"#N/A"}},null,0]
[0,0,0,0,0,0,0,0,0,0,0,{"$f":"VLOOKUP(B4151*100+C4151,氏名データ!$AC$2:$AJ$401,2,0)","v":{"$error":"#N/A"}},null,0]
[{"$f":"P4153","v":0},{"$f":"ROUNDDOWN(A4153/10000,0)","v":0},{"$f":"ROUNDDOWN((A4153-B4153*10000)/100,0)","v":0},{"$f":"Q4153","v":0},{"$f":"R4153","v":0},{"$f":"S4153","v":0},{"$f":"T4153","v":0},0,0,0,{"$f":"Y4153","v":0},{"$f":"VLOOKUP(B4153*100+C4153,氏名データ!$AC$2:$AJ$401,2,0)","v":{"$error":"#N/A"}},null,{"$f":"W4153","v":0}]
[0,0,0,0,0,0,0,0,0,0,0,{"$f":"VLOOKUP(B4154*100+C4154,氏名データ!$AC$2:$AJ$401,2,0)","v":{"$error":"#N/A"}},null,0]
[0,0,0,0,0,0,0,0,0,0,0,{"$f":"VLOOKUP(B4157*100+C4157,氏名データ!$AC$2:$AJ$401,2,0)","v":{"$error":"#N/A"}},null,0]
[0,0,0,0,0,0,0,0,0,0,0,{"$f":"VLOOKUP(B4159*100+C4159,氏名データ!$AC$2:$AJ$401,2,0)","v":{"$error":"#N/A"}},null,0]
[0,0,0,0,0,0,0,0,0,0,0,{"$f":"VLOOKUP(B4162*100+C4162,氏名データ!$AC$2:$AJ$401,2,0)","v":{"$error":"#N/A"}},null,0]
[0,0,0,0,0,0,0,{"$f":"U4163","v":0},{"$f":"V4163","v":0},{"$f":"X4163","v":0},0,{"$f":"VLOOKUP(B4163*100+C4163,氏名データ!$AC$2:$AJ$401,2,0)","v":{"$error":"#N/A"}},null,0]
[0,0,0,0,0,0,0,0,0,0,0,{"$f":"VLOOKUP(B4166*100+C4166,氏名データ!$AC$2:$AJ$401,2,0)","v":{"$error":"#N/A"}},null,0]
[0,0,0,0,0,0,0,0,0,0,0,{"$f":"VLOOKUP(B4169*100+C4169,氏名データ!$AC$2:$AJ$401,2,0)","v":{"$error":"#N/A"}},null,0]
[0,0,0,0,0,0,0,0,0,0,0,{"$f":"VLOOKUP(B4171*100+C4171,氏名データ!$AC$2:$AJ$401,2,0)","v":{"$error":"#N/A"}},null,0]
[0,0,0,0,0,0,0,0,0,0,0,{"$f":"VLOOKUP(B4172*100+C4172,氏名データ!$AC$2:$AJ$401,2,0)","v":{"$error":"#N/A"}},null,0]
[0,0,0,0,0,0,0,0,0,0,0,{"$f":"VLOOKUP(B4175*100+C4175,氏名データ!$AC$2:$AJ$401,2,0)","v":{"$error":"#N/A"}},null,0]
[0,0,0,0,0,0,0,0,0,0,0,{"$f":"VLOOKUP(B4177*100+C4177,氏名データ!$AC$2:$AJ$401,2,0)","v":{"$error":"#N/A"}},null,0]
[0,0,0,0,0,0,0,0,0,0,0,{"$f":"VLOOKUP(B4180*100+C4180,氏名データ!$AC$2:$AJ$401,2,0)","v":{"$error":"#N/A"}},null,0]
[0,0,0,0,0,0,0,0,0,0,0,{"$f":"VLOOKUP(B4181*100+C4181,氏名データ!$AC$2:$AJ$401,2,0)","v":{"$error":"#N/A"}},null,0]
[0,0,0,0,0,0,0,0,0,0,0,{"$f":"VLOOKUP(B4184*100+C4184,氏名データ!$AC$2:$AJ$401,2,0)","v":{"$error":"#N/A"}},null,0]
[0,0,0,0,0,0,0,0,0,0,0,{"$f":"VLOOKUP(B4187*100+C4187,氏名データ!$AC$2:$AJ$401,2,0)","v":{"$error":"#N/A"}},null,0]
[0,0,0,0,0,0,0,0,0,0,0,{"$f":"VLOOKUP(B4189*100+C4189,氏名データ!$AC$2:$AJ$401,2,0)","v":{"$error":"#N/A"}},null,0]
[0,0,0,0,0,0,0,0,0,0,0,{"$f":"VLOOKUP(B4190*100+C4190,氏名データ!$AC$2:$AJ$401,2,0)","v":{"$error":"#N/A"}},null,0]
[0,0,0,0,0,0,0,0,0,0,0,{"$f":"VLOOKUP(B4193*100+C4193,氏名データ!$AC$2:$AJ$401,2,0)","v":{"$error":"#N/A"}},null,0]
[0,0,0,0,0,0,0,0,0,0,0,{"$f":"VLOOKUP(B4195*100+C4195,氏名データ!$AC$2:$AJ$401,2,0)","v":{"$error":"#N/A"}},null,0]
[0,0,0,0,0,0,0,0,0,0,0,{"$f":"VLOOKUP(B4198*100+C4198,氏名データ!$AC$2:$AJ$401,2,0)","v":{"$error":"#N/A"}},null,0]
[0,0,0,0,0,0,0,0,0,0,0,{"$f":"VLOOKUP(B4199*100+C4199,氏名データ!$AC$2:$AJ$401,2,0)","v":{"$error":"#N/A"}},null,0]
[0,0,0,0,0,0,0,0,0,0,0,{"$f":"VLOOKUP(B4202*100+C4202,氏名データ!$AC$2:$AJ$401,2,0)","v":{"$error":"#N/A"}},null,0]
[0,0,0,0,0,0,0,0,0,0,0,{"$f":"VLOOKUP(B4205*100+C4205,氏名データ!$AC$2:$AJ$401,2,0)","v":{"$error":"#N/A"}},null,0]
[0,0,0,0,0,0,0,0,0,0,0,{"$f":"VLOOKUP(B4207*100+C4207,氏名データ!$AC$2:$AJ$401,2,0)","v":{"$error":"#N/A"}},null,0]
[0,0,0,0,0,0,0,0,0,0,0,{"$f":"VLOOKUP(B4208*100+C4208,氏名データ!$AC$2:$AJ$401,2,0)","v":{"$error":"#N/A"}},null,0]
[0,0,0,0,0,0,0,0,0,0,0,{"$f":"VLOOKUP(B4211*100+C4211,氏名データ!$AC$2:$AJ$401,2,0)","v":{"$error":"#N/A"}},null,0]
[0,0,0,0,0,0,0,0,0,0,0,{"$f":"VLOOKUP(B4213*100+C4213,氏名データ!$AC$2:$AJ$401,2,0)","v":{"$error":"#N/A"}},null,0]
[0,0,0,0,0,0,0,0,0,0,0,{"$f":"VLOOKUP(B4216*100+C4216,氏名データ!$AC$2:$AJ$401,2,0)","v":{"$error":"#N/A"}},null,0]
[{"$f":"P4217","v":0},{"$f":"ROUNDDOWN(A4217/10000,0)","v":0},{"$f":"ROUNDDOWN((A4217-B4217*10000)/100,0)","v":0},{"$f":"Q4217","v":0},{"$f":"R4217","v":0},{"$f":"S4217","v":0},{"$f":"T4217","v":0},0,0,0,{"$f":"Y4217","v":0},{"$f":"VLOOKUP(B4217*100+C4217,氏名データ!$AC$2:$AJ$401,2,0)","v":{"$error":"#N/A"}},null,{"$f":"W4217","v":0}]
[0,0,0,0,0,0,0,0,0,0,0,{"$f":"VLOOKUP(B4220*100+C4220,氏名データ!$AC$2:$AJ$401,2,0)","v":{"$error":"#N/A"}},null,0]
[0,0,0,0,0,0,0,0,0,0,0,{"$f":"VLOOKUP(B4221*100+C4221,氏名データ!$AC$2:$AJ$401,2,0)","v":{"$error":"#N/A"}},null,0]
[0,0,0,0,0,0,0,0,0,0,0,{"$f":"VLOOKUP(B4225*100+C4225,氏名データ!$AC$2:$AJ$401,2,0)","v":{"$error":"#N/A"}},null,0]
[0,0,0,0,0,0,0,0,0,0,0,{"$f":"VLOOKUP(B4226*100+C4226,氏名データ!$AC$2:$AJ$401,2,0)","v":{"$error":"#N/A"}},null,0]
[0,0,0,0,0,0,0,0,0,0,0,{"$f":"VLOOKUP(B4229*100+C4229,氏名データ!$AC$2:$AJ$401,2,0)","v":{"$error":"#N/A"}},null,0]
[0,0,0,0,0,0,0,0,0,0,0,{"$f":"VLOOKUP(B4231*100+C4231,氏名データ!$AC$2:$AJ$401,2,0)","v":{"$error":"#N/A"}},null,0]
[0,0,0,0,0,0,0,0,0,0,0,{"$f":"VLOOKUP(B4234*100+C4234,氏名データ!$AC$2:$AJ$401,2,0)","v":{"$error":"#N/A"}},null,0]
[0,0,0,0,0,0,0,0,0,0,0,{"$f":"VLOOKUP(B4235*100+C4235,氏名データ!$AC$2:$AJ$401,2,0)","v":{"$error":"#N/A"}},null,0]
[0,0,0,0,0,0,0,0,0,0,0,{"$f":"VLOOKUP(B4238*100+C4238,氏名データ!$AC$2:$AJ$401,2,0)","v":{"$error":"#N/A"}},null,0]
[0,0,0,0,0,0,0,0,0,0,0,{"$f":"VLOOKUP(B4239*100+C4239,氏名データ!$AC$2:$AJ$401,2,0)","v":{"$error":"#N/A"}},null,0]
[0,0,0,0,0,0,0,0,0,0,0,{"$f":"VLOOKUP(B4243*100+C4243,氏名データ!$AC$2:$AJ$401,2,0)","v":{"$error":"#N/A"}},null,0]
[0,0,0,0,0,0,0,0,0,0,0,{"$f":"VLOOKUP(B4244*100+C4244,氏名データ!$AC$2:$AJ$401,2,0)","v":{"$error":"#N/A"}},null,0]
[0,0,0,0,0,0,0,0,0,0,0,{"$f":"VLOOKUP(B4247*100+C4247,氏名データ!$AC$2:$AJ$401,2,0)","v":{"$error":"#N/A"}},null,0]
[0,0,0,0,0,0,0,0,0,0,0,{"$f":"VLOOKUP(B4249*100+C4249,氏名データ!$AC$2:$AJ$401,2,0)","v":{"$error":"#N/A"}},null,0]
[0,0,0,0,0,0,0,0,0,0,0,{"$f":"VLOOKUP(B4252*100+C4252,氏名データ!$AC$2:$AJ$401,2,0)","v":{"$error":"#N/A"}},null,0]
[0,0,0,0,0,0,0,0,0,0,0,{"$f":"VLOOKUP(B4253*100+C4253,氏名データ!$AC$2:$AJ$401,2,0)","v":{"$error":"#N/A"}},null,0]
[0,0,0,0,0,0,0,0,0,0,0,{"$f":"VLOOKUP(B4256*100+C4256,氏名データ!$AC$2:$AJ$401,2,0)","v":{"$error":"#N/A"}},null,0]
[0,0,0,0,0,0,0,0,0,0,0,{"$f":"VLOOKUP(B4257*100+C4257,氏名データ!$AC$2:$AJ$401,2,0)","v":{"$error":"#N/A"}},null,0]
[0,0,0,0,0,0,0,0,0,0,0,{"$f":"VLOOKUP(B4261*100+C4261,氏名データ!$AC$2:$AJ$401,2,0)","v":{"$error":"#N/A"}},null,0]
[0,0,0,0,0,0,0,0,0,0,0,{"$f":"VLOOKUP(B4262*100+C4262,氏名データ!$AC$2:$AJ$401,2,0)","v":{"$error":"#N/A"}},null,0]
[0,0,0,0,0,0,0,0,0,0,0,{"$f":"VLOOKUP(B4265*100+C4265,氏名データ!$AC$2:$AJ$401,2,0)","v":{"$error":"#N/A"}},null,0]
[0,0,0,0,0,0,0,0,0,0,0,{"$f":"VLOOKUP(B4267*100+C4267,氏名データ!$AC$2:$AJ$401,2,0)","v":{"$error":"#N/A"}},null,0]
[0,0,0,0,0,0,0,0,0,0,0,{"$f":"VLOOKUP(B4270*100+C4270,氏名データ!$AC$2:$AJ$401,2,0)","v":{"$error":"#N/A"}},null,0]
[0,0,0,0,0,0,0,0,0,0,0,{"$f":"VLOOKUP(B4271*100+C4271,氏名データ!$AC$2:$AJ$401,2,0)","v":{"$error":"#N/A"}},null,0]
[0,0,0,0,0,0,0,0,0,0,0,{"$f":"VLOOKUP(B4274*100+C4274,氏名データ!$AC$2:$AJ$401,2,0)","v":{"$error":"#N/A"}},null,0]
[0,0,0,0,0,0,0,0,0,0,0,{"$f":"VLOOKUP(B4275*100+C4275,氏名データ!$AC$2:$AJ$401,2,0)","v":{"$error":"#N/A"}},null,0]
[0,0,0,0,0,0,0,0,0,0,0,{"$f":"VLOOKUP(B4279*100+C4279,氏名データ!$AC$2:$AJ$401,2,0)","v":{"$error":"#N/A"}},null,0]
[0,0,0,0,0,0,0,0,0,0,0,{"$f":"VLOOKUP(B4280*100+C4280,氏名データ!$AC$2:$AJ$401,2,0)","v":{"$error":"#N/A"}},null,0]
[0,0,0,0,0,0,0,0,0,0,0,{"$f":"VLOOKUP(B4283*100+C4283,氏名データ!$AC$2:$AJ$401,2,0)","v":{"$error":"#N/A"}},null,0]
[0,0,0,0,0,0,0,0,0,0,0,{"$f":"VLOOKUP(B4285*100+C4285,氏名データ!$AC$2:$AJ$401,2,0)","v":{"$error":"#N/A"}},null,0]
[0,0,0,0,0,0,0,0,0,0,0,{"$f":"VLOOKUP(B4288*100+C4288,氏名データ!$AC$2:$AJ$401,2,0)","v":{"$error":"#N/A"}},null,0]
[0,0,0,0,0,0,0,0,0,0,0,{"$f":"VLOOKUP(B4289*100+C4289,氏名データ!$AC$2:$AJ$401,2,0)","v":{"$error":"#N/A"}},null,0]
[0,0,0,0,0,0,0,0,0,0,0,{"$f":"VLOOKUP(B4292*100+C4292,氏名データ!$AC$2:$AJ$401,2,0)","v":{"$error":"#N/A"}},null,0]
[0,0,0,0,0,0,0,0,0,0,0,{"$f":"VLOOKUP(B4293*100+C4293,氏名データ!$AC$2:$AJ$401,2,0)","v":{"$error":"#N/A"}},null,0]
[0,0,0,0,0,0,0,0,0,0,0,{"$f":"VLOOKUP(B4297*100+C4297,氏名データ!$AC$2:$AJ$401,2,0)","v":{"$error":"#N/A"}},null,0]
[0,0,0,0,0,0,0,0,0,0,0,{"$f":"VLOOKUP(B4298*100+C4298,氏名データ!$AC$2:$AJ$401,2,0)","v":{"$error":"#N/A"}},null,0]
[0,0,0,0,0,0,0,0,0,0,0,{"$f":"VLOOKUP(B4301*100+C4301,氏名データ!$AC$2:$AJ$401,2,0)","v":{"$error":"#N/A"}},null,0]
[0,0,0,0,0,0,0,0,0,0,0,{"$f":"VLOOKUP(B4303*100+C4303,氏名データ!$AC$2:$AJ$401,2,0)","v":{"$error":"#N/A"}},null,0]
[0,0,0,0,0,0,0,0,0,0,0,{"$f":"VLOOKUP(B4306*100+C4306,氏名データ!$AC$2:$AJ$401,2,0)","v":{"$error":"#N/A"}},null,0]
[0,0,0,0,0,0,0,0,0,0,0,{"$f":"VLOOKUP(B4307*100+C4307,氏名データ!$AC$2:$AJ$401,2,0)","v":{"$error":"#N/A"}},null,0]
[0,0,0,0,0,0,0,0,0,0,0,{"$f":"VLOOKUP(B4310*100+C4310,氏名データ!$AC$2:$AJ$401,2,0)","v":{"$error":"#N/A"}},null,0]
[0,0,0,0,0,0,0,0,0,0,0,{"$f":"VLOOKUP(B4311*100+C4311,氏名データ!$AC$2:$AJ$401,2,0)","v":{"$error":"#N/A"}},null,0]
[0,0,0,0,0,0,0,0,0,0,0,{"$f":"VLOOKUP(B4315*100+C4315,氏名データ!$AC$2:$AJ$401,2,0)","v":{"$error":"#N/A"}},null,0]
[0,0,0,0,0,0,0,0,0,0,0,{"$f":"VLOOKUP(B4316*100+C4316,氏名データ!$AC$2:$AJ$401,2,0)","v":{"$error":"#N/A"}},null,0]
[0,0,0,0,0,0,0,0,0,0,0,{"$f":"VLOOKUP(B4319*100+C4319,氏名データ!$AC$2:$AJ$401,2,0)","v":{"$error":"#N/A"}},null,0]
[0,0,0,0,0,0,0,0,0,0,0,{"$f":"VLOOKUP(B4321*100+C4321,氏名データ!$AC$2:$AJ$401,2,0)","v":{"$error":"#N/A"}},null,0]
[0,0,0,0,0,0,0,0,0,0,0,{"$f":"VLOOKUP(B4324*100+C4324,氏名データ!$AC$2:$AJ$401,2,0)","v":{"$error":"#N/A"}},null,0]
[0,0,0,0,0,0,0,0,0,0,0,{"$f":"VLOOKUP(B4325*100+C4325,氏名データ!$AC$2:$AJ$401,2,0)","v":{"$error":"#N/A"}},null,0]
[0,0,0,0,0,0,0,0,0,0,0,{"$f":"VLOOKUP(B4328*100+C4328,氏名データ!$AC$2:$AJ$401,2,0)","v":{"$error":"#N/A"}},null,0]
[0,0,0,0,0,0,0,0,0,0,0,{"$f":"VLOOKUP(B4329*100+C4329,氏名データ!$AC$2:$AJ$401,2,0)","v":{"$error":"#N/A"}},null,0]
[0,0,0,0,0,0,0,0,0,0,0,{"$f":"VLOOKUP(B4333*100+C4333,氏名データ!$AC$2:$AJ$401,2,0)","v":{"$error":"#N/A"}},null,0]
[0,0,0,0,0,0,0,0,0,0,0,{"$f":"VLOOKUP(B4334*100+C4334,氏名データ!$AC$2:$AJ$401,2,0)","v":{"$error":"#N/A"}},null,0]
[0,0,0,0,0,0,0,0,0,0,0,{"$f":"VLOOKUP(B4337*100+C4337,氏名データ!$AC$2:$AJ$401,2,0)","v":{"$error":"#N/A"}},null,0]
[0,0,0,0,0,0,0,0,0,0,0,{"$f":"VLOOKUP(B4339*100+C4339,氏名データ!$AC$2:$AJ$401,2,0)","v":{"$error":"#N/A"}},null,0]
[0,0,0,0,0,0,0,0,0,0,0,{"$f":"VLOOKUP(B4342*100+C4342,氏名データ!$AC$2:$AJ$401,2,0)","v":{"$error":"#N/A"}},null,0]
[0,0,0,0,0,0,0,0,0,0,0,{"$f":"VLOOKUP(B4343*100+C4343,氏名データ!$AC$2:$AJ$401,2,0)","v":{"$error":"#N/A"}},null,0]
[0,0,0,0,0,0,0,0,0,0,0,{"$f":"VLOOKUP(B4346*100+C4346,氏名データ!$AC$2:$AJ$401,2,0)","v":{"$error":"#N/A"}},null,0]
[0,0,0,0,0,0,0,0,0,0,0,{"$f":"VLOOKUP(B4347*100+C4347,氏名データ!$AC$2:$AJ$401,2,0)","v":{"$error":"#N/A"}},null,0]
[0,0,0,0,0,0,0,0,0,0,0,{"$f":"VLOOKUP(B4351*100+C4351,氏名データ!$AC$2:$AJ$401,2,0)","v":{"$error":"#N/A"}},null,0]
[0,0,0,0,0,0,0,0,0,0,0,{"$f":"VLOOKUP(B4352*100+C4352,氏名データ!$AC$2:$AJ$401,2,0)","v":{"$error":"#N/A"}},null,0]
[0,0,0,0,0,0,0,{"$f":"U4355","v":0},{"$f":"V4355","v":0},{"$f":"X4355","v":0},0,{"$f":"VLOOKUP(B4355*100+C4355,氏名データ!$AC$2:$AJ$401,2,0)","v":{"$error":"#N/A"}},null,0]
[0,0,0,0,0,0,0,0,0,0,0,{"$f":"VLOOKUP(B4357*100+C4357,氏名データ!$AC$2:$AJ$401,2,0)","v":{"$error":"#N/A"}},null,0]
[0,0,0,0,0,0,0,0,0,0,0,{"$f":"VLOOKUP(B4360*100+C4360,氏名データ!$AC$2:$AJ$401,2,0)","v":{"$error":"#N/A"}},null,0]
[0,0,0,0,0,0,0,0,0,0,0,{"$f":"VLOOKUP(B4361*100+C4361,氏名データ!$AC$2:$AJ$401,2,0)","v":{"$error":"#N/A"}},null,0]
[0,0,0,0,0,0,0,0,0,0,0,{"$f":"VLOOKUP(B4364*100+C4364,氏名データ!$AC$2:$AJ$401,2,0)","v":{"$error":"#N/A"}},null,0]
[0,0,0,0,0,0,0,0,0,0,0,{"$f":"VLOOKUP(B4365*100+C4365,氏名データ!$AC$2:$AJ$401,2,0)","v":{"$error":"#N/A"}},null,0]
[0,0,0,0,0,0,0,0,0,0,0,{"$f":"VLOOKUP(B4369*100+C4369,氏名データ!$AC$2:$AJ$401,2,0)","v":{"$error":"#N/A"}},null,0]
[0,0,0,0,0,0,0,0,0,0,0,{"$f":"VLOOKUP(B4370*100+C4370,氏名データ!$AC$2:$AJ$401,2,0)","v":{"$error":"#N/A"}},null,0]
[0,0,0,0,0,0,0,0,0,0,0,{"$f":"VLOOKUP(B4373*100+C4373,氏名データ!$AC$2:$AJ$401,2,0)","v":{"$error":"#N/A"}},null,0]
[0,0,0,0,0,0,0,0,0,0,0,{"$f":"VLOOKUP(B4375*100+C4375,氏名データ!$AC$2:$AJ$401,2,0)","v":{"$error":"#N/A"}},null,0]
[0,0,0,0,0,0,0,0,0,0,0,{"$f":"VLOOKUP(B4378*100+C4378,氏名データ!$AC$2:$AJ$401,2,0)","v":{"$error":"#N/A"}},null,0]
[0,0,0,0,0,0,0,0,0,0,0,{"$f":"VLOOKUP(B4379*100+C4379,氏名データ!$AC$2:$AJ$401,2,0)","v":{"$error":"#N/A"}},null,0]
[0,0,0,0,0,0,0,0,0,0,0,{"$f":"VLOOKUP(B4382*100+C4382,氏名データ!$AC$2:$AJ$401,2,0)","v":{"$error":"#N/A"}},null,0]
[0,0,0,0,0,0,0,0,0,0,0,{"$f":"VLOOKUP(B4383*100+C4383,氏名データ!$AC$2:$AJ$401,2,0)","v":{"$error":"#N/A"}},null,0]
[0,0,0,0,0,0,0,0,0,0,0,{"$f":"VLOOKUP(B4387*100+C4387,氏名データ!$AC$2:$AJ$401,2,0)","v":{"$error":"#N/A"}},null,0]
[0,0,0,0,0,0,0,0,0,0,0,{"$f":"VLOOKUP(B4388*100+C4388,氏名データ!$AC$2:$AJ$401,2,0)","v":{"$error":"#N/A"}},null,0]
[0,0,0,0,0,0,0,0,0,0,0,{"$f":"VLOOKUP(B4391*100+C4391,氏名データ!$AC$2:$AJ$401,2,0)","v":{"$error":"#N/A"}},null,0]
[0,0,0,0,0,0,0,0,0,0,0,{"$f":"VLOOKUP(B4394*100+C4394,氏名データ!$AC$2:$AJ$401,2,0)","v":{"$error":"#N/A"}},null,0]
[0,0,0,0,0,0,0,0,0,0,0,{"$f":"VLOOKUP(B4396*100+C4396,氏名データ!$AC$2:$AJ$401,2,0)","v":{"$error":"#N/A"}},null,0]
[0,0,0,0,0,0,0,0,0,0,0,{"$f":"VLOOKUP(B4397*100+C4397,氏名データ!$AC$2:$AJ$401,2,0)","v":{"$error":"#N/A"}},null,0]
[0,0,0,0,0,0,0,0,0,0,0,{"$f":"VLOOKUP(B4400*100+C4400,氏名データ!$AC$2:$AJ$401,2,0)","v":{"$error":"#N/A"}},null,0]
[0,0,0,0,0,0,0,0,0,0,0,{"$f":"VLOOKUP(B4401*100+C4401,氏名データ!$AC$2:$AJ$401,2,0)","v":{"$error":"#N/A"}},null,0]
[0,0,0,0,0,0,0,0,0,0,0,{"$f":"VLOOKUP(B4405*100+C4405,氏名データ!$AC$2:$AJ$401,2,0)","v":{"$error":"#N/A"}},null,0]
[0,0,0,0,0,0,0,0,0,0,0,{"$f":"VLOOKUP(B4406*100+C4406,氏名データ!$AC$2:$AJ$401,2,0)","v":{"$error":"#N/A"}},null,0]
[{"$f":"P4409","v":0},{"$f":"ROUNDDOWN(A4409/10000,0)","v":0},{"$f":"ROUNDDOWN((A4409-B4409*10000)/100,0)","v":0},{"$f":"Q4409","v":0},{"$f":"R4409","v":0},{"$f":"S4409","v":0},{"$f":"T4409","v":0},0,0,0,{"$f":"Y4409","v":0},{"$f":"VLOOKUP(B4409*100+C4409,氏名データ!$AC$2:$AJ$401,2,0)","v":{"$error":"#N/A"}},null,{"$f":"W4409","v":0}]
[0,0,0,0,0,0,0,0,0,0,0,{"$f":"VLOOKUP(B4412*100+C4412,氏名データ!$AC$2:$AJ$401,2,0)","v":{"$error":"#N/A"}},null,0]
[0,0,0,0,0,0,0,0,0,0,0,{"$f":"VLOOKUP(B4414*100+C4414,氏名データ!$AC$2:$AJ$401,2,0)","v":{"$error":"#N/A"}},null,0]
[0,0,0,0,0,0,0,0,0,0,0,{"$f":"VLOOKUP(B4415*100+C4415,氏名データ!$AC$2:$AJ$401,2,0)","v":{"$error":"#N/A"}},null,0]
[0,0,0,0,0,0,0,0,0,0,0,{"$f":"VLOOKUP(B4418*100+C4418,氏名データ!$AC$2:$AJ$401,2,0)","v":{"$error":"#N/A"}},null,0]
[0,0,0,0,0,0,0,{"$f":"U4419","v":0},{"$f":"V4419","v":0},{"$f":"X4419","v":0},0,{"$f":"VLOOKUP(B4419*100+C4419,氏名データ!$AC$2:$AJ$401,2,0)","v":{"$error":"#N/A"}},null,0]
[0,0,0,0,0,0,0,0,0,0,0,{"$f":"VLOOKUP(B4423*100+C4423,氏名データ!$AC$2:$AJ$401,2,0)","v":{"$error":"#N/A"}},null,0]
[0,0,0,0,0,0,0,0,0,0,0,{"$f":"VLOOKUP(B4424*100+C4424,氏名データ!$AC$2:$AJ$401,2,0)","v":{"$error":"#N/A"}},null,0]
[0,0,0,0,0,0,0,0,0,0,0,{"$f":"VLOOKUP(B4427*100+C4427,氏名データ!$AC$2:$AJ$401,2,0)","v":{"$error":"#N/A"}},null,0]
[0,0,0,0,0,0,0,0,0,0,0,{"$f":"VLOOKUP(B4430*100+C4430,氏名データ!$AC$2:$AJ$401,2,0)","v":{"$error":"#N/A"}},null,0]
[0,0,0,0,0,0,0,0,0,0,0,{"$f":"VLOOKUP(B4432*100+C4432,氏名データ!$AC$2:$AJ$401,2,0)","v":{"$error":"#N/A"}},null,0]
[0,0,0,0,0,0,0,0,0,0,0,{"$f":"VLOOKUP(B4433*100+C4433,氏名データ!$AC$2:$AJ$401,2,0)","v":{"$error":"#N/A"}},null,0]
[0,0,0,0,0,0,0,0,0,0,0,{"$f":"VLOOKUP(B4436*100+C4436,氏名データ!$AC$2:$AJ$401,2,0)","v":{"$error":"#N/A"}},null,0]
[0,0,0,0,0,0,0,0,0,0,0,{"$f":"VLOOKUP(B4437*100+C4437,氏名データ!$AC$2:$AJ$401,2,0)","v":{"$error":"#N/A"}},null,0]
[0,0,0,0,0,0,0,0,0,0,0,{"$f":"VLOOKUP(B4441*100+C4441,氏名データ!$AC$2:$AJ$401,2,0)","v":{"$error":"#N/A"}},null,0]
[0,0,0,0,0,0,0,0,0,0,0,{"$f":"VLOOKUP(B4442*100+C4442,氏名データ!$AC$2:$AJ$401,2,0)","v":{"$error":"#N/A"}},null,0]
[0,0,0,0,0,0,0,0,0,0,0,{"$f":"VLOOKUP(B4445*100+C4445,氏名データ!$AC$2:$AJ$401,2,0)","v":{"$error":"#N/A"}},null,0]
[0,0,0,0,0,0,0,0,0,0,0,{"$f":"VLOOKUP(B4448*100+C4448,氏名データ!$AC$2:$AJ$401,2,0)","v":{"$error":"#N/A"}},null,0]
[0,0,0,0,0,0,0,0,0,0,0,{"$f":"VLOOKUP(B4450*100+C4450,氏名データ!$AC$2:$AJ$401,2,0)","v":{"$error":"#N/A"}},null,0]
[0,0,0,0,0,0,0,0,0,0,0,{"$f":"VLOOKUP(B4451*100+C4451,氏名データ!$AC$2:$AJ$401,2,0)","v":{"$error":"#N/A"}},null,0]
[0,0,0,0,0,0,0,0,0,0,0,{"$f":"VLOOKUP(B4454*100+C4454,氏名データ!$AC$2:$AJ$401,2,0)","v":{"$error":"#N/A"}},null,0]
[0,0,0,0,0,0,0,0,0,0,0,{"$f":"VLOOKUP(B4455*100+C4455,氏名データ!$AC$2:$AJ$401,2,0)","v":{"$error":"#N/A"}},null,0]
[0,0,0,0,0,0,0,0,0,0,0,{"$f":"VLOOKUP(B4459*100+C4459,氏名データ!$AC$2:$AJ$401,2,0)","v":{"$error":"#N/A"}},null,0]
[0,0,0,0,0,0,0,0,0,0,0,{"$f":"VLOOKUP(B4460*100+C4460,氏名データ!$AC$2:$AJ$401,2,0)","v":{"$error":"#N/A"}},null,0]
[0,0,0,0,0,0,0,0,0,0,0,{"$f":"VLOOKUP(B4463*100+C4463,氏名データ!$AC$2:$AJ$401,2,0)","v":{"$error":"#N/A"}},null,0]
[0,0,0,0,0,0,0,0,0,0,0,{"$f":"VLOOKUP(B4466*100+C4466,氏名データ!$AC$2:$AJ$401,2,0)","v":{"$error":"#N/A"}},null,0]
[0,0,0,0,0,0,0,0,0,0,0,{"$f":"VLOOKUP(B4468*100+C4468,氏名データ!$AC$2:$AJ$401,2,0)","v":{"$error":"#N/A"}},null,0]
[0,0,0,0,0,0,0,0,0,0,0,{"$f":"VLOOKUP(B4469*100+C4469,氏名データ!$AC$2:$AJ$401,2,0)","v":{"$error":"#N/A"}},null,0]
[0,0,0,0,0,0,0,0,0,0,0,{"$f":"VLOOKUP(B4472*100+C4472,氏名データ!$AC$2:$AJ$401,2,0)","v":{"$error":"#N/A"}},null,0]
[{"$f":"P4473","v":0},{"$f":"ROUNDDOWN(A4473/10000,0)","v":0},{"$f":"ROUNDDOWN((A4473-B4473*10000)/100,0)","v":0},{"$f":"Q4473","v":0},{"$f":"R4473","v":0},{"$f":"S4473","v":0},{"$f":"T4473","v":0},0,0,0,{"$f":"Y4473","v":0},{"$f":"VLOOKUP(B4473*100+C4473,氏名データ!$AC$2:$AJ$401,2,0)","v":{"$error":"#N/A"}},null,{"$f":"W4473","v":0}]
[0,0,0,0,0,0,0,0,0,0,0,{"$f":"VLOOKUP(B4477*100+C4477,氏名データ!$AC$2:$AJ$401,2,0)","v":{"$error":"#N/A"}},null,0]
[0,0,0,0,0,0,0,0,0,0,0,{"$f":"VLOOKUP(B4478*100+C4478,氏名データ!$AC$2:$AJ$401,2,0)","v":{"$error":"#N/A"}},null,0]
[0,0,0,0,0,0,0,0,0,0,0,{"$f":"VLOOKUP(B4481*100+C4481,氏名データ!$AC$2:$AJ$401,2,0)","v":{"$error":"#N/A"}},null,0]
[0,0,0,0,0,0,0,0,0,0,0,{"$f":"VLOOKUP(B4484*100+C4484,氏名データ!$AC$2:$AJ$401,2,0)","v":{"$error":"#N/A"}},null,0]
[0,0,0,0,0,0,0,0,0,0,0,{"$f":"VLOOKUP(B4486*100+C4486,氏名データ!$AC$2:$AJ$401,2,0)","v":{"$error":"#N/A"}},null,0]
[0,0,0,0,0,0,0,0,0,0,0,{"$f":"VLOOKUP(B4487*100+C4487,氏名データ!$AC$2:$AJ$401,2,0)","v":{"$error":"#N/A"}},null,0]
[0,0,0,0,0,0,0,0,0,0,0,{"$f":"VLOOKUP(B4490*100+C4490,氏名データ!$AC$2:$AJ$401,2,0)","v":{"$error":"#N/A"}},null,0]
[0,0,0,0,0,0,0,0,0,0,0,{"$f":"VLOOKUP(B4491*100+C4491,氏名データ!$AC$2:$AJ$401,2,0)","v":{"$error":"#N/A"}},null,0]
[0,0,0,0,0,0,0,0,0,0,0,{"$f":"VLOOKUP(B4495*100+C4495,氏名データ!$AC$2:$AJ$401,2,0)","v":{"$error":"#N/A"}},null,0]
[0,0,0,0,0,0,0,0,0,0,0,{"$f":"VLOOKUP(B4496*100+C4496,氏名データ!$AC$2:$AJ$401,2,0)","v":{"$error":"#N/A"}},null,0]
[0,0,0,0,0,0,0,0,0,0,0,{"$f":"VLOOKUP(B4499*100+C4499,氏名データ!$AC$2:$AJ$401,2,0)","v":{"$error":"#N/A"}},null,0]
[0,0,0,0,0,0,0,0,0,0,0,{"$f":"VLOOKUP(B4502*100+C4502,氏名データ!$AC$2:$AJ$401,2,0)","v":{"$error":"#N/A"}},null,0]
[0,0,0,0,0,0,0,0,0,0,0,{"$f":"VLOOKUP(B4504*100+C4504,氏名データ!$AC$2:$AJ$401,2,0)","v":{"$error":"#N/A"}},null,0]
[0,0,0,0,0,0,0,0,0,0,0,{"$f":"VLOOKUP(B4505*100+C4505,氏名データ!$AC$2:$AJ$401,2,0)","v":{"$error":"#N/A"}},null,0]
[0,0,0,0,0,0,0,0,0,0,0,{"$f":"VLOOKUP(B4508*100+C4508,氏名データ!$AC$2:$AJ$401,2,0)","v":{"$error":"#N/A"}},null,0]
[0,0,0,0,0,0,0,0,0,0,0,{"$f":"VLOOKUP(B4509*100+C4509,氏名データ!$AC$2:$AJ$401,2,0)","v":{"$error":"#N/A"}},null,0]
[0,0,0,0,0,0,0,0,0,0,0,{"$f":"VLOOKUP(B4513*100+C4513,氏名データ!$AC$2:$AJ$401,2,0)","v":{"$error":"#N/A"}},null,0]
[0,0,0,0,0,0,0,0,0,0,0,{"$f":"VLOOKUP(B4514*100+C4514,氏名データ!$AC$2:$AJ$401,2,0)","v":{"$error":"#N/A"}},null,0]
[0,0,0,0,0,0,0,0,0,0,0,{"$f":"VLOOKUP(B4517*100+C4517,氏名データ!$AC$2:$AJ$401,2,0)","v":{"$error":"#N/A"}},null,0]
[0,0,0,0,0,0,0,0,0,0,0,{"$f":"VLOOKUP(B4520*100+C4520,氏名データ!$AC$2:$AJ$401,2,0)","v":{"$error":"#N/A"}},null,0]
[0,0,0,0,0,0,0,0,0,0,0,{"$f":"VLOOKUP(B4522*100+C4522,氏名データ!$AC$2:$AJ$401,2,0)","v":{"$error":"#N/A"}},null,0]
[0,0,0,0,0,0,0,0,0,0,0,{"$f":"VLOOKUP(B4523*100+C4523,氏名データ!$AC$2:$AJ$401,2,0)","v":{"$error":"#N/A"}},null,0]
[0,0,0,0,0,0,0,0,0,0,0,{"$f":"VLOOKUP(B4526*100+C4526,氏名データ!$AC$2:$AJ$401,2,0)","v":{"$error":"#N/A"}},null,0]
[0,0,0,0,0,0,0,0,0,0,0,{"$f":"VLOOKUP(B4527*100+C4527,氏名データ!$AC$2:$AJ$401,2,0)","v":{"$error":"#N/A"}},null,0]
[0,0,0,0,0,0,0,0,0,0,0,{"$f":"VLOOKUP(B4531*100+C4531,氏名データ!$AC$2:$AJ$401,2,0)","v":{"$error":"#N/A"}},null,0]
[0,0,0,0,0,0,0,0,0,0,0,{"$f":"VLOOKUP(B4532*100+C4532,氏名データ!$AC$2:$AJ$401,2,0)","v":{"$error":"#N/A"}},null,0]
[0,0,0,0,0,0,0,0,0,0,0,{"$f":"VLOOKUP(B4535*100+C4535,氏名データ!$AC$2:$AJ$401,2,0)","v":{"$error":"#N/A"}},null,0]
[0,0,0,0,0,0,0,0,0,0,0,{"$f":"VLOOKUP(B4538*100+C4538,氏名データ!$AC$2:$AJ$401,2,0)","v":{"$error":"#N/A"}},null,0]
[0,0,0,0,0,0,0,0,0,0,0,{"$f":"VLOOKUP(B4540*100+C4540,氏名データ!$AC$2:$AJ$401,2,0)","v":{"$error":"#N/A"}},null,0]
[0,0,0,0,0,0,0,0,0,0,0,{"$f":"VLOOKUP(B4541*100+C4541,氏名データ!$AC$2:$AJ$401,2,0)","v":{"$error":"#N/A"}},null,0]
[0,0,0,0,0,0,0,0,0,0,0,{"$f":"VLOOKUP(B4544*100+C4544,氏名データ!$AC$2:$AJ$401,2,0)","v":{"$error":"#N/A"}},null,0]
[0,0,0,0,0,0,0,0,0,0,0,{"$f":"VLOOKUP(B4546*100+C4546,氏名データ!$AC$2:$AJ$401,2,0)","v":{"$error":"#N/A"}},null,0]
[0,0,0,0,0,0,0,0,0,0,0,{"$f":"VLOOKUP(B4549*100+C4549,氏名データ!$AC$2:$AJ$401,2,0)","v":{"$error":"#N/A"}},null,0]
[0,0,0,0,0,0,0,0,0,0,0,{"$f":"VLOOKUP(B4550*100+C4550,氏名データ!$AC$2:$AJ$401,2,0)","v":{"$error":"#N/A"}},null,0]
[0,0,0,0,0,0,0,0,0,0,0,{"$f":"VLOOKUP(B4553*100+C4553,氏名データ!$AC$2:$AJ$401,2,0)","v":{"$error":"#N/A"}},null,0]
[0,0,0,0,0,0,0,0,0,0,0,{"$f":"VLOOKUP(B4556*100+C4556,氏名データ!$AC$2:$AJ$401,2,0)","v":{"$error":"#N/A"}},null,0]
[0,0,0,0,0,0,0,0,0,0,0,{"$f":"VLOOKUP(B4558*100+C4558,氏名データ!$AC$2:$AJ$401,2,0)","v":{"$error":"#N/A"}},null,0]
[0,0,0,0,0,0,0,0,0,0,0,{"$f":"VLOOKUP(B4559*100+C4559,氏名データ!$AC$2:$AJ$401,2,0)","v":{"$error":"#N/A"}},null,0]
[0,0,0,0,0,0,0,0,0,0,0,{"$f":"VLOOKUP(B4562*100+C4562,氏名データ!$AC$2:$AJ$401,2,0)","v":{"$error":"#N/A"}},null,0]
[0,0,0,0,0,0,0,0,0,0,0,{"$f":"VLOOKUP(B4564*100+C4564,氏名データ!$AC$2:$AJ$401,2,0)","v":{"$error":"#N/A"}},null,0]
[0,0,0,0,0,0,0,0,0,0,0,{"$f":"VLOOKUP(B4567*100+C4567,氏名データ!$AC$2:$AJ$401,2,0)","v":{"$error":"#N/A"}},null,0]
[0,0,0,0,0,0,0,0,0,0,0,{"$f":"VLOOKUP(B4568*100+C4568,氏名データ!$AC$2:$AJ$401,2,0)","v":{"$error":"#N/A"}},null,0]
[0,0,0,0,0,0,0,0,0,0,0,{"$f":"VLOOKUP(B4571*100+C4571,氏名データ!$AC$2:$AJ$401,2,0)","v":{"$error":"#N/A"}},null,0]
[0,0,0,0,0,0,0,0,0,0,0,{"$f":"VLOOKUP(B4574*100+C4574,氏名データ!$AC$2:$AJ$401,2,0)","v":{"$error":"#N/A"}},null,0]
[0,0,0,0,0,0,0,0,0,0,0,{"$f":"VLOOKUP(B4576*100+C4576,氏名データ!$AC$2:$AJ$401,2,0)","v":{"$error":"#N/A"}},null,0]
[0,0,0,0,0,0,0,0,0,0,0,{"$f":"VLOOKUP(B4577*100+C4577,氏名データ!$AC$2:$AJ$401,2,0)","v":{"$error":"#N/A"}},null,0]
[0,0,0,0,0,0,0,0,0,0,0,{"$f":"VLOOKUP(B4580*100+C4580,氏名データ!$AC$2:$AJ$401,2,0)","v":{"$error":"#N/A"}},null,0]
[0,0,0,0,0,0,0,0,0,0,0,{"$f":"VLOOKUP(B4582*100+C4582,氏名データ!$AC$2:$AJ$401,2,0)","v":{"$error":"#N/A"}},null,0]
[0,0,0,0,0,0,0,0,0,0,0,{"$f":"VLOOKUP(B4585*100+C4585,氏名データ!$AC$2:$AJ$401,2,0)","v":{"$error":"#N/A"}},null,0]
[0,0,0,0,0,0,0,0,0,0,0,{"$f":"VLOOKUP(B4586*100+C4586,氏名データ!$AC$2:$AJ$401,2,0)","v":{"$error":"#N/A"}},null,0]
[0,0,0,0,0,0,0,0,0,0,0,{"$f":"VLOOKUP(B4589*100+C4589,氏名データ!$AC$2:$AJ$401,2,0)","v":{"$error":"#N/A"}},null,0]
[0,0,0,0,0,0,0,0,0,0,0,{"$f":"VLOOKUP(B4592*100+C4592,氏名データ!$AC$2:$AJ$401,2,0)","v":{"$error":"#N/A"}},null,0]
[0,0,0,0,0,0,0,0,0,0,0,{"$f":"VLOOKUP(B4594*100+C4594,氏名データ!$AC$2:$AJ$401,2,0)","v":{"$error":"#N/A"}},null,0]
[0,0,0,0,0,0,0,0,0,0,0,{"$f":"VLOOKUP(B4595*100+C4595,氏名データ!$AC$2:$AJ$401,2,0)","v":{"$error":"#N/A"}},null,0]
[0,0,0,0,0,0,0,0,0,0,0,{"$f":"VLOOKUP(B4598*100+C4598,氏名データ!$AC$2:$AJ$401,2,0)","v":{"$error":"#N/A"}},null,0]
[0,0,0,0,0,0,0,0,0,0,0,{"$f":"VLOOKUP(B4600*100+C4600,氏名データ!$AC$2:$AJ$401,2,0)","v":{"$error":"#N/A"}},null,0]
[0,0,0,0,0,0,0,0,0,0,0,{"$f":"VLOOKUP(B4603*100+C4603,氏名データ!$AC$2:$AJ$401,2,0)","v":{"$error":"#N/A"}},null,0]
[0,0,0,0,0,0,0,0,0,0,0,{"$f":"VLOOKUP(B4604*100+C4604,氏名データ!$AC$2:$AJ$401,2,0)","v":{"$error":"#N/A"}},null,0]
[0,0,0,0,0,0,0,0,0,0,0,{"$f":"VLOOKUP(B4607*100+C4607,氏名データ!$AC$2:$AJ$401,2,0)","v":{"$error":"#N/A"}},null,0]
[0,0,0,0,0,0,0,0,0,0,0,{"$f":"VLOOKUP(B4610*100+C4610,氏名データ!$AC$2:$AJ$401,2,0)","v":{"$error":"#N/A"}},null,0]
[0,0,0,0,0,0,0,0,0,0,0,{"$f":"VLOOKUP(B4612*100+C4612,氏名データ!$AC$2:$AJ$401,2,0)","v":{"$error":"#N/A"}},null,0]
[0,0,0,0,0,0,0,0,0,0,0,{"$f":"VLOOKUP(B4613*100+C4613,氏名データ!$AC$2:$AJ$401,2,0)","v":{"$error":"#N/A"}},null,0]
[0,0,0,0,0,0,0,0,0,0,0,{"$f":"VLOOKUP(B4616*100+C4616,氏名データ!$AC$2:$AJ$401,2,0)","v":{"$error":"#N/A"}},null,0]
[0,0,0,0,0,0,0,0,0,0,0,{"$f":"VLOOKUP(B4618*100+C4618,氏名データ!$AC$2:$AJ$401,2,0)","v":{"$error":"#N/A"}},null,0]
[0,0,0,0,0,0,0,0,0,0,0,{"$f":"VLOOKUP(B4621*100+C4621,氏名データ!$AC$2:$AJ$401,2,0)","v":{"$error":"#N/A"}},null,0]
[0,0,0,0,0,0,0,0,0,0,0,{"$f":"VLOOKUP(B4622*100+C4622,氏名データ!$AC$2:$AJ$401,2,0)","v":{"$error":"#N/A"}},null,0]
[0,0,0,0,0,0,0,0,0,0,0,{"$f":"VLOOKUP(B4625*100+C4625,氏名データ!$AC$2:$AJ$401,2,0)","v":{"$error":"#N/A"}},null,0]
[0,0,0,0,0,0,0,0,0,0,0,{"$f":"VLOOKUP(B4628*100+C4628,氏名データ!$AC$2:$AJ$401,2,0)","v":{"$error":"#N/A"}},null,0]
[0,0,0,0,0,0,0,0,0,0,0,{"$f":"VLOOKUP(B4630*100+C4630,氏名データ!$AC$2:$AJ$401,2,0)","v":{"$error":"#N/A"}},null,0]
[0,0,0,0,0,0,0,0,0,0,0,{"$f":"VLOOKUP(B4631*100+C4631,氏名データ!$AC$2:$AJ$401,2,0)","v":{"$error":"#N/A"}},null,0]
[0,0,0,0,0,0,0,0,0,0,0,{"$f":"VLOOKUP(B4634*100+C4634,氏名データ!$AC$2:$AJ$401,2,0)","v":{"$error":"#N/A"}},null,0]
[0,0,0,0,0,0,0,0,0,0,0,{"$f":"VLOOKUP(B4636*100+C4636,氏名データ!$AC$2:$AJ$401,2,0)","v":{"$error":"#N/A"}},null,0]
[0,0,0,0,0,0,0,0,0,0,0,{"$f":"VLOOKUP(B4639*100+C4639,氏名データ!$AC$2:$AJ$401,2,0)","v":{"$error":"#N/A"}},null,0]
[0,0,0,0,0,0,0,0,0,0,0,{"$f":"VLOOKUP(B4640*100+C4640,氏名データ!$AC$2:$AJ$401,2,0)","v":{"$error":"#N/A"}},null,0]
[0,0,0,0,0,0,0,0,0,0,0,{"$f":"VLOOKUP(B4643*100+C4643,氏名データ!$AC$2:$AJ$401,2,0)","v":{"$error":"#N/A"}},null,0]
[0,0,0,0,0,0,0,0,0,0,0,{"$f":"VLOOKUP(B4646*100+C4646,氏名データ!$AC$2:$AJ$401,2,0)","v":{"$error":"#N/A"}},null,0]
[0,0,0,0,0,0,0,0,0,0,0,{"$f":"VLOOKUP(B4648*100+C4648,氏名データ!$AC$2:$AJ$401,2,0)","v":{"$error":"#N/A"}},null,0]
[0,0,0,0,0,0,0,0,0,0,0,{"$f":"VLOOKUP(B4649*100+C4649,氏名データ!$AC$2:$AJ$401,2,0)","v":{"$error":"#N/A"}},null,0]
[0,0,0,0,0,0,0,0,0,0,0,{"$f":"VLOOKUP(B4652*100+C4652,氏名データ!$AC$2:$AJ$401,2,0)","v":{"$error":"#N/A"}},null,0]
[0,0,0,0,0,0,0,0,0,0,0,{"$f":"VLOOKUP(B4654*100+C4654,氏名データ!$AC$2:$AJ$401,2,0)","v":{"$error":"#N/A"}},null,0]
[0,0,0,0,0,0,0,0,0,0,0,{"$f":"VLOOKUP(B4657*100+C4657,氏名データ!$AC$2:$AJ$401,2,0)","v":{"$error":"#N/A"}},null,0]
[0,0,0,0,0,0,0,0,0,0,0,{"$f":"VLOOKUP(B4658*100+C4658,氏名データ!$AC$2:$AJ$401,2,0)","v":{"$error":"#N/A"}},null,0]
[0,0,0,0,0,0,0,0,0,0,0,{"$f":"VLOOKUP(B4661*100+C4661,氏名データ!$AC$2:$AJ$401,2,0)","v":{"$error":"#N/A"}},null,0]
[0,0,0,0,0,0,0,0,0,0,0,{"$f":"VLOOKUP(B4664*100+C4664,氏名データ!$AC$2:$AJ$401,2,0)","v":{"$error":"#N/A"}},null,0]
[0,0,0,0,0,0,0,0,0,0,0,{"$f":"VLOOKUP(B4666*100+C4666,氏名データ!$AC$2:$AJ$401,2,0)","v":{"$error":"#N/A"}},null,0]
[0,0,0,0,0,0,0,0,0,0,0,{"$f":"VLOOKUP(B4667*100+C4667,氏名データ!$AC$2:$AJ$401,2,0)","v":{"$error":"#N/A"}},null,0]
[0,0,0,0,0,0,0,0,0,0,0,{"$f":"VLOOKUP(B4670*100+C4670,氏名データ!$AC$2:$AJ$401,2,0)","v":{"$error":"#N/A"}},null,0]
[0,0,0,0,0,0,0,0,0,0,0,{"$f":"VLOOKUP(B4672*100+C4672,氏名データ!$AC$2:$AJ$401,2,0)","v":{"$error":"#N/A"}},null,0]
[0,0,0,0,0,0,0,{"$f":"U4675","v":0},{"$f":"V4675","v":0},{"$f":"X4675","v":0},0,{"$f":"VLOOKUP(B4675*100+C4675,氏名データ!$AC$2:$AJ$401,2,0)","v":{"$error":"#N/A"}},null,0]
[0,0,0,0,0,0,0,0,0,0,0,{"$f":"VLOOKUP(B4676*100+C4676,氏名データ!$AC$2:$AJ$401,2,0)","v":{"$error":"#N/A"}},null,0]
[0,0,0,0,0,0,0,0,0,0,0,{"$f":"VLOOKUP(B4679*100+C4679,氏名データ!$AC$2:$AJ$401,2,0)","v":{"$error":"#N/A"}},null,0]
[0,0,0,0,0,0,0,0,0,0,0,{"$f":"VLOOKUP(B4682*100+C4682,氏名データ!$AC$2:$AJ$401,2,0)","v":{"$error":"#N/A"}},null,0]
[0,0,0,0,0,0,0,0,0,0,0,{"$f":"VLOOKUP(B4684*100+C4684,氏名データ!$AC$2:$AJ$401,2,0)","v":{"$error":"#N/A"}},null,0]
[0,0,0,0,0,0,0,0,0,0,0,{"$f":"VLOOKUP(B4685*100+C4685,氏名データ!$AC$2:$AJ$401,2,0)","v":{"$error":"#N/A"}},null,0]
[0,0,0,0,0,0,0,0,0,0,0,{"$f":"VLOOKUP(B4688*100+C4688,氏名データ!$AC$2:$AJ$401,2,0)","v":{"$error":"#N/A"}},null,0]
[0,0,0,0,0,0,0,0,0,0,0,{"$f":"VLOOKUP(B4690*100+C4690,氏名データ!$AC$2:$AJ$401,2,0)","v":{"$error":"#N/A"}},null,0]
[0,0,0,0,0,0,0,0,0,0,0,{"$f":"VLOOKUP(B4693*100+C4693,氏名データ!$AC$2:$AJ$401,2,0)","v":{"$error":"#N/A"}},null,0]
[0,0,0,0,0,0,0,0,0,0,0,{"$f":"VLOOKUP(B4694*100+C4694,氏名データ!$AC$2:$AJ$401,2,0)","v":{"$error":"#N/A"}},null,0]
[0,0,0,0,0,0,0,0,0,0,0,{"$f":"VLOOKUP(B4697*100+C4697,氏名データ!$AC$2:$AJ$401,2,0)","v":{"$error":"#N/A"}},null,0]
[0,0,0,0,0,0,0,0,0,0,0,{"$f":"VLOOKUP(B4700*100+C4700,氏名データ!$AC$2:$AJ$401,2,0)","v":{"$error":"#N/A"}},null,0]
[0,0,0,0,0,0,0,0,0,0,0,{"$f":"VLOOKUP(B4702*100+C4702,氏名データ!$AC$2:$AJ$401,2,0)","v":{"$error":"#N/A"}},null,0]
[0,0,0,0,0,0,0,0,0,0,0,{"$f":"VLOOKUP(B4703*100+C4703,氏名データ!$AC$2:$AJ$401,2,0)","v":{"$error":"#N/A"}},null,0]
[0,0,0,0,0,0,0,0,0,0,0,{"$f":"VLOOKUP(B4706*100+C4706,氏名データ!$AC$2:$AJ$401,2,0)","v":{"$error":"#N/A"}},null,0]
[0,0,0,0,0,0,0,0,0,0,0,{"$f":"VLOOKUP(B4708*100+C4708,氏名データ!$AC$2:$AJ$401,2,0)","v":{"$error":"#N/A"}},null,0]
[0,0,0,0,0,0,0,0,0,0,0,{"$f":"VLOOKUP(B4711*100+C4711,氏名データ!$AC$2:$AJ$401,2,0)","v":{"$error":"#N/A"}},null,0]
[0,0,0,0,0,0,0,0,0,0,0,{"$f":"VLOOKUP(B4712*100+C4712,氏名データ!$AC$2:$AJ$401,2,0)","v":{"$error":"#N/A"}},null,0]
[0,0,0,0,0,0,0,0,0,0,0,{"$f":"VLOOKUP(B4715*100+C4715,氏名データ!$AC$2:$AJ$401,2,0)","v":{"$error":"#N/A"}},null,0]
[0,0,0,0,0,0,0,0,0,0,0,{"$f":"VLOOKUP(B4716*100+C4716,氏名データ!$AC$2:$AJ$401,2,0)","v":{"$error":"#N/A"}},null,0]
[0,0,0,0,0,0,0,0,0,0,0,{"$f":"VLOOKUP(B4720*100+C4720,氏名データ!$AC$2:$AJ$401,2,0)","v":{"$error":"#N/A"}},null,0]
[0,0,0,0,0,0,0,0,0,0,0,{"$f":"VLOOKUP(B4721*100+C4721,氏名データ!$AC$2:$AJ$401,2,0)","v":{"$error":"#N/A"}},null,0]
[0,0,0,0,0,0,0,0,0,0,0,{"$f":"VLOOKUP(B4724*100+C4724,氏名データ!$AC$2:$AJ$401,2,0)","v":{"$error":"#N/A"}},null,0]
[0,0,0,0,0,0,0,0,0,0,0,{"$f":"VLOOKUP(B4726*100+C4726,氏名データ!$AC$2:$AJ$401,2,0)","v":{"$error":"#N/A"}},null,0]
[{"$f":"P4729","v":0},{"$f":"ROUNDDOWN(A4729/10000,0)","v":0},{"$f":"ROUNDDOWN((A4729-B4729*10000)/100,0)","v":0},{"$f":"Q4729","v":0},{"$f":"R4729","v":0},{"$f":"S4729","v":0},{"$f":"T4729","v":0},0,0,0,{"$f":"Y4729","v":0},{"$f":"VLOOKUP(B4729*100+C4729,氏名データ!$AC$2:$AJ$401,2,0)","v":{"$error":"#N/A"}},null,{"$f":"W4729","v":0}]
[0,0,0,0,0,0,0,0,0,0,0,{"$f":"VLOOKUP(B4730*100+C4730,氏名データ!$AC$2:$AJ$401,2,0)","v":{"$error":"#N/A"}},null,0]
[0,0,0,0,0,0,0,0,0,0,0,{"$f":"VLOOKUP(B4733*100+C4733,氏名データ!$AC$2:$AJ$401,2,0)","v":{"$error":"#N/A"}},null,0]
[0,0,0,0,0,0,0,0,0,0,0,{"$f":"VLOOKUP(B4734*100+C4734,氏名データ!$AC$2:$AJ$401,2,0)","v":{"$error":"#N/A"}},null,0]
[0,0,0,0,0,0,0,0,0,0,0,{"$f":"VLOOKUP(B4738*100+C4738,氏名データ!$AC$2:$AJ$401,2,0)","v":{"$error":"#N/A"}},null,0]
[0,0,0,0,0,0,0,{"$f":"U4739","v":0},{"$f":"V4739","v":0},{"$f":"X4739","v":0},0,{"$f":"VLOOKUP(B4739*100+C4739,氏名データ!$AC$2:$AJ$401,2,0)","v":{"$error":"#N/A"}},null,0]
[0,0,0,0,0,0,0,0,0,0,0,{"$f":"VLOOKUP(B4742*100+C4742,氏名データ!$AC$2:$AJ$401,2,0)","v":{"$error":"#N/A"}},null,0]
[0,0,0,0,0,0,0,0,0,0,0,{"$f":"VLOOKUP(B4744*100+C4744,氏名データ!$AC$2:$AJ$401,2,0)","v":{"$error":"#N/A"}},null,0]
[0,0,0,0,0,0,0,0,0,0,0,{"$f":"VLOOKUP(B4747*100+C4747,氏名データ!$AC$2:$AJ$401,2,0)","v":{"$error":"#N/A"}},null,0]
[0,0,0,0,0,0,0,0,0,0,0,{"$f":"VLOOKUP(B4748*100+C4748,氏名データ!$AC$2:$AJ$401,2,0)","v":{"$error":"#N/A"}},null,0]
[0,0,0,0,0,0,0,0,0,0,0,{"$f":"VLOOKUP(B4751*100+C4751,氏名データ!$AC$2:$AJ$401,2,0)","v":{"$error":"#N/A"}},null,0]
[0,0,0,0,0,0,0,0,0,0,0,{"$f":"VLOOKUP(B4752*100+C4752,氏名データ!$AC$2:$AJ$401,2,0)","v":{"$error":"#N/A"}},null,0]
[0,0,0,0,0,0,0,0,0,0,0,{"$f":"VLOOKUP(B4756*100+C4756,氏名データ!$AC$2:$AJ$401,2,0)","v":{"$error":"#N/A"}},null,0]
[0,0,0,0,0,0,0,0,0,0,0,{"$f":"VLOOKUP(B4757*100+C4757,氏名データ!$AC$2:$AJ$401,2,0)","v":{"$error":"#N/A"}},null,0]
[0,0,0,0,0,0,0,0,0,0,0,{"$f":"VLOOKUP(B4760*100+C4760,氏名データ!$AC$2:$AJ$401,2,0)","v":{"$error":"#N/A"}},null,0]
[0,0,0,0,0,0,0,0,0,0,0,{"$f":"VLOOKUP(B4762*100+C4762,氏名データ!$AC$2:$AJ$401,2,0)","v":{"$error":"#N/A"}},null,0]
[0,0,0,0,0,0,0,0,0,0,0,{"$f":"VLOOKUP(B4765*100+C4765,氏名データ!$AC$2:$AJ$401,2,0)","v":{"$error":"#N/A"}},null,0]
[0,0,0,0,0,0,0,0,0,0,0,{"$f":"VLOOKUP(B4766*100+C4766,氏名データ!$AC$2:$AJ$401,2,0)","v":{"$error":"#N/A"}},null,0]
[0,0,0,0,0,0,0,0,0,0,0,{"$f":"VLOOKUP(B4769*100+C4769,氏名データ!$AC$2:$AJ$401,2,0)","v":{"$error":"#N/A"}},null,0]
[0,0,0,0,0,0,0,0,0,0,0,{"$f":"VLOOKUP(B4770*100+C4770,氏名データ!$AC$2:$AJ$401,2,0)","v":{"$error":"#N/A"}},null,0]
[0,0,0,0,0,0,0,0,0,0,0,{"$f":"VLOOKUP(B4774*100+C4774,氏名データ!$AC$2:$AJ$401,2,0)","v":{"$error":"#N/A"}},null,0]
[0,0,0,0,0,0,0,0,0,0,0,{"$f":"VLOOKUP(B4775*100+C4775,氏名データ!$AC$2:$AJ$401,2,0)","v":{"$error":"#N/A"}},null,0]
[0,0,0,0,0,0,0,0,0,0,0,{"$f":"VLOOKUP(B4778*100+C4778,氏名データ!$AC$2:$AJ$401,2,0)","v":{"$error":"#N/A"}},null,0]
[0,0,0,0,0,0,0,0,0,0,0,{"$f":"VLOOKUP(B4780*100+C4780,氏名データ!$AC$2:$AJ$401,2,0)","v":{"$error":"#N/A"}},null,0]
[0,0,0,0,0,0,0,0,0,0,0,{"$f":"VLOOKUP(B4783*100+C4783,氏名データ!$AC$2:$AJ$401,2,0)","v":{"$error":"#N/A"}},null,0]
[0,0,0,0,0,0,0,0,0,0,0,{"$f":"VLOOKUP(B4784*100+C4784,氏名データ!$AC$2:$AJ$401,2,0)","v":{"$error":"#N/A"}},null,0]
[0,0,0,0,0,0,0,0,0,0,0,{"$f":"VLOOKUP(B4787*100+C4787,氏名データ!$AC$2:$AJ$401,2,0)","v":{"$error":"#N/A"}},null,0]
[0,0,0,0,0,0,0,0,0,0,0,{"$f":"VLOOKUP(B4788*100+C4788,氏名データ!$AC$2:$AJ$401,2,0)","v":{"$error":"#N/A"}},null,0]
[0,0,0,0,0,0,0,0,0,0,0,{"$f":"VLOOKUP(B4792*100+C4792,氏名データ!$AC$2:$AJ$401,2,0)","v":{"$error":"#N/A"}},null,0]
[{"$f":"P4793","v":0},{"$f":"ROUNDDOWN(A4793/10000,0)","v":0},{"$f":"ROUNDDOWN((A4793-B4793*10000)/100,0)","v":0},{"$f":"Q4793","v":0},{"$f":"R4793","v":0},{"$f":"S4793","v":0},{"$f":"T4793","v":0},0,0,0,{"$f":"Y4793","v":0},{"$f":"VLOOKUP(B4793*100+C4793,氏名データ!$AC$2:$AJ$401,2,0)","v":{"$error":"#N/A"}},null,{"$f":"W4793","v":0}]
[0,0,0,0,0,0,0,0,0,0,0,{"$f":"VLOOKUP(B4796*100+C4796,氏名データ!$AC$2:$AJ$401,2,0)","v":{"$error":"#N/A"}},null,0]
[0,0,0,0,0,0,0,0,0,0,0,{"$f":"VLOOKUP(B4798*100+C4798,氏名データ!$AC$2:$AJ$401,2,0)","v":{"$error":"#N/A"}},null,0]
[0,0,0,0,0,0,0,0,0,0,0,{"$f":"VLOOKUP(B4801*100+C4801,氏名データ!$AC$2:$AJ$401,2,0)","v":{"$error":"#N/A"}},null,0]
[0,0,0,0,0,0,0,0,0,0,0,{"$f":"VLOOKUP(B4802*100+C4802,氏名データ!$AC$2:$AJ$401,2,0)","v":{"$error":"#N/A"}},null,0]
[0,0,0,0,0,0,0,0,0,0,0,{"$f":"VLOOKUP(B4805*100+C4805,氏名データ!$AC$2:$AJ$401,2,0)","v":{"$error":"#N/A"}},null,0]
[0,0,0,0,0,0,0,0,0,0,0,{"$f":"VLOOKUP(B4806*100+C4806,氏名データ!$AC$2:$AJ$401,2,0)","v":{"$error":"#N/A"}},null,0]
[0,0,0,0,0,0,0,0,0,0,0,{"$f":"VLOOKUP(B4810*100+C4810,氏名データ!$AC$2:$AJ$401,2,0)","v":{"$error":"#N/A"}},null,0]
[0,0,0,0,0,0,0,0,0,0,0,{"$f":"VLOOKUP(B4811*100+C4811,氏名データ!$AC$2:$AJ$401,2,0)","v":{"$error":"#N/A"}},null,0]
[0,0,0,0,0,0,0,0,0,0,0,{"$f":"VLOOKUP(B4814*100+C4814,氏名データ!$AC$2:$AJ$401,2,0)","v":{"$error":"#N/A"}},null,0]
[0,0,0,0,0,0,0,0,0,0,0,{"$f":"VLOOKUP(B4816*100+C4816,氏名データ!$AC$2:$AJ$401,2,0)","v":{"$error":"#N/A"}},null,0]
[0,0,0,0,0,0,0,0,0,0,0,{"$f":"VLOOKUP(B4819*100+C4819,氏名データ!$AC$2:$AJ$401,2,0)","v":{"$error":"#N/A"}},null,0]
[0,0,0,0,0,0,0,0,0,0,0,{"$f":"VLOOKUP(B4820*100+C4820,氏名データ!$AC$2:$AJ$401,2,0)","v":{"$error":"#N/A"}},null,0]
[0,0,0,0,0,0,0,0,0,0,0,{"$f":"VLOOKUP(B4823*100+C4823,氏名データ!$AC$2:$AJ$401,2,0)","v":{"$error":"#N/A"}},null,0]
[0,0,0,0,0,0,0,0,0,0,0,{"$f":"VLOOKUP(B4824*100+C4824,氏名データ!$AC$2:$AJ$401,2,0)","v":{"$error":"#N/A"}},null,0]
[0,0,0,0,0,0,0,0,0,0,0,{"$f":"VLOOKUP(B4828*100+C4828,氏名データ!$AC$2:$AJ$401,2,0)","v":{"$error":"#N/A"}},null,0]
[0,0,0,0,0,0,0,0,0,0,0,{"$f":"VLOOKUP(B4829*100+C4829,氏名データ!$AC$2:$AJ$401,2,0)","v":{"$error":"#N/A"}},null,0]
[0,0,0,0,0,0,0,0,0,0,0,{"$f":"VLOOKUP(B4832*100+C4832,氏名データ!$AC$2:$AJ$401,2,0)","v":{"$error":"#N/A"}},null,0]
[0,0,0,0,0,0,0,0,0,0,0,{"$f":"VLOOKUP(B4834*100+C4834,氏名データ!$AC$2:$AJ$401,2,0)","v":{"$error":"#N/A"}},null,0]
[0,0,0,0,0,0,0,0,0,0,0,{"$f":"VLOOKUP(B4837*100+C4837,氏名データ!$AC$2:$AJ$401,2,0)","v":{"$error":"#N/A"}},null,0]
[0,0,0,0,0,0,0,0,0,0,0,{"$f":"VLOOKUP(B4838*100+C4838,氏名データ!$AC$2:$AJ$401,2,0)","v":{"$error":"#N/A"}},null,0]
[0,0,0,0,0,0,0,0,0,0,0,{"$f":"VLOOKUP(B4841*100+C4841,氏名データ!$AC$2:$AJ$401,2,0)","v":{"$error":"#N/A"}},null,0]
[0,0,0,0,0,0,0,0,0,0,0,{"$f":"VLOOKUP(B4842*100+C4842,氏名データ!$AC$2:$AJ$401,2,0)","v":{"$error":"#N/A"}},null,0]
[0,0,0,0,0,0,0,0,0,0,0,{"$f":"VLOOKUP(B4846*100+C4846,氏名データ!$AC$2:$AJ$401,2,0)","v":{"$error":"#N/A"}},null,0]
[0,0,0,0,0,0,0,0,0,0,0,{"$f":"VLOOKUP(B4847*100+C4847,氏名データ!$AC$2:$AJ$401,2,0)","v":{"$error":"#N/A"}},null,0]
[0,0,0,0,0,0,0,0,0,0,0,{"$f":"VLOOKUP(B4850*100+C4850,氏名データ!$AC$2:$AJ$401,2,0)","v":{"$error":"#N/A"}},null,0]
[0,0,0,0,0,0,0,0,0,0,0,{"$f":"VLOOKUP(B4852*100+C4852,氏名データ!$AC$2:$AJ$401,2,0)","v":{"$error":"#N/A"}},null,0]
[0,0,0,0,0,0,0,0,0,0,0,{"$f":"VLOOKUP(B4855*100+C4855,氏名データ!$AC$2:$AJ$401,2,0)","v":{"$error":"#N/A"}},null,0]
[0,0,0,0,0,0,0,0,0,0,0,{"$f":"VLOOKUP(B4856*100+C4856,氏名データ!$AC$2:$AJ$401,2,0)","v":{"$error":"#N/A"}},null,0]
[0,0,0,0,0,0,0,0,0,0,0,{"$f":"VLOOKUP(B4859*100+C4859,氏名データ!$AC$2:$AJ$401,2,0)","v":{"$error":"#N/A"}},null,0]
[0,0,0,0,0,0,0,0,0,0,0,{"$f":"VLOOKUP(B4860*100+C4860,氏名データ!$AC$2:$AJ$401,2,0)","v":{"$error":"#N/A"}},null,0]
[0,0,0,0,0,0,0,0,0,0,0,{"$f":"VLOOKUP(B4864*100+C4864,氏名データ!$AC$2:$AJ$401,2,0)","v":{"$error":"#N/A"}},null,0]
[0,0,0,0,0,0,0,0,0,0,0,{"$f":"VLOOKUP(B4865*100+C4865,氏名データ!$AC$2:$AJ$401,2,0)","v":{"$error":"#N/A"}},null,0]
[0,0,0,0,0,0,0,0,0,0,0,{"$f":"VLOOKUP(B4868*100+C4868,氏名データ!$AC$2:$AJ$401,2,0)","v":{"$error":"#N/A"}},null,0]
[0,0,0,0,0,0,0,0,0,0,0,{"$f":"VLOOKUP(B4871*100+C4871,氏名データ!$AC$2:$AJ$401,2,0)","v":{"$error":"#N/A"}},null,0]
[0,0,0,0,0,0,0,0,0,0,0,{"$f":"VLOOKUP(B4873*100+C4873,氏名データ!$AC$2:$AJ$401,2,0)","v":{"$error":"#N/A"}},null,0]
[0,0,0,0,0,0,0,0,0,0,0,{"$f":"VLOOKUP(B4874*100+C4874,氏名データ!$AC$2:$AJ$401,2,0)","v":{"$error":"#N/A"}},null,0]
[0,0,0,0,0,0,0,0,0,0,0,{"$f":"VLOOKUP(B4877*100+C4877,氏名データ!$AC$2:$AJ$401,2,0)","v":{"$error":"#N/A"}},null,0]
[0,0,0,0,0,0,0,0,0,0,0,{"$f":"VLOOKUP(B4878*100+C4878,氏名データ!$AC$2:$AJ$401,2,0)","v":{"$error":"#N/A"}},null,0]
[0,0,0,0,0,0,0,0,0,0,0,{"$f":"VLOOKUP(B4882*100+C4882,氏名データ!$AC$2:$AJ$401,2,0)","v":{"$error":"#N/A"}},null,0]
[0,0,0,0,0,0,0,0,0,0,0,{"$f":"VLOOKUP(B4883*100+C4883,氏名データ!$AC$2:$AJ$401,2,0)","v":{"$error":"#N/A"}},null,0]
[0,0,0,0,0,0,0,0,0,0,0,{"$f":"VLOOKUP(B4886*100+C4886,氏名データ!$AC$2:$AJ$401,2,0)","v":{"$error":"#N/A"}},null,0]
[0,0,0,0,0,0,0,0,0,0,0,{"$f":"VLOOKUP(B4889*100+C4889,氏名データ!$AC$2:$AJ$401,2,0)","v":{"$error":"#N/A"}},null,0]
[0,0,0,0,0,0,0,0,0,0,0,{"$f":"VLOOKUP(B4891*100+C4891,氏名データ!$AC$2:$AJ$401,2,0)","v":{"$error":"#N/A"}},null,0]
[0,0,0,0,0,0,0,0,0,0,0,{"$f":"VLOOKUP(B4892*100+C4892,氏名データ!$AC$2:$AJ$401,2,0)","v":{"$error":"#N/A"}},null,0]
[0,0,0,0,0,0,0,0,0,0,0,{"$f":"VLOOKUP(B4895*100+C4895,氏名データ!$AC$2:$AJ$401,2,0)","v":{"$error":"#N/A"}},null,0]
[0,0,0,0,0,0,0,0,0,0,0,{"$f":"VLOOKUP(B4896*100+C4896,氏名データ!$AC$2:$AJ$401,2,0)","v":{"$error":"#N/A"}},null,0]
[0,0,0,0,0,0,0,0,0,0,0,{"$f":"VLOOKUP(B4900*100+C4900,氏名データ!$AC$2:$AJ$401,2,0)","v":{"$error":"#N/A"}},null,0]
[0,0,0,0,0,0,0,0,0,0,0,{"$f":"VLOOKUP(B4901*100+C4901,氏名データ!$AC$2:$AJ$401,2,0)","v":{"$error":"#N/A"}},null,0]
[0,0,0,0,0,0,0,0,0,0,0,{"$f":"VLOOKUP(B4904*100+C4904,氏名データ!$AC$2:$AJ$401,2,0)","v":{"$error":"#N/A"}},null,0]
[0,0,0,0,0,0,0,0,0,0,0,{"$f":"VLOOKUP(B4907*100+C4907,氏名データ!$AC$2:$AJ$401,2,0)","v":{"$error":"#N/A"}},null,0]
[0,0,0,0,0,0,0,0,0,0,0,{"$f":"VLOOKUP(B4909*100+C4909,氏名データ!$AC$2:$AJ$401,2,0)","v":{"$error":"#N/A"}},null,0]
[0,0,0,0,0,0,0,0,0,0,0,{"$f":"VLOOKUP(B4910*100+C4910,氏名データ!$AC$2:$AJ$401,2,0)","v":{"$error":"#N/A"}},null,0]
[0,0,0,0,0,0,0,0,0,0,0,{"$f":"VLOOKUP(B4913*100+C4913,氏名データ!$AC$2:$AJ$401,2,0)","v":{"$error":"#N/A"}},null,0]
[0,0,0,0,0,0,0,0,0,0,0,{"$f":"VLOOKUP(B4914*100+C4914,氏名データ!$AC$2:$AJ$401,2,0)","v":{"$error":"#N/A"}},null,0]
[0,0,0,0,0,0,0,0,0,0,0,{"$f":"VLOOKUP(B4918*100+C4918,氏名データ!$AC$2:$AJ$401,2,0)","v":{"$error":"#N/A"}},null,0]
[0,0,0,0,0,0,0,0,0,0,0,{"$f":"VLOOKUP(B4919*100+C4919,氏名データ!$AC$2:$AJ$401,2,0)","v":{"$error":"#N/A"}},null,0]
[0,0,0,0,0,0,0,0,0,0,0,{"$f":"VLOOKUP(B4922*100+C4922,氏名データ!$AC$2:$AJ$401,2,0)","v":{"$error":"#N/A"}},null,0]
[0,0,0,0,0,0,0,0,0,0,0,{"$f":"VLOOKUP(B4925*100+C4925,氏名データ!$AC$2:$AJ$401,2,0)","v":{"$error":"#N/A"}},null,0]
[0,0,0,0,0,0,0,0,0,0,0,{"$f":"VLOOKUP(B4927*100+C4927,氏名データ!$AC$2:$AJ$401,2,0)","v":{"$error":"#N/A"}},null,0]
[0,0,0,0,0,0,0,0,0,0,0,{"$f":"VLOOKUP(B4928*100+C4928,氏名データ!$AC$2:$AJ$401,2,0)","v":{"$error":"#N/A"}},null,0]
[0,0,0,0,0,0,0,{"$f":"U4931","v":0},{"$f":"V4931","v":0},{"$f":"X4931","v":0},0,{"$f":"VLOOKUP(B4931*100+C4931,氏名データ!$AC$2:$AJ$401,2,0)","v":{"$error":"#N/A"}},null,0]
[0,0,0,0,0,0,0,0,0,0,0,{"$f":"VLOOKUP(B4932*100+C4932,氏名データ!$AC$2:$AJ$401,2,0)","v":{"$error":"#N/A"}},null,0]
[0,0,0,0,0,0,0,0,0,0,0,{"$f":"VLOOKUP(B4936*100+C4936,氏名データ!$AC$2:$AJ$401,2,0)","v":{"$error":"#N/A"}},null,0]
[0,0,0,0,0,0,0,0,0,0,0,{"$f":"VLOOKUP(B4937*100+C4937,氏名データ!$AC$2:$AJ$401,2,0)","v":{"$error":"#N/A"}},null,0]
[0,0,0,0,0,0,0,0,0,0,0,{"$f":"VLOOKUP(B4940*100+C4940,氏名データ!$AC$2:$AJ$401,2,0)","v":{"$error":"#N/A"}},null,0]
[0,0,0,0,0,0,0,0,0,0,0,{"$f":"VLOOKUP(B4943*100+C4943,氏名データ!$AC$2:$AJ$401,2,0)","v":{"$error":"#N/A"}},null,0]
[0,0,0,0,0,0,0,0,0,0,0,{"$f":"VLOOKUP(B4945*100+C4945,氏名データ!$AC$2:$AJ$401,2,0)","v":{"$error":"#N/A"}},null,0]
[0,0,0,0,0,0,0,0,0,0,0,{"$f":"VLOOKUP(B4946*100+C4946,氏名データ!$AC$2:$AJ$401,2,0)","v":{"$error":"#N/A"}},null,0]
[0,0,0,0,0,0,0,0,0,0,0,{"$f":"VLOOKUP(B4949*100+C4949,氏名データ!$AC$2:$AJ$401,2,0)","v":{"$error":"#N/A"}},null,0]
[0,0,0,0,0,0,0,0,0,0,0,{"$f":"VLOOKUP(B4950*100+C4950,氏名データ!$AC$2:$AJ$401,2,0)","v":{"$error":"#N/A"}},null,0]
[0,0,0,0,0,0,0,0,0,0,0,{"$f":"VLOOKUP(B4954*100+C4954,氏名データ!$AC$2:$AJ$401,2,0)","v":{"$error":"#N/A"}},null,0]
[0,0,0,0,0,0,0,0,0,0,0,{"$f":"VLOOKUP(B4955*100+C4955,氏名データ!$AC$2:$AJ$401,2,0)","v":{"$error":"#N/A"}},null,0]
[0,0,0,0,0,0,0,0,0,0,0,{"$f":"VLOOKUP(B4958*100+C4958,氏名データ!$AC$2:$AJ$401,2,0)","v":{"$error":"#N/A"}},null,0]
[0,0,0,0,0,0,0,0,0,0,0,{"$f":"VLOOKUP(B4961*100+C4961,氏名データ!$AC$2:$AJ$401,2,0)","v":{"$error":"#N/A"}},null,0]
[0,0,0,0,0,0,0,0,0,0,0,{"$f":"VLOOKUP(B4963*100+C4963,氏名データ!$AC$2:$AJ$401,2,0)","v":{"$error":"#N/A"}},null,0]
[0,0,0,0,0,0,0,0,0,0,0,{"$f":"VLOOKUP(B4964*100+C4964,氏名データ!$AC$2:$AJ$401,2,0)","v":{"$error":"#N/A"}},null,0]
[0,0,0,0,0,0,0,0,0,0,0,{"$f":"VLOOKUP(B4967*100+C4967,氏名データ!$AC$2:$AJ$401,2,0)","v":{"$error":"#N/A"}},null,0]
[0,0,0,0,0,0,0,0,0,0,0,{"$f":"VLOOKUP(B4968*100+C4968,氏名データ!$AC$2:$AJ$401,2,0)","v":{"$error":"#N/A"}},null,0]
[0,0,0,0,0,0,0,0,0,0,0,{"$f":"VLOOKUP(B4972*100+C4972,氏名データ!$AC$2:$AJ$401,2,0)","v":{"$error":"#N/A"}},null,0]
[0,0,0,0,0,0,0,0,0,0,0,{"$f":"VLOOKUP(B4973*100+C4973,氏名データ!$AC$2:$AJ$401,2,0)","v":{"$error":"#N/A"}},null,0]
[0,0,0,0,0,0,0,0,0,0,0,{"$f":"VLOOKUP(B4976*100+C4976,氏名データ!$AC$2:$AJ$401,2,0)","v":{"$error":"#N/A"}},null,0]
[0,0,0,0,0,0,0,0,0,0,0,{"$f":"VLOOKUP(B4979*100+C4979,氏名データ!$AC$2:$AJ$401,2,0)","v":{"$error":"#N/A"}},null,0]
[0,0,0,0,0,0,0,0,0,0,0,{"$f":"VLOOKUP(B4981*100+C4981,氏名データ!$AC$2:$AJ$401,2,0)","v":{"$error":"#N/A"}},null,0]
[0,0,0,0,0,0,0,0,0,0,0,{"$f":"VLOOKUP(B4982*100+C4982,氏名データ!$AC$2:$AJ$401,2,0)","v":{"$error":"#N/A"}},null,0]
[{"$f":"P4985","v":0},{"$f":"ROUNDDOWN(A4985/10000,0)","v":0},{"$f":"ROUNDDOWN((A4985-B4985*10000)/100,0)","v":0},{"$f":"Q4985","v":0},{"$f":"R4985","v":0},{"$f":"S4985","v":0},{"$f":"T4985","v":0},0,0,0,{"$f":"Y4985","v":0},{"$f":"VLOOKUP(B4985*100+C4985,氏名データ!$AC$2:$AJ$401,2,0)","v":{"$error":"#N/A"}},null,{"$f":"W4985","v":0}]
[0,0,0,0,0,0,0,0,0,0,0,{"$f":"VLOOKUP(B4986*100+C4986,氏名データ!$AC$2:$AJ$401,2,0)","v":{"$error":"#N/A"}},null,0]
[0,0,0,0,0,0,0,0,0,0,0,{"$f":"VLOOKUP(B4990*100+C4990,氏名データ!$AC$2:$AJ$401,2,0)","v":{"$error":"#N/A"}},null,0]
[0,0,0,0,0,0,0,0,0,0,0,{"$f":"VLOOKUP(B4991*100+C4991,氏名データ!$AC$2:$AJ$401,2,0)","v":{"$error":"#N/A"}},null,0]
[0,0,0,0,0,0,0,0,0,0,0,{"$f":"VLOOKUP(B4994*100+C4994,氏名データ!$AC$2:$AJ$401,2,0)","v":{"$error":"#N/A"}},null,0]
[0,0,0,0,0,0,0,0,0,0,0,{"$f":"VLOOKUP(B4997*100+C4997,氏名データ!$AC$2:$AJ$401,2,0)","v":{"$error":"#N/A"}},null,0]
[0,0,0,0,0,0,0,0,0,0,0,{"$f":"VLOOKUP(B4999*100+C4999,氏名データ!$AC$2:$AJ$401,2,0)","v":{"$error":"#N/A"}},null,0]
[0,0,0,0,0,0,0,0,0,0,0,{"$f":"VLOOKUP(B5000*100+C5000,氏名データ!$AC$2:$AJ$401,2,0)","v":{"$error":"#N/A"}},null,0]
[0,0,0,0,0,0,0,0,0,0,0,{"$f":"VLOOKUP(B5003*100+C5003,氏名データ!$AC$2:$AJ$401,2,0)","v":{"$error":"#N/A"}},null,0]
[0,0,0,0,0,0,0,0,0,0,0,{"$f":"VLOOKUP(B5004*100+C5004,氏名データ!$AC$2:$AJ$401,2,0)","v":{"$error":"#N/A"}},null,0]
[0,0,0,0,0,0,0,0,0,0,0,{"$f":"VLOOKUP(B5008*100+C5008,氏名データ!$AC$2:$AJ$401,2,0)","v":{"$error":"#N/A"}},null,0]
[0,0,0,0,0,0,0,0,0,0,0,{"$f":"VLOOKUP(B5009*100+C5009,氏名データ!$AC$2:$AJ$401,2,0)","v":{"$error":"#N/A"}},null,0]
[0,0,0,0,0,0,0,0,0,0,0,{"$f":"VLOOKUP(B5012*100+C5012,氏名データ!$AC$2:$AJ$401,2,0)","v":{"$error":"#N/A"}},null,0]
[0,0,0,0,0,0,0,0,0,0,0,{"$f":"VLOOKUP(B5015*100+C5015,氏名データ!$AC$2:$AJ$401,2,0)","v":{"$error":"#N/A"}},null,0]
[0,0,0,0,0,0,0,0,0,0,0,{"$f":"VLOOKUP(B5017*100+C5017,氏名データ!$AC$2:$AJ$401,2,0)","v":{"$error":"#N/A"}},null,0]
[0,0,0,0,0,0,0,0,0,0,0,{"$f":"VLOOKUP(B5018*100+C5018,氏名データ!$AC$2:$AJ$401,2,0)","v":{"$error":"#N/A"}},null,0]
[0,0,0,0,0,0,0,0,0,0,0,{"$f":"VLOOKUP(B5021*100+C5021,氏名データ!$AC$2:$AJ$401,2,0)","v":{"$error":"#N/A"}},null,0]
[0,0,0,0,0,0,0,0,0,0,0,{"$f":"VLOOKUP(B5022*100+C5022,氏名データ!$AC$2:$AJ$401,2,0)","v":{"$error":"#N/A"}},null,0]
[0,0,0,0,0,0,0,0,0,0,0,{"$f":"VLOOKUP(B5026*100+C5026,氏名データ!$AC$2:$AJ$401,2,0)","v":{"$error":"#N/A"}},null,0]
[0,0,0,0,0,0,0,0,0,0,0,{"$f":"VLOOKUP(B5027*100+C5027,氏名データ!$AC$2:$AJ$401,2,0)","v":{"$error":"#N/A"}},null,0]
[0,0,0,0,0,0,0,0,0,0,0,{"$f":"VLOOKUP(B5030*100+C5030,氏名データ!$AC$2:$AJ$401,2,0)","v":{"$error":"#N/A"}},null,0]
[0,0,0,0,0,0,0,0,0,0,0,{"$f":"VLOOKUP(B5033*100+C5033,氏名データ!$AC$2:$AJ$401,2,0)","v":{"$error":"#N/A"}},null,0]
[0,0,0,0,0,0,0,0,0,0,0,{"$f":"VLOOKUP(B5035*100+C5035,氏名データ!$AC$2:$AJ$401,2,0)","v":{"$error":"#N/A"}},null,0]
[0,0,0,0,0,0,0,0,0,0,0,{"$f":"VLOOKUP(B5036*100+C5036,氏名データ!$AC$2:$AJ$401,2,0)","v":{"$error":"#N/A"}},null,0]
[0,0,0,0,0,0,0,0,0,0,0,{"$f":"VLOOKUP(B5039*100+C5039,氏名データ!$AC$2:$AJ$401,2,0)","v":{"$error":"#N/A"}},null,0]
[0,0,0,0,0,0,0,0,0,0,0,{"$f":"VLOOKUP(B5041*100+C5041,氏名データ!$AC$2:$AJ$401,2,0)","v":{"$error":"#N/A"}},null,0]
[0,0,0,0,0,0,0,0,0,0,0,{"$f":"VLOOKUP(B5044*100+C5044,氏名データ!$AC$2:$AJ$401,2,0)","v":{"$error":"#N/A"}},null,0]
[0,0,0,0,0,0,0,0,0,0,0,{"$f":"VLOOKUP(B5045*100+C5045,氏名データ!$AC$2:$AJ$401,2,0)","v":{"$error":"#N/A"}},null,0]
[0,0,0,0,0,0,0,0,0,0,0,{"$f":"VLOOKUP(B5048*100+C5048,氏名データ!$AC$2:$AJ$401,2,0)","v":{"$error":"#N/A"}},null,0]
[0,0,0,0,0,0,0,0,0,0,0,{"$f":"VLOOKUP(B5051*100+C5051,氏名データ!$AC$2:$AJ$401,2,0)","v":{"$error":"#N/A"}},null,0]
[0,0,0,0,0,0,0,0,0,0,0,{"$f":"VLOOKUP(B5053*100+C5053,氏名データ!$AC$2:$AJ$401,2,0)","v":{"$error":"#N/A"}},null,0]
[0,0,0,0,0,0,0,0,0,0,0,{"$f":"VLOOKUP(B5054*100+C5054,氏名データ!$AC$2:$AJ$401,2,0)","v":{"$error":"#N/A"}},null,0]
[0,0,0,0,0,0,0,0,0,0,0,{"$f":"VLOOKUP(B5057*100+C5057,氏名データ!$AC$2:$AJ$401,2,0)","v":{"$error":"#N/A"}},null,0]
[0,0,0,0,0,0,0,{"$f":"U5059","v":0},{"$f":"V5059","v":0},{"$f":"X5059","v":0},0,{"$f":"VLOOKUP(B5059*100+C5059,氏名データ!$AC$2:$AJ$401,2,0)","v":{"$error":"#N/A"}},null,0]
[0,0,0,0,0,0,0,0,0,0,0,{"$f":"VLOOKUP(B5062*100+C5062,氏名データ!$AC$2:$AJ$401,2,0)","v":{"$error":"#N/A"}},null,0]
[0,0,0,0,0,0,0,0,0,0,0,{"$f":"VLOOKUP(B5063*100+C5063,氏名データ!$AC$2:$AJ$401,2,0)","v":{"$error":"#N/A"}},null,0]
[0,0,0,0,0,0,0,0,0,0,0,{"$f":"VLOOKUP(B5066*100+C5066,氏名データ!$AC$2:$AJ$401,2,0)","v":{"$error":"#N/A"}},null,0]
[0,0,0,0,0,0,0,0,0,0,0,{"$f":"VLOOKUP(B5069*100+C5069,氏名データ!$AC$2:$AJ$401,2,0)","v":{"$error":"#N/A"}},null,0]
[0,0,0,0,0,0,0,0,0,0,0,{"$f":"VLOOKUP(B5071*100+C5071,氏名データ!$AC$2:$AJ$401,2,0)","v":{"$error":"#N/A"}},null,0]
[0,0,0,0,0,0,0,0,0,0,0,{"$f":"VLOOKUP(B5072*100+C5072,氏名データ!$AC$2:$AJ$401,2,0)","v":{"$error":"#N/A"}},null,0]
[0,0,0,0,0,0,0,0,0,0,0,{"$f":"VLOOKUP(B5075*100+C5075,氏名データ!$AC$2:$AJ$401,2,0)","v":{"$error":"#N/A"}},null,0]
[0,0,0,0,0,0,0,0,0,0,0,{"$f":"VLOOKUP(B5077*100+C5077,氏名データ!$AC$2:$AJ$401,2,0)","v":{"$error":"#N/A"}},null,0]
[0,0,0,0,0,0,0,0,0,0,0,{"$f":"VLOOKUP(B5080*100+C5080,氏名データ!$AC$2:$AJ$401,2,0)","v":{"$error":"#N/A"}},null,0]
[0,0,0,0,0,0,0,0,0,0,0,{"$f":"VLOOKUP(B5081*100+C5081,氏名データ!$AC$2:$AJ$401,2,0)","v":{"$error":"#N/A"}},null,0]
[0,0,0,0,0,0,0,0,0,0,0,{"$f":"VLOOKUP(B5084*100+C5084,氏名データ!$AC$2:$AJ$401,2,0)","v":{"$error":"#N/A"}},null,0]
[0,0,0,0,0,0,0,0,0,0,0,{"$f":"VLOOKUP(B5087*100+C5087,氏名データ!$AC$2:$AJ$401,2,0)","v":{"$error":"#N/A"}},null,0]
[0,0,0,0,0,0,0,0,0,0,0,{"$f":"VLOOKUP(B5089*100+C5089,氏名データ!$AC$2:$AJ$401,2,0)","v":{"$error":"#N/A"}},null,0]
[0,0,0,0,0,0,0,0,0,0,0,{"$f":"VLOOKUP(B5090*100+C5090,氏名データ!$AC$2:$AJ$401,2,0)","v":{"$error":"#N/A"}},null,0]
[0,0,0,0,0,0,0,0,0,0,0,{"$f":"VLOOKUP(B5093*100+C5093,氏名データ!$AC$2:$AJ$401,2,0)","v":{"$error":"#N/A"}},null,0]
[0,0,0,0,0,0,0,0,0,0,0,{"$f":"VLOOKUP(B5095*100+C5095,氏名データ!$AC$2:$AJ$401,2,0)","v":{"$error":"#N/A"}},null,0]
[0,0,0,0,0,0,0,0,0,0,0,{"$f":"VLOOKUP(B5098*100+C5098,氏名データ!$AC$2:$AJ$401,2,0)","v":{"$error":"#N/A"}},null,0]
[0,0,0,0,0,0,0,0,0,0,0,{"$f":"VLOOKUP(B5099*100+C5099,氏名データ!$AC$2:$AJ$401,2,0)","v":{"$error":"#N/A"}},null,0]
[0,0,0,0,0,0,0,0,0,0,0,{"$f":"VLOOKUP(B5102*100+C5102,氏名データ!$AC$2:$AJ$401,2,0)","v":{"$error":"#N/A"}},null,0]
[0,0,0,0,0,0,0,0,0,0,0,{"$f":"VLOOKUP(B5105*100+C5105,氏名データ!$AC$2:$AJ$401,2,0)","v":{"$error":"#N/A"}},null,0]
[0,0,0,0,0,0,0,0,0,0,0,{"$f":"VLOOKUP(B5107*100+C5107,氏名データ!$AC$2:$AJ$401,2,0)","v":{"$error":"#N/A"}},null,0]
[0,0,0,0,0,0,0,0,0,0,0,{"$f":"VLOOKUP(B5108*100+C5108,氏名データ!$AC$2:$AJ$401,2,0)","v":{"$error":"#N/A"}},null,0]
[0,0,0,0,0,0,0,0,0,0,0,{"$f":"VLOOKUP(B5111*100+C5111,氏名データ!$AC$2:$AJ$401,2,0)","v":{"$error":"#N/A"}},null,0]
[{"$f":"P5113","v":0},{"$f":"ROUNDDOWN(A5113/10000,0)","v":0},{"$f":"ROUNDDOWN((A5113-B5113*10000)/100,0)","v":0},{"$f":"Q5113","v":0},{"$f":"R5113","v":0},{"$f":"S5113","v":0},{"$f":"T5113","v":0},0,0,0,{"$f":"Y5113","v":0},{"$f":"VLOOKUP(B5113*100+C5113,氏名データ!$AC$2:$AJ$401,2,0)","v":{"$error":"#N/A"}},null,{"$f":"W5113","v":0}]
[0,0,0,0,0,0,0,0,0,0,0,{"$f":"VLOOKUP(B5116*100+C5116,氏名データ!$AC$2:$AJ$401,2,0)","v":{"$error":"#N/A"}},null,0]
[0,0,0,0,0,0,0,0,0,0,0,{"$f":"VLOOKUP(B5117*100+C5117,氏名データ!$AC$2:$AJ$401,2,0)","v":{"$error":"#N/A"}},null,0]
[0,0,0,0,0,0,0,0,0,0,0,{"$f":"VLOOKUP(B5120*100+C5120,氏名データ!$AC$2:$AJ$401,2,0)","v":{"$error":"#N/A"}},null,0]
[0,0,0,0,0,0,0,{"$f":"U5123","v":0},{"$f":"V5123","v":0},{"$f":"X5123","v":0},0,{"$f":"VLOOKUP(B5123*100+C5123,氏名データ!$AC$2:$AJ$401,2,0)","v":{"$error":"#N/A"}},null,0]
[0,0,0,0,0,0,0,0,0,0,0,{"$f":"VLOOKUP(B5125*100+C5125,氏名データ!$AC$2:$AJ$401,2,0)","v":{"$error":"#N/A"}},null,0]
[0,0,0,0,0,0,0,0,0,0,0,{"$f":"VLOOKUP(B5126*100+C5126,氏名データ!$AC$2:$AJ$401,2,0)","v":{"$error":"#N/A"}},null,0]
[0,0,0,0,0,0,0,0,0,0,0,{"$f":"VLOOKUP(B5129*100+C5129,氏名データ!$AC$2:$AJ$401,2,0)","v":{"$error":"#N/A"}},null,0]
[0,0,0,0,0,0,0,0,0,0,0,{"$f":"VLOOKUP(B5131*100+C5131,氏名データ!$AC$2:$AJ$401,2,0)","v":{"$error":"#N/A"}},null,0]
[0,0,0,0,0,0,0,0,0,0,0,{"$f":"VLOOKUP(B5134*100+C5134,氏名データ!$AC$2:$AJ$401,2,0)","v":{"$error":"#N/A"}},null,0]
[0,0,0,0,0,0,0,0,0,0,0,{"$f":"VLOOKUP(B5135*100+C5135,氏名データ!$AC$2:$AJ$401,2,0)","v":{"$error":"#N/A"}},null,0]
[0,0,0,0,0,0,0,0,0,0,0,{"$f":"VLOOKUP(B5138*100+C5138,氏名データ!$AC$2:$AJ$401,2,0)","v":{"$error":"#N/A"}},null,0]
[0,0,0,0,0,0,0,0,0,0,0,{"$f":"VLOOKUP(B5141*100+C5141,氏名データ!$AC$2:$AJ$401,2,0)","v":{"$error":"#N/A"}},null,0]
[0,0,0,0,0,0,0,0,0,0,0,{"$f":"VLOOKUP(B5143*100+C5143,氏名データ!$AC$2:$AJ$401,2,0)","v":{"$error":"#N/A"}},null,0]
[0,0,0,0,0,0,0,0,0,0,0,{"$f":"VLOOKUP(B5144*100+C5144,氏名データ!$AC$2:$AJ$401,2,0)","v":{"$error":"#N/A"}},null,0]
[0,0,0,0,0,0,0,0,0,0,0,{"$f":"VLOOKUP(B5147*100+C5147,氏名データ!$AC$2:$AJ$401,2,0)","v":{"$error":"#N/A"}},null,0]
[0,0,0,0,0,0,0,0,0,0,0,{"$f":"VLOOKUP(B5149*100+C5149,氏名データ!$AC$2:$AJ$401,2,0)","v":{"$error":"#N/A"}},null,0]
[0,0,0,0,0,0,0,0,0,0,0,{"$f":"VLOOKUP(B5152*100+C5152,氏名データ!$AC$2:$AJ$401,2,0)","v":{"$error":"#N/A"}},null,0]
[0,0,0,0,0,0,0,0,0,0,0,{"$f":"VLOOKUP(B5153*100+C5153,氏名データ!$AC$2:$AJ$401,2,0)","v":{"$error":"#N/A"}},null,0]
[0,0,0,0,0,0,0,0,0,0,0,{"$f":"VLOOKUP(B5156*100+C5156,氏名データ!$AC$2:$AJ$401,2,0)","v":{"$error":"#N/A"}},null,0]
[0,0,0,0,0,0,0,0,0,0,0,{"$f":"VLOOKUP(B5159*100+C5159,氏名データ!$AC$2:$AJ$401,2,0)","v":{"$error":"#N/A"}},null,0]
[0,0,0,0,0,0,0,0,0,0,0,{"$f":"VLOOKUP(B5161*100+C5161,氏名データ!$AC$2:$AJ$401,2,0)","v":{"$error":"#N/A"}},null,0]
[0,0,0,0,0,0,0,0,0,0,0,{"$f":"VLOOKUP(B5162*100+C5162,氏名データ!$AC$2:$AJ$401,2,0)","v":{"$error":"#N/A"}},null,0]
[0,0,0,0,0,0,0,0,0,0,0,{"$f":"VLOOKUP(B5165*100+C5165,氏名データ!$AC$2:$AJ$401,2,0)","v":{"$error":"#N/A"}},null,0]
[0,0,0,0,0,0,0,0,0,0,0,{"$f":"VLOOKUP(B5167*100+C5167,氏名データ!$AC$2:$AJ$401,2,0)","v":{"$error":"#N/A"}},null,0]
[0,0,0,0,0,0,0,0,0,0,0,{"$f":"VLOOKUP(B5170*100+C5170,氏名データ!$AC$2:$AJ$401,2,0)","v":{"$error":"#N/A"}},null,0]
[0,0,0,0,0,0,0,0,0,0,0,{"$f":"VLOOKUP(B5171*100+C5171,氏名データ!$AC$2:$AJ$401,2,0)","v":{"$error":"#N/A"}},null,0]
[0,0,0,0,0,0,0,0,0,0,0,{"$f":"VLOOKUP(B5174*100+C5174,氏名データ!$AC$2:$AJ$401,2,0)","v":{"$error":"#N/A"}},null,0]
[{"$f":"P5177","v":0},{"$f":"ROUNDDOWN(A5177/10000,0)","v":0},{"$f":"ROUNDDOWN((A5177-B5177*10000)/100,0)","v":0},{"$f":"Q5177","v":0},{"$f":"R5177","v":0},{"$f":"S5177","v":0},{"$f":"T5177","v":0},0,0,0,{"$f":"Y5177","v":0},{"$f":"VLOOKUP(B5177*100+C5177,氏名データ!$AC$2:$AJ$401,2,0)","v":{"$error":"#N/A"}},null,{"$f":"W5177","v":0}]
[0,0,0,0,0,0,0,0,0,0,0,{"$f":"VLOOKUP(B5179*100+C5179,氏名データ!$AC$2:$AJ$401,2,0)","v":{"$error":"#N/A"}},null,0]
[0,0,0,0,0,0,0,0,0,0,0,{"$f":"VLOOKUP(B5180*100+C5180,氏名データ!$AC$2:$AJ$401,2,0)","v":{"$error":"#N/A"}},null,0]
[0,0,0,0,0,0,0,0,0,0,0,{"$f":"VLOOKUP(B5183*100+C5183,氏名データ!$AC$2:$AJ$401,2,0)","v":{"$error":"#N/A"}},null,0]
[0,0,0,0,0,0,0,0,0,0,0,{"$f":"VLOOKUP(B5185*100+C5185,氏名データ!$AC$2:$AJ$401,2,0)","v":{"$error":"#N/A"}},null,0]
[0,0,0,0,0,0,0,0,0,0,0,{"$f":"VLOOKUP(B5188*100+C5188,氏名データ!$AC$2:$AJ$401,2,0)","v":{"$error":"#N/A"}},null,0]
[0,0,0,0,0,0,0,0,0,0,0,{"$f":"VLOOKUP(B5189*100+C5189,氏名データ!$AC$2:$AJ$401,2,0)","v":{"$error":"#N/A"}},null,0]
[0,0,0,0,0,0,0,0,0,0,0,{"$f":"VLOOKUP(B5192*100+C5192,氏名データ!$AC$2:$AJ$401,2,0)","v":{"$error":"#N/A"}},null,0]
[0,0,0,0,0,0,0,0,0,0,0,{"$f":"VLOOKUP(B5193*100+C5193,氏名データ!$AC$2:$AJ$401,2,0)","v":{"$error":"#N/A"}},null,0]
[0,0,0,0,0,0,0,0,0,0,0,{"$f":"VLOOKUP(B5197*100+C5197,氏名データ!$AC$2:$AJ$401,2,0)","v":{"$error":"#N/A"}},null,0]
[0,0,0,0,0,0,0,0,0,0,0,{"$f":"VLOOKUP(B5198*100+C5198,氏名データ!$AC$2:$AJ$401,2,0)","v":{"$error":"#N/A"}},null,0]
[0,0,0,0,0,0,0,0,0,0,0,{"$f":"VLOOKUP(B5201*100+C5201,氏名データ!$AC$2:$AJ$401,2,0)","v":{"$error":"#N/A"}},null,0]
[0,0,0,0,0,0,0,0,0,0,0,{"$f":"VLOOKUP(B5203*100+C5203,氏名データ!$AC$2:$AJ$401,2,0)","v":{"$error":"#N/A"}},null,0]
[0,0,0,0,0,0,0,0,0,0,0,{"$f":"VLOOKUP(B5206*100+C5206,氏名データ!$AC$2:$AJ$401,2,0)","v":{"$error":"#N/A"}},null,0]
[0,0,0,0,0,0,0,0,0,0,0,{"$f":"VLOOKUP(B5207*100+C5207,氏名データ!$AC$2:$AJ$401,2,0)","v":{"$error":"#N/A"}},null,0]
[0,0,0,0,0,0,0,0,0,0,0,{"$f":"VLOOKUP(B5210*100+C5210,氏名データ!$AC$2:$AJ$401,2,0)","v":{"$error":"#N/A"}},null,0]
[0,0,0,0,0,0,0,0,0,0,0,{"$f":"VLOOKUP(B5211*100+C5211,氏名データ!$AC$2:$AJ$401,2,0)","v":{"$error":"#N/A"}},null,0]
[0,0,0,0,0,0,0,0,0,0,0,{"$f":"VLOOKUP(B5215*100+C5215,氏名データ!$AC$2:$AJ$401,2,0)","v":{"$error":"#N/A"}},null,0]
[0,0,0,0,0,0,0,0,0,0,0,{"$f":"VLOOKUP(B5216*100+C5216,氏名データ!$AC$2:$AJ$401,2,0)","v":{"$error":"#N/A"}},null,0]
[0,0,0,0,0,0,0,0,0,0,0,{"$f":"VLOOKUP(B5219*100+C5219,氏名データ!$AC$2:$AJ$401,2,0)","v":{"$error":"#N/A"}},null,0]
[0,0,0,0,0,0,0,0,0,0,0,{"$f":"VLOOKUP(B5221*100+C5221,氏名データ!$AC$2:$AJ$401,2,0)","v":{"$error":"#N/A"}},null,0]
[0,0,0,0,0,0,0,0,0,0,0,{"$f":"VLOOKUP(B5224*100+C5224,氏名データ!$AC$2:$AJ$401,2,0)","v":{"$error":"#N/A"}},null,0]
[0,0,0,0,0,0,0,0,0,0,0,{"$f":"VLOOKUP(B5225*100+C5225,氏名データ!$AC$2:$AJ$401,2,0)","v":{"$error":"#N/A"}},null,0]
[0,0,0,0,0,0,0,0,0,0,0,{"$f":"VLOOKUP(B5228*100+C5228,氏名データ!$AC$2:$AJ$401,2,0)","v":{"$error":"#N/A"}},null,0]
[0,0,0,0,0,0,0,0,0,0,0,{"$f":"VLOOKUP(B5229*100+C5229,氏名データ!$AC$2:$AJ$401,2,0)","v":{"$error":"#N/A"}},null,0]
[0,0,0,0,0,0,0,0,0,0,0,{"$f":"VLOOKUP(B5233*100+C5233,氏名データ!$AC$2:$AJ$401,2,0)","v":{"$error":"#N/A"}},null,0]
[0,0,0,0,0,0,0,0,0,0,0,{"$f":"VLOOKUP(B5234*100+C5234,氏名データ!$AC$2:$AJ$401,2,0)","v":{"$error":"#N/A"}},null,0]
[0,0,0,0,0,0,0,0,0,0,0,{"$f":"VLOOKUP(B5237*100+C5237,氏名データ!$AC$2:$AJ$401,2,0)","v":{"$error":"#N/A"}},null,0]
[0,0,0,0,0,0,0,0,0,0,0,{"$f":"VLOOKUP(B5239*100+C5239,氏名データ!$AC$2:$AJ$401,2,0)","v":{"$error":"#N/A"}},null,0]
[0,0,0,0,0,0,0,0,0,0,0,{"$f":"VLOOKUP(B5242*100+C5242,氏名データ!$AC$2:$AJ$401,2,0)","v":{"$error":"#N/A"}},null,0]
[0,0,0,0,0,0,0,0,0,0,0,{"$f":"VLOOKUP(B5243*100+C5243,氏名データ!$AC$2:$AJ$401,2,0)","v":{"$error":"#N/A"}},null,0]
[0,0,0,0,0,0,0,0,0,0,0,{"$f":"VLOOKUP(B5246*100+C5246,氏名データ!$AC$2:$AJ$401,2,0)","v":{"$error":"#N/A"}},null,0]
[0,0,0,0,0,0,0,0,0,0,0,{"$f":"VLOOKUP(B5247*100+C5247,氏名データ!$AC$2:$AJ$401,2,0)","v":{"$error":"#N/A"}},null,0]
[0,0,0,0,0,0,0,{"$f":"U5251","v":0},{"$f":"V5251","v":0},{"$f":"X5251","v":0},0,{"$f":"VLOOKUP(B5251*100+C5251,氏名データ!$AC$2:$AJ$401,2,0)","v":{"$error":"#N/A"}},null,0]
[0,0,0,0,0,0,0,0,0,0,0,{"$f":"VLOOKUP(B5252*100+C5252,氏名データ!$AC$2:$AJ$401,2,0)","v":{"$error":"#N/A"}},null,0]
[0,0,0,0,0,0,0,0,0,0,0,{"$f":"VLOOKUP(B5255*100+C5255,氏名データ!$AC$2:$AJ$401,2,0)","v":{"$error":"#N/A"}},null,0]
[0,0,0,0,0,0,0,0,0,0,0,{"$f":"VLOOKUP(B5257*100+C5257,氏名データ!$AC$2:$AJ$401,2,0)","v":{"$error":"#N/A"}},null,0]
[0,0,0,0,0,0,0,0,0,0,0,{"$f":"VLOOKUP(B5260*100+C5260,氏名データ!$AC$2:$AJ$401,2,0)","v":{"$error":"#N/A"}},null,0]
[0,0,0,0,0,0,0,0,0,0,0,{"$f":"VLOOKUP(B5261*100+C5261,氏名データ!$AC$2:$AJ$401,2,0)","v":{"$error":"#N/A"}},null,0]
[0,0,0,0,0,0,0,0,0,0,0,{"$f":"VLOOKUP(B5264*100+C5264,氏名データ!$AC$2:$AJ$401,2,0)","v":{"$error":"#N/A"}},null,0]
[0,0,0,0,0,0,0,0,0,0,0,{"$f":"VLOOKUP(B5265*100+C5265,氏名データ!$AC$2:$AJ$401,2,0)","v":{"$error":"#N/A"}},null,0]
[0,0,0,0,0,0,0,0,0,0,0,{"$f":"VLOOKUP(B5269*100+C5269,氏名データ!$AC$2:$AJ$401,2,0)","v":{"$error":"#N/A"}},null,0]
[0,0,0,0,0,0,0,0,0,0,0,{"$f":"VLOOKUP(B5270*100+C5270,氏名データ!$AC$2:$AJ$401,2,0)","v":{"$error":"#N/A"}},null,0]
[0,0,0,0,0,0,0,0,0,0,0,{"$f":"VLOOKUP(B5273*100+C5273,氏名データ!$AC$2:$AJ$401,2,0)","v":{"$error":"#N/A"}},null,0]
[0,0,0,0,0,0,0,0,0,0,0,{"$f":"VLOOKUP(B5275*100+C5275,氏名データ!$AC$2:$AJ$401,2,0)","v":{"$error":"#N/A"}},null,0]
[0,0,0,0,0,0,0,0,0,0,0,{"$f":"VLOOKUP(B5278*100+C5278,氏名データ!$AC$2:$AJ$401,2,0)","v":{"$error":"#N/A"}},null,0]
[0,0,0,0,0,0,0,0,0,0,0,{"$f":"VLOOKUP(B5279*100+C5279,氏名データ!$AC$2:$AJ$401,2,0)","v":{"$error":"#N/A"}},null,0]
[0,0,0,0,0,0,0,0,0,0,0,{"$f":"VLOOKUP(B5282*100+C5282,氏名データ!$AC$2:$AJ$401,2,0)","v":{"$error":"#N/A"}},null,0]
[0,0,0,0,0,0,0,0,0,0,0,{"$f":"VLOOKUP(B5283*100+C5283,氏名データ!$AC$2:$AJ$401,2,0)","v":{"$error":"#N/A"}},null,0]
[0,0,0,0,0,0,0,0,0,0,0,{"$f":"VLOOKUP(B5287*100+C5287,氏名データ!$AC$2:$AJ$401,2,0)","v":{"$error":"#N/A"}},null,0]
[0,0,0,0,0,0,0,0,0,0,0,{"$f":"VLOOKUP(B5288*100+C5288,氏名データ!$AC$2:$AJ$401,2,0)","v":{"$error":"#N/A"}},null,0]
[0,0,0,0,0,0,0,0,0,0,0,{"$f":"VLOOKUP(B5291*100+C5291,氏名データ!$AC$2:$AJ$401,2,0)","v":{"$error":"#N/A"}},null,0]
[0,0,0,0,0,0,0,0,0,0,0,{"$f":"VLOOKUP(B5293*100+C5293,氏名データ!$AC$2:$AJ$401,2,0)","v":{"$error":"#N/A"}},null,0]
[0,0,0,0,0,0,0,0,0,0,0,{"$f":"VLOOKUP(B5296*100+C5296,氏名データ!$AC$2:$AJ$401,2,0)","v":{"$error":"#N/A"}},null,0]
[0,0,0,0,0,0,0,0,0,0,0,{"$f":"VLOOKUP(B5297*100+C5297,氏名データ!$AC$2:$AJ$401,2,0)","v":{"$error":"#N/A"}},null,0]
[0,0,0,0,0,0,0,0,0,0,0,{"$f":"VLOOKUP(B5300*100+C5300,氏名データ!$AC$2:$AJ$401,2,0)","v":{"$error":"#N/A"}},null,0]
[0,0,0,0,0,0,0,0,0,0,0,{"$f":"VLOOKUP(B5301*100+C5301,氏名データ!$AC$2:$AJ$401,2,0)","v":{"$error":"#N/A"}},null,0]
[{"$f":"P5305","v":0},{"$f":"ROUNDDOWN(A5305/10000,0)","v":0},{"$f":"ROUNDDOWN((A5305-B5305*10000)/100,0)","v":0},{"$f":"Q5305","v":0},{"$f":"R5305","v":0},{"$f":"S5305","v":0},{"$f":"T5305","v":0},0,0,0,{"$f":"Y5305","v":0},{"$f":"VLOOKUP(B5305*100+C5305,氏名データ!$AC$2:$AJ$401,2,0)","v":{"$error":"#N/A"}},null,{"$f":"W5305","v":0}]
[0,0,0,0,0,0,0,0,0,0,0,{"$f":"VLOOKUP(B5306*100+C5306,氏名データ!$AC$2:$AJ$401,2,0)","v":{"$error":"#N/A"}},null,0]
[0,0,0,0,0,0,0,0,0,0,0,{"$f":"VLOOKUP(B5309*100+C5309,氏名データ!$AC$2:$AJ$401,2,0)","v":{"$error":"#N/A"}},null,0]
[0,0,0,0,0,0,0,0,0,0,0,{"$f":"VLOOKUP(B5311*100+C5311,氏名データ!$AC$2:$AJ$401,2,0)","v":{"$error":"#N/A"}},null,0]
[0,0,0,0,0,0,0,0,0,0,0,{"$f":"VLOOKUP(B5314*100+C5314,氏名データ!$AC$2:$AJ$401,2,0)","v":{"$error":"#N/A"}},null,0]
[0,0,0,0,0,0,0,{"$f":"U5315","v":0},{"$f":"V5315","v":0},{"$f":"X5315","v":0},0,{"$f":"VLOOKUP(B5315*100+C5315,氏名データ!$AC$2:$AJ$401,2,0)","v":{"$error":"#N/A"}},null,0]
[0,0,0,0,0,0,0,0,0,0,0,{"$f":"VLOOKUP(B5318*100+C5318,氏名データ!$AC$2:$AJ$401,2,0)","v":{"$error":"#N/A"}},null,0]
[0,0,0,0,0,0,0,0,0,0,0,{"$f":"VLOOKUP(B5319*100+C5319,氏名データ!$AC$2:$AJ$401,2,0)","v":{"$error":"#N/A"}},null,0]
[0,0,0,0,0,0,0,0,0,0,0,{"$f":"VLOOKUP(B5323*100+C5323,氏名データ!$AC$2:$AJ$401,2,0)","v":{"$error":"#N/A"}},null,0]
[0,0,0,0,0,0,0,0,0,0,0,{"$f":"VLOOKUP(B5324*100+C5324,氏名データ!$AC$2:$AJ$401,2,0)","v":{"$error":"#N/A"}},null,0]
[0,0,0,0,0,0,0,0,0,0,0,{"$f":"VLOOKUP(B5327*100+C5327,氏名データ!$AC$2:$AJ$401,2,0)","v":{"$error":"#N/A"}},null,0]
[0,0,0,0,0,0,0,0,0,0,0,{"$f":"VLOOKUP(B5329*100+C5329,氏名データ!$AC$2:$AJ$401,2,0)","v":{"$error":"#N/A"}},null,0]
[0,0,0,0,0,0,0,0,0,0,0,{"$f":"VLOOKUP(B5332*100+C5332,氏名データ!$AC$2:$AJ$401,2,0)","v":{"$error":"#N/A"}},null,0]
[0,0,0,0,0,0,0,0,0,0,0,{"$f":"VLOOKUP(B5333*100+C5333,氏名データ!$AC$2:$AJ$401,2,0)","v":{"$error":"#N/A"}},null,0]
[0,0,0,0,0,0,0,0,0,0,0,{"$f":"VLOOKUP(B5336*100+C5336,氏名データ!$AC$2:$AJ$401,2,0)","v":{"$error":"#N/A"}},null,0]
[0,0,0,0,0,0,0,0,0,0,0,{"$f":"VLOOKUP(B5337*100+C5337,氏名データ!$AC$2:$AJ$401,2,0)","v":{"$error":"#N/A"}},null,0]
[0,0,0,0,0,0,0,0,0,0,0,{"$f":"VLOOKUP(B5341*100+C5341,氏名データ!$AC$2:$AJ$401,2,0)","v":{"$error":"#N/A"}},null,0]
[0,0,0,0,0,0,0,0,0,0,0,{"$f":"VLOOKUP(B5342*100+C5342,氏名データ!$AC$2:$AJ$401,2,0)","v":{"$error":"#N/A"}},null,0]
[0,0,0,0,0,0,0,0,0,0,0,{"$f":"VLOOKUP(B5345*100+C5345,氏名データ!$AC$2:$AJ$401,2,0)","v":{"$error":"#N/A"}},null,0]
[0,0,0,0,0,0,0,0,0,0,0,{"$f":"VLOOKUP(B5347*100+C5347,氏名データ!$AC$2:$AJ$401,2,0)","v":{"$error":"#N/A"}},null,0]
[0,0,0,0,0,0,0,0,0,0,0,{"$f":"VLOOKUP(B5350*100+C5350,氏名データ!$AC$2:$AJ$401,2,0)","v":{"$error":"#N/A"}},null,0]
[0,0,0,0,0,0,0,0,0,0,0,{"$f":"VLOOKUP(B5351*100+C5351,氏名データ!$AC$2:$AJ$401,2,0)","v":{"$error":"#N/A"}},null,0]
[0,0,0,0,0,0,0,0,0,0,0,{"$f":"VLOOKUP(B5354*100+C5354,氏名データ!$AC$2:$AJ$401,2,0)","v":{"$error":"#N/A"}},null,0]
[0,0,0,0,0,0,0,0,0,0,0,{"$f":"VLOOKUP(B5355*100+C5355,氏名データ!$AC$2:$AJ$401,2,0)","v":{"$error":"#N/A"}},null,0]
[0,0,0,0,0,0,0,0,0,0,0,{"$f":"VLOOKUP(B5359*100+C5359,氏名データ!$AC$2:$AJ$401,2,0)","v":{"$error":"#N/A"}},null,0]
[0,0,0,0,0,0,0,0,0,0,0,{"$f":"VLOOKUP(B5360*100+C5360,氏名データ!$AC$2:$AJ$401,2,0)","v":{"$error":"#N/A"}},null,0]
[0,0,0,0,0,0,0,0,0,0,0,{"$f":"VLOOKUP(B5363*100+C5363,氏名データ!$AC$2:$AJ$401,2,0)","v":{"$error":"#N/A"}},null,0]
[0,0,0,0,0,0,0,0,0,0,0,{"$f":"VLOOKUP(B5366*100+C5366,氏名データ!$AC$2:$AJ$401,2,0)","v":{"$error":"#N/A"}},null,0]
[0,0,0,0,0,0,0,0,0,0,0,{"$f":"VLOOKUP(B5368*100+C5368,氏名データ!$AC$2:$AJ$401,2,0)","v":{"$error":"#N/A"}},null,0]
[{"$f":"P5369","v":0},{"$f":"ROUNDDOWN(A5369/10000,0)","v":0},{"$f":"ROUNDDOWN((A5369-B5369*10000)/100,0)","v":0},{"$f":"Q5369","v":0},{"$f":"R5369","v":0},{"$f":"S5369","v":0},{"$f":"T5369","v":0},0,0,0,{"$f":"Y5369","v":0},{"$f":"VLOOKUP(B5369*100+C5369,氏名データ!$AC$2:$AJ$401,2,0)","v":{"$error":"#N/A"}},null,{"$f":"W5369","v":0}]
[0,0,0,0,0,0,0,0,0,0,0,{"$f":"VLOOKUP(B5372*100+C5372,氏名データ!$AC$2:$AJ$401,2,0)","v":{"$error":"#N/A"}},null,0]
[0,0,0,0,0,0,0,0,0,0,0,{"$f":"VLOOKUP(B5373*100+C5373,氏名データ!$AC$2:$AJ$401,2,0)","v":{"$error":"#N/A"}},null,0]
[0,0,0,0,0,0,0,0,0,0,0,{"$f":"VLOOKUP(B5377*100+C5377,氏名データ!$AC$2:$AJ$401,2,0)","v":{"$error":"#N/A"}},null,0]
[0,0,0,0,0,0,0,0,0,0,0,{"$f":"VLOOKUP(B5378*100+C5378,氏名データ!$AC$2:$AJ$401,2,0)","v":{"$error":"#N/A"}},null,0]
[0,0,0,0,0,0,0,0,0,0,0,{"$f":"VLOOKUP(B5381*100+C5381,氏名データ!$AC$2:$AJ$401,2,0)","v":{"$error":"#N/A"}},null,0]
[0,0,0,0,0,0,0,0,0,0,0,{"$f":"VLOOKUP(B5384*100+C5384,氏名データ!$AC$2:$AJ$401,2,0)","v":{"$error":"#N/A"}},null,0]
[0,0,0,0,0,0,0,0,0,0,0,{"$f":"VLOOKUP(B5386*100+C5386,氏名データ!$AC$2:$AJ$401,2,0)","v":{"$error":"#N/A"}},null,0]
[0,0,0,0,0,0,0,0,0,0,0,{"$f":"VLOOKUP(B5387*100+C5387,氏名データ!$AC$2:$AJ$401,2,0)","v":{"$error":"#N/A"}},null,0]
[0,0,0,0,0,0,0,0,0,0,0,{"$f":"VLOOKUP(B5390*100+C5390,氏名データ!$AC$2:$AJ$401,2,0)","v":{"$error":"#N/A"}},null,0]
[0,0,0,0,0,0,0,0,0,0,0,{"$f":"VLOOKUP(B5391*100+C5391,氏名データ!$AC$2:$AJ$401,2,0)","v":{"$error":"#N/A"}},null,0]
[0,0,0,0,0,0,0,0,0,0,0,{"$f":"VLOOKUP(B5395*100+C5395,氏名データ!$AC$2:$AJ$401,2,0)","v":{"$error":"#N/A"}},null,0]
[0,0,0,0,0,0,0,0,0,0,0,{"$f":"VLOOKUP(B5396*100+C5396,氏名データ!$AC$2:$AJ$401,2,0)","v":{"$error":"#N/A"}},null,0]
[0,0,0,0,0,0,0,0,0,0,0,{"$f":"VLOOKUP(B5399*100+C5399,氏名データ!$AC$2:$AJ$401,2,0)","v":{"$error":"#N/A"}},null,0]
[0,0,0,0,0,0,0,0,0,0,0,{"$f":"VLOOKUP(B5402*100+C5402,氏名データ!$AC$2:$AJ$401,2,0)","v":{"$error":"#N/A"}},null,0]
[0,0,0,0,0,0,0,0,0,0,0,{"$f":"VLOOKUP(B5404*100+C5404,氏名データ!$AC$2:$AJ$401,2,0)","v":{"$error":"#N/A"}},null,0]
[0,0,0,0,0,0,0,0,0,0,0,{"$f":"VLOOKUP(B5405*100+C5405,氏名データ!$AC$2:$AJ$401,2,0)","v":{"$error":"#N/A"}},null,0]
[0,0,0,0,0,0,0,0,0,0,0,{"$f":"VLOOKUP(B5408*100+C5408,氏名データ!$AC$2:$AJ$401,2,0)","v":{"$error":"#N/A"}},null,0]
[0,0,0,0,0,0,0,0,0,0,0,{"$f":"VLOOKUP(B5409*100+C5409,氏名データ!$AC$2:$AJ$401,2,0)","v":{"$error":"#N/A"}},null,0]
[0,0,0,0,0,0,0,0,0,0,0,{"$f":"VLOOKUP(B5413*100+C5413,氏名データ!$AC$2:$AJ$401,2,0)","v":{"$error":"#N/A"}},null,0]
[0,0,0,0,0,0,0,0,0,0,0,{"$f":"VLOOKUP(B5414*100+C5414,氏名データ!$AC$2:$AJ$401,2,0)","v":{"$error":"#N/A"}},null,0]
[0,0,0,0,0,0,0,0,0,0,0,{"$f":"VLOOKUP(B5417*100+C5417,氏名データ!$AC$2:$AJ$401,2,0)","v":{"$error":"#N/A"}},null,0]
[0,0,0,0,0,0,0,0,0,0,0,{"$f":"VLOOKUP(B5420*100+C5420,氏名データ!$AC$2:$AJ$401,2,0)","v":{"$error":"#N/A"}},null,0]
[0,0,0,0,0,0,0,0,0,0,0,{"$f":"VLOOKUP(B5422*100+C5422,氏名データ!$AC$2:$AJ$401,2,0)","v":{"$error":"#N/A"}},null,0]
[0,0,0,0,0,0,0,0,0,0,0,{"$f":"VLOOKUP(B5423*100+C5423,氏名データ!$AC$2:$AJ$401,2,0)","v":{"$error":"#N/A"}},null,0]
[0,0,0,0,0,0,0,0,0,0,0,{"$f":"VLOOKUP(B5426*100+C5426,氏名データ!$AC$2:$AJ$401,2,0)","v":{"$error":"#N/A"}},null,0]
[0,0,0,0,0,0,0,0,0,0,0,{"$f":"VLOOKUP(B5427*100+C5427,氏名データ!$AC$2:$AJ$401,2,0)","v":{"$error":"#N/A"}},null,0]
[0,0,0,0,0,0,0,0,0,0,0,{"$f":"VLOOKUP(B5431*100+C5431,氏名データ!$AC$2:$AJ$401,2,0)","v":{"$error":"#N/A"}},null,0]
[0,0,0,0,0,0,0,0,0,0,0,{"$f":"VLOOKUP(B5432*100+C5432,氏名データ!$AC$2:$AJ$401,2,0)","v":{"$error":"#N/A"}},null,0]
[0,0,0,0,0,0,0,0,0,0,0,{"$f":"VLOOKUP(B5435*100+C5435,氏名データ!$AC$2:$AJ$401,2,0)","v":{"$error":"#N/A"}},null,0]
[0,0,0,0,0,0,0,0,0,0,0,{"$f":"VLOOKUP(B5438*100+C5438,氏名データ!$AC$2:$AJ$401,2,0)","v":{"$error":"#N/A"}},null,0]
[0,0,0,0,0,0,0,0,0,0,0,{"$f":"VLOOKUP(B5440*100+C5440,氏名データ!$AC$2:$AJ$401,2,0)","v":{"$error":"#N/A"}},null,0]
[0,0,0,0,0,0,0,0,0,0,0,{"$f":"VLOOKUP(B5441*100+C5441,氏名データ!$AC$2:$AJ$401,2,0)","v":{"$error":"#N/A"}},null,0]
[0,0,0,0,0,0,0,0,0,0,0,{"$f":"VLOOKUP(B5444*100+C5444,氏名データ!$AC$2:$AJ$401,2,0)","v":{"$error":"#N/A"}},null,0]
[0,0,0,0,0,0,0,0,0,0,0,{"$f":"VLOOKUP(B5445*100+C5445,氏名データ!$AC$2:$AJ$401,2,0)","v":{"$error":"#N/A"}},null,0]
[0,0,0,0,0,0,0,0,0,0,0,{"$f":"VLOOKUP(B5449*100+C5449,氏名データ!$AC$2:$AJ$401,2,0)","v":{"$error":"#N/A"}},null,0]
[0,0,0,0,0,0,0,0,0,0,0,{"$f":"VLOOKUP(B5450*100+C5450,氏名データ!$AC$2:$AJ$401,2,0)","v":{"$error":"#N/A"}},null,0]
[0,0,0,0,0,0,0,0,0,0,0,{"$f":"VLOOKUP(B5453*100+C5453,氏名データ!$AC$2:$AJ$401,2,0)","v":{"$error":"#N/A"}},null,0]
[0,0,0,0,0,0,0,0,0,0,0,{"$f":"VLOOKUP(B5456*100+C5456,氏名データ!$AC$2:$AJ$401,2,0)","v":{"$error":"#N/A"}},null,0]
[0,0,0,0,0,0,0,0,0,0,0,{"$f":"VLOOKUP(B5458*100+C5458,氏名データ!$AC$2:$AJ$401,2,0)","v":{"$error":"#N/A"}},null,0]
[0,0,0,0,0,0,0,0,0,0,0,{"$f":"VLOOKUP(B5459*100+C5459,氏名データ!$AC$2:$AJ$401,2,0)","v":{"$error":"#N/A"}},null,0]
[0,0,0,0,0,0,0,0,0,0,0,{"$f":"VLOOKUP(B5462*100+C5462,氏名データ!$AC$2:$AJ$401,2,0)","v":{"$error":"#N/A"}},null,0]
[0,0,0,0,0,0,0,0,0,0,0,{"$f":"VLOOKUP(B5463*100+C5463,氏名データ!$AC$2:$AJ$401,2,0)","v":{"$error":"#N/A"}},null,0]
[0,0,0,0,0,0,0,0,0,0,0,{"$f":"VLOOKUP(B5467*100+C5467,氏名データ!$AC$2:$AJ$401,2,0)","v":{"$error":"#N/A"}},null,0]
[0,0,0,0,0,0,0,0,0,0,0,{"$f":"VLOOKUP(B5468*100+C5468,氏名データ!$AC$2:$AJ$401,2,0)","v":{"$error":"#N/A"}},null,0]
[0,0,0,0,0,0,0,0,0,0,0,{"$f":"VLOOKUP(B5471*100+C5471,氏名データ!$AC$2:$AJ$401,2,0)","v":{"$error":"#N/A"}},null,0]
[0,0,0,0,0,0,0,0,0,0,0,{"$f":"VLOOKUP(B5474*100+C5474,氏名データ!$AC$2:$AJ$401,2,0)","v":{"$error":"#N/A"}},null,0]
[0,0,0,0,0,0,0,0,0,0,0,{"$f":"VLOOKUP(B5476*100+C5476,氏名データ!$AC$2:$AJ$401,2,0)","v":{"$error":"#N/A"}},null,0]
[0,0,0,0,0,0,0,0,0,0,0,{"$f":"VLOOKUP(B5477*100+C5477,氏名データ!$AC$2:$AJ$401,2,0)","v":{"$error":"#N/A"}},null,0]
[0,0,0,0,0,0,0,0,0,0,0,{"$f":"VLOOKUP(B5480*100+C5480,氏名データ!$AC$2:$AJ$401,2,0)","v":{"$error":"#N/A"}},null,0]
[0,0,0,0,0,0,0,0,0,0,0,{"$f":"VLOOKUP(B5481*100+C5481,氏名データ!$AC$2:$AJ$401,2,0)","v":{"$error":"#N/A"}},null,0]
[0,0,0,0,0,0,0,0,0,0,0,{"$f":"VLOOKUP(B5485*100+C5485,氏名データ!$AC$2:$AJ$401,2,0)","v":{"$error":"#N/A"}},null,0]
[0,0,0,0,0,0,0,0,0,0,0,{"$f":"VLOOKUP(B5486*100+C5486,氏名データ!$AC$2:$AJ$401,2,0)","v":{"$error":"#N/A"}},null,0]
[0,0,0,0,0,0,0,0,0,0,0,{"$f":"VLOOKUP(B5489*100+C5489,氏名データ!$AC$2:$AJ$401,2,0)","v":{"$error":"#N/A"}},null,0]
[0,0,0,0,0,0,0,0,0,0,0,{"$f":"VLOOKUP(B5492*100+C5492,氏名データ!$AC$2:$AJ$401,2,0)","v":{"$error":"#N/A"}},null,0]
[0,0,0,0,0,0,0,0,0,0,0,{"$f":"VLOOKUP(B5494*100+C5494,氏名データ!$AC$2:$AJ$401,2,0)","v":{"$error":"#N/A"}},null,0]
[0,0,0,0,0,0,0,0,0,0,0,{"$f":"VLOOKUP(B5495*100+C5495,氏名データ!$AC$2:$AJ$401,2,0)","v":{"$error":"#N/A"}},null,0]
[0,0,0,0,0,0,0,0,0,0,0,{"$f":"VLOOKUP(B5498*100+C5498,氏名データ!$AC$2:$AJ$401,2,0)","v":{"$error":"#N/A"}},null,0]
[0,0,0,0,0,0,0,0,0,0,0,{"$f":"VLOOKUP(B5499*100+C5499,氏名データ!$AC$2:$AJ$401,2,0)","v":{"$error":"#N/A"}},null,0]
[0,0,0,0,0,0,0,0,0,0,0,{"$f":"VLOOKUP(B5503*100+C5503,氏名データ!$AC$2:$AJ$401,2,0)","v":{"$error":"#N/A"}},null,0]
[0,0,0,0,0,0,0,0,0,0,0,{"$f":"VLOOKUP(B5504*100+C5504,氏名データ!$AC$2:$AJ$401,2,0)","v":{"$error":"#N/A"}},null,0]
[0,0,0,0,0,0,0,{"$f":"U5507","v":0},{"$f":"V5507","v":0},{"$f":"X5507","v":0},0,{"$f":"VLOOKUP(B5507*100+C5507,氏名データ!$AC$2:$AJ$401,2,0)","v":{"$error":"#N/A"}},null,0]
[0,0,0,0,0,0,0,0,0,0,0,{"$f":"VLOOKUP(B5510*100+C5510,氏名データ!$AC$2:$AJ$401,2,0)","v":{"$error":"#N/A"}},null,0]
[0,0,0,0,0,0,0,0,0,0,0,{"$f":"VLOOKUP(B5512*100+C5512,氏名データ!$AC$2:$AJ$401,2,0)","v":{"$error":"#N/A"}},null,0]
[0,0,0,0,0,0,0,0,0,0,0,{"$f":"VLOOKUP(B5513*100+C5513,氏名データ!$AC$2:$AJ$401,2,0)","v":{"$error":"#N/A"}},null,0]
[0,0,0,0,0,0,0,0,0,0,0,{"$f":"VLOOKUP(B5516*100+C5516,氏名データ!$AC$2:$AJ$401,2,0)","v":{"$error":"#N/A"}},null,0]
[0,0,0,0,0,0,0,0,0,0,0,{"$f":"VLOOKUP(B5518*100+C5518,氏名データ!$AC$2:$AJ$401,2,0)","v":{"$error":"#N/A"}},null,0]
[0,0,0,0,0,0,0,0,0,0,0,{"$f":"VLOOKUP(B5521*100+C5521,氏名データ!$AC$2:$AJ$401,2,0)","v":{"$error":"#N/A"}},null,0]
[0,0,0,0,0,0,0,0,0,0,0,{"$f":"VLOOKUP(B5522*100+C5522,氏名データ!$AC$2:$AJ$401,2,0)","v":{"$error":"#N/A"}},null,0]
[0,0,0,0,0,0,0,0,0,0,0,{"$f":"VLOOKUP(B5525*100+C5525,氏名データ!$AC$2:$AJ$401,2,0)","v":{"$error":"#N/A"}},null,0]
[0,0,0,0,0,0,0,0,0,0,0,{"$f":"VLOOKUP(B5528*100+C5528,氏名データ!$AC$2:$AJ$401,2,0)","v":{"$error":"#N/A"}},null,0]
[0,0,0,0,0,0,0,0,0,0,0,{"$f":"VLOOKUP(B5530*100+C5530,氏名データ!$AC$2:$AJ$401,2,0)","v":{"$error":"#N/A"}},null,0]
[0,0,0,0,0,0,0,0,0,0,0,{"$f":"VLOOKUP(B5531*100+C5531,氏名データ!$AC$2:$AJ$401,2,0)","v":{"$error":"#N/A"}},null,0]
[0,0,0,0,0,0,0,0,0,0,0,{"$f":"VLOOKUP(B5534*100+C5534,氏名データ!$AC$2:$AJ$401,2,0)","v":{"$error":"#N/A"}},null,0]
[0,0,0,0,0,0,0,0,0,0,0,{"$f":"VLOOKUP(B5536*100+C5536,氏名データ!$AC$2:$AJ$401,2,0)","v":{"$error":"#N/A"}},null,0]
[0,0,0,0,0,0,0,0,0,0,0,{"$f":"VLOOKUP(B5539*100+C5539,氏名データ!$AC$2:$AJ$401,2,0)","v":{"$error":"#N/A"}},null,0]
[0,0,0,0,0,0,0,0,0,0,0,{"$f":"VLOOKUP(B5540*100+C5540,氏名データ!$AC$2:$AJ$401,2,0)","v":{"$error":"#N/A"}},null,0]
[0,0,0,0,0,0,0,0,0,0,0,{"$f":"VLOOKUP(B5543*100+C5543,氏名データ!$AC$2:$AJ$401,2,0)","v":{"$error":"#N/A"}},null,0]
[0,0,0,0,0,0,0,0,0,0,0,{"$f":"VLOOKUP(B5546*100+C5546,氏名データ!$AC$2:$AJ$401,2,0)","v":{"$error":"#N/A"}},null,0]
[0,0,0,0,0,0,0,0,0,0,0,{"$f":"VLOOKUP(B5548*100+C5548,氏名データ!$AC$2:$AJ$401,2,0)","v":{"$error":"#N/A"}},null,0]
[0,0,0,0,0,0,0,0,0,0,0,{"$f":"VLOOKUP(B5549*100+C5549,氏名データ!$AC$2:$AJ$401,2,0)","v":{"$error":"#N/A"}},null,0]
[0,0,0,0,0,0,0,0,0,0,0,{"$f":"VLOOKUP(B5552*100+C5552,氏名データ!$AC$2:$AJ$401,2,0)","v":{"$error":"#N/A"}},null,0]
[0,0,0,0,0,0,0,0,0,0,0,{"$f":"VLOOKUP(B5554*100+C5554,氏名データ!$AC$2:$AJ$401,2,0)","v":{"$error":"#N/A"}},null,0]
[0,0,0,0,0,0,0,0,0,0,0,{"$f":"VLOOKUP(B5557*100+C5557,氏名データ!$AC$2:$AJ$401,2,0)","v":{"$error":"#N/A"}},null,0]
[0,0,0,0,0,0,0,0,0,0,0,{"$f":"VLOOKUP(B5558*100+C5558,氏名データ!$AC$2:$AJ$401,2,0)","v":{"$error":"#N/A"}},null,0]
[{"$f":"P5561","v":0},{"$f":"ROUNDDOWN(A5561/10000,0)","v":0},{"$f":"ROUNDDOWN((A5561-B5561*10000)/100,0)","v":0},{"$f":"Q5561","v":0},{"$f":"R5561","v":0},{"$f":"S5561","v":0},{"$f":"T5561","v":0},0,0,0,{"$f":"Y5561","v":0},{"$f":"VLOOKUP(B5561*100+C5561,氏名データ!$AC$2:$AJ$401,2,0)","v":{"$error":"#N/A"}},null,{"$f":"W5561","v":0}]
[0,0,0,0,0,0,0,0,0,0,0,{"$f":"VLOOKUP(B5564*100+C5564,氏名データ!$AC$2:$AJ$401,2,0)","v":{"$error":"#N/A"}},null,0]
[0,0,0,0,0,0,0,0,0,0,0,{"$f":"VLOOKUP(B5566*100+C5566,氏名データ!$AC$2:$AJ$401,2,0)","v":{"$error":"#N/A"}},null,0]
[0,0,0,0,0,0,0,0,0,0,0,{"$f":"VLOOKUP(B5567*100+C5567,氏名データ!$AC$2:$AJ$401,2,0)","v":{"$error":"#N/A"}},null,0]
[0,0,0,0,0,0,0,0,0,0,0,{"$f":"VLOOKUP(B5570*100+C5570,氏名データ!$AC$2:$AJ$401,2,0)","v":{"$error":"#N/A"}},null,0]
[0,0,0,0,0,0,0,0,0,0,0,{"$f":"VLOOKUP(B5572*100+C5572,氏名データ!$AC$2:$AJ$401,2,0)","v":{"$error":"#N/A"}},null,0]
[0,0,0,0,0,0,0,0,0,0,0,{"$f":"VLOOKUP(B5575*100+C5575,氏名データ!$AC$2:$AJ$401,2,0)","v":{"$error":"#N/A"}},null,0]
[0,0,0,0,0,0,0,0,0,0,0,{"$f":"VLOOKUP(B5576*100+C5576,氏名データ!$AC$2:$AJ$401,2,0)","v":{"$error":"#N/A"}},null,0]
[0,0,0,0,0,0,0,0,0,0,0,{"$f":"VLOOKUP(B5579*100+C5579,氏名データ!$AC$2:$AJ$401,2,0)","v":{"$error":"#N/A"}},null,0]
[0,0,0,0,0,0,0,0,0,0,0,{"$f":"VLOOKUP(B5582*100+C5582,氏名データ!$AC$2:$AJ$401,2,0)","v":{"$error":"#N/A"}},null,0]
[0,0,0,0,0,0,0,0,0,0,0,{"$f":"VLOOKUP(B5584*100+C5584,氏名データ!$AC$2:$AJ$401,2,0)","v":{"$error":"#N/A"}},null,0]
[0,0,0,0,0,0,0,0,0,0,0,{"$f":"VLOOKUP(B5585*100+C5585,氏名データ!$AC$2:$AJ$401,2,0)","v":{"$error":"#N/A"}},null,0]
[0,0,0,0,0,0,0,0,0,0,0,{"$f":"VLOOKUP(B5588*100+C5588,氏名データ!$AC$2:$AJ$401,2,0)","v":{"$error":"#N/A"}},null,0]
[0,0,0,0,0,0,0,0,0,0,0,{"$f":"VLOOKUP(B5590*100+C5590,氏名データ!$AC$2:$AJ$401,2,0)","v":{"$error":"#N/A"}},null,0]
[0,0,0,0,0,0,0,0,0,0,0,{"$f":"VLOOKUP(B5593*100+C5593,氏名データ!$AC$2:$AJ$401,2,0)","v":{"$error":"#N/A"}},null,0]
[0,0,0,0,0,0,0,0,0,0,0,{"$f":"VLOOKUP(B5594*100+C5594,氏名データ!$AC$2:$AJ$401,2,0)","v":{"$error":"#N/A"}},null,0]
[0,0,0,0,0,0,0,0,0,0,0,{"$f":"VLOOKUP(B5597*100+C5597,氏名データ!$AC$2:$AJ$401,2,0)","v":{"$error":"#N/A"}},null,0]
[0,0,0,0,0,0,0,0,0,0,0,{"$f":"VLOOKUP(B5600*100+C5600,氏名データ!$AC$2:$AJ$401,2,0)","v":{"$error":"#N/A"}},null,0]
[0,0,0,0,0,0,0,0,0,0,0,{"$f":"VLOOKUP(B5602*100+C5602,氏名データ!$AC$2:$AJ$401,2,0)","v":{"$error":"#N/A"}},null,0]
[0,0,0,0,0,0,0,0,0,0,0,{"$f":"VLOOKUP(B5603*100+C5603,氏名データ!$AC$2:$AJ$401,2,0)","v":{"$error":"#N/A"}},null,0]
[0,0,0,0,0,0,0,0,0,0,0,{"$f":"VLOOKUP(B5606*100+C5606,氏名データ!$AC$2:$AJ$401,2,0)","v":{"$error":"#N/A"}},null,0]
[0,0,0,0,0,0,0,0,0,0,0,{"$f":"VLOOKUP(B5608*100+C5608,氏名データ!$AC$2:$AJ$401,2,0)","v":{"$error":"#N/A"}},null,0]
[0,0,0,0,0,0,0,0,0,0,0,{"$f":"VLOOKUP(B5611*100+C5611,氏名データ!$AC$2:$AJ$401,2,0)","v":{"$error":"#N/A"}},null,0]
[0,0,0,0,0,0,0,0,0,0,0,{"$f":"VLOOKUP(B5612*100+C5612,氏名データ!$AC$2:$AJ$401,2,0)","v":{"$error":"#N/A"}},null,0]
[0,0,0,0,0,0,0,0,0,0,0,{"$f":"VLOOKUP(B5615*100+C5615,氏名データ!$AC$2:$AJ$401,2,0)","v":{"$error":"#N/A"}},null,0]
[0,0,0,0,0,0,0,0,0,0,0,{"$f":"VLOOKUP(B5618*100+C5618,氏名データ!$AC$2:$AJ$401,2,0)","v":{"$error":"#N/A"}},null,0]
[0,0,0,0,0,0,0,0,0,0,0,{"$f":"VLOOKUP(B5620*100+C5620,氏名データ!$AC$2:$AJ$401,2,0)","v":{"$error":"#N/A"}},null,0]
[0,0,0,0,0,0,0,0,0,0,0,{"$f":"VLOOKUP(B5621*100+C5621,氏名データ!$AC$2:$AJ$401,2,0)","v":{"$error":"#N/A"}},null,0]
[0,0,0,0,0,0,0,0,0,0,0,{"$f":"VLOOKUP(B5624*100+C5624,氏名データ!$AC$2:$AJ$401,2,0)","v":{"$error":"#N/A"}},null,0]
[0,0,0,0,0,0,0,0,0,0,0,{"$f":"VLOOKUP(B5626*100+C5626,氏名データ!$AC$2:$AJ$401,2,0)","v":{"$error":"#N/A"}},null,0]
[0,0,0,0,0,0,0,0,0,0,0,{"$f":"VLOOKUP(B5629*100+C5629,氏名データ!$AC$2:$AJ$401,2,0)","v":{"$error":"#N/A"}},null,0]
[0,0,0,0,0,0,0,0,0,0,0,{"$f":"VLOOKUP(B5630*100+C5630,氏名データ!$AC$2:$AJ$401,2,0)","v":{"$error":"#N/A"}},null,0]
[0,0,0,0,0,0,0,0,0,0,0,{"$f":"VLOOKUP(B5633*100+C5633,氏名データ!$AC$2:$AJ$401,2,0)","v":{"$error":"#N/A"}},null,0]
[0,0,0,0,0,0,0,0,0,0,0,{"$f":"VLOOKUP(B5636*100+C5636,氏名データ!$AC$2:$AJ$401,2,0)","v":{"$error":"#N/A"}},null,0]
[0,0,0,0,0,0,0,0,0,0,0,{"$f":"VLOOKUP(B5638*100+C5638,氏名データ!$AC$2:$AJ$401,2,0)","v":{"$error":"#N/A"}},null,0]
[0,0,0,0,0,0,0,0,0,0,0,{"$f":"VLOOKUP(B5639*100+C5639,氏名データ!$AC$2:$AJ$401,2,0)","v":{"$error":"#N/A"}},null,0]
[0,0,0,0,0,0,0,0,0,0,0,{"$f":"VLOOKUP(B5642*100+C5642,氏名データ!$AC$2:$AJ$401,2,0)","v":{"$error":"#N/A"}},null,0]
[0,0,0,0,0,0,0,0,0,0,0,{"$f":"VLOOKUP(B5644*100+C5644,氏名データ!$AC$2:$AJ$401,2,0)","v":{"$error":"#N/A"}},null,0]
[0,0,0,0,0,0,0,0,0,0,0,{"$f":"VLOOKUP(B5647*100+C5647,氏名データ!$AC$2:$AJ$401,2,0)","v":{"$error":"#N/A"}},null,0]
[0,0,0,0,0,0,0,0,0,0,0,{"$f":"VLOOKUP(B5648*100+C5648,氏名データ!$AC$2:$AJ$401,2,0)","v":{"$error":"#N/A"}},null,0]
[0,0,0,0,0,0,0,0,0,0,0,{"$f":"VLOOKUP(B5651*100+C5651,氏名データ!$AC$2:$AJ$401,2,0)","v":{"$error":"#N/A"}},null,0]
[0,0,0,0,0,0,0,0,0,0,0,{"$f":"VLOOKUP(B5654*100+C5654,氏名データ!$AC$2:$AJ$401,2,0)","v":{"$error":"#N/A"}},null,0]
[0,0,0,0,0,0,0,0,0,0,0,{"$f":"VLOOKUP(B5656*100+C5656,氏名データ!$AC$2:$AJ$401,2,0)","v":{"$error":"#N/A"}},null,0]
[0,0,0,0,0,0,0,0,0,0,0,{"$f":"VLOOKUP(B5657*100+C5657,氏名データ!$AC$2:$AJ$401,2,0)","v":{"$error":"#N/A"}},null,0]
[0,0,0,0,0,0,0,0,0,0,0,{"$f":"VLOOKUP(B5660*100+C5660,氏名データ!$AC$2:$AJ$401,2,0)","v":{"$error":"#N/A"}},null,0]
[0,0,0,0,0,0,0,0,0,0,0,{"$f":"VLOOKUP(B5662*100+C5662,氏名データ!$AC$2:$AJ$401,2,0)","v":{"$error":"#N/A"}},null,0]
[0,0,0,0,0,0,0,0,0,0,0,{"$f":"VLOOKUP(B5665*100+C5665,氏名データ!$AC$2:$AJ$401,2,0)","v":{"$error":"#N/A"}},null,0]
[0,0,0,0,0,0,0,0,0,0,0,{"$f":"VLOOKUP(B5666*100+C5666,氏名データ!$AC$2:$AJ$401,2,0)","v":{"$error":"#N/A"}},null,0]
[0,0,0,0,0,0,0,0,0,0,0,{"$f":"VLOOKUP(B5669*100+C5669,氏名データ!$AC$2:$AJ$401,2,0)","v":{"$error":"#N/A"}},null,0]
[0,0,0,0,0,0,0,0,0,0,0,{"$f":"VLOOKUP(B5672*100+C5672,氏名データ!$AC$2:$AJ$401,2,0)","v":{"$error":"#N/A"}},null,0]
[0,0,0,0,0,0,0,0,0,0,0,{"$f":"VLOOKUP(B5674*100+C5674,氏名データ!$AC$2:$AJ$401,2,0)","v":{"$error":"#N/A"}},null,0]
[0,0,0,0,0,0,0,0,0,0,0,{"$f":"VLOOKUP(B5675*100+C5675,氏名データ!$AC$2:$AJ$401,2,0)","v":{"$error":"#N/A"}},null,0]
[0,0,0,0,0,0,0,0,0,0,0,{"$f":"VLOOKUP(B5678*100+C5678,氏名データ!$AC$2:$AJ$401,2,0)","v":{"$error":"#N/A"}},null,0]
[0,0,0,0,0,0,0,0,0,0,0,{"$f":"VLOOKUP(B5680*100+C5680,氏名データ!$AC$2:$AJ$401,2,0)","v":{"$error":"#N/A"}},null,0]
[0,0,0,0,0,0,0,0,0,0,0,{"$f":"VLOOKUP(B5683*100+C5683,氏名データ!$AC$2:$AJ$401,2,0)","v":{"$error":"#N/A"}},null,0]
[0,0,0,0,0,0,0,0,0,0,0,{"$f":"VLOOKUP(B5684*100+C5684,氏名データ!$AC$2:$AJ$401,2,0)","v":{"$error":"#N/A"}},null,0]
[0,0,0,0,0,0,0,0,0,0,0,{"$f":"VLOOKUP(B5687*100+C5687,氏名データ!$AC$2:$AJ$401,2,0)","v":{"$error":"#N/A"}},null,0]
[0,0,0,0,0,0,0,0,0,0,0,{"$f":"VLOOKUP(B5688*100+C5688,氏名データ!$AC$2:$AJ$401,2,0)","v":{"$error":"#N/A"}},null,0]
[0,0,0,0,0,0,0,0,0,0,0,{"$f":"VLOOKUP(B5692*100+C5692,氏名データ!$AC$2:$AJ$401,2,0)","v":{"$error":"#N/A"}},null,0]
[0,0,0,0,0,0,0,0,0,0,0,{"$f":"VLOOKUP(B5693*100+C5693,氏名データ!$AC$2:$AJ$401,2,0)","v":{"$error":"#N/A"}},null,0]
[0,0,0,0,0,0,0,0,0,0,0,{"$f":"VLOOKUP(B5696*100+C5696,氏名データ!$AC$2:$AJ$401,2,0)","v":{"$error":"#N/A"}},null,0]
[0,0,0,0,0,0,0,0,0,0,0,{"$f":"VLOOKUP(B5698*100+C5698,氏名データ!$AC$2:$AJ$401,2,0)","v":{"$error":"#N/A"}},null,0]
[0,0,0,0,0,0,0,0,0,0,0,{"$f":"VLOOKUP(B5701*100+C5701,氏名データ!$AC$2:$AJ$401,2,0)","v":{"$error":"#N/A"}},null,0]
[0,0,0,0,0,0,0,0,0,0,0,{"$f":"VLOOKUP(B5702*100+C5702,氏名データ!$AC$2:$AJ$401,2,0)","v":{"$error":"#N/A"}},null,0]
[0,0,0,0,0,0,0,0,0,0,0,{"$f":"VLOOKUP(B5705*100+C5705,氏名データ!$AC$2:$AJ$401,2,0)","v":{"$error":"#N/A"}},null,0]
[0,0,0,0,0,0,0,0,0,0,0,{"$f":"VLOOKUP(B5706*100+C5706,氏名データ!$AC$2:$AJ$401,2,0)","v":{"$error":"#N/A"}},null,0]
[0,0,0,0,0,0,0,0,0,0,0,{"$f":"VLOOKUP(B5710*100+C5710,氏名データ!$AC$2:$AJ$401,2,0)","v":{"$error":"#N/A"}},null,0]
[0,0,0,0,0,0,0,0,0,0,0,{"$f":"VLOOKUP(B5711*100+C5711,氏名データ!$AC$2:$AJ$401,2,0)","v":{"$error":"#N/A"}},null,0]
[0,0,0,0,0,0,0,0,0,0,0,{"$f":"VLOOKUP(B5714*100+C5714,氏名データ!$AC$2:$AJ$401,2,0)","v":{"$error":"#N/A"}},null,0]
[0,0,0,0,0,0,0,0,0,0,0,{"$f":"VLOOKUP(B5716*100+C5716,氏名データ!$AC$2:$AJ$401,2,0)","v":{"$error":"#N/A"}},null,0]
[0,0,0,0,0,0,0,0,0,0,0,{"$f":"VLOOKUP(B5719*100+C5719,氏名データ!$AC$2:$AJ$401,2,0)","v":{"$error":"#N/A"}},null,0]
[0,0,0,0,0,0,0,0,0,0,0,{"$f":"VLOOKUP(B5720*100+C5720,氏名データ!$AC$2:$AJ$401,2,0)","v":{"$error":"#N/A"}},null,0]
[0,0,0,0,0,0,0,0,0,0,0,{"$f":"VLOOKUP(B5723*100+C5723,氏名データ!$AC$2:$AJ$401,2,0)","v":{"$error":"#N/A"}},null,0]
[0,0,0,0,0,0,0,0,0,0,0,{"$f":"VLOOKUP(B5724*100+C5724,氏名データ!$AC$2:$AJ$401,2,0)","v":{"$error":"#N/A"}},null,0]
[0,0,0,0,0,0,0,0,0,0,0,{"$f":"VLOOKUP(B5728*100+C5728,氏名データ!$AC$2:$AJ$401,2,0)","v":{"$error":"#N/A"}},null,0]
[0,0,0,0,0,0,0,0,0,0,0,{"$f":"VLOOKUP(B5729*100+C5729,氏名データ!$AC$2:$AJ$401,2,0)","v":{"$error":"#N/A"}},null,0]
[0,0,0,0,0,0,0,0,0,0,0,{"$f":"VLOOKUP(B5732*100+C5732,氏名データ!$AC$2:$AJ$401,2,0)","v":{"$error":"#N/A"}},null,0]
[0,0,0,0,0,0,0,0,0,0,0,{"$f":"VLOOKUP(B5734*100+C5734,氏名データ!$AC$2:$AJ$401,2,0)","v":{"$error":"#N/A"}},null,0]
[0,0,0,0,0,0,0,0,0,0,0,{"$f":"VLOOKUP(B5737*100+C5737,氏名データ!$AC$2:$AJ$401,2,0)","v":{"$error":"#N/A"}},null,0]
[0,0,0,0,0,0,0,0,0,0,0,{"$f":"VLOOKUP(B5738*100+C5738,氏名データ!$AC$2:$AJ$401,2,0)","v":{"$error":"#N/A"}},null,0]
[0,0,0,0,0,0,0,0,0,0,0,{"$f":"VLOOKUP(B5741*100+C5741,氏名データ!$AC$2:$AJ$401,2,0)","v":{"$error":"#N/A"}},null,0]
[0,0,0,0,0,0,0,0,0,0,0,{"$f":"VLOOKUP(B5742*100+C5742,氏名データ!$AC$2:$AJ$401,2,0)","v":{"$error":"#N/A"}},null,0]
[0,0,0,0,0,0,0,0,0,0,0,{"$f":"VLOOKUP(B5746*100+C5746,氏名データ!$AC$2:$AJ$401,2,0)","v":{"$error":"#N/A"}},null,0]
[0,0,0,0,0,0,0,0,0,0,0,{"$f":"VLOOKUP(B5747*100+C5747,氏名データ!$AC$2:$AJ$401,2,0)","v":{"$error":"#N/A"}},null,0]
[0,0,0,0,0,0,0,0,0,0,0,{"$f":"VLOOKUP(B5750*100+C5750,氏名データ!$AC$2:$AJ$401,2,0)","v":{"$error":"#N/A"}},null,0]
[0,0,0,0,0,0,0,0,0,0,0,{"$f":"VLOOKUP(B5752*100+C5752,氏名データ!$AC$2:$AJ$401,2,0)","v":{"$error":"#N/A"}},null,0]
[0,0,0,0,0,0,0,0,0,0,0,{"$f":"VLOOKUP(B5755*100+C5755,氏名データ!$AC$2:$AJ$401,2,0)","v":{"$error":"#N/A"}},null,0]
[0,0,0,0,0,0,0,0,0,0,0,{"$f":"VLOOKUP(B5756*100+C5756,氏名データ!$AC$2:$AJ$401,2,0)","v":{"$error":"#N/A"}},null,0]
[0,0,0,0,0,0,0,0,0,0,0,{"$f":"VLOOKUP(B5759*100+C5759,氏名データ!$AC$2:$AJ$401,2,0)","v":{"$error":"#N/A"}},null,0]
[0,0,0,0,0,0,0,0,0,0,0,{"$f":"VLOOKUP(B5760*100+C5760,氏名データ!$AC$2:$AJ$401,2,0)","v":{"$error":"#N/A"}},null,0]
[0,0,0,0,0,0,0,0,0,0,0,{"$f":"VLOOKUP(B5764*100+C5764,氏名データ!$AC$2:$AJ$401,2,0)","v":{"$error":"#N/A"}},null,0]
[0,0,0,0,0,0,0,0,0,0,0,{"$f":"VLOOKUP(B5765*100+C5765,氏名データ!$AC$2:$AJ$401,2,0)","v":{"$error":"#N/A"}},null,0]
[0,0,0,0,0,0,0,0,0,0,0,{"$f":"VLOOKUP(B5768*100+C5768,氏名データ!$AC$2:$AJ$401,2,0)","v":{"$error":"#N/A"}},null,0]
[0,0,0,0,0,0,0,0,0,0,0,{"$f":"VLOOKUP(B5770*100+C5770,氏名データ!$AC$2:$AJ$401,2,0)","v":{"$error":"#N/A"}},null,0]
[0,0,0,0,0,0,0,0,0,0,0,{"$f":"VLOOKUP(B5773*100+C5773,氏名データ!$AC$2:$AJ$401,2,0)","v":{"$error":"#N/A"}},null,0]
[0,0,0,0,0,0,0,0,0,0,0,{"$f":"VLOOKUP(B5774*100+C5774,氏名データ!$AC$2:$AJ$401,2,0)","v":{"$error":"#N/A"}},null,0]
[0,0,0,0,0,0,0,0,0,0,0,{"$f":"VLOOKUP(B5777*100+C5777,氏名データ!$AC$2:$AJ$401,2,0)","v":{"$error":"#N/A"}},null,0]
[0,0,0,0,0,0,0,0,0,0,0,{"$f":"VLOOKUP(B5778*100+C5778,氏名データ!$AC$2:$AJ$401,2,0)","v":{"$error":"#N/A"}},null,0]
[0,0,0,0,0,0,0,0,0,0,0,{"$f":"VLOOKUP(B5782*100+C5782,氏名データ!$AC$2:$AJ$401,2,0)","v":{"$error":"#N/A"}},null,0]
[0,0,0,0,0,0,0,0,0,0,0,{"$f":"VLOOKUP(B5783*100+C5783,氏名データ!$AC$2:$AJ$401,2,0)","v":{"$error":"#N/A"}},null,0]
[0,0,0,0,0,0,0,0,0,0,0,{"$f":"VLOOKUP(B5786*100+C5786,氏名データ!$AC$2:$AJ$401,2,0)","v":{"$error":"#N/A"}},null,0]
[0,0,0,0,0,0,0,0,0,0,0,{"$f":"VLOOKUP(B5788*100+C5788,氏名データ!$AC$2:$AJ$401,2,0)","v":{"$error":"#N/A"}},null,0]
[0,0,0,0,0,0,0,0,0,0,0,{"$f":"VLOOKUP(B5791*100+C5791,氏名データ!$AC$2:$AJ$401,2,0)","v":{"$error":"#N/A"}},null,0]
[0,0,0,0,0,0,0,0,0,0,0,{"$f":"VLOOKUP(B5792*100+C5792,氏名データ!$AC$2:$AJ$401,2,0)","v":{"$error":"#N/A"}},null,0]
[0,0,0,0,0,0,0,0,0,0,0,{"$f":"VLOOKUP(B5795*100+C5795,氏名データ!$AC$2:$AJ$401,2,0)","v":{"$error":"#N/A"}},null,0]
[0,0,0,0,0,0,0,0,0,0,0,{"$f":"VLOOKUP(B5796*100+C5796,氏名データ!$AC$2:$AJ$401,2,0)","v":{"$error":"#N/A"}},null,0]
[0,0,0,0,0,0,0,0,0,0,0,{"$f":"VLOOKUP(B5800*100+C5800,氏名データ!$AC$2:$AJ$401,2,0)","v":{"$error":"#N/A"}},null,0]
[0,0,0,0,0,0,0,0,0,0,0,{"$f":"VLOOKUP(B5801*100+C5801,氏名データ!$AC$2:$AJ$401,2,0)","v":{"$error":"#N/A"}},null,0]
[0,0,0,0,0,0,0,0,0,0,0,{"$f":"VLOOKUP(B5804*100+C5804,氏名データ!$AC$2:$AJ$401,2,0)","v":{"$error":"#N/A"}},null,0]
[0,0,0,0,0,0,0,0,0,0,0,{"$f":"VLOOKUP(B5806*100+C5806,氏名データ!$AC$2:$AJ$401,2,0)","v":{"$error":"#N/A"}},null,0]
[0,0,0,0,0,0,0,0,0,0,0,{"$f":"VLOOKUP(B5809*100+C5809,氏名データ!$AC$2:$AJ$401,2,0)","v":{"$error":"#N/A"}},null,0]
[0,0,0,0,0,0,0,0,0,0,0,{"$f":"VLOOKUP(B5810*100+C5810,氏名データ!$AC$2:$AJ$401,2,0)","v":{"$error":"#N/A"}},null,0]
[0,0,0,0,0,0,0,0,0,0,0,{"$f":"VLOOKUP(B5813*100+C5813,氏名データ!$AC$2:$AJ$401,2,0)","v":{"$error":"#N/A"}},null,0]
[0,0,0,0,0,0,0,0,0,0,0,{"$f":"VLOOKUP(B5814*100+C5814,氏名データ!$AC$2:$AJ$401,2,0)","v":{"$error":"#N/A"}},null,0]
[0,0,0,0,0,0,0,0,0,0,0,{"$f":"VLOOKUP(B5818*100+C5818,氏名データ!$AC$2:$AJ$401,2,0)","v":{"$error":"#N/A"}},null,0]
[0,0,0,0,0,0,0,0,0,0,0,{"$f":"VLOOKUP(B5819*100+C5819,氏名データ!$AC$2:$AJ$401,2,0)","v":{"$error":"#N/A"}},null,0]
[0,0,0,0,0,0,0,0,0,0,0,{"$f":"VLOOKUP(B5822*100+C5822,氏名データ!$AC$2:$AJ$401,2,0)","v":{"$error":"#N/A"}},null,0]
[0,0,0,0,0,0,0,0,0,0,0,{"$f":"VLOOKUP(B5824*100+C5824,氏名データ!$AC$2:$AJ$401,2,0)","v":{"$error":"#N/A"}},null,0]
[0,0,0,0,0,0,0,{"$f":"U5827","v":0},{"$f":"V5827","v":0},{"$f":"X5827","v":0},0,{"$f":"VLOOKUP(B5827*100+C5827,氏名データ!$AC$2:$AJ$401,2,0)","v":{"$error":"#N/A"}},null,0]
[0,0,0,0,0,0,0,0,0,0,0,{"$f":"VLOOKUP(B5828*100+C5828,氏名データ!$AC$2:$AJ$401,2,0)","v":{"$error":"#N/A"}},null,0]
[0,0,0,0,0,0,0,0,0,0,0,{"$f":"VLOOKUP(B5831*100+C5831,氏名データ!$AC$2:$AJ$401,2,0)","v":{"$error":"#N/A"}},null,0]
[0,0,0,0,0,0,0,0,0,0,0,{"$f":"VLOOKUP(B5832*100+C5832,氏名データ!$AC$2:$AJ$401,2,0)","v":{"$error":"#N/A"}},null,0]
[0,0,0,0,0,0,0,0,0,0,0,{"$f":"VLOOKUP(B5836*100+C5836,氏名データ!$AC$2:$AJ$401,2,0)","v":{"$error":"#N/A"}},null,0]
[0,0,0,0,0,0,0,0,0,0,0,{"$f":"VLOOKUP(B5837*100+C5837,氏名データ!$AC$2:$AJ$401,2,0)","v":{"$error":"#N/A"}},null,0]
[0,0,0,0,0,0,0,0,0,0,0,{"$f":"VLOOKUP(B5840*100+C5840,氏名データ!$AC$2:$AJ$401,2,0)","v":{"$error":"#N/A"}},null,0]
[0,0,0,0,0,0,0,0,0,0,0,{"$f":"VLOOKUP(B5843*100+C5843,氏名データ!$AC$2:$AJ$401,2,0)","v":{"$error":"#N/A"}},null,0]
[0,0,0,0,0,0,0,0,0,0,0,{"$f":"VLOOKUP(B5845*100+C5845,氏名データ!$AC$2:$AJ$401,2,0)","v":{"$error":"#N/A"}},null,0]
[0,0,0,0,0,0,0,0,0,0,0,{"$f":"VLOOKUP(B5846*100+C5846,氏名データ!$AC$2:$AJ$401,2,0)","v":{"$error":"#N/A"}},null,0]
[0,0,0,0,0,0,0,0,0,0,0,{"$f":"VLOOKUP(B5849*100+C5849,氏名データ!$AC$2:$AJ$401,2,0)","v":{"$error":"#N/A"}},null,0]
[0,0,0,0,0,0,0,0,0,0,0,{"$f":"VLOOKUP(B5850*100+C5850,氏名データ!$AC$2:$AJ$401,2,0)","v":{"$error":"#N/A"}},null,0]
[0,0,0,0,0,0,0,0,0,0,0,{"$f":"VLOOKUP(B5854*100+C5854,氏名データ!$AC$2:$AJ$401,2,0)","v":{"$error":"#N/A"}},null,0]
[0,0,0,0,0,0,0,0,0,0,0,{"$f":"VLOOKUP(B5855*100+C5855,氏名データ!$AC$2:$AJ$401,2,0)","v":{"$error":"#N/A"}},null,0]
[0,0,0,0,0,0,0,0,0,0,0,{"$f":"VLOOKUP(B5858*100+C5858,氏名データ!$AC$2:$AJ$401,2,0)","v":{"$error":"#N/A"}},null,0]
[0,0,0,0,0,0,0,0,0,0,0,{"$f":"VLOOKUP(B5861*100+C5861,氏名データ!$AC$2:$AJ$401,2,0)","v":{"$error":"#N/A"}},null,0]
[0,0,0,0,0,0,0,0,0,0,0,{"$f":"VLOOKUP(B5863*100+C5863,氏名データ!$AC$2:$AJ$401,2,0)","v":{"$error":"#N/A"}},null,0]
[0,0,0,0,0,0,0,0,0,0,0,{"$f":"VLOOKUP(B5864*100+C5864,氏名データ!$AC$2:$AJ$401,2,0)","v":{"$error":"#N/A"}},null,0]
[0,0,0,0,0,0,0,0,0,0,0,{"$f":"VLOOKUP(B5867*100+C5867,氏名データ!$AC$2:$AJ$401,2,0)","v":{"$error":"#N/A"}},null,0]
[0,0,0,0,0,0,0,0,0,0,0,{"$f":"VLOOKUP(B5868*100+C5868,氏名データ!$AC$2:$AJ$401,2,0)","v":{"$error":"#N/A"}},null,0]
[0,0,0,0,0,0,0,0,0,0,0,{"$f":"VLOOKUP(B5872*100+C5872,氏名データ!$AC$2:$AJ$401,2,0)","v":{"$error":"#N/A"}},null,0]
[0,0,0,0,0,0,0,0,0,0,0,{"$f":"VLOOKUP(B5873*100+C5873,氏名データ!$AC$2:$AJ$401,2,0)","v":{"$error":"#N/A"}},null,0]
[0,0,0,0,0,0,0,0,0,0,0,{"$f":"VLOOKUP(B5876*100+C5876,氏名データ!$AC$2:$AJ$401,2,0)","v":{"$error":"#N/A"}},null,0]
[0,0,0,0,0,0,0,0,0,0,0,{"$f":"VLOOKUP(B5879*100+C5879,氏名データ!$AC$2:$AJ$401,2,0)","v":{"$error":"#N/A"}},null,0]
[{"$f":"P5881","v":0},{"$f":"ROUNDDOWN(A5881/10000,0)","v":0},{"$f":"ROUNDDOWN((A5881-B5881*10000)/100,0)","v":0},{"$f":"Q5881","v":0},{"$f":"R5881","v":0},{"$f":"S5881","v":0},{"$f":"T5881","v":0},0,0,0,{"$f":"Y5881","v":0},{"$f":"VLOOKUP(B5881*100+C5881,氏名データ!$AC$2:$AJ$401,2,0)","v":{"$error":"#N/A"}},null,{"$f":"W5881","v":0}]
[0,0,0,0,0,0,0,0,0,0,0,{"$f":"VLOOKUP(B5882*100+C5882,氏名データ!$AC$2:$AJ$401,2,0)","v":{"$error":"#N/A"}},null,0]
[0,0,0,0,0,0,0,0,0,0,0,{"$f":"VLOOKUP(B5885*100+C5885,氏名データ!$AC$2:$AJ$401,2,0)","v":{"$error":"#N/A"}},null,0]
[0,0,0,0,0,0,0,0,0,0,0,{"$f":"VLOOKUP(B5886*100+C5886,氏名データ!$AC$2:$AJ$401,2,0)","v":{"$error":"#N/A"}},null,0]
[0,0,0,0,0,0,0,0,0,0,0,{"$f":"VLOOKUP(B5890*100+C5890,氏名データ!$AC$2:$AJ$401,2,0)","v":{"$error":"#N/A"}},null,0]
[0,0,0,0,0,0,0,{"$f":"U5891","v":0},{"$f":"V5891","v":0},{"$f":"X5891","v":0},0,{"$f":"VLOOKUP(B5891*100+C5891,氏名データ!$AC$2:$AJ$401,2,0)","v":{"$error":"#N/A"}},null,0]
[0,0,0,0,0,0,0,0,0,0,0,{"$f":"VLOOKUP(B5894*100+C5894,氏名データ!$AC$2:$AJ$401,2,0)","v":{"$error":"#N/A"}},null,0]
[0,0,0,0,0,0,0,0,0,0,0,{"$f":"VLOOKUP(B5897*100+C5897,氏名データ!$AC$2:$AJ$401,2,0)","v":{"$error":"#N/A"}},null,0]
[0,0,0,0,0,0,0,0,0,0,0,{"$f":"VLOOKUP(B5899*100+C5899,氏名データ!$AC$2:$AJ$401,2,0)","v":{"$error":"#N/A"}},null,0]
[0,0,0,0,0,0,0,0,0,0,0,{"$f":"VLOOKUP(B5900*100+C5900,氏名データ!$AC$2:$AJ$401,2,0)","v":{"$error":"#N/A"}},null,0]
[0,0,0,0,0,0,0,0,0,0,0,{"$f":"VLOOKUP(B5903*100+C5903,氏名データ!$AC$2:$AJ$401,2,0)","v":{"$error":"#N/A"}},null,0]
[0,0,0,0,0,0,0,0,0,0,0,{"$f":"VLOOKUP(B5904*100+C5904,氏名データ!$AC$2:$AJ$401,2,0)","v":{"$error":"#N/A"}},null,0]
[0,0,0,0,0,0,0,0,0,0,0,{"$f":"VLOOKUP(B5908*100+C5908,氏名データ!$AC$2:$AJ$401,2,0)","v":{"$error":"#N/A"}},null,0]
[0,0,0,0,0,0,0,0,0,0,0,{"$f":"VLOOKUP(B5909*100+C5909,氏名データ!$AC$2:$AJ$401,2,0)","v":{"$error":"#N/A"}},null,0]
[0,0,0,0,0,0,0,0,0,0,0,{"$f":"VLOOKUP(B5912*100+C5912,氏名データ!$AC$2:$AJ$401,2,0)","v":{"$error":"#N/A"}},null,0]
[0,0,0,0,0,0,0,0,0,0,0,{"$f":"VLOOKUP(B5915*100+C5915,氏名データ!$AC$2:$AJ$401,2,0)","v":{"$error":"#N/A"}},null,0]
[0,0,0,0,0,0,0,0,0,0,0,{"$f":"VLOOKUP(B5917*100+C5917,氏名データ!$AC$2:$AJ$401,2,0)","v":{"$error":"#N/A"}},null,0]
[0,0,0,0,0,0,0,0,0,0,0,{"$f":"VLOOKUP(B5918*100+C5918,氏名データ!$AC$2:$AJ$401,2,0)","v":{"$error":"#N/A"}},null,0]
[0,0,0,0,0,0,0,0,0,0,0,{"$f":"VLOOKUP(B5921*100+C5921,氏名データ!$AC$2:$AJ$401,2,0)","v":{"$error":"#N/A"}},null,0]
[0,0,0,0,0,0,0,0,0,0,0,{"$f":"VLOOKUP(B5922*100+C5922,氏名データ!$AC$2:$AJ$401,2,0)","v":{"$error":"#N/A"}},null,0]
[0,0,0,0,0,0,0,0,0,0,0,{"$f":"VLOOKUP(B5926*100+C5926,氏名データ!$AC$2:$AJ$401,2,0)","v":{"$error":"#N/A"}},null,0]
[0,0,0,0,0,0,0,0,0,0,0,{"$f":"VLOOKUP(B5927*100+C5927,氏名データ!$AC$2:$AJ$401,2,0)","v":{"$error":"#N/A"}},null,0]
[0,0,0,0,0,0,0,0,0,0,0,{"$f":"VLOOKUP(B5930*100+C5930,氏名データ!$AC$2:$AJ$401,2,0)","v":{"$error":"#N/A"}},null,0]
[0,0,0,0,0,0,0,0,0,0,0,{"$f":"VLOOKUP(B5933*100+C5933,氏名データ!$AC$2:$AJ$401,2,0)","v":{"$error":"#N/A"}},null,0]
[0,0,0,0,0,0,0,0,0,0,0,{"$f":"VLOOKUP(B5935*100+C5935,氏名データ!$AC$2:$AJ$401,2,0)","v":{"$error":"#N/A"}},null,0]
[0,0,0,0,0,0,0,0,0,0,0,{"$f":"VLOOKUP(B5936*100+C5936,氏名データ!$AC$2:$AJ$401,2,0)","v":{"$error":"#N/A"}},null,0]
[0,0,0,0,0,0,0,0,0,0,0,{"$f":"VLOOKUP(B5939*100+C5939,氏名データ!$AC$2:$AJ$401,2,0)","v":{"$error":"#N/A"}},null,0]
[0,0,0,0,0,0,0,0,0,0,0,{"$f":"VLOOKUP(B5940*100+C5940,氏名データ!$AC$2:$AJ$401,2,0)","v":{"$error":"#N/A"}},null,0]
[0,0,0,0,0,0,0,0,0,0,0,{"$f":"VLOOKUP(B5944*100+C5944,氏名データ!$AC$2:$AJ$401,2,0)","v":{"$error":"#N/A"}},null,0]
[{"$f":"P5945","v":0},{"$f":"ROUNDDOWN(A5945/10000,0)","v":0},{"$f":"ROUNDDOWN((A5945-B5945*10000)/100,0)","v":0},{"$f":"Q5945","v":0},{"$f":"R5945","v":0},{"$f":"S5945","v":0},{"$f":"T5945","v":0},0,0,0,{"$f":"Y5945","v":0},{"$f":"VLOOKUP(B5945*100+C5945,氏名データ!$AC$2:$AJ$401,2,0)","v":{"$error":"#N/A"}},null,{"$f":"W5945","v":0}]
[0,0,0,0,0,0,0,0,0,0,0,{"$f":"VLOOKUP(B5948*100+C5948,氏名データ!$AC$2:$AJ$401,2,0)","v":{"$error":"#N/A"}},null,0]
[0,0,0,0,0,0,0,0,0,0,0,{"$f":"VLOOKUP(B5951*100+C5951,氏名データ!$AC$2:$AJ$401,2,0)","v":{"$error":"#N/A"}},null,0]
[0,0,0,0,0,0,0,0,0,0,0,{"$f":"VLOOKUP(B5953*100+C5953,氏名データ!$AC$2:$AJ$401,2,0)","v":{"$error":"#N/A"}},null,0]
[0,0,0,0,0,0,0,0,0,0,0,{"$f":"VLOOKUP(B5954*100+C5954,氏名データ!$AC$2:$AJ$401,2,0)","v":{"$error":"#N/A"}},null,0]
[0,0,0,0,0,0,0,0,0,0,0,{"$f":"VLOOKUP(B5957*100+C5957,氏名データ!$AC$2:$AJ$401,2,0)","v":{"$error":"#N/A"}},null,0]
[0,0,0,0,0,0,0,0,0,0,0,{"$f":"VLOOKUP(B5958*100+C5958,氏名データ!$AC$2:$AJ$401,2,0)","v":{"$error":"#N/A"}},null,0]
[0,0,0,0,0,0,0,0,0,0,0,{"$f":"VLOOKUP(B5962*100+C5962,氏名データ!$AC$2:$AJ$401,2,0)","v":{"$error":"#N/A"}},null,0]
[0,0,0,0,0,0,0,0,0,0,0,{"$f":"VLOOKUP(B5963*100+C5963,氏名データ!$AC$2:$AJ$401,2,0)","v":{"$error":"#N/A"}},null,0]
[0,0,0,0,0,0,0,0,0,0,0,{"$f":"VLOOKUP(B5966*100+C5966,氏名データ!$AC$2:$AJ$401,2,0)","v":{"$error":"#N/A"}},null,0]
[0,0,0,0,0,0,0,0,0,0,0,{"$f":"VLOOKUP(B5969*100+C5969,氏名データ!$AC$2:$AJ$401,2,0)","v":{"$error":"#N/A"}},null,0]
[0,0,0,0,0,0,0,0,0,0,0,{"$f":"VLOOKUP(B5971*100+C5971,氏名データ!$AC$2:$AJ$401,2,0)","v":{"$error":"#N/A"}},null,0]
[0,0,0,0,0,0,0,0,0,0,0,{"$f":"VLOOKUP(B5972*100+C5972,氏名データ!$AC$2:$AJ$401,2,0)","v":{"$error":"#N/A"}},null,0]
[0,0,0,0,0,0,0,0,0,0,0,{"$f":"VLOOKUP(B5975*100+C5975,氏名データ!$AC$2:$AJ$401,2,0)","v":{"$error":"#N/A"}},null,0]
[0,0,0,0,0,0,0,0,0,0,0,{"$f":"VLOOKUP(B5976*100+C5976,氏名データ!$AC$2:$AJ$401,2,0)","v":{"$error":"#N/A"}},null,0]
[0,0,0,0,0,0,0,0,0,0,0,{"$f":"VLOOKUP(B5980*100+C5980,氏名データ!$AC$2:$AJ$401,2,0)","v":{"$error":"#N/A"}},null,0]
[0,0,0,0,0,0,0,0,0,0,0,{"$f":"VLOOKUP(B5981*100+C5981,氏名データ!$AC$2:$AJ$401,2,0)","v":{"$error":"#N/A"}},null,0]
[0,0,0,0,0,0,0,0,0,0,0,{"$f":"VLOOKUP(B5984*100+C5984,氏名データ!$AC$2:$AJ$401,2,0)","v":{"$error":"#N/A"}},null,0]
[0,0,0,0,0,0,0,0,0,0,0,{"$f":"VLOOKUP(B5987*100+C5987,氏名データ!$AC$2:$AJ$401,2,0)","v":{"$error":"#N/A"}},null,0]
[0,0,0,0,0,0,0,0,0,0,0,{"$f":"VLOOKUP(B5989*100+C5989,氏名データ!$AC$2:$AJ$401,2,0)","v":{"$error":"#N/A"}},null,0]
[0,0,0,0,0,0,0,0,0,0,0,{"$f":"VLOOKUP(B5990*100+C5990,氏名データ!$AC$2:$AJ$401,2,0)","v":{"$error":"#N/A"}},null,0]
[0,0,0,0,0,0,0,0,0,0,0,{"$f":"VLOOKUP(B5993*100+C5993,氏名データ!$AC$2:$AJ$401,2,0)","v":{"$error":"#N/A"}},null,0]
[0,0,0,0,0,0,0,0,0,0,0,{"$f":"VLOOKUP(B5994*100+C5994,氏名データ!$AC$2:$AJ$401,2,0)","v":{"$error":"#N/A"}},null,0]
[0,0,0,0,0,0,0,0,0,0,0,{"$f":"VLOOKUP(B5998*100+C5998,氏名データ!$AC$2:$AJ$401,2,0)","v":{"$error":"#N/A"}},null,0]
[0,0,0,0,0,0,0,0,0,0,0,{"$f":"VLOOKUP(B5999*100+C5999,氏名データ!$AC$2:$AJ$401,2,0)","v":{"$error":"#N/A"}},null,0]
[0,0,0,0,0,0,0,0,0,0,0,{"$f":"VLOOKUP(B6002*100+C6002,氏名データ!$AC$2:$AJ$401,2,0)","v":{"$error":"#N/A"}},null,0]
[0,0,0,0,0,0,0,0,0,0,0,{"$f":"VLOOKUP(B6005*100+C6005,氏名データ!$AC$2:$AJ$401,2,0)","v":{"$error":"#N/A"}},null,0]
[0,0,0,0,0,0,0,0,0,0,0,{"$f":"VLOOKUP(B6007*100+C6007,氏名データ!$AC$2:$AJ$401,2,0)","v":{"$error":"#N/A"}},null,0]
[0,0,0,0,0,0,0,0,0,0,0,{"$f":"VLOOKUP(B6008*100+C6008,氏名データ!$AC$2:$AJ$401,2,0)","v":{"$error":"#N/A"}},null,0]
[0,0,0,0,0,0,0,0,0,0,0,{"$f":"VLOOKUP(B6011*100+C6011,氏名データ!$AC$2:$AJ$401,2,0)","v":{"$error":"#N/A"}},null,0]
[0,0,0,0,0,0,0,0,0,0,0,{"$f":"VLOOKUP(B6013*100+C6013,氏名データ!$AC$2:$AJ$401,2,0)","v":{"$error":"#N/A"}},null,0]
[0,0,0,0,0,0,0,0,0,0,0,{"$f":"VLOOKUP(B6016*100+C6016,氏名データ!$AC$2:$AJ$401,2,0)","v":{"$error":"#N/A"}},null,0]
[0,0,0,0,0,0,0,0,0,0,0,{"$f":"VLOOKUP(B6017*100+C6017,氏名データ!$AC$2:$AJ$401,2,0)","v":{"$error":"#N/A"}},null,0]
[0,0,0,0,0,0,0,0,0,0,0,{"$f":"VLOOKUP(B6020*100+C6020,氏名データ!$AC$2:$AJ$401,2,0)","v":{"$error":"#N/A"}},null,0]
[0,0,0,0,0,0,0,0,0,0,0,{"$f":"VLOOKUP(B6023*100+C6023,氏名データ!$AC$2:$AJ$401,2,0)","v":{"$error":"#N/A"}},null,0]
[0,0,0,0,0,0,0,0,0,0,0,{"$f":"VLOOKUP(B6025*100+C6025,氏名データ!$AC$2:$AJ$401,2,0)","v":{"$error":"#N/A"}},null,0]
[0,0,0,0,0,0,0,0,0,0,0,{"$f":"VLOOKUP(B6026*100+C6026,氏名データ!$AC$2:$AJ$401,2,0)","v":{"$error":"#N/A"}},null,0]
[0,0,0,0,0,0,0,0,0,0,0,{"$f":"VLOOKUP(B6029*100+C6029,氏名データ!$AC$2:$AJ$401,2,0)","v":{"$error":"#N/A"}},null,0]
[0,0,0,0,0,0,0,0,0,0,0,{"$f":"VLOOKUP(B6031*100+C6031,氏名データ!$AC$2:$AJ$401,2,0)","v":{"$error":"#N/A"}},null,0]
[0,0,0,0,0,0,0,0,0,0,0,{"$f":"VLOOKUP(B6034*100+C6034,氏名データ!$AC$2:$AJ$401,2,0)","v":{"$error":"#N/A"}},null,0]
[0,0,0,0,0,0,0,0,0,0,0,{"$f":"VLOOKUP(B6035*100+C6035,氏名データ!$AC$2:$AJ$401,2,0)","v":{"$error":"#N/A"}},null,0]
[0,0,0,0,0,0,0,0,0,0,0,{"$f":"VLOOKUP(B6038*100+C6038,氏名データ!$AC$2:$AJ$401,2,0)","v":{"$error":"#N/A"}},null,0]
[0,0,0,0,0,0,0,0,0,0,0,{"$f":"VLOOKUP(B6041*100+C6041,氏名データ!$AC$2:$AJ$401,2,0)","v":{"$error":"#N/A"}},null,0]
[0,0,0,0,0,0,0,0,0,0,0,{"$f":"VLOOKUP(B6043*100+C6043,氏名データ!$AC$2:$AJ$401,2,0)","v":{"$error":"#N/A"}},null,0]
[0,0,0,0,0,0,0,0,0,0,0,{"$f":"VLOOKUP(B6044*100+C6044,氏名データ!$AC$2:$AJ$401,2,0)","v":{"$error":"#N/A"}},null,0]
[0,0,0,0,0,0,0,0,0,0,0,{"$f":"VLOOKUP(B6047*100+C6047,氏名データ!$AC$2:$AJ$401,2,0)","v":{"$error":"#N/A"}},null,0]
[0,0,0,0,0,0,0,0,0,0,0,{"$f":"VLOOKUP(B6049*100+C6049,氏名データ!$AC$2:$AJ$401,2,0)","v":{"$error":"#N/A"}},null,0]
[0,0,0,0,0,0,0,0,0,0,0,{"$f":"VLOOKUP(B6052*100+C6052,氏名データ!$AC$2:$AJ$401,2,0)","v":{"$error":"#N/A"}},null,0]
[0,0,0,0,0,0,0,0,0,0,0,{"$f":"VLOOKUP(B6053*100+C6053,氏名データ!$AC$2:$AJ$401,2,0)","v":{"$error":"#N/A"}},null,0]
[0,0,0,0,0,0,0,0,0,0,0,{"$f":"VLOOKUP(B6056*100+C6056,氏名データ!$AC$2:$AJ$401,2,0)","v":{"$error":"#N/A"}},null,0]
[0,0,0,0,0,0,0,0,0,0,0,{"$f":"VLOOKUP(B6059*100+C6059,氏名データ!$AC$2:$AJ$401,2,0)","v":{"$error":"#N/A"}},null,0]
[0,0,0,0,0,0,0,0,0,0,0,{"$f":"VLOOKUP(B6061*100+C6061,氏名データ!$AC$2:$AJ$401,2,0)","v":{"$error":"#N/A"}},null,0]
[0,0,0,0,0,0,0,0,0,0,0,{"$f":"VLOOKUP(B6062*100+C6062,氏名データ!$AC$2:$AJ$401,2,0)","v":{"$error":"#N/A"}},null,0]
[0,0,0,0,0,0,0,0,0,0,0,{"$f":"VLOOKUP(B6065*100+C6065,氏名データ!$AC$2:$AJ$401,2,0)","v":{"$error":"#N/A"}},null,0]
[0,0,0,0,0,0,0,0,0,0,0,{"$f":"VLOOKUP(B6067*100+C6067,氏名データ!$AC$2:$AJ$401,2,0)","v":{"$error":"#N/A"}},null,0]
[0,0,0,0,0,0,0,0,0,0,0,{"$f":"VLOOKUP(B6070*100+C6070,氏名データ!$AC$2:$AJ$401,2,0)","v":{"$error":"#N/A"}},null,0]
[0,0,0,0,0,0,0,0,0,0,0,{"$f":"VLOOKUP(B6071*100+C6071,氏名データ!$AC$2:$AJ$401,2,0)","v":{"$error":"#N/A"}},null,0]
[0,0,0,0,0,0,0,0,0,0,0,{"$f":"VLOOKUP(B6074*100+C6074,氏名データ!$AC$2:$AJ$401,2,0)","v":{"$error":"#N/A"}},null,0]
[0,0,0,0,0,0,0,0,0,0,0,{"$f":"VLOOKUP(B6077*100+C6077,氏名データ!$AC$2:$AJ$401,2,0)","v":{"$error":"#N/A"}},null,0]
[0,0,0,0,0,0,0,0,0,0,0,{"$f":"VLOOKUP(B6079*100+C6079,氏名データ!$AC$2:$AJ$401,2,0)","v":{"$error":"#N/A"}},null,0]
[0,0,0,0,0,0,0,0,0,0,0,{"$f":"VLOOKUP(B6080*100+C6080,氏名データ!$AC$2:$AJ$401,2,0)","v":{"$error":"#N/A"}},null,0]
[0,0,0,0,0,0,0,{"$f":"U6083","v":0},{"$f":"V6083","v":0},{"$f":"X6083","v":0},0,{"$f":"VLOOKUP(B6083*100+C6083,氏名データ!$AC$2:$AJ$401,2,0)","v":{"$error":"#N/A"}},null,0]
[0,0,0,0,0,0,0,0,0,0,0,{"$f":"VLOOKUP(B6085*100+C6085,氏名データ!$AC$2:$AJ$401,2,0)","v":{"$error":"#N/A"}},null,0]
[0,0,0,0,0,0,0,0,0,0,0,{"$f":"VLOOKUP(B6088*100+C6088,氏名データ!$AC$2:$AJ$401,2,0)","v":{"$error":"#N/A"}},null,0]
[0,0,0,0,0,0,0,0,0,0,0,{"$f":"VLOOKUP(B6089*100+C6089,氏名データ!$AC$2:$AJ$401,2,0)","v":{"$error":"#N/A"}},null,0]
[0,0,0,0,0,0,0,0,0,0,0,{"$f":"VLOOKUP(B6092*100+C6092,氏名データ!$AC$2:$AJ$401,2,0)","v":{"$error":"#N/A"}},null,0]
[0,0,0,0,0,0,0,0,0,0,0,{"$f":"VLOOKUP(B6095*100+C6095,氏名データ!$AC$2:$AJ$401,2,0)","v":{"$error":"#N/A"}},null,0]
[0,0,0,0,0,0,0,0,0,0,0,{"$f":"VLOOKUP(B6097*100+C6097,氏名データ!$AC$2:$AJ$401,2,0)","v":{"$error":"#N/A"}},null,0]
[0,0,0,0,0,0,0,0,0,0,0,{"$f":"VLOOKUP(B6098*100+C6098,氏名データ!$AC$2:$AJ$401,2,0)","v":{"$error":"#N/A"}},null,0]
[0,0,0,0,0,0,0,0,0,0,0,{"$f":"VLOOKUP(B6101*100+C6101,氏名データ!$AC$2:$AJ$401,2,0)","v":{"$error":"#N/A"}},null,0]
[0,0,0,0,0,0,0,0,0,0,0,{"$f":"VLOOKUP(B6103*100+C6103,氏名データ!$AC$2:$AJ$401,2,0)","v":{"$error":"#N/A"}},null,0]
[0,0,0,0,0,0,0,0,0,0,0,{"$f":"VLOOKUP(B6106*100+C6106,氏名データ!$AC$2:$AJ$401,2,0)","v":{"$error":"#N/A"}},null,0]
[0,0,0,0,0,0,0,0,0,0,0,{"$f":"VLOOKUP(B6107*100+C6107,氏名データ!$AC$2:$AJ$401,2,0)","v":{"$error":"#N/A"}},null,0]
[0,0,0,0,0,0,0,0,0,0,0,{"$f":"VLOOKUP(B6110*100+C6110,氏名データ!$AC$2:$AJ$401,2,0)","v":{"$error":"#N/A"}},null,0]
[0,0,0,0,0,0,0,0,0,0,0,{"$f":"VLOOKUP(B6113*100+C6113,氏名データ!$AC$2:$AJ$401,2,0)","v":{"$error":"#N/A"}},null,0]
[0,0,0,0,0,0,0,0,0,0,0,{"$f":"VLOOKUP(B6115*100+C6115,氏名データ!$AC$2:$AJ$401,2,0)","v":{"$error":"#N/A"}},null,0]
[0,0,0,0,0,0,0,0,0,0,0,{"$f":"VLOOKUP(B6116*100+C6116,氏名データ!$AC$2:$AJ$401,2,0)","v":{"$error":"#N/A"}},null,0]
[0,0,0,0,0,0,0,0,0,0,0,{"$f":"VLOOKUP(B6119*100+C6119,氏名データ!$AC$2:$AJ$401,2,0)","v":{"$error":"#N/A"}},null,0]
[0,0,0,0,0,0,0,0,0,0,0,{"$f":"VLOOKUP(B6121*100+C6121,氏名データ!$AC$2:$AJ$401,2,0)","v":{"$error":"#N/A"}},null,0]
[0,0,0,0,0,0,0,0,0,0,0,{"$f":"VLOOKUP(B6124*100+C6124,氏名データ!$AC$2:$AJ$401,2,0)","v":{"$error":"#N/A"}},null,0]
[0,0,0,0,0,0,0,0,0,0,0,{"$f":"VLOOKUP(B6125*100+C6125,氏名データ!$AC$2:$AJ$401,2,0)","v":{"$error":"#N/A"}},null,0]
[0,0,0,0,0,0,0,0,0,0,0,{"$f":"VLOOKUP(B6128*100+C6128,氏名データ!$AC$2:$AJ$401,2,0)","v":{"$error":"#N/A"}},null,0]
[0,0,0,0,0,0,0,0,0,0,0,{"$f":"VLOOKUP(B6131*100+C6131,氏名データ!$AC$2:$AJ$401,2,0)","v":{"$error":"#N/A"}},null,0]
[0,0,0,0,0,0,0,0,0,0,0,{"$f":"VLOOKUP(B6133*100+C6133,氏名データ!$AC$2:$AJ$401,2,0)","v":{"$error":"#N/A"}},null,0]
[0,0,0,0,0,0,0,0,0,0,0,{"$f":"VLOOKUP(B6134*100+C6134,氏名データ!$AC$2:$AJ$401,2,0)","v":{"$error":"#N/A"}},null,0]
[{"$f":"P6137","v":0},{"$f":"ROUNDDOWN(A6137/10000,0)","v":0},{"$f":"ROUNDDOWN((A6137-B6137*10000)/100,0)","v":0},{"$f":"Q6137","v":0},{"$f":"R6137","v":0},{"$f":"S6137","v":0},{"$f":"T6137","v":0},0,0,0,{"$f":"Y6137","v":0},{"$f":"VLOOKUP(B6137*100+C6137,氏名データ!$AC$2:$AJ$401,2,0)","v":{"$error":"#N/A"}},null,{"$f":"W6137","v":0}]
[0,0,0,0,0,0,0,0,0,0,0,{"$f":"VLOOKUP(B6139*100+C6139,氏名データ!$AC$2:$AJ$401,2,0)","v":{"$error":"#N/A"}},null,0]
[0,0,0,0,0,0,0,0,0,0,0,{"$f":"VLOOKUP(B6142*100+C6142,氏名データ!$AC$2:$AJ$401,2,0)","v":{"$error":"#N/A"}},null,0]
[0,0,0,0,0,0,0,0,0,0,0,{"$f":"VLOOKUP(B6143*100+C6143,氏名データ!$AC$2:$AJ$401,2,0)","v":{"$error":"#N/A"}},null,0]
[0,0,0,0,0,0,0,0,0,0,0,{"$f":"VLOOKUP(B6146*100+C6146,氏名データ!$AC$2:$AJ$401,2,0)","v":{"$error":"#N/A"}},null,0]
[0,0,0,0,0,0,0,0,0,0,0,{"$f":"VLOOKUP(B6149*100+C6149,氏名データ!$AC$2:$AJ$401,2,0)","v":{"$error":"#N/A"}},null,0]
[0,0,0,0,0,0,0,0,0,0,0,{"$f":"VLOOKUP(B6151*100+C6151,氏名データ!$AC$2:$AJ$401,2,0)","v":{"$error":"#N/A"}},null,0]
[0,0,0,0,0,0,0,0,0,0,0,{"$f":"VLOOKUP(B6152*100+C6152,氏名データ!$AC$2:$AJ$401,2,0)","v":{"$error":"#N/A"}},null,0]
[0,0,0,0,0,0,0,0,0,0,0,{"$f":"VLOOKUP(B6155*100+C6155,氏名データ!$AC$2:$AJ$401,2,0)","v":{"$error":"#N/A"}},null,0]
[0,0,0,0,0,0,0,0,0,0,0,{"$f":"VLOOKUP(B6157*100+C6157,氏名データ!$AC$2:$AJ$401,2,0)","v":{"$error":"#N/A"}},null,0]
[0,0,0,0,0,0,0,0,0,0,0,{"$f":"VLOOKUP(B6160*100+C6160,氏名データ!$AC$2:$AJ$401,2,0)","v":{"$error":"#N/A"}},null,0]
[0,0,0,0,0,0,0,0,0,0,0,{"$f":"VLOOKUP(B6161*100+C6161,氏名データ!$AC$2:$AJ$401,2,0)","v":{"$error":"#N/A"}},null,0]
[0,0,0,0,0,0,0,0,0,0,0,{"$f":"VLOOKUP(B6164*100+C6164,氏名データ!$AC$2:$AJ$401,2,0)","v":{"$error":"#N/A"}},null,0]
[0,0,0,0,0,0,0,0,0,0,0,{"$f":"VLOOKUP(B6165*100+C6165,氏名データ!$AC$2:$AJ$401,2,0)","v":{"$error":"#N/A"}},null,0]
[0,0,0,0,0,0,0,0,0,0,0,{"$f":"VLOOKUP(B6169*100+C6169,氏名データ!$AC$2:$AJ$401,2,0)","v":{"$error":"#N/A"}},null,0]
[0,0,0,0,0,0,0,0,0,0,0,{"$f":"VLOOKUP(B6170*100+C6170,氏名データ!$AC$2:$AJ$401,2,0)","v":{"$error":"#N/A"}},null,0]
[0,0,0,0,0,0,0,0,0,0,0,{"$f":"VLOOKUP(B6173*100+C6173,氏名データ!$AC$2:$AJ$401,2,0)","v":{"$error":"#N/A"}},null,0]
[0,0,0,0,0,0,0,0,0,0,0,{"$f":"VLOOKUP(B6175*100+C6175,氏名データ!$AC$2:$AJ$401,2,0)","v":{"$error":"#N/A"}},null,0]
[0,0,0,0,0,0,0,0,0,0,0,{"$f":"VLOOKUP(B6178*100+C6178,氏名データ!$AC$2:$AJ$401,2,0)","v":{"$error":"#N/A"}},null,0]
[0,0,0,0,0,0,0,0,0,0,0,{"$f":"VLOOKUP(B6179*100+C6179,氏名データ!$AC$2:$AJ$401,2,0)","v":{"$error":"#N/A"}},null,0]
[0,0,0,0,0,0,0,0,0,0,0,{"$f":"VLOOKUP(B6182*100+C6182,氏名データ!$AC$2:$AJ$401,2,0)","v":{"$error":"#N/A"}},null,0]
[0,0,0,0,0,0,0,0,0,0,0,{"$f":"VLOOKUP(B6183*100+C6183,氏名データ!$AC$2:$AJ$401,2,0)","v":{"$error":"#N/A"}},null,0]
[0,0,0,0,0,0,0,0,0,0,0,{"$f":"VLOOKUP(B6187*100+C6187,氏名データ!$AC$2:$AJ$401,2,0)","v":{"$error":"#N/A"}},null,0]
[0,0,0,0,0,0,0,0,0,0,0,{"$f":"VLOOKUP(B6188*100+C6188,氏名データ!$AC$2:$AJ$401,2,0)","v":{"$error":"#N/A"}},null,0]
[0,0,0,0,0,0,0,0,0,0,0,{"$f":"VLOOKUP(B6191*100+C6191,氏名データ!$AC$2:$AJ$401,2,0)","v":{"$error":"#N/A"}},null,0]
[0,0,0,0,0,0,0,0,0,0,0,{"$f":"VLOOKUP(B6193*100+C6193,氏名データ!$AC$2:$AJ$401,2,0)","v":{"$error":"#N/A"}},null,0]
[0,0,0,0,0,0,0,0,0,0,0,{"$f":"VLOOKUP(B6196*100+C6196,氏名データ!$AC$2:$AJ$401,2,0)","v":{"$error":"#N/A"}},null,0]
[0,0,0,0,0,0,0,0,0,0,0,{"$f":"VLOOKUP(B6197*100+C6197,氏名データ!$AC$2:$AJ$401,2,0)","v":{"$error":"#N/A"}},null,0]
[0,0,0,0,0,0,0,0,0,0,0,{"$f":"VLOOKUP(B6200*100+C6200,氏名データ!$AC$2:$AJ$401,2,0)","v":{"$error":"#N/A"}},null,0]
[{"$f":"P6201","v":0},{"$f":"ROUNDDOWN(A6201/10000,0)","v":0},{"$f":"ROUNDDOWN((A6201-B6201*10000)/100,0)","v":0},{"$f":"Q6201","v":0},{"$f":"R6201","v":0},{"$f":"S6201","v":0},{"$f":"T6201","v":0},0,0,0,{"$f":"Y6201","v":0},{"$f":"VLOOKUP(B6201*100+C6201,氏名データ!$AC$2:$AJ$401,2,0)","v":{"$error":"#N/A"}},null,{"$f":"W6201","v":0}]
[0,0,0,0,0,0,0,0,0,0,0,{"$f":"VLOOKUP(B6205*100+C6205,氏名データ!$AC$2:$AJ$401,2,0)","v":{"$error":"#N/A"}},null,0]
[0,0,0,0,0,0,0,0,0,0,0,{"$f":"VLOOKUP(B6206*100+C6206,氏名データ!$AC$2:$AJ$401,2,0)","v":{"$error":"#N/A"}},null,0]
[0,0,0,0,0,0,0,0,0,0,0,{"$f":"VLOOKUP(B6209*100+C6209,氏名データ!$AC$2:$AJ$401,2,0)","v":{"$error":"#N/A"}},null,0]
[0,0,0,0,0,0,0,{"$f":"U6211","v":0},{"$f":"V6211","v":0},{"$f":"X6211","v":0},0,{"$f":"VLOOKUP(B6211*100+C6211,氏名データ!$AC$2:$AJ$401,2,0)","v":{"$error":"#N/A"}},null,0]
[0,0,0,0,0,0,0,0,0,0,0,{"$f":"VLOOKUP(B6214*100+C6214,氏名データ!$AC$2:$AJ$401,2,0)","v":{"$error":"#N/A"}},null,0]
[0,0,0,0,0,0,0,0,0,0,0,{"$f":"VLOOKUP(B6215*100+C6215,氏名データ!$AC$2:$AJ$401,2,0)","v":{"$error":"#N/A"}},null,0]
[0,0,0,0,0,0,0,0,0,0,0,{"$f":"VLOOKUP(B6218*100+C6218,氏名データ!$AC$2:$AJ$401,2,0)","v":{"$error":"#N/A"}},null,0]
[0,0,0,0,0,0,0,0,0,0,0,{"$f":"VLOOKUP(B6219*100+C6219,氏名データ!$AC$2:$AJ$401,2,0)","v":{"$error":"#N/A"}},null,0]
[0,0,0,0,0,0,0,0,0,0,0,{"$f":"VLOOKUP(B6223*100+C6223,氏名データ!$AC$2:$AJ$401,2,0)","v":{"$error":"#N/A"}},null,0]
[0,0,0,0,0,0,0,0,0,0,0,{"$f":"VLOOKUP(B6224*100+C6224,氏名データ!$AC$2:$AJ$401,2,0)","v":{"$error":"#N/A"}},null,0]
[0,0,0,0,0,0,0,0,0,0,0,{"$f":"VLOOKUP(B6227*100+C6227,氏名データ!$AC$2:$AJ$401,2,0)","v":{"$error":"#N/A"}},null,0]
[0,0,0,0,0,0,0,0,0,0,0,{"$f":"VLOOKUP(B6229*100+C6229,氏名データ!$AC$2:$AJ$401,2,0)","v":{"$error":"#N/A"}},null,0]
[0,0,0,0,0,0,0,0,0,0,0,{"$f":"VLOOKUP(B6232*100+C6232,氏名データ!$AC$2:$AJ$401,2,0)","v":{"$error":"#N/A"}},null,0]
[0,0,0,0,0,0,0,0,0,0,0,{"$f":"VLOOKUP(B6233*100+C6233,氏名データ!$AC$2:$AJ$401,2,0)","v":{"$error":"#N/A"}},null,0]
[0,0,0,0,0,0,0,0,0,0,0,{"$f":"VLOOKUP(B6236*100+C6236,氏名データ!$AC$2:$AJ$401,2,0)","v":{"$error":"#N/A"}},null,0]
[0,0,0,0,0,0,0,0,0,0,0,{"$f":"VLOOKUP(B6237*100+C6237,氏名データ!$AC$2:$AJ$401,2,0)","v":{"$error":"#N/A"}},null,0]
[0,0,0,0,0,0,0,0,0,0,0,{"$f":"VLOOKUP(B6241*100+C6241,氏名データ!$AC$2:$AJ$401,2,0)","v":{"$error":"#N/A"}},null,0]
[0,0,0,0,0,0,0,0,0,0,0,{"$f":"VLOOKUP(B6242*100+C6242,氏名データ!$AC$2:$AJ$401,2,0)","v":{"$error":"#N/A"}},null,0]
[0,0,0,0,0,0,0,0,0,0,0,{"$f":"VLOOKUP(B6245*100+C6245,氏名データ!$AC$2:$AJ$401,2,0)","v":{"$error":"#N/A"}},null,0]
[0,0,0,0,0,0,0,0,0,0,0,{"$f":"VLOOKUP(B6247*100+C6247,氏名データ!$AC$2:$AJ$401,2,0)","v":{"$error":"#N/A"}},null,0]
[0,0,0,0,0,0,0,0,0,0,0,{"$f":"VLOOKUP(B6250*100+C6250,氏名データ!$AC$2:$AJ$401,2,0)","v":{"$error":"#N/A"}},null,0]
[0,0,0,0,0,0,0,0,0,0,0,{"$f":"VLOOKUP(B6251*100+C6251,氏名データ!$AC$2:$AJ$401,2,0)","v":{"$error":"#N/A"}},null,0]
[0,0,0,0,0,0,0,0,0,0,0,{"$f":"VLOOKUP(B6254*100+C6254,氏名データ!$AC$2:$AJ$401,2,0)","v":{"$error":"#N/A"}},null,0]
[0,0,0,0,0,0,0,0,0,0,0,{"$f":"VLOOKUP(B6255*100+C6255,氏名データ!$AC$2:$AJ$401,2,0)","v":{"$error":"#N/A"}},null,0]
[0,0,0,0,0,0,0,0,0,0,0,{"$f":"VLOOKUP(B6259*100+C6259,氏名データ!$AC$2:$AJ$401,2,0)","v":{"$error":"#N/A"}},null,0]
[0,0,0,0,0,0,0,0,0,0,0,{"$f":"VLOOKUP(B6260*100+C6260,氏名データ!$AC$2:$AJ$401,2,0)","v":{"$error":"#N/A"}},null,0]
[0,0,0,0,0,0,0,0,0,0,0,{"$f":"VLOOKUP(B6263*100+C6263,氏名データ!$AC$2:$AJ$401,2,0)","v":{"$error":"#N/A"}},null,0]
[{"$f":"P6265","v":0},{"$f":"ROUNDDOWN(A6265/10000,0)","v":0},{"$f":"ROUNDDOWN((A6265-B6265*10000)/100,0)","v":0},{"$f":"Q6265","v":0},{"$f":"R6265","v":0},{"$f":"S6265","v":0},{"$f":"T6265","v":0},0,0,0,{"$f":"Y6265","v":0},{"$f":"VLOOKUP(B6265*100+C6265,氏名データ!$AC$2:$AJ$401,2,0)","v":{"$error":"#N/A"}},null,{"$f":"W6265","v":0}]
[0,0,0,0,0,0,0,0,0,0,0,{"$f":"VLOOKUP(B6268*100+C6268,氏名データ!$AC$2:$AJ$401,2,0)","v":{"$error":"#N/A"}},null,0]
[0,0,0,0,0,0,0,0,0,0,0,{"$f":"VLOOKUP(B6269*100+C6269,氏名データ!$AC$2:$AJ$401,2,0)","v":{"$error":"#N/A"}},null,0]
[0,0,0,0,0,0,0,0,0,0,0,{"$f":"VLOOKUP(B6272*100+C6272,氏名データ!$AC$2:$AJ$401,2,0)","v":{"$error":"#N/A"}},null,0]
[0,0,0,0,0,0,0,0,0,0,0,{"$f":"VLOOKUP(B6273*100+C6273,氏名データ!$AC$2:$AJ$401,2,0)","v":{"$error":"#N/A"}},null,0]
[0,0,0,0,0,0,0,0,0,0,0,{"$f":"VLOOKUP(B6277*100+C6277,氏名データ!$AC$2:$AJ$401,2,0)","v":{"$error":"#N/A"}},null,0]
[0,0,0,0,0,0,0,0,0,0,0,{"$f":"VLOOKUP(B6278*100+C6278,氏名データ!$AC$2:$AJ$401,2,0)","v":{"$error":"#N/A"}},null,0]
[0,0,0,0,0,0,0,0,0,0,0,{"$f":"VLOOKUP(B6281*100+C6281,氏名データ!$AC$2:$AJ$401,2,0)","v":{"$error":"#N/A"}},null,0]
[0,0,0,0,0,0,0,0,0,0,0,{"$f":"VLOOKUP(B6283*100+C6283,氏名データ!$AC$2:$AJ$401,2,0)","v":{"$error":"#N/A"}},null,0]
[0,0,0,0,0,0,0,0,0,0,0,{"$f":"VLOOKUP(B6286*100+C6286,氏名データ!$AC$2:$AJ$401,2,0)","v":{"$error":"#N/A"}},null,0]
[0,0,0,0,0,0,0,0,0,0,0,{"$f":"VLOOKUP(B6287*100+C6287,氏名データ!$AC$2:$AJ$401,2,0)","v":{"$error":"#N/A"}},null,0]
[0,0,0,0,0,0,0,0,0,0,0,{"$f":"VLOOKUP(B6290*100+C6290,氏名データ!$AC$2:$AJ$401,2,0)","v":{"$error":"#N/A"}},null,0]
[0,0,0,0,0,0,0,0,0,0,0,{"$f":"VLOOKUP(B6291*100+C6291,氏名データ!$AC$2:$AJ$401,2,0)","v":{"$error":"#N/A"}},null,0]
[0,0,0,0,0,0,0,0,0,0,0,{"$f":"VLOOKUP(B6295*100+C6295,氏名データ!$AC$2:$AJ$401,2,0)","v":{"$error":"#N/A"}},null,0]
[0,0,0,0,0,0,0,0,0,0,0,{"$f":"VLOOKUP(B6296*100+C6296,氏名データ!$AC$2:$AJ$401,2,0)","v":{"$error":"#N/A"}},null,0]
[0,0,0,0,0,0,0,0,0,0,0,{"$f":"VLOOKUP(B6299*100+C6299,氏名データ!$AC$2:$AJ$401,2,0)","v":{"$error":"#N/A"}},null,0]
[0,0,0,0,0,0,0,0,0,0,0,{"$f":"VLOOKUP(B6301*100+C6301,氏名データ!$AC$2:$AJ$401,2,0)","v":{"$error":"#N/A"}},null,0]
[0,0,0,0,0,0,0,0,0,0,0,{"$f":"VLOOKUP(B6304*100+C6304,氏名データ!$AC$2:$AJ$401,2,0)","v":{"$error":"#N/A"}},null,0]
[0,0,0,0,0,0,0,0,0,0,0,{"$f":"VLOOKUP(B6305*100+C6305,氏名データ!$AC$2:$AJ$401,2,0)","v":{"$error":"#N/A"}},null,0]
[0,0,0,0,0,0,0,0,0,0,0,{"$f":"VLOOKUP(B6308*100+C6308,氏名データ!$AC$2:$AJ$401,2,0)","v":{"$error":"#N/A"}},null,0]
[0,0,0,0,0,0,0,0,0,0,0,{"$f":"VLOOKUP(B6309*100+C6309,氏名データ!$AC$2:$AJ$401,2,0)","v":{"$error":"#N/A"}},null,0]
[0,0,0,0,0,0,0,0,0,0,0,{"$f":"VLOOKUP(B6313*100+C6313,氏名データ!$AC$2:$AJ$401,2,0)","v":{"$error":"#N/A"}},null,0]
[0,0,0,0,0,0,0,0,0,0,0,{"$f":"VLOOKUP(B6314*100+C6314,氏名データ!$AC$2:$AJ$401,2,0)","v":{"$error":"#N/A"}},null,0]
[0,0,0,0,0,0,0,0,0,0,0,{"$f":"VLOOKUP(B6317*100+C6317,氏名データ!$AC$2:$AJ$401,2,0)","v":{"$error":"#N/A"}},null,0]
[0,0,0,0,0,0,0,0,0,0,0,{"$f":"VLOOKUP(B6319*100+C6319,氏名データ!$AC$2:$AJ$401,2,0)","v":{"$error":"#N/A"}},null,0]
[0,0,0,0,0,0,0,0,0,0,0,{"$f":"VLOOKUP(B6322*100+C6322,氏名データ!$AC$2:$AJ$401,2,0)","v":{"$error":"#N/A"}},null,0]
[0,0,0,0,0,0,0,0,0,0,0,{"$f":"VLOOKUP(B6323*100+C6323,氏名データ!$AC$2:$AJ$401,2,0)","v":{"$error":"#N/A"}},null,0]
[0,0,0,0,0,0,0,0,0,0,0,{"$f":"VLOOKUP(B6326*100+C6326,氏名データ!$AC$2:$AJ$401,2,0)","v":{"$error":"#N/A"}},null,0]
[0,0,0,0,0,0,0,0,0,0,0,{"$f":"VLOOKUP(B6327*100+C6327,氏名データ!$AC$2:$AJ$401,2,0)","v":{"$error":"#N/A"}},null,0]
[0,0,0,0,0,0,0,0,0,0,0,{"$f":"VLOOKUP(B6331*100+C6331,氏名データ!$AC$2:$AJ$401,2,0)","v":{"$error":"#N/A"}},null,0]
[0,0,0,0,0,0,0,0,0,0,0,{"$f":"VLOOKUP(B6332*100+C6332,氏名データ!$AC$2:$AJ$401,2,0)","v":{"$error":"#N/A"}},null,0]
[0,0,0,0,0,0,0,0,0,0,0,{"$f":"VLOOKUP(B6335*100+C6335,氏名データ!$AC$2:$AJ$401,2,0)","v":{"$error":"#N/A"}},null,0]
[0,0,0,0,0,0,0,0,0,0,0,{"$f":"VLOOKUP(B6338*100+C6338,氏名データ!$AC$2:$AJ$401,2,0)","v":{"$error":"#N/A"}},null,0]
[0,0,0,0,0,0,0,0,0,0,0,{"$f":"VLOOKUP(B6340*100+C6340,氏名データ!$AC$2:$AJ$401,2,0)","v":{"$error":"#N/A"}},null,0]
[0,0,0,0,0,0,0,0,0,0,0,{"$f":"VLOOKUP(B6341*100+C6341,氏名データ!$AC$2:$AJ$401,2,0)","v":{"$error":"#N/A"}},null,0]
[0,0,0,0,0,0,0,0,0,0,0,{"$f":"VLOOKUP(B6344*100+C6344,氏名データ!$AC$2:$AJ$401,2,0)","v":{"$error":"#N/A"}},null,0]
[0,0,0,0,0,0,0,0,0,0,0,{"$f":"VLOOKUP(B6345*100+C6345,氏名データ!$AC$2:$AJ$401,2,0)","v":{"$error":"#N/A"}},null,0]
[0,0,0,0,0,0,0,0,0,0,0,{"$f":"VLOOKUP(B6349*100+C6349,氏名データ!$AC$2:$AJ$401,2,0)","v":{"$error":"#N/A"}},null,0]
[0,0,0,0,0,0,0,0,0,0,0,{"$f":"VLOOKUP(B6350*100+C6350,氏名データ!$AC$2:$AJ$401,2,0)","v":{"$error":"#N/A"}},null,0]
[0,0,0,0,0,0,0,0,0,0,0,{"$f":"VLOOKUP(B6353*100+C6353,氏名データ!$AC$2:$AJ$401,2,0)","v":{"$error":"#N/A"}},null,0]
[0,0,0,0,0,0,0,0,0,0,0,{"$f":"VLOOKUP(B6356*100+C6356,氏名データ!$AC$2:$AJ$401,2,0)","v":{"$error":"#N/A"}},null,0]
[0,0,0,0,0,0,0,0,0,0,0,{"$f":"VLOOKUP(B6358*100+C6358,氏名データ!$AC$2:$AJ$401,2,0)","v":{"$error":"#N/A"}},null,0]
[0,0,0,0,0,0,0,0,0,0,0,{"$f":"VLOOKUP(B6359*100+C6359,氏名データ!$AC$2:$AJ$401,2,0)","v":{"$error":"#N/A"}},null,0]
[0,0,0,0,0,0,0,0,0,0,0,{"$f":"VLOOKUP(B6362*100+C6362,氏名データ!$AC$2:$AJ$401,2,0)","v":{"$error":"#N/A"}},null,0]
[0,0,0,0,0,0,0,0,0,0,0,{"$f":"VLOOKUP(B6363*100+C6363,氏名データ!$AC$2:$AJ$401,2,0)","v":{"$error":"#N/A"}},null,0]
[0,0,0,0,0,0,0,0,0,0,0,{"$f":"VLOOKUP(B6367*100+C6367,氏名データ!$AC$2:$AJ$401,2,0)","v":{"$error":"#N/A"}},null,0]
[0,0,0,0,0,0,0,0,0,0,0,{"$f":"VLOOKUP(B6368*100+C6368,氏名データ!$AC$2:$AJ$401,2,0)","v":{"$error":"#N/A"}},null,0]
[0,0,0,0,0,0,0,0,0,0,0,{"$f":"VLOOKUP(B6371*100+C6371,氏名データ!$AC$2:$AJ$401,2,0)","v":{"$error":"#N/A"}},null,0]
[0,0,0,0,0,0,0,0,0,0,0,{"$f":"VLOOKUP(B6374*100+C6374,氏名データ!$AC$2:$AJ$401,2,0)","v":{"$error":"#N/A"}},null,0]
[0,0,0,0,0,0,0,0,0,0,0,{"$f":"VLOOKUP(B6376*100+C6376,氏名データ!$AC$2:$AJ$401,2,0)","v":{"$error":"#N/A"}},null,0]
[0,0,0,0,0,0,0,0,0,0,0,{"$f":"VLOOKUP(B6377*100+C6377,氏名データ!$AC$2:$AJ$401,2,0)","v":{"$error":"#N/A"}},null,0]
[0,0,0,0,0,0,0,0,0,0,0,{"$f":"VLOOKUP(B6380*100+C6380,氏名データ!$AC$2:$AJ$401,2,0)","v":{"$error":"#N/A"}},null,0]
[0,0,0,0,0,0,0,0,0,0,0,{"$f":"VLOOKUP(B6381*100+C6381,氏名データ!$AC$2:$AJ$401,2,0)","v":{"$error":"#N/A"}},null,0]
[0,0,0,0,0,0,0,0,0,0,0,{"$f":"VLOOKUP(B6385*100+C6385,氏名データ!$AC$2:$AJ$401,2,0)","v":{"$error":"#N/A"}},null,0]
[0,0,0,0,0,0,0,0,0,0,0,{"$f":"VLOOKUP(B6386*100+C6386,氏名データ!$AC$2:$AJ$401,2,0)","v":{"$error":"#N/A"}},null,0]
[0,0,0,0,0,0,0,0,0,0,0,{"$f":"VLOOKUP(B6389*100+C6389,氏名データ!$AC$2:$AJ$401,2,0)","v":{"$error":"#N/A"}},null,0]
[0,0,0,0,0,0,0,0,0,0,0,{"$f":"VLOOKUP(B6392*100+C6392,氏名データ!$AC$2:$AJ$401,2,0)","v":{"$error":"#N/A"}},null,0]
[0,0,0,0,0,0,0,0,0,0,0,{"$f":"VLOOKUP(B6394*100+C6394,氏名データ!$AC$2:$AJ$401,2,0)","v":{"$error":"#N/A"}},null,0]
[0,0,0,0,0,0,0,0,0,0,0,{"$f":"VLOOKUP(B6395*100+C6395,氏名データ!$AC$2:$AJ$401,2,0)","v":{"$error":"#N/A"}},null,0]
[0,0,0,0,0,0,0,0,0,0,0,{"$f":"VLOOKUP(B6398*100+C6398,氏名データ!$AC$2:$AJ$401,2,0)","v":{"$error":"#N/A"}},null,0]
[0,0,0,0,0,0,0,0,0,0,0,{"$f":"VLOOKUP(B6399*100+C6399,氏名データ!$AC$2:$AJ$401,2,0)","v":{"$error":"#N/A"}},null,0]
[0,0,0,0,0,0,0,{"$f":"U6403","v":0},{"$f":"V6403","v":0},{"$f":"X6403","v":0},0,{"$f":"VLOOKUP(B6403*100+C6403,氏名データ!$AC$2:$AJ$401,2,0)","v":{"$error":"#N/A"}},null,0]
[0,0,0,0,0,0,0,0,0,0,0,{"$f":"VLOOKUP(B6404*100+C6404,氏名データ!$AC$2:$AJ$401,2,0)","v":{"$error":"#N/A"}},null,0]
[0,0,0,0,0,0,0,0,0,0,0,{"$f":"VLOOKUP(B6407*100+C6407,氏名データ!$AC$2:$AJ$401,2,0)","v":{"$error":"#N/A"}},null,0]
[0,0,0,0,0,0,0,0,0,0,0,{"$f":"VLOOKUP(B6410*100+C6410,氏名データ!$AC$2:$AJ$401,2,0)","v":{"$error":"#N/A"}},null,0]
[0,0,0,0,0,0,0,0,0,0,0,{"$f":"VLOOKUP(B6412*100+C6412,氏名データ!$AC$2:$AJ$401,2,0)","v":{"$error":"#N/A"}},null,0]
[0,0,0,0,0,0,0,0,0,0,0,{"$f":"VLOOKUP(B6413*100+C6413,氏名データ!$AC$2:$AJ$401,2,0)","v":{"$error":"#N/A"}},null,0]
[0,0,0,0,0,0,0,0,0,0,0,{"$f":"VLOOKUP(B6416*100+C6416,氏名データ!$AC$2:$AJ$401,2,0)","v":{"$error":"#N/A"}},null,0]
[0,0,0,0,0,0,0,0,0,0,0,{"$f":"VLOOKUP(B6417*100+C6417,氏名データ!$AC$2:$AJ$401,2,0)","v":{"$error":"#N/A"}},null,0]
[0,0,0,0,0,0,0,0,0,0,0,{"$f":"VLOOKUP(B6421*100+C6421,氏名データ!$AC$2:$AJ$401,2,0)","v":{"$error":"#N/A"}},null,0]
[0,0,0,0,0,0,0,0,0,0,0,{"$f":"VLOOKUP(B6422*100+C6422,氏名データ!$AC$2:$AJ$401,2,0)","v":{"$error":"#N/A"}},null,0]
[0,0,0,0,0,0,0,0,0,0,0,{"$f":"VLOOKUP(B6425*100+C6425,氏名データ!$AC$2:$AJ$401,2,0)","v":{"$error":"#N/A"}},null,0]
[0,0,0,0,0,0,0,0,0,0,0,{"$f":"VLOOKUP(B6428*100+C6428,氏名データ!$AC$2:$AJ$401,2,0)","v":{"$error":"#N/A"}},null,0]
[0,0,0,0,0,0,0,0,0,0,0,{"$f":"VLOOKUP(B6430*100+C6430,氏名データ!$AC$2:$AJ$401,2,0)","v":{"$error":"#N/A"}},null,0]
[0,0,0,0,0,0,0,0,0,0,0,{"$f":"VLOOKUP(B6431*100+C6431,氏名データ!$AC$2:$AJ$401,2,0)","v":{"$error":"#N/A"}},null,0]
[0,0,0,0,0,0,0,0,0,0,0,{"$f":"VLOOKUP(B6434*100+C6434,氏名データ!$AC$2:$AJ$401,2,0)","v":{"$error":"#N/A"}},null,0]
[0,0,0,0,0,0,0,0,0,0,0,{"$f":"VLOOKUP(B6435*100+C6435,氏名データ!$AC$2:$AJ$401,2,0)","v":{"$error":"#N/A"}},null,0]
[0,0,0,0,0,0,0,0,0,0,0,{"$f":"VLOOKUP(B6439*100+C6439,氏名データ!$AC$2:$AJ$401,2,0)","v":{"$error":"#N/A"}},null,0]
[0,0,0,0,0,0,0,0,0,0,0,{"$f":"VLOOKUP(B6440*100+C6440,氏名データ!$AC$2:$AJ$401,2,0)","v":{"$error":"#N/A"}},null,0]
[0,0,0,0,0,0,0,0,0,0,0,{"$f":"VLOOKUP(B6443*100+C6443,氏名データ!$AC$2:$AJ$401,2,0)","v":{"$error":"#N/A"}},null,0]
[0,0,0,0,0,0,0,0,0,0,0,{"$f":"VLOOKUP(B6446*100+C6446,氏名データ!$AC$2:$AJ$401,2,0)","v":{"$error":"#N/A"}},null,0]
[0,0,0,0,0,0,0,0,0,0,0,{"$f":"VLOOKUP(B6448*100+C6448,氏名データ!$AC$2:$AJ$401,2,0)","v":{"$error":"#N/A"}},null,0]
[0,0,0,0,0,0,0,0,0,0,0,{"$f":"VLOOKUP(B6449*100+C6449,氏名データ!$AC$2:$AJ$401,2,0)","v":{"$error":"#N/A"}},null,0]
[0,0,0,0,0,0,0,0,0,0,0,{"$f":"VLOOKUP(B6452*100+C6452,氏名データ!$AC$2:$AJ$401,2,0)","v":{"$error":"#N/A"}},null,0]
[0,0,0,0,0,0,0,0,0,0,0,{"$f":"VLOOKUP(B6453*100+C6453,氏名データ!$AC$2:$AJ$401,2,0)","v":{"$error":"#N/A"}},null,0]
[{"$f":"P6457","v":0},{"$f":"ROUNDDOWN(A6457/10000,0)","v":0},{"$f":"ROUNDDOWN((A6457-B6457*10000)/100,0)","v":0},{"$f":"Q6457","v":0},{"$f":"R6457","v":0},{"$f":"S6457","v":0},{"$f":"T6457","v":0},0,0,0,{"$f":"Y6457","v":0},{"$f":"VLOOKUP(B6457*100+C6457,氏名データ!$AC$2:$AJ$401,2,0)","v":{"$error":"#N/A"}},null,{"$f":"W6457","v":0}]
[0,0,0,0,0,0,0,0,0,0,0,{"$f":"VLOOKUP(B6458*100+C6458,氏名データ!$AC$2:$AJ$401,2,0)","v":{"$error":"#N/A"}},null,0]
[0,0,0,0,0,0,0,0,0,0,0,{"$f":"VLOOKUP(B6461*100+C6461,氏名データ!$AC$2:$AJ$401,2,0)","v":{"$error":"#N/A"}},null,0]
[0,0,0,0,0,0,0,0,0,0,0,{"$f":"VLOOKUP(B6464*100+C6464,氏名データ!$AC$2:$AJ$401,2,0)","v":{"$error":"#N/A"}},null,0]
[0,0,0,0,0,0,0,0,0,0,0,{"$f":"VLOOKUP(B6466*100+C6466,氏名データ!$AC$2:$AJ$401,2,0)","v":{"$error":"#N/A"}},null,0]
[0,0,0,0,0,0,0,{"$f":"U6467","v":0},{"$f":"V6467","v":0},{"$f":"X6467","v":0},0,{"$f":"VLOOKUP(B6467*100+C6467,氏名データ!$AC$2:$AJ$401,2,0)","v":{"$error":"#N/A"}},null,0]
[0,0,0,0,0,0,0,0,0,0,0,{"$f":"VLOOKUP(B6470*100+C6470,氏名データ!$AC$2:$AJ$401,2,0)","v":{"$error":"#N/A"}},null,0]
[0,0,0,0,0,0,0,0,0,0,0,{"$f":"VLOOKUP(B6471*100+C6471,氏名データ!$AC$2:$AJ$401,2,0)","v":{"$error":"#N/A"}},null,0]
[0,0,0,0,0,0,0,0,0,0,0,{"$f":"VLOOKUP(B6475*100+C6475,氏名データ!$AC$2:$AJ$401,2,0)","v":{"$error":"#N/A"}},null,0]
[0,0,0,0,0,0,0,0,0,0,0,{"$f":"VLOOKUP(B6476*100+C6476,氏名データ!$AC$2:$AJ$401,2,0)","v":{"$error":"#N/A"}},null,0]
[0,0,0,0,0,0,0,0,0,0,0,{"$f":"VLOOKUP(B6479*100+C6479,氏名データ!$AC$2:$AJ$401,2,0)","v":{"$error":"#N/A"}},null,0]
[0,0,0,0,0,0,0,0,0,0,0,{"$f":"VLOOKUP(B6482*100+C6482,氏名データ!$AC$2:$AJ$401,2,0)","v":{"$error":"#N/A"}},null,0]
[0,0,0,0,0,0,0,0,0,0,0,{"$f":"VLOOKUP(B6484*100+C6484,氏名データ!$AC$2:$AJ$401,2,0)","v":{"$error":"#N/A"}},null,0]
[0,0,0,0,0,0,0,0,0,0,0,{"$f":"VLOOKUP(B6485*100+C6485,氏名データ!$AC$2:$AJ$401,2,0)","v":{"$error":"#N/A"}},null,0]
[0,0,0,0,0,0,0,0,0,0,0,{"$f":"VLOOKUP(B6488*100+C6488,氏名データ!$AC$2:$AJ$401,2,0)","v":{"$error":"#N/A"}},null,0]
[0,0,0,0,0,0,0,0,0,0,0,{"$f":"VLOOKUP(B6490*100+C6490,氏名データ!$AC$2:$AJ$401,2,0)","v":{"$error":"#N/A"}},null,0]
[0,0,0,0,0,0,0,0,0,0,0,{"$f":"VLOOKUP(B6493*100+C6493,氏名データ!$AC$2:$AJ$401,2,0)","v":{"$error":"#N/A"}},null,0]
[0,0,0,0,0,0,0,0,0,0,0,{"$f":"VLOOKUP(B6494*100+C6494,氏名データ!$AC$2:$AJ$401,2,0)","v":{"$error":"#N/A"}},null,0]
[0,0,0,0,0,0,0,0,0,0,0,{"$f":"VLOOKUP(B6497*100+C6497,氏名データ!$AC$2:$AJ$401,2,0)","v":{"$error":"#N/A"}},null,0]
[0,0,0,0,0,0,0,0,0,0,0,{"$f":"VLOOKUP(B6500*100+C6500,氏名データ!$AC$2:$AJ$401,2,0)","v":{"$error":"#N/A"}},null,0]
[0,0,0,0,0,0,0,0,0,0,0,{"$f":"VLOOKUP(B6501*100+C6501,氏名データ!$AC$2:$AJ$401,2,0)","v":{"$error":"#N/A"}},null,0]
[0,0,0,0,0,0,0,0,0,0,0,{"$f":"VLOOKUP(B6502*100+C6502,氏名データ!$AC$2:$AJ$401,2,0)","v":{"$error":"#N/A"}},null,0]
[0,0,0,0,0,0,0,0,0,0,0,{"$f":"VLOOKUP(B6503*100+C6503,氏名データ!$AC$2:$AJ$401,2,0)","v":{"$error":"#N/A"}},null,0]
[0,0,0,0,0,0,0,0,0,0,0,{"$f":"VLOOKUP(B6504*100+C6504,氏名データ!$AC$2:$AJ$401,2,0)","v":{"$error":"#N/A"}},null,0]
[0,0,0,0,0,0,0,0,0,0,0,{"$f":"VLOOKUP(B6505*100+C6505,氏名データ!$AC$2:$AJ$401,2,0)","v":{"$error":"#N/A"}},null,0]
[0,0,0,0,0,0,0,0,0,0,0,{"$f":"VLOOKUP(B6506*100+C6506,氏名データ!$AC$2:$AJ$401,2,0)","v":{"$error":"#N/A"}},null,0]
[0,0,0,0,0,0,0,0,0,0,0,{"$f":"VLOOKUP(B6507*100+C6507,氏名データ!$AC$2:$AJ$401,2,0)","v":{"$error":"#N/A"}},null,0]
[0,0,0,0,0,0,0,0,0,0,0,{"$f":"VLOOKUP(B6508*100+C6508,氏名データ!$AC$2:$AJ$401,2,0)","v":{"$error":"#N/A"}},null,0]
[0,0,0,0,0,0,0,0,0,0,0,{"$f":"VLOOKUP(B6509*100+C6509,氏名データ!$AC$2:$AJ$401,2,0)","v":{"$error":"#N/A"}},null,0]
[0,0,0,0,0,0,0,0,0,0,0,{"$f":"VLOOKUP(B6510*100+C6510,氏名データ!$AC$2:$AJ$401,2,0)","v":{"$error":"#N/A"}},null,0]
[0,0,0,0,0,0,0,0,0,0,0,{"$f":"VLOOKUP(B6511*100+C6511,氏名データ!$AC$2:$AJ$401,2,0)","v":{"$error":"#N/A"}},null,0]
[0,0,0,0,0,0,0,0,0,0,0,{"$f":"VLOOKUP(B6512*100+C6512,氏名データ!$AC$2:$AJ$401,2,0)","v":{"$error":"#N/A"}},null,0]
[0,0,0,0,0,0,0,0,0,0,0,{"$f":"VLOOKUP(B6513*100+C6513,氏名データ!$AC$2:$AJ$401,2,0)","v":{"$error":"#N/A"}},null,0]
[0,0,0,0,0,0,0,0,0,0,0,{"$f":"VLOOKUP(B6514*100+C6514,氏名データ!$AC$2:$AJ$401,2,0)","v":{"$error":"#N/A"}},null,0]
[0,0,0,0,0,0,0,0,0,0,0,{"$f":"VLOOKUP(B6515*100+C6515,氏名データ!$AC$2:$AJ$401,2,0)","v":{"$error":"#N/A"}},null,0]
[0,0,0,0,0,0,0,0,0,0,0,{"$f":"VLOOKUP(B6516*100+C6516,氏名データ!$AC$2:$AJ$401,2,0)","v":{"$error":"#N/A"}},null,0]
[0,0,0,0,0,0,0,0,0,0,0,{"$f":"VLOOKUP(B6517*100+C6517,氏名データ!$AC$2:$AJ$401,2,0)","v":{"$error":"#N/A"}},null,0]
[0,0,0,0,0,0,0,0,0,0,0,{"$f":"VLOOKUP(B6518*100+C6518,氏名データ!$AC$2:$AJ$401,2,0)","v":{"$error":"#N/A"}},null,0]
[0,0,0,0,0,0,0,0,0,0,0,{"$f":"VLOOKUP(B6519*100+C6519,氏名データ!$AC$2:$AJ$401,2,0)","v":{"$error":"#N/A"}},null,0]
[0,0,0,0,0,0,0,0,0,0,0,{"$f":"VLOOKUP(B6520*100+C6520,氏名データ!$AC$2:$AJ$401,2,0)","v":{"$error":"#N/A"}},null,0]
[{"$f":"P6521","v":0},{"$f":"ROUNDDOWN(A6521/10000,0)","v":0},{"$f":"ROUNDDOWN((A6521-B6521*10000)/100,0)","v":0},{"$f":"Q6521","v":0},{"$f":"R6521","v":0},{"$f":"S6521","v":0},{"$f":"T6521","v":0},0,0,0,{"$f":"Y6521","v":0},{"$f":"VLOOKUP(B6521*100+C6521,氏名データ!$AC$2:$AJ$401,2,0)","v":{"$error":"#N/A"}},null,{"$f":"W6521","v":0}]
[0,0,0,0,0,0,0,0,0,0,0,{"$f":"VLOOKUP(B6522*100+C6522,氏名データ!$AC$2:$AJ$401,2,0)","v":{"$error":"#N/A"}},null,0]
[0,0,0,0,0,0,0,0,0,0,0,{"$f":"VLOOKUP(B6523*100+C6523,氏名データ!$AC$2:$AJ$401,2,0)","v":{"$error":"#N/A"}},null,0]
[0,0,0,0,0,0,0,0,0,0,0,{"$f":"VLOOKUP(B6524*100+C6524,氏名データ!$AC$2:$AJ$401,2,0)","v":{"$error":"#N/A"}},null,0]
[0,0,0,0,0,0,0,0,0,0,0,{"$f":"VLOOKUP(B6525*100+C6525,氏名データ!$AC$2:$AJ$401,2,0)","v":{"$error":"#N/A"}},null,0]
[0,0,0,0,0,0,0,0,0,0,0,{"$f":"VLOOKUP(B6526*100+C6526,氏名データ!$AC$2:$AJ$401,2,0)","v":{"$error":"#N/A"}},null,0]
[0,0,0,0,0,0,0,0,0,0,0,{"$f":"VLOOKUP(B6527*100+C6527,氏名データ!$AC$2:$AJ$401,2,0)","v":{"$error":"#N/A"}},null,0]
[0,0,0,0,0,0,0,0,0,0,0,{"$f":"VLOOKUP(B6528*100+C6528,氏名データ!$AC$2:$AJ$401,2,0)","v":{"$error":"#N/A"}},null,0]
[0,0,0,0,0,0,0,0,0,0,0,{"$f":"VLOOKUP(B6529*100+C6529,氏名データ!$AC$2:$AJ$401,2,0)","v":{"$error":"#N/A"}},null,0]
[0,0,0,0,0,0,0,0,0,0,0,{"$f":"VLOOKUP(B6530*100+C6530,氏名データ!$AC$2:$AJ$401,2,0)","v":{"$error":"#N/A"}},null,0]
[0,0,0,0,0,0,0,{"$f":"U6531","v":0},{"$f":"V6531","v":0},{"$f":"X6531","v":0},0,{"$f":"VLOOKUP(B6531*100+C6531,氏名データ!$AC$2:$AJ$401,2,0)","v":{"$error":"#N/A"}},null,0]
[0,0,0,0,0,0,0,0,0,0,0,{"$f":"VLOOKUP(B6532*100+C6532,氏名データ!$AC$2:$AJ$401,2,0)","v":{"$error":"#N/A"}},null,0]
[0,0,0,0,0,0,0,0,0,0,0,{"$f":"VLOOKUP(B6533*100+C6533,氏名データ!$AC$2:$AJ$401,2,0)","v":{"$error":"#N/A"}},null,0]
[0,0,0,0,0,0,0,0,0,0,0,{"$f":"VLOOKUP(B6534*100+C6534,氏名データ!$AC$2:$AJ$401,2,0)","v":{"$error":"#N/A"}},null,0]
[0,0,0,0,0,0,0,0,0,0,0,{"$f":"VLOOKUP(B6535*100+C6535,氏名データ!$AC$2:$AJ$401,2,0)","v":{"$error":"#N/A"}},null,0]
[0,0,0,0,0,0,0,0,0,0,0,{"$f":"VLOOKUP(B6536*100+C6536,氏名データ!$AC$2:$AJ$401,2,0)","v":{"$error":"#N/A"}},null,0]
[0,0,0,0,0,0,0,0,0,0,0,{"$f":"VLOOKUP(B6537*100+C6537,氏名データ!$AC$2:$AJ$401,2,0)","v":{"$error":"#N/A"}},null,0]
[0,0,0,0,0,0,0,0,0,0,0,{"$f":"VLOOKUP(B6538*100+C6538,氏名データ!$AC$2:$AJ$401,2,0)","v":{"$error":"#N/A"}},null,0]
[0,0,0,0,0,0,0,0,0,0,0,{"$f":"VLOOKUP(B6539*100+C6539,氏名データ!$AC$2:$AJ$401,2,0)","v":{"$error":"#N/A"}},null,0]
[0,0,0,0,0,0,0,0,0,0,0,{"$f":"VLOOKUP(B6540*100+C6540,氏名データ!$AC$2:$AJ$401,2,0)","v":{"$error":"#N/A"}},null,0]
[0,0,0,0,0,0,0,0,0,0,0,{"$f":"VLOOKUP(B6541*100+C6541,氏名データ!$AC$2:$AJ$401,2,0)","v":{"$error":"#N/A"}},null,0]
[0,0,0,0,0,0,0,0,0,0,0,{"$f":"VLOOKUP(B6542*100+C6542,氏名データ!$AC$2:$AJ$401,2,0)","v":{"$error":"#N/A"}},null,0]
[0,0,0,0,0,0,0,0,0,0,0,{"$f":"VLOOKUP(B6543*100+C6543,氏名データ!$AC$2:$AJ$401,2,0)","v":{"$error":"#N/A"}},null,0]
[0,0,0,0,0,0,0,0,0,0,0,{"$f":"VLOOKUP(B6544*100+C6544,氏名データ!$AC$2:$AJ$401,2,0)","v":{"$error":"#N/A"}},null,0]
[0,0,0,0,0,0,0,0,0,0,0,{"$f":"VLOOKUP(B6545*100+C6545,氏名データ!$AC$2:$AJ$401,2,0)","v":{"$error":"#N/A"}},null,0]
[0,0,0,0,0,0,0,0,0,0,0,{"$f":"VLOOKUP(B6546*100+C6546,氏名データ!$AC$2:$AJ$401,2,0)","v":{"$error":"#N/A"}},null,0]
[0,0,0,0,0,0,0,0,0,0,0,{"$f":"VLOOKUP(B6547*100+C6547,氏名データ!$AC$2:$AJ$401,2,0)","v":{"$error":"#N/A"}},null,0]
[0,0,0,0,0,0,0,0,0,0,0,{"$f":"VLOOKUP(B6548*100+C6548,氏名データ!$AC$2:$AJ$401,2,0)","v":{"$error":"#N/A"}},null,0]
[0,0,0,0,0,0,0,0,0,0,0,{"$f":"VLOOKUP(B6549*100+C6549,氏名データ!$AC$2:$AJ$401,2,0)","v":{"$error":"#N/A"}},null,0]
[0,0,0,0,0,0,0,0,0,0,0,{"$f":"VLOOKUP(B6550*100+C6550,氏名データ!$AC$2:$AJ$401,2,0)","v":{"$error":"#N/A"}},null,0]
[0,0,0,0,0,0,0,0,0,0,0,{"$f":"VLOOKUP(B6551*100+C6551,氏名データ!$AC$2:$AJ$401,2,0)","v":{"$error":"#N/A"}},null,0]
[0,0,0,0,0,0,0,0,0,0,0,{"$f":"VLOOKUP(B6552*100+C6552,氏名データ!$AC$2:$AJ$401,2,0)","v":{"$error":"#N/A"}},null,0]
[0,0,0,0,0,0,0,0,0,0,0,{"$f":"VLOOKUP(B6553*100+C6553,氏名データ!$AC$2:$AJ$401,2,0)","v":{"$error":"#N/A"}},null,0]
[0,0,0,0,0,0,0,0,0,0,0,{"$f":"VLOOKUP(B6554*100+C6554,氏名データ!$AC$2:$AJ$401,2,0)","v":{"$error":"#N/A"}},null,0]
[0,0,0,0,0,0,0,0,0,0,0,{"$f":"VLOOKUP(B6555*100+C6555,氏名データ!$AC$2:$AJ$401,2,0)","v":{"$error":"#N/A"}},null,0]
[0,0,0,0,0,0,0,0,0,0,0,{"$f":"VLOOKUP(B6556*100+C6556,氏名データ!$AC$2:$AJ$401,2,0)","v":{"$error":"#N/A"}},null,0]
[0,0,0,0,0,0,0,0,0,0,0,{"$f":"VLOOKUP(B6557*100+C6557,氏名データ!$AC$2:$AJ$401,2,0)","v":{"$error":"#N/A"}},null,0]
[0,0,0,0,0,0,0,0,0,0,0,{"$f":"VLOOKUP(B6558*100+C6558,氏名データ!$AC$2:$AJ$401,2,0)","v":{"$error":"#N/A"}},null,0]
[0,0,0,0,0,0,0,0,0,0,0,{"$f":"VLOOKUP(B6559*100+C6559,氏名データ!$AC$2:$AJ$401,2,0)","v":{"$error":"#N/A"}},null,0]
[0,0,0,0,0,0,0,0,0,0,0,{"$f":"VLOOKUP(B6560*100+C6560,氏名データ!$AC$2:$AJ$401,2,0)","v":{"$error":"#N/A"}},null,0]
[0,0,0,0,0,0,0,0,0,0,0,{"$f":"VLOOKUP(B6561*100+C6561,氏名データ!$AC$2:$AJ$401,2,0)","v":{"$error":"#N/A"}},null,0]
[0,0,0,0,0,0,0,0,0,0,0,{"$f":"VLOOKUP(B6562*100+C6562,氏名データ!$AC$2:$AJ$401,2,0)","v":{"$error":"#N/A"}},null,0]
[0,0,0,0,0,0,0,0,0,0,0,{"$f":"VLOOKUP(B6563*100+C6563,氏名データ!$AC$2:$AJ$401,2,0)","v":{"$error":"#N/A"}},null,0]
[0,0,0,0,0,0,0,0,0,0,0,{"$f":"VLOOKUP(B6564*100+C6564,氏名データ!$AC$2:$AJ$401,2,0)","v":{"$error":"#N/A"}},null,0]
[0,0,0,0,0,0,0,0,0,0,0,{"$f":"VLOOKUP(B6565*100+C6565,氏名データ!$AC$2:$AJ$401,2,0)","v":{"$error":"#N/A"}},null,0]
[0,0,0,0,0,0,0,0,0,0,0,{"$f":"VLOOKUP(B6566*100+C6566,氏名データ!$AC$2:$AJ$401,2,0)","v":{"$error":"#N/A"}},null,0]
[0,0,0,0,0,0,0,0,0,0,0,{"$f":"VLOOKUP(B6567*100+C6567,氏名データ!$AC$2:$AJ$401,2,0)","v":{"$error":"#N/A"}},null,0]
[0,0,0,0,0,0,0,0,0,0,0,{"$f":"VLOOKUP(B6568*100+C6568,氏名データ!$AC$2:$AJ$401,2,0)","v":{"$error":"#N/A"}},null,0]
[0,0,0,0,0,0,0,0,0,0,0,{"$f":"VLOOKUP(B6569*100+C6569,氏名データ!$AC$2:$AJ$401,2,0)","v":{"$error":"#N/A"}},null,0]
[0,0,0,0,0,0,0,0,0,0,0,{"$f":"VLOOKUP(B6570*100+C6570,氏名データ!$AC$2:$AJ$401,2,0)","v":{"$error":"#N/A"}},null,0]
[0,0,0,0,0,0,0,0,0,0,0,{"$f":"VLOOKUP(B6571*100+C6571,氏名データ!$AC$2:$AJ$401,2,0)","v":{"$error":"#N/A"}},null,0]
[0,0,0,0,0,0,0,0,0,0,0,{"$f":"VLOOKUP(B6572*100+C6572,氏名データ!$AC$2:$AJ$401,2,0)","v":{"$error":"#N/A"}},null,0]
[0,0,0,0,0,0,0,0,0,0,0,{"$f":"VLOOKUP(B6573*100+C6573,氏名データ!$AC$2:$AJ$401,2,0)","v":{"$error":"#N/A"}},null,0]
[0,0,0,0,0,0,0,0,0,0,0,{"$f":"VLOOKUP(B6574*100+C6574,氏名データ!$AC$2:$AJ$401,2,0)","v":{"$error":"#N/A"}},null,0]
[0,0,0,0,0,0,0,0,0,0,0,{"$f":"VLOOKUP(B6575*100+C6575,氏名データ!$AC$2:$AJ$401,2,0)","v":{"$error":"#N/A"}},null,0]
[0,0,0,0,0,0,0,0,0,0,0,{"$f":"VLOOKUP(B6576*100+C6576,氏名データ!$AC$2:$AJ$401,2,0)","v":{"$error":"#N/A"}},null,0]
[0,0,0,0,0,0,0,0,0,0,0,{"$f":"VLOOKUP(B6577*100+C6577,氏名データ!$AC$2:$AJ$401,2,0)","v":{"$error":"#N/A"}},null,0]
[0,0,0,0,0,0,0,0,0,0,0,{"$f":"VLOOKUP(B6578*100+C6578,氏名データ!$AC$2:$AJ$401,2,0)","v":{"$error":"#N/A"}},null,0]
[0,0,0,0,0,0,0,0,0,0,0,{"$f":"VLOOKUP(B6579*100+C6579,氏名データ!$AC$2:$AJ$401,2,0)","v":{"$error":"#N/A"}},null,0]
[0,0,0,0,0,0,0,0,0,0,0,{"$f":"VLOOKUP(B6580*100+C6580,氏名データ!$AC$2:$AJ$401,2,0)","v":{"$error":"#N/A"}},null,0]
[0,0,0,0,0,0,0,0,0,0,0,{"$f":"VLOOKUP(B6581*100+C6581,氏名データ!$AC$2:$AJ$401,2,0)","v":{"$error":"#N/A"}},null,0]
[0,0,0,0,0,0,0,0,0,0,0,{"$f":"VLOOKUP(B6582*100+C6582,氏名データ!$AC$2:$AJ$401,2,0)","v":{"$error":"#N/A"}},null,0]
[0,0,0,0,0,0,0,0,0,0,0,{"$f":"VLOOKUP(B6583*100+C6583,氏名データ!$AC$2:$AJ$401,2,0)","v":{"$error":"#N/A"}},null,0]
[0,0,0,0,0,0,0,0,0,0,0,{"$f":"VLOOKUP(B6584*100+C6584,氏名データ!$AC$2:$AJ$401,2,0)","v":{"$error":"#N/A"}},null,0]
[{"$f":"P6585","v":0},{"$f":"ROUNDDOWN(A6585/10000,0)","v":0},{"$f":"ROUNDDOWN((A6585-B6585*10000)/100,0)","v":0},{"$f":"Q6585","v":0},{"$f":"R6585","v":0},{"$f":"S6585","v":0},{"$f":"T6585","v":0},0,0,0,{"$f":"Y6585","v":0},{"$f":"VLOOKUP(B6585*100+C6585,氏名データ!$AC$2:$AJ$401,2,0)","v":{"$error":"#N/A"}},null,{"$f":"W6585","v":0}]
[0,0,0,0,0,0,0,0,0,0,0,{"$f":"VLOOKUP(B6586*100+C6586,氏名データ!$AC$2:$AJ$401,2,0)","v":{"$error":"#N/A"}},null,0]
[0,0,0,0,0,0,0,0,0,0,0,{"$f":"VLOOKUP(B6587*100+C6587,氏名データ!$AC$2:$AJ$401,2,0)","v":{"$error":"#N/A"}},null,0]
[0,0,0,0,0,0,0,0,0,0,0,{"$f":"VLOOKUP(B6588*100+C6588,氏名データ!$AC$2:$AJ$401,2,0)","v":{"$error":"#N/A"}},null,0]
[0,0,0,0,0,0,0,0,0,0,0,{"$f":"VLOOKUP(B6589*100+C6589,氏名データ!$AC$2:$AJ$401,2,0)","v":{"$error":"#N/A"}},null,0]
[0,0,0,0,0,0,0,0,0,0,0,{"$f":"VLOOKUP(B6590*100+C6590,氏名データ!$AC$2:$AJ$401,2,0)","v":{"$error":"#N/A"}},null,0]
[0,0,0,0,0,0,0,0,0,0,0,{"$f":"VLOOKUP(B6591*100+C6591,氏名データ!$AC$2:$AJ$401,2,0)","v":{"$error":"#N/A"}},null,0]
[0,0,0,0,0,0,0,0,0,0,0,{"$f":"VLOOKUP(B6592*100+C6592,氏名データ!$AC$2:$AJ$401,2,0)","v":{"$error":"#N/A"}},null,0]
[0,0,0,0,0,0,0,0,0,0,0,{"$f":"VLOOKUP(B6593*100+C6593,氏名データ!$AC$2:$AJ$401,2,0)","v":{"$error":"#N/A"}},null,0]
[0,0,0,0,0,0,0,0,0,0,0,{"$f":"VLOOKUP(B6594*100+C6594,氏名データ!$AC$2:$AJ$401,2,0)","v":{"$error":"#N/A"}},null,0]
[0,0,0,0,0,0,0,{"$f":"U6595","v":0},{"$f":"V6595","v":0},{"$f":"X6595","v":0},0,{"$f":"VLOOKUP(B6595*100+C6595,氏名データ!$AC$2:$AJ$401,2,0)","v":{"$error":"#N/A"}},null,0]
[0,0,0,0,0,0,0,0,0,0,0,{"$f":"VLOOKUP(B6596*100+C6596,氏名データ!$AC$2:$AJ$401,2,0)","v":{"$error":"#N/A"}},null,0]
[0,0,0,0,0,0,0,0,0,0,0,{"$f":"VLOOKUP(B6597*100+C6597,氏名データ!$AC$2:$AJ$401,2,0)","v":{"$error":"#N/A"}},null,0]
[0,0,0,0,0,0,0,0,0,0,0,{"$f":"VLOOKUP(B6598*100+C6598,氏名データ!$AC$2:$AJ$401,2,0)","v":{"$error":"#N/A"}},null,0]
[0,0,0,0,0,0,0,0,0,0,0,{"$f":"VLOOKUP(B6599*100+C6599,氏名データ!$AC$2:$AJ$401,2,0)","v":{"$error":"#N/A"}},null,0]
[0,0,0,0,0,0,0,0,0,0,0,{"$f":"VLOOKUP(B6600*100+C6600,氏名データ!$AC$2:$AJ$401,2,0)","v":{"$error":"#N/A"}},null,0]
[0,0,0,0,0,0,0,0,0,0,0,{"$f":"VLOOKUP(B6601*100+C6601,氏名データ!$AC$2:$AJ$401,2,0)","v":{"$error":"#N/A"}},null,0]
[0,0,0,0,0,0,0,0,0,0,0,{"$f":"VLOOKUP(B6602*100+C6602,氏名データ!$AC$2:$AJ$401,2,0)","v":{"$error":"#N/A"}},null,0]
[0,0,0,0,0,0,0,0,0,0,0,{"$f":"VLOOKUP(B6603*100+C6603,氏名データ!$AC$2:$AJ$401,2,0)","v":{"$error":"#N/A"}},null,0]
[0,0,0,0,0,0,0,0,0,0,0,{"$f":"VLOOKUP(B6604*100+C6604,氏名データ!$AC$2:$AJ$401,2,0)","v":{"$error":"#N/A"}},null,0]
[0,0,0,0,0,0,0,0,0,0,0,{"$f":"VLOOKUP(B6605*100+C6605,氏名データ!$AC$2:$AJ$401,2,0)","v":{"$error":"#N/A"}},null,0]
[0,0,0,0,0,0,0,0,0,0,0,{"$f":"VLOOKUP(B6606*100+C6606,氏名データ!$AC$2:$AJ$401,2,0)","v":{"$error":"#N/A"}},null,0]
[0,0,0,0,0,0,0,0,0,0,0,{"$f":"VLOOKUP(B6607*100+C6607,氏名データ!$AC$2:$AJ$401,2,0)","v":{"$error":"#N/A"}},null,0]
[0,0,0,0,0,0,0,0,0,0,0,{"$f":"VLOOKUP(B6608*100+C6608,氏名データ!$AC$2:$AJ$401,2,0)","v":{"$error":"#N/A"}},null,0]
[0,0,0,0,0,0,0,0,0,0,0,{"$f":"VLOOKUP(B6609*100+C6609,氏名データ!$AC$2:$AJ$401,2,0)","v":{"$error":"#N/A"}},null,0]
[0,0,0,0,0,0,0,0,0,0,0,{"$f":"VLOOKUP(B6610*100+C6610,氏名データ!$AC$2:$AJ$401,2,0)","v":{"$error":"#N/A"}},null,0]
[0,0,0,0,0,0,0,0,0,0,0,{"$f":"VLOOKUP(B6611*100+C6611,氏名データ!$AC$2:$AJ$401,2,0)","v":{"$error":"#N/A"}},null,0]
[0,0,0,0,0,0,0,0,0,0,0,{"$f":"VLOOKUP(B6612*100+C6612,氏名データ!$AC$2:$AJ$401,2,0)","v":{"$error":"#N/A"}},null,0]
[0,0,0,0,0,0,0,0,0,0,0,{"$f":"VLOOKUP(B6613*100+C6613,氏名データ!$AC$2:$AJ$401,2,0)","v":{"$error":"#N/A"}},null,0]
[0,0,0,0,0,0,0,0,0,0,0,{"$f":"VLOOKUP(B6614*100+C6614,氏名データ!$AC$2:$AJ$401,2,0)","v":{"$error":"#N/A"}},null,0]
[0,0,0,0,0,0,0,0,0,0,0,{"$f":"VLOOKUP(B6615*100+C6615,氏名データ!$AC$2:$AJ$401,2,0)","v":{"$error":"#N/A"}},null,0]
[0,0,0,0,0,0,0,0,0,0,0,{"$f":"VLOOKUP(B6616*100+C6616,氏名データ!$AC$2:$AJ$401,2,0)","v":{"$error":"#N/A"}},null,0]
[0,0,0,0,0,0,0,0,0,0,0,{"$f":"VLOOKUP(B6617*100+C6617,氏名データ!$AC$2:$AJ$401,2,0)","v":{"$error":"#N/A"}},null,0]
[0,0,0,0,0,0,0,0,0,0,0,{"$f":"VLOOKUP(B6618*100+C6618,氏名データ!$AC$2:$AJ$401,2,0)","v":{"$error":"#N/A"}},null,0]
[0,0,0,0,0,0,0,0,0,0,0,{"$f":"VLOOKUP(B6619*100+C6619,氏名データ!$AC$2:$AJ$401,2,0)","v":{"$error":"#N/A"}},null,0]
[0,0,0,0,0,0,0,0,0,0,0,{"$f":"VLOOKUP(B6620*100+C6620,氏名データ!$AC$2:$AJ$401,2,0)","v":{"$error":"#N/A"}},null,0]
[0,0,0,0,0,0,0,0,0,0,0,{"$f":"VLOOKUP(B6621*100+C6621,氏名データ!$AC$2:$AJ$401,2,0)","v":{"$error":"#N/A"}},null,0]
[0,0,0,0,0,0,0,0,0,0,0,{"$f":"VLOOKUP(B6622*100+C6622,氏名データ!$AC$2:$AJ$401,2,0)","v":{"$error":"#N/A"}},null,0]
[0,0,0,0,0,0,0,0,0,0,0,{"$f":"VLOOKUP(B6623*100+C6623,氏名データ!$AC$2:$AJ$401,2,0)","v":{"$error":"#N/A"}},null,0]
[0,0,0,0,0,0,0,0,0,0,0,{"$f":"VLOOKUP(B6624*100+C6624,氏名データ!$AC$2:$AJ$401,2,0)","v":{"$error":"#N/A"}},null,0]
[0,0,0,0,0,0,0,0,0,0,0,{"$f":"VLOOKUP(B6625*100+C6625,氏名データ!$AC$2:$AJ$401,2,0)","v":{"$error":"#N/A"}},null,0]
[0,0,0,0,0,0,0,0,0,0,0,{"$f":"VLOOKUP(B6626*100+C6626,氏名データ!$AC$2:$AJ$401,2,0)","v":{"$error":"#N/A"}},null,0]
[0,0,0,0,0,0,0,0,0,0,0,{"$f":"VLOOKUP(B6627*100+C6627,氏名データ!$AC$2:$AJ$401,2,0)","v":{"$error":"#N/A"}},null,0]
[0,0,0,0,0,0,0,0,0,0,0,{"$f":"VLOOKUP(B6628*100+C6628,氏名データ!$AC$2:$AJ$401,2,0)","v":{"$error":"#N/A"}},null,0]
[0,0,0,0,0,0,0,0,0,0,0,{"$f":"VLOOKUP(B6629*100+C6629,氏名データ!$AC$2:$AJ$401,2,0)","v":{"$error":"#N/A"}},null,0]
[0,0,0,0,0,0,0,0,0,0,0,{"$f":"VLOOKUP(B6630*100+C6630,氏名データ!$AC$2:$AJ$401,2,0)","v":{"$error":"#N/A"}},null,0]
[0,0,0,0,0,0,0,0,0,0,0,{"$f":"VLOOKUP(B6631*100+C6631,氏名データ!$AC$2:$AJ$401,2,0)","v":{"$error":"#N/A"}},null,0]
[0,0,0,0,0,0,0,0,0,0,0,{"$f":"VLOOKUP(B6632*100+C6632,氏名データ!$AC$2:$AJ$401,2,0)","v":{"$error":"#N/A"}},null,0]
[0,0,0,0,0,0,0,0,0,0,0,{"$f":"VLOOKUP(B6633*100+C6633,氏名データ!$AC$2:$AJ$401,2,0)","v":{"$error":"#N/A"}},null,0]
[0,0,0,0,0,0,0,0,0,0,0,{"$f":"VLOOKUP(B6634*100+C6634,氏名データ!$AC$2:$AJ$401,2,0)","v":{"$error":"#N/A"}},null,0]
[0,0,0,0,0,0,0,0,0,0,0,{"$f":"VLOOKUP(B6635*100+C6635,氏名データ!$AC$2:$AJ$401,2,0)","v":{"$error":"#N/A"}},null,0]
[0,0,0,0,0,0,0,0,0,0,0,{"$f":"VLOOKUP(B6636*100+C6636,氏名データ!$AC$2:$AJ$401,2,0)","v":{"$error":"#N/A"}},null,0]
[0,0,0,0,0,0,0,0,0,0,0,{"$f":"VLOOKUP(B6637*100+C6637,氏名データ!$AC$2:$AJ$401,2,0)","v":{"$error":"#N/A"}},null,0]
[0,0,0,0,0,0,0,0,0,0,0,{"$f":"VLOOKUP(B6638*100+C6638,氏名データ!$AC$2:$AJ$401,2,0)","v":{"$error":"#N/A"}},null,0]
[0,0,0,0,0,0,0,0,0,0,0,{"$f":"VLOOKUP(B6639*100+C6639,氏名データ!$AC$2:$AJ$401,2,0)","v":{"$error":"#N/A"}},null,0]
[0,0,0,0,0,0,0,0,0,0,0,{"$f":"VLOOKUP(B6640*100+C6640,氏名データ!$AC$2:$AJ$401,2,0)","v":{"$error":"#N/A"}},null,0]
[0,0,0,0,0,0,0,0,0,0,0,{"$f":"VLOOKUP(B6641*100+C6641,氏名データ!$AC$2:$AJ$401,2,0)","v":{"$error":"#N/A"}},null,0]
[0,0,0,0,0,0,0,0,0,0,0,{"$f":"VLOOKUP(B6642*100+C6642,氏名データ!$AC$2:$AJ$401,2,0)","v":{"$error":"#N/A"}},null,0]
[0,0,0,0,0,0,0,0,0,0,0,{"$f":"VLOOKUP(B6643*100+C6643,氏名データ!$AC$2:$AJ$401,2,0)","v":{"$error":"#N/A"}},null,0]
[0,0,0,0,0,0,0,0,0,0,0,{"$f":"VLOOKUP(B6644*100+C6644,氏名データ!$AC$2:$AJ$401,2,0)","v":{"$error":"#N/A"}},null,0]
[0,0,0,0,0,0,0,0,0,0,0,{"$f":"VLOOKUP(B6645*100+C6645,氏名データ!$AC$2:$AJ$401,2,0)","v":{"$error":"#N/A"}},null,0]
[0,0,0,0,0,0,0,0,0,0,0,{"$f":"VLOOKUP(B6646*100+C6646,氏名データ!$AC$2:$AJ$401,2,0)","v":{"$error":"#N/A"}},null,0]
[0,0,0,0,0,0,0,0,0,0,0,{"$f":"VLOOKUP(B6647*100+C6647,氏名データ!$AC$2:$AJ$401,2,0)","v":{"$error":"#N/A"}},null,0]
[0,0,0,0,0,0,0,0,0,0,0,{"$f":"VLOOKUP(B6648*100+C6648,氏名データ!$AC$2:$AJ$401,2,0)","v":{"$error":"#N/A"}},null,0]
[{"$f":"P6649","v":0},{"$f":"ROUNDDOWN(A6649/10000,0)","v":0},{"$f":"ROUNDDOWN((A6649-B6649*10000)/100,0)","v":0},{"$f":"Q6649","v":0},{"$f":"R6649","v":0},{"$f":"S6649","v":0},{"$f":"T6649","v":0},0,0,0,{"$f":"Y6649","v":0},{"$f":"VLOOKUP(B6649*100+C6649,氏名データ!$AC$2:$AJ$401,2,0)","v":{"$error":"#N/A"}},null,{"$f":"W6649","v":0}]
[0,0,0,0,0,0,0,0,0,0,0,{"$f":"VLOOKUP(B6650*100+C6650,氏名データ!$AC$2:$AJ$401,2,0)","v":{"$error":"#N/A"}},null,0]
[0,0,0,0,0,0,0,0,0,0,0,{"$f":"VLOOKUP(B6651*100+C6651,氏名データ!$AC$2:$AJ$401,2,0)","v":{"$error":"#N/A"}},null,0]
[0,0,0,0,0,0,0,0,0,0,0,{"$f":"VLOOKUP(B6652*100+C6652,氏名データ!$AC$2:$AJ$401,2,0)","v":{"$error":"#N/A"}},null,0]
[0,0,0,0,0,0,0,0,0,0,0,{"$f":"VLOOKUP(B6653*100+C6653,氏名データ!$AC$2:$AJ$401,2,0)","v":{"$error":"#N/A"}},null,0]
[0,0,0,0,0,0,0,0,0,0,0,{"$f":"VLOOKUP(B6654*100+C6654,氏名データ!$AC$2:$AJ$401,2,0)","v":{"$error":"#N/A"}},null,0]
[0,0,0,0,0,0,0,0,0,0,0,{"$f":"VLOOKUP(B6655*100+C6655,氏名データ!$AC$2:$AJ$401,2,0)","v":{"$error":"#N/A"}},null,0]
[0,0,0,0,0,0,0,0,0,0,0,{"$f":"VLOOKUP(B6656*100+C6656,氏名データ!$AC$2:$AJ$401,2,0)","v":{"$error":"#N/A"}},null,0]
[0,0,0,0,0,0,0,0,0,0,0,{"$f":"VLOOKUP(B6657*100+C6657,氏名データ!$AC$2:$AJ$401,2,0)","v":{"$error":"#N/A"}},null,0]
[0,0,0,0,0,0,0,0,0,0,0,{"$f":"VLOOKUP(B6658*100+C6658,氏名データ!$AC$2:$AJ$401,2,0)","v":{"$error":"#N/A"}},null,0]
[0,0,0,0,0,0,0,{"$f":"U6659","v":0},{"$f":"V6659","v":0},{"$f":"X6659","v":0},0,{"$f":"VLOOKUP(B6659*100+C6659,氏名データ!$AC$2:$AJ$401,2,0)","v":{"$error":"#N/A"}},null,0]
[0,0,0,0,0,0,0,0,0,0,0,{"$f":"VLOOKUP(B6660*100+C6660,氏名データ!$AC$2:$AJ$401,2,0)","v":{"$error":"#N/A"}},null,0]
[0,0,0,0,0,0,0,0,0,0,0,{"$f":"VLOOKUP(B6661*100+C6661,氏名データ!$AC$2:$AJ$401,2,0)","v":{"$error":"#N/A"}},null,0]
[0,0,0,0,0,0,0,0,0,0,0,{"$f":"VLOOKUP(B6662*100+C6662,氏名データ!$AC$2:$AJ$401,2,0)","v":{"$error":"#N/A"}},null,0]
[0,0,0,0,0,0,0,0,0,0,0,{"$f":"VLOOKUP(B6663*100+C6663,氏名データ!$AC$2:$AJ$401,2,0)","v":{"$error":"#N/A"}},null,0]
[0,0,0,0,0,0,0,0,0,0,0,{"$f":"VLOOKUP(B6664*100+C6664,氏名データ!$AC$2:$AJ$401,2,0)","v":{"$error":"#N/A"}},null,0]
[0,0,0,0,0,0,0,0,0,0,0,{"$f":"VLOOKUP(B6665*100+C6665,氏名データ!$AC$2:$AJ$401,2,0)","v":{"$error":"#N/A"}},null,0]
[0,0,0,0,0,0,0,0,0,0,0,{"$f":"VLOOKUP(B6666*100+C6666,氏名データ!$AC$2:$AJ$401,2,0)","v":{"$error":"#N/A"}},null,0]
[0,0,0,0,0,0,0,0,0,0,0,{"$f":"VLOOKUP(B6667*100+C6667,氏名データ!$AC$2:$AJ$401,2,0)","v":{"$error":"#N/A"}},null,0]
[0,0,0,0,0,0,0,0,0,0,0,{"$f":"VLOOKUP(B6668*100+C6668,氏名データ!$AC$2:$AJ$401,2,0)","v":{"$error":"#N/A"}},null,0]
[0,0,0,0,0,0,0,0,0,0,0,{"$f":"VLOOKUP(B6669*100+C6669,氏名データ!$AC$2:$AJ$401,2,0)","v":{"$error":"#N/A"}},null,0]
[0,0,0,0,0,0,0,0,0,0,0,{"$f":"VLOOKUP(B6670*100+C6670,氏名データ!$AC$2:$AJ$401,2,0)","v":{"$error":"#N/A"}},null,0]
[0,0,0,0,0,0,0,0,0,0,0,{"$f":"VLOOKUP(B6671*100+C6671,氏名データ!$AC$2:$AJ$401,2,0)","v":{"$error":"#N/A"}},null,0]
[0,0,0,0,0,0,0,0,0,0,0,{"$f":"VLOOKUP(B6672*100+C6672,氏名データ!$AC$2:$AJ$401,2,0)","v":{"$error":"#N/A"}},null,0]
[0,0,0,0,0,0,0,0,0,0,0,{"$f":"VLOOKUP(B6673*100+C6673,氏名データ!$AC$2:$AJ$401,2,0)","v":{"$error":"#N/A"}},null,0]
[0,0,0,0,0,0,0,0,0,0,0,{"$f":"VLOOKUP(B6674*100+C6674,氏名データ!$AC$2:$AJ$401,2,0)","v":{"$error":"#N/A"}},null,0]
[0,0,0,0,0,0,0,0,0,0,0,{"$f":"VLOOKUP(B6675*100+C6675,氏名データ!$AC$2:$AJ$401,2,0)","v":{"$error":"#N/A"}},null,0]
[0,0,0,0,0,0,0,0,0,0,0,{"$f":"VLOOKUP(B6676*100+C6676,氏名データ!$AC$2:$AJ$401,2,0)","v":{"$error":"#N/A"}},null,0]
[0,0,0,0,0,0,0,0,0,0,0,{"$f":"VLOOKUP(B6677*100+C6677,氏名データ!$AC$2:$AJ$401,2,0)","v":{"$error":"#N/A"}},null,0]
[0,0,0,0,0,0,0,0,0,0,0,{"$f":"VLOOKUP(B6678*100+C6678,氏名データ!$AC$2:$AJ$401,2,0)","v":{"$error":"#N/A"}},null,0]
[0,0,0,0,0,0,0,0,0,0,0,{"$f":"VLOOKUP(B6679*100+C6679,氏名データ!$AC$2:$AJ$401,2,0)","v":{"$error":"#N/A"}},null,0]
[0,0,0,0,0,0,0,0,0,0,0,{"$f":"VLOOKUP(B6680*100+C6680,氏名データ!$AC$2:$AJ$401,2,0)","v":{"$error":"#N/A"}},null,0]
[0,0,0,0,0,0,0,0,0,0,0,{"$f":"VLOOKUP(B6681*100+C6681,氏名データ!$AC$2:$AJ$401,2,0)","v":{"$error":"#N/A"}},null,0]
[0,0,0,0,0,0,0,0,0,0,0,{"$f":"VLOOKUP(B6682*100+C6682,氏名データ!$AC$2:$AJ$401,2,0)","v":{"$error":"#N/A"}},null,0]
[0,0,0,0,0,0,0,0,0,0,0,{"$f":"VLOOKUP(B6683*100+C6683,氏名データ!$AC$2:$AJ$401,2,0)","v":{"$error":"#N/A"}},null,0]
[0,0,0,0,0,0,0,0,0,0,0,{"$f":"VLOOKUP(B6684*100+C6684,氏名データ!$AC$2:$AJ$401,2,0)","v":{"$error":"#N/A"}},null,0]
[0,0,0,0,0,0,0,0,0,0,0,{"$f":"VLOOKUP(B6685*100+C6685,氏名データ!$AC$2:$AJ$401,2,0)","v":{"$error":"#N/A"}},null,0]
[0,0,0,0,0,0,0,0,0,0,0,{"$f":"VLOOKUP(B6686*100+C6686,氏名データ!$AC$2:$AJ$401,2,0)","v":{"$error":"#N/A"}},null,0]
[0,0,0,0,0,0,0,0,0,0,0,{"$f":"VLOOKUP(B6687*100+C6687,氏名データ!$AC$2:$AJ$401,2,0)","v":{"$error":"#N/A"}},null,0]
[0,0,0,0,0,0,0,0,0,0,0,{"$f":"VLOOKUP(B6688*100+C6688,氏名データ!$AC$2:$AJ$401,2,0)","v":{"$error":"#N/A"}},null,0]
[0,0,0,0,0,0,0,0,0,0,0,{"$f":"VLOOKUP(B6689*100+C6689,氏名データ!$AC$2:$AJ$401,2,0)","v":{"$error":"#N/A"}},null,0]
[0,0,0,0,0,0,0,0,0,0,0,{"$f":"VLOOKUP(B6690*100+C6690,氏名データ!$AC$2:$AJ$401,2,0)","v":{"$error":"#N/A"}},null,0]
[0,0,0,0,0,0,0,0,0,0,0,{"$f":"VLOOKUP(B6691*100+C6691,氏名データ!$AC$2:$AJ$401,2,0)","v":{"$error":"#N/A"}},null,0]
[0,0,0,0,0,0,0,0,0,0,0,{"$f":"VLOOKUP(B6692*100+C6692,氏名データ!$AC$2:$AJ$401,2,0)","v":{"$error":"#N/A"}},null,0]
[0,0,0,0,0,0,0,0,0,0,0,{"$f":"VLOOKUP(B6693*100+C6693,氏名データ!$AC$2:$AJ$401,2,0)","v":{"$error":"#N/A"}},null,0]
[0,0,0,0,0,0,0,0,0,0,0,{"$f":"VLOOKUP(B6694*100+C6694,氏名データ!$AC$2:$AJ$401,2,0)","v":{"$error":"#N/A"}},null,0]
[0,0,0,0,0,0,0,0,0,0,0,{"$f":"VLOOKUP(B6695*100+C6695,氏名データ!$AC$2:$AJ$401,2,0)","v":{"$error":"#N/A"}},null,0]
[0,0,0,0,0,0,0,0,0,0,0,{"$f":"VLOOKUP(B6696*100+C6696,氏名データ!$AC$2:$AJ$401,2,0)","v":{"$error":"#N/A"}},null,0]
[0,0,0,0,0,0,0,0,0,0,0,{"$f":"VLOOKUP(B6697*100+C6697,氏名データ!$AC$2:$AJ$401,2,0)","v":{"$error":"#N/A"}},null,0]
[0,0,0,0,0,0,0,0,0,0,0,{"$f":"VLOOKUP(B6698*100+C6698,氏名データ!$AC$2:$AJ$401,2,0)","v":{"$error":"#N/A"}},null,0]
[0,0,0,0,0,0,0,0,0,0,0,{"$f":"VLOOKUP(B6699*100+C6699,氏名データ!$AC$2:$AJ$401,2,0)","v":{"$error":"#N/A"}},null,0]
[0,0,0,0,0,0,0,0,0,0,0,{"$f":"VLOOKUP(B6700*100+C6700,氏名データ!$AC$2:$AJ$401,2,0)","v":{"$error":"#N/A"}},null,0]
[0,0,0,0,0,0,0,0,0,0,0,{"$f":"VLOOKUP(B6701*100+C6701,氏名データ!$AC$2:$AJ$401,2,0)","v":{"$error":"#N/A"}},null,0]
[0,0,0,0,0,0,0,0,0,0,0,{"$f":"VLOOKUP(B6702*100+C6702,氏名データ!$AC$2:$AJ$401,2,0)","v":{"$error":"#N/A"}},null,0]
[0,0,0,0,0,0,0,0,0,0,0,{"$f":"VLOOKUP(B6703*100+C6703,氏名データ!$AC$2:$AJ$401,2,0)","v":{"$error":"#N/A"}},null,0]
[0,0,0,0,0,0,0,0,0,0,0,{"$f":"VLOOKUP(B6704*100+C6704,氏名データ!$AC$2:$AJ$401,2,0)","v":{"$error":"#N/A"}},null,0]
[0,0,0,0,0,0,0,0,0,0,0,{"$f":"VLOOKUP(B6705*100+C6705,氏名データ!$AC$2:$AJ$401,2,0)","v":{"$error":"#N/A"}},null,0]
[0,0,0,0,0,0,0,0,0,0,0,{"$f":"VLOOKUP(B6706*100+C6706,氏名データ!$AC$2:$AJ$401,2,0)","v":{"$error":"#N/A"}},null,0]
[0,0,0,0,0,0,0,0,0,0,0,{"$f":"VLOOKUP(B6707*100+C6707,氏名データ!$AC$2:$AJ$401,2,0)","v":{"$error":"#N/A"}},null,0]
[0,0,0,0,0,0,0,0,0,0,0,{"$f":"VLOOKUP(B6708*100+C6708,氏名データ!$AC$2:$AJ$401,2,0)","v":{"$error":"#N/A"}},null,0]
[0,0,0,0,0,0,0,0,0,0,0,{"$f":"VLOOKUP(B6709*100+C6709,氏名データ!$AC$2:$AJ$401,2,0)","v":{"$error":"#N/A"}},null,0]
[0,0,0,0,0,0,0,0,0,0,0,{"$f":"VLOOKUP(B6710*100+C6710,氏名データ!$AC$2:$AJ$401,2,0)","v":{"$error":"#N/A"}},null,0]
[0,0,0,0,0,0,0,0,0,0,0,{"$f":"VLOOKUP(B6711*100+C6711,氏名データ!$AC$2:$AJ$401,2,0)","v":{"$error":"#N/A"}},null,0]
[0,0,0,0,0,0,0,0,0,0,0,{"$f":"VLOOKUP(B6712*100+C6712,氏名データ!$AC$2:$AJ$401,2,0)","v":{"$error":"#N/A"}},null,0]
[{"$f":"P6713","v":0},{"$f":"ROUNDDOWN(A6713/10000,0)","v":0},{"$f":"ROUNDDOWN((A6713-B6713*10000)/100,0)","v":0},{"$f":"Q6713","v":0},{"$f":"R6713","v":0},{"$f":"S6713","v":0},{"$f":"T6713","v":0},0,0,0,{"$f":"Y6713","v":0},{"$f":"VLOOKUP(B6713*100+C6713,氏名データ!$AC$2:$AJ$401,2,0)","v":{"$error":"#N/A"}},null,{"$f":"W6713","v":0}]
[0,0,0,0,0,0,0,0,0,0,0,{"$f":"VLOOKUP(B6714*100+C6714,氏名データ!$AC$2:$AJ$401,2,0)","v":{"$error":"#N/A"}},null,0]
[0,0,0,0,0,0,0,0,0,0,0,{"$f":"VLOOKUP(B6715*100+C6715,氏名データ!$AC$2:$AJ$401,2,0)","v":{"$error":"#N/A"}},null,0]
[0,0,0,0,0,0,0,0,0,0,0,{"$f":"VLOOKUP(B6716*100+C6716,氏名データ!$AC$2:$AJ$401,2,0)","v":{"$error":"#N/A"}},null,0]
[0,0,0,0,0,0,0,0,0,0,0,{"$f":"VLOOKUP(B6717*100+C6717,氏名データ!$AC$2:$AJ$401,2,0)","v":{"$error":"#N/A"}},null,0]
[0,0,0,0,0,0,0,0,0,0,0,{"$f":"VLOOKUP(B6718*100+C6718,氏名データ!$AC$2:$AJ$401,2,0)","v":{"$error":"#N/A"}},null,0]
[0,0,0,0,0,0,0,0,0,0,0,{"$f":"VLOOKUP(B6719*100+C6719,氏名データ!$AC$2:$AJ$401,2,0)","v":{"$error":"#N/A"}},null,0]
[0,0,0,0,0,0,0,0,0,0,0,{"$f":"VLOOKUP(B6720*100+C6720,氏名データ!$AC$2:$AJ$401,2,0)","v":{"$error":"#N/A"}},null,0]
[0,0,0,0,0,0,0,0,0,0,0,{"$f":"VLOOKUP(B6721*100+C6721,氏名データ!$AC$2:$AJ$401,2,0)","v":{"$error":"#N/A"}},null,0]
[0,0,0,0,0,0,0,0,0,0,0,{"$f":"VLOOKUP(B6722*100+C6722,氏名データ!$AC$2:$AJ$401,2,0)","v":{"$error":"#N/A"}},null,0]
[0,0,0,0,0,0,0,{"$f":"U6723","v":0},{"$f":"V6723","v":0},{"$f":"X6723","v":0},0,{"$f":"VLOOKUP(B6723*100+C6723,氏名データ!$AC$2:$AJ$401,2,0)","v":{"$error":"#N/A"}},null,0]
[0,0,0,0,0,0,0,0,0,0,0,{"$f":"VLOOKUP(B6724*100+C6724,氏名データ!$AC$2:$AJ$401,2,0)","v":{"$error":"#N/A"}},null,0]
[0,0,0,0,0,0,0,0,0,0,0,{"$f":"VLOOKUP(B6725*100+C6725,氏名データ!$AC$2:$AJ$401,2,0)","v":{"$error":"#N/A"}},null,0]
[0,0,0,0,0,0,0,0,0,0,0,{"$f":"VLOOKUP(B6726*100+C6726,氏名データ!$AC$2:$AJ$401,2,0)","v":{"$error":"#N/A"}},null,0]
[0,0,0,0,0,0,0,0,0,0,0,{"$f":"VLOOKUP(B6727*100+C6727,氏名データ!$AC$2:$AJ$401,2,0)","v":{"$error":"#N/A"}},null,0]
[0,0,0,0,0,0,0,0,0,0,0,{"$f":"VLOOKUP(B6728*100+C6728,氏名データ!$AC$2:$AJ$401,2,0)","v":{"$error":"#N/A"}},null,0]
[0,0,0,0,0,0,0,0,0,0,0,{"$f":"VLOOKUP(B6729*100+C6729,氏名データ!$AC$2:$AJ$401,2,0)","v":{"$error":"#N/A"}},null,0]
[0,0,0,0,0,0,0,0,0,0,0,{"$f":"VLOOKUP(B6730*100+C6730,氏名データ!$AC$2:$AJ$401,2,0)","v":{"$error":"#N/A"}},null,0]
[0,0,0,0,0,0,0,0,0,0,0,{"$f":"VLOOKUP(B6731*100+C6731,氏名データ!$AC$2:$AJ$401,2,0)","v":{"$error":"#N/A"}},null,0]
[0,0,0,0,0,0,0,0,0,0,0,{"$f":"VLOOKUP(B6732*100+C6732,氏名データ!$AC$2:$AJ$401,2,0)","v":{"$error":"#N/A"}},null,0]
[0,0,0,0,0,0,0,0,0,0,0,{"$f":"VLOOKUP(B6733*100+C6733,氏名データ!$AC$2:$AJ$401,2,0)","v":{"$error":"#N/A"}},null,0]
[0,0,0,0,0,0,0,0,0,0,0,{"$f":"VLOOKUP(B6734*100+C6734,氏名データ!$AC$2:$AJ$401,2,0)","v":{"$error":"#N/A"}},null,0]
[0,0,0,0,0,0,0,0,0,0,0,{"$f":"VLOOKUP(B6735*100+C6735,氏名データ!$AC$2:$AJ$401,2,0)","v":{"$error":"#N/A"}},null,0]
[0,0,0,0,0,0,0,0,0,0,0,{"$f":"VLOOKUP(B6736*100+C6736,氏名データ!$AC$2:$AJ$401,2,0)","v":{"$error":"#N/A"}},null,0]
[0,0,0,0,0,0,0,0,0,0,0,{"$f":"VLOOKUP(B6737*100+C6737,氏名データ!$AC$2:$AJ$401,2,0)","v":{"$error":"#N/A"}},null,0]
[0,0,0,0,0,0,0,0,0,0,0,{"$f":"VLOOKUP(B6738*100+C6738,氏名データ!$AC$2:$AJ$401,2,0)","v":{"$error":"#N/A"}},null,0]
[0,0,0,0,0,0,0,0,0,0,0,{"$f":"VLOOKUP(B6739*100+C6739,氏名データ!$AC$2:$AJ$401,2,0)","v":{"$error":"#N/A"}},null,0]
[0,0,0,0,0,0,0,0,0,0,0,{"$f":"VLOOKUP(B6740*100+C6740,氏名データ!$AC$2:$AJ$401,2,0)","v":{"$error":"#N/A"}},null,0]
[0,0,0,0,0,0,0,0,0,0,0,{"$f":"VLOOKUP(B6741*100+C6741,氏名データ!$AC$2:$AJ$401,2,0)","v":{"$error":"#N/A"}},null,0]
[0,0,0,0,0,0,0,0,0,0,0,{"$f":"VLOOKUP(B6742*100+C6742,氏名データ!$AC$2:$AJ$401,2,0)","v":{"$error":"#N/A"}},null,0]
[0,0,0,0,0,0,0,0,0,0,0,{"$f":"VLOOKUP(B6743*100+C6743,氏名データ!$AC$2:$AJ$401,2,0)","v":{"$error":"#N/A"}},null,0]
[0,0,0,0,0,0,0,0,0,0,0,{"$f":"VLOOKUP(B6744*100+C6744,氏名データ!$AC$2:$AJ$401,2,0)","v":{"$error":"#N/A"}},null,0]
[0,0,0,0,0,0,0,0,0,0,0,{"$f":"VLOOKUP(B6745*100+C6745,氏名データ!$AC$2:$AJ$401,2,0)","v":{"$error":"#N/A"}},null,0]
[0,0,0,0,0,0,0,0,0,0,0,{"$f":"VLOOKUP(B6746*100+C6746,氏名データ!$AC$2:$AJ$401,2,0)","v":{"$error":"#N/A"}},null,0]
[0,0,0,0,0,0,0,0,0,0,0,{"$f":"VLOOKUP(B6747*100+C6747,氏名データ!$AC$2:$AJ$401,2,0)","v":{"$error":"#N/A"}},null,0]
[0,0,0,0,0,0,0,0,0,0,0,{"$f":"VLOOKUP(B6748*100+C6748,氏名データ!$AC$2:$AJ$401,2,0)","v":{"$error":"#N/A"}},null,0]
[0,0,0,0,0,0,0,0,0,0,0,{"$f":"VLOOKUP(B6749*100+C6749,氏名データ!$AC$2:$AJ$401,2,0)","v":{"$error":"#N/A"}},null,0]
[0,0,0,0,0,0,0,0,0,0,0,{"$f":"VLOOKUP(B6750*100+C6750,氏名データ!$AC$2:$AJ$401,2,0)","v":{"$error":"#N/A"}},null,0]
[0,0,0,0,0,0,0,0,0,0,0,{"$f":"VLOOKUP(B6751*100+C6751,氏名データ!$AC$2:$AJ$401,2,0)","v":{"$error":"#N/A"}},null,0]
[0,0,0,0,0,0,0,0,0,0,0,{"$f":"VLOOKUP(B6752*100+C6752,氏名データ!$AC$2:$AJ$401,2,0)","v":{"$error":"#N/A"}},null,0]
[0,0,0,0,0,0,0,0,0,0,0,{"$f":"VLOOKUP(B6753*100+C6753,氏名データ!$AC$2:$AJ$401,2,0)","v":{"$error":"#N/A"}},null,0]
[0,0,0,0,0,0,0,0,0,0,0,{"$f":"VLOOKUP(B6754*100+C6754,氏名データ!$AC$2:$AJ$401,2,0)","v":{"$error":"#N/A"}},null,0]
[0,0,0,0,0,0,0,0,0,0,0,{"$f":"VLOOKUP(B6755*100+C6755,氏名データ!$AC$2:$AJ$401,2,0)","v":{"$error":"#N/A"}},null,0]
[0,0,0,0,0,0,0,0,0,0,0,{"$f":"VLOOKUP(B6756*100+C6756,氏名データ!$AC$2:$AJ$401,2,0)","v":{"$error":"#N/A"}},null,0]
[0,0,0,0,0,0,0,0,0,0,0,{"$f":"VLOOKUP(B6757*100+C6757,氏名データ!$AC$2:$AJ$401,2,0)","v":{"$error":"#N/A"}},null,0]
[0,0,0,0,0,0,0,0,0,0,0,{"$f":"VLOOKUP(B6758*100+C6758,氏名データ!$AC$2:$AJ$401,2,0)","v":{"$error":"#N/A"}},null,0]
[0,0,0,0,0,0,0,0,0,0,0,{"$f":"VLOOKUP(B6759*100+C6759,氏名データ!$AC$2:$AJ$401,2,0)","v":{"$error":"#N/A"}},null,0]
[0,0,0,0,0,0,0,0,0,0,0,{"$f":"VLOOKUP(B6760*100+C6760,氏名データ!$AC$2:$AJ$401,2,0)","v":{"$error":"#N/A"}},null,0]
[0,0,0,0,0,0,0,0,0,0,0,{"$f":"VLOOKUP(B6761*100+C6761,氏名データ!$AC$2:$AJ$401,2,0)","v":{"$error":"#N/A"}},null,0]
[0,0,0,0,0,0,0,0,0,0,0,{"$f":"VLOOKUP(B6762*100+C6762,氏名データ!$AC$2:$AJ$401,2,0)","v":{"$error":"#N/A"}},null,0]
[0,0,0,0,0,0,0,0,0,0,0,{"$f":"VLOOKUP(B6763*100+C6763,氏名データ!$AC$2:$AJ$401,2,0)","v":{"$error":"#N/A"}},null,0]
[0,0,0,0,0,0,0,0,0,0,0,{"$f":"VLOOKUP(B6764*100+C6764,氏名データ!$AC$2:$AJ$401,2,0)","v":{"$error":"#N/A"}},null,0]
[0,0,0,0,0,0,0,0,0,0,0,{"$f":"VLOOKUP(B6765*100+C6765,氏名データ!$AC$2:$AJ$401,2,0)","v":{"$error":"#N/A"}},null,0]
[0,0,0,0,0,0,0,0,0,0,0,{"$f":"VLOOKUP(B6766*100+C6766,氏名データ!$AC$2:$AJ$401,2,0)","v":{"$error":"#N/A"}},null,0]
[0,0,0,0,0,0,0,0,0,0,0,{"$f":"VLOOKUP(B6767*100+C6767,氏名データ!$AC$2:$AJ$401,2,0)","v":{"$error":"#N/A"}},null,0]
[0,0,0,0,0,0,0,0,0,0,0,{"$f":"VLOOKUP(B6768*100+C6768,氏名データ!$AC$2:$AJ$401,2,0)","v":{"$error":"#N/A"}},null,0]
[0,0,0,0,0,0,0,0,0,0,0,{"$f":"VLOOKUP(B6769*100+C6769,氏名データ!$AC$2:$AJ$401,2,0)","v":{"$error":"#N/A"}},null,0]
[0,0,0,0,0,0,0,0,0,0,0,{"$f":"VLOOKUP(B6770*100+C6770,氏名データ!$AC$2:$AJ$401,2,0)","v":{"$error":"#N/A"}},null,0]
[0,0,0,0,0,0,0,0,0,0,0,{"$f":"VLOOKUP(B6771*100+C6771,氏名データ!$AC$2:$AJ$401,2,0)","v":{"$error":"#N/A"}},null,0]
[0,0,0,0,0,0,0,0,0,0,0,{"$f":"VLOOKUP(B6772*100+C6772,氏名データ!$AC$2:$AJ$401,2,0)","v":{"$error":"#N/A"}},null,0]
[0,0,0,0,0,0,0,0,0,0,0,{"$f":"VLOOKUP(B6773*100+C6773,氏名データ!$AC$2:$AJ$401,2,0)","v":{"$error":"#N/A"}},null,0]
[0,0,0,0,0,0,0,0,0,0,0,{"$f":"VLOOKUP(B6774*100+C6774,氏名データ!$AC$2:$AJ$401,2,0)","v":{"$error":"#N/A"}},null,0]
[0,0,0,0,0,0,0,0,0,0,0,{"$f":"VLOOKUP(B6775*100+C6775,氏名データ!$AC$2:$AJ$401,2,0)","v":{"$error":"#N/A"}},null,0]
[0,0,0,0,0,0,0,0,0,0,0,{"$f":"VLOOKUP(B6776*100+C6776,氏名データ!$AC$2:$AJ$401,2,0)","v":{"$error":"#N/A"}},null,0]
[{"$f":"P6777","v":0},{"$f":"ROUNDDOWN(A6777/10000,0)","v":0},{"$f":"ROUNDDOWN((A6777-B6777*10000)/100,0)","v":0},{"$f":"Q6777","v":0},{"$f":"R6777","v":0},{"$f":"S6777","v":0},{"$f":"T6777","v":0},0,0,0,{"$f":"Y6777","v":0},{"$f":"VLOOKUP(B6777*100+C6777,氏名データ!$AC$2:$AJ$401,2,0)","v":{"$error":"#N/A"}},null,{"$f":"W6777","v":0}]
[0,0,0,0,0,0,0,0,0,0,0,{"$f":"VLOOKUP(B6778*100+C6778,氏名データ!$AC$2:$AJ$401,2,0)","v":{"$error":"#N/A"}},null,0]
[0,0,0,0,0,0,0,0,0,0,0,{"$f":"VLOOKUP(B6779*100+C6779,氏名データ!$AC$2:$AJ$401,2,0)","v":{"$error":"#N/A"}},null,0]
[0,0,0,0,0,0,0,0,0,0,0,{"$f":"VLOOKUP(B6780*100+C6780,氏名データ!$AC$2:$AJ$401,2,0)","v":{"$error":"#N/A"}},null,0]
[0,0,0,0,0,0,0,0,0,0,0,{"$f":"VLOOKUP(B6781*100+C6781,氏名データ!$AC$2:$AJ$401,2,0)","v":{"$error":"#N/A"}},null,0]
[0,0,0,0,0,0,0,0,0,0,0,{"$f":"VLOOKUP(B6782*100+C6782,氏名データ!$AC$2:$AJ$401,2,0)","v":{"$error":"#N/A"}},null,0]
[0,0,0,0,0,0,0,0,0,0,0,{"$f":"VLOOKUP(B6783*100+C6783,氏名データ!$AC$2:$AJ$401,2,0)","v":{"$error":"#N/A"}},null,0]
[0,0,0,0,0,0,0,0,0,0,0,{"$f":"VLOOKUP(B6784*100+C6784,氏名データ!$AC$2:$AJ$401,2,0)","v":{"$error":"#N/A"}},null,0]
[0,0,0,0,0,0,0,0,0,0,0,{"$f":"VLOOKUP(B6785*100+C6785,氏名データ!$AC$2:$AJ$401,2,0)","v":{"$error":"#N/A"}},null,0]
[0,0,0,0,0,0,0,0,0,0,0,{"$f":"VLOOKUP(B6786*100+C6786,氏名データ!$AC$2:$AJ$401,2,0)","v":{"$error":"#N/A"}},null,0]
[0,0,0,0,0,0,0,{"$f":"U6787","v":0},{"$f":"V6787","v":0},{"$f":"X6787","v":0},0,{"$f":"VLOOKUP(B6787*100+C6787,氏名データ!$AC$2:$AJ$401,2,0)","v":{"$error":"#N/A"}},null,0]
[0,0,0,0,0,0,0,0,0,0,0,{"$f":"VLOOKUP(B6788*100+C6788,氏名データ!$AC$2:$AJ$401,2,0)","v":{"$error":"#N/A"}},null,0]
[0,0,0,0,0,0,0,0,0,0,0,{"$f":"VLOOKUP(B6789*100+C6789,氏名データ!$AC$2:$AJ$401,2,0)","v":{"$error":"#N/A"}},null,0]
[0,0,0,0,0,0,0,0,0,0,0,{"$f":"VLOOKUP(B6790*100+C6790,氏名データ!$AC$2:$AJ$401,2,0)","v":{"$error":"#N/A"}},null,0]
[0,0,0,0,0,0,0,0,0,0,0,{"$f":"VLOOKUP(B6791*100+C6791,氏名データ!$AC$2:$AJ$401,2,0)","v":{"$error":"#N/A"}},null,0]
[0,0,0,0,0,0,0,0,0,0,0,{"$f":"VLOOKUP(B6792*100+C6792,氏名データ!$AC$2:$AJ$401,2,0)","v":{"$error":"#N/A"}},null,0]
[0,0,0,0,0,0,0,0,0,0,0,{"$f":"VLOOKUP(B6793*100+C6793,氏名データ!$AC$2:$AJ$401,2,0)","v":{"$error":"#N/A"}},null,0]
[0,0,0,0,0,0,0,0,0,0,0,{"$f":"VLOOKUP(B6794*100+C6794,氏名データ!$AC$2:$AJ$401,2,0)","v":{"$error":"#N/A"}},null,0]
[0,0,0,0,0,0,0,0,0,0,0,{"$f":"VLOOKUP(B6795*100+C6795,氏名データ!$AC$2:$AJ$401,2,0)","v":{"$error":"#N/A"}},null,0]
[0,0,0,0,0,0,0,0,0,0,0,{"$f":"VLOOKUP(B6796*100+C6796,氏名データ!$AC$2:$AJ$401,2,0)","v":{"$error":"#N/A"}},null,0]
[0,0,0,0,0,0,0,0,0,0,0,{"$f":"VLOOKUP(B6797*100+C6797,氏名データ!$AC$2:$AJ$401,2,0)","v":{"$error":"#N/A"}},null,0]
[0,0,0,0,0,0,0,0,0,0,0,{"$f":"VLOOKUP(B6798*100+C6798,氏名データ!$AC$2:$AJ$401,2,0)","v":{"$error":"#N/A"}},null,0]
[0,0,0,0,0,0,0,0,0,0,0,{"$f":"VLOOKUP(B6799*100+C6799,氏名データ!$AC$2:$AJ$401,2,0)","v":{"$error":"#N/A"}},null,0]
[0,0,0,0,0,0,0,0,0,0,0,{"$f":"VLOOKUP(B6800*100+C6800,氏名データ!$AC$2:$AJ$401,2,0)","v":{"$error":"#N/A"}},null,0]
[0,0,0,0,0,0,0,0,0,0,0,{"$f":"VLOOKUP(B6801*100+C6801,氏名データ!$AC$2:$AJ$401,2,0)","v":{"$error":"#N/A"}},null,0]
[0,0,0,0,0,0,0,0,0,0,0,{"$f":"VLOOKUP(B6802*100+C6802,氏名データ!$AC$2:$AJ$401,2,0)","v":{"$error":"#N/A"}},null,0]
[0,0,0,0,0,0,0,0,0,0,0,{"$f":"VLOOKUP(B6803*100+C6803,氏名データ!$AC$2:$AJ$401,2,0)","v":{"$error":"#N/A"}},null,0]
[0,0,0,0,0,0,0,0,0,0,0,{"$f":"VLOOKUP(B6804*100+C6804,氏名データ!$AC$2:$AJ$401,2,0)","v":{"$error":"#N/A"}},null,0]
[0,0,0,0,0,0,0,0,0,0,0,{"$f":"VLOOKUP(B6805*100+C6805,氏名データ!$AC$2:$AJ$401,2,0)","v":{"$error":"#N/A"}},null,0]
[0,0,0,0,0,0,0,0,0,0,0,{"$f":"VLOOKUP(B6806*100+C6806,氏名データ!$AC$2:$AJ$401,2,0)","v":{"$error":"#N/A"}},null,0]
[0,0,0,0,0,0,0,0,0,0,0,{"$f":"VLOOKUP(B6807*100+C6807,氏名データ!$AC$2:$AJ$401,2,0)","v":{"$error":"#N/A"}},null,0]
[0,0,0,0,0,0,0,0,0,0,0,{"$f":"VLOOKUP(B6808*100+C6808,氏名データ!$AC$2:$AJ$401,2,0)","v":{"$error":"#N/A"}},null,0]
[0,0,0,0,0,0,0,0,0,0,0,{"$f":"VLOOKUP(B6809*100+C6809,氏名データ!$AC$2:$AJ$401,2,0)","v":{"$error":"#N/A"}},null,0]
[0,0,0,0,0,0,0,0,0,0,0,{"$f":"VLOOKUP(B6810*100+C6810,氏名データ!$AC$2:$AJ$401,2,0)","v":{"$error":"#N/A"}},null,0]
[0,0,0,0,0,0,0,0,0,0,0,{"$f":"VLOOKUP(B6811*100+C6811,氏名データ!$AC$2:$AJ$401,2,0)","v":{"$error":"#N/A"}},null,0]
[0,0,0,0,0,0,0,0,0,0,0,{"$f":"VLOOKUP(B6812*100+C6812,氏名データ!$AC$2:$AJ$401,2,0)","v":{"$error":"#N/A"}},null,0]
[0,0,0,0,0,0,0,0,0,0,0,{"$f":"VLOOKUP(B6813*100+C6813,氏名データ!$AC$2:$AJ$401,2,0)","v":{"$error":"#N/A"}},null,0]
[0,0,0,0,0,0,0,0,0,0,0,{"$f":"VLOOKUP(B6814*100+C6814,氏名データ!$AC$2:$AJ$401,2,0)","v":{"$error":"#N/A"}},null,0]
[0,0,0,0,0,0,0,0,0,0,0,{"$f":"VLOOKUP(B6815*100+C6815,氏名データ!$AC$2:$AJ$401,2,0)","v":{"$error":"#N/A"}},null,0]
[0,0,0,0,0,0,0,0,0,0,0,{"$f":"VLOOKUP(B6816*100+C6816,氏名データ!$AC$2:$AJ$401,2,0)","v":{"$error":"#N/A"}},null,0]
[0,0,0,0,0,0,0,0,0,0,0,{"$f":"VLOOKUP(B6817*100+C6817,氏名データ!$AC$2:$AJ$401,2,0)","v":{"$error":"#N/A"}},null,0]
[0,0,0,0,0,0,0,0,0,0,0,{"$f":"VLOOKUP(B6818*100+C6818,氏名データ!$AC$2:$AJ$401,2,0)","v":{"$error":"#N/A"}},null,0]
[0,0,0,0,0,0,0,0,0,0,0,{"$f":"VLOOKUP(B6819*100+C6819,氏名データ!$AC$2:$AJ$401,2,0)","v":{"$error":"#N/A"}},null,0]
[0,0,0,0,0,0,0,0,0,0,0,{"$f":"VLOOKUP(B6820*100+C6820,氏名データ!$AC$2:$AJ$401,2,0)","v":{"$error":"#N/A"}},null,0]
[0,0,0,0,0,0,0,0,0,0,0,{"$f":"VLOOKUP(B6821*100+C6821,氏名データ!$AC$2:$AJ$401,2,0)","v":{"$error":"#N/A"}},null,0]
[0,0,0,0,0,0,0,0,0,0,0,{"$f":"VLOOKUP(B6822*100+C6822,氏名データ!$AC$2:$AJ$401,2,0)","v":{"$error":"#N/A"}},null,0]
[0,0,0,0,0,0,0,0,0,0,0,{"$f":"VLOOKUP(B6823*100+C6823,氏名データ!$AC$2:$AJ$401,2,0)","v":{"$error":"#N/A"}},null,0]
[0,0,0,0,0,0,0,0,0,0,0,{"$f":"VLOOKUP(B6824*100+C6824,氏名データ!$AC$2:$AJ$401,2,0)","v":{"$error":"#N/A"}},null,0]
[0,0,0,0,0,0,0,0,0,0,0,{"$f":"VLOOKUP(B6825*100+C6825,氏名データ!$AC$2:$AJ$401,2,0)","v":{"$error":"#N/A"}},null,0]
[0,0,0,0,0,0,0,0,0,0,0,{"$f":"VLOOKUP(B6826*100+C6826,氏名データ!$AC$2:$AJ$401,2,0)","v":{"$error":"#N/A"}},null,0]
[0,0,0,0,0,0,0,0,0,0,0,{"$f":"VLOOKUP(B6827*100+C6827,氏名データ!$AC$2:$AJ$401,2,0)","v":{"$error":"#N/A"}},null,0]
[0,0,0,0,0,0,0,0,0,0,0,{"$f":"VLOOKUP(B6828*100+C6828,氏名データ!$AC$2:$AJ$401,2,0)","v":{"$error":"#N/A"}},null,0]
[0,0,0,0,0,0,0,0,0,0,0,{"$f":"VLOOKUP(B6829*100+C6829,氏名データ!$AC$2:$AJ$401,2,0)","v":{"$error":"#N/A"}},null,0]
[0,0,0,0,0,0,0,0,0,0,0,{"$f":"VLOOKUP(B6830*100+C6830,氏名データ!$AC$2:$AJ$401,2,0)","v":{"$error":"#N/A"}},null,0]
[0,0,0,0,0,0,0,0,0,0,0,{"$f":"VLOOKUP(B6831*100+C6831,氏名データ!$AC$2:$AJ$401,2,0)","v":{"$error":"#N/A"}},null,0]
[0,0,0,0,0,0,0,0,0,0,0,{"$f":"VLOOKUP(B6832*100+C6832,氏名データ!$AC$2:$AJ$401,2,0)","v":{"$error":"#N/A"}},null,0]
[0,0,0,0,0,0,0,0,0,0,0,{"$f":"VLOOKUP(B6833*100+C6833,氏名データ!$AC$2:$AJ$401,2,0)","v":{"$error":"#N/A"}},null,0]
[0,0,0,0,0,0,0,0,0,0,0,{"$f":"VLOOKUP(B6834*100+C6834,氏名データ!$AC$2:$AJ$401,2,0)","v":{"$error":"#N/A"}},null,0]
[0,0,0,0,0,0,0,0,0,0,0,{"$f":"VLOOKUP(B6835*100+C6835,氏名データ!$AC$2:$AJ$401,2,0)","v":{"$error":"#N/A"}},null,0]
[0,0,0,0,0,0,0,0,0,0,0,{"$f":"VLOOKUP(B6836*100+C6836,氏名データ!$AC$2:$AJ$401,2,0)","v":{"$error":"#N/A"}},null,0]
[0,0,0,0,0,0,0,0,0,0,0,{"$f":"VLOOKUP(B6837*100+C6837,氏名データ!$AC$2:$AJ$401,2,0)","v":{"$error":"#N/A"}},null,0]
[0,0,0,0,0,0,0,0,0,0,0,{"$f":"VLOOKUP(B6838*100+C6838,氏名データ!$AC$2:$AJ$401,2,0)","v":{"$error":"#N/A"}},null,0]
[0,0,0,0,0,0,0,0,0,0,0,{"$f":"VLOOKUP(B6839*100+C6839,氏名データ!$AC$2:$AJ$401,2,0)","v":{"$error":"#N/A"}},null,0]
[0,0,0,0,0,0,0,0,0,0,0,{"$f":"VLOOKUP(B6840*100+C6840,氏名データ!$AC$2:$AJ$401,2,0)","v":{"$error":"#N/A"}},null,0]
[{"$f":"P6841","v":0},{"$f":"ROUNDDOWN(A6841/10000,0)","v":0},{"$f":"ROUNDDOWN((A6841-B6841*10000)/100,0)","v":0},{"$f":"Q6841","v":0},{"$f":"R6841","v":0},{"$f":"S6841","v":0},{"$f":"T6841","v":0},0,0,0,{"$f":"Y6841","v":0},{"$f":"VLOOKUP(B6841*100+C6841,氏名データ!$AC$2:$AJ$401,2,0)","v":{"$error":"#N/A"}},null,{"$f":"W6841","v":0}]
[0,0,0,0,0,0,0,0,0,0,0,{"$f":"VLOOKUP(B6842*100+C6842,氏名データ!$AC$2:$AJ$401,2,0)","v":{"$error":"#N/A"}},null,0]
[0,0,0,0,0,0,0,0,0,0,0,{"$f":"VLOOKUP(B6843*100+C6843,氏名データ!$AC$2:$AJ$401,2,0)","v":{"$error":"#N/A"}},null,0]
[0,0,0,0,0,0,0,0,0,0,0,{"$f":"VLOOKUP(B6844*100+C6844,氏名データ!$AC$2:$AJ$401,2,0)","v":{"$error":"#N/A"}},null,0]
[0,0,0,0,0,0,0,0,0,0,0,{"$f":"VLOOKUP(B6845*100+C6845,氏名データ!$AC$2:$AJ$401,2,0)","v":{"$error":"#N/A"}},null,0]
[0,0,0,0,0,0,0,0,0,0,0,{"$f":"VLOOKUP(B6846*100+C6846,氏名データ!$AC$2:$AJ$401,2,0)","v":{"$error":"#N/A"}},null,0]
[0,0,0,0,0,0,0,0,0,0,0,{"$f":"VLOOKUP(B6847*100+C6847,氏名データ!$AC$2:$AJ$401,2,0)","v":{"$error":"#N/A"}},null,0]
[0,0,0,0,0,0,0,0,0,0,0,{"$f":"VLOOKUP(B6848*100+C6848,氏名データ!$AC$2:$AJ$401,2,0)","v":{"$error":"#N/A"}},null,0]
[0,0,0,0,0,0,0,0,0,0,0,{"$f":"VLOOKUP(B6849*100+C6849,氏名データ!$AC$2:$AJ$401,2,0)","v":{"$error":"#N/A"}},null,0]
[0,0,0,0,0,0,0,0,0,0,0,{"$f":"VLOOKUP(B6850*100+C6850,氏名データ!$AC$2:$AJ$401,2,0)","v":{"$error":"#N/A"}},null,0]
[0,0,0,0,0,0,0,{"$f":"U6851","v":0},{"$f":"V6851","v":0},{"$f":"X6851","v":0},0,{"$f":"VLOOKUP(B6851*100+C6851,氏名データ!$AC$2:$AJ$401,2,0)","v":{"$error":"#N/A"}},null,0]
[0,0,0,0,0,0,0,0,0,0,0,{"$f":"VLOOKUP(B6852*100+C6852,氏名データ!$AC$2:$AJ$401,2,0)","v":{"$error":"#N/A"}},null,0]
[0,0,0,0,0,0,0,0,0,0,0,{"$f":"VLOOKUP(B6853*100+C6853,氏名データ!$AC$2:$AJ$401,2,0)","v":{"$error":"#N/A"}},null,0]
[0,0,0,0,0,0,0,0,0,0,0,{"$f":"VLOOKUP(B6854*100+C6854,氏名データ!$AC$2:$AJ$401,2,0)","v":{"$error":"#N/A"}},null,0]
[0,0,0,0,0,0,0,0,0,0,0,{"$f":"VLOOKUP(B6855*100+C6855,氏名データ!$AC$2:$AJ$401,2,0)","v":{"$error":"#N/A"}},null,0]
[0,0,0,0,0,0,0,0,0,0,0,{"$f":"VLOOKUP(B6856*100+C6856,氏名データ!$AC$2:$AJ$401,2,0)","v":{"$error":"#N/A"}},null,0]
[0,0,0,0,0,0,0,0,0,0,0,{"$f":"VLOOKUP(B6857*100+C6857,氏名データ!$AC$2:$AJ$401,2,0)","v":{"$error":"#N/A"}},null,0]
[0,0,0,0,0,0,0,0,0,0,0,{"$f":"VLOOKUP(B6858*100+C6858,氏名データ!$AC$2:$AJ$401,2,0)","v":{"$error":"#N/A"}},null,0]
[0,0,0,0,0,0,0,0,0,0,0,{"$f":"VLOOKUP(B6859*100+C6859,氏名データ!$AC$2:$AJ$401,2,0)","v":{"$error":"#N/A"}},null,0]
[0,0,0,0,0,0,0,0,0,0,0,{"$f":"VLOOKUP(B6860*100+C6860,氏名データ!$AC$2:$AJ$401,2,0)","v":{"$error":"#N/A"}},null,0]
[0,0,0,0,0,0,0,0,0,0,0,{"$f":"VLOOKUP(B6861*100+C6861,氏名データ!$AC$2:$AJ$401,2,0)","v":{"$error":"#N/A"}},null,0]
[0,0,0,0,0,0,0,0,0,0,0,{"$f":"VLOOKUP(B6862*100+C6862,氏名データ!$AC$2:$AJ$401,2,0)","v":{"$error":"#N/A"}},null,0]
[0,0,0,0,0,0,0,0,0,0,0,{"$f":"VLOOKUP(B6863*100+C6863,氏名データ!$AC$2:$AJ$401,2,0)","v":{"$error":"#N/A"}},null,0]
[0,0,0,0,0,0,0,0,0,0,0,{"$f":"VLOOKUP(B6864*100+C6864,氏名データ!$AC$2:$AJ$401,2,0)","v":{"$error":"#N/A"}},null,0]
[0,0,0,0,0,0,0,0,0,0,0,{"$f":"VLOOKUP(B6865*100+C6865,氏名データ!$AC$2:$AJ$401,2,0)","v":{"$error":"#N/A"}},null,0]
[0,0,0,0,0,0,0,0,0,0,0,{"$f":"VLOOKUP(B6866*100+C6866,氏名データ!$AC$2:$AJ$401,2,0)","v":{"$error":"#N/A"}},null,0]
[0,0,0,0,0,0,0,0,0,0,0,{"$f":"VLOOKUP(B6867*100+C6867,氏名データ!$AC$2:$AJ$401,2,0)","v":{"$error":"#N/A"}},null,0]
[0,0,0,0,0,0,0,0,0,0,0,{"$f":"VLOOKUP(B6868*100+C6868,氏名データ!$AC$2:$AJ$401,2,0)","v":{"$error":"#N/A"}},null,0]
[0,0,0,0,0,0,0,0,0,0,0,{"$f":"VLOOKUP(B6869*100+C6869,氏名データ!$AC$2:$AJ$401,2,0)","v":{"$error":"#N/A"}},null,0]
[0,0,0,0,0,0,0,0,0,0,0,{"$f":"VLOOKUP(B6870*100+C6870,氏名データ!$AC$2:$AJ$401,2,0)","v":{"$error":"#N/A"}},null,0]
[0,0,0,0,0,0,0,0,0,0,0,{"$f":"VLOOKUP(B6871*100+C6871,氏名データ!$AC$2:$AJ$401,2,0)","v":{"$error":"#N/A"}},null,0]
[0,0,0,0,0,0,0,0,0,0,0,{"$f":"VLOOKUP(B6872*100+C6872,氏名データ!$AC$2:$AJ$401,2,0)","v":{"$error":"#N/A"}},null,0]
[0,0,0,0,0,0,0,0,0,0,0,{"$f":"VLOOKUP(B6873*100+C6873,氏名データ!$AC$2:$AJ$401,2,0)","v":{"$error":"#N/A"}},null,0]
[0,0,0,0,0,0,0,0,0,0,0,{"$f":"VLOOKUP(B6874*100+C6874,氏名データ!$AC$2:$AJ$401,2,0)","v":{"$error":"#N/A"}},null,0]
[0,0,0,0,0,0,0,0,0,0,0,{"$f":"VLOOKUP(B6875*100+C6875,氏名データ!$AC$2:$AJ$401,2,0)","v":{"$error":"#N/A"}},null,0]
[0,0,0,0,0,0,0,0,0,0,0,{"$f":"VLOOKUP(B6876*100+C6876,氏名データ!$AC$2:$AJ$401,2,0)","v":{"$error":"#N/A"}},null,0]
[0,0,0,0,0,0,0,0,0,0,0,{"$f":"VLOOKUP(B6877*100+C6877,氏名データ!$AC$2:$AJ$401,2,0)","v":{"$error":"#N/A"}},null,0]
[0,0,0,0,0,0,0,0,0,0,0,{"$f":"VLOOKUP(B6878*100+C6878,氏名データ!$AC$2:$AJ$401,2,0)","v":{"$error":"#N/A"}},null,0]
[0,0,0,0,0,0,0,0,0,0,0,{"$f":"VLOOKUP(B6879*100+C6879,氏名データ!$AC$2:$AJ$401,2,0)","v":{"$error":"#N/A"}},null,0]
[0,0,0,0,0,0,0,0,0,0,0,{"$f":"VLOOKUP(B6880*100+C6880,氏名データ!$AC$2:$AJ$401,2,0)","v":{"$error":"#N/A"}},null,0]
[0,0,0,0,0,0,0,0,0,0,0,{"$f":"VLOOKUP(B6881*100+C6881,氏名データ!$AC$2:$AJ$401,2,0)","v":{"$error":"#N/A"}},null,0]
[0,0,0,0,0,0,0,0,0,0,0,{"$f":"VLOOKUP(B6882*100+C6882,氏名データ!$AC$2:$AJ$401,2,0)","v":{"$error":"#N/A"}},null,0]
[0,0,0,0,0,0,0,0,0,0,0,{"$f":"VLOOKUP(B6883*100+C6883,氏名データ!$AC$2:$AJ$401,2,0)","v":{"$error":"#N/A"}},null,0]
[0,0,0,0,0,0,0,0,0,0,0,{"$f":"VLOOKUP(B6884*100+C6884,氏名データ!$AC$2:$AJ$401,2,0)","v":{"$error":"#N/A"}},null,0]
[0,0,0,0,0,0,0,0,0,0,0,{"$f":"VLOOKUP(B6885*100+C6885,氏名データ!$AC$2:$AJ$401,2,0)","v":{"$error":"#N/A"}},null,0]
[0,0,0,0,0,0,0,0,0,0,0,{"$f":"VLOOKUP(B6886*100+C6886,氏名データ!$AC$2:$AJ$401,2,0)","v":{"$error":"#N/A"}},null,0]
[0,0,0,0,0,0,0,0,0,0,0,{"$f":"VLOOKUP(B6887*100+C6887,氏名データ!$AC$2:$AJ$401,2,0)","v":{"$error":"#N/A"}},null,0]
[0,0,0,0,0,0,0,0,0,0,0,{"$f":"VLOOKUP(B6888*100+C6888,氏名データ!$AC$2:$AJ$401,2,0)","v":{"$error":"#N/A"}},null,0]
[0,0,0,0,0,0,0,0,0,0,0,{"$f":"VLOOKUP(B6889*100+C6889,氏名データ!$AC$2:$AJ$401,2,0)","v":{"$error":"#N/A"}},null,0]
[0,0,0,0,0,0,0,0,0,0,0,{"$f":"VLOOKUP(B6890*100+C6890,氏名データ!$AC$2:$AJ$401,2,0)","v":{"$error":"#N/A"}},null,0]
[0,0,0,0,0,0,0,0,0,0,0,{"$f":"VLOOKUP(B6891*100+C6891,氏名データ!$AC$2:$AJ$401,2,0)","v":{"$error":"#N/A"}},null,0]
[0,0,0,0,0,0,0,0,0,0,0,{"$f":"VLOOKUP(B6892*100+C6892,氏名データ!$AC$2:$AJ$401,2,0)","v":{"$error":"#N/A"}},null,0]
[0,0,0,0,0,0,0,0,0,0,0,{"$f":"VLOOKUP(B6893*100+C6893,氏名データ!$AC$2:$AJ$401,2,0)","v":{"$error":"#N/A"}},null,0]
[0,0,0,0,0,0,0,0,0,0,0,{"$f":"VLOOKUP(B6894*100+C6894,氏名データ!$AC$2:$AJ$401,2,0)","v":{"$error":"#N/A"}},null,0]
[0,0,0,0,0,0,0,0,0,0,0,{"$f":"VLOOKUP(B6895*100+C6895,氏名データ!$AC$2:$AJ$401,2,0)","v":{"$error":"#N/A"}},null,0]
[0,0,0,0,0,0,0,0,0,0,0,{"$f":"VLOOKUP(B6896*100+C6896,氏名データ!$AC$2:$AJ$401,2,0)","v":{"$error":"#N/A"}},null,0]
[0,0,0,0,0,0,0,0,0,0,0,{"$f":"VLOOKUP(B6897*100+C6897,氏名データ!$AC$2:$AJ$401,2,0)","v":{"$error":"#N/A"}},null,0]
[0,0,0,0,0,0,0,0,0,0,0,{"$f":"VLOOKUP(B6898*100+C6898,氏名データ!$AC$2:$AJ$401,2,0)","v":{"$error":"#N/A"}},null,0]
[0,0,0,0,0,0,0,0,0,0,0,{"$f":"VLOOKUP(B6899*100+C6899,氏名データ!$AC$2:$AJ$401,2,0)","v":{"$error":"#N/A"}},null,0]
[0,0,0,0,0,0,0,0,0,0,0,{"$f":"VLOOKUP(B6900*100+C6900,氏名データ!$AC$2:$AJ$401,2,0)","v":{"$error":"#N/A"}},null,0]
[0,0,0,0,0,0,0,0,0,0,0,{"$f":"VLOOKUP(B6901*100+C6901,氏名データ!$AC$2:$AJ$401,2,0)","v":{"$error":"#N/A"}},null,0]
[0,0,0,0,0,0,0,0,0,0,0,{"$f":"VLOOKUP(B6902*100+C6902,氏名データ!$AC$2:$AJ$401,2,0)","v":{"$error":"#N/A"}},null,0]
[0,0,0,0,0,0,0,0,0,0,0,{"$f":"VLOOKUP(B6903*100+C6903,氏名データ!$AC$2:$AJ$401,2,0)","v":{"$error":"#N/A"}},null,0]
[0,0,0,0,0,0,0,0,0,0,0,{"$f":"VLOOKUP(B6904*100+C6904,氏名データ!$AC$2:$AJ$401,2,0)","v":{"$error":"#N/A"}},null,0]
[{"$f":"P6905","v":0},{"$f":"ROUNDDOWN(A6905/10000,0)","v":0},{"$f":"ROUNDDOWN((A6905-B6905*10000)/100,0)","v":0},{"$f":"Q6905","v":0},{"$f":"R6905","v":0},{"$f":"S6905","v":0},{"$f":"T6905","v":0},0,0,0,{"$f":"Y6905","v":0},{"$f":"VLOOKUP(B6905*100+C6905,氏名データ!$AC$2:$AJ$401,2,0)","v":{"$error":"#N/A"}},null,{"$f":"W6905","v":0}]
[0,0,0,0,0,0,0,0,0,0,0,{"$f":"VLOOKUP(B6906*100+C6906,氏名データ!$AC$2:$AJ$401,2,0)","v":{"$error":"#N/A"}},null,0]
[0,0,0,0,0,0,0,0,0,0,0,{"$f":"VLOOKUP(B6907*100+C6907,氏名データ!$AC$2:$AJ$401,2,0)","v":{"$error":"#N/A"}},null,0]
[0,0,0,0,0,0,0,0,0,0,0,{"$f":"VLOOKUP(B6908*100+C6908,氏名データ!$AC$2:$AJ$401,2,0)","v":{"$error":"#N/A"}},null,0]
[0,0,0,0,0,0,0,0,0,0,0,{"$f":"VLOOKUP(B6909*100+C6909,氏名データ!$AC$2:$AJ$401,2,0)","v":{"$error":"#N/A"}},null,0]
[0,0,0,0,0,0,0,0,0,0,0,{"$f":"VLOOKUP(B6910*100+C6910,氏名データ!$AC$2:$AJ$401,2,0)","v":{"$error":"#N/A"}},null,0]
[0,0,0,0,0,0,0,0,0,0,0,{"$f":"VLOOKUP(B6911*100+C6911,氏名データ!$AC$2:$AJ$401,2,0)","v":{"$error":"#N/A"}},null,0]
[0,0,0,0,0,0,0,0,0,0,0,{"$f":"VLOOKUP(B6912*100+C6912,氏名データ!$AC$2:$AJ$401,2,0)","v":{"$error":"#N/A"}},null,0]
[0,0,0,0,0,0,0,0,0,0,0,{"$f":"VLOOKUP(B6913*100+C6913,氏名データ!$AC$2:$AJ$401,2,0)","v":{"$error":"#N/A"}},null,0]
[0,0,0,0,0,0,0,0,0,0,0,{"$f":"VLOOKUP(B6914*100+C6914,氏名データ!$AC$2:$AJ$401,2,0)","v":{"$error":"#N/A"}},null,0]
[0,0,0,0,0,0,0,{"$f":"U6915","v":0},{"$f":"V6915","v":0},{"$f":"X6915","v":0},0,{"$f":"VLOOKUP(B6915*100+C6915,氏名データ!$AC$2:$AJ$401,2,0)","v":{"$error":"#N/A"}},null,0]
[0,0,0,0,0,0,0,0,0,0,0,{"$f":"VLOOKUP(B6916*100+C6916,氏名データ!$AC$2:$AJ$401,2,0)","v":{"$error":"#N/A"}},null,0]
[0,0,0,0,0,0,0,0,0,0,0,{"$f":"VLOOKUP(B6917*100+C6917,氏名データ!$AC$2:$AJ$401,2,0)","v":{"$error":"#N/A"}},null,0]
[0,0,0,0,0,0,0,0,0,0,0,{"$f":"VLOOKUP(B6918*100+C6918,氏名データ!$AC$2:$AJ$401,2,0)","v":{"$error":"#N/A"}},null,0]
[0,0,0,0,0,0,0,0,0,0,0,{"$f":"VLOOKUP(B6919*100+C6919,氏名データ!$AC$2:$AJ$401,2,0)","v":{"$error":"#N/A"}},null,0]
[0,0,0,0,0,0,0,0,0,0,0,{"$f":"VLOOKUP(B6920*100+C6920,氏名データ!$AC$2:$AJ$401,2,0)","v":{"$error":"#N/A"}},null,0]
[0,0,0,0,0,0,0,0,0,0,0,{"$f":"VLOOKUP(B6921*100+C6921,氏名データ!$AC$2:$AJ$401,2,0)","v":{"$error":"#N/A"}},null,0]
[0,0,0,0,0,0,0,0,0,0,0,{"$f":"VLOOKUP(B6922*100+C6922,氏名データ!$AC$2:$AJ$401,2,0)","v":{"$error":"#N/A"}},null,0]
[0,0,0,0,0,0,0,0,0,0,0,{"$f":"VLOOKUP(B6923*100+C6923,氏名データ!$AC$2:$AJ$401,2,0)","v":{"$error":"#N/A"}},null,0]
[0,0,0,0,0,0,0,0,0,0,0,{"$f":"VLOOKUP(B6924*100+C6924,氏名データ!$AC$2:$AJ$401,2,0)","v":{"$error":"#N/A"}},null,0]
[0,0,0,0,0,0,0,0,0,0,0,{"$f":"VLOOKUP(B6925*100+C6925,氏名データ!$AC$2:$AJ$401,2,0)","v":{"$error":"#N/A"}},null,0]
[0,0,0,0,0,0,0,0,0,0,0,{"$f":"VLOOKUP(B6926*100+C6926,氏名データ!$AC$2:$AJ$401,2,0)","v":{"$error":"#N/A"}},null,0]
[0,0,0,0,0,0,0,0,0,0,0,{"$f":"VLOOKUP(B6927*100+C6927,氏名データ!$AC$2:$AJ$401,2,0)","v":{"$error":"#N/A"}},null,0]
[0,0,0,0,0,0,0,0,0,0,0,{"$f":"VLOOKUP(B6928*100+C6928,氏名データ!$AC$2:$AJ$401,2,0)","v":{"$error":"#N/A"}},null,0]
[0,0,0,0,0,0,0,0,0,0,0,{"$f":"VLOOKUP(B6929*100+C6929,氏名データ!$AC$2:$AJ$401,2,0)","v":{"$error":"#N/A"}},null,0]
[0,0,0,0,0,0,0,0,0,0,0,{"$f":"VLOOKUP(B6930*100+C6930,氏名データ!$AC$2:$AJ$401,2,0)","v":{"$error":"#N/A"}},null,0]
[0,0,0,0,0,0,0,0,0,0,0,{"$f":"VLOOKUP(B6931*100+C6931,氏名データ!$AC$2:$AJ$401,2,0)","v":{"$error":"#N/A"}},null,0]
[0,0,0,0,0,0,0,0,0,0,0,{"$f":"VLOOKUP(B6932*100+C6932,氏名データ!$AC$2:$AJ$401,2,0)","v":{"$error":"#N/A"}},null,0]
[0,0,0,0,0,0,0,0,0,0,0,{"$f":"VLOOKUP(B6933*100+C6933,氏名データ!$AC$2:$AJ$401,2,0)","v":{"$error":"#N/A"}},null,0]
[0,0,0,0,0,0,0,0,0,0,0,{"$f":"VLOOKUP(B6934*100+C6934,氏名データ!$AC$2:$AJ$401,2,0)","v":{"$error":"#N/A"}},null,0]
[0,0,0,0,0,0,0,0,0,0,0,{"$f":"VLOOKUP(B6935*100+C6935,氏名データ!$AC$2:$AJ$401,2,0)","v":{"$error":"#N/A"}},null,0]
[0,0,0,0,0,0,0,0,0,0,0,{"$f":"VLOOKUP(B6936*100+C6936,氏名データ!$AC$2:$AJ$401,2,0)","v":{"$error":"#N/A"}},null,0]
[0,0,0,0,0,0,0,0,0,0,0,{"$f":"VLOOKUP(B6937*100+C6937,氏名データ!$AC$2:$AJ$401,2,0)","v":{"$error":"#N/A"}},null,0]
[0,0,0,0,0,0,0,0,0,0,0,{"$f":"VLOOKUP(B6938*100+C6938,氏名データ!$AC$2:$AJ$401,2,0)","v":{"$error":"#N/A"}},null,0]
[0,0,0,0,0,0,0,0,0,0,0,{"$f":"VLOOKUP(B6939*100+C6939,氏名データ!$AC$2:$AJ$401,2,0)","v":{"$error":"#N/A"}},null,0]
[0,0,0,0,0,0,0,0,0,0,0,{"$f":"VLOOKUP(B6940*100+C6940,氏名データ!$AC$2:$AJ$401,2,0)","v":{"$error":"#N/A"}},null,0]
[0,0,0,0,0,0,0,0,0,0,0,{"$f":"VLOOKUP(B6941*100+C6941,氏名データ!$AC$2:$AJ$401,2,0)","v":{"$error":"#N/A"}},null,0]
[0,0,0,0,0,0,0,0,0,0,0,{"$f":"VLOOKUP(B6942*100+C6942,氏名データ!$AC$2:$AJ$401,2,0)","v":{"$error":"#N/A"}},null,0]
[0,0,0,0,0,0,0,0,0,0,0,{"$f":"VLOOKUP(B6943*100+C6943,氏名データ!$AC$2:$AJ$401,2,0)","v":{"$error":"#N/A"}},null,0]
[0,0,0,0,0,0,0,0,0,0,0,{"$f":"VLOOKUP(B6944*100+C6944,氏名データ!$AC$2:$AJ$401,2,0)","v":{"$error":"#N/A"}},null,0]
[0,0,0,0,0,0,0,0,0,0,0,{"$f":"VLOOKUP(B6945*100+C6945,氏名データ!$AC$2:$AJ$401,2,0)","v":{"$error":"#N/A"}},null,0]
[0,0,0,0,0,0,0,0,0,0,0,{"$f":"VLOOKUP(B6946*100+C6946,氏名データ!$AC$2:$AJ$401,2,0)","v":{"$error":"#N/A"}},null,0]
[0,0,0,0,0,0,0,0,0,0,0,{"$f":"VLOOKUP(B6947*100+C6947,氏名データ!$AC$2:$AJ$401,2,0)","v":{"$error":"#N/A"}},null,0]
[0,0,0,0,0,0,0,0,0,0,0,{"$f":"VLOOKUP(B6948*100+C6948,氏名データ!$AC$2:$AJ$401,2,0)","v":{"$error":"#N/A"}},null,0]
[0,0,0,0,0,0,0,0,0,0,0,{"$f":"VLOOKUP(B6949*100+C6949,氏名データ!$AC$2:$AJ$401,2,0)","v":{"$error":"#N/A"}},null,0]
[0,0,0,0,0,0,0,0,0,0,0,{"$f":"VLOOKUP(B6950*100+C6950,氏名データ!$AC$2:$AJ$401,2,0)","v":{"$error":"#N/A"}},null,0]
[0,0,0,0,0,0,0,0,0,0,0,{"$f":"VLOOKUP(B6951*100+C6951,氏名データ!$AC$2:$AJ$401,2,0)","v":{"$error":"#N/A"}},null,0]
[0,0,0,0,0,0,0,0,0,0,0,{"$f":"VLOOKUP(B6952*100+C6952,氏名データ!$AC$2:$AJ$401,2,0)","v":{"$error":"#N/A"}},null,0]
[0,0,0,0,0,0,0,0,0,0,0,{"$f":"VLOOKUP(B6953*100+C6953,氏名データ!$AC$2:$AJ$401,2,0)","v":{"$error":"#N/A"}},null,0]
[0,0,0,0,0,0,0,0,0,0,0,{"$f":"VLOOKUP(B6954*100+C6954,氏名データ!$AC$2:$AJ$401,2,0)","v":{"$error":"#N/A"}},null,0]
[0,0,0,0,0,0,0,0,0,0,0,{"$f":"VLOOKUP(B6955*100+C6955,氏名データ!$AC$2:$AJ$401,2,0)","v":{"$error":"#N/A"}},null,0]
[0,0,0,0,0,0,0,0,0,0,0,{"$f":"VLOOKUP(B6956*100+C6956,氏名データ!$AC$2:$AJ$401,2,0)","v":{"$error":"#N/A"}},null,0]
[0,0,0,0,0,0,0,0,0,0,0,{"$f":"VLOOKUP(B6957*100+C6957,氏名データ!$AC$2:$AJ$401,2,0)","v":{"$error":"#N/A"}},null,0]
[0,0,0,0,0,0,0,0,0,0,0,{"$f":"VLOOKUP(B6958*100+C6958,氏名データ!$AC$2:$AJ$401,2,0)","v":{"$error":"#N/A"}},null,0]
[0,0,0,0,0,0,0,0,0,0,0,{"$f":"VLOOKUP(B6959*100+C6959,氏名データ!$AC$2:$AJ$401,2,0)","v":{"$error":"#N/A"}},null,0]
[0,0,0,0,0,0,0,0,0,0,0,{"$f":"VLOOKUP(B6960*100+C6960,氏名データ!$AC$2:$AJ$401,2,0)","v":{"$error":"#N/A"}},null,0]
[0,0,0,0,0,0,0,0,0,0,0,{"$f":"VLOOKUP(B6961*100+C6961,氏名データ!$AC$2:$AJ$401,2,0)","v":{"$error":"#N/A"}},null,0]
[0,0,0,0,0,0,0,0,0,0,0,{"$f":"VLOOKUP(B6962*100+C6962,氏名データ!$AC$2:$AJ$401,2,0)","v":{"$error":"#N/A"}},null,0]
[0,0,0,0,0,0,0,0,0,0,0,{"$f":"VLOOKUP(B6963*100+C6963,氏名データ!$AC$2:$AJ$401,2,0)","v":{"$error":"#N/A"}},null,0]
[0,0,0,0,0,0,0,0,0,0,0,{"$f":"VLOOKUP(B6964*100+C6964,氏名データ!$AC$2:$AJ$401,2,0)","v":{"$error":"#N/A"}},null,0]
[0,0,0,0,0,0,0,0,0,0,0,{"$f":"VLOOKUP(B6965*100+C6965,氏名データ!$AC$2:$AJ$401,2,0)","v":{"$error":"#N/A"}},null,0]
[0,0,0,0,0,0,0,0,0,0,0,{"$f":"VLOOKUP(B6966*100+C6966,氏名データ!$AC$2:$AJ$401,2,0)","v":{"$error":"#N/A"}},null,0]
[0,0,0,0,0,0,0,0,0,0,0,{"$f":"VLOOKUP(B6967*100+C6967,氏名データ!$AC$2:$AJ$401,2,0)","v":{"$error":"#N/A"}},null,0]
[0,0,0,0,0,0,0,0,0,0,0,{"$f":"VLOOKUP(B6968*100+C6968,氏名データ!$AC$2:$AJ$401,2,0)","v":{"$error":"#N/A"}},null,0]
[{"$f":"P6969","v":0},{"$f":"ROUNDDOWN(A6969/10000,0)","v":0},{"$f":"ROUNDDOWN((A6969-B6969*10000)/100,0)","v":0},{"$f":"Q6969","v":0},{"$f":"R6969","v":0},{"$f":"S6969","v":0},{"$f":"T6969","v":0},0,0,0,{"$f":"Y6969","v":0},{"$f":"VLOOKUP(B6969*100+C6969,氏名データ!$AC$2:$AJ$401,2,0)","v":{"$error":"#N/A"}},null,{"$f":"W6969","v":0}]
[0,0,0,0,0,0,0,0,0,0,0,{"$f":"VLOOKUP(B6970*100+C6970,氏名データ!$AC$2:$AJ$401,2,0)","v":{"$error":"#N/A"}},null,0]
[0,0,0,0,0,0,0,0,0,0,0,{"$f":"VLOOKUP(B6971*100+C6971,氏名データ!$AC$2:$AJ$401,2,0)","v":{"$error":"#N/A"}},null,0]
[0,0,0,0,0,0,0,0,0,0,0,{"$f":"VLOOKUP(B6972*100+C6972,氏名データ!$AC$2:$AJ$401,2,0)","v":{"$error":"#N/A"}},null,0]
[0,0,0,0,0,0,0,0,0,0,0,{"$f":"VLOOKUP(B6973*100+C6973,氏名データ!$AC$2:$AJ$401,2,0)","v":{"$error":"#N/A"}},null,0]
[0,0,0,0,0,0,0,0,0,0,0,{"$f":"VLOOKUP(B6974*100+C6974,氏名データ!$AC$2:$AJ$401,2,0)","v":{"$error":"#N/A"}},null,0]
[0,0,0,0,0,0,0,0,0,0,0,{"$f":"VLOOKUP(B6975*100+C6975,氏名データ!$AC$2:$AJ$401,2,0)","v":{"$error":"#N/A"}},null,0]
[0,0,0,0,0,0,0,0,0,0,0,{"$f":"VLOOKUP(B6976*100+C6976,氏名データ!$AC$2:$AJ$401,2,0)","v":{"$error":"#N/A"}},null,0]
[0,0,0,0,0,0,0,0,0,0,0,{"$f":"VLOOKUP(B6977*100+C6977,氏名データ!$AC$2:$AJ$401,2,0)","v":{"$error":"#N/A"}},null,0]
[0,0,0,0,0,0,0,0,0,0,0,{"$f":"VLOOKUP(B6978*100+C6978,氏名データ!$AC$2:$AJ$401,2,0)","v":{"$error":"#N/A"}},null,0]
[0,0,0,0,0,0,0,{"$f":"U6979","v":0},{"$f":"V6979","v":0},{"$f":"X6979","v":0},0,{"$f":"VLOOKUP(B6979*100+C6979,氏名データ!$AC$2:$AJ$401,2,0)","v":{"$error":"#N/A"}},null,0]
[0,0,0,0,0,0,0,0,0,0,0,{"$f":"VLOOKUP(B6980*100+C6980,氏名データ!$AC$2:$AJ$401,2,0)","v":{"$error":"#N/A"}},null,0]
[0,0,0,0,0,0,0,0,0,0,0,{"$f":"VLOOKUP(B6981*100+C6981,氏名データ!$AC$2:$AJ$401,2,0)","v":{"$error":"#N/A"}},null,0]
[0,0,0,0,0,0,0,0,0,0,0,{"$f":"VLOOKUP(B6982*100+C6982,氏名データ!$AC$2:$AJ$401,2,0)","v":{"$error":"#N/A"}},null,0]
[0,0,0,0,0,0,0,0,0,0,0,{"$f":"VLOOKUP(B6983*100+C6983,氏名データ!$AC$2:$AJ$401,2,0)","v":{"$error":"#N/A"}},null,0]
[0,0,0,0,0,0,0,0,0,0,0,{"$f":"VLOOKUP(B6984*100+C6984,氏名データ!$AC$2:$AJ$401,2,0)","v":{"$error":"#N/A"}},null,0]
[0,0,0,0,0,0,0,0,0,0,0,{"$f":"VLOOKUP(B6985*100+C6985,氏名データ!$AC$2:$AJ$401,2,0)","v":{"$error":"#N/A"}},null,0]
[0,0,0,0,0,0,0,0,0,0,0,{"$f":"VLOOKUP(B6986*100+C6986,氏名データ!$AC$2:$AJ$401,2,0)","v":{"$error":"#N/A"}},null,0]
[0,0,0,0,0,0,0,0,0,0,0,{"$f":"VLOOKUP(B6987*100+C6987,氏名データ!$AC$2:$AJ$401,2,0)","v":{"$error":"#N/A"}},null,0]
[0,0,0,0,0,0,0,0,0,0,0,{"$f":"VLOOKUP(B6988*100+C6988,氏名データ!$AC$2:$AJ$401,2,0)","v":{"$error":"#N/A"}},null,0]
[0,0,0,0,0,0,0,0,0,0,0,{"$f":"VLOOKUP(B6989*100+C6989,氏名データ!$AC$2:$AJ$401,2,0)","v":{"$error":"#N/A"}},null,0]
[0,0,0,0,0,0,0,0,0,0,0,{"$f":"VLOOKUP(B6990*100+C6990,氏名データ!$AC$2:$AJ$401,2,0)","v":{"$error":"#N/A"}},null,0]
[0,0,0,0,0,0,0,0,0,0,0,{"$f":"VLOOKUP(B6991*100+C6991,氏名データ!$AC$2:$AJ$401,2,0)","v":{"$error":"#N/A"}},null,0]
[0,0,0,0,0,0,0,0,0,0,0,{"$f":"VLOOKUP(B6992*100+C6992,氏名データ!$AC$2:$AJ$401,2,0)","v":{"$error":"#N/A"}},null,0]
[0,0,0,0,0,0,0,0,0,0,0,{"$f":"VLOOKUP(B6993*100+C6993,氏名データ!$AC$2:$AJ$401,2,0)","v":{"$error":"#N/A"}},null,0]
[0,0,0,0,0,0,0,0,0,0,0,{"$f":"VLOOKUP(B6994*100+C6994,氏名データ!$AC$2:$AJ$401,2,0)","v":{"$error":"#N/A"}},null,0]
[0,0,0,0,0,0,0,0,0,0,0,{"$f":"VLOOKUP(B6995*100+C6995,氏名データ!$AC$2:$AJ$401,2,0)","v":{"$error":"#N/A"}},null,0]
[0,0,0,0,0,0,0,0,0,0,0,{"$f":"VLOOKUP(B6996*100+C6996,氏名データ!$AC$2:$AJ$401,2,0)","v":{"$error":"#N/A"}},null,0]
[0,0,0,0,0,0,0,0,0,0,0,{"$f":"VLOOKUP(B6997*100+C6997,氏名データ!$AC$2:$AJ$401,2,0)","v":{"$error":"#N/A"}},null,0]
[0,0,0,0,0,0,0,0,0,0,0,{"$f":"VLOOKUP(B6998*100+C6998,氏名データ!$AC$2:$AJ$401,2,0)","v":{"$error":"#N/A"}},null,0]
[0,0,0,0,0,0,0,0,0,0,0,{"$f":"VLOOKUP(B6999*100+C6999,氏名データ!$AC$2:$AJ$401,2,0)","v":{"$error":"#N/A"}},null,0]
[0,0,0,0,0,0,0,0,0,0,0,{"$f":"VLOOKUP(B7000*100+C7000,氏名データ!$AC$2:$AJ$401,2,0)","v":{"$error":"#N/A"}},null,0]

{"sheet":"出場選手エントリー票　男","index":7,"n_rows":81,"n_cols":15,"rows_kept":81,"cut":false,"hidden":true,"merged":[]}
[null,"No.","姓","名","生年（年）","月","日","学年","性別","所属","種目1","種目2","種目3","４R","１６R"]
[1,{"$f":"IF(ISERROR(VLOOKUP($A2,出場選手エントリー票!$A$5:$AK$124,5,0)),\"\",VLOOKUP($A2,出場選手エントリー票!$A$5:$AK$124,6,0))","v":""},{"$f":"IF($B2=\"\",\"\",VLOOKUP($A2,出場選手エントリー票!$A$5:$AK$124,7+1,0))","v":""},{"$f":"IF($B2=\"\",\"\",VLOOKUP($A2,出場選手エントリー票!$A$5:$AK$124,8+1,0))","v":""},{"$f":"IF($B2=\"\",\"\",VLOOKUP($A2,出場選手エントリー票!$A$5:$AK$124,11+1,0))","v":""},{"$f":"IF($B2=\"\",\"\",VLOOKUP($A2,出場選手エントリー票!$A$5:$AK$124,12+1,0))","v":""},{"$f":"IF($B2=\"\",\"\",VLOOKUP($A2,出場選手エントリー票!$A$5:$AK$124,13+1,0))","v":""},{"$f":"IF($B2=\"\",\"\",VLOOKUP($A2,出場選手エントリー票!$A$5:$AK$124,14+1,0))","v":""},{"$f":"IF($B2=\"\",\"\",VLOOKUP($A2,出場選手エントリー票!$A$5:$AK$124,15+1,0))","v":""},{"$f":"IF($B2=\"\",\"\",VLOOKUP($A2,出場選手エントリー票!$A$5:$AK$124,16+1,0))","v":""},{"$f":"IF($B2=\"\",\"\",IF(VLOOKUP($A2,出場選手エントリー票!$A$5:$AK$124,17+1,0)=\"\",\"\",VLOOKUP($A2,出場選手エントリー票!$A$5:$AK$124,17+1,0)))","v":""},{"$f":"IF($B2=\"\",\"\",IF(VLOOKUP($A2,出場選手エントリー票!$A$5:$AK$124,21+1,0)=\"\",\"\",VLOOKUP($A2,出場選手エントリー票!$A$5:$AK$124,21+1,0)))","v":""},{"$f":"IF($B2=\"\",\"\",IF(VLOOKUP($A2,出場選手エントリー票!$A$5:$AK$124,25+1,0)=\"\",\"\",VLOOKUP($A2,出場選手エントリー票!$A$5:$AK$124,25+1,0)))","v":""},{"$f":"IF($B2=\"\",\"\",IF(VLOOKUP($A2,出場選手エントリー票!$A$5:$AK$124,29+1,0)=\"\",\"\",VLOOKUP($A2,出場選手エントリー票!$A$5:$AK$124,29+1,0)))","v":""},{"$f":"IF($B2=\"\",\"\",IF(VLOOKUP($A2,出場選手エントリー票!$A$5:$AK$124,33+1,0)=\"\",\"\",VLOOKUP($A2,出場選手エントリー票!$A$5:$AK$124,33+1,0)))","v":""}]
[2,{"$f":"IF(ISERROR(VLOOKUP($A3,出場選手エントリー票!$A$5:$AK$124,5,0)),\"\",VLOOKUP($A3,出場選手エントリー票!$A$5:$AK$124,6,0))","v":""},{"$f":"IF($B3=\"\",\"\",VLOOKUP($A3,出場選手エントリー票!$A$5:$AK$124,7+1,0))","v":""},{"$f":"IF($B3=\"\",\"\",VLOOKUP($A3,出場選手エントリー票!$A$5:$AK$124,8+1,0))","v":""},{"$f":"IF($B3=\"\",\"\",VLOOKUP($A3,出場選手エントリー票!$A$5:$AK$124,11+1,0))","v":""},{"$f":"IF($B3=\"\",\"\",VLOOKUP($A3,出場選手エントリー票!$A$5:$AK$124,12+1,0))","v":""},{"$f":"IF($B3=\"\",\"\",VLOOKUP($A3,出場選手エントリー票!$A$5:$AK$124,13+1,0))","v":""},{"$f":"IF($B3=\"\",\"\",VLOOKUP($A3,出場選手エントリー票!$A$5:$AK$124,14+1,0))","v":""},{"$f":"IF($B3=\"\",\"\",VLOOKUP($A3,出場選手エントリー票!$A$5:$AK$124,15+1,0))","v":""},{"$f":"IF($B3=\"\",\"\",VLOOKUP($A3,出場選手エントリー票!$A$5:$AK$124,16+1,0))","v":""},{"$f":"IF($B3=\"\",\"\",IF(VLOOKUP($A3,出場選手エントリー票!$A$5:$AK$124,17+1,0)=\"\",\"\",VLOOKUP($A3,出場選手エントリー票!$A$5:$AK$124,17+1,0)))","v":""},{"$f":"IF($B3=\"\",\"\",IF(VLOOKUP($A3,出場選手エントリー票!$A$5:$AK$124,21+1,0)=\"\",\"\",VLOOKUP($A3,出場選手エントリー票!$A$5:$AK$124,21+1,0)))","v":""},{"$f":"IF($B3=\"\",\"\",IF(VLOOKUP($A3,出場選手エントリー票!$A$5:$AK$124,25+1,0)=\"\",\"\",VLOOKUP($A3,出場選手エントリー票!$A$5:$AK$124,25+1,0)))","v":""},{"$f":"IF($B3=\"\",\"\",IF(VLOOKUP($A3,出場選手エントリー票!$A$5:$AK$124,29+1,0)=\"\",\"\",VLOOKUP($A3,出場選手エントリー票!$A$5:$AK$124,29+1,0)))","v":""},{"$f":"IF($B3=\"\",\"\",IF(VLOOKUP($A3,出場選手エントリー票!$A$5:$AK$124,33+1,0)=\"\",\"\",VLOOKUP($A3,出場選手エントリー票!$A$5:$AK$124,33+1,0)))","v":""}]
[3,{"$f":"IF(ISERROR(VLOOKUP($A4,出場選手エントリー票!$A$5:$AK$124,5,0)),\"\",VLOOKUP($A4,出場選手エントリー票!$A$5:$AK$124,6,0))","v":""},{"$f":"IF($B4=\"\",\"\",VLOOKUP($A4,出場選手エントリー票!$A$5:$AK$124,7+1,0))","v":""},{"$f":"IF($B4=\"\",\"\",VLOOKUP($A4,出場選手エントリー票!$A$5:$AK$124,8+1,0))","v":""},{"$f":"IF($B4=\"\",\"\",VLOOKUP($A4,出場選手エントリー票!$A$5:$AK$124,11+1,0))","v":""},{"$f":"IF($B4=\"\",\"\",VLOOKUP($A4,出場選手エントリー票!$A$5:$AK$124,12+1,0))","v":""},{"$f":"IF($B4=\"\",\"\",VLOOKUP($A4,出場選手エントリー票!$A$5:$AK$124,13+1,0))","v":""},{"$f":"IF($B4=\"\",\"\",VLOOKUP($A4,出場選手エントリー票!$A$5:$AK$124,14+1,0))","v":""},{"$f":"IF($B4=\"\",\"\",VLOOKUP($A4,出場選手エントリー票!$A$5:$AK$124,15+1,0))","v":""},{"$f":"IF($B4=\"\",\"\",VLOOKUP($A4,出場選手エントリー票!$A$5:$AK$124,16+1,0))","v":""},{"$f":"IF($B4=\"\",\"\",IF(VLOOKUP($A4,出場選手エントリー票!$A$5:$AK$124,17+1,0)=\"\",\"\",VLOOKUP($A4,出場選手エントリー票!$A$5:$AK$124,17+1,0)))","v":""},{"$f":"IF($B4=\"\",\"\",IF(VLOOKUP($A4,出場選手エントリー票!$A$5:$AK$124,21+1,0)=\"\",\"\",VLOOKUP($A4,出場選手エントリー票!$A$5:$AK$124,21+1,0)))","v":""},{"$f":"IF($B4=\"\",\"\",IF(VLOOKUP($A4,出場選手エントリー票!$A$5:$AK$124,25+1,0)=\"\",\"\",VLOOKUP($A4,出場選手エントリー票!$A$5:$AK$124,25+1,0)))","v":""},{"$f":"IF($B4=\"\",\"\",IF(VLOOKUP($A4,出場選手エントリー票!$A$5:$AK$124,29+1,0)=\"\",\"\",VLOOKUP($A4,出場選手エントリー票!$A$5:$AK$124,29+1,0)))","v":""},{"$f":"IF($B4=\"\",\"\",IF(VLOOKUP($A4,出場選手エントリー票!$A$5:$AK$124,33+1,0)=\"\",\"\",VLOOKUP($A4,出場選手エントリー票!$A$5:$AK$124,33+1,0)))","v":""}]
[4,{"$f":"IF(ISERROR(VLOOKUP($A5,出場選手エントリー票!$A$5:$AK$124,5,0)),\"\",VLOOKUP($A5,出場選手エントリー票!$A$5:$AK$124,6,0))","v":""},{"$f":"IF($B5=\"\",\"\",VLOOKUP($A5,出場選手エントリー票!$A$5:$AK$124,7+1,0))","v":""},{"$f":"IF($B5=\"\",\"\",VLOOKUP($A5,出場選手エントリー票!$A$5:$AK$124,8+1,0))","v":""},{"$f":"IF($B5=\"\",\"\",VLOOKUP($A5,出場選手エントリー票!$A$5:$AK$124,11+1,0))","v":""},{"$f":"IF($B5=\"\",\"\",VLOOKUP($A5,出場選手エントリー票!$A$5:$AK$124,12+1,0))","v":""},{"$f":"IF($B5=\"\",\"\",VLOOKUP($A5,出場選手エントリー票!$A$5:$AK$124,13+1,0))","v":""},{"$f":"IF($B5=\"\",\"\",VLOOKUP($A5,出場選手エントリー票!$A$5:$AK$124,14+1,0))","v":""},{"$f":"IF($B5=\"\",\"\",VLOOKUP($A5,出場選手エントリー票!$A$5:$AK$124,15+1,0))","v":""},{"$f":"IF($B5=\"\",\"\",VLOOKUP($A5,出場選手エントリー票!$A$5:$AK$124,16+1,0))","v":""},{"$f":"IF($B5=\"\",\"\",IF(VLOOKUP($A5,出場選手エントリー票!$A$5:$AK$124,17+1,0)=\"\",\"\",VLOOKUP($A5,出場選手エントリー票!$A$5:$AK$124,17+1,0)))","v":""},{"$f":"IF($B5=\"\",\"\",IF(VLOOKUP($A5,出場選手エントリー票!$A$5:$AK$124,21+1,0)=\"\",\"\",VLOOKUP($A5,出場選手エントリー票!$A$5:$AK$124,21+1,0)))","v":""},{"$f":"IF($B5=\"\",\"\",IF(VLOOKUP($A5,出場選手エントリー票!$A$5:$AK$124,25+1,0)=\"\",\"\",VLOOKUP($A5,出場選手エントリー票!$A$5:$AK$124,25+1,0)))","v":""},{"$f":"IF($B5=\"\",\"\",IF(VLOOKUP($A5,出場選手エントリー票!$A$5:$AK$124,29+1,0)=\"\",\"\",VLOOKUP($A5,出場選手エントリー票!$A$5:$AK$124,29+1,0)))","v":""},{"$f":"IF($B5=\"\",\"\",IF(VLOOKUP($A5,出場選手エントリー票!$A$5:$AK$124,33+1,0)=\"\",\"\",VLOOKUP($A5,出場選手エントリー票!$A$5:$AK$124,33+1,0)))","v":""}]
[5,{"$f":"IF(ISERROR(VLOOKUP($A6,出場選手エントリー票!$A$5:$AK$124,5,0)),\"\",VLOOKUP($A6,出場選手エントリー票!$A$5:$AK$124,6,0))","v":""},{"$f":"IF($B6=\"\",\"\",VLOOKUP($A6,出場選手エントリー票!$A$5:$AK$124,7+1,0))","v":""},{"$f":"IF($B6=\"\",\"\",VLOOKUP($A6,出場選手エントリー票!$A$5:$AK$124,8+1,0))","v":""},{"$f":"IF($B6=\"\",\"\",VLOOKUP($A6,出場選手エントリー票!$A$5:$AK$124,11+1,0))","v":""},{"$f":"IF($B6=\"\",\"\",VLOOKUP($A6,出場選手エントリー票!$A$5:$AK$124,12+1,0))","v":""},{"$f":"IF($B6=\"\",\"\",VLOOKUP($A6,出場選手エントリー票!$A$5:$AK$124,13+1,0))","v":""},{"$f":"IF($B6=\"\",\"\",VLOOKUP($A6,出場選手エントリー票!$A$5:$AK$124,14+1,0))","v":""},{"$f":"IF($B6=\"\",\"\",VLOOKUP($A6,出場選手エントリー票!$A$5:$AK$124,15+1,0))","v":""},{"$f":"IF($B6=\"\",\"\",VLOOKUP($A6,出場選手エントリー票!$A$5:$AK$124,16+1,0))","v":""},{"$f":"IF($B6=\"\",\"\",IF(VLOOKUP($A6,出場選手エントリー票!$A$5:$AK$124,17+1,0)=\"\",\"\",VLOOKUP($A6,出場選手エントリー票!$A$5:$AK$124,17+1,0)))","v":""},{"$f":"IF($B6=\"\",\"\",IF(VLOOKUP($A6,出場選手エントリー票!$A$5:$AK$124,21+1,0)=\"\",\"\",VLOOKUP($A6,出場選手エントリー票!$A$5:$AK$124,21+1,0)))","v":""},{"$f":"IF($B6=\"\",\"\",IF(VLOOKUP($A6,出場選手エントリー票!$A$5:$AK$124,25+1,0)=\"\",\"\",VLOOKUP($A6,出場選手エントリー票!$A$5:$AK$124,25+1,0)))","v":""},{"$f":"IF($B6=\"\",\"\",IF(VLOOKUP($A6,出場選手エントリー票!$A$5:$AK$124,29+1,0)=\"\",\"\",VLOOKUP($A6,出場選手エントリー票!$A$5:$AK$124,29+1,0)))","v":""},{"$f":"IF($B6=\"\",\"\",IF(VLOOKUP($A6,出場選手エントリー票!$A$5:$AK$124,33+1,0)=\"\",\"\",VLOOKUP($A6,出場選手エントリー票!$A$5:$AK$124,33+1,0)))","v":""}]
[6,{"$f":"IF(ISERROR(VLOOKUP($A7,出場選手エントリー票!$A$5:$AK$124,5,0)),\"\",VLOOKUP($A7,出場選手エントリー票!$A$5:$AK$124,6,0))","v":""},{"$f":"IF($B7=\"\",\"\",VLOOKUP($A7,出場選手エントリー票!$A$5:$AK$124,7+1,0))","v":""},{"$f":"IF($B7=\"\",\"\",VLOOKUP($A7,出場選手エントリー票!$A$5:$AK$124,8+1,0))","v":""},{"$f":"IF($B7=\"\",\"\",VLOOKUP($A7,出場選手エントリー票!$A$5:$AK$124,11+1,0))","v":""},{"$f":"IF($B7=\"\",\"\",VLOOKUP($A7,出場選手エントリー票!$A$5:$AK$124,12+1,0))","v":""},{"$f":"IF($B7=\"\",\"\",VLOOKUP($A7,出場選手エントリー票!$A$5:$AK$124,13+1,0))","v":""},{"$f":"IF($B7=\"\",\"\",VLOOKUP($A7,出場選手エントリー票!$A$5:$AK$124,14+1,0))","v":""},{"$f":"IF($B7=\"\",\"\",VLOOKUP($A7,出場選手エントリー票!$A$5:$AK$124,15+1,0))","v":""},{"$f":"IF($B7=\"\",\"\",VLOOKUP($A7,出場選手エントリー票!$A$5:$AK$124,16+1,0))","v":""},{"$f":"IF($B7=\"\",\"\",IF(VLOOKUP($A7,出場選手エントリー票!$A$5:$AK$124,17+1,0)=\"\",\"\",VLOOKUP($A7,出場選手エントリー票!$A$5:$AK$124,17+1,0)))","v":""},{"$f":"IF($B7=\"\",\"\",IF(VLOOKUP($A7,出場選手エントリー票!$A$5:$AK$124,21+1,0)=\"\",\"\",VLOOKUP($A7,出場選手エントリー票!$A$5:$AK$124,21+1,0)))","v":""},{"$f":"IF($B7=\"\",\"\",IF(VLOOKUP($A7,出場選手エントリー票!$A$5:$AK$124,25+1,0)=\"\",\"\",VLOOKUP($A7,出場選手エントリー票!$A$5:$AK$124,25+1,0)))","v":""},{"$f":"IF($B7=\"\",\"\",IF(VLOOKUP($A7,出場選手エントリー票!$A$5:$AK$124,29+1,0)=\"\",\"\",VLOOKUP($A7,出場選手エントリー票!$A$5:$AK$124,29+1,0)))","v":""},{"$f":"IF($B7=\"\",\"\",IF(VLOOKUP($A7,出場選手エントリー票!$A$5:$AK$124,33+1,0)=\"\",\"\",VLOOKUP($A7,出場選手エントリー票!$A$5:$AK$124,33+1,0)))","v":""}]
[7,{"$f":"IF(ISERROR(VLOOKUP($A8,出場選手エントリー票!$A$5:$AK$124,5,0)),\"\",VLOOKUP($A8,出場選手エントリー票!$A$5:$AK$124,6,0))","v":""},{"$f":"IF($B8=\"\",\"\",VLOOKUP($A8,出場選手エントリー票!$A$5:$AK$124,7+1,0))","v":""},{"$f":"IF($B8=\"\",\"\",VLOOKUP($A8,出場選手エントリー票!$A$5:$AK$124,8+1,0))","v":""},{"$f":"IF($B8=\"\",\"\",VLOOKUP($A8,出場選手エントリー票!$A$5:$AK$124,11+1,0))","v":""},{"$f":"IF($B8=\"\",\"\",VLOOKUP($A8,出場選手エントリー票!$A$5:$AK$124,12+1,0))","v":""},{"$f":"IF($B8=\"\",\"\",VLOOKUP($A8,出場選手エントリー票!$A$5:$AK$124,13+1,0))","v":""},{"$f":"IF($B8=\"\",\"\",VLOOKUP($A8,出場選手エントリー票!$A$5:$AK$124,14+1,0))","v":""},{"$f":"IF($B8=\"\",\"\",VLOOKUP($A8,出場選手エントリー票!$A$5:$AK$124,15+1,0))","v":""},{"$f":"IF($B8=\"\",\"\",VLOOKUP($A8,出場選手エントリー票!$A$5:$AK$124,16+1,0))","v":""},{"$f":"IF($B8=\"\",\"\",IF(VLOOKUP($A8,出場選手エントリー票!$A$5:$AK$124,17+1,0)=\"\",\"\",VLOOKUP($A8,出場選手エントリー票!$A$5:$AK$124,17+1,0)))","v":""},{"$f":"IF($B8=\"\",\"\",IF(VLOOKUP($A8,出場選手エントリー票!$A$5:$AK$124,21+1,0)=\"\",\"\",VLOOKUP($A8,出場選手エントリー票!$A$5:$AK$124,21+1,0)))","v":""},{"$f":"IF($B8=\"\",\"\",IF(VLOOKUP($A8,出場選手エントリー票!$A$5:$AK$124,25+1,0)=\"\",\"\",VLOOKUP($A8,出場選手エントリー票!$A$5:$AK$124,25+1,0)))","v":""},{"$f":"IF($B8=\"\",\"\",IF(VLOOKUP($A8,出場選手エントリー票!$A$5:$AK$124,29+1,0)=\"\",\"\",VLOOKUP($A8,出場選手エントリー票!$A$5:$AK$124,29+1,0)))","v":""},{"$f":"IF($B8=\"\",\"\",IF(VLOOKUP($A8,出場選手エントリー票!$A$5:$AK$124,33+1,0)=\"\",\"\",VLOOKUP($A8,出場選手エントリー票!$A$5:$AK$124,33+1,0)))","v":""}]
[8,{"$f":"IF(ISERROR(VLOOKUP($A9,出場選手エントリー票!$A$5:$AK$124,5,0)),\"\",VLOOKUP($A9,出場選手エントリー票!$A$5:$AK$124,6,0))","v":""},{"$f":"IF($B9=\"\",\"\",VLOOKUP($A9,出場選手エントリー票!$A$5:$AK$124,7+1,0))","v":""},{"$f":"IF($B9=\"\",\"\",VLOOKUP($A9,出場選手エントリー票!$A$5:$AK$124,8+1,0))","v":""},{"$f":"IF($B9=\"\",\"\",VLOOKUP($A9,出場選手エントリー票!$A$5:$AK$124,11+1,0))","v":""},{"$f":"IF($B9=\"\",\"\",VLOOKUP($A9,出場選手エントリー票!$A$5:$AK$124,12+1,0))","v":""},{"$f":"IF($B9=\"\",\"\",VLOOKUP($A9,出場選手エントリー票!$A$5:$AK$124,13+1,0))","v":""},{"$f":"IF($B9=\"\",\"\",VLOOKUP($A9,出場選手エントリー票!$A$5:$AK$124,14+1,0))","v":""},{"$f":"IF($B9=\"\",\"\",VLOOKUP($A9,出場選手エントリー票!$A$5:$AK$124,15+1,0))","v":""},{"$f":"IF($B9=\"\",\"\",VLOOKUP($A9,出場選手エントリー票!$A$5:$AK$124,16+1,0))","v":""},{"$f":"IF($B9=\"\",\"\",IF(VLOOKUP($A9,出場選手エントリー票!$A$5:$AK$124,17+1,0)=\"\",\"\",VLOOKUP($A9,出場選手エントリー票!$A$5:$AK$124,17+1,0)))","v":""},{"$f":"IF($B9=\"\",\"\",IF(VLOOKUP($A9,出場選手エントリー票!$A$5:$AK$124,21+1,0)=\"\",\"\",VLOOKUP($A9,出場選手エントリー票!$A$5:$AK$124,21+1,0)))","v":""},{"$f":"IF($B9=\"\",\"\",IF(VLOOKUP($A9,出場選手エントリー票!$A$5:$AK$124,25+1,0)=\"\",\"\",VLOOKUP($A9,出場選手エントリー票!$A$5:$AK$124,25+1,0)))","v":""},{"$f":"IF($B9=\"\",\"\",IF(VLOOKUP($A9,出場選手エントリー票!$A$5:$AK$124,29+1,0)=\"\",\"\",VLOOKUP($A9,出場選手エントリー票!$A$5:$AK$124,29+1,0)))","v":""},{"$f":"IF($B9=\"\",\"\",IF(VLOOKUP($A9,出場選手エントリー票!$A$5:$AK$124,33+1,0)=\"\",\"\",VLOOKUP($A9,出場選手エントリー票!$A$5:$AK$124,33+1,0)))","v":""}]
[9,{"$f":"IF(ISERROR(VLOOKUP($A10,出場選手エントリー票!$A$5:$AK$124,5,0)),\"\",VLOOKUP($A10,出場選手エントリー票!$A$5:$AK$124,6,0))","v":""},{"$f":"IF($B10=\"\",\"\",VLOOKUP($A10,出場選手エントリー票!$A$5:$AK$124,7+1,0))","v":""},{"$f":"IF($B10=\"\",\"\",VLOOKUP($A10,出場選手エントリー票!$A$5:$AK$124,8+1,0))","v":""},{"$f":"IF($B10=\"\",\"\",VLOOKUP($A10,出場選手エントリー票!$A$5:$AK$124,11+1,0))","v":""},{"$f":"IF($B10=\"\",\"\",VLOOKUP($A10,出場選手エントリー票!$A$5:$AK$124,12+1,0))","v":""},{"$f":"IF($B10=\"\",\"\",VLOOKUP($A10,出場選手エントリー票!$A$5:$AK$124,13+1,0))","v":""},{"$f":"IF($B10=\"\",\"\",VLOOKUP($A10,出場選手エントリー票!$A$5:$AK$124,14+1,0))","v":""},{"$f":"IF($B10=\"\",\"\",VLOOKUP($A10,出場選手エントリー票!$A$5:$AK$124,15+1,0))","v":""},{"$f":"IF($B10=\"\",\"\",VLOOKUP($A10,出場選手エントリー票!$A$5:$AK$124,16+1,0))","v":""},{"$f":"IF($B10=\"\",\"\",IF(VLOOKUP($A10,出場選手エントリー票!$A$5:$AK$124,17+1,0)=\"\",\"\",VLOOKUP($A10,出場選手エントリー票!$A$5:$AK$124,17+1,0)))","v":""},{"$f":"IF($B10=\"\",\"\",IF(VLOOKUP($A10,出場選手エントリー票!$A$5:$AK$124,21+1,0)=\"\",\"\",VLOOKUP($A10,出場選手エントリー票!$A$5:$AK$124,21+1,0)))","v":""},{"$f":"IF($B10=\"\",\"\",IF(VLOOKUP($A10,出場選手エントリー票!$A$5:$AK$124,25+1,0)=\"\",\"\",VLOOKUP($A10,出場選手エントリー票!$A$5:$AK$124,25+1,0)))","v":""},{"$f":"IF($B10=\"\",\"\",IF(VLOOKUP($A10,出場選手エントリー票!$A$5:$AK$124,29+1,0)=\"\",\"\",VLOOKUP($A10,出場選手エントリー票!$A$5:$AK$124,29+1,0)))","v":""},{"$f":"IF($B10=\"\",\"\",IF(VLOOKUP($A10,出場選手エントリー票!$A$5:$AK$124,33+1,0)=\"\",\"\",VLOOKUP($A10,出場選手エントリー票!$A$5:$AK$124,33+1,0)))","v":""}]
[10,{"$f":"IF(ISERROR(VLOOKUP($A11,出場選手エントリー票!$A$5:$AK$124,5,0)),\"\",VLOOKUP($A11,出場選手エントリー票!$A$5:$AK$124,6,0))","v":""},{"$f":"IF($B11=\"\",\"\",VLOOKUP($A11,出場選手エントリー票!$A$5:$AK$124,7+1,0))","v":""},{"$f":"IF($B11=\"\",\"\",VLOOKUP($A11,出場選手エントリー票!$A$5:$AK$124,8+1,0))","v":""},{"$f":"IF($B11=\"\",\"\",VLOOKUP($A11,出場選手エントリー票!$A$5:$AK$124,11+1,0))","v":""},{"$f":"IF($B11=\"\",\"\",VLOOKUP($A11,出場選手エントリー票!$A$5:$AK$124,12+1,0))","v":""},{"$f":"IF($B11=\"\",\"\",VLOOKUP($A11,出場選手エントリー票!$A$5:$AK$124,13+1,0))","v":""},{"$f":"IF($B11=\"\",\"\",VLOOKUP($A11,出場選手エントリー票!$A$5:$AK$124,14+1,0))","v":""},{"$f":"IF($B11=\"\",\"\",VLOOKUP($A11,出場選手エントリー票!$A$5:$AK$124,15+1,0))","v":""},{"$f":"IF($B11=\"\",\"\",VLOOKUP($A11,出場選手エントリー票!$A$5:$AK$124,16+1,0))","v":""},{"$f":"IF($B11=\"\",\"\",IF(VLOOKUP($A11,出場選手エントリー票!$A$5:$AK$124,17+1,0)=\"\",\"\",VLOOKUP($A11,出場選手エントリー票!$A$5:$AK$124,17+1,0)))","v":""},{"$f":"IF($B11=\"\",\"\",IF(VLOOKUP($A11,出場選手エントリー票!$A$5:$AK$124,21+1,0)=\"\",\"\",VLOOKUP($A11,出場選手エントリー票!$A$5:$AK$124,21+1,0)))","v":""},{"$f":"IF($B11=\"\",\"\",IF(VLOOKUP($A11,出場選手エントリー票!$A$5:$AK$124,25+1,0)=\"\",\"\",VLOOKUP($A11,出場選手エントリー票!$A$5:$AK$124,25+1,0)))","v":""},{"$f":"IF($B11=\"\",\"\",IF(VLOOKUP($A11,出場選手エントリー票!$A$5:$AK$124,29+1,0)=\"\",\"\",VLOOKUP($A11,出場選手エントリー票!$A$5:$AK$124,29+1,0)))","v":""},{"$f":"IF($B11=\"\",\"\",IF(VLOOKUP($A11,出場選手エントリー票!$A$5:$AK$124,33+1,0)=\"\",\"\",VLOOKUP($A11,出場選手エントリー票!$A$5:$AK$124,33+1,0)))","v":""}]
[11,{"$f":"IF(ISERROR(VLOOKUP($A12,出場選手エントリー票!$A$5:$AK$124,5,0)),\"\",VLOOKUP($A12,出場選手エントリー票!$A$5:$AK$124,6,0))","v":""},{"$f":"IF($B12=\"\",\"\",VLOOKUP($A12,出場選手エントリー票!$A$5:$AK$124,7+1,0))","v":""},{"$f":"IF($B12=\"\",\"\",VLOOKUP($A12,出場選手エントリー票!$A$5:$AK$124,8+1,0))","v":""},{"$f":"IF($B12=\"\",\"\",VLOOKUP($A12,出場選手エントリー票!$A$5:$AK$124,11+1,0))","v":""},{"$f":"IF($B12=\"\",\"\",VLOOKUP($A12,出場選手エントリー票!$A$5:$AK$124,12+1,0))","v":""},{"$f":"IF($B12=\"\",\"\",VLOOKUP($A12,出場選手エントリー票!$A$5:$AK$124,13+1,0))","v":""},{"$f":"IF($B12=\"\",\"\",VLOOKUP($A12,出場選手エントリー票!$A$5:$AK$124,14+1,0))","v":""},{"$f":"IF($B12=\"\",\"\",VLOOKUP($A12,出場選手エントリー票!$A$5:$AK$124,15+1,0))","v":""},{"$f":"IF($B12=\"\",\"\",VLOOKUP($A12,出場選手エントリー票!$A$5:$AK$124,16+1,0))","v":""},{"$f":"IF($B12=\"\",\"\",IF(VLOOKUP($A12,出場選手エントリー票!$A$5:$AK$124,17+1,0)=\"\",\"\",VLOOKUP($A12,出場選手エントリー票!$A$5:$AK$124,17+1,0)))","v":""},{"$f":"IF($B12=\"\",\"\",IF(VLOOKUP($A12,出場選手エントリー票!$A$5:$AK$124,21+1,0)=\"\",\"\",VLOOKUP($A12,出場選手エントリー票!$A$5:$AK$124,21+1,0)))","v":""},{"$f":"IF($B12=\"\",\"\",IF(VLOOKUP($A12,出場選手エントリー票!$A$5:$AK$124,25+1,0)=\"\",\"\",VLOOKUP($A12,出場選手エントリー票!$A$5:$AK$124,25+1,0)))","v":""},{"$f":"IF($B12=\"\",\"\",IF(VLOOKUP($A12,出場選手エントリー票!$A$5:$AK$124,29+1,0)=\"\",\"\",VLOOKUP($A12,出場選手エントリー票!$A$5:$AK$124,29+1,0)))","v":""},{"$f":"IF($B12=\"\",\"\",IF(VLOOKUP($A12,出場選手エントリー票!$A$5:$AK$124,33+1,0)=\"\",\"\",VLOOKUP($A12,出場選手エントリー票!$A$5:$AK$124,33+1,0)))","v":""}]
[12,{"$f":"IF(ISERROR(VLOOKUP($A13,出場選手エントリー票!$A$5:$AK$124,5,0)),\"\",VLOOKUP($A13,出場選手エントリー票!$A$5:$AK$124,6,0))","v":""},{"$f":"IF($B13=\"\",\"\",VLOOKUP($A13,出場選手エントリー票!$A$5:$AK$124,7+1,0))","v":""},{"$f":"IF($B13=\"\",\"\",VLOOKUP($A13,出場選手エントリー票!$A$5:$AK$124,8+1,0))","v":""},{"$f":"IF($B13=\"\",\"\",VLOOKUP($A13,出場選手エントリー票!$A$5:$AK$124,11+1,0))","v":""},{"$f":"IF($B13=\"\",\"\",VLOOKUP($A13,出場選手エントリー票!$A$5:$AK$124,12+1,0))","v":""},{"$f":"IF($B13=\"\",\"\",VLOOKUP($A13,出場選手エントリー票!$A$5:$AK$124,13+1,0))","v":""},{"$f":"IF($B13=\"\",\"\",VLOOKUP($A13,出場選手エントリー票!$A$5:$AK$124,14+1,0))","v":""},{"$f":"IF($B13=\"\",\"\",VLOOKUP($A13,出場選手エントリー票!$A$5:$AK$124,15+1,0))","v":""},{"$f":"IF($B13=\"\",\"\",VLOOKUP($A13,出場選手エントリー票!$A$5:$AK$124,16+1,0))","v":""},{"$f":"IF($B13=\"\",\"\",IF(VLOOKUP($A13,出場選手エントリー票!$A$5:$AK$124,17+1,0)=\"\",\"\",VLOOKUP($A13,出場選手エントリー票!$A$5:$AK$124,17+1,0)))","v":""},{"$f":"IF($B13=\"\",\"\",IF(VLOOKUP($A13,出場選手エントリー票!$A$5:$AK$124,21+1,0)=\"\",\"\",VLOOKUP($A13,出場選手エントリー票!$A$5:$AK$124,21+1,0)))","v":""},{"$f":"IF($B13=\"\",\"\",IF(VLOOKUP($A13,出場選手エントリー票!$A$5:$AK$124,25+1,0)=\"\",\"\",VLOOKUP($A13,出場選手エントリー票!$A$5:$AK$124,25+1,0)))","v":""},{"$f":"IF($B13=\"\",\"\",IF(VLOOKUP($A13,出場選手エントリー票!$A$5:$AK$124,29+1,0)=\"\",\"\",VLOOKUP($A13,出場選手エントリー票!$A$5:$AK$124,29+1,0)))","v":""},{"$f":"IF($B13=\"\",\"\",IF(VLOOKUP($A13,出場選手エントリー票!$A$5:$AK$124,33+1,0)=\"\",\"\",VLOOKUP($A13,出場選手エントリー票!$A$5:$AK$124,33+1,0)))","v":""}]
[13,{"$f":"IF(ISERROR(VLOOKUP($A14,出場選手エントリー票!$A$5:$AK$124,5,0)),\"\",VLOOKUP($A14,出場選手エントリー票!$A$5:$AK$124,6,0))","v":""},{"$f":"IF($B14=\"\",\"\",VLOOKUP($A14,出場選手エントリー票!$A$5:$AK$124,7+1,0))","v":""},{"$f":"IF($B14=\"\",\"\",VLOOKUP($A14,出場選手エントリー票!$A$5:$AK$124,8+1,0))","v":""},{"$f":"IF($B14=\"\",\"\",VLOOKUP($A14,出場選手エントリー票!$A$5:$AK$124,11+1,0))","v":""},{"$f":"IF($B14=\"\",\"\",VLOOKUP($A14,出場選手エントリー票!$A$5:$AK$124,12+1,0))","v":""},{"$f":"IF($B14=\"\",\"\",VLOOKUP($A14,出場選手エントリー票!$A$5:$AK$124,13+1,0))","v":""},{"$f":"IF($B14=\"\",\"\",VLOOKUP($A14,出場選手エントリー票!$A$5:$AK$124,14+1,0))","v":""},{"$f":"IF($B14=\"\",\"\",VLOOKUP($A14,出場選手エントリー票!$A$5:$AK$124,15+1,0))","v":""},{"$f":"IF($B14=\"\",\"\",VLOOKUP($A14,出場選手エントリー票!$A$5:$AK$124,16+1,0))","v":""},{"$f":"IF($B14=\"\",\"\",IF(VLOOKUP($A14,出場選手エントリー票!$A$5:$AK$124,17+1,0)=\"\",\"\",VLOOKUP($A14,出場選手エントリー票!$A$5:$AK$124,17+1,0)))","v":""},{"$f":"IF($B14=\"\",\"\",IF(VLOOKUP($A14,出場選手エントリー票!$A$5:$AK$124,21+1,0)=\"\",\"\",VLOOKUP($A14,出場選手エントリー票!$A$5:$AK$124,21+1,0)))","v":""},{"$f":"IF($B14=\"\",\"\",IF(VLOOKUP($A14,出場選手エントリー票!$A$5:$AK$124,25+1,0)=\"\",\"\",VLOOKUP($A14,出場選手エントリー票!$A$5:$AK$124,25+1,0)))","v":""},{"$f":"IF($B14=\"\",\"\",IF(VLOOKUP($A14,出場選手エントリー票!$A$5:$AK$124,29+1,0)=\"\",\"\",VLOOKUP($A14,出場選手エントリー票!$A$5:$AK$124,29+1,0)))","v":""},{"$f":"IF($B14=\"\",\"\",IF(VLOOKUP($A14,出場選手エントリー票!$A$5:$AK$124,33+1,0)=\"\",\"\",VLOOKUP($A14,出場選手エントリー票!$A$5:$AK$124,33+1,0)))","v":""}]
[14,{"$f":"IF(ISERROR(VLOOKUP($A15,出場選手エントリー票!$A$5:$AK$124,5,0)),\"\",VLOOKUP($A15,出場選手エントリー票!$A$5:$AK$124,6,0))","v":""},{"$f":"IF($B15=\"\",\"\",VLOOKUP($A15,出場選手エントリー票!$A$5:$AK$124,7+1,0))","v":""},{"$f":"IF($B15=\"\",\"\",VLOOKUP($A15,出場選手エントリー票!$A$5:$AK$124,8+1,0))","v":""},{"$f":"IF($B15=\"\",\"\",VLOOKUP($A15,出場選手エントリー票!$A$5:$AK$124,11+1,0))","v":""},{"$f":"IF($B15=\"\",\"\",VLOOKUP($A15,出場選手エントリー票!$A$5:$AK$124,12+1,0))","v":""},{"$f":"IF($B15=\"\",\"\",VLOOKUP($A15,出場選手エントリー票!$A$5:$AK$124,13+1,0))","v":""},{"$f":"IF($B15=\"\",\"\",VLOOKUP($A15,出場選手エントリー票!$A$5:$AK$124,14+1,0))","v":""},{"$f":"IF($B15=\"\",\"\",VLOOKUP($A15,出場選手エントリー票!$A$5:$AK$124,15+1,0))","v":""},{"$f":"IF($B15=\"\",\"\",VLOOKUP($A15,出場選手エントリー票!$A$5:$AK$124,16+1,0))","v":""},{"$f":"IF($B15=\"\",\"\",IF(VLOOKUP($A15,出場選手エントリー票!$A$5:$AK$124,17+1,0)=\"\",\"\",VLOOKUP($A15,出場選手エントリー票!$A$5:$AK$124,17+1,0)))","v":""},{"$f":"IF($B15=\"\",\"\",IF(VLOOKUP($A15,出場選手エントリー票!$A$5:$AK$124,21+1,0)=\"\",\"\",VLOOKUP($A15,出場選手エントリー票!$A$5:$AK$124,21+1,0)))","v":""},{"$f":"IF($B15=\"\",\"\",IF(VLOOKUP($A15,出場選手エントリー票!$A$5:$AK$124,25+1,0)=\"\",\"\",VLOOKUP($A15,出場選手エントリー票!$A$5:$AK$124,25+1,0)))","v":""},{"$f":"IF($B15=\"\",\"\",IF(VLOOKUP($A15,出場選手エントリー票!$A$5:$AK$124,29+1,0)=\"\",\"\",VLOOKUP($A15,出場選手エントリー票!$A$5:$AK$124,29+1,0)))","v":""},{"$f":"IF($B15=\"\",\"\",IF(VLOOKUP($A15,出場選手エントリー票!$A$5:$AK$124,33+1,0)=\"\",\"\",VLOOKUP($A15,出場選手エントリー票!$A$5:$AK$124,33+1,0)))","v":""}]
[15,{"$f":"IF(ISERROR(VLOOKUP($A16,出場選手エントリー票!$A$5:$AK$124,5,0)),\"\",VLOOKUP($A16,出場選手エントリー票!$A$5:$AK$124,6,0))","v":""},{"$f":"IF($B16=\"\",\"\",VLOOKUP($A16,出場選手エントリー票!$A$5:$AK$124,7+1,0))","v":""},{"$f":"IF($B16=\"\",\"\",VLOOKUP($A16,出場選手エントリー票!$A$5:$AK$124,8+1,0))","v":""},{"$f":"IF($B16=\"\",\"\",VLOOKUP($A16,出場選手エントリー票!$A$5:$AK$124,11+1,0))","v":""},{"$f":"IF($B16=\"\",\"\",VLOOKUP($A16,出場選手エントリー票!$A$5:$AK$124,12+1,0))","v":""},{"$f":"IF($B16=\"\",\"\",VLOOKUP($A16,出場選手エントリー票!$A$5:$AK$124,13+1,0))","v":""},{"$f":"IF($B16=\"\",\"\",VLOOKUP($A16,出場選手エントリー票!$A$5:$AK$124,14+1,0))","v":""},{"$f":"IF($B16=\"\",\"\",VLOOKUP($A16,出場選手エントリー票!$A$5:$AK$124,15+1,0))","v":""},{"$f":"IF($B16=\"\",\"\",VLOOKUP($A16,出場選手エントリー票!$A$5:$AK$124,16+1,0))","v":""},{"$f":"IF($B16=\"\",\"\",IF(VLOOKUP($A16,出場選手エントリー票!$A$5:$AK$124,17+1,0)=\"\",\"\",VLOOKUP($A16,出場選手エントリー票!$A$5:$AK$124,17+1,0)))","v":""},{"$f":"IF($B16=\"\",\"\",IF(VLOOKUP($A16,出場選手エントリー票!$A$5:$AK$124,21+1,0)=\"\",\"\",VLOOKUP($A16,出場選手エントリー票!$A$5:$AK$124,21+1,0)))","v":""},{"$f":"IF($B16=\"\",\"\",IF(VLOOKUP($A16,出場選手エントリー票!$A$5:$AK$124,25+1,0)=\"\",\"\",VLOOKUP($A16,出場選手エントリー票!$A$5:$AK$124,25+1,0)))","v":""},{"$f":"IF($B16=\"\",\"\",IF(VLOOKUP($A16,出場選手エントリー票!$A$5:$AK$124,29+1,0)=\"\",\"\",VLOOKUP($A16,出場選手エントリー票!$A$5:$AK$124,29+1,0)))","v":""},{"$f":"IF($B16=\"\",\"\",IF(VLOOKUP($A16,出場選手エントリー票!$A$5:$AK$124,33+1,0)=\"\",\"\",VLOOKUP($A16,出場選手エントリー票!$A$5:$AK$124,33+1,0)))","v":""}]
[16,{"$f":"IF(ISERROR(VLOOKUP($A17,出場選手エントリー票!$A$5:$AK$124,5,0)),\"\",VLOOKUP($A17,出場選手エントリー票!$A$5:$AK$124,6,0))","v":""},{"$f":"IF($B17=\"\",\"\",VLOOKUP($A17,出場選手エントリー票!$A$5:$AK$124,7+1,0))","v":""},{"$f":"IF($B17=\"\",\"\",VLOOKUP($A17,出場選手エントリー票!$A$5:$AK$124,8+1,0))","v":""},{"$f":"IF($B17=\"\",\"\",VLOOKUP($A17,出場選手エントリー票!$A$5:$AK$124,11+1,0))","v":""},{"$f":"IF($B17=\"\",\"\",VLOOKUP($A17,出場選手エントリー票!$A$5:$AK$124,12+1,0))","v":""},{"$f":"IF($B17=\"\",\"\",VLOOKUP($A17,出場選手エントリー票!$A$5:$AK$124,13+1,0))","v":""},{"$f":"IF($B17=\"\",\"\",VLOOKUP($A17,出場選手エントリー票!$A$5:$AK$124,14+1,0))","v":""},{"$f":"IF($B17=\"\",\"\",VLOOKUP($A17,出場選手エントリー票!$A$5:$AK$124,15+1,0))","v":""},{"$f":"IF($B17=\"\",\"\",VLOOKUP($A17,出場選手エントリー票!$A$5:$AK$124,16+1,0))","v":""},{"$f":"IF($B17=\"\",\"\",IF(VLOOKUP($A17,出場選手エントリー票!$A$5:$AK$124,17+1,0)=\"\",\"\",VLOOKUP($A17,出場選手エントリー票!$A$5:$AK$124,17+1,0)))","v":""},{"$f":"IF($B17=\"\",\"\",IF(VLOOKUP($A17,出場選手エントリー票!$A$5:$AK$124,21+1,0)=\"\",\"\",VLOOKUP($A17,出場選手エントリー票!$A$5:$AK$124,21+1,0)))","v":""},{"$f":"IF($B17=\"\",\"\",IF(VLOOKUP($A17,出場選手エントリー票!$A$5:$AK$124,25+1,0)=\"\",\"\",VLOOKUP($A17,出場選手エントリー票!$A$5:$AK$124,25+1,0)))","v":""},{"$f":"IF($B17=\"\",\"\",IF(VLOOKUP($A17,出場選手エントリー票!$A$5:$AK$124,29+1,0)=\"\",\"\",VLOOKUP($A17,出場選手エントリー票!$A$5:$AK$124,29+1,0)))","v":""},{"$f":"IF($B17=\"\",\"\",IF(VLOOKUP($A17,出場選手エントリー票!$A$5:$AK$124,33+1,0)=\"\",\"\",VLOOKUP($A17,出場選手エントリー票!$A$5:$AK$124,33+1,0)))","v":""}]
[17,{"$f":"IF(ISERROR(VLOOKUP($A18,出場選手エントリー票!$A$5:$AK$124,5,0)),\"\",VLOOKUP($A18,出場選手エントリー票!$A$5:$AK$124,6,0))","v":""},{"$f":"IF($B18=\"\",\"\",VLOOKUP($A18,出場選手エントリー票!$A$5:$AK$124,7+1,0))","v":""},{"$f":"IF($B18=\"\",\"\",VLOOKUP($A18,出場選手エントリー票!$A$5:$AK$124,8+1,0))","v":""},{"$f":"IF($B18=\"\",\"\",VLOOKUP($A18,出場選手エントリー票!$A$5:$AK$124,11+1,0))","v":""},{"$f":"IF($B18=\"\",\"\",VLOOKUP($A18,出場選手エントリー票!$A$5:$AK$124,12+1,0))","v":""},{"$f":"IF($B18=\"\",\"\",VLOOKUP($A18,出場選手エントリー票!$A$5:$AK$124,13+1,0))","v":""},{"$f":"IF($B18=\"\",\"\",VLOOKUP($A18,出場選手エントリー票!$A$5:$AK$124,14+1,0))","v":""},{"$f":"IF($B18=\"\",\"\",VLOOKUP($A18,出場選手エントリー票!$A$5:$AK$124,15+1,0))","v":""},{"$f":"IF($B18=\"\",\"\",VLOOKUP($A18,出場選手エントリー票!$A$5:$AK$124,16+1,0))","v":""},{"$f":"IF($B18=\"\",\"\",IF(VLOOKUP($A18,出場選手エントリー票!$A$5:$AK$124,17+1,0)=\"\",\"\",VLOOKUP($A18,出場選手エントリー票!$A$5:$AK$124,17+1,0)))","v":""},{"$f":"IF($B18=\"\",\"\",IF(VLOOKUP($A18,出場選手エントリー票!$A$5:$AK$124,21+1,0)=\"\",\"\",VLOOKUP($A18,出場選手エントリー票!$A$5:$AK$124,21+1,0)))","v":""},{"$f":"IF($B18=\"\",\"\",IF(VLOOKUP($A18,出場選手エントリー票!$A$5:$AK$124,25+1,0)=\"\",\"\",VLOOKUP($A18,出場選手エントリー票!$A$5:$AK$124,25+1,0)))","v":""},{"$f":"IF($B18=\"\",\"\",IF(VLOOKUP($A18,出場選手エントリー票!$A$5:$AK$124,29+1,0)=\"\",\"\",VLOOKUP($A18,出場選手エントリー票!$A$5:$AK$124,29+1,0)))","v":""},{"$f":"IF($B18=\"\",\"\",IF(VLOOKUP($A18,出場選手エントリー票!$A$5:$AK$124,33+1,0)=\"\",\"\",VLOOKUP($A18,出場選手エントリー票!$A$5:$AK$124,33+1,0)))","v":""}]
[18,{"$f":"IF(ISERROR(VLOOKUP($A19,出場選手エントリー票!$A$5:$AK$124,5,0)),\"\",VLOOKUP($A19,出場選手エントリー票!$A$5:$AK$124,6,0))","v":""},{"$f":"IF($B19=\"\",\"\",VLOOKUP($A19,出場選手エントリー票!$A$5:$AK$124,7+1,0))","v":""},{"$f":"IF($B19=\"\",\"\",VLOOKUP($A19,出場選手エントリー票!$A$5:$AK$124,8+1,0))","v":""},{"$f":"IF($B19=\"\",\"\",VLOOKUP($A19,出場選手エントリー票!$A$5:$AK$124,11+1,0))","v":""},{"$f":"IF($B19=\"\",\"\",VLOOKUP($A19,出場選手エントリー票!$A$5:$AK$124,12+1,0))","v":""},{"$f":"IF($B19=\"\",\"\",VLOOKUP($A19,出場選手エントリー票!$A$5:$AK$124,13+1,0))","v":""},{"$f":"IF($B19=\"\",\"\",VLOOKUP($A19,出場選手エントリー票!$A$5:$AK$124,14+1,0))","v":""},{"$f":"IF($B19=\"\",\"\",VLOOKUP($A19,出場選手エントリー票!$A$5:$AK$124,15+1,0))","v":""},{"$f":"IF($B19=\"\",\"\",VLOOKUP($A19,出場選手エントリー票!$A$5:$AK$124,16+1,0))","v":""},{"$f":"IF($B19=\"\",\"\",IF(VLOOKUP($A19,出場選手エントリー票!$A$5:$AK$124,17+1,0)=\"\",\"\",VLOOKUP($A19,出場選手エントリー票!$A$5:$AK$124,17+1,0)))","v":""},{"$f":"IF($B19=\"\",\"\",IF(VLOOKUP($A19,出場選手エントリー票!$A$5:$AK$124,21+1,0)=\"\",\"\",VLOOKUP($A19,出場選手エントリー票!$A$5:$AK$124,21+1,0)))","v":""},{"$f":"IF($B19=\"\",\"\",IF(VLOOKUP($A19,出場選手エントリー票!$A$5:$AK$124,25+1,0)=\"\",\"\",VLOOKUP($A19,出場選手エントリー票!$A$5:$AK$124,25+1,0)))","v":""},{"$f":"IF($B19=\"\",\"\",IF(VLOOKUP($A19,出場選手エントリー票!$A$5:$AK$124,29+1,0)=\"\",\"\",VLOOKUP($A19,出場選手エントリー票!$A$5:$AK$124,29+1,0)))","v":""},{"$f":"IF($B19=\"\",\"\",IF(VLOOKUP($A19,出場選手エントリー票!$A$5:$AK$124,33+1,0)=\"\",\"\",VLOOKUP($A19,出場選手エントリー票!$A$5:$AK$124,33+1,0)))","v":""}]
[19,{"$f":"IF(ISERROR(VLOOKUP($A20,出場選手エントリー票!$A$5:$AK$124,5,0)),\"\",VLOOKUP($A20,出場選手エントリー票!$A$5:$AK$124,6,0))","v":""},{"$f":"IF($B20=\"\",\"\",VLOOKUP($A20,出場選手エントリー票!$A$5:$AK$124,7+1,0))","v":""},{"$f":"IF($B20=\"\",\"\",VLOOKUP($A20,出場選手エントリー票!$A$5:$AK$124,8+1,0))","v":""},{"$f":"IF($B20=\"\",\"\",VLOOKUP($A20,出場選手エントリー票!$A$5:$AK$124,11+1,0))","v":""},{"$f":"IF($B20=\"\",\"\",VLOOKUP($A20,出場選手エントリー票!$A$5:$AK$124,12+1,0))","v":""},{"$f":"IF($B20=\"\",\"\",VLOOKUP($A20,出場選手エントリー票!$A$5:$AK$124,13+1,0))","v":""},{"$f":"IF($B20=\"\",\"\",VLOOKUP($A20,出場選手エントリー票!$A$5:$AK$124,14+1,0))","v":""},{"$f":"IF($B20=\"\",\"\",VLOOKUP($A20,出場選手エントリー票!$A$5:$AK$124,15+1,0))","v":""},{"$f":"IF($B20=\"\",\"\",VLOOKUP($A20,出場選手エントリー票!$A$5:$AK$124,16+1,0))","v":""},{"$f":"IF($B20=\"\",\"\",IF(VLOOKUP($A20,出場選手エントリー票!$A$5:$AK$124,17+1,0)=\"\",\"\",VLOOKUP($A20,出場選手エントリー票!$A$5:$AK$124,17+1,0)))","v":""},{"$f":"IF($B20=\"\",\"\",IF(VLOOKUP($A20,出場選手エントリー票!$A$5:$AK$124,21+1,0)=\"\",\"\",VLOOKUP($A20,出場選手エントリー票!$A$5:$AK$124,21+1,0)))","v":""},{"$f":"IF($B20=\"\",\"\",IF(VLOOKUP($A20,出場選手エントリー票!$A$5:$AK$124,25+1,0)=\"\",\"\",VLOOKUP($A20,出場選手エントリー票!$A$5:$AK$124,25+1,0)))","v":""},{"$f":"IF($B20=\"\",\"\",IF(VLOOKUP($A20,出場選手エントリー票!$A$5:$AK$124,29+1,0)=\"\",\"\",VLOOKUP($A20,出場選手エントリー票!$A$5:$AK$124,29+1,0)))","v":""},{"$f":"IF($B20=\"\",\"\",IF(VLOOKUP($A20,出場選手エントリー票!$A$5:$AK$124,33+1,0)=\"\",\"\",VLOOKUP($A20,出場選手エントリー票!$A$5:$AK$124,33+1,0)))","v":""}]
[20,{"$f":"IF(ISERROR(VLOOKUP($A21,出場選手エントリー票!$A$5:$AK$124,5,0)),\"\",VLOOKUP($A21,出場選手エントリー票!$A$5:$AK$124,6,0))","v":""},{"$f":"IF($B21=\"\",\"\",VLOOKUP($A21,出場選手エントリー票!$A$5:$AK$124,7+1,0))","v":""},{"$f":"IF($B21=\"\",\"\",VLOOKUP($A21,出場選手エントリー票!$A$5:$AK$124,8+1,0))","v":""},{"$f":"IF($B21=\"\",\"\",VLOOKUP($A21,出場選手エントリー票!$A$5:$AK$124,11+1,0))","v":""},{"$f":"IF($B21=\"\",\"\",VLOOKUP($A21,出場選手エントリー票!$A$5:$AK$124,12+1,0))","v":""},{"$f":"IF($B21=\"\",\"\",VLOOKUP($A21,出場選手エントリー票!$A$5:$AK$124,13+1,0))","v":""},{"$f":"IF($B21=\"\",\"\",VLOOKUP($A21,出場選手エントリー票!$A$5:$AK$124,14+1,0))","v":""},{"$f":"IF($B21=\"\",\"\",VLOOKUP($A21,出場選手エントリー票!$A$5:$AK$124,15+1,0))","v":""},{"$f":"IF($B21=\"\",\"\",VLOOKUP($A21,出場選手エントリー票!$A$5:$AK$124,16+1,0))","v":""},{"$f":"IF($B21=\"\",\"\",IF(VLOOKUP($A21,出場選手エントリー票!$A$5:$AK$124,17+1,0)=\"\",\"\",VLOOKUP($A21,出場選手エントリー票!$A$5:$AK$124,17+1,0)))","v":""},{"$f":"IF($B21=\"\",\"\",IF(VLOOKUP($A21,出場選手エントリー票!$A$5:$AK$124,21+1,0)=\"\",\"\",VLOOKUP($A21,出場選手エントリー票!$A$5:$AK$124,21+1,0)))","v":""},{"$f":"IF($B21=\"\",\"\",IF(VLOOKUP($A21,出場選手エントリー票!$A$5:$AK$124,25+1,0)=\"\",\"\",VLOOKUP($A21,出場選手エントリー票!$A$5:$AK$124,25+1,0)))","v":""},{"$f":"IF($B21=\"\",\"\",IF(VLOOKUP($A21,出場選手エントリー票!$A$5:$AK$124,29+1,0)=\"\",\"\",VLOOKUP($A21,出場選手エントリー票!$A$5:$AK$124,29+1,0)))","v":""},{"$f":"IF($B21=\"\",\"\",IF(VLOOKUP($A21,出場選手エントリー票!$A$5:$AK$124,33+1,0)=\"\",\"\",VLOOKUP($A21,出場選手エントリー票!$A$5:$AK$124,33+1,0)))","v":""}]
[21,{"$f":"IF(ISERROR(VLOOKUP($A22,出場選手エントリー票!$A$5:$AK$124,5,0)),\"\",VLOOKUP($A22,出場選手エントリー票!$A$5:$AK$124,6,0))","v":""},{"$f":"IF($B22=\"\",\"\",VLOOKUP($A22,出場選手エントリー票!$A$5:$AK$124,7+1,0))","v":""},{"$f":"IF($B22=\"\",\"\",VLOOKUP($A22,出場選手エントリー票!$A$5:$AK$124,8+1,0))","v":""},{"$f":"IF($B22=\"\",\"\",VLOOKUP($A22,出場選手エントリー票!$A$5:$AK$124,11+1,0))","v":""},{"$f":"IF($B22=\"\",\"\",VLOOKUP($A22,出場選手エントリー票!$A$5:$AK$124,12+1,0))","v":""},{"$f":"IF($B22=\"\",\"\",VLOOKUP($A22,出場選手エントリー票!$A$5:$AK$124,13+1,0))","v":""},{"$f":"IF($B22=\"\",\"\",VLOOKUP($A22,出場選手エントリー票!$A$5:$AK$124,14+1,0))","v":""},{"$f":"IF($B22=\"\",\"\",VLOOKUP($A22,出場選手エントリー票!$A$5:$AK$124,15+1,0))","v":""},{"$f":"IF($B22=\"\",\"\",VLOOKUP($A22,出場選手エントリー票!$A$5:$AK$124,16+1,0))","v":""},{"$f":"IF($B22=\"\",\"\",IF(VLOOKUP($A22,出場選手エントリー票!$A$5:$AK$124,17+1,0)=\"\",\"\",VLOOKUP($A22,出場選手エントリー票!$A$5:$AK$124,17+1,0)))","v":""},{"$f":"IF($B22=\"\",\"\",IF(VLOOKUP($A22,出場選手エントリー票!$A$5:$AK$124,21+1,0)=\"\",\"\",VLOOKUP($A22,出場選手エントリー票!$A$5:$AK$124,21+1,0)))","v":""},{"$f":"IF($B22=\"\",\"\",IF(VLOOKUP($A22,出場選手エントリー票!$A$5:$AK$124,25+1,0)=\"\",\"\",VLOOKUP($A22,出場選手エントリー票!$A$5:$AK$124,25+1,0)))","v":""},{"$f":"IF($B22=\"\",\"\",IF(VLOOKUP($A22,出場選手エントリー票!$A$5:$AK$124,29+1,0)=\"\",\"\",VLOOKUP($A22,出場選手エントリー票!$A$5:$AK$124,29+1,0)))","v":""},{"$f":"IF($B22=\"\",\"\",IF(VLOOKUP($A22,出場選手エントリー票!$A$5:$AK$124,33+1,0)=\"\",\"\",VLOOKUP($A22,出場選手エントリー票!$A$5:$AK$124,33+1,0)))","v":""}]
[22,{"$f":"IF(ISERROR(VLOOKUP($A23,出場選手エントリー票!$A$5:$AK$124,5,0)),\"\",VLOOKUP($A23,出場選手エントリー票!$A$5:$AK$124,6,0))","v":""},{"$f":"IF($B23=\"\",\"\",VLOOKUP($A23,出場選手エントリー票!$A$5:$AK$124,7+1,0))","v":""},{"$f":"IF($B23=\"\",\"\",VLOOKUP($A23,出場選手エントリー票!$A$5:$AK$124,8+1,0))","v":""},{"$f":"IF($B23=\"\",\"\",VLOOKUP($A23,出場選手エントリー票!$A$5:$AK$124,11+1,0))","v":""},{"$f":"IF($B23=\"\",\"\",VLOOKUP($A23,出場選手エントリー票!$A$5:$AK$124,12+1,0))","v":""},{"$f":"IF($B23=\"\",\"\",VLOOKUP($A23,出場選手エントリー票!$A$5:$AK$124,13+1,0))","v":""},{"$f":"IF($B23=\"\",\"\",VLOOKUP($A23,出場選手エントリー票!$A$5:$AK$124,14+1,0))","v":""},{"$f":"IF($B23=\"\",\"\",VLOOKUP($A23,出場選手エントリー票!$A$5:$AK$124,15+1,0))","v":""},{"$f":"IF($B23=\"\",\"\",VLOOKUP($A23,出場選手エントリー票!$A$5:$AK$124,16+1,0))","v":""},{"$f":"IF($B23=\"\",\"\",IF(VLOOKUP($A23,出場選手エントリー票!$A$5:$AK$124,17+1,0)=\"\",\"\",VLOOKUP($A23,出場選手エントリー票!$A$5:$AK$124,17+1,0)))","v":""},{"$f":"IF($B23=\"\",\"\",IF(VLOOKUP($A23,出場選手エントリー票!$A$5:$AK$124,21+1,0)=\"\",\"\",VLOOKUP($A23,出場選手エントリー票!$A$5:$AK$124,21+1,0)))","v":""},{"$f":"IF($B23=\"\",\"\",IF(VLOOKUP($A23,出場選手エントリー票!$A$5:$AK$124,25+1,0)=\"\",\"\",VLOOKUP($A23,出場選手エントリー票!$A$5:$AK$124,25+1,0)))","v":""},{"$f":"IF($B23=\"\",\"\",IF(VLOOKUP($A23,出場選手エントリー票!$A$5:$AK$124,29+1,0)=\"\",\"\",VLOOKUP($A23,出場選手エントリー票!$A$5:$AK$124,29+1,0)))","v":""},{"$f":"IF($B23=\"\",\"\",IF(VLOOKUP($A23,出場選手エントリー票!$A$5:$AK$124,33+1,0)=\"\",\"\",VLOOKUP($A23,出場選手エントリー票!$A$5:$AK$124,33+1,0)))","v":""}]
[23,{"$f":"IF(ISERROR(VLOOKUP($A24,出場選手エントリー票!$A$5:$AK$124,5,0)),\"\",VLOOKUP($A24,出場選手エントリー票!$A$5:$AK$124,6,0))","v":""},{"$f":"IF($B24=\"\",\"\",VLOOKUP($A24,出場選手エントリー票!$A$5:$AK$124,7+1,0))","v":""},{"$f":"IF($B24=\"\",\"\",VLOOKUP($A24,出場選手エントリー票!$A$5:$AK$124,8+1,0))","v":""},{"$f":"IF($B24=\"\",\"\",VLOOKUP($A24,出場選手エントリー票!$A$5:$AK$124,11+1,0))","v":""},{"$f":"IF($B24=\"\",\"\",VLOOKUP($A24,出場選手エントリー票!$A$5:$AK$124,12+1,0))","v":""},{"$f":"IF($B24=\"\",\"\",VLOOKUP($A24,出場選手エントリー票!$A$5:$AK$124,13+1,0))","v":""},{"$f":"IF($B24=\"\",\"\",VLOOKUP($A24,出場選手エントリー票!$A$5:$AK$124,14+1,0))","v":""},{"$f":"IF($B24=\"\",\"\",VLOOKUP($A24,出場選手エントリー票!$A$5:$AK$124,15+1,0))","v":""},{"$f":"IF($B24=\"\",\"\",VLOOKUP($A24,出場選手エントリー票!$A$5:$AK$124,16+1,0))","v":""},{"$f":"IF($B24=\"\",\"\",IF(VLOOKUP($A24,出場選手エントリー票!$A$5:$AK$124,17+1,0)=\"\",\"\",VLOOKUP($A24,出場選手エントリー票!$A$5:$AK$124,17+1,0)))","v":""},{"$f":"IF($B24=\"\",\"\",IF(VLOOKUP($A24,出場選手エントリー票!$A$5:$AK$124,21+1,0)=\"\",\"\",VLOOKUP($A24,出場選手エントリー票!$A$5:$AK$124,21+1,0)))","v":""},{"$f":"IF($B24=\"\",\"\",IF(VLOOKUP($A24,出場選手エントリー票!$A$5:$AK$124,25+1,0)=\"\",\"\",VLOOKUP($A24,出場選手エントリー票!$A$5:$AK$124,25+1,0)))","v":""},{"$f":"IF($B24=\"\",\"\",IF(VLOOKUP($A24,出場選手エントリー票!$A$5:$AK$124,29+1,0)=\"\",\"\",VLOOKUP($A24,出場選手エントリー票!$A$5:$AK$124,29+1,0)))","v":""},{"$f":"IF($B24=\"\",\"\",IF(VLOOKUP($A24,出場選手エントリー票!$A$5:$AK$124,33+1,0)=\"\",\"\",VLOOKUP($A24,出場選手エントリー票!$A$5:$AK$124,33+1,0)))","v":""}]
[24,{"$f":"IF(ISERROR(VLOOKUP($A25,出場選手エントリー票!$A$5:$AK$124,5,0)),\"\",VLOOKUP($A25,出場選手エントリー票!$A$5:$AK$124,6,0))","v":""},{"$f":"IF($B25=\"\",\"\",VLOOKUP($A25,出場選手エントリー票!$A$5:$AK$124,7+1,0))","v":""},{"$f":"IF($B25=\"\",\"\",VLOOKUP($A25,出場選手エントリー票!$A$5:$AK$124,8+1,0))","v":""},{"$f":"IF($B25=\"\",\"\",VLOOKUP($A25,出場選手エントリー票!$A$5:$AK$124,11+1,0))","v":""},{"$f":"IF($B25=\"\",\"\",VLOOKUP($A25,出場選手エントリー票!$A$5:$AK$124,12+1,0))","v":""},{"$f":"IF($B25=\"\",\"\",VLOOKUP($A25,出場選手エントリー票!$A$5:$AK$124,13+1,0))","v":""},{"$f":"IF($B25=\"\",\"\",VLOOKUP($A25,出場選手エントリー票!$A$5:$AK$124,14+1,0))","v":""},{"$f":"IF($B25=\"\",\"\",VLOOKUP($A25,出場選手エントリー票!$A$5:$AK$124,15+1,0))","v":""},{"$f":"IF($B25=\"\",\"\",VLOOKUP($A25,出場選手エントリー票!$A$5:$AK$124,16+1,0))","v":""},{"$f":"IF($B25=\"\",\"\",IF(VLOOKUP($A25,出場選手エントリー票!$A$5:$AK$124,17+1,0)=\"\",\"\",VLOOKUP($A25,出場選手エントリー票!$A$5:$AK$124,17+1,0)))","v":""},{"$f":"IF($B25=\"\",\"\",IF(VLOOKUP($A25,出場選手エントリー票!$A$5:$AK$124,21+1,0)=\"\",\"\",VLOOKUP($A25,出場選手エントリー票!$A$5:$AK$124,21+1,0)))","v":""},{"$f":"IF($B25=\"\",\"\",IF(VLOOKUP($A25,出場選手エントリー票!$A$5:$AK$124,25+1,0)=\"\",\"\",VLOOKUP($A25,出場選手エントリー票!$A$5:$AK$124,25+1,0)))","v":""},{"$f":"IF($B25=\"\",\"\",IF(VLOOKUP($A25,出場選手エントリー票!$A$5:$AK$124,29+1,0)=\"\",\"\",VLOOKUP($A25,出場選手エントリー票!$A$5:$AK$124,29+1,0)))","v":""},{"$f":"IF($B25=\"\",\"\",IF(VLOOKUP($A25,出場選手エントリー票!$A$5:$AK$124,33+1,0)=\"\",\"\",VLOOKUP($A25,出場選手エントリー票!$A$5:$AK$124,33+1,0)))","v":""}]
[25,{"$f":"IF(ISERROR(VLOOKUP($A26,出場選手エントリー票!$A$5:$AK$124,5,0)),\"\",VLOOKUP($A26,出場選手エントリー票!$A$5:$AK$124,6,0))","v":""},{"$f":"IF($B26=\"\",\"\",VLOOKUP($A26,出場選手エントリー票!$A$5:$AK$124,7+1,0))","v":""},{"$f":"IF($B26=\"\",\"\",VLOOKUP($A26,出場選手エントリー票!$A$5:$AK$124,8+1,0))","v":""},{"$f":"IF($B26=\"\",\"\",VLOOKUP($A26,出場選手エントリー票!$A$5:$AK$124,11+1,0))","v":""},{"$f":"IF($B26=\"\",\"\",VLOOKUP($A26,出場選手エントリー票!$A$5:$AK$124,12+1,0))","v":""},{"$f":"IF($B26=\"\",\"\",VLOOKUP($A26,出場選手エントリー票!$A$5:$AK$124,13+1,0))","v":""},{"$f":"IF($B26=\"\",\"\",VLOOKUP($A26,出場選手エントリー票!$A$5:$AK$124,14+1,0))","v":""},{"$f":"IF($B26=\"\",\"\",VLOOKUP($A26,出場選手エントリー票!$A$5:$AK$124,15+1,0))","v":""},{"$f":"IF($B26=\"\",\"\",VLOOKUP($A26,出場選手エントリー票!$A$5:$AK$124,16+1,0))","v":""},{"$f":"IF($B26=\"\",\"\",IF(VLOOKUP($A26,出場選手エントリー票!$A$5:$AK$124,17+1,0)=\"\",\"\",VLOOKUP($A26,出場選手エントリー票!$A$5:$AK$124,17+1,0)))","v":""},{"$f":"IF($B26=\"\",\"\",IF(VLOOKUP($A26,出場選手エントリー票!$A$5:$AK$124,21+1,0)=\"\",\"\",VLOOKUP($A26,出場選手エントリー票!$A$5:$AK$124,21+1,0)))","v":""},{"$f":"IF($B26=\"\",\"\",IF(VLOOKUP($A26,出場選手エントリー票!$A$5:$AK$124,25+1,0)=\"\",\"\",VLOOKUP($A26,出場選手エントリー票!$A$5:$AK$124,25+1,0)))","v":""},{"$f":"IF($B26=\"\",\"\",IF(VLOOKUP($A26,出場選手エントリー票!$A$5:$AK$124,29+1,0)=\"\",\"\",VLOOKUP($A26,出場選手エントリー票!$A$5:$AK$124,29+1,0)))","v":""},{"$f":"IF($B26=\"\",\"\",IF(VLOOKUP($A26,出場選手エントリー票!$A$5:$AK$124,33+1,0)=\"\",\"\",VLOOKUP($A26,出場選手エントリー票!$A$5:$AK$124,33+1,0)))","v":""}]
[26,{"$f":"IF(ISERROR(VLOOKUP($A27,出場選手エントリー票!$A$5:$AK$124,5,0)),\"\",VLOOKUP($A27,出場選手エントリー票!$A$5:$AK$124,6,0))","v":""},{"$f":"IF($B27=\"\",\"\",VLOOKUP($A27,出場選手エントリー票!$A$5:$AK$124,7+1,0))","v":""},{"$f":"IF($B27=\"\",\"\",VLOOKUP($A27,出場選手エントリー票!$A$5:$AK$124,8+1,0))","v":""},{"$f":"IF($B27=\"\",\"\",VLOOKUP($A27,出場選手エントリー票!$A$5:$AK$124,11+1,0))","v":""},{"$f":"IF($B27=\"\",\"\",VLOOKUP($A27,出場選手エントリー票!$A$5:$AK$124,12+1,0))","v":""},{"$f":"IF($B27=\"\",\"\",VLOOKUP($A27,出場選手エントリー票!$A$5:$AK$124,13+1,0))","v":""},{"$f":"IF($B27=\"\",\"\",VLOOKUP($A27,出場選手エントリー票!$A$5:$AK$124,14+1,0))","v":""},{"$f":"IF($B27=\"\",\"\",VLOOKUP($A27,出場選手エントリー票!$A$5:$AK$124,15+1,0))","v":""},{"$f":"IF($B27=\"\",\"\",VLOOKUP($A27,出場選手エントリー票!$A$5:$AK$124,16+1,0))","v":""},{"$f":"IF($B27=\"\",\"\",IF(VLOOKUP($A27,出場選手エントリー票!$A$5:$AK$124,17+1,0)=\"\",\"\",VLOOKUP($A27,出場選手エントリー票!$A$5:$AK$124,17+1,0)))","v":""},{"$f":"IF($B27=\"\",\"\",IF(VLOOKUP($A27,出場選手エントリー票!$A$5:$AK$124,21+1,0)=\"\",\"\",VLOOKUP($A27,出場選手エントリー票!$A$5:$AK$124,21+1,0)))","v":""},{"$f":"IF($B27=\"\",\"\",IF(VLOOKUP($A27,出場選手エントリー票!$A$5:$AK$124,25+1,0)=\"\",\"\",VLOOKUP($A27,出場選手エントリー票!$A$5:$AK$124,25+1,0)))","v":""},{"$f":"IF($B27=\"\",\"\",IF(VLOOKUP($A27,出場選手エントリー票!$A$5:$AK$124,29+1,0)=\"\",\"\",VLOOKUP($A27,出場選手エントリー票!$A$5:$AK$124,29+1,0)))","v":""},{"$f":"IF($B27=\"\",\"\",IF(VLOOKUP($A27,出場選手エントリー票!$A$5:$AK$124,33+1,0)=\"\",\"\",VLOOKUP($A27,出場選手エントリー票!$A$5:$AK$124,33+1,0)))","v":""}]
[27,{"$f":"IF(ISERROR(VLOOKUP($A28,出場選手エントリー票!$A$5:$AK$124,5,0)),\"\",VLOOKUP($A28,出場選手エントリー票!$A$5:$AK$124,6,0))","v":""},{"$f":"IF($B28=\"\",\"\",VLOOKUP($A28,出場選手エントリー票!$A$5:$AK$124,7+1,0))","v":""},{"$f":"IF($B28=\"\",\"\",VLOOKUP($A28,出場選手エントリー票!$A$5:$AK$124,8+1,0))","v":""},{"$f":"IF($B28=\"\",\"\",VLOOKUP($A28,出場選手エントリー票!$A$5:$AK$124,11+1,0))","v":""},{"$f":"IF($B28=\"\",\"\",VLOOKUP($A28,出場選手エントリー票!$A$5:$AK$124,12+1,0))","v":""},{"$f":"IF($B28=\"\",\"\",VLOOKUP($A28,出場選手エントリー票!$A$5:$AK$124,13+1,0))","v":""},{"$f":"IF($B28=\"\",\"\",VLOOKUP($A28,出場選手エントリー票!$A$5:$AK$124,14+1,0))","v":""},{"$f":"IF($B28=\"\",\"\",VLOOKUP($A28,出場選手エントリー票!$A$5:$AK$124,15+1,0))","v":""},{"$f":"IF($B28=\"\",\"\",VLOOKUP($A28,出場選手エントリー票!$A$5:$AK$124,16+1,0))","v":""},{"$f":"IF($B28=\"\",\"\",IF(VLOOKUP($A28,出場選手エントリー票!$A$5:$AK$124,17+1,0)=\"\",\"\",VLOOKUP($A28,出場選手エントリー票!$A$5:$AK$124,17+1,0)))","v":""},{"$f":"IF($B28=\"\",\"\",IF(VLOOKUP($A28,出場選手エントリー票!$A$5:$AK$124,21+1,0)=\"\",\"\",VLOOKUP($A28,出場選手エントリー票!$A$5:$AK$124,21+1,0)))","v":""},{"$f":"IF($B28=\"\",\"\",IF(VLOOKUP($A28,出場選手エントリー票!$A$5:$AK$124,25+1,0)=\"\",\"\",VLOOKUP($A28,出場選手エントリー票!$A$5:$AK$124,25+1,0)))","v":""},{"$f":"IF($B28=\"\",\"\",IF(VLOOKUP($A28,出場選手エントリー票!$A$5:$AK$124,29+1,0)=\"\",\"\",VLOOKUP($A28,出場選手エントリー票!$A$5:$AK$124,29+1,0)))","v":""},{"$f":"IF($B28=\"\",\"\",IF(VLOOKUP($A28,出場選手エントリー票!$A$5:$AK$124,33+1,0)=\"\",\"\",VLOOKUP($A28,出場選手エントリー票!$A$5:$AK$124,33+1,0)))","v":""}]
[28,{"$f":"IF(ISERROR(VLOOKUP($A29,出場選手エントリー票!$A$5:$AK$124,5,0)),\"\",VLOOKUP($A29,出場選手エントリー票!$A$5:$AK$124,6,0))","v":""},{"$f":"IF($B29=\"\",\"\",VLOOKUP($A29,出場選手エントリー票!$A$5:$AK$124,7+1,0))","v":""},{"$f":"IF($B29=\"\",\"\",VLOOKUP($A29,出場選手エントリー票!$A$5:$AK$124,8+1,0))","v":""},{"$f":"IF($B29=\"\",\"\",VLOOKUP($A29,出場選手エントリー票!$A$5:$AK$124,11+1,0))","v":""},{"$f":"IF($B29=\"\",\"\",VLOOKUP($A29,出場選手エントリー票!$A$5:$AK$124,12+1,0))","v":""},{"$f":"IF($B29=\"\",\"\",VLOOKUP($A29,出場選手エントリー票!$A$5:$AK$124,13+1,0))","v":""},{"$f":"IF($B29=\"\",\"\",VLOOKUP($A29,出場選手エントリー票!$A$5:$AK$124,14+1,0))","v":""},{"$f":"IF($B29=\"\",\"\",VLOOKUP($A29,出場選手エントリー票!$A$5:$AK$124,15+1,0))","v":""},{"$f":"IF($B29=\"\",\"\",VLOOKUP($A29,出場選手エントリー票!$A$5:$AK$124,16+1,0))","v":""},{"$f":"IF($B29=\"\",\"\",IF(VLOOKUP($A29,出場選手エントリー票!$A$5:$AK$124,17+1,0)=\"\",\"\",VLOOKUP($A29,出場選手エントリー票!$A$5:$AK$124,17+1,0)))","v":""},{"$f":"IF($B29=\"\",\"\",IF(VLOOKUP($A29,出場選手エントリー票!$A$5:$AK$124,21+1,0)=\"\",\"\",VLOOKUP($A29,出場選手エントリー票!$A$5:$AK$124,21+1,0)))","v":""},{"$f":"IF($B29=\"\",\"\",IF(VLOOKUP($A29,出場選手エントリー票!$A$5:$AK$124,25+1,0)=\"\",\"\",VLOOKUP($A29,出場選手エントリー票!$A$5:$AK$124,25+1,0)))","v":""},{"$f":"IF($B29=\"\",\"\",IF(VLOOKUP($A29,出場選手エントリー票!$A$5:$AK$124,29+1,0)=\"\",\"\",VLOOKUP($A29,出場選手エントリー票!$A$5:$AK$124,29+1,0)))","v":""},{"$f":"IF($B29=\"\",\"\",IF(VLOOKUP($A29,出場選手エントリー票!$A$5:$AK$124,33+1,0)=\"\",\"\",VLOOKUP($A29,出場選手エントリー票!$A$5:$AK$124,33+1,0)))","v":""}]
[29,{"$f":"IF(ISERROR(VLOOKUP($A30,出場選手エントリー票!$A$5:$AK$124,5,0)),\"\",VLOOKUP($A30,出場選手エントリー票!$A$5:$AK$124,6,0))","v":""},{"$f":"IF($B30=\"\",\"\",VLOOKUP($A30,出場選手エントリー票!$A$5:$AK$124,7+1,0))","v":""},{"$f":"IF($B30=\"\",\"\",VLOOKUP($A30,出場選手エントリー票!$A$5:$AK$124,8+1,0))","v":""},{"$f":"IF($B30=\"\",\"\",VLOOKUP($A30,出場選手エントリー票!$A$5:$AK$124,11+1,0))","v":""},{"$f":"IF($B30=\"\",\"\",VLOOKUP($A30,出場選手エントリー票!$A$5:$AK$124,12+1,0))","v":""},{"$f":"IF($B30=\"\",\"\",VLOOKUP($A30,出場選手エントリー票!$A$5:$AK$124,13+1,0))","v":""},{"$f":"IF($B30=\"\",\"\",VLOOKUP($A30,出場選手エントリー票!$A$5:$AK$124,14+1,0))","v":""},{"$f":"IF($B30=\"\",\"\",VLOOKUP($A30,出場選手エントリー票!$A$5:$AK$124,15+1,0))","v":""},{"$f":"IF($B30=\"\",\"\",VLOOKUP($A30,出場選手エントリー票!$A$5:$AK$124,16+1,0))","v":""},{"$f":"IF($B30=\"\",\"\",IF(VLOOKUP($A30,出場選手エントリー票!$A$5:$AK$124,17+1,0)=\"\",\"\",VLOOKUP($A30,出場選手エントリー票!$A$5:$AK$124,17+1,0)))","v":""},{"$f":"IF($B30=\"\",\"\",IF(VLOOKUP($A30,出場選手エントリー票!$A$5:$AK$124,21+1,0)=\"\",\"\",VLOOKUP($A30,出場選手エントリー票!$A$5:$AK$124,21+1,0)))","v":""},{"$f":"IF($B30=\"\",\"\",IF(VLOOKUP($A30,出場選手エントリー票!$A$5:$AK$124,25+1,0)=\"\",\"\",VLOOKUP($A30,出場選手エントリー票!$A$5:$AK$124,25+1,0)))","v":""},{"$f":"IF($B30=\"\",\"\",IF(VLOOKUP($A30,出場選手エントリー票!$A$5:$AK$124,29+1,0)=\"\",\"\",VLOOKUP($A30,出場選手エントリー票!$A$5:$AK$124,29+1,0)))","v":""},{"$f":"IF($B30=\"\",\"\",IF(VLOOKUP($A30,出場選手エントリー票!$A$5:$AK$124,33+1,0)=\"\",\"\",VLOOKUP($A30,出場選手エントリー票!$A$5:$AK$124,33+1,0)))","v":""}]
[30,{"$f":"IF(ISERROR(VLOOKUP($A31,出場選手エントリー票!$A$5:$AK$124,5,0)),\"\",VLOOKUP($A31,出場選手エントリー票!$A$5:$AK$124,6,0))","v":""},{"$f":"IF($B31=\"\",\"\",VLOOKUP($A31,出場選手エントリー票!$A$5:$AK$124,7+1,0))","v":""},{"$f":"IF($B31=\"\",\"\",VLOOKUP($A31,出場選手エントリー票!$A$5:$AK$124,8+1,0))","v":""},{"$f":"IF($B31=\"\",\"\",VLOOKUP($A31,出場選手エントリー票!$A$5:$AK$124,11+1,0))","v":""},{"$f":"IF($B31=\"\",\"\",VLOOKUP($A31,出場選手エントリー票!$A$5:$AK$124,12+1,0))","v":""},{"$f":"IF($B31=\"\",\"\",VLOOKUP($A31,出場選手エントリー票!$A$5:$AK$124,13+1,0))","v":""},{"$f":"IF($B31=\"\",\"\",VLOOKUP($A31,出場選手エントリー票!$A$5:$AK$124,14+1,0))","v":""},{"$f":"IF($B31=\"\",\"\",VLOOKUP($A31,出場選手エントリー票!$A$5:$AK$124,15+1,0))","v":""},{"$f":"IF($B31=\"\",\"\",VLOOKUP($A31,出場選手エントリー票!$A$5:$AK$124,16+1,0))","v":""},{"$f":"IF($B31=\"\",\"\",IF(VLOOKUP($A31,出場選手エントリー票!$A$5:$AK$124,17+1,0)=\"\",\"\",VLOOKUP($A31,出場選手エントリー票!$A$5:$AK$124,17+1,0)))","v":""},{"$f":"IF($B31=\"\",\"\",IF(VLOOKUP($A31,出場選手エントリー票!$A$5:$AK$124,21+1,0)=\"\",\"\",VLOOKUP($A31,出場選手エントリー票!$A$5:$AK$124,21+1,0)))","v":""},{"$f":"IF($B31=\"\",\"\",IF(VLOOKUP($A31,出場選手エントリー票!$A$5:$AK$124,25+1,0)=\"\",\"\",VLOOKUP($A31,出場選手エントリー票!$A$5:$AK$124,25+1,0)))","v":""},{"$f":"IF($B31=\"\",\"\",IF(VLOOKUP($A31,出場選手エントリー票!$A$5:$AK$124,29+1,0)=\"\",\"\",VLOOKUP($A31,出場選手エントリー票!$A$5:$AK$124,29+1,0)))","v":""},{"$f":"IF($B31=\"\",\"\",IF(VLOOKUP($A31,出場選手エントリー票!$A$5:$AK$124,33+1,0)=\"\",\"\",VLOOKUP($A31,出場選手エントリー票!$A$5:$AK$124,33+1,0)))","v":""}]
[31,{"$f":"IF(ISERROR(VLOOKUP($A32,出場選手エントリー票!$A$5:$AK$124,5,0)),\"\",VLOOKUP($A32,出場選手エントリー票!$A$5:$AK$124,6,0))","v":""},{"$f":"IF($B32=\"\",\"\",VLOOKUP($A32,出場選手エントリー票!$A$5:$AK$124,7+1,0))","v":""},{"$f":"IF($B32=\"\",\"\",VLOOKUP($A32,出場選手エントリー票!$A$5:$AK$124,8+1,0))","v":""},{"$f":"IF($B32=\"\",\"\",VLOOKUP($A32,出場選手エントリー票!$A$5:$AK$124,11+1,0))","v":""},{"$f":"IF($B32=\"\",\"\",VLOOKUP($A32,出場選手エントリー票!$A$5:$AK$124,12+1,0))","v":""},{"$f":"IF($B32=\"\",\"\",VLOOKUP($A32,出場選手エントリー票!$A$5:$AK$124,13+1,0))","v":""},{"$f":"IF($B32=\"\",\"\",VLOOKUP($A32,出場選手エントリー票!$A$5:$AK$124,14+1,0))","v":""},{"$f":"IF($B32=\"\",\"\",VLOOKUP($A32,出場選手エントリー票!$A$5:$AK$124,15+1,0))","v":""},{"$f":"IF($B32=\"\",\"\",VLOOKUP($A32,出場選手エントリー票!$A$5:$AK$124,16+1,0))","v":""},{"$f":"IF($B32=\"\",\"\",IF(VLOOKUP($A32,出場選手エントリー票!$A$5:$AK$124,17+1,0)=\"\",\"\",VLOOKUP($A32,出場選手エントリー票!$A$5:$AK$124,17+1,0)))","v":""},{"$f":"IF($B32=\"\",\"\",IF(VLOOKUP($A32,出場選手エントリー票!$A$5:$AK$124,21+1,0)=\"\",\"\",VLOOKUP($A32,出場選手エントリー票!$A$5:$AK$124,21+1,0)))","v":""},{"$f":"IF($B32=\"\",\"\",IF(VLOOKUP($A32,出場選手エントリー票!$A$5:$AK$124,25+1,0)=\"\",\"\",VLOOKUP($A32,出場選手エントリー票!$A$5:$AK$124,25+1,0)))","v":""},{"$f":"IF($B32=\"\",\"\",IF(VLOOKUP($A32,出場選手エントリー票!$A$5:$AK$124,29+1,0)=\"\",\"\",VLOOKUP($A32,出場選手エントリー票!$A$5:$AK$124,29+1,0)))","v":""},{"$f":"IF($B32=\"\",\"\",IF(VLOOKUP($A32,出場選手エントリー票!$A$5:$AK$124,33+1,0)=\"\",\"\",VLOOKUP($A32,出場選手エントリー票!$A$5:$AK$124,33+1,0)))","v":""}]
[32,{"$f":"IF(ISERROR(VLOOKUP($A33,出場選手エントリー票!$A$5:$AK$124,5,0)),\"\",VLOOKUP($A33,出場選手エントリー票!$A$5:$AK$124,6,0))","v":""},{"$f":"IF($B33=\"\",\"\",VLOOKUP($A33,出場選手エントリー票!$A$5:$AK$124,7+1,0))","v":""},{"$f":"IF($B33=\"\",\"\",VLOOKUP($A33,出場選手エントリー票!$A$5:$AK$124,8+1,0))","v":""},{"$f":"IF($B33=\"\",\"\",VLOOKUP($A33,出場選手エントリー票!$A$5:$AK$124,11+1,0))","v":""},{"$f":"IF($B33=\"\",\"\",VLOOKUP($A33,出場選手エントリー票!$A$5:$AK$124,12+1,0))","v":""},{"$f":"IF($B33=\"\",\"\",VLOOKUP($A33,出場選手エントリー票!$A$5:$AK$124,13+1,0))","v":""},{"$f":"IF($B33=\"\",\"\",VLOOKUP($A33,出場選手エントリー票!$A$5:$AK$124,14+1,0))","v":""},{"$f":"IF($B33=\"\",\"\",VLOOKUP($A33,出場選手エントリー票!$A$5:$AK$124,15+1,0))","v":""},{"$f":"IF($B33=\"\",\"\",VLOOKUP($A33,出場選手エントリー票!$A$5:$AK$124,16+1,0))","v":""},{"$f":"IF($B33=\"\",\"\",IF(VLOOKUP($A33,出場選手エントリー票!$A$5:$AK$124,17+1,0)=\"\",\"\",VLOOKUP($A33,出場選手エントリー票!$A$5:$AK$124,17+1,0)))","v":""},{"$f":"IF($B33=\"\",\"\",IF(VLOOKUP($A33,出場選手エントリー票!$A$5:$AK$124,21+1,0)=\"\",\"\",VLOOKUP($A33,出場選手エントリー票!$A$5:$AK$124,21+1,0)))","v":""},{"$f":"IF($B33=\"\",\"\",IF(VLOOKUP($A33,出場選手エントリー票!$A$5:$AK$124,25+1,0)=\"\",\"\",VLOOKUP($A33,出場選手エントリー票!$A$5:$AK$124,25+1,0)))","v":""},{"$f":"IF($B33=\"\",\"\",IF(VLOOKUP($A33,出場選手エントリー票!$A$5:$AK$124,29+1,0)=\"\",\"\",VLOOKUP($A33,出場選手エントリー票!$A$5:$AK$124,29+1,0)))","v":""},{"$f":"IF($B33=\"\",\"\",IF(VLOOKUP($A33,出場選手エントリー票!$A$5:$AK$124,33+1,0)=\"\",\"\",VLOOKUP($A33,出場選手エントリー票!$A$5:$AK$124,33+1,0)))","v":""}]
[33,{"$f":"IF(ISERROR(VLOOKUP($A34,出場選手エントリー票!$A$5:$AK$124,5,0)),\"\",VLOOKUP($A34,出場選手エントリー票!$A$5:$AK$124,6,0))","v":""},{"$f":"IF($B34=\"\",\"\",VLOOKUP($A34,出場選手エントリー票!$A$5:$AK$124,7+1,0))","v":""},{"$f":"IF($B34=\"\",\"\",VLOOKUP($A34,出場選手エントリー票!$A$5:$AK$124,8+1,0))","v":""},{"$f":"IF($B34=\"\",\"\",VLOOKUP($A34,出場選手エントリー票!$A$5:$AK$124,11+1,0))","v":""},{"$f":"IF($B34=\"\",\"\",VLOOKUP($A34,出場選手エントリー票!$A$5:$AK$124,12+1,0))","v":""},{"$f":"IF($B34=\"\",\"\",VLOOKUP($A34,出場選手エントリー票!$A$5:$AK$124,13+1,0))","v":""},{"$f":"IF($B34=\"\",\"\",VLOOKUP($A34,出場選手エントリー票!$A$5:$AK$124,14+1,0))","v":""},{"$f":"IF($B34=\"\",\"\",VLOOKUP($A34,出場選手エントリー票!$A$5:$AK$124,15+1,0))","v":""},{"$f":"IF($B34=\"\",\"\",VLOOKUP($A34,出場選手エントリー票!$A$5:$AK$124,16+1,0))","v":""},{"$f":"IF($B34=\"\",\"\",IF(VLOOKUP($A34,出場選手エントリー票!$A$5:$AK$124,17+1,0)=\"\",\"\",VLOOKUP($A34,出場選手エントリー票!$A$5:$AK$124,17+1,0)))","v":""},{"$f":"IF($B34=\"\",\"\",IF(VLOOKUP($A34,出場選手エントリー票!$A$5:$AK$124,21+1,0)=\"\",\"\",VLOOKUP($A34,出場選手エントリー票!$A$5:$AK$124,21+1,0)))","v":""},{"$f":"IF($B34=\"\",\"\",IF(VLOOKUP($A34,出場選手エントリー票!$A$5:$AK$124,25+1,0)=\"\",\"\",VLOOKUP($A34,出場選手エントリー票!$A$5:$AK$124,25+1,0)))","v":""},{"$f":"IF($B34=\"\",\"\",IF(VLOOKUP($A34,出場選手エントリー票!$A$5:$AK$124,29+1,0)=\"\",\"\",VLOOKUP($A34,出場選手エントリー票!$A$5:$AK$124,29+1,0)))","v":""},{"$f":"IF($B34=\"\",\"\",IF(VLOOKUP($A34,出場選手エントリー票!$A$5:$AK$124,33+1,0)=\"\",\"\",VLOOKUP($A34,出場選手エントリー票!$A$5:$AK$124,33+1,0)))","v":""}]
[34,{"$f":"IF(ISERROR(VLOOKUP($A35,出場選手エントリー票!$A$5:$AK$124,5,0)),\"\",VLOOKUP($A35,出場選手エントリー票!$A$5:$AK$124,6,0))","v":""},{"$f":"IF($B35=\"\",\"\",VLOOKUP($A35,出場選手エントリー票!$A$5:$AK$124,7+1,0))","v":""},{"$f":"IF($B35=\"\",\"\",VLOOKUP($A35,出場選手エントリー票!$A$5:$AK$124,8+1,0))","v":""},{"$f":"IF($B35=\"\",\"\",VLOOKUP($A35,出場選手エントリー票!$A$5:$AK$124,11+1,0))","v":""},{"$f":"IF($B35=\"\",\"\",VLOOKUP($A35,出場選手エントリー票!$A$5:$AK$124,12+1,0))","v":""},{"$f":"IF($B35=\"\",\"\",VLOOKUP($A35,出場選手エントリー票!$A$5:$AK$124,13+1,0))","v":""},{"$f":"IF($B35=\"\",\"\",VLOOKUP($A35,出場選手エントリー票!$A$5:$AK$124,14+1,0))","v":""},{"$f":"IF($B35=\"\",\"\",VLOOKUP($A35,出場選手エントリー票!$A$5:$AK$124,15+1,0))","v":""},{"$f":"IF($B35=\"\",\"\",VLOOKUP($A35,出場選手エントリー票!$A$5:$AK$124,16+1,0))","v":""},{"$f":"IF($B35=\"\",\"\",IF(VLOOKUP($A35,出場選手エントリー票!$A$5:$AK$124,17+1,0)=\"\",\"\",VLOOKUP($A35,出場選手エントリー票!$A$5:$AK$124,17+1,0)))","v":""},{"$f":"IF($B35=\"\",\"\",IF(VLOOKUP($A35,出場選手エントリー票!$A$5:$AK$124,21+1,0)=\"\",\"\",VLOOKUP($A35,出場選手エントリー票!$A$5:$AK$124,21+1,0)))","v":""},{"$f":"IF($B35=\"\",\"\",IF(VLOOKUP($A35,出場選手エントリー票!$A$5:$AK$124,25+1,0)=\"\",\"\",VLOOKUP($A35,出場選手エントリー票!$A$5:$AK$124,25+1,0)))","v":""},{"$f":"IF($B35=\"\",\"\",IF(VLOOKUP($A35,出場選手エントリー票!$A$5:$AK$124,29+1,0)=\"\",\"\",VLOOKUP($A35,出場選手エントリー票!$A$5:$AK$124,29+1,0)))","v":""},{"$f":"IF($B35=\"\",\"\",IF(VLOOKUP($A35,出場選手エントリー票!$A$5:$AK$124,33+1,0)=\"\",\"\",VLOOKUP($A35,出場選手エントリー票!$A$5:$AK$124,33+1,0)))","v":""}]
[35,{"$f":"IF(ISERROR(VLOOKUP($A36,出場選手エントリー票!$A$5:$AK$124,5,0)),\"\",VLOOKUP($A36,出場選手エントリー票!$A$5:$AK$124,6,0))","v":""},{"$f":"IF($B36=\"\",\"\",VLOOKUP($A36,出場選手エントリー票!$A$5:$AK$124,7+1,0))","v":""},{"$f":"IF($B36=\"\",\"\",VLOOKUP($A36,出場選手エントリー票!$A$5:$AK$124,8+1,0))","v":""},{"$f":"IF($B36=\"\",\"\",VLOOKUP($A36,出場選手エントリー票!$A$5:$AK$124,11+1,0))","v":""},{"$f":"IF($B36=\"\",\"\",VLOOKUP($A36,出場選手エントリー票!$A$5:$AK$124,12+1,0))","v":""},{"$f":"IF($B36=\"\",\"\",VLOOKUP($A36,出場選手エントリー票!$A$5:$AK$124,13+1,0))","v":""},{"$f":"IF($B36=\"\",\"\",VLOOKUP($A36,出場選手エントリー票!$A$5:$AK$124,14+1,0))","v":""},{"$f":"IF($B36=\"\",\"\",VLOOKUP($A36,出場選手エントリー票!$A$5:$AK$124,15+1,0))","v":""},{"$f":"IF($B36=\"\",\"\",VLOOKUP($A36,出場選手エントリー票!$A$5:$AK$124,16+1,0))","v":""},{"$f":"IF($B36=\"\",\"\",IF(VLOOKUP($A36,出場選手エントリー票!$A$5:$AK$124,17+1,0)=\"\",\"\",VLOOKUP($A36,出場選手エントリー票!$A$5:$AK$124,17+1,0)))","v":""},{"$f":"IF($B36=\"\",\"\",IF(VLOOKUP($A36,出場選手エントリー票!$A$5:$AK$124,21+1,0)=\"\",\"\",VLOOKUP($A36,出場選手エントリー票!$A$5:$AK$124,21+1,0)))","v":""},{"$f":"IF($B36=\"\",\"\",IF(VLOOKUP($A36,出場選手エントリー票!$A$5:$AK$124,25+1,0)=\"\",\"\",VLOOKUP($A36,出場選手エントリー票!$A$5:$AK$124,25+1,0)))","v":""},{"$f":"IF($B36=\"\",\"\",IF(VLOOKUP($A36,出場選手エントリー票!$A$5:$AK$124,29+1,0)=\"\",\"\",VLOOKUP($A36,出場選手エントリー票!$A$5:$AK$124,29+1,0)))","v":""},{"$f":"IF($B36=\"\",\"\",IF(VLOOKUP($A36,出場選手エントリー票!$A$5:$AK$124,33+1,0)=\"\",\"\",VLOOKUP($A36,出場選手エントリー票!$A$5:$AK$124,33+1,0)))","v":""}]
[36,{"$f":"IF(ISERROR(VLOOKUP($A37,出場選手エントリー票!$A$5:$AK$124,5,0)),\"\",VLOOKUP($A37,出場選手エントリー票!$A$5:$AK$124,6,0))","v":""},{"$f":"IF($B37=\"\",\"\",VLOOKUP($A37,出場選手エントリー票!$A$5:$AK$124,7+1,0))","v":""},{"$f":"IF($B37=\"\",\"\",VLOOKUP($A37,出場選手エントリー票!$A$5:$AK$124,8+1,0))","v":""},{"$f":"IF($B37=\"\",\"\",VLOOKUP($A37,出場選手エントリー票!$A$5:$AK$124,11+1,0))","v":""},{"$f":"IF($B37=\"\",\"\",VLOOKUP($A37,出場選手エントリー票!$A$5:$AK$124,12+1,0))","v":""},{"$f":"IF($B37=\"\",\"\",VLOOKUP($A37,出場選手エントリー票!$A$5:$AK$124,13+1,0))","v":""},{"$f":"IF($B37=\"\",\"\",VLOOKUP($A37,出場選手エントリー票!$A$5:$AK$124,14+1,0))","v":""},{"$f":"IF($B37=\"\",\"\",VLOOKUP($A37,出場選手エントリー票!$A$5:$AK$124,15+1,0))","v":""},{"$f":"IF($B37=\"\",\"\",VLOOKUP($A37,出場選手エントリー票!$A$5:$AK$124,16+1,0))","v":""},{"$f":"IF($B37=\"\",\"\",IF(VLOOKUP($A37,出場選手エントリー票!$A$5:$AK$124,17+1,0)=\"\",\"\",VLOOKUP($A37,出場選手エントリー票!$A$5:$AK$124,17+1,0)))","v":""},{"$f":"IF($B37=\"\",\"\",IF(VLOOKUP($A37,出場選手エントリー票!$A$5:$AK$124,21+1,0)=\"\",\"\",VLOOKUP($A37,出場選手エントリー票!$A$5:$AK$124,21+1,0)))","v":""},{"$f":"IF($B37=\"\",\"\",IF(VLOOKUP($A37,出場選手エントリー票!$A$5:$AK$124,25+1,0)=\"\",\"\",VLOOKUP($A37,出場選手エントリー票!$A$5:$AK$124,25+1,0)))","v":""},{"$f":"IF($B37=\"\",\"\",IF(VLOOKUP($A37,出場選手エントリー票!$A$5:$AK$124,29+1,0)=\"\",\"\",VLOOKUP($A37,出場選手エントリー票!$A$5:$AK$124,29+1,0)))","v":""},{"$f":"IF($B37=\"\",\"\",IF(VLOOKUP($A37,出場選手エントリー票!$A$5:$AK$124,33+1,0)=\"\",\"\",VLOOKUP($A37,出場選手エントリー票!$A$5:$AK$124,33+1,0)))","v":""}]
[37,{"$f":"IF(ISERROR(VLOOKUP($A38,出場選手エントリー票!$A$5:$AK$124,5,0)),\"\",VLOOKUP($A38,出場選手エントリー票!$A$5:$AK$124,6,0))","v":""},{"$f":"IF($B38=\"\",\"\",VLOOKUP($A38,出場選手エントリー票!$A$5:$AK$124,7+1,0))","v":""},{"$f":"IF($B38=\"\",\"\",VLOOKUP($A38,出場選手エントリー票!$A$5:$AK$124,8+1,0))","v":""},{"$f":"IF($B38=\"\",\"\",VLOOKUP($A38,出場選手エントリー票!$A$5:$AK$124,11+1,0))","v":""},{"$f":"IF($B38=\"\",\"\",VLOOKUP($A38,出場選手エントリー票!$A$5:$AK$124,12+1,0))","v":""},{"$f":"IF($B38=\"\",\"\",VLOOKUP($A38,出場選手エントリー票!$A$5:$AK$124,13+1,0))","v":""},{"$f":"IF($B38=\"\",\"\",VLOOKUP($A38,出場選手エントリー票!$A$5:$AK$124,14+1,0))","v":""},{"$f":"IF($B38=\"\",\"\",VLOOKUP($A38,出場選手エントリー票!$A$5:$AK$124,15+1,0))","v":""},{"$f":"IF($B38=\"\",\"\",VLOOKUP($A38,出場選手エントリー票!$A$5:$AK$124,16+1,0))","v":""},{"$f":"IF($B38=\"\",\"\",IF(VLOOKUP($A38,出場選手エントリー票!$A$5:$AK$124,17+1,0)=\"\",\"\",VLOOKUP($A38,出場選手エントリー票!$A$5:$AK$124,17+1,0)))","v":""},{"$f":"IF($B38=\"\",\"\",IF(VLOOKUP($A38,出場選手エントリー票!$A$5:$AK$124,21+1,0)=\"\",\"\",VLOOKUP($A38,出場選手エントリー票!$A$5:$AK$124,21+1,0)))","v":""},{"$f":"IF($B38=\"\",\"\",IF(VLOOKUP($A38,出場選手エントリー票!$A$5:$AK$124,25+1,0)=\"\",\"\",VLOOKUP($A38,出場選手エントリー票!$A$5:$AK$124,25+1,0)))","v":""},{"$f":"IF($B38=\"\",\"\",IF(VLOOKUP($A38,出場選手エントリー票!$A$5:$AK$124,29+1,0)=\"\",\"\",VLOOKUP($A38,出場選手エントリー票!$A$5:$AK$124,29+1,0)))","v":""},{"$f":"IF($B38=\"\",\"\",IF(VLOOKUP($A38,出場選手エントリー票!$A$5:$AK$124,33+1,0)=\"\",\"\",VLOOKUP($A38,出場選手エントリー票!$A$5:$AK$124,33+1,0)))","v":""}]
[38,{"$f":"IF(ISERROR(VLOOKUP($A39,出場選手エントリー票!$A$5:$AK$124,5,0)),\"\",VLOOKUP($A39,出場選手エントリー票!$A$5:$AK$124,6,0))","v":""},{"$f":"IF($B39=\"\",\"\",VLOOKUP($A39,出場選手エントリー票!$A$5:$AK$124,7+1,0))","v":""},{"$f":"IF($B39=\"\",\"\",VLOOKUP($A39,出場選手エントリー票!$A$5:$AK$124,8+1,0))","v":""},{"$f":"IF($B39=\"\",\"\",VLOOKUP($A39,出場選手エントリー票!$A$5:$AK$124,11+1,0))","v":""},{"$f":"IF($B39=\"\",\"\",VLOOKUP($A39,出場選手エントリー票!$A$5:$AK$124,12+1,0))","v":""},{"$f":"IF($B39=\"\",\"\",VLOOKUP($A39,出場選手エントリー票!$A$5:$AK$124,13+1,0))","v":""},{"$f":"IF($B39=\"\",\"\",VLOOKUP($A39,出場選手エントリー票!$A$5:$AK$124,14+1,0))","v":""},{"$f":"IF($B39=\"\",\"\",VLOOKUP($A39,出場選手エントリー票!$A$5:$AK$124,15+1,0))","v":""},{"$f":"IF($B39=\"\",\"\",VLOOKUP($A39,出場選手エントリー票!$A$5:$AK$124,16+1,0))","v":""},{"$f":"IF($B39=\"\",\"\",IF(VLOOKUP($A39,出場選手エントリー票!$A$5:$AK$124,17+1,0)=\"\",\"\",VLOOKUP($A39,出場選手エントリー票!$A$5:$AK$124,17+1,0)))","v":""},{"$f":"IF($B39=\"\",\"\",IF(VLOOKUP($A39,出場選手エントリー票!$A$5:$AK$124,21+1,0)=\"\",\"\",VLOOKUP($A39,出場選手エントリー票!$A$5:$AK$124,21+1,0)))","v":""},{"$f":"IF($B39=\"\",\"\",IF(VLOOKUP($A39,出場選手エントリー票!$A$5:$AK$124,25+1,0)=\"\",\"\",VLOOKUP($A39,出場選手エントリー票!$A$5:$AK$124,25+1,0)))","v":""},{"$f":"IF($B39=\"\",\"\",IF(VLOOKUP($A39,出場選手エントリー票!$A$5:$AK$124,29+1,0)=\"\",\"\",VLOOKUP($A39,出場選手エントリー票!$A$5:$AK$124,29+1,0)))","v":""},{"$f":"IF($B39=\"\",\"\",IF(VLOOKUP($A39,出場選手エントリー票!$A$5:$AK$124,33+1,0)=\"\",\"\",VLOOKUP($A39,出場選手エントリー票!$A$5:$AK$124,33+1,0)))","v":""}]
[39,{"$f":"IF(ISERROR(VLOOKUP($A40,出場選手エントリー票!$A$5:$AK$124,5,0)),\"\",VLOOKUP($A40,出場選手エントリー票!$A$5:$AK$124,6,0))","v":""},{"$f":"IF($B40=\"\",\"\",VLOOKUP($A40,出場選手エントリー票!$A$5:$AK$124,7+1,0))","v":""},{"$f":"IF($B40=\"\",\"\",VLOOKUP($A40,出場選手エントリー票!$A$5:$AK$124,8+1,0))","v":""},{"$f":"IF($B40=\"\",\"\",VLOOKUP($A40,出場選手エントリー票!$A$5:$AK$124,11+1,0))","v":""},{"$f":"IF($B40=\"\",\"\",VLOOKUP($A40,出場選手エントリー票!$A$5:$AK$124,12+1,0))","v":""},{"$f":"IF($B40=\"\",\"\",VLOOKUP($A40,出場選手エントリー票!$A$5:$AK$124,13+1,0))","v":""},{"$f":"IF($B40=\"\",\"\",VLOOKUP($A40,出場選手エントリー票!$A$5:$AK$124,14+1,0))","v":""},{"$f":"IF($B40=\"\",\"\",VLOOKUP($A40,出場選手エントリー票!$A$5:$AK$124,15+1,0))","v":""},{"$f":"IF($B40=\"\",\"\",VLOOKUP($A40,出場選手エントリー票!$A$5:$AK$124,16+1,0))","v":""},{"$f":"IF($B40=\"\",\"\",IF(VLOOKUP($A40,出場選手エントリー票!$A$5:$AK$124,17+1,0)=\"\",\"\",VLOOKUP($A40,出場選手エントリー票!$A$5:$AK$124,17+1,0)))","v":""},{"$f":"IF($B40=\"\",\"\",IF(VLOOKUP($A40,出場選手エントリー票!$A$5:$AK$124,21+1,0)=\"\",\"\",VLOOKUP($A40,出場選手エントリー票!$A$5:$AK$124,21+1,0)))","v":""},{"$f":"IF($B40=\"\",\"\",IF(VLOOKUP($A40,出場選手エントリー票!$A$5:$AK$124,25+1,0)=\"\",\"\",VLOOKUP($A40,出場選手エントリー票!$A$5:$AK$124,25+1,0)))","v":""},{"$f":"IF($B40=\"\",\"\",IF(VLOOKUP($A40,出場選手エントリー票!$A$5:$AK$124,29+1,0)=\"\",\"\",VLOOKUP($A40,出場選手エントリー票!$A$5:$AK$124,29+1,0)))","v":""},{"$f":"IF($B40=\"\",\"\",IF(VLOOKUP($A40,出場選手エントリー票!$A$5:$AK$124,33+1,0)=\"\",\"\",VLOOKUP($A40,出場選手エントリー票!$A$5:$AK$124,33+1,0)))","v":""}]
[40,{"$f":"IF(ISERROR(VLOOKUP($A41,出場選手エントリー票!$A$5:$AK$124,5,0)),\"\",VLOOKUP($A41,出場選手エントリー票!$A$5:$AK$124,6,0))","v":""},{"$f":"IF($B41=\"\",\"\",VLOOKUP($A41,出場選手エントリー票!$A$5:$AK$124,7+1,0))","v":""},{"$f":"IF($B41=\"\",\"\",VLOOKUP($A41,出場選手エントリー票!$A$5:$AK$124,8+1,0))","v":""},{"$f":"IF($B41=\"\",\"\",VLOOKUP($A41,出場選手エントリー票!$A$5:$AK$124,11+1,0))","v":""},{"$f":"IF($B41=\"\",\"\",VLOOKUP($A41,出場選手エントリー票!$A$5:$AK$124,12+1,0))","v":""},{"$f":"IF($B41=\"\",\"\",VLOOKUP($A41,出場選手エントリー票!$A$5:$AK$124,13+1,0))","v":""},{"$f":"IF($B41=\"\",\"\",VLOOKUP($A41,出場選手エントリー票!$A$5:$AK$124,14+1,0))","v":""},{"$f":"IF($B41=\"\",\"\",VLOOKUP($A41,出場選手エントリー票!$A$5:$AK$124,15+1,0))","v":""},{"$f":"IF($B41=\"\",\"\",VLOOKUP($A41,出場選手エントリー票!$A$5:$AK$124,16+1,0))","v":""},{"$f":"IF($B41=\"\",\"\",IF(VLOOKUP($A41,出場選手エントリー票!$A$5:$AK$124,17+1,0)=\"\",\"\",VLOOKUP($A41,出場選手エントリー票!$A$5:$AK$124,17+1,0)))","v":""},{"$f":"IF($B41=\"\",\"\",IF(VLOOKUP($A41,出場選手エントリー票!$A$5:$AK$124,21+1,0)=\"\",\"\",VLOOKUP($A41,出場選手エントリー票!$A$5:$AK$124,21+1,0)))","v":""},{"$f":"IF($B41=\"\",\"\",IF(VLOOKUP($A41,出場選手エントリー票!$A$5:$AK$124,25+1,0)=\"\",\"\",VLOOKUP($A41,出場選手エントリー票!$A$5:$AK$124,25+1,0)))","v":""},{"$f":"IF($B41=\"\",\"\",IF(VLOOKUP($A41,出場選手エントリー票!$A$5:$AK$124,29+1,0)=\"\",\"\",VLOOKUP($A41,出場選手エントリー票!$A$5:$AK$124,29+1,0)))","v":""},{"$f":"IF($B41=\"\",\"\",IF(VLOOKUP($A41,出場選手エントリー票!$A$5:$AK$124,33+1,0)=\"\",\"\",VLOOKUP($A41,出場選手エントリー票!$A$5:$AK$124,33+1,0)))","v":""}]
[41,{"$f":"IF(ISERROR(VLOOKUP($A42,出場選手エントリー票!$A$5:$AK$124,5,0)),\"\",VLOOKUP($A42,出場選手エントリー票!$A$5:$AK$124,6,0))","v":""},{"$f":"IF($B42=\"\",\"\",VLOOKUP($A42,出場選手エントリー票!$A$5:$AK$124,7+1,0))","v":""},{"$f":"IF($B42=\"\",\"\",VLOOKUP($A42,出場選手エントリー票!$A$5:$AK$124,8+1,0))","v":""},{"$f":"IF($B42=\"\",\"\",VLOOKUP($A42,出場選手エントリー票!$A$5:$AK$124,11+1,0))","v":""},{"$f":"IF($B42=\"\",\"\",VLOOKUP($A42,出場選手エントリー票!$A$5:$AK$124,12+1,0))","v":""},{"$f":"IF($B42=\"\",\"\",VLOOKUP($A42,出場選手エントリー票!$A$5:$AK$124,13+1,0))","v":""},{"$f":"IF($B42=\"\",\"\",VLOOKUP($A42,出場選手エントリー票!$A$5:$AK$124,14+1,0))","v":""},{"$f":"IF($B42=\"\",\"\",VLOOKUP($A42,出場選手エントリー票!$A$5:$AK$124,15+1,0))","v":""},{"$f":"IF($B42=\"\",\"\",VLOOKUP($A42,出場選手エントリー票!$A$5:$AK$124,16+1,0))","v":""},{"$f":"IF($B42=\"\",\"\",IF(VLOOKUP($A42,出場選手エントリー票!$A$5:$AK$124,17+1,0)=\"\",\"\",VLOOKUP($A42,出場選手エントリー票!$A$5:$AK$124,17+1,0)))","v":""},{"$f":"IF($B42=\"\",\"\",IF(VLOOKUP($A42,出場選手エントリー票!$A$5:$AK$124,21+1,0)=\"\",\"\",VLOOKUP($A42,出場選手エントリー票!$A$5:$AK$124,21+1,0)))","v":""},{"$f":"IF($B42=\"\",\"\",IF(VLOOKUP($A42,出場選手エントリー票!$A$5:$AK$124,25+1,0)=\"\",\"\",VLOOKUP($A42,出場選手エントリー票!$A$5:$AK$124,25+1,0)))","v":""},{"$f":"IF($B42=\"\",\"\",IF(VLOOKUP($A42,出場選手エントリー票!$A$5:$AK$124,29+1,0)=\"\",\"\",VLOOKUP($A42,出場選手エントリー票!$A$5:$AK$124,29+1,0)))","v":""},{"$f":"IF($B42=\"\",\"\",IF(VLOOKUP($A42,出場選手エントリー票!$A$5:$AK$124,33+1,0)=\"\",\"\",VLOOKUP($A42,出場選手エントリー票!$A$5:$AK$124,33+1,0)))","v":""}]
[42,{"$f":"IF(ISERROR(VLOOKUP($A43,出場選手エントリー票!$A$5:$AK$124,5,0)),\"\",VLOOKUP($A43,出場選手エントリー票!$A$5:$AK$124,6,0))","v":""},{"$f":"IF($B43=\"\",\"\",VLOOKUP($A43,出場選手エントリー票!$A$5:$AK$124,7+1,0))","v":""},{"$f":"IF($B43=\"\",\"\",VLOOKUP($A43,出場選手エントリー票!$A$5:$AK$124,8+1,0))","v":""},{"$f":"IF($B43=\"\",\"\",VLOOKUP($A43,出場選手エントリー票!$A$5:$AK$124,11+1,0))","v":""},{"$f":"IF($B43=\"\",\"\",VLOOKUP($A43,出場選手エントリー票!$A$5:$AK$124,12+1,0))","v":""},{"$f":"IF($B43=\"\",\"\",VLOOKUP($A43,出場選手エントリー票!$A$5:$AK$124,13+1,0))","v":""},{"$f":"IF($B43=\"\",\"\",VLOOKUP($A43,出場選手エントリー票!$A$5:$AK$124,14+1,0))","v":""},{"$f":"IF($B43=\"\",\"\",VLOOKUP($A43,出場選手エントリー票!$A$5:$AK$124,15+1,0))","v":""},{"$f":"IF($B43=\"\",\"\",VLOOKUP($A43,出場選手エントリー票!$A$5:$AK$124,16+1,0))","v":""},{"$f":"IF($B43=\"\",\"\",IF(VLOOKUP($A43,出場選手エントリー票!$A$5:$AK$124,17+1,0)=\"\",\"\",VLOOKUP($A43,出場選手エントリー票!$A$5:$AK$124,17+1,0)))","v":""},{"$f":"IF($B43=\"\",\"\",IF(VLOOKUP($A43,出場選手エントリー票!$A$5:$AK$124,21+1,0)=\"\",\"\",VLOOKUP($A43,出場選手エントリー票!$A$5:$AK$124,21+1,0)))","v":""},{"$f":"IF($B43=\"\",\"\",IF(VLOOKUP($A43,出場選手エントリー票!$A$5:$AK$124,25+1,0)=\"\",\"\",VLOOKUP($A43,出場選手エントリー票!$A$5:$AK$124,25+1,0)))","v":""},{"$f":"IF($B43=\"\",\"\",IF(VLOOKUP($A43,出場選手エントリー票!$A$5:$AK$124,29+1,0)=\"\",\"\",VLOOKUP($A43,出場選手エントリー票!$A$5:$AK$124,29+1,0)))","v":""},{"$f":"IF($B43=\"\",\"\",IF(VLOOKUP($A43,出場選手エントリー票!$A$5:$AK$124,33+1,0)=\"\",\"\",VLOOKUP($A43,出場選手エントリー票!$A$5:$AK$124,33+1,0)))","v":""}]
[43,{"$f":"IF(ISERROR(VLOOKUP($A44,出場選手エントリー票!$A$5:$AK$124,5,0)),\"\",VLOOKUP($A44,出場選手エントリー票!$A$5:$AK$124,6,0))","v":""},{"$f":"IF($B44=\"\",\"\",VLOOKUP($A44,出場選手エントリー票!$A$5:$AK$124,7+1,0))","v":""},{"$f":"IF($B44=\"\",\"\",VLOOKUP($A44,出場選手エントリー票!$A$5:$AK$124,8+1,0))","v":""},{"$f":"IF($B44=\"\",\"\",VLOOKUP($A44,出場選手エントリー票!$A$5:$AK$124,11+1,0))","v":""},{"$f":"IF($B44=\"\",\"\",VLOOKUP($A44,出場選手エントリー票!$A$5:$AK$124,12+1,0))","v":""},{"$f":"IF($B44=\"\",\"\",VLOOKUP($A44,出場選手エントリー票!$A$5:$AK$124,13+1,0))","v":""},{"$f":"IF($B44=\"\",\"\",VLOOKUP($A44,出場選手エントリー票!$A$5:$AK$124,14+1,0))","v":""},{"$f":"IF($B44=\"\",\"\",VLOOKUP($A44,出場選手エントリー票!$A$5:$AK$124,15+1,0))","v":""},{"$f":"IF($B44=\"\",\"\",VLOOKUP($A44,出場選手エントリー票!$A$5:$AK$124,16+1,0))","v":""},{"$f":"IF($B44=\"\",\"\",IF(VLOOKUP($A44,出場選手エントリー票!$A$5:$AK$124,17+1,0)=\"\",\"\",VLOOKUP($A44,出場選手エントリー票!$A$5:$AK$124,17+1,0)))","v":""},{"$f":"IF($B44=\"\",\"\",IF(VLOOKUP($A44,出場選手エントリー票!$A$5:$AK$124,21+1,0)=\"\",\"\",VLOOKUP($A44,出場選手エントリー票!$A$5:$AK$124,21+1,0)))","v":""},{"$f":"IF($B44=\"\",\"\",IF(VLOOKUP($A44,出場選手エントリー票!$A$5:$AK$124,25+1,0)=\"\",\"\",VLOOKUP($A44,出場選手エントリー票!$A$5:$AK$124,25+1,0)))","v":""},{"$f":"IF($B44=\"\",\"\",IF(VLOOKUP($A44,出場選手エントリー票!$A$5:$AK$124,29+1,0)=\"\",\"\",VLOOKUP($A44,出場選手エントリー票!$A$5:$AK$124,29+1,0)))","v":""},{"$f":"IF($B44=\"\",\"\",IF(VLOOKUP($A44,出場選手エントリー票!$A$5:$AK$124,33+1,0)=\"\",\"\",VLOOKUP($A44,出場選手エントリー票!$A$5:$AK$124,33+1,0)))","v":""}]
[44,{"$f":"IF(ISERROR(VLOOKUP($A45,出場選手エントリー票!$A$5:$AK$124,5,0)),\"\",VLOOKUP($A45,出場選手エントリー票!$A$5:$AK$124,6,0))","v":""},{"$f":"IF($B45=\"\",\"\",VLOOKUP($A45,出場選手エントリー票!$A$5:$AK$124,7+1,0))","v":""},{"$f":"IF($B45=\"\",\"\",VLOOKUP($A45,出場選手エントリー票!$A$5:$AK$124,8+1,0))","v":""},{"$f":"IF($B45=\"\",\"\",VLOOKUP($A45,出場選手エントリー票!$A$5:$AK$124,11+1,0))","v":""},{"$f":"IF($B45=\"\",\"\",VLOOKUP($A45,出場選手エントリー票!$A$5:$AK$124,12+1,0))","v":""},{"$f":"IF($B45=\"\",\"\",VLOOKUP($A45,出場選手エントリー票!$A$5:$AK$124,13+1,0))","v":""},{"$f":"IF($B45=\"\",\"\",VLOOKUP($A45,出場選手エントリー票!$A$5:$AK$124,14+1,0))","v":""},{"$f":"IF($B45=\"\",\"\",VLOOKUP($A45,出場選手エントリー票!$A$5:$AK$124,15+1,0))","v":""},{"$f":"IF($B45=\"\",\"\",VLOOKUP($A45,出場選手エントリー票!$A$5:$AK$124,16+1,0))","v":""},{"$f":"IF($B45=\"\",\"\",IF(VLOOKUP($A45,出場選手エントリー票!$A$5:$AK$124,17+1,0)=\"\",\"\",VLOOKUP($A45,出場選手エントリー票!$A$5:$AK$124,17+1,0)))","v":""},{"$f":"IF($B45=\"\",\"\",IF(VLOOKUP($A45,出場選手エントリー票!$A$5:$AK$124,21+1,0)=\"\",\"\",VLOOKUP($A45,出場選手エントリー票!$A$5:$AK$124,21+1,0)))","v":""},{"$f":"IF($B45=\"\",\"\",IF(VLOOKUP($A45,出場選手エントリー票!$A$5:$AK$124,25+1,0)=\"\",\"\",VLOOKUP($A45,出場選手エントリー票!$A$5:$AK$124,25+1,0)))","v":""},{"$f":"IF($B45=\"\",\"\",IF(VLOOKUP($A45,出場選手エントリー票!$A$5:$AK$124,29+1,0)=\"\",\"\",VLOOKUP($A45,出場選手エントリー票!$A$5:$AK$124,29+1,0)))","v":""},{"$f":"IF($B45=\"\",\"\",IF(VLOOKUP($A45,出場選手エントリー票!$A$5:$AK$124,33+1,0)=\"\",\"\",VLOOKUP($A45,出場選手エントリー票!$A$5:$AK$124,33+1,0)))","v":""}]
[45,{"$f":"IF(ISERROR(VLOOKUP($A46,出場選手エントリー票!$A$5:$AK$124,5,0)),\"\",VLOOKUP($A46,出場選手エントリー票!$A$5:$AK$124,6,0))","v":""},{"$f":"IF($B46=\"\",\"\",VLOOKUP($A46,出場選手エントリー票!$A$5:$AK$124,7+1,0))","v":""},{"$f":"IF($B46=\"\",\"\",VLOOKUP($A46,出場選手エントリー票!$A$5:$AK$124,8+1,0))","v":""},{"$f":"IF($B46=\"\",\"\",VLOOKUP($A46,出場選手エントリー票!$A$5:$AK$124,11+1,0))","v":""},{"$f":"IF($B46=\"\",\"\",VLOOKUP($A46,出場選手エントリー票!$A$5:$AK$124,12+1,0))","v":""},{"$f":"IF($B46=\"\",\"\",VLOOKUP($A46,出場選手エントリー票!$A$5:$AK$124,13+1,0))","v":""},{"$f":"IF($B46=\"\",\"\",VLOOKUP($A46,出場選手エントリー票!$A$5:$AK$124,14+1,0))","v":""},{"$f":"IF($B46=\"\",\"\",VLOOKUP($A46,出場選手エントリー票!$A$5:$AK$124,15+1,0))","v":""},{"$f":"IF($B46=\"\",\"\",VLOOKUP($A46,出場選手エントリー票!$A$5:$AK$124,16+1,0))","v":""},{"$f":"IF($B46=\"\",\"\",IF(VLOOKUP($A46,出場選手エントリー票!$A$5:$AK$124,17+1,0)=\"\",\"\",VLOOKUP($A46,出場選手エントリー票!$A$5:$AK$124,17+1,0)))","v":""},{"$f":"IF($B46=\"\",\"\",IF(VLOOKUP($A46,出場選手エントリー票!$A$5:$AK$124,21+1,0)=\"\",\"\",VLOOKUP($A46,出場選手エントリー票!$A$5:$AK$124,21+1,0)))","v":""},{"$f":"IF($B46=\"\",\"\",IF(VLOOKUP($A46,出場選手エントリー票!$A$5:$AK$124,25+1,0)=\"\",\"\",VLOOKUP($A46,出場選手エントリー票!$A$5:$AK$124,25+1,0)))","v":""},{"$f":"IF($B46=\"\",\"\",IF(VLOOKUP($A46,出場選手エントリー票!$A$5:$AK$124,29+1,0)=\"\",\"\",VLOOKUP($A46,出場選手エントリー票!$A$5:$AK$124,29+1,0)))","v":""},{"$f":"IF($B46=\"\",\"\",IF(VLOOKUP($A46,出場選手エントリー票!$A$5:$AK$124,33+1,0)=\"\",\"\",VLOOKUP($A46,出場選手エントリー票!$A$5:$AK$124,33+1,0)))","v":""}]
[46,{"$f":"IF(ISERROR(VLOOKUP($A47,出場選手エントリー票!$A$5:$AK$124,5,0)),\"\",VLOOKUP($A47,出場選手エントリー票!$A$5:$AK$124,6,0))","v":""},{"$f":"IF($B47=\"\",\"\",VLOOKUP($A47,出場選手エントリー票!$A$5:$AK$124,7+1,0))","v":""},{"$f":"IF($B47=\"\",\"\",VLOOKUP($A47,出場選手エントリー票!$A$5:$AK$124,8+1,0))","v":""},{"$f":"IF($B47=\"\",\"\",VLOOKUP($A47,出場選手エントリー票!$A$5:$AK$124,11+1,0))","v":""},{"$f":"IF($B47=\"\",\"\",VLOOKUP($A47,出場選手エントリー票!$A$5:$AK$124,12+1,0))","v":""},{"$f":"IF($B47=\"\",\"\",VLOOKUP($A47,出場選手エントリー票!$A$5:$AK$124,13+1,0))","v":""},{"$f":"IF($B47=\"\",\"\",VLOOKUP($A47,出場選手エントリー票!$A$5:$AK$124,14+1,0))","v":""},{"$f":"IF($B47=\"\",\"\",VLOOKUP($A47,出場選手エントリー票!$A$5:$AK$124,15+1,0))","v":""},{"$f":"IF($B47=\"\",\"\",VLOOKUP($A47,出場選手エントリー票!$A$5:$AK$124,16+1,0))","v":""},{"$f":"IF($B47=\"\",\"\",IF(VLOOKUP($A47,出場選手エントリー票!$A$5:$AK$124,17+1,0)=\"\",\"\",VLOOKUP($A47,出場選手エントリー票!$A$5:$AK$124,17+1,0)))","v":""},{"$f":"IF($B47=\"\",\"\",IF(VLOOKUP($A47,出場選手エントリー票!$A$5:$AK$124,21+1,0)=\"\",\"\",VLOOKUP($A47,出場選手エントリー票!$A$5:$AK$124,21+1,0)))","v":""},{"$f":"IF($B47=\"\",\"\",IF(VLOOKUP($A47,出場選手エントリー票!$A$5:$AK$124,25+1,0)=\"\",\"\",VLOOKUP($A47,出場選手エントリー票!$A$5:$AK$124,25+1,0)))","v":""},{"$f":"IF($B47=\"\",\"\",IF(VLOOKUP($A47,出場選手エントリー票!$A$5:$AK$124,29+1,0)=\"\",\"\",VLOOKUP($A47,出場選手エントリー票!$A$5:$AK$124,29+1,0)))","v":""},{"$f":"IF($B47=\"\",\"\",IF(VLOOKUP($A47,出場選手エントリー票!$A$5:$AK$124,33+1,0)=\"\",\"\",VLOOKUP($A47,出場選手エントリー票!$A$5:$AK$124,33+1,0)))","v":""}]
[47,{"$f":"IF(ISERROR(VLOOKUP($A48,出場選手エントリー票!$A$5:$AK$124,5,0)),\"\",VLOOKUP($A48,出場選手エントリー票!$A$5:$AK$124,6,0))","v":""},{"$f":"IF($B48=\"\",\"\",VLOOKUP($A48,出場選手エントリー票!$A$5:$AK$124,7+1,0))","v":""},{"$f":"IF($B48=\"\",\"\",VLOOKUP($A48,出場選手エントリー票!$A$5:$AK$124,8+1,0))","v":""},{"$f":"IF($B48=\"\",\"\",VLOOKUP($A48,出場選手エントリー票!$A$5:$AK$124,11+1,0))","v":""},{"$f":"IF($B48=\"\",\"\",VLOOKUP($A48,出場選手エントリー票!$A$5:$AK$124,12+1,0))","v":""},{"$f":"IF($B48=\"\",\"\",VLOOKUP($A48,出場選手エントリー票!$A$5:$AK$124,13+1,0))","v":""},{"$f":"IF($B48=\"\",\"\",VLOOKUP($A48,出場選手エントリー票!$A$5:$AK$124,14+1,0))","v":""},{"$f":"IF($B48=\"\",\"\",VLOOKUP($A48,出場選手エントリー票!$A$5:$AK$124,15+1,0))","v":""},{"$f":"IF($B48=\"\",\"\",VLOOKUP($A48,出場選手エントリー票!$A$5:$AK$124,16+1,0))","v":""},{"$f":"IF($B48=\"\",\"\",IF(VLOOKUP($A48,出場選手エントリー票!$A$5:$AK$124,17+1,0)=\"\",\"\",VLOOKUP($A48,出場選手エントリー票!$A$5:$AK$124,17+1,0)))","v":""},{"$f":"IF($B48=\"\",\"\",IF(VLOOKUP($A48,出場選手エントリー票!$A$5:$AK$124,21+1,0)=\"\",\"\",VLOOKUP($A48,出場選手エントリー票!$A$5:$AK$124,21+1,0)))","v":""},{"$f":"IF($B48=\"\",\"\",IF(VLOOKUP($A48,出場選手エントリー票!$A$5:$AK$124,25+1,0)=\"\",\"\",VLOOKUP($A48,出場選手エントリー票!$A$5:$AK$124,25+1,0)))","v":""},{"$f":"IF($B48=\"\",\"\",IF(VLOOKUP($A48,出場選手エントリー票!$A$5:$AK$124,29+1,0)=\"\",\"\",VLOOKUP($A48,出場選手エントリー票!$A$5:$AK$124,29+1,0)))","v":""},{"$f":"IF($B48=\"\",\"\",IF(VLOOKUP($A48,出場選手エントリー票!$A$5:$AK$124,33+1,0)=\"\",\"\",VLOOKUP($A48,出場選手エントリー票!$A$5:$AK$124,33+1,0)))","v":""}]
[48,{"$f":"IF(ISERROR(VLOOKUP($A49,出場選手エントリー票!$A$5:$AK$124,5,0)),\"\",VLOOKUP($A49,出場選手エントリー票!$A$5:$AK$124,6,0))","v":""},{"$f":"IF($B49=\"\",\"\",VLOOKUP($A49,出場選手エントリー票!$A$5:$AK$124,7+1,0))","v":""},{"$f":"IF($B49=\"\",\"\",VLOOKUP($A49,出場選手エントリー票!$A$5:$AK$124,8+1,0))","v":""},{"$f":"IF($B49=\"\",\"\",VLOOKUP($A49,出場選手エントリー票!$A$5:$AK$124,11+1,0))","v":""},{"$f":"IF($B49=\"\",\"\",VLOOKUP($A49,出場選手エントリー票!$A$5:$AK$124,12+1,0))","v":""},{"$f":"IF($B49=\"\",\"\",VLOOKUP($A49,出場選手エントリー票!$A$5:$AK$124,13+1,0))","v":""},{"$f":"IF($B49=\"\",\"\",VLOOKUP($A49,出場選手エントリー票!$A$5:$AK$124,14+1,0))","v":""},{"$f":"IF($B49=\"\",\"\",VLOOKUP($A49,出場選手エントリー票!$A$5:$AK$124,15+1,0))","v":""},{"$f":"IF($B49=\"\",\"\",VLOOKUP($A49,出場選手エントリー票!$A$5:$AK$124,16+1,0))","v":""},{"$f":"IF($B49=\"\",\"\",IF(VLOOKUP($A49,出場選手エントリー票!$A$5:$AK$124,17+1,0)=\"\",\"\",VLOOKUP($A49,出場選手エントリー票!$A$5:$AK$124,17+1,0)))","v":""},{"$f":"IF($B49=\"\",\"\",IF(VLOOKUP($A49,出場選手エントリー票!$A$5:$AK$124,21+1,0)=\"\",\"\",VLOOKUP($A49,出場選手エントリー票!$A$5:$AK$124,21+1,0)))","v":""},{"$f":"IF($B49=\"\",\"\",IF(VLOOKUP($A49,出場選手エントリー票!$A$5:$AK$124,25+1,0)=\"\",\"\",VLOOKUP($A49,出場選手エントリー票!$A$5:$AK$124,25+1,0)))","v":""},{"$f":"IF($B49=\"\",\"\",IF(VLOOKUP($A49,出場選手エントリー票!$A$5:$AK$124,29+1,0)=\"\",\"\",VLOOKUP($A49,出場選手エントリー票!$A$5:$AK$124,29+1,0)))","v":""},{"$f":"IF($B49=\"\",\"\",IF(VLOOKUP($A49,出場選手エントリー票!$A$5:$AK$124,33+1,0)=\"\",\"\",VLOOKUP($A49,出場選手エントリー票!$A$5:$AK$124,33+1,0)))","v":""}]
[49,{"$f":"IF(ISERROR(VLOOKUP($A50,出場選手エントリー票!$A$5:$AK$124,5,0)),\"\",VLOOKUP($A50,出場選手エントリー票!$A$5:$AK$124,6,0))","v":""},{"$f":"IF($B50=\"\",\"\",VLOOKUP($A50,出場選手エントリー票!$A$5:$AK$124,7+1,0))","v":""},{"$f":"IF($B50=\"\",\"\",VLOOKUP($A50,出場選手エントリー票!$A$5:$AK$124,8+1,0))","v":""},{"$f":"IF($B50=\"\",\"\",VLOOKUP($A50,出場選手エントリー票!$A$5:$AK$124,11+1,0))","v":""},{"$f":"IF($B50=\"\",\"\",VLOOKUP($A50,出場選手エントリー票!$A$5:$AK$124,12+1,0))","v":""},{"$f":"IF($B50=\"\",\"\",VLOOKUP($A50,出場選手エントリー票!$A$5:$AK$124,13+1,0))","v":""},{"$f":"IF($B50=\"\",\"\",VLOOKUP($A50,出場選手エントリー票!$A$5:$AK$124,14+1,0))","v":""},{"$f":"IF($B50=\"\",\"\",VLOOKUP($A50,出場選手エントリー票!$A$5:$AK$124,15+1,0))","v":""},{"$f":"IF($B50=\"\",\"\",VLOOKUP($A50,出場選手エントリー票!$A$5:$AK$124,16+1,0))","v":""},{"$f":"IF($B50=\"\",\"\",IF(VLOOKUP($A50,出場選手エントリー票!$A$5:$AK$124,17+1,0)=\"\",\"\",VLOOKUP($A50,出場選手エントリー票!$A$5:$AK$124,17+1,0)))","v":""},{"$f":"IF($B50=\"\",\"\",IF(VLOOKUP($A50,出場選手エントリー票!$A$5:$AK$124,21+1,0)=\"\",\"\",VLOOKUP($A50,出場選手エントリー票!$A$5:$AK$124,21+1,0)))","v":""},{"$f":"IF($B50=\"\",\"\",IF(VLOOKUP($A50,出場選手エントリー票!$A$5:$AK$124,25+1,0)=\"\",\"\",VLOOKUP($A50,出場選手エントリー票!$A$5:$AK$124,25+1,0)))","v":""},{"$f":"IF($B50=\"\",\"\",IF(VLOOKUP($A50,出場選手エントリー票!$A$5:$AK$124,29+1,0)=\"\",\"\",VLOOKUP($A50,出場選手エントリー票!$A$5:$AK$124,29+1,0)))","v":""},{"$f":"IF($B50=\"\",\"\",IF(VLOOKUP($A50,出場選手エントリー票!$A$5:$AK$124,33+1,0)=\"\",\"\",VLOOKUP($A50,出場選手エントリー票!$A$5:$AK$124,33+1,0)))","v":""}]
[50,{"$f":"IF(ISERROR(VLOOKUP($A51,出場選手エントリー票!$A$5:$AK$124,5,0)),\"\",VLOOKUP($A51,出場選手エントリー票!$A$5:$AK$124,6,0))","v":""},{"$f":"IF($B51=\"\",\"\",VLOOKUP($A51,出場選手エントリー票!$A$5:$AK$124,7+1,0))","v":""},{"$f":"IF($B51=\"\",\"\",VLOOKUP($A51,出場選手エントリー票!$A$5:$AK$124,8+1,0))","v":""},{"$f":"IF($B51=\"\",\"\",VLOOKUP($A51,出場選手エントリー票!$A$5:$AK$124,11+1,0))","v":""},{"$f":"IF($B51=\"\",\"\",VLOOKUP($A51,出場選手エントリー票!$A$5:$AK$124,12+1,0))","v":""},{"$f":"IF($B51=\"\",\"\",VLOOKUP($A51,出場選手エントリー票!$A$5:$AK$124,13+1,0))","v":""},{"$f":"IF($B51=\"\",\"\",VLOOKUP($A51,出場選手エントリー票!$A$5:$AK$124,14+1,0))","v":""},{"$f":"IF($B51=\"\",\"\",VLOOKUP($A51,出場選手エントリー票!$A$5:$AK$124,15+1,0))","v":""},{"$f":"IF($B51=\"\",\"\",VLOOKUP($A51,出場選手エントリー票!$A$5:$AK$124,16+1,0))","v":""},{"$f":"IF($B51=\"\",\"\",IF(VLOOKUP($A51,出場選手エントリー票!$A$5:$AK$124,17+1,0)=\"\",\"\",VLOOKUP($A51,出場選手エントリー票!$A$5:$AK$124,17+1,0)))","v":""},{"$f":"IF($B51=\"\",\"\",IF(VLOOKUP($A51,出場選手エントリー票!$A$5:$AK$124,21+1,0)=\"\",\"\",VLOOKUP($A51,出場選手エントリー票!$A$5:$AK$124,21+1,0)))","v":""},{"$f":"IF($B51=\"\",\"\",IF(VLOOKUP($A51,出場選手エントリー票!$A$5:$AK$124,25+1,0)=\"\",\"\",VLOOKUP($A51,出場選手エントリー票!$A$5:$AK$124,25+1,0)))","v":""},{"$f":"IF($B51=\"\",\"\",IF(VLOOKUP($A51,出場選手エントリー票!$A$5:$AK$124,29+1,0)=\"\",\"\",VLOOKUP($A51,出場選手エントリー票!$A$5:$AK$124,29+1,0)))","v":""},{"$f":"IF($B51=\"\",\"\",IF(VLOOKUP($A51,出場選手エントリー票!$A$5:$AK$124,33+1,0)=\"\",\"\",VLOOKUP($A51,出場選手エントリー票!$A$5:$AK$124,33+1,0)))","v":""}]
[51,{"$f":"IF(ISERROR(VLOOKUP($A52,出場選手エントリー票!$A$5:$AK$124,5,0)),\"\",VLOOKUP($A52,出場選手エントリー票!$A$5:$AK$124,6,0))","v":""},{"$f":"IF($B52=\"\",\"\",VLOOKUP($A52,出場選手エントリー票!$A$5:$AK$124,7+1,0))","v":""},{"$f":"IF($B52=\"\",\"\",VLOOKUP($A52,出場選手エントリー票!$A$5:$AK$124,8+1,0))","v":""},{"$f":"IF($B52=\"\",\"\",VLOOKUP($A52,出場選手エントリー票!$A$5:$AK$124,11+1,0))","v":""},{"$f":"IF($B52=\"\",\"\",VLOOKUP($A52,出場選手エントリー票!$A$5:$AK$124,12+1,0))","v":""},{"$f":"IF($B52=\"\",\"\",VLOOKUP($A52,出場選手エントリー票!$A$5:$AK$124,13+1,0))","v":""},{"$f":"IF($B52=\"\",\"\",VLOOKUP($A52,出場選手エントリー票!$A$5:$AK$124,14+1,0))","v":""},{"$f":"IF($B52=\"\",\"\",VLOOKUP($A52,出場選手エントリー票!$A$5:$AK$124,15+1,0))","v":""},{"$f":"IF($B52=\"\",\"\",VLOOKUP($A52,出場選手エントリー票!$A$5:$AK$124,16+1,0))","v":""},{"$f":"IF($B52=\"\",\"\",IF(VLOOKUP($A52,出場選手エントリー票!$A$5:$AK$124,17+1,0)=\"\",\"\",VLOOKUP($A52,出場選手エントリー票!$A$5:$AK$124,17+1,0)))","v":""},{"$f":"IF($B52=\"\",\"\",IF(VLOOKUP($A52,出場選手エントリー票!$A$5:$AK$124,21+1,0)=\"\",\"\",VLOOKUP($A52,出場選手エントリー票!$A$5:$AK$124,21+1,0)))","v":""},{"$f":"IF($B52=\"\",\"\",IF(VLOOKUP($A52,出場選手エントリー票!$A$5:$AK$124,25+1,0)=\"\",\"\",VLOOKUP($A52,出場選手エントリー票!$A$5:$AK$124,25+1,0)))","v":""},{"$f":"IF($B52=\"\",\"\",IF(VLOOKUP($A52,出場選手エントリー票!$A$5:$AK$124,29+1,0)=\"\",\"\",VLOOKUP($A52,出場選手エントリー票!$A$5:$AK$124,29+1,0)))","v":""},{"$f":"IF($B52=\"\",\"\",IF(VLOOKUP($A52,出場選手エントリー票!$A$5:$AK$124,33+1,0)=\"\",\"\",VLOOKUP($A52,出場選手エントリー票!$A$5:$AK$124,33+1,0)))","v":""}]
[52,{"$f":"IF(ISERROR(VLOOKUP($A53,出場選手エントリー票!$A$5:$AK$124,5,0)),\"\",VLOOKUP($A53,出場選手エントリー票!$A$5:$AK$124,6,0))","v":""},{"$f":"IF($B53=\"\",\"\",VLOOKUP($A53,出場選手エントリー票!$A$5:$AK$124,7+1,0))","v":""},{"$f":"IF($B53=\"\",\"\",VLOOKUP($A53,出場選手エントリー票!$A$5:$AK$124,8+1,0))","v":""},{"$f":"IF($B53=\"\",\"\",VLOOKUP($A53,出場選手エントリー票!$A$5:$AK$124,11+1,0))","v":""},{"$f":"IF($B53=\"\",\"\",VLOOKUP($A53,出場選手エントリー票!$A$5:$AK$124,12+1,0))","v":""},{"$f":"IF($B53=\"\",\"\",VLOOKUP($A53,出場選手エントリー票!$A$5:$AK$124,13+1,0))","v":""},{"$f":"IF($B53=\"\",\"\",VLOOKUP($A53,出場選手エントリー票!$A$5:$AK$124,14+1,0))","v":""},{"$f":"IF($B53=\"\",\"\",VLOOKUP($A53,出場選手エントリー票!$A$5:$AK$124,15+1,0))","v":""},{"$f":"IF($B53=\"\",\"\",VLOOKUP($A53,出場選手エントリー票!$A$5:$AK$124,16+1,0))","v":""},{"$f":"IF($B53=\"\",\"\",IF(VLOOKUP($A53,出場選手エントリー票!$A$5:$AK$124,17+1,0)=\"\",\"\",VLOOKUP($A53,出場選手エントリー票!$A$5:$AK$124,17+1,0)))","v":""},{"$f":"IF($B53=\"\",\"\",IF(VLOOKUP($A53,出場選手エントリー票!$A$5:$AK$124,21+1,0)=\"\",\"\",VLOOKUP($A53,出場選手エントリー票!$A$5:$AK$124,21+1,0)))","v":""},{"$f":"IF($B53=\"\",\"\",IF(VLOOKUP($A53,出場選手エントリー票!$A$5:$AK$124,25+1,0)=\"\",\"\",VLOOKUP($A53,出場選手エントリー票!$A$5:$AK$124,25+1,0)))","v":""},{"$f":"IF($B53=\"\",\"\",IF(VLOOKUP($A53,出場選手エントリー票!$A$5:$AK$124,29+1,0)=\"\",\"\",VLOOKUP($A53,出場選手エントリー票!$A$5:$AK$124,29+1,0)))","v":""},{"$f":"IF($B53=\"\",\"\",IF(VLOOKUP($A53,出場選手エントリー票!$A$5:$AK$124,33+1,0)=\"\",\"\",VLOOKUP($A53,出場選手エントリー票!$A$5:$AK$124,33+1,0)))","v":""}]
[53,{"$f":"IF(ISERROR(VLOOKUP($A54,出場選手エントリー票!$A$5:$AK$124,5,0)),\"\",VLOOKUP($A54,出場選手エントリー票!$A$5:$AK$124,6,0))","v":""},{"$f":"IF($B54=\"\",\"\",VLOOKUP($A54,出場選手エントリー票!$A$5:$AK$124,7+1,0))","v":""},{"$f":"IF($B54=\"\",\"\",VLOOKUP($A54,出場選手エントリー票!$A$5:$AK$124,8+1,0))","v":""},{"$f":"IF($B54=\"\",\"\",VLOOKUP($A54,出場選手エントリー票!$A$5:$AK$124,11+1,0))","v":""},{"$f":"IF($B54=\"\",\"\",VLOOKUP($A54,出場選手エントリー票!$A$5:$AK$124,12+1,0))","v":""},{"$f":"IF($B54=\"\",\"\",VLOOKUP($A54,出場選手エントリー票!$A$5:$AK$124,13+1,0))","v":""},{"$f":"IF($B54=\"\",\"\",VLOOKUP($A54,出場選手エントリー票!$A$5:$AK$124,14+1,0))","v":""},{"$f":"IF($B54=\"\",\"\",VLOOKUP($A54,出場選手エントリー票!$A$5:$AK$124,15+1,0))","v":""},{"$f":"IF($B54=\"\",\"\",VLOOKUP($A54,出場選手エントリー票!$A$5:$AK$124,16+1,0))","v":""},{"$f":"IF($B54=\"\",\"\",IF(VLOOKUP($A54,出場選手エントリー票!$A$5:$AK$124,17+1,0)=\"\",\"\",VLOOKUP($A54,出場選手エントリー票!$A$5:$AK$124,17+1,0)))","v":""},{"$f":"IF($B54=\"\",\"\",IF(VLOOKUP($A54,出場選手エントリー票!$A$5:$AK$124,21+1,0)=\"\",\"\",VLOOKUP($A54,出場選手エントリー票!$A$5:$AK$124,21+1,0)))","v":""},{"$f":"IF($B54=\"\",\"\",IF(VLOOKUP($A54,出場選手エントリー票!$A$5:$AK$124,25+1,0)=\"\",\"\",VLOOKUP($A54,出場選手エントリー票!$A$5:$AK$124,25+1,0)))","v":""},{"$f":"IF($B54=\"\",\"\",IF(VLOOKUP($A54,出場選手エントリー票!$A$5:$AK$124,29+1,0)=\"\",\"\",VLOOKUP($A54,出場選手エントリー票!$A$5:$AK$124,29+1,0)))","v":""},{"$f":"IF($B54=\"\",\"\",IF(VLOOKUP($A54,出場選手エントリー票!$A$5:$AK$124,33+1,0)=\"\",\"\",VLOOKUP($A54,出場選手エントリー票!$A$5:$AK$124,33+1,0)))","v":""}]
[54,{"$f":"IF(ISERROR(VLOOKUP($A55,出場選手エントリー票!$A$5:$AK$124,5,0)),\"\",VLOOKUP($A55,出場選手エントリー票!$A$5:$AK$124,6,0))","v":""},{"$f":"IF($B55=\"\",\"\",VLOOKUP($A55,出場選手エントリー票!$A$5:$AK$124,7+1,0))","v":""},{"$f":"IF($B55=\"\",\"\",VLOOKUP($A55,出場選手エントリー票!$A$5:$AK$124,8+1,0))","v":""},{"$f":"IF($B55=\"\",\"\",VLOOKUP($A55,出場選手エントリー票!$A$5:$AK$124,11+1,0))","v":""},{"$f":"IF($B55=\"\",\"\",VLOOKUP($A55,出場選手エントリー票!$A$5:$AK$124,12+1,0))","v":""},{"$f":"IF($B55=\"\",\"\",VLOOKUP($A55,出場選手エントリー票!$A$5:$AK$124,13+1,0))","v":""},{"$f":"IF($B55=\"\",\"\",VLOOKUP($A55,出場選手エントリー票!$A$5:$AK$124,14+1,0))","v":""},{"$f":"IF($B55=\"\",\"\",VLOOKUP($A55,出場選手エントリー票!$A$5:$AK$124,15+1,0))","v":""},{"$f":"IF($B55=\"\",\"\",VLOOKUP($A55,出場選手エントリー票!$A$5:$AK$124,16+1,0))","v":""},{"$f":"IF($B55=\"\",\"\",IF(VLOOKUP($A55,出場選手エントリー票!$A$5:$AK$124,17+1,0)=\"\",\"\",VLOOKUP($A55,出場選手エントリー票!$A$5:$AK$124,17+1,0)))","v":""},{"$f":"IF($B55=\"\",\"\",IF(VLOOKUP($A55,出場選手エントリー票!$A$5:$AK$124,21+1,0)=\"\",\"\",VLOOKUP($A55,出場選手エントリー票!$A$5:$AK$124,21+1,0)))","v":""},{"$f":"IF($B55=\"\",\"\",IF(VLOOKUP($A55,出場選手エントリー票!$A$5:$AK$124,25+1,0)=\"\",\"\",VLOOKUP($A55,出場選手エントリー票!$A$5:$AK$124,25+1,0)))","v":""},{"$f":"IF($B55=\"\",\"\",IF(VLOOKUP($A55,出場選手エントリー票!$A$5:$AK$124,29+1,0)=\"\",\"\",VLOOKUP($A55,出場選手エントリー票!$A$5:$AK$124,29+1,0)))","v":""},{"$f":"IF($B55=\"\",\"\",IF(VLOOKUP($A55,出場選手エントリー票!$A$5:$AK$124,33+1,0)=\"\",\"\",VLOOKUP($A55,出場選手エントリー票!$A$5:$AK$124,33+1,0)))","v":""}]
[55,{"$f":"IF(ISERROR(VLOOKUP($A56,出場選手エントリー票!$A$5:$AK$124,5,0)),\"\",VLOOKUP($A56,出場選手エントリー票!$A$5:$AK$124,6,0))","v":""},{"$f":"IF($B56=\"\",\"\",VLOOKUP($A56,出場選手エントリー票!$A$5:$AK$124,7+1,0))","v":""},{"$f":"IF($B56=\"\",\"\",VLOOKUP($A56,出場選手エントリー票!$A$5:$AK$124,8+1,0))","v":""},{"$f":"IF($B56=\"\",\"\",VLOOKUP($A56,出場選手エントリー票!$A$5:$AK$124,11+1,0))","v":""},{"$f":"IF($B56=\"\",\"\",VLOOKUP($A56,出場選手エントリー票!$A$5:$AK$124,12+1,0))","v":""},{"$f":"IF($B56=\"\",\"\",VLOOKUP($A56,出場選手エントリー票!$A$5:$AK$124,13+1,0))","v":""},{"$f":"IF($B56=\"\",\"\",VLOOKUP($A56,出場選手エントリー票!$A$5:$AK$124,14+1,0))","v":""},{"$f":"IF($B56=\"\",\"\",VLOOKUP($A56,出場選手エントリー票!$A$5:$AK$124,15+1,0))","v":""},{"$f":"IF($B56=\"\",\"\",VLOOKUP($A56,出場選手エントリー票!$A$5:$AK$124,16+1,0))","v":""},{"$f":"IF($B56=\"\",\"\",IF(VLOOKUP($A56,出場選手エントリー票!$A$5:$AK$124,17+1,0)=\"\",\"\",VLOOKUP($A56,出場選手エントリー票!$A$5:$AK$124,17+1,0)))","v":""},{"$f":"IF($B56=\"\",\"\",IF(VLOOKUP($A56,出場選手エントリー票!$A$5:$AK$124,21+1,0)=\"\",\"\",VLOOKUP($A56,出場選手エントリー票!$A$5:$AK$124,21+1,0)))","v":""},{"$f":"IF($B56=\"\",\"\",IF(VLOOKUP($A56,出場選手エントリー票!$A$5:$AK$124,25+1,0)=\"\",\"\",VLOOKUP($A56,出場選手エントリー票!$A$5:$AK$124,25+1,0)))","v":""},{"$f":"IF($B56=\"\",\"\",IF(VLOOKUP($A56,出場選手エントリー票!$A$5:$AK$124,29+1,0)=\"\",\"\",VLOOKUP($A56,出場選手エントリー票!$A$5:$AK$124,29+1,0)))","v":""},{"$f":"IF($B56=\"\",\"\",IF(VLOOKUP($A56,出場選手エントリー票!$A$5:$AK$124,33+1,0)=\"\",\"\",VLOOKUP($A56,出場選手エントリー票!$A$5:$AK$124,33+1,0)))","v":""}]
[56,{"$f":"IF(ISERROR(VLOOKUP($A57,出場選手エントリー票!$A$5:$AK$124,5,0)),\"\",VLOOKUP($A57,出場選手エントリー票!$A$5:$AK$124,6,0))","v":""},{"$f":"IF($B57=\"\",\"\",VLOOKUP($A57,出場選手エントリー票!$A$5:$AK$124,7+1,0))","v":""},{"$f":"IF($B57=\"\",\"\",VLOOKUP($A57,出場選手エントリー票!$A$5:$AK$124,8+1,0))","v":""},{"$f":"IF($B57=\"\",\"\",VLOOKUP($A57,出場選手エントリー票!$A$5:$AK$124,11+1,0))","v":""},{"$f":"IF($B57=\"\",\"\",VLOOKUP($A57,出場選手エントリー票!$A$5:$AK$124,12+1,0))","v":""},{"$f":"IF($B57=\"\",\"\",VLOOKUP($A57,出場選手エントリー票!$A$5:$AK$124,13+1,0))","v":""},{"$f":"IF($B57=\"\",\"\",VLOOKUP($A57,出場選手エントリー票!$A$5:$AK$124,14+1,0))","v":""},{"$f":"IF($B57=\"\",\"\",VLOOKUP($A57,出場選手エントリー票!$A$5:$AK$124,15+1,0))","v":""},{"$f":"IF($B57=\"\",\"\",VLOOKUP($A57,出場選手エントリー票!$A$5:$AK$124,16+1,0))","v":""},{"$f":"IF($B57=\"\",\"\",IF(VLOOKUP($A57,出場選手エントリー票!$A$5:$AK$124,17+1,0)=\"\",\"\",VLOOKUP($A57,出場選手エントリー票!$A$5:$AK$124,17+1,0)))","v":""},{"$f":"IF($B57=\"\",\"\",IF(VLOOKUP($A57,出場選手エントリー票!$A$5:$AK$124,21+1,0)=\"\",\"\",VLOOKUP($A57,出場選手エントリー票!$A$5:$AK$124,21+1,0)))","v":""},{"$f":"IF($B57=\"\",\"\",IF(VLOOKUP($A57,出場選手エントリー票!$A$5:$AK$124,25+1,0)=\"\",\"\",VLOOKUP($A57,出場選手エントリー票!$A$5:$AK$124,25+1,0)))","v":""},{"$f":"IF($B57=\"\",\"\",IF(VLOOKUP($A57,出場選手エントリー票!$A$5:$AK$124,29+1,0)=\"\",\"\",VLOOKUP($A57,出場選手エントリー票!$A$5:$AK$124,29+1,0)))","v":""},{"$f":"IF($B57=\"\",\"\",IF(VLOOKUP($A57,出場選手エントリー票!$A$5:$AK$124,33+1,0)=\"\",\"\",VLOOKUP($A57,出場選手エントリー票!$A$5:$AK$124,33+1,0)))","v":""}]
[57,{"$f":"IF(ISERROR(VLOOKUP($A58,出場選手エントリー票!$A$5:$AK$124,5,0)),\"\",VLOOKUP($A58,出場選手エントリー票!$A$5:$AK$124,6,0))","v":""},{"$f":"IF($B58=\"\",\"\",VLOOKUP($A58,出場選手エントリー票!$A$5:$AK$124,7+1,0))","v":""},{"$f":"IF($B58=\"\",\"\",VLOOKUP($A58,出場選手エントリー票!$A$5:$AK$124,8+1,0))","v":""},{"$f":"IF($B58=\"\",\"\",VLOOKUP($A58,出場選手エントリー票!$A$5:$AK$124,11+1,0))","v":""},{"$f":"IF($B58=\"\",\"\",VLOOKUP($A58,出場選手エントリー票!$A$5:$AK$124,12+1,0))","v":""},{"$f":"IF($B58=\"\",\"\",VLOOKUP($A58,出場選手エントリー票!$A$5:$AK$124,13+1,0))","v":""},{"$f":"IF($B58=\"\",\"\",VLOOKUP($A58,出場選手エントリー票!$A$5:$AK$124,14+1,0))","v":""},{"$f":"IF($B58=\"\",\"\",VLOOKUP($A58,出場選手エントリー票!$A$5:$AK$124,15+1,0))","v":""},{"$f":"IF($B58=\"\",\"\",VLOOKUP($A58,出場選手エントリー票!$A$5:$AK$124,16+1,0))","v":""},{"$f":"IF($B58=\"\",\"\",IF(VLOOKUP($A58,出場選手エントリー票!$A$5:$AK$124,17+1,0)=\"\",\"\",VLOOKUP($A58,出場選手エントリー票!$A$5:$AK$124,17+1,0)))","v":""},{"$f":"IF($B58=\"\",\"\",IF(VLOOKUP($A58,出場選手エントリー票!$A$5:$AK$124,21+1,0)=\"\",\"\",VLOOKUP($A58,出場選手エントリー票!$A$5:$AK$124,21+1,0)))","v":""},{"$f":"IF($B58=\"\",\"\",IF(VLOOKUP($A58,出場選手エントリー票!$A$5:$AK$124,25+1,0)=\"\",\"\",VLOOKUP($A58,出場選手エントリー票!$A$5:$AK$124,25+1,0)))","v":""},{"$f":"IF($B58=\"\",\"\",IF(VLOOKUP($A58,出場選手エントリー票!$A$5:$AK$124,29+1,0)=\"\",\"\",VLOOKUP($A58,出場選手エントリー票!$A$5:$AK$124,29+1,0)))","v":""},{"$f":"IF($B58=\"\",\"\",IF(VLOOKUP($A58,出場選手エントリー票!$A$5:$AK$124,33+1,0)=\"\",\"\",VLOOKUP($A58,出場選手エントリー票!$A$5:$AK$124,33+1,0)))","v":""}]
[58,{"$f":"IF(ISERROR(VLOOKUP($A59,出場選手エントリー票!$A$5:$AK$124,5,0)),\"\",VLOOKUP($A59,出場選手エントリー票!$A$5:$AK$124,6,0))","v":""},{"$f":"IF($B59=\"\",\"\",VLOOKUP($A59,出場選手エントリー票!$A$5:$AK$124,7+1,0))","v":""},{"$f":"IF($B59=\"\",\"\",VLOOKUP($A59,出場選手エントリー票!$A$5:$AK$124,8+1,0))","v":""},{"$f":"IF($B59=\"\",\"\",VLOOKUP($A59,出場選手エントリー票!$A$5:$AK$124,11+1,0))","v":""},{"$f":"IF($B59=\"\",\"\",VLOOKUP($A59,出場選手エントリー票!$A$5:$AK$124,12+1,0))","v":""},{"$f":"IF($B59=\"\",\"\",VLOOKUP($A59,出場選手エントリー票!$A$5:$AK$124,13+1,0))","v":""},{"$f":"IF($B59=\"\",\"\",VLOOKUP($A59,出場選手エントリー票!$A$5:$AK$124,14+1,0))","v":""},{"$f":"IF($B59=\"\",\"\",VLOOKUP($A59,出場選手エントリー票!$A$5:$AK$124,15+1,0))","v":""},{"$f":"IF($B59=\"\",\"\",VLOOKUP($A59,出場選手エントリー票!$A$5:$AK$124,16+1,0))","v":""},{"$f":"IF($B59=\"\",\"\",IF(VLOOKUP($A59,出場選手エントリー票!$A$5:$AK$124,17+1,0)=\"\",\"\",VLOOKUP($A59,出場選手エントリー票!$A$5:$AK$124,17+1,0)))","v":""},{"$f":"IF($B59=\"\",\"\",IF(VLOOKUP($A59,出場選手エントリー票!$A$5:$AK$124,21+1,0)=\"\",\"\",VLOOKUP($A59,出場選手エントリー票!$A$5:$AK$124,21+1,0)))","v":""},{"$f":"IF($B59=\"\",\"\",IF(VLOOKUP($A59,出場選手エントリー票!$A$5:$AK$124,25+1,0)=\"\",\"\",VLOOKUP($A59,出場選手エントリー票!$A$5:$AK$124,25+1,0)))","v":""},{"$f":"IF($B59=\"\",\"\",IF(VLOOKUP($A59,出場選手エントリー票!$A$5:$AK$124,29+1,0)=\"\",\"\",VLOOKUP($A59,出場選手エントリー票!$A$5:$AK$124,29+1,0)))","v":""},{"$f":"IF($B59=\"\",\"\",IF(VLOOKUP($A59,出場選手エントリー票!$A$5:$AK$124,33+1,0)=\"\",\"\",VLOOKUP($A59,出場選手エントリー票!$A$5:$AK$124,33+1,0)))","v":""}]
[59,{"$f":"IF(ISERROR(VLOOKUP($A60,出場選手エントリー票!$A$5:$AK$124,5,0)),\"\",VLOOKUP($A60,出場選手エントリー票!$A$5:$AK$124,6,0))","v":""},{"$f":"IF($B60=\"\",\"\",VLOOKUP($A60,出場選手エントリー票!$A$5:$AK$124,7+1,0))","v":""},{"$f":"IF($B60=\"\",\"\",VLOOKUP($A60,出場選手エントリー票!$A$5:$AK$124,8+1,0))","v":""},{"$f":"IF($B60=\"\",\"\",VLOOKUP($A60,出場選手エントリー票!$A$5:$AK$124,11+1,0))","v":""},{"$f":"IF($B60=\"\",\"\",VLOOKUP($A60,出場選手エントリー票!$A$5:$AK$124,12+1,0))","v":""},{"$f":"IF($B60=\"\",\"\",VLOOKUP($A60,出場選手エントリー票!$A$5:$AK$124,13+1,0))","v":""},{"$f":"IF($B60=\"\",\"\",VLOOKUP($A60,出場選手エントリー票!$A$5:$AK$124,14+1,0))","v":""},{"$f":"IF($B60=\"\",\"\",VLOOKUP($A60,出場選手エントリー票!$A$5:$AK$124,15+1,0))","v":""},{"$f":"IF($B60=\"\",\"\",VLOOKUP($A60,出場選手エントリー票!$A$5:$AK$124,16+1,0))","v":""},{"$f":"IF($B60=\"\",\"\",IF(VLOOKUP($A60,出場選手エントリー票!$A$5:$AK$124,17+1,0)=\"\",\"\",VLOOKUP($A60,出場選手エントリー票!$A$5:$AK$124,17+1,0)))","v":""},{"$f":"IF($B60=\"\",\"\",IF(VLOOKUP($A60,出場選手エントリー票!$A$5:$AK$124,21+1,0)=\"\",\"\",VLOOKUP($A60,出場選手エントリー票!$A$5:$AK$124,21+1,0)))","v":""},{"$f":"IF($B60=\"\",\"\",IF(VLOOKUP($A60,出場選手エントリー票!$A$5:$AK$124,25+1,0)=\"\",\"\",VLOOKUP($A60,出場選手エントリー票!$A$5:$AK$124,25+1,0)))","v":""},{"$f":"IF($B60=\"\",\"\",IF(VLOOKUP($A60,出場選手エントリー票!$A$5:$AK$124,29+1,0)=\"\",\"\",VLOOKUP($A60,出場選手エントリー票!$A$5:$AK$124,29+1,0)))","v":""},{"$f":"IF($B60=\"\",\"\",IF(VLOOKUP($A60,出場選手エントリー票!$A$5:$AK$124,33+1,0)=\"\",\"\",VLOOKUP($A60,出場選手エントリー票!$A$5:$AK$124,33+1,0)))","v":""}]
[60,{"$f":"IF(ISERROR(VLOOKUP($A61,出場選手エントリー票!$A$5:$AK$124,5,0)),\"\",VLOOKUP($A61,出場選手エントリー票!$A$5:$AK$124,6,0))","v":""},{"$f":"IF($B61=\"\",\"\",VLOOKUP($A61,出場選手エントリー票!$A$5:$AK$124,7+1,0))","v":""},{"$f":"IF($B61=\"\",\"\",VLOOKUP($A61,出場選手エントリー票!$A$5:$AK$124,8+1,0))","v":""},{"$f":"IF($B61=\"\",\"\",VLOOKUP($A61,出場選手エントリー票!$A$5:$AK$124,11+1,0))","v":""},{"$f":"IF($B61=\"\",\"\",VLOOKUP($A61,出場選手エントリー票!$A$5:$AK$124,12+1,0))","v":""},{"$f":"IF($B61=\"\",\"\",VLOOKUP($A61,出場選手エントリー票!$A$5:$AK$124,13+1,0))","v":""},{"$f":"IF($B61=\"\",\"\",VLOOKUP($A61,出場選手エントリー票!$A$5:$AK$124,14+1,0))","v":""},{"$f":"IF($B61=\"\",\"\",VLOOKUP($A61,出場選手エントリー票!$A$5:$AK$124,15+1,0))","v":""},{"$f":"IF($B61=\"\",\"\",VLOOKUP($A61,出場選手エントリー票!$A$5:$AK$124,16+1,0))","v":""},{"$f":"IF($B61=\"\",\"\",IF(VLOOKUP($A61,出場選手エントリー票!$A$5:$AK$124,17+1,0)=\"\",\"\",VLOOKUP($A61,出場選手エントリー票!$A$5:$AK$124,17+1,0)))","v":""},{"$f":"IF($B61=\"\",\"\",IF(VLOOKUP($A61,出場選手エントリー票!$A$5:$AK$124,21+1,0)=\"\",\"\",VLOOKUP($A61,出場選手エントリー票!$A$5:$AK$124,21+1,0)))","v":""},{"$f":"IF($B61=\"\",\"\",IF(VLOOKUP($A61,出場選手エントリー票!$A$5:$AK$124,25+1,0)=\"\",\"\",VLOOKUP($A61,出場選手エントリー票!$A$5:$AK$124,25+1,0)))","v":""},{"$f":"IF($B61=\"\",\"\",IF(VLOOKUP($A61,出場選手エントリー票!$A$5:$AK$124,29+1,0)=\"\",\"\",VLOOKUP($A61,出場選手エントリー票!$A$5:$AK$124,29+1,0)))","v":""},{"$f":"IF($B61=\"\",\"\",IF(VLOOKUP($A61,出場選手エントリー票!$A$5:$AK$124,33+1,0)=\"\",\"\",VLOOKUP($A61,出場選手エントリー票!$A$5:$AK$124,33+1,0)))","v":""}]
[61,{"$f":"IF(ISERROR(VLOOKUP($A62,出場選手エントリー票!$A$5:$AK$124,5,0)),\"\",VLOOKUP($A62,出場選手エントリー票!$A$5:$AK$124,6,0))","v":""},{"$f":"IF($B62=\"\",\"\",VLOOKUP($A62,出場選手エントリー票!$A$5:$AK$124,7+1,0))","v":""},{"$f":"IF($B62=\"\",\"\",VLOOKUP($A62,出場選手エントリー票!$A$5:$AK$124,8+1,0))","v":""},{"$f":"IF($B62=\"\",\"\",VLOOKUP($A62,出場選手エントリー票!$A$5:$AK$124,11+1,0))","v":""},{"$f":"IF($B62=\"\",\"\",VLOOKUP($A62,出場選手エントリー票!$A$5:$AK$124,12+1,0))","v":""},{"$f":"IF($B62=\"\",\"\",VLOOKUP($A62,出場選手エントリー票!$A$5:$AK$124,13+1,0))","v":""},{"$f":"IF($B62=\"\",\"\",VLOOKUP($A62,出場選手エントリー票!$A$5:$AK$124,14+1,0))","v":""},{"$f":"IF($B62=\"\",\"\",VLOOKUP($A62,出場選手エントリー票!$A$5:$AK$124,15+1,0))","v":""},{"$f":"IF($B62=\"\",\"\",VLOOKUP($A62,出場選手エントリー票!$A$5:$AK$124,16+1,0))","v":""},{"$f":"IF($B62=\"\",\"\",IF(VLOOKUP($A62,出場選手エントリー票!$A$5:$AK$124,17+1,0)=\"\",\"\",VLOOKUP($A62,出場選手エントリー票!$A$5:$AK$124,17+1,0)))","v":""},{"$f":"IF($B62=\"\",\"\",IF(VLOOKUP($A62,出場選手エントリー票!$A$5:$AK$124,21+1,0)=\"\",\"\",VLOOKUP($A62,出場選手エントリー票!$A$5:$AK$124,21+1,0)))","v":""},{"$f":"IF($B62=\"\",\"\",IF(VLOOKUP($A62,出場選手エントリー票!$A$5:$AK$124,25+1,0)=\"\",\"\",VLOOKUP($A62,出場選手エントリー票!$A$5:$AK$124,25+1,0)))","v":""},{"$f":"IF($B62=\"\",\"\",IF(VLOOKUP($A62,出場選手エントリー票!$A$5:$AK$124,29+1,0)=\"\",\"\",VLOOKUP($A62,出場選手エントリー票!$A$5:$AK$124,29+1,0)))","v":""},{"$f":"IF($B62=\"\",\"\",IF(VLOOKUP($A62,出場選手エントリー票!$A$5:$AK$124,33+1,0)=\"\",\"\",VLOOKUP($A62,出場選手エントリー票!$A$5:$AK$124,33+1,0)))","v":""}]
[62,{"$f":"IF(ISERROR(VLOOKUP($A63,出場選手エントリー票!$A$5:$AK$124,5,0)),\"\",VLOOKUP($A63,出場選手エントリー票!$A$5:$AK$124,6,0))","v":""},{"$f":"IF($B63=\"\",\"\",VLOOKUP($A63,出場選手エントリー票!$A$5:$AK$124,7+1,0))","v":""},{"$f":"IF($B63=\"\",\"\",VLOOKUP($A63,出場選手エントリー票!$A$5:$AK$124,8+1,0))","v":""},{"$f":"IF($B63=\"\",\"\",VLOOKUP($A63,出場選手エントリー票!$A$5:$AK$124,11+1,0))","v":""},{"$f":"IF($B63=\"\",\"\",VLOOKUP($A63,出場選手エントリー票!$A$5:$AK$124,12+1,0))","v":""},{"$f":"IF($B63=\"\",\"\",VLOOKUP($A63,出場選手エントリー票!$A$5:$AK$124,13+1,0))","v":""},{"$f":"IF($B63=\"\",\"\",VLOOKUP($A63,出場選手エントリー票!$A$5:$AK$124,14+1,0))","v":""},{"$f":"IF($B63=\"\",\"\",VLOOKUP($A63,出場選手エントリー票!$A$5:$AK$124,15+1,0))","v":""},{"$f":"IF($B63=\"\",\"\",VLOOKUP($A63,出場選手エントリー票!$A$5:$AK$124,16+1,0))","v":""},{"$f":"IF($B63=\"\",\"\",IF(VLOOKUP($A63,出場選手エントリー票!$A$5:$AK$124,17+1,0)=\"\",\"\",VLOOKUP($A63,出場選手エントリー票!$A$5:$AK$124,17+1,0)))","v":""},{"$f":"IF($B63=\"\",\"\",IF(VLOOKUP($A63,出場選手エントリー票!$A$5:$AK$124,21+1,0)=\"\",\"\",VLOOKUP($A63,出場選手エントリー票!$A$5:$AK$124,21+1,0)))","v":""},{"$f":"IF($B63=\"\",\"\",IF(VLOOKUP($A63,出場選手エントリー票!$A$5:$AK$124,25+1,0)=\"\",\"\",VLOOKUP($A63,出場選手エントリー票!$A$5:$AK$124,25+1,0)))","v":""},{"$f":"IF($B63=\"\",\"\",IF(VLOOKUP($A63,出場選手エントリー票!$A$5:$AK$124,29+1,0)=\"\",\"\",VLOOKUP($A63,出場選手エントリー票!$A$5:$AK$124,29+1,0)))","v":""},{"$f":"IF($B63=\"\",\"\",IF(VLOOKUP($A63,出場選手エントリー票!$A$5:$AK$124,33+1,0)=\"\",\"\",VLOOKUP($A63,出場選手エントリー票!$A$5:$AK$124,33+1,0)))","v":""}]
[63,{"$f":"IF(ISERROR(VLOOKUP($A64,出場選手エントリー票!$A$5:$AK$124,5,0)),\"\",VLOOKUP($A64,出場選手エントリー票!$A$5:$AK$124,6,0))","v":""},{"$f":"IF($B64=\"\",\"\",VLOOKUP($A64,出場選手エントリー票!$A$5:$AK$124,7+1,0))","v":""},{"$f":"IF($B64=\"\",\"\",VLOOKUP($A64,出場選手エントリー票!$A$5:$AK$124,8+1,0))","v":""},{"$f":"IF($B64=\"\",\"\",VLOOKUP($A64,出場選手エントリー票!$A$5:$AK$124,11+1,0))","v":""},{"$f":"IF($B64=\"\",\"\",VLOOKUP($A64,出場選手エントリー票!$A$5:$AK$124,12+1,0))","v":""},{"$f":"IF($B64=\"\",\"\",VLOOKUP($A64,出場選手エントリー票!$A$5:$AK$124,13+1,0))","v":""},{"$f":"IF($B64=\"\",\"\",VLOOKUP($A64,出場選手エントリー票!$A$5:$AK$124,14+1,0))","v":""},{"$f":"IF($B64=\"\",\"\",VLOOKUP($A64,出場選手エントリー票!$A$5:$AK$124,15+1,0))","v":""},{"$f":"IF($B64=\"\",\"\",VLOOKUP($A64,出場選手エントリー票!$A$5:$AK$124,16+1,0))","v":""},{"$f":"IF($B64=\"\",\"\",IF(VLOOKUP($A64,出場選手エントリー票!$A$5:$AK$124,17+1,0)=\"\",\"\",VLOOKUP($A64,出場選手エントリー票!$A$5:$AK$124,17+1,0)))","v":""},{"$f":"IF($B64=\"\",\"\",IF(VLOOKUP($A64,出場選手エントリー票!$A$5:$AK$124,21+1,0)=\"\",\"\",VLOOKUP($A64,出場選手エントリー票!$A$5:$AK$124,21+1,0)))","v":""},{"$f":"IF($B64=\"\",\"\",IF(VLOOKUP($A64,出場選手エントリー票!$A$5:$AK$124,25+1,0)=\"\",\"\",VLOOKUP($A64,出場選手エントリー票!$A$5:$AK$124,25+1,0)))","v":""},{"$f":"IF($B64=\"\",\"\",IF(VLOOKUP($A64,出場選手エントリー票!$A$5:$AK$124,29+1,0)=\"\",\"\",VLOOKUP($A64,出場選手エントリー票!$A$5:$AK$124,29+1,0)))","v":""},{"$f":"IF($B64=\"\",\"\",IF(VLOOKUP($A64,出場選手エントリー票!$A$5:$AK$124,33+1,0)=\"\",\"\",VLOOKUP($A64,出場選手エントリー票!$A$5:$AK$124,33+1,0)))","v":""}]
[64,{"$f":"IF(ISERROR(VLOOKUP($A65,出場選手エントリー票!$A$5:$AK$124,5,0)),\"\",VLOOKUP($A65,出場選手エントリー票!$A$5:$AK$124,6,0))","v":""},{"$f":"IF($B65=\"\",\"\",VLOOKUP($A65,出場選手エントリー票!$A$5:$AK$124,7+1,0))","v":""},{"$f":"IF($B65=\"\",\"\",VLOOKUP($A65,出場選手エントリー票!$A$5:$AK$124,8+1,0))","v":""},{"$f":"IF($B65=\"\",\"\",VLOOKUP($A65,出場選手エントリー票!$A$5:$AK$124,11+1,0))","v":""},{"$f":"IF($B65=\"\",\"\",VLOOKUP($A65,出場選手エントリー票!$A$5:$AK$124,12+1,0))","v":""},{"$f":"IF($B65=\"\",\"\",VLOOKUP($A65,出場選手エントリー票!$A$5:$AK$124,13+1,0))","v":""},{"$f":"IF($B65=\"\",\"\",VLOOKUP($A65,出場選手エントリー票!$A$5:$AK$124,14+1,0))","v":""},{"$f":"IF($B65=\"\",\"\",VLOOKUP($A65,出場選手エントリー票!$A$5:$AK$124,15+1,0))","v":""},{"$f":"IF($B65=\"\",\"\",VLOOKUP($A65,出場選手エントリー票!$A$5:$AK$124,16+1,0))","v":""},{"$f":"IF($B65=\"\",\"\",IF(VLOOKUP($A65,出場選手エントリー票!$A$5:$AK$124,17+1,0)=\"\",\"\",VLOOKUP($A65,出場選手エントリー票!$A$5:$AK$124,17+1,0)))","v":""},{"$f":"IF($B65=\"\",\"\",IF(VLOOKUP($A65,出場選手エントリー票!$A$5:$AK$124,21+1,0)=\"\",\"\",VLOOKUP($A65,出場選手エントリー票!$A$5:$AK$124,21+1,0)))","v":""},{"$f":"IF($B65=\"\",\"\",IF(VLOOKUP($A65,出場選手エントリー票!$A$5:$AK$124,25+1,0)=\"\",\"\",VLOOKUP($A65,出場選手エントリー票!$A$5:$AK$124,25+1,0)))","v":""},{"$f":"IF($B65=\"\",\"\",IF(VLOOKUP($A65,出場選手エントリー票!$A$5:$AK$124,29+1,0)=\"\",\"\",VLOOKUP($A65,出場選手エントリー票!$A$5:$AK$124,29+1,0)))","v":""},{"$f":"IF($B65=\"\",\"\",IF(VLOOKUP($A65,出場選手エントリー票!$A$5:$AK$124,33+1,0)=\"\",\"\",VLOOKUP($A65,出場選手エントリー票!$A$5:$AK$124,33+1,0)))","v":""}]
[65,{"$f":"IF(ISERROR(VLOOKUP($A66,出場選手エントリー票!$A$5:$AK$124,5,0)),\"\",VLOOKUP($A66,出場選手エントリー票!$A$5:$AK$124,6,0))","v":""},{"$f":"IF($B66=\"\",\"\",VLOOKUP($A66,出場選手エントリー票!$A$5:$AK$124,7+1,0))","v":""},{"$f":"IF($B66=\"\",\"\",VLOOKUP($A66,出場選手エントリー票!$A$5:$AK$124,8+1,0))","v":""},{"$f":"IF($B66=\"\",\"\",VLOOKUP($A66,出場選手エントリー票!$A$5:$AK$124,11+1,0))","v":""},{"$f":"IF($B66=\"\",\"\",VLOOKUP($A66,出場選手エントリー票!$A$5:$AK$124,12+1,0))","v":""},{"$f":"IF($B66=\"\",\"\",VLOOKUP($A66,出場選手エントリー票!$A$5:$AK$124,13+1,0))","v":""},{"$f":"IF($B66=\"\",\"\",VLOOKUP($A66,出場選手エントリー票!$A$5:$AK$124,14+1,0))","v":""},{"$f":"IF($B66=\"\",\"\",VLOOKUP($A66,出場選手エントリー票!$A$5:$AK$124,15+1,0))","v":""},{"$f":"IF($B66=\"\",\"\",VLOOKUP($A66,出場選手エントリー票!$A$5:$AK$124,16+1,0))","v":""},{"$f":"IF($B66=\"\",\"\",IF(VLOOKUP($A66,出場選手エントリー票!$A$5:$AK$124,17+1,0)=\"\",\"\",VLOOKUP($A66,出場選手エントリー票!$A$5:$AK$124,17+1,0)))","v":""},{"$f":"IF($B66=\"\",\"\",IF(VLOOKUP($A66,出場選手エントリー票!$A$5:$AK$124,21+1,0)=\"\",\"\",VLOOKUP($A66,出場選手エントリー票!$A$5:$AK$124,21+1,0)))","v":""},{"$f":"IF($B66=\"\",\"\",IF(VLOOKUP($A66,出場選手エントリー票!$A$5:$AK$124,25+1,0)=\"\",\"\",VLOOKUP($A66,出場選手エントリー票!$A$5:$AK$124,25+1,0)))","v":""},{"$f":"IF($B66=\"\",\"\",IF(VLOOKUP($A66,出場選手エントリー票!$A$5:$AK$124,29+1,0)=\"\",\"\",VLOOKUP($A66,出場選手エントリー票!$A$5:$AK$124,29+1,0)))","v":""},{"$f":"IF($B66=\"\",\"\",IF(VLOOKUP($A66,出場選手エントリー票!$A$5:$AK$124,33+1,0)=\"\",\"\",VLOOKUP($A66,出場選手エントリー票!$A$5:$AK$124,33+1,0)))","v":""}]
[66,{"$f":"IF(ISERROR(VLOOKUP($A67,出場選手エントリー票!$A$5:$AK$124,5,0)),\"\",VLOOKUP($A67,出場選手エントリー票!$A$5:$AK$124,6,0))","v":""},{"$f":"IF($B67=\"\",\"\",VLOOKUP($A67,出場選手エントリー票!$A$5:$AK$124,7+1,0))","v":""},{"$f":"IF($B67=\"\",\"\",VLOOKUP($A67,出場選手エントリー票!$A$5:$AK$124,8+1,0))","v":""},{"$f":"IF($B67=\"\",\"\",VLOOKUP($A67,出場選手エントリー票!$A$5:$AK$124,11+1,0))","v":""},{"$f":"IF($B67=\"\",\"\",VLOOKUP($A67,出場選手エントリー票!$A$5:$AK$124,12+1,0))","v":""},{"$f":"IF($B67=\"\",\"\",VLOOKUP($A67,出場選手エントリー票!$A$5:$AK$124,13+1,0))","v":""},{"$f":"IF($B67=\"\",\"\",VLOOKUP($A67,出場選手エントリー票!$A$5:$AK$124,14+1,0))","v":""},{"$f":"IF($B67=\"\",\"\",VLOOKUP($A67,出場選手エントリー票!$A$5:$AK$124,15+1,0))","v":""},{"$f":"IF($B67=\"\",\"\",VLOOKUP($A67,出場選手エントリー票!$A$5:$AK$124,16+1,0))","v":""},{"$f":"IF($B67=\"\",\"\",IF(VLOOKUP($A67,出場選手エントリー票!$A$5:$AK$124,17+1,0)=\"\",\"\",VLOOKUP($A67,出場選手エントリー票!$A$5:$AK$124,17+1,0)))","v":""},{"$f":"IF($B67=\"\",\"\",IF(VLOOKUP($A67,出場選手エントリー票!$A$5:$AK$124,21+1,0)=\"\",\"\",VLOOKUP($A67,出場選手エントリー票!$A$5:$AK$124,21+1,0)))","v":""},{"$f":"IF($B67=\"\",\"\",IF(VLOOKUP($A67,出場選手エントリー票!$A$5:$AK$124,25+1,0)=\"\",\"\",VLOOKUP($A67,出場選手エントリー票!$A$5:$AK$124,25+1,0)))","v":""},{"$f":"IF($B67=\"\",\"\",IF(VLOOKUP($A67,出場選手エントリー票!$A$5:$AK$124,29+1,0)=\"\",\"\",VLOOKUP($A67,出場選手エントリー票!$A$5:$AK$124,29+1,0)))","v":""},{"$f":"IF($B67=\"\",\"\",IF(VLOOKUP($A67,出場選手エントリー票!$A$5:$AK$124,33+1,0)=\"\",\"\",VLOOKUP($A67,出場選手エントリー票!$A$5:$AK$124,33+1,0)))","v":""}]
[67,{"$f":"IF(ISERROR(VLOOKUP($A68,出場選手エントリー票!$A$5:$AK$124,5,0)),\"\",VLOOKUP($A68,出場選手エントリー票!$A$5:$AK$124,6,0))","v":""},{"$f":"IF($B68=\"\",\"\",VLOOKUP($A68,出場選手エントリー票!$A$5:$AK$124,7+1,0))","v":""},{"$f":"IF($B68=\"\",\"\",VLOOKUP($A68,出場選手エントリー票!$A$5:$AK$124,8+1,0))","v":""},{"$f":"IF($B68=\"\",\"\",VLOOKUP($A68,出場選手エントリー票!$A$5:$AK$124,11+1,0))","v":""},{"$f":"IF($B68=\"\",\"\",VLOOKUP($A68,出場選手エントリー票!$A$5:$AK$124,12+1,0))","v":""},{"$f":"IF($B68=\"\",\"\",VLOOKUP($A68,出場選手エントリー票!$A$5:$AK$124,13+1,0))","v":""},{"$f":"IF($B68=\"\",\"\",VLOOKUP($A68,出場選手エントリー票!$A$5:$AK$124,14+1,0))","v":""},{"$f":"IF($B68=\"\",\"\",VLOOKUP($A68,出場選手エントリー票!$A$5:$AK$124,15+1,0))","v":""},{"$f":"IF($B68=\"\",\"\",VLOOKUP($A68,出場選手エントリー票!$A$5:$AK$124,16+1,0))","v":""},{"$f":"IF($B68=\"\",\"\",IF(VLOOKUP($A68,出場選手エントリー票!$A$5:$AK$124,17+1,0)=\"\",\"\",VLOOKUP($A68,出場選手エントリー票!$A$5:$AK$124,17+1,0)))","v":""},{"$f":"IF($B68=\"\",\"\",IF(VLOOKUP($A68,出場選手エントリー票!$A$5:$AK$124,21+1,0)=\"\",\"\",VLOOKUP($A68,出場選手エントリー票!$A$5:$AK$124,21+1,0)))","v":""},{"$f":"IF($B68=\"\",\"\",IF(VLOOKUP($A68,出場選手エントリー票!$A$5:$AK$124,25+1,0)=\"\",\"\",VLOOKUP($A68,出場選手エントリー票!$A$5:$AK$124,25+1,0)))","v":""},{"$f":"IF($B68=\"\",\"\",IF(VLOOKUP($A68,出場選手エントリー票!$A$5:$AK$124,29+1,0)=\"\",\"\",VLOOKUP($A68,出場選手エントリー票!$A$5:$AK$124,29+1,0)))","v":""},{"$f":"IF($B68=\"\",\"\",IF(VLOOKUP($A68,出場選手エントリー票!$A$5:$AK$124,33+1,0)=\"\",\"\",VLOOKUP($A68,出場選手エントリー票!$A$5:$AK$124,33+1,0)))","v":""}]
[68,{"$f":"IF(ISERROR(VLOOKUP($A69,出場選手エントリー票!$A$5:$AK$124,5,0)),\"\",VLOOKUP($A69,出場選手エントリー票!$A$5:$AK$124,6,0))","v":""},{"$f":"IF($B69=\"\",\"\",VLOOKUP($A69,出場選手エントリー票!$A$5:$AK$124,7+1,0))","v":""},{"$f":"IF($B69=\"\",\"\",VLOOKUP($A69,出場選手エントリー票!$A$5:$AK$124,8+1,0))","v":""},{"$f":"IF($B69=\"\",\"\",VLOOKUP($A69,出場選手エントリー票!$A$5:$AK$124,11+1,0))","v":""},{"$f":"IF($B69=\"\",\"\",VLOOKUP($A69,出場選手エントリー票!$A$5:$AK$124,12+1,0))","v":""},{"$f":"IF($B69=\"\",\"\",VLOOKUP($A69,出場選手エントリー票!$A$5:$AK$124,13+1,0))","v":""},{"$f":"IF($B69=\"\",\"\",VLOOKUP($A69,出場選手エントリー票!$A$5:$AK$124,14+1,0))","v":""},{"$f":"IF($B69=\"\",\"\",VLOOKUP($A69,出場選手エントリー票!$A$5:$AK$124,15+1,0))","v":""},{"$f":"IF($B69=\"\",\"\",VLOOKUP($A69,出場選手エントリー票!$A$5:$AK$124,16+1,0))","v":""},{"$f":"IF($B69=\"\",\"\",IF(VLOOKUP($A69,出場選手エントリー票!$A$5:$AK$124,17+1,0)=\"\",\"\",VLOOKUP($A69,出場選手エントリー票!$A$5:$AK$124,17+1,0)))","v":""},{"$f":"IF($B69=\"\",\"\",IF(VLOOKUP($A69,出場選手エントリー票!$A$5:$AK$124,21+1,0)=\"\",\"\",VLOOKUP($A69,出場選手エントリー票!$A$5:$AK$124,21+1,0)))","v":""},{"$f":"IF($B69=\"\",\"\",IF(VLOOKUP($A69,出場選手エントリー票!$A$5:$AK$124,25+1,0)=\"\",\"\",VLOOKUP($A69,出場選手エントリー票!$A$5:$AK$124,25+1,0)))","v":""},{"$f":"IF($B69=\"\",\"\",IF(VLOOKUP($A69,出場選手エントリー票!$A$5:$AK$124,29+1,0)=\"\",\"\",VLOOKUP($A69,出場選手エントリー票!$A$5:$AK$124,29+1,0)))","v":""},{"$f":"IF($B69=\"\",\"\",IF(VLOOKUP($A69,出場選手エントリー票!$A$5:$AK$124,33+1,0)=\"\",\"\",VLOOKUP($A69,出場選手エントリー票!$A$5:$AK$124,33+1,0)))","v":""}]
[69,{"$f":"IF(ISERROR(VLOOKUP($A70,出場選手エントリー票!$A$5:$AK$124,5,0)),\"\",VLOOKUP($A70,出場選手エントリー票!$A$5:$AK$124,6,0))","v":""},{"$f":"IF($B70=\"\",\"\",VLOOKUP($A70,出場選手エントリー票!$A$5:$AK$124,7+1,0))","v":""},{"$f":"IF($B70=\"\",\"\",VLOOKUP($A70,出場選手エントリー票!$A$5:$AK$124,8+1,0))","v":""},{"$f":"IF($B70=\"\",\"\",VLOOKUP($A70,出場選手エントリー票!$A$5:$AK$124,11+1,0))","v":""},{"$f":"IF($B70=\"\",\"\",VLOOKUP($A70,出場選手エントリー票!$A$5:$AK$124,12+1,0))","v":""},{"$f":"IF($B70=\"\",\"\",VLOOKUP($A70,出場選手エントリー票!$A$5:$AK$124,13+1,0))","v":""},{"$f":"IF($B70=\"\",\"\",VLOOKUP($A70,出場選手エントリー票!$A$5:$AK$124,14+1,0))","v":""},{"$f":"IF($B70=\"\",\"\",VLOOKUP($A70,出場選手エントリー票!$A$5:$AK$124,15+1,0))","v":""},{"$f":"IF($B70=\"\",\"\",VLOOKUP($A70,出場選手エントリー票!$A$5:$AK$124,16+1,0))","v":""},{"$f":"IF($B70=\"\",\"\",IF(VLOOKUP($A70,出場選手エントリー票!$A$5:$AK$124,17+1,0)=\"\",\"\",VLOOKUP($A70,出場選手エントリー票!$A$5:$AK$124,17+1,0)))","v":""},{"$f":"IF($B70=\"\",\"\",IF(VLOOKUP($A70,出場選手エントリー票!$A$5:$AK$124,21+1,0)=\"\",\"\",VLOOKUP($A70,出場選手エントリー票!$A$5:$AK$124,21+1,0)))","v":""},{"$f":"IF($B70=\"\",\"\",IF(VLOOKUP($A70,出場選手エントリー票!$A$5:$AK$124,25+1,0)=\"\",\"\",VLOOKUP($A70,出場選手エントリー票!$A$5:$AK$124,25+1,0)))","v":""},{"$f":"IF($B70=\"\",\"\",IF(VLOOKUP($A70,出場選手エントリー票!$A$5:$AK$124,29+1,0)=\"\",\"\",VLOOKUP($A70,出場選手エントリー票!$A$5:$AK$124,29+1,0)))","v":""},{"$f":"IF($B70=\"\",\"\",IF(VLOOKUP($A70,出場選手エントリー票!$A$5:$AK$124,33+1,0)=\"\",\"\",VLOOKUP($A70,出場選手エントリー票!$A$5:$AK$124,33+1,0)))","v":""}]
[70,{"$f":"IF(ISERROR(VLOOKUP($A71,出場選手エントリー票!$A$5:$AK$124,5,0)),\"\",VLOOKUP($A71,出場選手エントリー票!$A$5:$AK$124,6,0))","v":""},{"$f":"IF($B71=\"\",\"\",VLOOKUP($A71,出場選手エントリー票!$A$5:$AK$124,7+1,0))","v":""},{"$f":"IF($B71=\"\",\"\",VLOOKUP($A71,出場選手エントリー票!$A$5:$AK$124,8+1,0))","v":""},{"$f":"IF($B71=\"\",\"\",VLOOKUP($A71,出場選手エントリー票!$A$5:$AK$124,11+1,0))","v":""},{"$f":"IF($B71=\"\",\"\",VLOOKUP($A71,出場選手エントリー票!$A$5:$AK$124,12+1,0))","v":""},{"$f":"IF($B71=\"\",\"\",VLOOKUP($A71,出場選手エントリー票!$A$5:$AK$124,13+1,0))","v":""},{"$f":"IF($B71=\"\",\"\",VLOOKUP($A71,出場選手エントリー票!$A$5:$AK$124,14+1,0))","v":""},{"$f":"IF($B71=\"\",\"\",VLOOKUP($A71,出場選手エントリー票!$A$5:$AK$124,15+1,0))","v":""},{"$f":"IF($B71=\"\",\"\",VLOOKUP($A71,出場選手エントリー票!$A$5:$AK$124,16+1,0))","v":""},{"$f":"IF($B71=\"\",\"\",IF(VLOOKUP($A71,出場選手エントリー票!$A$5:$AK$124,17+1,0)=\"\",\"\",VLOOKUP($A71,出場選手エントリー票!$A$5:$AK$124,17+1,0)))","v":""},{"$f":"IF($B71=\"\",\"\",IF(VLOOKUP($A71,出場選手エントリー票!$A$5:$AK$124,21+1,0)=\"\",\"\",VLOOKUP($A71,出場選手エントリー票!$A$5:$AK$124,21+1,0)))","v":""},{"$f":"IF($B71=\"\",\"\",IF(VLOOKUP($A71,出場選手エントリー票!$A$5:$AK$124,25+1,0)=\"\",\"\",VLOOKUP($A71,出場選手エントリー票!$A$5:$AK$124,25+1,0)))","v":""},{"$f":"IF($B71=\"\",\"\",IF(VLOOKUP($A71,出場選手エントリー票!$A$5:$AK$124,29+1,0)=\"\",\"\",VLOOKUP($A71,出場選手エントリー票!$A$5:$AK$124,29+1,0)))","v":""},{"$f":"IF($B71=\"\",\"\",IF(VLOOKUP($A71,出場選手エントリー票!$A$5:$AK$124,33+1,0)=\"\",\"\",VLOOKUP($A71,出場選手エントリー票!$A$5:$AK$124,33+1,0)))","v":""}]
[71,{"$f":"IF(ISERROR(VLOOKUP($A72,出場選手エントリー票!$A$5:$AK$124,5,0)),\"\",VLOOKUP($A72,出場選手エントリー票!$A$5:$AK$124,6,0))","v":""},{"$f":"IF($B72=\"\",\"\",VLOOKUP($A72,出場選手エントリー票!$A$5:$AK$124,7+1,0))","v":""},{"$f":"IF($B72=\"\",\"\",VLOOKUP($A72,出場選手エントリー票!$A$5:$AK$124,8+1,0))","v":""},{"$f":"IF($B72=\"\",\"\",VLOOKUP($A72,出場選手エントリー票!$A$5:$AK$124,11+1,0))","v":""},{"$f":"IF($B72=\"\",\"\",VLOOKUP($A72,出場選手エントリー票!$A$5:$AK$124,12+1,0))","v":""},{"$f":"IF($B72=\"\",\"\",VLOOKUP($A72,出場選手エントリー票!$A$5:$AK$124,13+1,0))","v":""},{"$f":"IF($B72=\"\",\"\",VLOOKUP($A72,出場選手エントリー票!$A$5:$AK$124,14+1,0))","v":""},{"$f":"IF($B72=\"\",\"\",VLOOKUP($A72,出場選手エントリー票!$A$5:$AK$124,15+1,0))","v":""},{"$f":"IF($B72=\"\",\"\",VLOOKUP($A72,出場選手エントリー票!$A$5:$AK$124,16+1,0))","v":""},{"$f":"IF($B72=\"\",\"\",IF(VLOOKUP($A72,出場選手エントリー票!$A$5:$AK$124,17+1,0)=\"\",\"\",VLOOKUP($A72,出場選手エントリー票!$A$5:$AK$124,17+1,0)))","v":""},{"$f":"IF($B72=\"\",\"\",IF(VLOOKUP($A72,出場選手エントリー票!$A$5:$AK$124,21+1,0)=\"\",\"\",VLOOKUP($A72,出場選手エントリー票!$A$5:$AK$124,21+1,0)))","v":""},{"$f":"IF($B72=\"\",\"\",IF(VLOOKUP($A72,出場選手エントリー票!$A$5:$AK$124,25+1,0)=\"\",\"\",VLOOKUP($A72,出場選手エントリー票!$A$5:$AK$124,25+1,0)))","v":""},{"$f":"IF($B72=\"\",\"\",IF(VLOOKUP($A72,出場選手エントリー票!$A$5:$AK$124,29+1,0)=\"\",\"\",VLOOKUP($A72,出場選手エントリー票!$A$5:$AK$124,29+1,0)))","v":""},{"$f":"IF($B72=\"\",\"\",IF(VLOOKUP($A72,出場選手エントリー票!$A$5:$AK$124,33+1,0)=\"\",\"\",VLOOKUP($A72,出場選手エントリー票!$A$5:$AK$124,33+1,0)))","v":""}]
[72,{"$f":"IF(ISERROR(VLOOKUP($A73,出場選手エントリー票!$A$5:$AK$124,5,0)),\"\",VLOOKUP($A73,出場選手エントリー票!$A$5:$AK$124,6,0))","v":""},{"$f":"IF($B73=\"\",\"\",VLOOKUP($A73,出場選手エントリー票!$A$5:$AK$124,7+1,0))","v":""},{"$f":"IF($B73=\"\",\"\",VLOOKUP($A73,出場選手エントリー票!$A$5:$AK$124,8+1,0))","v":""},{"$f":"IF($B73=\"\",\"\",VLOOKUP($A73,出場選手エントリー票!$A$5:$AK$124,11+1,0))","v":""},{"$f":"IF($B73=\"\",\"\",VLOOKUP($A73,出場選手エントリー票!$A$5:$AK$124,12+1,0))","v":""},{"$f":"IF($B73=\"\",\"\",VLOOKUP($A73,出場選手エントリー票!$A$5:$AK$124,13+1,0))","v":""},{"$f":"IF($B73=\"\",\"\",VLOOKUP($A73,出場選手エントリー票!$A$5:$AK$124,14+1,0))","v":""},{"$f":"IF($B73=\"\",\"\",VLOOKUP($A73,出場選手エントリー票!$A$5:$AK$124,15+1,0))","v":""},{"$f":"IF($B73=\"\",\"\",VLOOKUP($A73,出場選手エントリー票!$A$5:$AK$124,16+1,0))","v":""},{"$f":"IF($B73=\"\",\"\",IF(VLOOKUP($A73,出場選手エントリー票!$A$5:$AK$124,17+1,0)=\"\",\"\",VLOOKUP($A73,出場選手エントリー票!$A$5:$AK$124,17+1,0)))","v":""},{"$f":"IF($B73=\"\",\"\",IF(VLOOKUP($A73,出場選手エントリー票!$A$5:$AK$124,21+1,0)=\"\",\"\",VLOOKUP($A73,出場選手エントリー票!$A$5:$AK$124,21+1,0)))","v":""},{"$f":"IF($B73=\"\",\"\",IF(VLOOKUP($A73,出場選手エントリー票!$A$5:$AK$124,25+1,0)=\"\",\"\",VLOOKUP($A73,出場選手エントリー票!$A$5:$AK$124,25+1,0)))","v":""},{"$f":"IF($B73=\"\",\"\",IF(VLOOKUP($A73,出場選手エントリー票!$A$5:$AK$124,29+1,0)=\"\",\"\",VLOOKUP($A73,出場選手エントリー票!$A$5:$AK$124,29+1,0)))","v":""},{"$f":"IF($B73=\"\",\"\",IF(VLOOKUP($A73,出場選手エントリー票!$A$5:$AK$124,33+1,0)=\"\",\"\",VLOOKUP($A73,出場選手エントリー票!$A$5:$AK$124,33+1,0)))","v":""}]
[73,{"$f":"IF(ISERROR(VLOOKUP($A74,出場選手エントリー票!$A$5:$AK$124,5,0)),\"\",VLOOKUP($A74,出場選手エントリー票!$A$5:$AK$124,6,0))","v":""},{"$f":"IF($B74=\"\",\"\",VLOOKUP($A74,出場選手エントリー票!$A$5:$AK$124,7+1,0))","v":""},{"$f":"IF($B74=\"\",\"\",VLOOKUP($A74,出場選手エントリー票!$A$5:$AK$124,8+1,0))","v":""},{"$f":"IF($B74=\"\",\"\",VLOOKUP($A74,出場選手エントリー票!$A$5:$AK$124,11+1,0))","v":""},{"$f":"IF($B74=\"\",\"\",VLOOKUP($A74,出場選手エントリー票!$A$5:$AK$124,12+1,0))","v":""},{"$f":"IF($B74=\"\",\"\",VLOOKUP($A74,出場選手エントリー票!$A$5:$AK$124,13+1,0))","v":""},{"$f":"IF($B74=\"\",\"\",VLOOKUP($A74,出場選手エントリー票!$A$5:$AK$124,14+1,0))","v":""},{"$f":"IF($B74=\"\",\"\",VLOOKUP($A74,出場選手エントリー票!$A$5:$AK$124,15+1,0))","v":""},{"$f":"IF($B74=\"\",\"\",VLOOKUP($A74,出場選手エントリー票!$A$5:$AK$124,16+1,0))","v":""},{"$f":"IF($B74=\"\",\"\",IF(VLOOKUP($A74,出場選手エントリー票!$A$5:$AK$124,17+1,0)=\"\",\"\",VLOOKUP($A74,出場選手エントリー票!$A$5:$AK$124,17+1,0)))","v":""},{"$f":"IF($B74=\"\",\"\",IF(VLOOKUP($A74,出場選手エントリー票!$A$5:$AK$124,21+1,0)=\"\",\"\",VLOOKUP($A74,出場選手エントリー票!$A$5:$AK$124,21+1,0)))","v":""},{"$f":"IF($B74=\"\",\"\",IF(VLOOKUP($A74,出場選手エントリー票!$A$5:$AK$124,25+1,0)=\"\",\"\",VLOOKUP($A74,出場選手エントリー票!$A$5:$AK$124,25+1,0)))","v":""},{"$f":"IF($B74=\"\",\"\",IF(VLOOKUP($A74,出場選手エントリー票!$A$5:$AK$124,29+1,0)=\"\",\"\",VLOOKUP($A74,出場選手エントリー票!$A$5:$AK$124,29+1,0)))","v":""},{"$f":"IF($B74=\"\",\"\",IF(VLOOKUP($A74,出場選手エントリー票!$A$5:$AK$124,33+1,0)=\"\",\"\",VLOOKUP($A74,出場選手エントリー票!$A$5:$AK$124,33+1,0)))","v":""}]
[74,{"$f":"IF(ISERROR(VLOOKUP($A75,出場選手エントリー票!$A$5:$AK$124,5,0)),\"\",VLOOKUP($A75,出場選手エントリー票!$A$5:$AK$124,6,0))","v":""},{"$f":"IF($B75=\"\",\"\",VLOOKUP($A75,出場選手エントリー票!$A$5:$AK$124,7+1,0))","v":""},{"$f":"IF($B75=\"\",\"\",VLOOKUP($A75,出場選手エントリー票!$A$5:$AK$124,8+1,0))","v":""},{"$f":"IF($B75=\"\",\"\",VLOOKUP($A75,出場選手エントリー票!$A$5:$AK$124,11+1,0))","v":""},{"$f":"IF($B75=\"\",\"\",VLOOKUP($A75,出場選手エントリー票!$A$5:$AK$124,12+1,0))","v":""},{"$f":"IF($B75=\"\",\"\",VLOOKUP($A75,出場選手エントリー票!$A$5:$AK$124,13+1,0))","v":""},{"$f":"IF($B75=\"\",\"\",VLOOKUP($A75,出場選手エントリー票!$A$5:$AK$124,14+1,0))","v":""},{"$f":"IF($B75=\"\",\"\",VLOOKUP($A75,出場選手エントリー票!$A$5:$AK$124,15+1,0))","v":""},{"$f":"IF($B75=\"\",\"\",VLOOKUP($A75,出場選手エントリー票!$A$5:$AK$124,16+1,0))","v":""},{"$f":"IF($B75=\"\",\"\",IF(VLOOKUP($A75,出場選手エントリー票!$A$5:$AK$124,17+1,0)=\"\",\"\",VLOOKUP($A75,出場選手エントリー票!$A$5:$AK$124,17+1,0)))","v":""},{"$f":"IF($B75=\"\",\"\",IF(VLOOKUP($A75,出場選手エントリー票!$A$5:$AK$124,21+1,0)=\"\",\"\",VLOOKUP($A75,出場選手エントリー票!$A$5:$AK$124,21+1,0)))","v":""},{"$f":"IF($B75=\"\",\"\",IF(VLOOKUP($A75,出場選手エントリー票!$A$5:$AK$124,25+1,0)=\"\",\"\",VLOOKUP($A75,出場選手エントリー票!$A$5:$AK$124,25+1,0)))","v":""},{"$f":"IF($B75=\"\",\"\",IF(VLOOKUP($A75,出場選手エントリー票!$A$5:$AK$124,29+1,0)=\"\",\"\",VLOOKUP($A75,出場選手エントリー票!$A$5:$AK$124,29+1,0)))","v":""},{"$f":"IF($B75=\"\",\"\",IF(VLOOKUP($A75,出場選手エントリー票!$A$5:$AK$124,33+1,0)=\"\",\"\",VLOOKUP($A75,出場選手エントリー票!$A$5:$AK$124,33+1,0)))","v":""}]
[75,{"$f":"IF(ISERROR(VLOOKUP($A76,出場選手エントリー票!$A$5:$AK$124,5,0)),\"\",VLOOKUP($A76,出場選手エントリー票!$A$5:$AK$124,6,0))","v":""},{"$f":"IF($B76=\"\",\"\",VLOOKUP($A76,出場選手エントリー票!$A$5:$AK$124,7+1,0))","v":""},{"$f":"IF($B76=\"\",\"\",VLOOKUP($A76,出場選手エントリー票!$A$5:$AK$124,8+1,0))","v":""},{"$f":"IF($B76=\"\",\"\",VLOOKUP($A76,出場選手エントリー票!$A$5:$AK$124,11+1,0))","v":""},{"$f":"IF($B76=\"\",\"\",VLOOKUP($A76,出場選手エントリー票!$A$5:$AK$124,12+1,0))","v":""},{"$f":"IF($B76=\"\",\"\",VLOOKUP($A76,出場選手エントリー票!$A$5:$AK$124,13+1,0))","v":""},{"$f":"IF($B76=\"\",\"\",VLOOKUP($A76,出場選手エントリー票!$A$5:$AK$124,14+1,0))","v":""},{"$f":"IF($B76=\"\",\"\",VLOOKUP($A76,出場選手エントリー票!$A$5:$AK$124,15+1,0))","v":""},{"$f":"IF($B76=\"\",\"\",VLOOKUP($A76,出場選手エントリー票!$A$5:$AK$124,16+1,0))","v":""},{"$f":"IF($B76=\"\",\"\",IF(VLOOKUP($A76,出場選手エントリー票!$A$5:$AK$124,17+1,0)=\"\",\"\",VLOOKUP($A76,出場選手エントリー票!$A$5:$AK$124,17+1,0)))","v":""},{"$f":"IF($B76=\"\",\"\",IF(VLOOKUP($A76,出場選手エントリー票!$A$5:$AK$124,21+1,0)=\"\",\"\",VLOOKUP($A76,出場選手エントリー票!$A$5:$AK$124,21+1,0)))","v":""},{"$f":"IF($B76=\"\",\"\",IF(VLOOKUP($A76,出場選手エントリー票!$A$5:$AK$124,25+1,0)=\"\",\"\",VLOOKUP($A76,出場選手エントリー票!$A$5:$AK$124,25+1,0)))","v":""},{"$f":"IF($B76=\"\",\"\",IF(VLOOKUP($A76,出場選手エントリー票!$A$5:$AK$124,29+1,0)=\"\",\"\",VLOOKUP($A76,出場選手エントリー票!$A$5:$AK$124,29+1,0)))","v":""},{"$f":"IF($B76=\"\",\"\",IF(VLOOKUP($A76,出場選手エントリー票!$A$5:$AK$124,33+1,0)=\"\",\"\",VLOOKUP($A76,出場選手エントリー票!$A$5:$AK$124,33+1,0)))","v":""}]
[76,{"$f":"IF(ISERROR(VLOOKUP($A77,出場選手エントリー票!$A$5:$AK$124,5,0)),\"\",VLOOKUP($A77,出場選手エントリー票!$A$5:$AK$124,6,0))","v":""},{"$f":"IF($B77=\"\",\"\",VLOOKUP($A77,出場選手エントリー票!$A$5:$AK$124,7+1,0))","v":""},{"$f":"IF($B77=\"\",\"\",VLOOKUP($A77,出場選手エントリー票!$A$5:$AK$124,8+1,0))","v":""},{"$f":"IF($B77=\"\",\"\",VLOOKUP($A77,出場選手エントリー票!$A$5:$AK$124,11+1,0))","v":""},{"$f":"IF($B77=\"\",\"\",VLOOKUP($A77,出場選手エントリー票!$A$5:$AK$124,12+1,0))","v":""},{"$f":"IF($B77=\"\",\"\",VLOOKUP($A77,出場選手エントリー票!$A$5:$AK$124,13+1,0))","v":""},{"$f":"IF($B77=\"\",\"\",VLOOKUP($A77,出場選手エントリー票!$A$5:$AK$124,14+1,0))","v":""},{"$f":"IF($B77=\"\",\"\",VLOOKUP($A77,出場選手エントリー票!$A$5:$AK$124,15+1,0))","v":""},{"$f":"IF($B77=\"\",\"\",VLOOKUP($A77,出場選手エントリー票!$A$5:$AK$124,16+1,0))","v":""},{"$f":"IF($B77=\"\",\"\",IF(VLOOKUP($A77,出場選手エントリー票!$A$5:$AK$124,17+1,0)=\"\",\"\",VLOOKUP($A77,出場選手エントリー票!$A$5:$AK$124,17+1,0)))","v":""},{"$f":"IF($B77=\"\",\"\",IF(VLOOKUP($A77,出場選手エントリー票!$A$5:$AK$124,21+1,0)=\"\",\"\",VLOOKUP($A77,出場選手エントリー票!$A$5:$AK$124,21+1,0)))","v":""},{"$f":"IF($B77=\"\",\"\",IF(VLOOKUP($A77,出場選手エントリー票!$A$5:$AK$124,25+1,0)=\"\",\"\",VLOOKUP($A77,出場選手エントリー票!$A$5:$AK$124,25+1,0)))","v":""},{"$f":"IF($B77=\"\",\"\",IF(VLOOKUP($A77,出場選手エントリー票!$A$5:$AK$124,29+1,0)=\"\",\"\",VLOOKUP($A77,出場選手エントリー票!$A$5:$AK$124,29+1,0)))","v":""},{"$f":"IF($B77=\"\",\"\",IF(VLOOKUP($A77,出場選手エントリー票!$A$5:$AK$124,33+1,0)=\"\",\"\",VLOOKUP($A77,出場選手エントリー票!$A$5:$AK$124,33+1,0)))","v":""}]
[77,{"$f":"IF(ISERROR(VLOOKUP($A78,出場選手エントリー票!$A$5:$AK$124,5,0)),\"\",VLOOKUP($A78,出場選手エントリー票!$A$5:$AK$124,6,0))","v":""},{"$f":"IF($B78=\"\",\"\",VLOOKUP($A78,出場選手エントリー票!$A$5:$AK$124,7+1,0))","v":""},{"$f":"IF($B78=\"\",\"\",VLOOKUP($A78,出場選手エントリー票!$A$5:$AK$124,8+1,0))","v":""},{"$f":"IF($B78=\"\",\"\",VLOOKUP($A78,出場選手エントリー票!$A$5:$AK$124,11+1,0))","v":""},{"$f":"IF($B78=\"\",\"\",VLOOKUP($A78,出場選手エントリー票!$A$5:$AK$124,12+1,0))","v":""},{"$f":"IF($B78=\"\",\"\",VLOOKUP($A78,出場選手エントリー票!$A$5:$AK$124,13+1,0))","v":""},{"$f":"IF($B78=\"\",\"\",VLOOKUP($A78,出場選手エントリー票!$A$5:$AK$124,14+1,0))","v":""},{"$f":"IF($B78=\"\",\"\",VLOOKUP($A78,出場選手エントリー票!$A$5:$AK$124,15+1,0))","v":""},{"$f":"IF($B78=\"\",\"\",VLOOKUP($A78,出場選手エントリー票!$A$5:$AK$124,16+1,0))","v":""},{"$f":"IF($B78=\"\",\"\",IF(VLOOKUP($A78,出場選手エントリー票!$A$5:$AK$124,17+1,0)=\"\",\"\",VLOOKUP($A78,出場選手エントリー票!$A$5:$AK$124,17+1,0)))","v":""},{"$f":"IF($B78=\"\",\"\",IF(VLOOKUP($A78,出場選手エントリー票!$A$5:$AK$124,21+1,0)=\"\",\"\",VLOOKUP($A78,出場選手エントリー票!$A$5:$AK$124,21+1,0)))","v":""},{"$f":"IF($B78=\"\",\"\",IF(VLOOKUP($A78,出場選手エントリー票!$A$5:$AK$124,25+1,0)=\"\",\"\",VLOOKUP($A78,出場選手エントリー票!$A$5:$AK$124,25+1,0)))","v":""},{"$f":"IF($B78=\"\",\"\",IF(VLOOKUP($A78,出場選手エントリー票!$A$5:$AK$124,29+1,0)=\"\",\"\",VLOOKUP($A78,出場選手エントリー票!$A$5:$AK$124,29+1,0)))","v":""},{"$f":"IF($B78=\"\",\"\",IF(VLOOKUP($A78,出場選手エントリー票!$A$5:$AK$124,33+1,0)=\"\",\"\",VLOOKUP($A78,出場選手エントリー票!$A$5:$AK$124,33+1,0)))","v":""}]
[78,{"$f":"IF(ISERROR(VLOOKUP($A79,出場選手エントリー票!$A$5:$AK$124,5,0)),\"\",VLOOKUP($A79,出場選手エントリー票!$A$5:$AK$124,6,0))","v":""},{"$f":"IF($B79=\"\",\"\",VLOOKUP($A79,出場選手エントリー票!$A$5:$AK$124,7+1,0))","v":""},{"$f":"IF($B79=\"\",\"\",VLOOKUP($A79,出場選手エントリー票!$A$5:$AK$124,8+1,0))","v":""},{"$f":"IF($B79=\"\",\"\",VLOOKUP($A79,出場選手エントリー票!$A$5:$AK$124,11+1,0))","v":""},{"$f":"IF($B79=\"\",\"\",VLOOKUP($A79,出場選手エントリー票!$A$5:$AK$124,12+1,0))","v":""},{"$f":"IF($B79=\"\",\"\",VLOOKUP($A79,出場選手エントリー票!$A$5:$AK$124,13+1,0))","v":""},{"$f":"IF($B79=\"\",\"\",VLOOKUP($A79,出場選手エントリー票!$A$5:$AK$124,14+1,0))","v":""},{"$f":"IF($B79=\"\",\"\",VLOOKUP($A79,出場選手エントリー票!$A$5:$AK$124,15+1,0))","v":""},{"$f":"IF($B79=\"\",\"\",VLOOKUP($A79,出場選手エントリー票!$A$5:$AK$124,16+1,0))","v":""},{"$f":"IF($B79=\"\",\"\",IF(VLOOKUP($A79,出場選手エントリー票!$A$5:$AK$124,17+1,0)=\"\",\"\",VLOOKUP($A79,出場選手エントリー票!$A$5:$AK$124,17+1,0)))","v":""},{"$f":"IF($B79=\"\",\"\",IF(VLOOKUP($A79,出場選手エントリー票!$A$5:$AK$124,21+1,0)=\"\",\"\",VLOOKUP($A79,出場選手エントリー票!$A$5:$AK$124,21+1,0)))","v":""},{"$f":"IF($B79=\"\",\"\",IF(VLOOKUP($A79,出場選手エントリー票!$A$5:$AK$124,25+1,0)=\"\",\"\",VLOOKUP($A79,出場選手エントリー票!$A$5:$AK$124,25+1,0)))","v":""},{"$f":"IF($B79=\"\",\"\",IF(VLOOKUP($A79,出場選手エントリー票!$A$5:$AK$124,29+1,0)=\"\",\"\",VLOOKUP($A79,出場選手エントリー票!$A$5:$AK$124,29+1,0)))","v":""},{"$f":"IF($B79=\"\",\"\",IF(VLOOKUP($A79,出場選手エントリー票!$A$5:$AK$124,33+1,0)=\"\",\"\",VLOOKUP($A79,出場選手エントリー票!$A$5:$AK$124,33+1,0)))","v":""}]
[79,{"$f":"IF(ISERROR(VLOOKUP($A80,出場選手エントリー票!$A$5:$AK$124,5,0)),\"\",VLOOKUP($A80,出場選手エントリー票!$A$5:$AK$124,6,0))","v":""},{"$f":"IF($B80=\"\",\"\",VLOOKUP($A80,出場選手エントリー票!$A$5:$AK$124,7+1,0))","v":""},{"$f":"IF($B80=\"\",\"\",VLOOKUP($A80,出場選手エントリー票!$A$5:$AK$124,8+1,0))","v":""},{"$f":"IF($B80=\"\",\"\",VLOOKUP($A80,出場選手エントリー票!$A$5:$AK$124,11+1,0))","v":""},{"$f":"IF($B80=\"\",\"\",VLOOKUP($A80,出場選手エントリー票!$A$5:$AK$124,12+1,0))","v":""},{"$f":"IF($B80=\"\",\"\",VLOOKUP($A80,出場選手エントリー票!$A$5:$AK$124,13+1,0))","v":""},{"$f":"IF($B80=\"\",\"\",VLOOKUP($A80,出場選手エントリー票!$A$5:$AK$124,14+1,0))","v":""},{"$f":"IF($B80=\"\",\"\",VLOOKUP($A80,出場選手エントリー票!$A$5:$AK$124,15+1,0))","v":""},{"$f":"IF($B80=\"\",\"\",VLOOKUP($A80,出場選手エントリー票!$A$5:$AK$124,16+1,0))","v":""},{"$f":"IF($B80=\"\",\"\",IF(VLOOKUP($A80,出場選手エントリー票!$A$5:$AK$124,17+1,0)=\"\",\"\",VLOOKUP($A80,出場選手エントリー票!$A$5:$AK$124,17+1,0)))","v":""},{"$f":"IF($B80=\"\",\"\",IF(VLOOKUP($A80,出場選手エントリー票!$A$5:$AK$124,21+1,0)=\"\",\"\",VLOOKUP($A80,出場選手エントリー票!$A$5:$AK$124,21+1,0)))","v":""},{"$f":"IF($B80=\"\",\"\",IF(VLOOKUP($A80,出場選手エントリー票!$A$5:$AK$124,25+1,0)=\"\",\"\",VLOOKUP($A80,出場選手エントリー票!$A$5:$AK$124,25+1,0)))","v":""},{"$f":"IF($B80=\"\",\"\",IF(VLOOKUP($A80,出場選手エントリー票!$A$5:$AK$124,29+1,0)=\"\",\"\",VLOOKUP($A80,出場選手エントリー票!$A$5:$AK$124,29+1,0)))","v":""},{"$f":"IF($B80=\"\",\"\",IF(VLOOKUP($A80,出場選手エントリー票!$A$5:$AK$124,33+1,0)=\"\",\"\",VLOOKUP($A80,出場選手エントリー票!$A$5:$AK$124,33+1,0)))","v":""}]
[80,{"$f":"IF(ISERROR(VLOOKUP($A81,出場選手エントリー票!$A$5:$AK$124,5,0)),\"\",VLOOKUP($A81,出場選手エントリー票!$A$5:$AK$124,6,0))","v":""},{"$f":"IF($B81=\"\",\"\",VLOOKUP($A81,出場選手エントリー票!$A$5:$AK$124,7+1,0))","v":""},{"$f":"IF($B81=\"\",\"\",VLOOKUP($A81,出場選手エントリー票!$A$5:$AK$124,8+1,0))","v":""},{"$f":"IF($B81=\"\",\"\",VLOOKUP($A81,出場選手エントリー票!$A$5:$AK$124,11+1,0))","v":""},{"$f":"IF($B81=\"\",\"\",VLOOKUP($A81,出場選手エントリー票!$A$5:$AK$124,12+1,0))","v":""},{"$f":"IF($B81=\"\",\"\",VLOOKUP($A81,出場選手エントリー票!$A$5:$AK$124,13+1,0))","v":""},{"$f":"IF($B81=\"\",\"\",VLOOKUP($A81,出場選手エントリー票!$A$5:$AK$124,14+1,0))","v":""},{"$f":"IF($B81=\"\",\"\",VLOOKUP($A81,出場選手エントリー票!$A$5:$AK$124,15+1,0))","v":""},{"$f":"IF($B81=\"\",\"\",VLOOKUP($A81,出場選手エントリー票!$A$5:$AK$124,16+1,0))","v":""},{"$f":"IF($B81=\"\",\"\",IF(VLOOKUP($A81,出場選手エントリー票!$A$5:$AK$124,17+1,0)=\"\",\"\",VLOOKUP($A81,出場選手エントリー票!$A$5:$AK$124,17+1,0)))","v":""},{"$f":"IF($B81=\"\",\"\",IF(VLOOKUP($A81,出場選手エントリー票!$A$5:$AK$124,21+1,0)=\"\",\"\",VLOOKUP($A81,出場選手エントリー票!$A$5:$AK$124,21+1,0)))","v":""},{"$f":"IF($B81=\"\",\"\",IF(VLOOKUP($A81,出場選手エントリー票!$A$5:$AK$124,25+1,0)=\"\",\"\",VLOOKUP($A81,出場選手エントリー票!$A$5:$AK$124,25+1,0)))","v":""},{"$f":"IF($B81=\"\",\"\",IF(VLOOKUP($A81,出場選手エントリー票!$A$5:$AK$124,29+1,0)=\"\",\"\",VLOOKUP($A81,出場選手エントリー票!$A$5:$AK$124,29+1,0)))","v":""},{"$f":"IF($B81=\"\",\"\",IF(VLOOKUP($A81,出場選手エントリー票!$A$5:$AK$124,33+1,0)=\"\",\"\",VLOOKUP($A81,出場選手エントリー票!$A$5:$AK$124,33+1,0)))","v":""}]

{"sheet":"出場選手エントリー票　女","index":8,"n_rows":97,"n_cols":27,"rows_kept":97,"cut":false,"hidden":true,"merged":[[83,5,83,6],[86,5,86,6],[81,5,81,6],[82,5,82,6],[84,5,84,6],[85,5,85,6]]}
[null,"No.","姓","名","生年（年）","月","日","学年","性別","所属","種目1","種目2","種目3","４R","１６R",null,5,"23年走幅跳",5,null,null,"中2",23,null,null,"03","5"]
[1,{"$f":"IF(ISERROR(VLOOKUP($A2,出場選手エントリー票!$C$5:$AL$124,4,0)),\"\",VLOOKUP($A2,出場選手エントリー票!$C$5:$AL$124,4,0))","v":""},{"$f":"IF($B2=\"\",\"\",VLOOKUP($A2,出場選手エントリー票!$C$5:$AL$124,5+1,0))","v":""},{"$f":"IF($B2=\"\",\"\",VLOOKUP($A2,出場選手エントリー票!$C$5:$AL$124,6+1,0))","v":""},{"$f":"IF($B2=\"\",\"\",VLOOKUP($A2,出場選手エントリー票!$C$5:$AL$124,9+1,0))","v":""},{"$f":"IF($B2=\"\",\"\",VLOOKUP($A2,出場選手エントリー票!$C$5:$AL$124,10+1,0))","v":""},{"$f":"IF($B2=\"\",\"\",VLOOKUP($A2,出場選手エントリー票!$C$5:$AL$124,11+1,0))","v":""},{"$f":"IF($B2=\"\",\"\",VLOOKUP($A2,出場選手エントリー票!$C$5:$AL$124,12+1,0))","v":""},{"$f":"IF($B2=\"\",\"\",VLOOKUP($A2,出場選手エントリー票!$C$5:$AL$124,13+1,0))","v":""},{"$f":"IF($B2=\"\",\"\",VLOOKUP($A2,出場選手エントリー票!$C$5:$AL$124,14+1,0))","v":""},{"$f":"IF($B2=\"\",\"\",IF(VLOOKUP($A2,出場選手エントリー票!$C$5:$AL$124,15+1,0)=\"\",\"\",VLOOKUP($A2,出場選手エントリー票!$C$5:$AL$124,15+1,0)))","v":""},{"$f":"IF($B2=\"\",\"\",IF(VLOOKUP($A2,出場選手エントリー票!$C$5:$AL$124,19+1,0)=\"\",\"\",VLOOKUP($A2,出場選手エントリー票!$C$5:$AL$124,19+1,0)))","v":""},{"$f":"IF($B2=\"\",\"\",IF(VLOOKUP($A2,出場選手エントリー票!$C$5:$AL$124,23+1,0)=\"\",\"\",VLOOKUP($A2,出場選手エントリー票!$C$5:$AL$124,23+1,0)))","v":""},{"$f":"IF($B2=\"\",\"\",IF(VLOOKUP($A2,出場選手エントリー票!$C$5:$AL$124,27+1,0)=\"\",\"\",VLOOKUP($A2,出場選手エントリー票!$C$5:$AL$124,27+1,0)))","v":""},{"$f":"IF($B2=\"\",\"\",IF(VLOOKUP($A2,出場選手エントリー票!$C$5:$AL$124,31+1,0)=\"\",\"\",VLOOKUP($A2,出場選手エントリー票!$C$5:$AL$124,31+1,0)))","v":""},null,6,"23年砲丸投",6,null,null,"中3",24,null,null,"04","6"]
[2,{"$f":"IF(ISERROR(VLOOKUP($A3,出場選手エントリー票!$C$5:$AL$124,4,0)),\"\",VLOOKUP($A3,出場選手エントリー票!$C$5:$AL$124,4,0))","v":""},{"$f":"IF($B3=\"\",\"\",VLOOKUP($A3,出場選手エントリー票!$C$5:$AL$124,5+1,0))","v":""},{"$f":"IF($B3=\"\",\"\",VLOOKUP($A3,出場選手エントリー票!$C$5:$AL$124,6+1,0))","v":""},{"$f":"IF($B3=\"\",\"\",VLOOKUP($A3,出場選手エントリー票!$C$5:$AL$124,9+1,0))","v":""},{"$f":"IF($B3=\"\",\"\",VLOOKUP($A3,出場選手エントリー票!$C$5:$AL$124,10+1,0))","v":""},{"$f":"IF($B3=\"\",\"\",VLOOKUP($A3,出場選手エントリー票!$C$5:$AL$124,11+1,0))","v":""},{"$f":"IF($B3=\"\",\"\",VLOOKUP($A3,出場選手エントリー票!$C$5:$AL$124,12+1,0))","v":""},{"$f":"IF($B3=\"\",\"\",VLOOKUP($A3,出場選手エントリー票!$C$5:$AL$124,13+1,0))","v":""},{"$f":"IF($B3=\"\",\"\",VLOOKUP($A3,出場選手エントリー票!$C$5:$AL$124,14+1,0))","v":""},{"$f":"IF($B3=\"\",\"\",IF(VLOOKUP($A3,出場選手エントリー票!$C$5:$AL$124,15+1,0)=\"\",\"\",VLOOKUP($A3,出場選手エントリー票!$C$5:$AL$124,15+1,0)))","v":""},{"$f":"IF($B3=\"\",\"\",IF(VLOOKUP($A3,出場選手エントリー票!$C$5:$AL$124,19+1,0)=\"\",\"\",VLOOKUP($A3,出場選手エントリー票!$C$5:$AL$124,19+1,0)))","v":""},{"$f":"IF($B3=\"\",\"\",IF(VLOOKUP($A3,出場選手エントリー票!$C$5:$AL$124,23+1,0)=\"\",\"\",VLOOKUP($A3,出場選手エントリー票!$C$5:$AL$124,23+1,0)))","v":""},{"$f":"IF($B3=\"\",\"\",IF(VLOOKUP($A3,出場選手エントリー票!$C$5:$AL$124,27+1,0)=\"\",\"\",VLOOKUP($A3,出場選手エントリー票!$C$5:$AL$124,27+1,0)))","v":""},{"$f":"IF($B3=\"\",\"\",IF(VLOOKUP($A3,出場選手エントリー票!$C$5:$AL$124,31+1,0)=\"\",\"\",VLOOKUP($A3,出場選手エントリー票!$C$5:$AL$124,31+1,0)))","v":""},null,7,"共通400m",null,null,null,null,25,null,null,"05"]
[3,{"$f":"IF(ISERROR(VLOOKUP($A4,出場選手エントリー票!$C$5:$AL$124,4,0)),\"\",VLOOKUP($A4,出場選手エントリー票!$C$5:$AL$124,4,0))","v":""},{"$f":"IF($B4=\"\",\"\",VLOOKUP($A4,出場選手エントリー票!$C$5:$AL$124,5+1,0))","v":""},{"$f":"IF($B4=\"\",\"\",VLOOKUP($A4,出場選手エントリー票!$C$5:$AL$124,6+1,0))","v":""},{"$f":"IF($B4=\"\",\"\",VLOOKUP($A4,出場選手エントリー票!$C$5:$AL$124,9+1,0))","v":""},{"$f":"IF($B4=\"\",\"\",VLOOKUP($A4,出場選手エントリー票!$C$5:$AL$124,10+1,0))","v":""},{"$f":"IF($B4=\"\",\"\",VLOOKUP($A4,出場選手エントリー票!$C$5:$AL$124,11+1,0))","v":""},{"$f":"IF($B4=\"\",\"\",VLOOKUP($A4,出場選手エントリー票!$C$5:$AL$124,12+1,0))","v":""},{"$f":"IF($B4=\"\",\"\",VLOOKUP($A4,出場選手エントリー票!$C$5:$AL$124,13+1,0))","v":""},{"$f":"IF($B4=\"\",\"\",VLOOKUP($A4,出場選手エントリー票!$C$5:$AL$124,14+1,0))","v":""},{"$f":"IF($B4=\"\",\"\",IF(VLOOKUP($A4,出場選手エントリー票!$C$5:$AL$124,15+1,0)=\"\",\"\",VLOOKUP($A4,出場選手エントリー票!$C$5:$AL$124,15+1,0)))","v":""},{"$f":"IF($B4=\"\",\"\",IF(VLOOKUP($A4,出場選手エントリー票!$C$5:$AL$124,19+1,0)=\"\",\"\",VLOOKUP($A4,出場選手エントリー票!$C$5:$AL$124,19+1,0)))","v":""},{"$f":"IF($B4=\"\",\"\",IF(VLOOKUP($A4,出場選手エントリー票!$C$5:$AL$124,23+1,0)=\"\",\"\",VLOOKUP($A4,出場選手エントリー票!$C$5:$AL$124,23+1,0)))","v":""},{"$f":"IF($B4=\"\",\"\",IF(VLOOKUP($A4,出場選手エントリー票!$C$5:$AL$124,27+1,0)=\"\",\"\",VLOOKUP($A4,出場選手エントリー票!$C$5:$AL$124,27+1,0)))","v":""},{"$f":"IF($B4=\"\",\"\",IF(VLOOKUP($A4,出場選手エントリー票!$C$5:$AL$124,31+1,0)=\"\",\"\",VLOOKUP($A4,出場選手エントリー票!$C$5:$AL$124,31+1,0)))","v":""},null,8,"共通3000m",null,null,null,null,26,null,null,"06"]
[4,{"$f":"IF(ISERROR(VLOOKUP($A5,出場選手エントリー票!$C$5:$AL$124,4,0)),\"\",VLOOKUP($A5,出場選手エントリー票!$C$5:$AL$124,4,0))","v":""},{"$f":"IF($B5=\"\",\"\",VLOOKUP($A5,出場選手エントリー票!$C$5:$AL$124,5+1,0))","v":""},{"$f":"IF($B5=\"\",\"\",VLOOKUP($A5,出場選手エントリー票!$C$5:$AL$124,6+1,0))","v":""},{"$f":"IF($B5=\"\",\"\",VLOOKUP($A5,出場選手エントリー票!$C$5:$AL$124,9+1,0))","v":""},{"$f":"IF($B5=\"\",\"\",VLOOKUP($A5,出場選手エントリー票!$C$5:$AL$124,10+1,0))","v":""},{"$f":"IF($B5=\"\",\"\",VLOOKUP($A5,出場選手エントリー票!$C$5:$AL$124,11+1,0))","v":""},{"$f":"IF($B5=\"\",\"\",VLOOKUP($A5,出場選手エントリー票!$C$5:$AL$124,12+1,0))","v":""},{"$f":"IF($B5=\"\",\"\",VLOOKUP($A5,出場選手エントリー票!$C$5:$AL$124,13+1,0))","v":""},{"$f":"IF($B5=\"\",\"\",VLOOKUP($A5,出場選手エントリー票!$C$5:$AL$124,14+1,0))","v":""},{"$f":"IF($B5=\"\",\"\",IF(VLOOKUP($A5,出場選手エントリー票!$C$5:$AL$124,15+1,0)=\"\",\"\",VLOOKUP($A5,出場選手エントリー票!$C$5:$AL$124,15+1,0)))","v":""},{"$f":"IF($B5=\"\",\"\",IF(VLOOKUP($A5,出場選手エントリー票!$C$5:$AL$124,19+1,0)=\"\",\"\",VLOOKUP($A5,出場選手エントリー票!$C$5:$AL$124,19+1,0)))","v":""},{"$f":"IF($B5=\"\",\"\",IF(VLOOKUP($A5,出場選手エントリー票!$C$5:$AL$124,23+1,0)=\"\",\"\",VLOOKUP($A5,出場選手エントリー票!$C$5:$AL$124,23+1,0)))","v":""},{"$f":"IF($B5=\"\",\"\",IF(VLOOKUP($A5,出場選手エントリー票!$C$5:$AL$124,27+1,0)=\"\",\"\",VLOOKUP($A5,出場選手エントリー票!$C$5:$AL$124,27+1,0)))","v":""},{"$f":"IF($B5=\"\",\"\",IF(VLOOKUP($A5,出場選手エントリー票!$C$5:$AL$124,31+1,0)=\"\",\"\",VLOOKUP($A5,出場選手エントリー票!$C$5:$AL$124,31+1,0)))","v":""},null,9,"共通400mH",null,null,null,null,27,null,null,"07"]
[5,{"$f":"IF(ISERROR(VLOOKUP($A6,出場選手エントリー票!$C$5:$AL$124,4,0)),\"\",VLOOKUP($A6,出場選手エントリー票!$C$5:$AL$124,4,0))","v":""},{"$f":"IF($B6=\"\",\"\",VLOOKUP($A6,出場選手エントリー票!$C$5:$AL$124,5+1,0))","v":""},{"$f":"IF($B6=\"\",\"\",VLOOKUP($A6,出場選手エントリー票!$C$5:$AL$124,6+1,0))","v":""},{"$f":"IF($B6=\"\",\"\",VLOOKUP($A6,出場選手エントリー票!$C$5:$AL$124,9+1,0))","v":""},{"$f":"IF($B6=\"\",\"\",VLOOKUP($A6,出場選手エントリー票!$C$5:$AL$124,10+1,0))","v":""},{"$f":"IF($B6=\"\",\"\",VLOOKUP($A6,出場選手エントリー票!$C$5:$AL$124,11+1,0))","v":""},{"$f":"IF($B6=\"\",\"\",VLOOKUP($A6,出場選手エントリー票!$C$5:$AL$124,12+1,0))","v":""},{"$f":"IF($B6=\"\",\"\",VLOOKUP($A6,出場選手エントリー票!$C$5:$AL$124,13+1,0))","v":""},{"$f":"IF($B6=\"\",\"\",VLOOKUP($A6,出場選手エントリー票!$C$5:$AL$124,14+1,0))","v":""},{"$f":"IF($B6=\"\",\"\",IF(VLOOKUP($A6,出場選手エントリー票!$C$5:$AL$124,15+1,0)=\"\",\"\",VLOOKUP($A6,出場選手エントリー票!$C$5:$AL$124,15+1,0)))","v":""},{"$f":"IF($B6=\"\",\"\",IF(VLOOKUP($A6,出場選手エントリー票!$C$5:$AL$124,19+1,0)=\"\",\"\",VLOOKUP($A6,出場選手エントリー票!$C$5:$AL$124,19+1,0)))","v":""},{"$f":"IF($B6=\"\",\"\",IF(VLOOKUP($A6,出場選手エントリー票!$C$5:$AL$124,23+1,0)=\"\",\"\",VLOOKUP($A6,出場選手エントリー票!$C$5:$AL$124,23+1,0)))","v":""},{"$f":"IF($B6=\"\",\"\",IF(VLOOKUP($A6,出場選手エントリー票!$C$5:$AL$124,27+1,0)=\"\",\"\",VLOOKUP($A6,出場選手エントリー票!$C$5:$AL$124,27+1,0)))","v":""},{"$f":"IF($B6=\"\",\"\",IF(VLOOKUP($A6,出場選手エントリー票!$C$5:$AL$124,31+1,0)=\"\",\"\",VLOOKUP($A6,出場選手エントリー票!$C$5:$AL$124,31+1,0)))","v":""},null,10,"共通走高跳",null,null,null,null,28,null,null,"08"]
[6,{"$f":"IF(ISERROR(VLOOKUP($A7,出場選手エントリー票!$C$5:$AL$124,4,0)),\"\",VLOOKUP($A7,出場選手エントリー票!$C$5:$AL$124,4,0))","v":""},{"$f":"IF($B7=\"\",\"\",VLOOKUP($A7,出場選手エントリー票!$C$5:$AL$124,5+1,0))","v":""},{"$f":"IF($B7=\"\",\"\",VLOOKUP($A7,出場選手エントリー票!$C$5:$AL$124,6+1,0))","v":""},{"$f":"IF($B7=\"\",\"\",VLOOKUP($A7,出場選手エントリー票!$C$5:$AL$124,9+1,0))","v":""},{"$f":"IF($B7=\"\",\"\",VLOOKUP($A7,出場選手エントリー票!$C$5:$AL$124,10+1,0))","v":""},{"$f":"IF($B7=\"\",\"\",VLOOKUP($A7,出場選手エントリー票!$C$5:$AL$124,11+1,0))","v":""},{"$f":"IF($B7=\"\",\"\",VLOOKUP($A7,出場選手エントリー票!$C$5:$AL$124,12+1,0))","v":""},{"$f":"IF($B7=\"\",\"\",VLOOKUP($A7,出場選手エントリー票!$C$5:$AL$124,13+1,0))","v":""},{"$f":"IF($B7=\"\",\"\",VLOOKUP($A7,出場選手エントリー票!$C$5:$AL$124,14+1,0))","v":""},{"$f":"IF($B7=\"\",\"\",IF(VLOOKUP($A7,出場選手エントリー票!$C$5:$AL$124,15+1,0)=\"\",\"\",VLOOKUP($A7,出場選手エントリー票!$C$5:$AL$124,15+1,0)))","v":""},{"$f":"IF($B7=\"\",\"\",IF(VLOOKUP($A7,出場選手エントリー票!$C$5:$AL$124,19+1,0)=\"\",\"\",VLOOKUP($A7,出場選手エントリー票!$C$5:$AL$124,19+1,0)))","v":""},{"$f":"IF($B7=\"\",\"\",IF(VLOOKUP($A7,出場選手エントリー票!$C$5:$AL$124,23+1,0)=\"\",\"\",VLOOKUP($A7,出場選手エントリー票!$C$5:$AL$124,23+1,0)))","v":""},{"$f":"IF($B7=\"\",\"\",IF(VLOOKUP($A7,出場選手エントリー票!$C$5:$AL$124,27+1,0)=\"\",\"\",VLOOKUP($A7,出場選手エントリー票!$C$5:$AL$124,27+1,0)))","v":""},{"$f":"IF($B7=\"\",\"\",IF(VLOOKUP($A7,出場選手エントリー票!$C$5:$AL$124,31+1,0)=\"\",\"\",VLOOKUP($A7,出場選手エントリー票!$C$5:$AL$124,31+1,0)))","v":""},null,11,"共通棒高跳",null,null,null,null,29,null,null,"09"]
[7,{"$f":"IF(ISERROR(VLOOKUP($A8,出場選手エントリー票!$C$5:$AL$124,4,0)),\"\",VLOOKUP($A8,出場選手エントリー票!$C$5:$AL$124,4,0))","v":""},{"$f":"IF($B8=\"\",\"\",VLOOKUP($A8,出場選手エントリー票!$C$5:$AL$124,5+1,0))","v":""},{"$f":"IF($B8=\"\",\"\",VLOOKUP($A8,出場選手エントリー票!$C$5:$AL$124,6+1,0))","v":""},{"$f":"IF($B8=\"\",\"\",VLOOKUP($A8,出場選手エントリー票!$C$5:$AL$124,9+1,0))","v":""},{"$f":"IF($B8=\"\",\"\",VLOOKUP($A8,出場選手エントリー票!$C$5:$AL$124,10+1,0))","v":""},{"$f":"IF($B8=\"\",\"\",VLOOKUP($A8,出場選手エントリー票!$C$5:$AL$124,11+1,0))","v":""},{"$f":"IF($B8=\"\",\"\",VLOOKUP($A8,出場選手エントリー票!$C$5:$AL$124,12+1,0))","v":""},{"$f":"IF($B8=\"\",\"\",VLOOKUP($A8,出場選手エントリー票!$C$5:$AL$124,13+1,0))","v":""},{"$f":"IF($B8=\"\",\"\",VLOOKUP($A8,出場選手エントリー票!$C$5:$AL$124,14+1,0))","v":""},{"$f":"IF($B8=\"\",\"\",IF(VLOOKUP($A8,出場選手エントリー票!$C$5:$AL$124,15+1,0)=\"\",\"\",VLOOKUP($A8,出場選手エントリー票!$C$5:$AL$124,15+1,0)))","v":""},{"$f":"IF($B8=\"\",\"\",IF(VLOOKUP($A8,出場選手エントリー票!$C$5:$AL$124,19+1,0)=\"\",\"\",VLOOKUP($A8,出場選手エントリー票!$C$5:$AL$124,19+1,0)))","v":""},{"$f":"IF($B8=\"\",\"\",IF(VLOOKUP($A8,出場選手エントリー票!$C$5:$AL$124,23+1,0)=\"\",\"\",VLOOKUP($A8,出場選手エントリー票!$C$5:$AL$124,23+1,0)))","v":""},{"$f":"IF($B8=\"\",\"\",IF(VLOOKUP($A8,出場選手エントリー票!$C$5:$AL$124,27+1,0)=\"\",\"\",VLOOKUP($A8,出場選手エントリー票!$C$5:$AL$124,27+1,0)))","v":""},{"$f":"IF($B8=\"\",\"\",IF(VLOOKUP($A8,出場選手エントリー票!$C$5:$AL$124,31+1,0)=\"\",\"\",VLOOKUP($A8,出場選手エントリー票!$C$5:$AL$124,31+1,0)))","v":""},null,12,"共通三段跳",null,null,null,null,30,null,null,"10"]
[8,{"$f":"IF(ISERROR(VLOOKUP($A9,出場選手エントリー票!$C$5:$AL$124,4,0)),\"\",VLOOKUP($A9,出場選手エントリー票!$C$5:$AL$124,4,0))","v":""},{"$f":"IF($B9=\"\",\"\",VLOOKUP($A9,出場選手エントリー票!$C$5:$AL$124,5+1,0))","v":""},{"$f":"IF($B9=\"\",\"\",VLOOKUP($A9,出場選手エントリー票!$C$5:$AL$124,6+1,0))","v":""},{"$f":"IF($B9=\"\",\"\",VLOOKUP($A9,出場選手エントリー票!$C$5:$AL$124,9+1,0))","v":""},{"$f":"IF($B9=\"\",\"\",VLOOKUP($A9,出場選手エントリー票!$C$5:$AL$124,10+1,0))","v":""},{"$f":"IF($B9=\"\",\"\",VLOOKUP($A9,出場選手エントリー票!$C$5:$AL$124,11+1,0))","v":""},{"$f":"IF($B9=\"\",\"\",VLOOKUP($A9,出場選手エントリー票!$C$5:$AL$124,12+1,0))","v":""},{"$f":"IF($B9=\"\",\"\",VLOOKUP($A9,出場選手エントリー票!$C$5:$AL$124,13+1,0))","v":""},{"$f":"IF($B9=\"\",\"\",VLOOKUP($A9,出場選手エントリー票!$C$5:$AL$124,14+1,0))","v":""},{"$f":"IF($B9=\"\",\"\",IF(VLOOKUP($A9,出場選手エントリー票!$C$5:$AL$124,15+1,0)=\"\",\"\",VLOOKUP($A9,出場選手エントリー票!$C$5:$AL$124,15+1,0)))","v":""},{"$f":"IF($B9=\"\",\"\",IF(VLOOKUP($A9,出場選手エントリー票!$C$5:$AL$124,19+1,0)=\"\",\"\",VLOOKUP($A9,出場選手エントリー票!$C$5:$AL$124,19+1,0)))","v":""},{"$f":"IF($B9=\"\",\"\",IF(VLOOKUP($A9,出場選手エントリー票!$C$5:$AL$124,23+1,0)=\"\",\"\",VLOOKUP($A9,出場選手エントリー票!$C$5:$AL$124,23+1,0)))","v":""},{"$f":"IF($B9=\"\",\"\",IF(VLOOKUP($A9,出場選手エントリー票!$C$5:$AL$124,27+1,0)=\"\",\"\",VLOOKUP($A9,出場選手エントリー票!$C$5:$AL$124,27+1,0)))","v":""},{"$f":"IF($B9=\"\",\"\",IF(VLOOKUP($A9,出場選手エントリー票!$C$5:$AL$124,31+1,0)=\"\",\"\",VLOOKUP($A9,出場選手エントリー票!$C$5:$AL$124,31+1,0)))","v":""},null,13,"共通円盤投",null,null,null,null,31,null,null,"11"]
[9,{"$f":"IF(ISERROR(VLOOKUP($A10,出場選手エントリー票!$C$5:$AL$124,4,0)),\"\",VLOOKUP($A10,出場選手エントリー票!$C$5:$AL$124,4,0))","v":""},{"$f":"IF($B10=\"\",\"\",VLOOKUP($A10,出場選手エントリー票!$C$5:$AL$124,5+1,0))","v":""},{"$f":"IF($B10=\"\",\"\",VLOOKUP($A10,出場選手エントリー票!$C$5:$AL$124,6+1,0))","v":""},{"$f":"IF($B10=\"\",\"\",VLOOKUP($A10,出場選手エントリー票!$C$5:$AL$124,9+1,0))","v":""},{"$f":"IF($B10=\"\",\"\",VLOOKUP($A10,出場選手エントリー票!$C$5:$AL$124,10+1,0))","v":""},{"$f":"IF($B10=\"\",\"\",VLOOKUP($A10,出場選手エントリー票!$C$5:$AL$124,11+1,0))","v":""},{"$f":"IF($B10=\"\",\"\",VLOOKUP($A10,出場選手エントリー票!$C$5:$AL$124,12+1,0))","v":""},{"$f":"IF($B10=\"\",\"\",VLOOKUP($A10,出場選手エントリー票!$C$5:$AL$124,13+1,0))","v":""},{"$f":"IF($B10=\"\",\"\",VLOOKUP($A10,出場選手エントリー票!$C$5:$AL$124,14+1,0))","v":""},{"$f":"IF($B10=\"\",\"\",IF(VLOOKUP($A10,出場選手エントリー票!$C$5:$AL$124,15+1,0)=\"\",\"\",VLOOKUP($A10,出場選手エントリー票!$C$5:$AL$124,15+1,0)))","v":""},{"$f":"IF($B10=\"\",\"\",IF(VLOOKUP($A10,出場選手エントリー票!$C$5:$AL$124,19+1,0)=\"\",\"\",VLOOKUP($A10,出場選手エントリー票!$C$5:$AL$124,19+1,0)))","v":""},{"$f":"IF($B10=\"\",\"\",IF(VLOOKUP($A10,出場選手エントリー票!$C$5:$AL$124,23+1,0)=\"\",\"\",VLOOKUP($A10,出場選手エントリー票!$C$5:$AL$124,23+1,0)))","v":""},{"$f":"IF($B10=\"\",\"\",IF(VLOOKUP($A10,出場選手エントリー票!$C$5:$AL$124,27+1,0)=\"\",\"\",VLOOKUP($A10,出場選手エントリー票!$C$5:$AL$124,27+1,0)))","v":""},{"$f":"IF($B10=\"\",\"\",IF(VLOOKUP($A10,出場選手エントリー票!$C$5:$AL$124,31+1,0)=\"\",\"\",VLOOKUP($A10,出場選手エントリー票!$C$5:$AL$124,31+1,0)))","v":""},null,14,"共通やり投",null,null,null,null,32,null,null,"12"]
[10,{"$f":"IF(ISERROR(VLOOKUP($A11,出場選手エントリー票!$C$5:$AL$124,4,0)),\"\",VLOOKUP($A11,出場選手エントリー票!$C$5:$AL$124,4,0))","v":""},{"$f":"IF($B11=\"\",\"\",VLOOKUP($A11,出場選手エントリー票!$C$5:$AL$124,5+1,0))","v":""},{"$f":"IF($B11=\"\",\"\",VLOOKUP($A11,出場選手エントリー票!$C$5:$AL$124,6+1,0))","v":""},{"$f":"IF($B11=\"\",\"\",VLOOKUP($A11,出場選手エントリー票!$C$5:$AL$124,9+1,0))","v":""},{"$f":"IF($B11=\"\",\"\",VLOOKUP($A11,出場選手エントリー票!$C$5:$AL$124,10+1,0))","v":""},{"$f":"IF($B11=\"\",\"\",VLOOKUP($A11,出場選手エントリー票!$C$5:$AL$124,11+1,0))","v":""},{"$f":"IF($B11=\"\",\"\",VLOOKUP($A11,出場選手エントリー票!$C$5:$AL$124,12+1,0))","v":""},{"$f":"IF($B11=\"\",\"\",VLOOKUP($A11,出場選手エントリー票!$C$5:$AL$124,13+1,0))","v":""},{"$f":"IF($B11=\"\",\"\",VLOOKUP($A11,出場選手エントリー票!$C$5:$AL$124,14+1,0))","v":""},{"$f":"IF($B11=\"\",\"\",IF(VLOOKUP($A11,出場選手エントリー票!$C$5:$AL$124,15+1,0)=\"\",\"\",VLOOKUP($A11,出場選手エントリー票!$C$5:$AL$124,15+1,0)))","v":""},{"$f":"IF($B11=\"\",\"\",IF(VLOOKUP($A11,出場選手エントリー票!$C$5:$AL$124,19+1,0)=\"\",\"\",VLOOKUP($A11,出場選手エントリー票!$C$5:$AL$124,19+1,0)))","v":""},{"$f":"IF($B11=\"\",\"\",IF(VLOOKUP($A11,出場選手エントリー票!$C$5:$AL$124,23+1,0)=\"\",\"\",VLOOKUP($A11,出場選手エントリー票!$C$5:$AL$124,23+1,0)))","v":""},{"$f":"IF($B11=\"\",\"\",IF(VLOOKUP($A11,出場選手エントリー票!$C$5:$AL$124,27+1,0)=\"\",\"\",VLOOKUP($A11,出場選手エントリー票!$C$5:$AL$124,27+1,0)))","v":""},{"$f":"IF($B11=\"\",\"\",IF(VLOOKUP($A11,出場選手エントリー票!$C$5:$AL$124,31+1,0)=\"\",\"\",VLOOKUP($A11,出場選手エントリー票!$C$5:$AL$124,31+1,0)))","v":""},null,15,null,null,null,null,null,33,null,null,"13"]
[11,{"$f":"IF(ISERROR(VLOOKUP($A12,出場選手エントリー票!$C$5:$AL$124,4,0)),\"\",VLOOKUP($A12,出場選手エントリー票!$C$5:$AL$124,4,0))","v":""},{"$f":"IF($B12=\"\",\"\",VLOOKUP($A12,出場選手エントリー票!$C$5:$AL$124,5+1,0))","v":""},{"$f":"IF($B12=\"\",\"\",VLOOKUP($A12,出場選手エントリー票!$C$5:$AL$124,6+1,0))","v":""},{"$f":"IF($B12=\"\",\"\",VLOOKUP($A12,出場選手エントリー票!$C$5:$AL$124,9+1,0))","v":""},{"$f":"IF($B12=\"\",\"\",VLOOKUP($A12,出場選手エントリー票!$C$5:$AL$124,10+1,0))","v":""},{"$f":"IF($B12=\"\",\"\",VLOOKUP($A12,出場選手エントリー票!$C$5:$AL$124,11+1,0))","v":""},{"$f":"IF($B12=\"\",\"\",VLOOKUP($A12,出場選手エントリー票!$C$5:$AL$124,12+1,0))","v":""},{"$f":"IF($B12=\"\",\"\",VLOOKUP($A12,出場選手エントリー票!$C$5:$AL$124,13+1,0))","v":""},{"$f":"IF($B12=\"\",\"\",VLOOKUP($A12,出場選手エントリー票!$C$5:$AL$124,14+1,0))","v":""},{"$f":"IF($B12=\"\",\"\",IF(VLOOKUP($A12,出場選手エントリー票!$C$5:$AL$124,15+1,0)=\"\",\"\",VLOOKUP($A12,出場選手エントリー票!$C$5:$AL$124,15+1,0)))","v":""},{"$f":"IF($B12=\"\",\"\",IF(VLOOKUP($A12,出場選手エントリー票!$C$5:$AL$124,19+1,0)=\"\",\"\",VLOOKUP($A12,出場選手エントリー票!$C$5:$AL$124,19+1,0)))","v":""},{"$f":"IF($B12=\"\",\"\",IF(VLOOKUP($A12,出場選手エントリー票!$C$5:$AL$124,23+1,0)=\"\",\"\",VLOOKUP($A12,出場選手エントリー票!$C$5:$AL$124,23+1,0)))","v":""},{"$f":"IF($B12=\"\",\"\",IF(VLOOKUP($A12,出場選手エントリー票!$C$5:$AL$124,27+1,0)=\"\",\"\",VLOOKUP($A12,出場選手エントリー票!$C$5:$AL$124,27+1,0)))","v":""},{"$f":"IF($B12=\"\",\"\",IF(VLOOKUP($A12,出場選手エントリー票!$C$5:$AL$124,31+1,0)=\"\",\"\",VLOOKUP($A12,出場選手エントリー票!$C$5:$AL$124,31+1,0)))","v":""},null,16,null,null,null,null,null,34,null,null,"14"]
[12,{"$f":"IF(ISERROR(VLOOKUP($A13,出場選手エントリー票!$C$5:$AL$124,4,0)),\"\",VLOOKUP($A13,出場選手エントリー票!$C$5:$AL$124,4,0))","v":""},{"$f":"IF($B13=\"\",\"\",VLOOKUP($A13,出場選手エントリー票!$C$5:$AL$124,5+1,0))","v":""},{"$f":"IF($B13=\"\",\"\",VLOOKUP($A13,出場選手エントリー票!$C$5:$AL$124,6+1,0))","v":""},{"$f":"IF($B13=\"\",\"\",VLOOKUP($A13,出場選手エントリー票!$C$5:$AL$124,9+1,0))","v":""},{"$f":"IF($B13=\"\",\"\",VLOOKUP($A13,出場選手エントリー票!$C$5:$AL$124,10+1,0))","v":""},{"$f":"IF($B13=\"\",\"\",VLOOKUP($A13,出場選手エントリー票!$C$5:$AL$124,11+1,0))","v":""},{"$f":"IF($B13=\"\",\"\",VLOOKUP($A13,出場選手エントリー票!$C$5:$AL$124,12+1,0))","v":""},{"$f":"IF($B13=\"\",\"\",VLOOKUP($A13,出場選手エントリー票!$C$5:$AL$124,13+1,0))","v":""},{"$f":"IF($B13=\"\",\"\",VLOOKUP($A13,出場選手エントリー票!$C$5:$AL$124,14+1,0))","v":""},{"$f":"IF($B13=\"\",\"\",IF(VLOOKUP($A13,出場選手エントリー票!$C$5:$AL$124,15+1,0)=\"\",\"\",VLOOKUP($A13,出場選手エントリー票!$C$5:$AL$124,15+1,0)))","v":""},{"$f":"IF($B13=\"\",\"\",IF(VLOOKUP($A13,出場選手エントリー票!$C$5:$AL$124,19+1,0)=\"\",\"\",VLOOKUP($A13,出場選手エントリー票!$C$5:$AL$124,19+1,0)))","v":""},{"$f":"IF($B13=\"\",\"\",IF(VLOOKUP($A13,出場選手エントリー票!$C$5:$AL$124,23+1,0)=\"\",\"\",VLOOKUP($A13,出場選手エントリー票!$C$5:$AL$124,23+1,0)))","v":""},{"$f":"IF($B13=\"\",\"\",IF(VLOOKUP($A13,出場選手エントリー票!$C$5:$AL$124,27+1,0)=\"\",\"\",VLOOKUP($A13,出場選手エントリー票!$C$5:$AL$124,27+1,0)))","v":""},{"$f":"IF($B13=\"\",\"\",IF(VLOOKUP($A13,出場選手エントリー票!$C$5:$AL$124,31+1,0)=\"\",\"\",VLOOKUP($A13,出場選手エントリー票!$C$5:$AL$124,31+1,0)))","v":""},null,17,null,null,null,null,null,35,null,null,"15"]
[13,{"$f":"IF(ISERROR(VLOOKUP($A14,出場選手エントリー票!$C$5:$AL$124,4,0)),\"\",VLOOKUP($A14,出場選手エントリー票!$C$5:$AL$124,4,0))","v":""},{"$f":"IF($B14=\"\",\"\",VLOOKUP($A14,出場選手エントリー票!$C$5:$AL$124,5+1,0))","v":""},{"$f":"IF($B14=\"\",\"\",VLOOKUP($A14,出場選手エントリー票!$C$5:$AL$124,6+1,0))","v":""},{"$f":"IF($B14=\"\",\"\",VLOOKUP($A14,出場選手エントリー票!$C$5:$AL$124,9+1,0))","v":""},{"$f":"IF($B14=\"\",\"\",VLOOKUP($A14,出場選手エントリー票!$C$5:$AL$124,10+1,0))","v":""},{"$f":"IF($B14=\"\",\"\",VLOOKUP($A14,出場選手エントリー票!$C$5:$AL$124,11+1,0))","v":""},{"$f":"IF($B14=\"\",\"\",VLOOKUP($A14,出場選手エントリー票!$C$5:$AL$124,12+1,0))","v":""},{"$f":"IF($B14=\"\",\"\",VLOOKUP($A14,出場選手エントリー票!$C$5:$AL$124,13+1,0))","v":""},{"$f":"IF($B14=\"\",\"\",VLOOKUP($A14,出場選手エントリー票!$C$5:$AL$124,14+1,0))","v":""},{"$f":"IF($B14=\"\",\"\",IF(VLOOKUP($A14,出場選手エントリー票!$C$5:$AL$124,15+1,0)=\"\",\"\",VLOOKUP($A14,出場選手エントリー票!$C$5:$AL$124,15+1,0)))","v":""},{"$f":"IF($B14=\"\",\"\",IF(VLOOKUP($A14,出場選手エントリー票!$C$5:$AL$124,19+1,0)=\"\",\"\",VLOOKUP($A14,出場選手エントリー票!$C$5:$AL$124,19+1,0)))","v":""},{"$f":"IF($B14=\"\",\"\",IF(VLOOKUP($A14,出場選手エントリー票!$C$5:$AL$124,23+1,0)=\"\",\"\",VLOOKUP($A14,出場選手エントリー票!$C$5:$AL$124,23+1,0)))","v":""},{"$f":"IF($B14=\"\",\"\",IF(VLOOKUP($A14,出場選手エントリー票!$C$5:$AL$124,27+1,0)=\"\",\"\",VLOOKUP($A14,出場選手エントリー票!$C$5:$AL$124,27+1,0)))","v":""},{"$f":"IF($B14=\"\",\"\",IF(VLOOKUP($A14,出場選手エントリー票!$C$5:$AL$124,31+1,0)=\"\",\"\",VLOOKUP($A14,出場選手エントリー票!$C$5:$AL$124,31+1,0)))","v":""},null,18,null,null,null,null,null,36,null,null,"16"]
[14,{"$f":"IF(ISERROR(VLOOKUP($A15,出場選手エントリー票!$C$5:$AL$124,4,0)),\"\",VLOOKUP($A15,出場選手エントリー票!$C$5:$AL$124,4,0))","v":""},{"$f":"IF($B15=\"\",\"\",VLOOKUP($A15,出場選手エントリー票!$C$5:$AL$124,5+1,0))","v":""},{"$f":"IF($B15=\"\",\"\",VLOOKUP($A15,出場選手エントリー票!$C$5:$AL$124,6+1,0))","v":""},{"$f":"IF($B15=\"\",\"\",VLOOKUP($A15,出場選手エントリー票!$C$5:$AL$124,9+1,0))","v":""},{"$f":"IF($B15=\"\",\"\",VLOOKUP($A15,出場選手エントリー票!$C$5:$AL$124,10+1,0))","v":""},{"$f":"IF($B15=\"\",\"\",VLOOKUP($A15,出場選手エントリー票!$C$5:$AL$124,11+1,0))","v":""},{"$f":"IF($B15=\"\",\"\",VLOOKUP($A15,出場選手エントリー票!$C$5:$AL$124,12+1,0))","v":""},{"$f":"IF($B15=\"\",\"\",VLOOKUP($A15,出場選手エントリー票!$C$5:$AL$124,13+1,0))","v":""},{"$f":"IF($B15=\"\",\"\",VLOOKUP($A15,出場選手エントリー票!$C$5:$AL$124,14+1,0))","v":""},{"$f":"IF($B15=\"\",\"\",IF(VLOOKUP($A15,出場選手エントリー票!$C$5:$AL$124,15+1,0)=\"\",\"\",VLOOKUP($A15,出場選手エントリー票!$C$5:$AL$124,15+1,0)))","v":""},{"$f":"IF($B15=\"\",\"\",IF(VLOOKUP($A15,出場選手エントリー票!$C$5:$AL$124,19+1,0)=\"\",\"\",VLOOKUP($A15,出場選手エントリー票!$C$5:$AL$124,19+1,0)))","v":""},{"$f":"IF($B15=\"\",\"\",IF(VLOOKUP($A15,出場選手エントリー票!$C$5:$AL$124,23+1,0)=\"\",\"\",VLOOKUP($A15,出場選手エントリー票!$C$5:$AL$124,23+1,0)))","v":""},{"$f":"IF($B15=\"\",\"\",IF(VLOOKUP($A15,出場選手エントリー票!$C$5:$AL$124,27+1,0)=\"\",\"\",VLOOKUP($A15,出場選手エントリー票!$C$5:$AL$124,27+1,0)))","v":""},{"$f":"IF($B15=\"\",\"\",IF(VLOOKUP($A15,出場選手エントリー票!$C$5:$AL$124,31+1,0)=\"\",\"\",VLOOKUP($A15,出場選手エントリー票!$C$5:$AL$124,31+1,0)))","v":""},null,19,null,null,null,null,null,37,null,null,"17"]
[15,{"$f":"IF(ISERROR(VLOOKUP($A16,出場選手エントリー票!$C$5:$AL$124,4,0)),\"\",VLOOKUP($A16,出場選手エントリー票!$C$5:$AL$124,4,0))","v":""},{"$f":"IF($B16=\"\",\"\",VLOOKUP($A16,出場選手エントリー票!$C$5:$AL$124,5+1,0))","v":""},{"$f":"IF($B16=\"\",\"\",VLOOKUP($A16,出場選手エントリー票!$C$5:$AL$124,6+1,0))","v":""},{"$f":"IF($B16=\"\",\"\",VLOOKUP($A16,出場選手エントリー票!$C$5:$AL$124,9+1,0))","v":""},{"$f":"IF($B16=\"\",\"\",VLOOKUP($A16,出場選手エントリー票!$C$5:$AL$124,10+1,0))","v":""},{"$f":"IF($B16=\"\",\"\",VLOOKUP($A16,出場選手エントリー票!$C$5:$AL$124,11+1,0))","v":""},{"$f":"IF($B16=\"\",\"\",VLOOKUP($A16,出場選手エントリー票!$C$5:$AL$124,12+1,0))","v":""},{"$f":"IF($B16=\"\",\"\",VLOOKUP($A16,出場選手エントリー票!$C$5:$AL$124,13+1,0))","v":""},{"$f":"IF($B16=\"\",\"\",VLOOKUP($A16,出場選手エントリー票!$C$5:$AL$124,14+1,0))","v":""},{"$f":"IF($B16=\"\",\"\",IF(VLOOKUP($A16,出場選手エントリー票!$C$5:$AL$124,15+1,0)=\"\",\"\",VLOOKUP($A16,出場選手エントリー票!$C$5:$AL$124,15+1,0)))","v":""},{"$f":"IF($B16=\"\",\"\",IF(VLOOKUP($A16,出場選手エントリー票!$C$5:$AL$124,19+1,0)=\"\",\"\",VLOOKUP($A16,出場選手エントリー票!$C$5:$AL$124,19+1,0)))","v":""},{"$f":"IF($B16=\"\",\"\",IF(VLOOKUP($A16,出場選手エントリー票!$C$5:$AL$124,23+1,0)=\"\",\"\",VLOOKUP($A16,出場選手エントリー票!$C$5:$AL$124,23+1,0)))","v":""},{"$f":"IF($B16=\"\",\"\",IF(VLOOKUP($A16,出場選手エントリー票!$C$5:$AL$124,27+1,0)=\"\",\"\",VLOOKUP($A16,出場選手エントリー票!$C$5:$AL$124,27+1,0)))","v":""},{"$f":"IF($B16=\"\",\"\",IF(VLOOKUP($A16,出場選手エントリー票!$C$5:$AL$124,31+1,0)=\"\",\"\",VLOOKUP($A16,出場選手エントリー票!$C$5:$AL$124,31+1,0)))","v":""},null,20,null,null,null,null,null,null,null,null,"18"]
[16,{"$f":"IF(ISERROR(VLOOKUP($A17,出場選手エントリー票!$C$5:$AL$124,4,0)),\"\",VLOOKUP($A17,出場選手エントリー票!$C$5:$AL$124,4,0))","v":""},{"$f":"IF($B17=\"\",\"\",VLOOKUP($A17,出場選手エントリー票!$C$5:$AL$124,5+1,0))","v":""},{"$f":"IF($B17=\"\",\"\",VLOOKUP($A17,出場選手エントリー票!$C$5:$AL$124,6+1,0))","v":""},{"$f":"IF($B17=\"\",\"\",VLOOKUP($A17,出場選手エントリー票!$C$5:$AL$124,9+1,0))","v":""},{"$f":"IF($B17=\"\",\"\",VLOOKUP($A17,出場選手エントリー票!$C$5:$AL$124,10+1,0))","v":""},{"$f":"IF($B17=\"\",\"\",VLOOKUP($A17,出場選手エントリー票!$C$5:$AL$124,11+1,0))","v":""},{"$f":"IF($B17=\"\",\"\",VLOOKUP($A17,出場選手エントリー票!$C$5:$AL$124,12+1,0))","v":""},{"$f":"IF($B17=\"\",\"\",VLOOKUP($A17,出場選手エントリー票!$C$5:$AL$124,13+1,0))","v":""},{"$f":"IF($B17=\"\",\"\",VLOOKUP($A17,出場選手エントリー票!$C$5:$AL$124,14+1,0))","v":""},{"$f":"IF($B17=\"\",\"\",IF(VLOOKUP($A17,出場選手エントリー票!$C$5:$AL$124,15+1,0)=\"\",\"\",VLOOKUP($A17,出場選手エントリー票!$C$5:$AL$124,15+1,0)))","v":""},{"$f":"IF($B17=\"\",\"\",IF(VLOOKUP($A17,出場選手エントリー票!$C$5:$AL$124,19+1,0)=\"\",\"\",VLOOKUP($A17,出場選手エントリー票!$C$5:$AL$124,19+1,0)))","v":""},{"$f":"IF($B17=\"\",\"\",IF(VLOOKUP($A17,出場選手エントリー票!$C$5:$AL$124,23+1,0)=\"\",\"\",VLOOKUP($A17,出場選手エントリー票!$C$5:$AL$124,23+1,0)))","v":""},{"$f":"IF($B17=\"\",\"\",IF(VLOOKUP($A17,出場選手エントリー票!$C$5:$AL$124,27+1,0)=\"\",\"\",VLOOKUP($A17,出場選手エントリー票!$C$5:$AL$124,27+1,0)))","v":""},{"$f":"IF($B17=\"\",\"\",IF(VLOOKUP($A17,出場選手エントリー票!$C$5:$AL$124,31+1,0)=\"\",\"\",VLOOKUP($A17,出場選手エントリー票!$C$5:$AL$124,31+1,0)))","v":""},null,21,null,null,null,null,null,null,null,null,"19"]
[17,{"$f":"IF(ISERROR(VLOOKUP($A18,出場選手エントリー票!$C$5:$AL$124,4,0)),\"\",VLOOKUP($A18,出場選手エントリー票!$C$5:$AL$124,4,0))","v":""},{"$f":"IF($B18=\"\",\"\",VLOOKUP($A18,出場選手エントリー票!$C$5:$AL$124,5+1,0))","v":""},{"$f":"IF($B18=\"\",\"\",VLOOKUP($A18,出場選手エントリー票!$C$5:$AL$124,6+1,0))","v":""},{"$f":"IF($B18=\"\",\"\",VLOOKUP($A18,出場選手エントリー票!$C$5:$AL$124,9+1,0))","v":""},{"$f":"IF($B18=\"\",\"\",VLOOKUP($A18,出場選手エントリー票!$C$5:$AL$124,10+1,0))","v":""},{"$f":"IF($B18=\"\",\"\",VLOOKUP($A18,出場選手エントリー票!$C$5:$AL$124,11+1,0))","v":""},{"$f":"IF($B18=\"\",\"\",VLOOKUP($A18,出場選手エントリー票!$C$5:$AL$124,12+1,0))","v":""},{"$f":"IF($B18=\"\",\"\",VLOOKUP($A18,出場選手エントリー票!$C$5:$AL$124,13+1,0))","v":""},{"$f":"IF($B18=\"\",\"\",VLOOKUP($A18,出場選手エントリー票!$C$5:$AL$124,14+1,0))","v":""},{"$f":"IF($B18=\"\",\"\",IF(VLOOKUP($A18,出場選手エントリー票!$C$5:$AL$124,15+1,0)=\"\",\"\",VLOOKUP($A18,出場選手エントリー票!$C$5:$AL$124,15+1,0)))","v":""},{"$f":"IF($B18=\"\",\"\",IF(VLOOKUP($A18,出場選手エントリー票!$C$5:$AL$124,19+1,0)=\"\",\"\",VLOOKUP($A18,出場選手エントリー票!$C$5:$AL$124,19+1,0)))","v":""},{"$f":"IF($B18=\"\",\"\",IF(VLOOKUP($A18,出場選手エントリー票!$C$5:$AL$124,23+1,0)=\"\",\"\",VLOOKUP($A18,出場選手エントリー票!$C$5:$AL$124,23+1,0)))","v":""},{"$f":"IF($B18=\"\",\"\",IF(VLOOKUP($A18,出場選手エントリー票!$C$5:$AL$124,27+1,0)=\"\",\"\",VLOOKUP($A18,出場選手エントリー票!$C$5:$AL$124,27+1,0)))","v":""},{"$f":"IF($B18=\"\",\"\",IF(VLOOKUP($A18,出場選手エントリー票!$C$5:$AL$124,31+1,0)=\"\",\"\",VLOOKUP($A18,出場選手エントリー票!$C$5:$AL$124,31+1,0)))","v":""},null,22,null,null,null,null,null,null,null,null,"20"]
[18,{"$f":"IF(ISERROR(VLOOKUP($A19,出場選手エントリー票!$C$5:$AL$124,4,0)),\"\",VLOOKUP($A19,出場選手エントリー票!$C$5:$AL$124,4,0))","v":""},{"$f":"IF($B19=\"\",\"\",VLOOKUP($A19,出場選手エントリー票!$C$5:$AL$124,5+1,0))","v":""},{"$f":"IF($B19=\"\",\"\",VLOOKUP($A19,出場選手エントリー票!$C$5:$AL$124,6+1,0))","v":""},{"$f":"IF($B19=\"\",\"\",VLOOKUP($A19,出場選手エントリー票!$C$5:$AL$124,9+1,0))","v":""},{"$f":"IF($B19=\"\",\"\",VLOOKUP($A19,出場選手エントリー票!$C$5:$AL$124,10+1,0))","v":""},{"$f":"IF($B19=\"\",\"\",VLOOKUP($A19,出場選手エントリー票!$C$5:$AL$124,11+1,0))","v":""},{"$f":"IF($B19=\"\",\"\",VLOOKUP($A19,出場選手エントリー票!$C$5:$AL$124,12+1,0))","v":""},{"$f":"IF($B19=\"\",\"\",VLOOKUP($A19,出場選手エントリー票!$C$5:$AL$124,13+1,0))","v":""},{"$f":"IF($B19=\"\",\"\",VLOOKUP($A19,出場選手エントリー票!$C$5:$AL$124,14+1,0))","v":""},{"$f":"IF($B19=\"\",\"\",IF(VLOOKUP($A19,出場選手エントリー票!$C$5:$AL$124,15+1,0)=\"\",\"\",VLOOKUP($A19,出場選手エントリー票!$C$5:$AL$124,15+1,0)))","v":""},{"$f":"IF($B19=\"\",\"\",IF(VLOOKUP($A19,出場選手エントリー票!$C$5:$AL$124,19+1,0)=\"\",\"\",VLOOKUP($A19,出場選手エントリー票!$C$5:$AL$124,19+1,0)))","v":""},{"$f":"IF($B19=\"\",\"\",IF(VLOOKUP($A19,出場選手エントリー票!$C$5:$AL$124,23+1,0)=\"\",\"\",VLOOKUP($A19,出場選手エントリー票!$C$5:$AL$124,23+1,0)))","v":""},{"$f":"IF($B19=\"\",\"\",IF(VLOOKUP($A19,出場選手エントリー票!$C$5:$AL$124,27+1,0)=\"\",\"\",VLOOKUP($A19,出場選手エントリー票!$C$5:$AL$124,27+1,0)))","v":""},{"$f":"IF($B19=\"\",\"\",IF(VLOOKUP($A19,出場選手エントリー票!$C$5:$AL$124,31+1,0)=\"\",\"\",VLOOKUP($A19,出場選手エントリー票!$C$5:$AL$124,31+1,0)))","v":""},null,23,null,null,null,null,null,null,null,null,"21"]
[19,{"$f":"IF(ISERROR(VLOOKUP($A20,出場選手エントリー票!$C$5:$AL$124,4,0)),\"\",VLOOKUP($A20,出場選手エントリー票!$C$5:$AL$124,4,0))","v":""},{"$f":"IF($B20=\"\",\"\",VLOOKUP($A20,出場選手エントリー票!$C$5:$AL$124,5+1,0))","v":""},{"$f":"IF($B20=\"\",\"\",VLOOKUP($A20,出場選手エントリー票!$C$5:$AL$124,6+1,0))","v":""},{"$f":"IF($B20=\"\",\"\",VLOOKUP($A20,出場選手エントリー票!$C$5:$AL$124,9+1,0))","v":""},{"$f":"IF($B20=\"\",\"\",VLOOKUP($A20,出場選手エントリー票!$C$5:$AL$124,10+1,0))","v":""},{"$f":"IF($B20=\"\",\"\",VLOOKUP($A20,出場選手エントリー票!$C$5:$AL$124,11+1,0))","v":""},{"$f":"IF($B20=\"\",\"\",VLOOKUP($A20,出場選手エントリー票!$C$5:$AL$124,12+1,0))","v":""},{"$f":"IF($B20=\"\",\"\",VLOOKUP($A20,出場選手エントリー票!$C$5:$AL$124,13+1,0))","v":""},{"$f":"IF($B20=\"\",\"\",VLOOKUP($A20,出場選手エントリー票!$C$5:$AL$124,14+1,0))","v":""},{"$f":"IF($B20=\"\",\"\",IF(VLOOKUP($A20,出場選手エントリー票!$C$5:$AL$124,15+1,0)=\"\",\"\",VLOOKUP($A20,出場選手エントリー票!$C$5:$AL$124,15+1,0)))","v":""},{"$f":"IF($B20=\"\",\"\",IF(VLOOKUP($A20,出場選手エントリー票!$C$5:$AL$124,19+1,0)=\"\",\"\",VLOOKUP($A20,出場選手エントリー票!$C$5:$AL$124,19+1,0)))","v":""},{"$f":"IF($B20=\"\",\"\",IF(VLOOKUP($A20,出場選手エントリー票!$C$5:$AL$124,23+1,0)=\"\",\"\",VLOOKUP($A20,出場選手エントリー票!$C$5:$AL$124,23+1,0)))","v":""},{"$f":"IF($B20=\"\",\"\",IF(VLOOKUP($A20,出場選手エントリー票!$C$5:$AL$124,27+1,0)=\"\",\"\",VLOOKUP($A20,出場選手エントリー票!$C$5:$AL$124,27+1,0)))","v":""},{"$f":"IF($B20=\"\",\"\",IF(VLOOKUP($A20,出場選手エントリー票!$C$5:$AL$124,31+1,0)=\"\",\"\",VLOOKUP($A20,出場選手エントリー票!$C$5:$AL$124,31+1,0)))","v":""},null,24,null,null,null,null,null,null,null,null,"22"]
[20,{"$f":"IF(ISERROR(VLOOKUP($A21,出場選手エントリー票!$C$5:$AL$124,4,0)),\"\",VLOOKUP($A21,出場選手エントリー票!$C$5:$AL$124,4,0))","v":""},{"$f":"IF($B21=\"\",\"\",VLOOKUP($A21,出場選手エントリー票!$C$5:$AL$124,5+1,0))","v":""},{"$f":"IF($B21=\"\",\"\",VLOOKUP($A21,出場選手エントリー票!$C$5:$AL$124,6+1,0))","v":""},{"$f":"IF($B21=\"\",\"\",VLOOKUP($A21,出場選手エントリー票!$C$5:$AL$124,9+1,0))","v":""},{"$f":"IF($B21=\"\",\"\",VLOOKUP($A21,出場選手エントリー票!$C$5:$AL$124,10+1,0))","v":""},{"$f":"IF($B21=\"\",\"\",VLOOKUP($A21,出場選手エントリー票!$C$5:$AL$124,11+1,0))","v":""},{"$f":"IF($B21=\"\",\"\",VLOOKUP($A21,出場選手エントリー票!$C$5:$AL$124,12+1,0))","v":""},{"$f":"IF($B21=\"\",\"\",VLOOKUP($A21,出場選手エントリー票!$C$5:$AL$124,13+1,0))","v":""},{"$f":"IF($B21=\"\",\"\",VLOOKUP($A21,出場選手エントリー票!$C$5:$AL$124,14+1,0))","v":""},{"$f":"IF($B21=\"\",\"\",IF(VLOOKUP($A21,出場選手エントリー票!$C$5:$AL$124,15+1,0)=\"\",\"\",VLOOKUP($A21,出場選手エントリー票!$C$5:$AL$124,15+1,0)))","v":""},{"$f":"IF($B21=\"\",\"\",IF(VLOOKUP($A21,出場選手エントリー票!$C$5:$AL$124,19+1,0)=\"\",\"\",VLOOKUP($A21,出場選手エントリー票!$C$5:$AL$124,19+1,0)))","v":""},{"$f":"IF($B21=\"\",\"\",IF(VLOOKUP($A21,出場選手エントリー票!$C$5:$AL$124,23+1,0)=\"\",\"\",VLOOKUP($A21,出場選手エントリー票!$C$5:$AL$124,23+1,0)))","v":""},{"$f":"IF($B21=\"\",\"\",IF(VLOOKUP($A21,出場選手エントリー票!$C$5:$AL$124,27+1,0)=\"\",\"\",VLOOKUP($A21,出場選手エントリー票!$C$5:$AL$124,27+1,0)))","v":""},{"$f":"IF($B21=\"\",\"\",IF(VLOOKUP($A21,出場選手エントリー票!$C$5:$AL$124,31+1,0)=\"\",\"\",VLOOKUP($A21,出場選手エントリー票!$C$5:$AL$124,31+1,0)))","v":""},null,25,null,null,null,null,null,null,null,null,"23"]
[21,{"$f":"IF(ISERROR(VLOOKUP($A22,出場選手エントリー票!$C$5:$AL$124,4,0)),\"\",VLOOKUP($A22,出場選手エントリー票!$C$5:$AL$124,4,0))","v":""},{"$f":"IF($B22=\"\",\"\",VLOOKUP($A22,出場選手エントリー票!$C$5:$AL$124,5+1,0))","v":""},{"$f":"IF($B22=\"\",\"\",VLOOKUP($A22,出場選手エントリー票!$C$5:$AL$124,6+1,0))","v":""},{"$f":"IF($B22=\"\",\"\",VLOOKUP($A22,出場選手エントリー票!$C$5:$AL$124,9+1,0))","v":""},{"$f":"IF($B22=\"\",\"\",VLOOKUP($A22,出場選手エントリー票!$C$5:$AL$124,10+1,0))","v":""},{"$f":"IF($B22=\"\",\"\",VLOOKUP($A22,出場選手エントリー票!$C$5:$AL$124,11+1,0))","v":""},{"$f":"IF($B22=\"\",\"\",VLOOKUP($A22,出場選手エントリー票!$C$5:$AL$124,12+1,0))","v":""},{"$f":"IF($B22=\"\",\"\",VLOOKUP($A22,出場選手エントリー票!$C$5:$AL$124,13+1,0))","v":""},{"$f":"IF($B22=\"\",\"\",VLOOKUP($A22,出場選手エントリー票!$C$5:$AL$124,14+1,0))","v":""},{"$f":"IF($B22=\"\",\"\",IF(VLOOKUP($A22,出場選手エントリー票!$C$5:$AL$124,15+1,0)=\"\",\"\",VLOOKUP($A22,出場選手エントリー票!$C$5:$AL$124,15+1,0)))","v":""},{"$f":"IF($B22=\"\",\"\",IF(VLOOKUP($A22,出場選手エントリー票!$C$5:$AL$124,19+1,0)=\"\",\"\",VLOOKUP($A22,出場選手エントリー票!$C$5:$AL$124,19+1,0)))","v":""},{"$f":"IF($B22=\"\",\"\",IF(VLOOKUP($A22,出場選手エントリー票!$C$5:$AL$124,23+1,0)=\"\",\"\",VLOOKUP($A22,出場選手エントリー票!$C$5:$AL$124,23+1,0)))","v":""},{"$f":"IF($B22=\"\",\"\",IF(VLOOKUP($A22,出場選手エントリー票!$C$5:$AL$124,27+1,0)=\"\",\"\",VLOOKUP($A22,出場選手エントリー票!$C$5:$AL$124,27+1,0)))","v":""},{"$f":"IF($B22=\"\",\"\",IF(VLOOKUP($A22,出場選手エントリー票!$C$5:$AL$124,31+1,0)=\"\",\"\",VLOOKUP($A22,出場選手エントリー票!$C$5:$AL$124,31+1,0)))","v":""},null,null,null,null,null,null,null,null,null,null,"24"]
[22,{"$f":"IF(ISERROR(VLOOKUP($A23,出場選手エントリー票!$C$5:$AL$124,4,0)),\"\",VLOOKUP($A23,出場選手エントリー票!$C$5:$AL$124,4,0))","v":""},{"$f":"IF($B23=\"\",\"\",VLOOKUP($A23,出場選手エントリー票!$C$5:$AL$124,5+1,0))","v":""},{"$f":"IF($B23=\"\",\"\",VLOOKUP($A23,出場選手エントリー票!$C$5:$AL$124,6+1,0))","v":""},{"$f":"IF($B23=\"\",\"\",VLOOKUP($A23,出場選手エントリー票!$C$5:$AL$124,9+1,0))","v":""},{"$f":"IF($B23=\"\",\"\",VLOOKUP($A23,出場選手エントリー票!$C$5:$AL$124,10+1,0))","v":""},{"$f":"IF($B23=\"\",\"\",VLOOKUP($A23,出場選手エントリー票!$C$5:$AL$124,11+1,0))","v":""},{"$f":"IF($B23=\"\",\"\",VLOOKUP($A23,出場選手エントリー票!$C$5:$AL$124,12+1,0))","v":""},{"$f":"IF($B23=\"\",\"\",VLOOKUP($A23,出場選手エントリー票!$C$5:$AL$124,13+1,0))","v":""},{"$f":"IF($B23=\"\",\"\",VLOOKUP($A23,出場選手エントリー票!$C$5:$AL$124,14+1,0))","v":""},{"$f":"IF($B23=\"\",\"\",IF(VLOOKUP($A23,出場選手エントリー票!$C$5:$AL$124,15+1,0)=\"\",\"\",VLOOKUP($A23,出場選手エントリー票!$C$5:$AL$124,15+1,0)))","v":""},{"$f":"IF($B23=\"\",\"\",IF(VLOOKUP($A23,出場選手エントリー票!$C$5:$AL$124,19+1,0)=\"\",\"\",VLOOKUP($A23,出場選手エントリー票!$C$5:$AL$124,19+1,0)))","v":""},{"$f":"IF($B23=\"\",\"\",IF(VLOOKUP($A23,出場選手エントリー票!$C$5:$AL$124,23+1,0)=\"\",\"\",VLOOKUP($A23,出場選手エントリー票!$C$5:$AL$124,23+1,0)))","v":""},{"$f":"IF($B23=\"\",\"\",IF(VLOOKUP($A23,出場選手エントリー票!$C$5:$AL$124,27+1,0)=\"\",\"\",VLOOKUP($A23,出場選手エントリー票!$C$5:$AL$124,27+1,0)))","v":""},{"$f":"IF($B23=\"\",\"\",IF(VLOOKUP($A23,出場選手エントリー票!$C$5:$AL$124,31+1,0)=\"\",\"\",VLOOKUP($A23,出場選手エントリー票!$C$5:$AL$124,31+1,0)))","v":""},null,null,null,null,null,null,null,null,null,null,"25"]
[23,{"$f":"IF(ISERROR(VLOOKUP($A24,出場選手エントリー票!$C$5:$AL$124,4,0)),\"\",VLOOKUP($A24,出場選手エントリー票!$C$5:$AL$124,4,0))","v":""},{"$f":"IF($B24=\"\",\"\",VLOOKUP($A24,出場選手エントリー票!$C$5:$AL$124,5+1,0))","v":""},{"$f":"IF($B24=\"\",\"\",VLOOKUP($A24,出場選手エントリー票!$C$5:$AL$124,6+1,0))","v":""},{"$f":"IF($B24=\"\",\"\",VLOOKUP($A24,出場選手エントリー票!$C$5:$AL$124,9+1,0))","v":""},{"$f":"IF($B24=\"\",\"\",VLOOKUP($A24,出場選手エントリー票!$C$5:$AL$124,10+1,0))","v":""},{"$f":"IF($B24=\"\",\"\",VLOOKUP($A24,出場選手エントリー票!$C$5:$AL$124,11+1,0))","v":""},{"$f":"IF($B24=\"\",\"\",VLOOKUP($A24,出場選手エントリー票!$C$5:$AL$124,12+1,0))","v":""},{"$f":"IF($B24=\"\",\"\",VLOOKUP($A24,出場選手エントリー票!$C$5:$AL$124,13+1,0))","v":""},{"$f":"IF($B24=\"\",\"\",VLOOKUP($A24,出場選手エントリー票!$C$5:$AL$124,14+1,0))","v":""},{"$f":"IF($B24=\"\",\"\",IF(VLOOKUP($A24,出場選手エントリー票!$C$5:$AL$124,15+1,0)=\"\",\"\",VLOOKUP($A24,出場選手エントリー票!$C$5:$AL$124,15+1,0)))","v":""},{"$f":"IF($B24=\"\",\"\",IF(VLOOKUP($A24,出場選手エントリー票!$C$5:$AL$124,19+1,0)=\"\",\"\",VLOOKUP($A24,出場選手エントリー票!$C$5:$AL$124,19+1,0)))","v":""},{"$f":"IF($B24=\"\",\"\",IF(VLOOKUP($A24,出場選手エントリー票!$C$5:$AL$124,23+1,0)=\"\",\"\",VLOOKUP($A24,出場選手エントリー票!$C$5:$AL$124,23+1,0)))","v":""},{"$f":"IF($B24=\"\",\"\",IF(VLOOKUP($A24,出場選手エントリー票!$C$5:$AL$124,27+1,0)=\"\",\"\",VLOOKUP($A24,出場選手エントリー票!$C$5:$AL$124,27+1,0)))","v":""},{"$f":"IF($B24=\"\",\"\",IF(VLOOKUP($A24,出場選手エントリー票!$C$5:$AL$124,31+1,0)=\"\",\"\",VLOOKUP($A24,出場選手エントリー票!$C$5:$AL$124,31+1,0)))","v":""},null,null,null,null,null,null,null,null,null,null,"26"]
[24,{"$f":"IF(ISERROR(VLOOKUP($A25,出場選手エントリー票!$C$5:$AL$124,4,0)),\"\",VLOOKUP($A25,出場選手エントリー票!$C$5:$AL$124,4,0))","v":""},{"$f":"IF($B25=\"\",\"\",VLOOKUP($A25,出場選手エントリー票!$C$5:$AL$124,5+1,0))","v":""},{"$f":"IF($B25=\"\",\"\",VLOOKUP($A25,出場選手エントリー票!$C$5:$AL$124,6+1,0))","v":""},{"$f":"IF($B25=\"\",\"\",VLOOKUP($A25,出場選手エントリー票!$C$5:$AL$124,9+1,0))","v":""},{"$f":"IF($B25=\"\",\"\",VLOOKUP($A25,出場選手エントリー票!$C$5:$AL$124,10+1,0))","v":""},{"$f":"IF($B25=\"\",\"\",VLOOKUP($A25,出場選手エントリー票!$C$5:$AL$124,11+1,0))","v":""},{"$f":"IF($B25=\"\",\"\",VLOOKUP($A25,出場選手エントリー票!$C$5:$AL$124,12+1,0))","v":""},{"$f":"IF($B25=\"\",\"\",VLOOKUP($A25,出場選手エントリー票!$C$5:$AL$124,13+1,0))","v":""},{"$f":"IF($B25=\"\",\"\",VLOOKUP($A25,出場選手エントリー票!$C$5:$AL$124,14+1,0))","v":""},{"$f":"IF($B25=\"\",\"\",IF(VLOOKUP($A25,出場選手エントリー票!$C$5:$AL$124,15+1,0)=\"\",\"\",VLOOKUP($A25,出場選手エントリー票!$C$5:$AL$124,15+1,0)))","v":""},{"$f":"IF($B25=\"\",\"\",IF(VLOOKUP($A25,出場選手エントリー票!$C$5:$AL$124,19+1,0)=\"\",\"\",VLOOKUP($A25,出場選手エントリー票!$C$5:$AL$124,19+1,0)))","v":""},{"$f":"IF($B25=\"\",\"\",IF(VLOOKUP($A25,出場選手エントリー票!$C$5:$AL$124,23+1,0)=\"\",\"\",VLOOKUP($A25,出場選手エントリー票!$C$5:$AL$124,23+1,0)))","v":""},{"$f":"IF($B25=\"\",\"\",IF(VLOOKUP($A25,出場選手エントリー票!$C$5:$AL$124,27+1,0)=\"\",\"\",VLOOKUP($A25,出場選手エントリー票!$C$5:$AL$124,27+1,0)))","v":""},{"$f":"IF($B25=\"\",\"\",IF(VLOOKUP($A25,出場選手エントリー票!$C$5:$AL$124,31+1,0)=\"\",\"\",VLOOKUP($A25,出場選手エントリー票!$C$5:$AL$124,31+1,0)))","v":""},null,null,null,null,null,null,null,null,null,null,"27"]
[25,{"$f":"IF(ISERROR(VLOOKUP($A26,出場選手エントリー票!$C$5:$AL$124,4,0)),\"\",VLOOKUP($A26,出場選手エントリー票!$C$5:$AL$124,4,0))","v":""},{"$f":"IF($B26=\"\",\"\",VLOOKUP($A26,出場選手エントリー票!$C$5:$AL$124,5+1,0))","v":""},{"$f":"IF($B26=\"\",\"\",VLOOKUP($A26,出場選手エントリー票!$C$5:$AL$124,6+1,0))","v":""},{"$f":"IF($B26=\"\",\"\",VLOOKUP($A26,出場選手エントリー票!$C$5:$AL$124,9+1,0))","v":""},{"$f":"IF($B26=\"\",\"\",VLOOKUP($A26,出場選手エントリー票!$C$5:$AL$124,10+1,0))","v":""},{"$f":"IF($B26=\"\",\"\",VLOOKUP($A26,出場選手エントリー票!$C$5:$AL$124,11+1,0))","v":""},{"$f":"IF($B26=\"\",\"\",VLOOKUP($A26,出場選手エントリー票!$C$5:$AL$124,12+1,0))","v":""},{"$f":"IF($B26=\"\",\"\",VLOOKUP($A26,出場選手エントリー票!$C$5:$AL$124,13+1,0))","v":""},{"$f":"IF($B26=\"\",\"\",VLOOKUP($A26,出場選手エントリー票!$C$5:$AL$124,14+1,0))","v":""},{"$f":"IF($B26=\"\",\"\",IF(VLOOKUP($A26,出場選手エントリー票!$C$5:$AL$124,15+1,0)=\"\",\"\",VLOOKUP($A26,出場選手エントリー票!$C$5:$AL$124,15+1,0)))","v":""},{"$f":"IF($B26=\"\",\"\",IF(VLOOKUP($A26,出場選手エントリー票!$C$5:$AL$124,19+1,0)=\"\",\"\",VLOOKUP($A26,出場選手エントリー票!$C$5:$AL$124,19+1,0)))","v":""},{"$f":"IF($B26=\"\",\"\",IF(VLOOKUP($A26,出場選手エントリー票!$C$5:$AL$124,23+1,0)=\"\",\"\",VLOOKUP($A26,出場選手エントリー票!$C$5:$AL$124,23+1,0)))","v":""},{"$f":"IF($B26=\"\",\"\",IF(VLOOKUP($A26,出場選手エントリー票!$C$5:$AL$124,27+1,0)=\"\",\"\",VLOOKUP($A26,出場選手エントリー票!$C$5:$AL$124,27+1,0)))","v":""},{"$f":"IF($B26=\"\",\"\",IF(VLOOKUP($A26,出場選手エントリー票!$C$5:$AL$124,31+1,0)=\"\",\"\",VLOOKUP($A26,出場選手エントリー票!$C$5:$AL$124,31+1,0)))","v":""},null,null,null,null,null,null,null,null,null,null,"28"]
[26,{"$f":"IF(ISERROR(VLOOKUP($A27,出場選手エントリー票!$C$5:$AL$124,4,0)),\"\",VLOOKUP($A27,出場選手エントリー票!$C$5:$AL$124,4,0))","v":""},{"$f":"IF($B27=\"\",\"\",VLOOKUP($A27,出場選手エントリー票!$C$5:$AL$124,5+1,0))","v":""},{"$f":"IF($B27=\"\",\"\",VLOOKUP($A27,出場選手エントリー票!$C$5:$AL$124,6+1,0))","v":""},{"$f":"IF($B27=\"\",\"\",VLOOKUP($A27,出場選手エントリー票!$C$5:$AL$124,9+1,0))","v":""},{"$f":"IF($B27=\"\",\"\",VLOOKUP($A27,出場選手エントリー票!$C$5:$AL$124,10+1,0))","v":""},{"$f":"IF($B27=\"\",\"\",VLOOKUP($A27,出場選手エントリー票!$C$5:$AL$124,11+1,0))","v":""},{"$f":"IF($B27=\"\",\"\",VLOOKUP($A27,出場選手エントリー票!$C$5:$AL$124,12+1,0))","v":""},{"$f":"IF($B27=\"\",\"\",VLOOKUP($A27,出場選手エントリー票!$C$5:$AL$124,13+1,0))","v":""},{"$f":"IF($B27=\"\",\"\",VLOOKUP($A27,出場選手エントリー票!$C$5:$AL$124,14+1,0))","v":""},{"$f":"IF($B27=\"\",\"\",IF(VLOOKUP($A27,出場選手エントリー票!$C$5:$AL$124,15+1,0)=\"\",\"\",VLOOKUP($A27,出場選手エントリー票!$C$5:$AL$124,15+1,0)))","v":""},{"$f":"IF($B27=\"\",\"\",IF(VLOOKUP($A27,出場選手エントリー票!$C$5:$AL$124,19+1,0)=\"\",\"\",VLOOKUP($A27,出場選手エントリー票!$C$5:$AL$124,19+1,0)))","v":""},{"$f":"IF($B27=\"\",\"\",IF(VLOOKUP($A27,出場選手エントリー票!$C$5:$AL$124,23+1,0)=\"\",\"\",VLOOKUP($A27,出場選手エントリー票!$C$5:$AL$124,23+1,0)))","v":""},{"$f":"IF($B27=\"\",\"\",IF(VLOOKUP($A27,出場選手エントリー票!$C$5:$AL$124,27+1,0)=\"\",\"\",VLOOKUP($A27,出場選手エントリー票!$C$5:$AL$124,27+1,0)))","v":""},{"$f":"IF($B27=\"\",\"\",IF(VLOOKUP($A27,出場選手エントリー票!$C$5:$AL$124,31+1,0)=\"\",\"\",VLOOKUP($A27,出場選手エントリー票!$C$5:$AL$124,31+1,0)))","v":""},null,null,null,null,null,null,null,null,null,null,"29"]
[27,{"$f":"IF(ISERROR(VLOOKUP($A28,出場選手エントリー票!$C$5:$AL$124,4,0)),\"\",VLOOKUP($A28,出場選手エントリー票!$C$5:$AL$124,4,0))","v":""},{"$f":"IF($B28=\"\",\"\",VLOOKUP($A28,出場選手エントリー票!$C$5:$AL$124,5+1,0))","v":""},{"$f":"IF($B28=\"\",\"\",VLOOKUP($A28,出場選手エントリー票!$C$5:$AL$124,6+1,0))","v":""},{"$f":"IF($B28=\"\",\"\",VLOOKUP($A28,出場選手エントリー票!$C$5:$AL$124,9+1,0))","v":""},{"$f":"IF($B28=\"\",\"\",VLOOKUP($A28,出場選手エントリー票!$C$5:$AL$124,10+1,0))","v":""},{"$f":"IF($B28=\"\",\"\",VLOOKUP($A28,出場選手エントリー票!$C$5:$AL$124,11+1,0))","v":""},{"$f":"IF($B28=\"\",\"\",VLOOKUP($A28,出場選手エントリー票!$C$5:$AL$124,12+1,0))","v":""},{"$f":"IF($B28=\"\",\"\",VLOOKUP($A28,出場選手エントリー票!$C$5:$AL$124,13+1,0))","v":""},{"$f":"IF($B28=\"\",\"\",VLOOKUP($A28,出場選手エントリー票!$C$5:$AL$124,14+1,0))","v":""},{"$f":"IF($B28=\"\",\"\",IF(VLOOKUP($A28,出場選手エントリー票!$C$5:$AL$124,15+1,0)=\"\",\"\",VLOOKUP($A28,出場選手エントリー票!$C$5:$AL$124,15+1,0)))","v":""},{"$f":"IF($B28=\"\",\"\",IF(VLOOKUP($A28,出場選手エントリー票!$C$5:$AL$124,19+1,0)=\"\",\"\",VLOOKUP($A28,出場選手エントリー票!$C$5:$AL$124,19+1,0)))","v":""},{"$f":"IF($B28=\"\",\"\",IF(VLOOKUP($A28,出場選手エントリー票!$C$5:$AL$124,23+1,0)=\"\",\"\",VLOOKUP($A28,出場選手エントリー票!$C$5:$AL$124,23+1,0)))","v":""},{"$f":"IF($B28=\"\",\"\",IF(VLOOKUP($A28,出場選手エントリー票!$C$5:$AL$124,27+1,0)=\"\",\"\",VLOOKUP($A28,出場選手エントリー票!$C$5:$AL$124,27+1,0)))","v":""},{"$f":"IF($B28=\"\",\"\",IF(VLOOKUP($A28,出場選手エントリー票!$C$5:$AL$124,31+1,0)=\"\",\"\",VLOOKUP($A28,出場選手エントリー票!$C$5:$AL$124,31+1,0)))","v":""},null,null,null,null,null,null,null,null,null,null,"30"]
[28,{"$f":"IF(ISERROR(VLOOKUP($A29,出場選手エントリー票!$C$5:$AL$124,4,0)),\"\",VLOOKUP($A29,出場選手エントリー票!$C$5:$AL$124,4,0))","v":""},{"$f":"IF($B29=\"\",\"\",VLOOKUP($A29,出場選手エントリー票!$C$5:$AL$124,5+1,0))","v":""},{"$f":"IF($B29=\"\",\"\",VLOOKUP($A29,出場選手エントリー票!$C$5:$AL$124,6+1,0))","v":""},{"$f":"IF($B29=\"\",\"\",VLOOKUP($A29,出場選手エントリー票!$C$5:$AL$124,9+1,0))","v":""},{"$f":"IF($B29=\"\",\"\",VLOOKUP($A29,出場選手エントリー票!$C$5:$AL$124,10+1,0))","v":""},{"$f":"IF($B29=\"\",\"\",VLOOKUP($A29,出場選手エントリー票!$C$5:$AL$124,11+1,0))","v":""},{"$f":"IF($B29=\"\",\"\",VLOOKUP($A29,出場選手エントリー票!$C$5:$AL$124,12+1,0))","v":""},{"$f":"IF($B29=\"\",\"\",VLOOKUP($A29,出場選手エントリー票!$C$5:$AL$124,13+1,0))","v":""},{"$f":"IF($B29=\"\",\"\",VLOOKUP($A29,出場選手エントリー票!$C$5:$AL$124,14+1,0))","v":""},{"$f":"IF($B29=\"\",\"\",IF(VLOOKUP($A29,出場選手エントリー票!$C$5:$AL$124,15+1,0)=\"\",\"\",VLOOKUP($A29,出場選手エントリー票!$C$5:$AL$124,15+1,0)))","v":""},{"$f":"IF($B29=\"\",\"\",IF(VLOOKUP($A29,出場選手エントリー票!$C$5:$AL$124,19+1,0)=\"\",\"\",VLOOKUP($A29,出場選手エントリー票!$C$5:$AL$124,19+1,0)))","v":""},{"$f":"IF($B29=\"\",\"\",IF(VLOOKUP($A29,出場選手エントリー票!$C$5:$AL$124,23+1,0)=\"\",\"\",VLOOKUP($A29,出場選手エントリー票!$C$5:$AL$124,23+1,0)))","v":""},{"$f":"IF($B29=\"\",\"\",IF(VLOOKUP($A29,出場選手エントリー票!$C$5:$AL$124,27+1,0)=\"\",\"\",VLOOKUP($A29,出場選手エントリー票!$C$5:$AL$124,27+1,0)))","v":""},{"$f":"IF($B29=\"\",\"\",IF(VLOOKUP($A29,出場選手エントリー票!$C$5:$AL$124,31+1,0)=\"\",\"\",VLOOKUP($A29,出場選手エントリー票!$C$5:$AL$124,31+1,0)))","v":""},null,null,null,null,null,null,null,null,null,null,"31"]
[29,{"$f":"IF(ISERROR(VLOOKUP($A30,出場選手エントリー票!$C$5:$AL$124,4,0)),\"\",VLOOKUP($A30,出場選手エントリー票!$C$5:$AL$124,4,0))","v":""},{"$f":"IF($B30=\"\",\"\",VLOOKUP($A30,出場選手エントリー票!$C$5:$AL$124,5+1,0))","v":""},{"$f":"IF($B30=\"\",\"\",VLOOKUP($A30,出場選手エントリー票!$C$5:$AL$124,6+1,0))","v":""},{"$f":"IF($B30=\"\",\"\",VLOOKUP($A30,出場選手エントリー票!$C$5:$AL$124,9+1,0))","v":""},{"$f":"IF($B30=\"\",\"\",VLOOKUP($A30,出場選手エントリー票!$C$5:$AL$124,10+1,0))","v":""},{"$f":"IF($B30=\"\",\"\",VLOOKUP($A30,出場選手エントリー票!$C$5:$AL$124,11+1,0))","v":""},{"$f":"IF($B30=\"\",\"\",VLOOKUP($A30,出場選手エントリー票!$C$5:$AL$124,12+1,0))","v":""},{"$f":"IF($B30=\"\",\"\",VLOOKUP($A30,出場選手エントリー票!$C$5:$AL$124,13+1,0))","v":""},{"$f":"IF($B30=\"\",\"\",VLOOKUP($A30,出場選手エントリー票!$C$5:$AL$124,14+1,0))","v":""},{"$f":"IF($B30=\"\",\"\",IF(VLOOKUP($A30,出場選手エントリー票!$C$5:$AL$124,15+1,0)=\"\",\"\",VLOOKUP($A30,出場選手エントリー票!$C$5:$AL$124,15+1,0)))","v":""},{"$f":"IF($B30=\"\",\"\",IF(VLOOKUP($A30,出場選手エントリー票!$C$5:$AL$124,19+1,0)=\"\",\"\",VLOOKUP($A30,出場選手エントリー票!$C$5:$AL$124,19+1,0)))","v":""},{"$f":"IF($B30=\"\",\"\",IF(VLOOKUP($A30,出場選手エントリー票!$C$5:$AL$124,23+1,0)=\"\",\"\",VLOOKUP($A30,出場選手エントリー票!$C$5:$AL$124,23+1,0)))","v":""},{"$f":"IF($B30=\"\",\"\",IF(VLOOKUP($A30,出場選手エントリー票!$C$5:$AL$124,27+1,0)=\"\",\"\",VLOOKUP($A30,出場選手エントリー票!$C$5:$AL$124,27+1,0)))","v":""},{"$f":"IF($B30=\"\",\"\",IF(VLOOKUP($A30,出場選手エントリー票!$C$5:$AL$124,31+1,0)=\"\",\"\",VLOOKUP($A30,出場選手エントリー票!$C$5:$AL$124,31+1,0)))","v":""},null,null,null,null,null,null,null,null,null,null,"32"]
[30,{"$f":"IF(ISERROR(VLOOKUP($A31,出場選手エントリー票!$C$5:$AL$124,4,0)),\"\",VLOOKUP($A31,出場選手エントリー票!$C$5:$AL$124,4,0))","v":""},{"$f":"IF($B31=\"\",\"\",VLOOKUP($A31,出場選手エントリー票!$C$5:$AL$124,5+1,0))","v":""},{"$f":"IF($B31=\"\",\"\",VLOOKUP($A31,出場選手エントリー票!$C$5:$AL$124,6+1,0))","v":""},{"$f":"IF($B31=\"\",\"\",VLOOKUP($A31,出場選手エントリー票!$C$5:$AL$124,9+1,0))","v":""},{"$f":"IF($B31=\"\",\"\",VLOOKUP($A31,出場選手エントリー票!$C$5:$AL$124,10+1,0))","v":""},{"$f":"IF($B31=\"\",\"\",VLOOKUP($A31,出場選手エントリー票!$C$5:$AL$124,11+1,0))","v":""},{"$f":"IF($B31=\"\",\"\",VLOOKUP($A31,出場選手エントリー票!$C$5:$AL$124,12+1,0))","v":""},{"$f":"IF($B31=\"\",\"\",VLOOKUP($A31,出場選手エントリー票!$C$5:$AL$124,13+1,0))","v":""},{"$f":"IF($B31=\"\",\"\",VLOOKUP($A31,出場選手エントリー票!$C$5:$AL$124,14+1,0))","v":""},{"$f":"IF($B31=\"\",\"\",IF(VLOOKUP($A31,出場選手エントリー票!$C$5:$AL$124,15+1,0)=\"\",\"\",VLOOKUP($A31,出場選手エントリー票!$C$5:$AL$124,15+1,0)))","v":""},{"$f":"IF($B31=\"\",\"\",IF(VLOOKUP($A31,出場選手エントリー票!$C$5:$AL$124,19+1,0)=\"\",\"\",VLOOKUP($A31,出場選手エントリー票!$C$5:$AL$124,19+1,0)))","v":""},{"$f":"IF($B31=\"\",\"\",IF(VLOOKUP($A31,出場選手エントリー票!$C$5:$AL$124,23+1,0)=\"\",\"\",VLOOKUP($A31,出場選手エントリー票!$C$5:$AL$124,23+1,0)))","v":""},{"$f":"IF($B31=\"\",\"\",IF(VLOOKUP($A31,出場選手エントリー票!$C$5:$AL$124,27+1,0)=\"\",\"\",VLOOKUP($A31,出場選手エントリー票!$C$5:$AL$124,27+1,0)))","v":""},{"$f":"IF($B31=\"\",\"\",IF(VLOOKUP($A31,出場選手エントリー票!$C$5:$AL$124,31+1,0)=\"\",\"\",VLOOKUP($A31,出場選手エントリー票!$C$5:$AL$124,31+1,0)))","v":""},null,null,null,null,null,null,null,null,null,null,"33"]
[31,{"$f":"IF(ISERROR(VLOOKUP($A32,出場選手エントリー票!$C$5:$AL$124,4,0)),\"\",VLOOKUP($A32,出場選手エントリー票!$C$5:$AL$124,4,0))","v":""},{"$f":"IF($B32=\"\",\"\",VLOOKUP($A32,出場選手エントリー票!$C$5:$AL$124,5+1,0))","v":""},{"$f":"IF($B32=\"\",\"\",VLOOKUP($A32,出場選手エントリー票!$C$5:$AL$124,6+1,0))","v":""},{"$f":"IF($B32=\"\",\"\",VLOOKUP($A32,出場選手エントリー票!$C$5:$AL$124,9+1,0))","v":""},{"$f":"IF($B32=\"\",\"\",VLOOKUP($A32,出場選手エントリー票!$C$5:$AL$124,10+1,0))","v":""},{"$f":"IF($B32=\"\",\"\",VLOOKUP($A32,出場選手エントリー票!$C$5:$AL$124,11+1,0))","v":""},{"$f":"IF($B32=\"\",\"\",VLOOKUP($A32,出場選手エントリー票!$C$5:$AL$124,12+1,0))","v":""},{"$f":"IF($B32=\"\",\"\",VLOOKUP($A32,出場選手エントリー票!$C$5:$AL$124,13+1,0))","v":""},{"$f":"IF($B32=\"\",\"\",VLOOKUP($A32,出場選手エントリー票!$C$5:$AL$124,14+1,0))","v":""},{"$f":"IF($B32=\"\",\"\",IF(VLOOKUP($A32,出場選手エントリー票!$C$5:$AL$124,15+1,0)=\"\",\"\",VLOOKUP($A32,出場選手エントリー票!$C$5:$AL$124,15+1,0)))","v":""},{"$f":"IF($B32=\"\",\"\",IF(VLOOKUP($A32,出場選手エントリー票!$C$5:$AL$124,19+1,0)=\"\",\"\",VLOOKUP($A32,出場選手エントリー票!$C$5:$AL$124,19+1,0)))","v":""},{"$f":"IF($B32=\"\",\"\",IF(VLOOKUP($A32,出場選手エントリー票!$C$5:$AL$124,23+1,0)=\"\",\"\",VLOOKUP($A32,出場選手エントリー票!$C$5:$AL$124,23+1,0)))","v":""},{"$f":"IF($B32=\"\",\"\",IF(VLOOKUP($A32,出場選手エントリー票!$C$5:$AL$124,27+1,0)=\"\",\"\",VLOOKUP($A32,出場選手エントリー票!$C$5:$AL$124,27+1,0)))","v":""},{"$f":"IF($B32=\"\",\"\",IF(VLOOKUP($A32,出場選手エントリー票!$C$5:$AL$124,31+1,0)=\"\",\"\",VLOOKUP($A32,出場選手エントリー票!$C$5:$AL$124,31+1,0)))","v":""},null,null,null,null,null,null,null,null,null,null,"34"]
[32,{"$f":"IF(ISERROR(VLOOKUP($A33,出場選手エントリー票!$C$5:$AL$124,4,0)),\"\",VLOOKUP($A33,出場選手エントリー票!$C$5:$AL$124,4,0))","v":""},{"$f":"IF($B33=\"\",\"\",VLOOKUP($A33,出場選手エントリー票!$C$5:$AL$124,5+1,0))","v":""},{"$f":"IF($B33=\"\",\"\",VLOOKUP($A33,出場選手エントリー票!$C$5:$AL$124,6+1,0))","v":""},{"$f":"IF($B33=\"\",\"\",VLOOKUP($A33,出場選手エントリー票!$C$5:$AL$124,9+1,0))","v":""},{"$f":"IF($B33=\"\",\"\",VLOOKUP($A33,出場選手エントリー票!$C$5:$AL$124,10+1,0))","v":""},{"$f":"IF($B33=\"\",\"\",VLOOKUP($A33,出場選手エントリー票!$C$5:$AL$124,11+1,0))","v":""},{"$f":"IF($B33=\"\",\"\",VLOOKUP($A33,出場選手エントリー票!$C$5:$AL$124,12+1,0))","v":""},{"$f":"IF($B33=\"\",\"\",VLOOKUP($A33,出場選手エントリー票!$C$5:$AL$124,13+1,0))","v":""},{"$f":"IF($B33=\"\",\"\",VLOOKUP($A33,出場選手エントリー票!$C$5:$AL$124,14+1,0))","v":""},{"$f":"IF($B33=\"\",\"\",IF(VLOOKUP($A33,出場選手エントリー票!$C$5:$AL$124,15+1,0)=\"\",\"\",VLOOKUP($A33,出場選手エントリー票!$C$5:$AL$124,15+1,0)))","v":""},{"$f":"IF($B33=\"\",\"\",IF(VLOOKUP($A33,出場選手エントリー票!$C$5:$AL$124,19+1,0)=\"\",\"\",VLOOKUP($A33,出場選手エントリー票!$C$5:$AL$124,19+1,0)))","v":""},{"$f":"IF($B33=\"\",\"\",IF(VLOOKUP($A33,出場選手エントリー票!$C$5:$AL$124,23+1,0)=\"\",\"\",VLOOKUP($A33,出場選手エントリー票!$C$5:$AL$124,23+1,0)))","v":""},{"$f":"IF($B33=\"\",\"\",IF(VLOOKUP($A33,出場選手エントリー票!$C$5:$AL$124,27+1,0)=\"\",\"\",VLOOKUP($A33,出場選手エントリー票!$C$5:$AL$124,27+1,0)))","v":""},{"$f":"IF($B33=\"\",\"\",IF(VLOOKUP($A33,出場選手エントリー票!$C$5:$AL$124,31+1,0)=\"\",\"\",VLOOKUP($A33,出場選手エントリー票!$C$5:$AL$124,31+1,0)))","v":""},null,null,null,null,null,null,null,null,null,null,"35"]
[33,{"$f":"IF(ISERROR(VLOOKUP($A34,出場選手エントリー票!$C$5:$AL$124,4,0)),\"\",VLOOKUP($A34,出場選手エントリー票!$C$5:$AL$124,4,0))","v":""},{"$f":"IF($B34=\"\",\"\",VLOOKUP($A34,出場選手エントリー票!$C$5:$AL$124,5+1,0))","v":""},{"$f":"IF($B34=\"\",\"\",VLOOKUP($A34,出場選手エントリー票!$C$5:$AL$124,6+1,0))","v":""},{"$f":"IF($B34=\"\",\"\",VLOOKUP($A34,出場選手エントリー票!$C$5:$AL$124,9+1,0))","v":""},{"$f":"IF($B34=\"\",\"\",VLOOKUP($A34,出場選手エントリー票!$C$5:$AL$124,10+1,0))","v":""},{"$f":"IF($B34=\"\",\"\",VLOOKUP($A34,出場選手エントリー票!$C$5:$AL$124,11+1,0))","v":""},{"$f":"IF($B34=\"\",\"\",VLOOKUP($A34,出場選手エントリー票!$C$5:$AL$124,12+1,0))","v":""},{"$f":"IF($B34=\"\",\"\",VLOOKUP($A34,出場選手エントリー票!$C$5:$AL$124,13+1,0))","v":""},{"$f":"IF($B34=\"\",\"\",VLOOKUP($A34,出場選手エントリー票!$C$5:$AL$124,14+1,0))","v":""},{"$f":"IF($B34=\"\",\"\",IF(VLOOKUP($A34,出場選手エントリー票!$C$5:$AL$124,15+1,0)=\"\",\"\",VLOOKUP($A34,出場選手エントリー票!$C$5:$AL$124,15+1,0)))","v":""},{"$f":"IF($B34=\"\",\"\",IF(VLOOKUP($A34,出場選手エントリー票!$C$5:$AL$124,19+1,0)=\"\",\"\",VLOOKUP($A34,出場選手エントリー票!$C$5:$AL$124,19+1,0)))","v":""},{"$f":"IF($B34=\"\",\"\",IF(VLOOKUP($A34,出場選手エントリー票!$C$5:$AL$124,23+1,0)=\"\",\"\",VLOOKUP($A34,出場選手エントリー票!$C$5:$AL$124,23+1,0)))","v":""},{"$f":"IF($B34=\"\",\"\",IF(VLOOKUP($A34,出場選手エントリー票!$C$5:$AL$124,27+1,0)=\"\",\"\",VLOOKUP($A34,出場選手エントリー票!$C$5:$AL$124,27+1,0)))","v":""},{"$f":"IF($B34=\"\",\"\",IF(VLOOKUP($A34,出場選手エントリー票!$C$5:$AL$124,31+1,0)=\"\",\"\",VLOOKUP($A34,出場選手エントリー票!$C$5:$AL$124,31+1,0)))","v":""},null,null,null,null,null,null,null,null,null,null,"36"]
[34,{"$f":"IF(ISERROR(VLOOKUP($A35,出場選手エントリー票!$C$5:$AL$124,4,0)),\"\",VLOOKUP($A35,出場選手エントリー票!$C$5:$AL$124,4,0))","v":""},{"$f":"IF($B35=\"\",\"\",VLOOKUP($A35,出場選手エントリー票!$C$5:$AL$124,5+1,0))","v":""},{"$f":"IF($B35=\"\",\"\",VLOOKUP($A35,出場選手エントリー票!$C$5:$AL$124,6+1,0))","v":""},{"$f":"IF($B35=\"\",\"\",VLOOKUP($A35,出場選手エントリー票!$C$5:$AL$124,9+1,0))","v":""},{"$f":"IF($B35=\"\",\"\",VLOOKUP($A35,出場選手エントリー票!$C$5:$AL$124,10+1,0))","v":""},{"$f":"IF($B35=\"\",\"\",VLOOKUP($A35,出場選手エントリー票!$C$5:$AL$124,11+1,0))","v":""},{"$f":"IF($B35=\"\",\"\",VLOOKUP($A35,出場選手エントリー票!$C$5:$AL$124,12+1,0))","v":""},{"$f":"IF($B35=\"\",\"\",VLOOKUP($A35,出場選手エントリー票!$C$5:$AL$124,13+1,0))","v":""},{"$f":"IF($B35=\"\",\"\",VLOOKUP($A35,出場選手エントリー票!$C$5:$AL$124,14+1,0))","v":""},{"$f":"IF($B35=\"\",\"\",IF(VLOOKUP($A35,出場選手エントリー票!$C$5:$AL$124,15+1,0)=\"\",\"\",VLOOKUP($A35,出場選手エントリー票!$C$5:$AL$124,15+1,0)))","v":""},{"$f":"IF($B35=\"\",\"\",IF(VLOOKUP($A35,出場選手エントリー票!$C$5:$AL$124,19+1,0)=\"\",\"\",VLOOKUP($A35,出場選手エントリー票!$C$5:$AL$124,19+1,0)))","v":""},{"$f":"IF($B35=\"\",\"\",IF(VLOOKUP($A35,出場選手エントリー票!$C$5:$AL$124,23+1,0)=\"\",\"\",VLOOKUP($A35,出場選手エントリー票!$C$5:$AL$124,23+1,0)))","v":""},{"$f":"IF($B35=\"\",\"\",IF(VLOOKUP($A35,出場選手エントリー票!$C$5:$AL$124,27+1,0)=\"\",\"\",VLOOKUP($A35,出場選手エントリー票!$C$5:$AL$124,27+1,0)))","v":""},{"$f":"IF($B35=\"\",\"\",IF(VLOOKUP($A35,出場選手エントリー票!$C$5:$AL$124,31+1,0)=\"\",\"\",VLOOKUP($A35,出場選手エントリー票!$C$5:$AL$124,31+1,0)))","v":""},null,null,null,null,null,null,null,null,null,null,"37"]
[35,{"$f":"IF(ISERROR(VLOOKUP($A36,出場選手エントリー票!$C$5:$AL$124,4,0)),\"\",VLOOKUP($A36,出場選手エントリー票!$C$5:$AL$124,4,0))","v":""},{"$f":"IF($B36=\"\",\"\",VLOOKUP($A36,出場選手エントリー票!$C$5:$AL$124,5+1,0))","v":""},{"$f":"IF($B36=\"\",\"\",VLOOKUP($A36,出場選手エントリー票!$C$5:$AL$124,6+1,0))","v":""},{"$f":"IF($B36=\"\",\"\",VLOOKUP($A36,出場選手エントリー票!$C$5:$AL$124,9+1,0))","v":""},{"$f":"IF($B36=\"\",\"\",VLOOKUP($A36,出場選手エントリー票!$C$5:$AL$124,10+1,0))","v":""},{"$f":"IF($B36=\"\",\"\",VLOOKUP($A36,出場選手エントリー票!$C$5:$AL$124,11+1,0))","v":""},{"$f":"IF($B36=\"\",\"\",VLOOKUP($A36,出場選手エントリー票!$C$5:$AL$124,12+1,0))","v":""},{"$f":"IF($B36=\"\",\"\",VLOOKUP($A36,出場選手エントリー票!$C$5:$AL$124,13+1,0))","v":""},{"$f":"IF($B36=\"\",\"\",VLOOKUP($A36,出場選手エントリー票!$C$5:$AL$124,14+1,0))","v":""},{"$f":"IF($B36=\"\",\"\",IF(VLOOKUP($A36,出場選手エントリー票!$C$5:$AL$124,15+1,0)=\"\",\"\",VLOOKUP($A36,出場選手エントリー票!$C$5:$AL$124,15+1,0)))","v":""},{"$f":"IF($B36=\"\",\"\",IF(VLOOKUP($A36,出場選手エントリー票!$C$5:$AL$124,19+1,0)=\"\",\"\",VLOOKUP($A36,出場選手エントリー票!$C$5:$AL$124,19+1,0)))","v":""},{"$f":"IF($B36=\"\",\"\",IF(VLOOKUP($A36,出場選手エントリー票!$C$5:$AL$124,23+1,0)=\"\",\"\",VLOOKUP($A36,出場選手エントリー票!$C$5:$AL$124,23+1,0)))","v":""},{"$f":"IF($B36=\"\",\"\",IF(VLOOKUP($A36,出場選手エントリー票!$C$5:$AL$124,27+1,0)=\"\",\"\",VLOOKUP($A36,出場選手エントリー票!$C$5:$AL$124,27+1,0)))","v":""},{"$f":"IF($B36=\"\",\"\",IF(VLOOKUP($A36,出場選手エントリー票!$C$5:$AL$124,31+1,0)=\"\",\"\",VLOOKUP($A36,出場選手エントリー票!$C$5:$AL$124,31+1,0)))","v":""},null,null,null,null,null,null,null,null,null,null,"38"]
[36,{"$f":"IF(ISERROR(VLOOKUP($A37,出場選手エントリー票!$C$5:$AL$124,4,0)),\"\",VLOOKUP($A37,出場選手エントリー票!$C$5:$AL$124,4,0))","v":""},{"$f":"IF($B37=\"\",\"\",VLOOKUP($A37,出場選手エントリー票!$C$5:$AL$124,5+1,0))","v":""},{"$f":"IF($B37=\"\",\"\",VLOOKUP($A37,出場選手エントリー票!$C$5:$AL$124,6+1,0))","v":""},{"$f":"IF($B37=\"\",\"\",VLOOKUP($A37,出場選手エントリー票!$C$5:$AL$124,9+1,0))","v":""},{"$f":"IF($B37=\"\",\"\",VLOOKUP($A37,出場選手エントリー票!$C$5:$AL$124,10+1,0))","v":""},{"$f":"IF($B37=\"\",\"\",VLOOKUP($A37,出場選手エントリー票!$C$5:$AL$124,11+1,0))","v":""},{"$f":"IF($B37=\"\",\"\",VLOOKUP($A37,出場選手エントリー票!$C$5:$AL$124,12+1,0))","v":""},{"$f":"IF($B37=\"\",\"\",VLOOKUP($A37,出場選手エントリー票!$C$5:$AL$124,13+1,0))","v":""},{"$f":"IF($B37=\"\",\"\",VLOOKUP($A37,出場選手エントリー票!$C$5:$AL$124,14+1,0))","v":""},{"$f":"IF($B37=\"\",\"\",IF(VLOOKUP($A37,出場選手エントリー票!$C$5:$AL$124,15+1,0)=\"\",\"\",VLOOKUP($A37,出場選手エントリー票!$C$5:$AL$124,15+1,0)))","v":""},{"$f":"IF($B37=\"\",\"\",IF(VLOOKUP($A37,出場選手エントリー票!$C$5:$AL$124,19+1,0)=\"\",\"\",VLOOKUP($A37,出場選手エントリー票!$C$5:$AL$124,19+1,0)))","v":""},{"$f":"IF($B37=\"\",\"\",IF(VLOOKUP($A37,出場選手エントリー票!$C$5:$AL$124,23+1,0)=\"\",\"\",VLOOKUP($A37,出場選手エントリー票!$C$5:$AL$124,23+1,0)))","v":""},{"$f":"IF($B37=\"\",\"\",IF(VLOOKUP($A37,出場選手エントリー票!$C$5:$AL$124,27+1,0)=\"\",\"\",VLOOKUP($A37,出場選手エントリー票!$C$5:$AL$124,27+1,0)))","v":""},{"$f":"IF($B37=\"\",\"\",IF(VLOOKUP($A37,出場選手エントリー票!$C$5:$AL$124,31+1,0)=\"\",\"\",VLOOKUP($A37,出場選手エントリー票!$C$5:$AL$124,31+1,0)))","v":""},null,null,null,null,null,null,null,null,null,null,"39"]
[37,{"$f":"IF(ISERROR(VLOOKUP($A38,出場選手エントリー票!$C$5:$AL$124,4,0)),\"\",VLOOKUP($A38,出場選手エントリー票!$C$5:$AL$124,4,0))","v":""},{"$f":"IF($B38=\"\",\"\",VLOOKUP($A38,出場選手エントリー票!$C$5:$AL$124,5+1,0))","v":""},{"$f":"IF($B38=\"\",\"\",VLOOKUP($A38,出場選手エントリー票!$C$5:$AL$124,6+1,0))","v":""},{"$f":"IF($B38=\"\",\"\",VLOOKUP($A38,出場選手エントリー票!$C$5:$AL$124,9+1,0))","v":""},{"$f":"IF($B38=\"\",\"\",VLOOKUP($A38,出場選手エントリー票!$C$5:$AL$124,10+1,0))","v":""},{"$f":"IF($B38=\"\",\"\",VLOOKUP($A38,出場選手エントリー票!$C$5:$AL$124,11+1,0))","v":""},{"$f":"IF($B38=\"\",\"\",VLOOKUP($A38,出場選手エントリー票!$C$5:$AL$124,12+1,0))","v":""},{"$f":"IF($B38=\"\",\"\",VLOOKUP($A38,出場選手エントリー票!$C$5:$AL$124,13+1,0))","v":""},{"$f":"IF($B38=\"\",\"\",VLOOKUP($A38,出場選手エントリー票!$C$5:$AL$124,14+1,0))","v":""},{"$f":"IF($B38=\"\",\"\",IF(VLOOKUP($A38,出場選手エントリー票!$C$5:$AL$124,15+1,0)=\"\",\"\",VLOOKUP($A38,出場選手エントリー票!$C$5:$AL$124,15+1,0)))","v":""},{"$f":"IF($B38=\"\",\"\",IF(VLOOKUP($A38,出場選手エントリー票!$C$5:$AL$124,19+1,0)=\"\",\"\",VLOOKUP($A38,出場選手エントリー票!$C$5:$AL$124,19+1,0)))","v":""},{"$f":"IF($B38=\"\",\"\",IF(VLOOKUP($A38,出場選手エントリー票!$C$5:$AL$124,23+1,0)=\"\",\"\",VLOOKUP($A38,出場選手エントリー票!$C$5:$AL$124,23+1,0)))","v":""},{"$f":"IF($B38=\"\",\"\",IF(VLOOKUP($A38,出場選手エントリー票!$C$5:$AL$124,27+1,0)=\"\",\"\",VLOOKUP($A38,出場選手エントリー票!$C$5:$AL$124,27+1,0)))","v":""},{"$f":"IF($B38=\"\",\"\",IF(VLOOKUP($A38,出場選手エントリー票!$C$5:$AL$124,31+1,0)=\"\",\"\",VLOOKUP($A38,出場選手エントリー票!$C$5:$AL$124,31+1,0)))","v":""},null,null,null,null,null,null,null,null,null,null,"40"]
[38,{"$f":"IF(ISERROR(VLOOKUP($A39,出場選手エントリー票!$C$5:$AL$124,4,0)),\"\",VLOOKUP($A39,出場選手エントリー票!$C$5:$AL$124,4,0))","v":""},{"$f":"IF($B39=\"\",\"\",VLOOKUP($A39,出場選手エントリー票!$C$5:$AL$124,5+1,0))","v":""},{"$f":"IF($B39=\"\",\"\",VLOOKUP($A39,出場選手エントリー票!$C$5:$AL$124,6+1,0))","v":""},{"$f":"IF($B39=\"\",\"\",VLOOKUP($A39,出場選手エントリー票!$C$5:$AL$124,9+1,0))","v":""},{"$f":"IF($B39=\"\",\"\",VLOOKUP($A39,出場選手エントリー票!$C$5:$AL$124,10+1,0))","v":""},{"$f":"IF($B39=\"\",\"\",VLOOKUP($A39,出場選手エントリー票!$C$5:$AL$124,11+1,0))","v":""},{"$f":"IF($B39=\"\",\"\",VLOOKUP($A39,出場選手エントリー票!$C$5:$AL$124,12+1,0))","v":""},{"$f":"IF($B39=\"\",\"\",VLOOKUP($A39,出場選手エントリー票!$C$5:$AL$124,13+1,0))","v":""},{"$f":"IF($B39=\"\",\"\",VLOOKUP($A39,出場選手エントリー票!$C$5:$AL$124,14+1,0))","v":""},{"$f":"IF($B39=\"\",\"\",IF(VLOOKUP($A39,出場選手エントリー票!$C$5:$AL$124,15+1,0)=\"\",\"\",VLOOKUP($A39,出場選手エントリー票!$C$5:$AL$124,15+1,0)))","v":""},{"$f":"IF($B39=\"\",\"\",IF(VLOOKUP($A39,出場選手エントリー票!$C$5:$AL$124,19+1,0)=\"\",\"\",VLOOKUP($A39,出場選手エントリー票!$C$5:$AL$124,19+1,0)))","v":""},{"$f":"IF($B39=\"\",\"\",IF(VLOOKUP($A39,出場選手エントリー票!$C$5:$AL$124,23+1,0)=\"\",\"\",VLOOKUP($A39,出場選手エントリー票!$C$5:$AL$124,23+1,0)))","v":""},{"$f":"IF($B39=\"\",\"\",IF(VLOOKUP($A39,出場選手エントリー票!$C$5:$AL$124,27+1,0)=\"\",\"\",VLOOKUP($A39,出場選手エントリー票!$C$5:$AL$124,27+1,0)))","v":""},{"$f":"IF($B39=\"\",\"\",IF(VLOOKUP($A39,出場選手エントリー票!$C$5:$AL$124,31+1,0)=\"\",\"\",VLOOKUP($A39,出場選手エントリー票!$C$5:$AL$124,31+1,0)))","v":""},null,null,null,null,null,null,null,null,null,null,"41"]
[39,{"$f":"IF(ISERROR(VLOOKUP($A40,出場選手エントリー票!$C$5:$AL$124,4,0)),\"\",VLOOKUP($A40,出場選手エントリー票!$C$5:$AL$124,4,0))","v":""},{"$f":"IF($B40=\"\",\"\",VLOOKUP($A40,出場選手エントリー票!$C$5:$AL$124,5+1,0))","v":""},{"$f":"IF($B40=\"\",\"\",VLOOKUP($A40,出場選手エントリー票!$C$5:$AL$124,6+1,0))","v":""},{"$f":"IF($B40=\"\",\"\",VLOOKUP($A40,出場選手エントリー票!$C$5:$AL$124,9+1,0))","v":""},{"$f":"IF($B40=\"\",\"\",VLOOKUP($A40,出場選手エントリー票!$C$5:$AL$124,10+1,0))","v":""},{"$f":"IF($B40=\"\",\"\",VLOOKUP($A40,出場選手エントリー票!$C$5:$AL$124,11+1,0))","v":""},{"$f":"IF($B40=\"\",\"\",VLOOKUP($A40,出場選手エントリー票!$C$5:$AL$124,12+1,0))","v":""},{"$f":"IF($B40=\"\",\"\",VLOOKUP($A40,出場選手エントリー票!$C$5:$AL$124,13+1,0))","v":""},{"$f":"IF($B40=\"\",\"\",VLOOKUP($A40,出場選手エントリー票!$C$5:$AL$124,14+1,0))","v":""},{"$f":"IF($B40=\"\",\"\",IF(VLOOKUP($A40,出場選手エントリー票!$C$5:$AL$124,15+1,0)=\"\",\"\",VLOOKUP($A40,出場選手エントリー票!$C$5:$AL$124,15+1,0)))","v":""},{"$f":"IF($B40=\"\",\"\",IF(VLOOKUP($A40,出場選手エントリー票!$C$5:$AL$124,19+1,0)=\"\",\"\",VLOOKUP($A40,出場選手エントリー票!$C$5:$AL$124,19+1,0)))","v":""},{"$f":"IF($B40=\"\",\"\",IF(VLOOKUP($A40,出場選手エントリー票!$C$5:$AL$124,23+1,0)=\"\",\"\",VLOOKUP($A40,出場選手エントリー票!$C$5:$AL$124,23+1,0)))","v":""},{"$f":"IF($B40=\"\",\"\",IF(VLOOKUP($A40,出場選手エントリー票!$C$5:$AL$124,27+1,0)=\"\",\"\",VLOOKUP($A40,出場選手エントリー票!$C$5:$AL$124,27+1,0)))","v":""},{"$f":"IF($B40=\"\",\"\",IF(VLOOKUP($A40,出場選手エントリー票!$C$5:$AL$124,31+1,0)=\"\",\"\",VLOOKUP($A40,出場選手エントリー票!$C$5:$AL$124,31+1,0)))","v":""},null,null,null,null,null,null,null,null,null,null,"42"]
[40,{"$f":"IF(ISERROR(VLOOKUP($A41,出場選手エントリー票!$C$5:$AL$124,4,0)),\"\",VLOOKUP($A41,出場選手エントリー票!$C$5:$AL$124,4,0))","v":""},{"$f":"IF($B41=\"\",\"\",VLOOKUP($A41,出場選手エントリー票!$C$5:$AL$124,5+1,0))","v":""},{"$f":"IF($B41=\"\",\"\",VLOOKUP($A41,出場選手エントリー票!$C$5:$AL$124,6+1,0))","v":""},{"$f":"IF($B41=\"\",\"\",VLOOKUP($A41,出場選手エントリー票!$C$5:$AL$124,9+1,0))","v":""},{"$f":"IF($B41=\"\",\"\",VLOOKUP($A41,出場選手エントリー票!$C$5:$AL$124,10+1,0))","v":""},{"$f":"IF($B41=\"\",\"\",VLOOKUP($A41,出場選手エントリー票!$C$5:$AL$124,11+1,0))","v":""},{"$f":"IF($B41=\"\",\"\",VLOOKUP($A41,出場選手エントリー票!$C$5:$AL$124,12+1,0))","v":""},{"$f":"IF($B41=\"\",\"\",VLOOKUP($A41,出場選手エントリー票!$C$5:$AL$124,13+1,0))","v":""},{"$f":"IF($B41=\"\",\"\",VLOOKUP($A41,出場選手エントリー票!$C$5:$AL$124,14+1,0))","v":""},{"$f":"IF($B41=\"\",\"\",IF(VLOOKUP($A41,出場選手エントリー票!$C$5:$AL$124,15+1,0)=\"\",\"\",VLOOKUP($A41,出場選手エントリー票!$C$5:$AL$124,15+1,0)))","v":""},{"$f":"IF($B41=\"\",\"\",IF(VLOOKUP($A41,出場選手エントリー票!$C$5:$AL$124,19+1,0)=\"\",\"\",VLOOKUP($A41,出場選手エントリー票!$C$5:$AL$124,19+1,0)))","v":""},{"$f":"IF($B41=\"\",\"\",IF(VLOOKUP($A41,出場選手エントリー票!$C$5:$AL$124,23+1,0)=\"\",\"\",VLOOKUP($A41,出場選手エントリー票!$C$5:$AL$124,23+1,0)))","v":""},{"$f":"IF($B41=\"\",\"\",IF(VLOOKUP($A41,出場選手エントリー票!$C$5:$AL$124,27+1,0)=\"\",\"\",VLOOKUP($A41,出場選手エントリー票!$C$5:$AL$124,27+1,0)))","v":""},{"$f":"IF($B41=\"\",\"\",IF(VLOOKUP($A41,出場選手エントリー票!$C$5:$AL$124,31+1,0)=\"\",\"\",VLOOKUP($A41,出場選手エントリー票!$C$5:$AL$124,31+1,0)))","v":""},null,null,null,null,null,null,null,null,null,null,"43"]
[41,{"$f":"IF(ISERROR(VLOOKUP($A42,出場選手エントリー票!$C$5:$AL$124,4,0)),\"\",VLOOKUP($A42,出場選手エントリー票!$C$5:$AL$124,4,0))","v":""},{"$f":"IF($B42=\"\",\"\",VLOOKUP($A42,出場選手エントリー票!$C$5:$AL$124,5+1,0))","v":""},{"$f":"IF($B42=\"\",\"\",VLOOKUP($A42,出場選手エントリー票!$C$5:$AL$124,6+1,0))","v":""},{"$f":"IF($B42=\"\",\"\",VLOOKUP($A42,出場選手エントリー票!$C$5:$AL$124,9+1,0))","v":""},{"$f":"IF($B42=\"\",\"\",VLOOKUP($A42,出場選手エントリー票!$C$5:$AL$124,10+1,0))","v":""},{"$f":"IF($B42=\"\",\"\",VLOOKUP($A42,出場選手エントリー票!$C$5:$AL$124,11+1,0))","v":""},{"$f":"IF($B42=\"\",\"\",VLOOKUP($A42,出場選手エントリー票!$C$5:$AL$124,12+1,0))","v":""},{"$f":"IF($B42=\"\",\"\",VLOOKUP($A42,出場選手エントリー票!$C$5:$AL$124,13+1,0))","v":""},{"$f":"IF($B42=\"\",\"\",VLOOKUP($A42,出場選手エントリー票!$C$5:$AL$124,14+1,0))","v":""},{"$f":"IF($B42=\"\",\"\",IF(VLOOKUP($A42,出場選手エントリー票!$C$5:$AL$124,15+1,0)=\"\",\"\",VLOOKUP($A42,出場選手エントリー票!$C$5:$AL$124,15+1,0)))","v":""},{"$f":"IF($B42=\"\",\"\",IF(VLOOKUP($A42,出場選手エントリー票!$C$5:$AL$124,19+1,0)=\"\",\"\",VLOOKUP($A42,出場選手エントリー票!$C$5:$AL$124,19+1,0)))","v":""},{"$f":"IF($B42=\"\",\"\",IF(VLOOKUP($A42,出場選手エントリー票!$C$5:$AL$124,23+1,0)=\"\",\"\",VLOOKUP($A42,出場選手エントリー票!$C$5:$AL$124,23+1,0)))","v":""},{"$f":"IF($B42=\"\",\"\",IF(VLOOKUP($A42,出場選手エントリー票!$C$5:$AL$124,27+1,0)=\"\",\"\",VLOOKUP($A42,出場選手エントリー票!$C$5:$AL$124,27+1,0)))","v":""},{"$f":"IF($B42=\"\",\"\",IF(VLOOKUP($A42,出場選手エントリー票!$C$5:$AL$124,31+1,0)=\"\",\"\",VLOOKUP($A42,出場選手エントリー票!$C$5:$AL$124,31+1,0)))","v":""},null,null,null,null,null,null,null,null,null,null,"44"]
[42,{"$f":"IF(ISERROR(VLOOKUP($A43,出場選手エントリー票!$C$5:$AL$124,4,0)),\"\",VLOOKUP($A43,出場選手エントリー票!$C$5:$AL$124,4,0))","v":""},{"$f":"IF($B43=\"\",\"\",VLOOKUP($A43,出場選手エントリー票!$C$5:$AL$124,5+1,0))","v":""},{"$f":"IF($B43=\"\",\"\",VLOOKUP($A43,出場選手エントリー票!$C$5:$AL$124,6+1,0))","v":""},{"$f":"IF($B43=\"\",\"\",VLOOKUP($A43,出場選手エントリー票!$C$5:$AL$124,9+1,0))","v":""},{"$f":"IF($B43=\"\",\"\",VLOOKUP($A43,出場選手エントリー票!$C$5:$AL$124,10+1,0))","v":""},{"$f":"IF($B43=\"\",\"\",VLOOKUP($A43,出場選手エントリー票!$C$5:$AL$124,11+1,0))","v":""},{"$f":"IF($B43=\"\",\"\",VLOOKUP($A43,出場選手エントリー票!$C$5:$AL$124,12+1,0))","v":""},{"$f":"IF($B43=\"\",\"\",VLOOKUP($A43,出場選手エントリー票!$C$5:$AL$124,13+1,0))","v":""},{"$f":"IF($B43=\"\",\"\",VLOOKUP($A43,出場選手エントリー票!$C$5:$AL$124,14+1,0))","v":""},{"$f":"IF($B43=\"\",\"\",IF(VLOOKUP($A43,出場選手エントリー票!$C$5:$AL$124,15+1,0)=\"\",\"\",VLOOKUP($A43,出場選手エントリー票!$C$5:$AL$124,15+1,0)))","v":""},{"$f":"IF($B43=\"\",\"\",IF(VLOOKUP($A43,出場選手エントリー票!$C$5:$AL$124,19+1,0)=\"\",\"\",VLOOKUP($A43,出場選手エントリー票!$C$5:$AL$124,19+1,0)))","v":""},{"$f":"IF($B43=\"\",\"\",IF(VLOOKUP($A43,出場選手エントリー票!$C$5:$AL$124,23+1,0)=\"\",\"\",VLOOKUP($A43,出場選手エントリー票!$C$5:$AL$124,23+1,0)))","v":""},{"$f":"IF($B43=\"\",\"\",IF(VLOOKUP($A43,出場選手エントリー票!$C$5:$AL$124,27+1,0)=\"\",\"\",VLOOKUP($A43,出場選手エントリー票!$C$5:$AL$124,27+1,0)))","v":""},{"$f":"IF($B43=\"\",\"\",IF(VLOOKUP($A43,出場選手エントリー票!$C$5:$AL$124,31+1,0)=\"\",\"\",VLOOKUP($A43,出場選手エントリー票!$C$5:$AL$124,31+1,0)))","v":""},null,null,null,null,null,null,null,null,null,null,"45"]
[43,{"$f":"IF(ISERROR(VLOOKUP($A44,出場選手エントリー票!$C$5:$AL$124,4,0)),\"\",VLOOKUP($A44,出場選手エントリー票!$C$5:$AL$124,4,0))","v":""},{"$f":"IF($B44=\"\",\"\",VLOOKUP($A44,出場選手エントリー票!$C$5:$AL$124,5+1,0))","v":""},{"$f":"IF($B44=\"\",\"\",VLOOKUP($A44,出場選手エントリー票!$C$5:$AL$124,6+1,0))","v":""},{"$f":"IF($B44=\"\",\"\",VLOOKUP($A44,出場選手エントリー票!$C$5:$AL$124,9+1,0))","v":""},{"$f":"IF($B44=\"\",\"\",VLOOKUP($A44,出場選手エントリー票!$C$5:$AL$124,10+1,0))","v":""},{"$f":"IF($B44=\"\",\"\",VLOOKUP($A44,出場選手エントリー票!$C$5:$AL$124,11+1,0))","v":""},{"$f":"IF($B44=\"\",\"\",VLOOKUP($A44,出場選手エントリー票!$C$5:$AL$124,12+1,0))","v":""},{"$f":"IF($B44=\"\",\"\",VLOOKUP($A44,出場選手エントリー票!$C$5:$AL$124,13+1,0))","v":""},{"$f":"IF($B44=\"\",\"\",VLOOKUP($A44,出場選手エントリー票!$C$5:$AL$124,14+1,0))","v":""},{"$f":"IF($B44=\"\",\"\",IF(VLOOKUP($A44,出場選手エントリー票!$C$5:$AL$124,15+1,0)=\"\",\"\",VLOOKUP($A44,出場選手エントリー票!$C$5:$AL$124,15+1,0)))","v":""},{"$f":"IF($B44=\"\",\"\",IF(VLOOKUP($A44,出場選手エントリー票!$C$5:$AL$124,19+1,0)=\"\",\"\",VLOOKUP($A44,出場選手エントリー票!$C$5:$AL$124,19+1,0)))","v":""},{"$f":"IF($B44=\"\",\"\",IF(VLOOKUP($A44,出場選手エントリー票!$C$5:$AL$124,23+1,0)=\"\",\"\",VLOOKUP($A44,出場選手エントリー票!$C$5:$AL$124,23+1,0)))","v":""},{"$f":"IF($B44=\"\",\"\",IF(VLOOKUP($A44,出場選手エントリー票!$C$5:$AL$124,27+1,0)=\"\",\"\",VLOOKUP($A44,出場選手エントリー票!$C$5:$AL$124,27+1,0)))","v":""},{"$f":"IF($B44=\"\",\"\",IF(VLOOKUP($A44,出場選手エントリー票!$C$5:$AL$124,31+1,0)=\"\",\"\",VLOOKUP($A44,出場選手エントリー票!$C$5:$AL$124,31+1,0)))","v":""},null,null,null,null,null,null,null,null,null,null,"46"]
[44,{"$f":"IF(ISERROR(VLOOKUP($A45,出場選手エントリー票!$C$5:$AL$124,4,0)),\"\",VLOOKUP($A45,出場選手エントリー票!$C$5:$AL$124,4,0))","v":""},{"$f":"IF($B45=\"\",\"\",VLOOKUP($A45,出場選手エントリー票!$C$5:$AL$124,5+1,0))","v":""},{"$f":"IF($B45=\"\",\"\",VLOOKUP($A45,出場選手エントリー票!$C$5:$AL$124,6+1,0))","v":""},{"$f":"IF($B45=\"\",\"\",VLOOKUP($A45,出場選手エントリー票!$C$5:$AL$124,9+1,0))","v":""},{"$f":"IF($B45=\"\",\"\",VLOOKUP($A45,出場選手エントリー票!$C$5:$AL$124,10+1,0))","v":""},{"$f":"IF($B45=\"\",\"\",VLOOKUP($A45,出場選手エントリー票!$C$5:$AL$124,11+1,0))","v":""},{"$f":"IF($B45=\"\",\"\",VLOOKUP($A45,出場選手エントリー票!$C$5:$AL$124,12+1,0))","v":""},{"$f":"IF($B45=\"\",\"\",VLOOKUP($A45,出場選手エントリー票!$C$5:$AL$124,13+1,0))","v":""},{"$f":"IF($B45=\"\",\"\",VLOOKUP($A45,出場選手エントリー票!$C$5:$AL$124,14+1,0))","v":""},{"$f":"IF($B45=\"\",\"\",IF(VLOOKUP($A45,出場選手エントリー票!$C$5:$AL$124,15+1,0)=\"\",\"\",VLOOKUP($A45,出場選手エントリー票!$C$5:$AL$124,15+1,0)))","v":""},{"$f":"IF($B45=\"\",\"\",IF(VLOOKUP($A45,出場選手エントリー票!$C$5:$AL$124,19+1,0)=\"\",\"\",VLOOKUP($A45,出場選手エントリー票!$C$5:$AL$124,19+1,0)))","v":""},{"$f":"IF($B45=\"\",\"\",IF(VLOOKUP($A45,出場選手エントリー票!$C$5:$AL$124,23+1,0)=\"\",\"\",VLOOKUP($A45,出場選手エントリー票!$C$5:$AL$124,23+1,0)))","v":""},{"$f":"IF($B45=\"\",\"\",IF(VLOOKUP($A45,出場選手エントリー票!$C$5:$AL$124,27+1,0)=\"\",\"\",VLOOKUP($A45,出場選手エントリー票!$C$5:$AL$124,27+1,0)))","v":""},{"$f":"IF($B45=\"\",\"\",IF(VLOOKUP($A45,出場選手エントリー票!$C$5:$AL$124,31+1,0)=\"\",\"\",VLOOKUP($A45,出場選手エントリー票!$C$5:$AL$124,31+1,0)))","v":""},null,null,null,null,null,null,null,null,null,null,"47"]
[45,{"$f":"IF(ISERROR(VLOOKUP($A46,出場選手エントリー票!$C$5:$AL$124,4,0)),\"\",VLOOKUP($A46,出場選手エントリー票!$C$5:$AL$124,4,0))","v":""},{"$f":"IF($B46=\"\",\"\",VLOOKUP($A46,出場選手エントリー票!$C$5:$AL$124,5+1,0))","v":""},{"$f":"IF($B46=\"\",\"\",VLOOKUP($A46,出場選手エントリー票!$C$5:$AL$124,6+1,0))","v":""},{"$f":"IF($B46=\"\",\"\",VLOOKUP($A46,出場選手エントリー票!$C$5:$AL$124,9+1,0))","v":""},{"$f":"IF($B46=\"\",\"\",VLOOKUP($A46,出場選手エントリー票!$C$5:$AL$124,10+1,0))","v":""},{"$f":"IF($B46=\"\",\"\",VLOOKUP($A46,出場選手エントリー票!$C$5:$AL$124,11+1,0))","v":""},{"$f":"IF($B46=\"\",\"\",VLOOKUP($A46,出場選手エントリー票!$C$5:$AL$124,12+1,0))","v":""},{"$f":"IF($B46=\"\",\"\",VLOOKUP($A46,出場選手エントリー票!$C$5:$AL$124,13+1,0))","v":""},{"$f":"IF($B46=\"\",\"\",VLOOKUP($A46,出場選手エントリー票!$C$5:$AL$124,14+1,0))","v":""},{"$f":"IF($B46=\"\",\"\",IF(VLOOKUP($A46,出場選手エントリー票!$C$5:$AL$124,15+1,0)=\"\",\"\",VLOOKUP($A46,出場選手エントリー票!$C$5:$AL$124,15+1,0)))","v":""},{"$f":"IF($B46=\"\",\"\",IF(VLOOKUP($A46,出場選手エントリー票!$C$5:$AL$124,19+1,0)=\"\",\"\",VLOOKUP($A46,出場選手エントリー票!$C$5:$AL$124,19+1,0)))","v":""},{"$f":"IF($B46=\"\",\"\",IF(VLOOKUP($A46,出場選手エントリー票!$C$5:$AL$124,23+1,0)=\"\",\"\",VLOOKUP($A46,出場選手エントリー票!$C$5:$AL$124,23+1,0)))","v":""},{"$f":"IF($B46=\"\",\"\",IF(VLOOKUP($A46,出場選手エントリー票!$C$5:$AL$124,27+1,0)=\"\",\"\",VLOOKUP($A46,出場選手エントリー票!$C$5:$AL$124,27+1,0)))","v":""},{"$f":"IF($B46=\"\",\"\",IF(VLOOKUP($A46,出場選手エントリー票!$C$5:$AL$124,31+1,0)=\"\",\"\",VLOOKUP($A46,出場選手エントリー票!$C$5:$AL$124,31+1,0)))","v":""},null,null,null,null,null,null,null,null,null,null,"48"]
[46,{"$f":"IF(ISERROR(VLOOKUP($A47,出場選手エントリー票!$C$5:$AL$124,4,0)),\"\",VLOOKUP($A47,出場選手エントリー票!$C$5:$AL$124,4,0))","v":""},{"$f":"IF($B47=\"\",\"\",VLOOKUP($A47,出場選手エントリー票!$C$5:$AL$124,5+1,0))","v":""},{"$f":"IF($B47=\"\",\"\",VLOOKUP($A47,出場選手エントリー票!$C$5:$AL$124,6+1,0))","v":""},{"$f":"IF($B47=\"\",\"\",VLOOKUP($A47,出場選手エントリー票!$C$5:$AL$124,9+1,0))","v":""},{"$f":"IF($B47=\"\",\"\",VLOOKUP($A47,出場選手エントリー票!$C$5:$AL$124,10+1,0))","v":""},{"$f":"IF($B47=\"\",\"\",VLOOKUP($A47,出場選手エントリー票!$C$5:$AL$124,11+1,0))","v":""},{"$f":"IF($B47=\"\",\"\",VLOOKUP($A47,出場選手エントリー票!$C$5:$AL$124,12+1,0))","v":""},{"$f":"IF($B47=\"\",\"\",VLOOKUP($A47,出場選手エントリー票!$C$5:$AL$124,13+1,0))","v":""},{"$f":"IF($B47=\"\",\"\",VLOOKUP($A47,出場選手エントリー票!$C$5:$AL$124,14+1,0))","v":""},{"$f":"IF($B47=\"\",\"\",IF(VLOOKUP($A47,出場選手エントリー票!$C$5:$AL$124,15+1,0)=\"\",\"\",VLOOKUP($A47,出場選手エントリー票!$C$5:$AL$124,15+1,0)))","v":""},{"$f":"IF($B47=\"\",\"\",IF(VLOOKUP($A47,出場選手エントリー票!$C$5:$AL$124,19+1,0)=\"\",\"\",VLOOKUP($A47,出場選手エントリー票!$C$5:$AL$124,19+1,0)))","v":""},{"$f":"IF($B47=\"\",\"\",IF(VLOOKUP($A47,出場選手エントリー票!$C$5:$AL$124,23+1,0)=\"\",\"\",VLOOKUP($A47,出場選手エントリー票!$C$5:$AL$124,23+1,0)))","v":""},{"$f":"IF($B47=\"\",\"\",IF(VLOOKUP($A47,出場選手エントリー票!$C$5:$AL$124,27+1,0)=\"\",\"\",VLOOKUP($A47,出場選手エントリー票!$C$5:$AL$124,27+1,0)))","v":""},{"$f":"IF($B47=\"\",\"\",IF(VLOOKUP($A47,出場選手エントリー票!$C$5:$AL$124,31+1,0)=\"\",\"\",VLOOKUP($A47,出場選手エントリー票!$C$5:$AL$124,31+1,0)))","v":""},null,null,null,null,null,null,null,null,null,null,"49"]
[47,{"$f":"IF(ISERROR(VLOOKUP($A48,出場選手エントリー票!$C$5:$AL$124,4,0)),\"\",VLOOKUP($A48,出場選手エントリー票!$C$5:$AL$124,4,0))","v":""},{"$f":"IF($B48=\"\",\"\",VLOOKUP($A48,出場選手エントリー票!$C$5:$AL$124,5+1,0))","v":""},{"$f":"IF($B48=\"\",\"\",VLOOKUP($A48,出場選手エントリー票!$C$5:$AL$124,6+1,0))","v":""},{"$f":"IF($B48=\"\",\"\",VLOOKUP($A48,出場選手エントリー票!$C$5:$AL$124,9+1,0))","v":""},{"$f":"IF($B48=\"\",\"\",VLOOKUP($A48,出場選手エントリー票!$C$5:$AL$124,10+1,0))","v":""},{"$f":"IF($B48=\"\",\"\",VLOOKUP($A48,出場選手エントリー票!$C$5:$AL$124,11+1,0))","v":""},{"$f":"IF($B48=\"\",\"\",VLOOKUP($A48,出場選手エントリー票!$C$5:$AL$124,12+1,0))","v":""},{"$f":"IF($B48=\"\",\"\",VLOOKUP($A48,出場選手エントリー票!$C$5:$AL$124,13+1,0))","v":""},{"$f":"IF($B48=\"\",\"\",VLOOKUP($A48,出場選手エントリー票!$C$5:$AL$124,14+1,0))","v":""},{"$f":"IF($B48=\"\",\"\",IF(VLOOKUP($A48,出場選手エントリー票!$C$5:$AL$124,15+1,0)=\"\",\"\",VLOOKUP($A48,出場選手エントリー票!$C$5:$AL$124,15+1,0)))","v":""},{"$f":"IF($B48=\"\",\"\",IF(VLOOKUP($A48,出場選手エントリー票!$C$5:$AL$124,19+1,0)=\"\",\"\",VLOOKUP($A48,出場選手エントリー票!$C$5:$AL$124,19+1,0)))","v":""},{"$f":"IF($B48=\"\",\"\",IF(VLOOKUP($A48,出場選手エントリー票!$C$5:$AL$124,23+1,0)=\"\",\"\",VLOOKUP($A48,出場選手エントリー票!$C$5:$AL$124,23+1,0)))","v":""},{"$f":"IF($B48=\"\",\"\",IF(VLOOKUP($A48,出場選手エントリー票!$C$5:$AL$124,27+1,0)=\"\",\"\",VLOOKUP($A48,出場選手エントリー票!$C$5:$AL$124,27+1,0)))","v":""},{"$f":"IF($B48=\"\",\"\",IF(VLOOKUP($A48,出場選手エントリー票!$C$5:$AL$124,31+1,0)=\"\",\"\",VLOOKUP($A48,出場選手エントリー票!$C$5:$AL$124,31+1,0)))","v":""},null,null,null,null,null,null,null,null,null,null,"50"]
[48,{"$f":"IF(ISERROR(VLOOKUP($A49,出場選手エントリー票!$C$5:$AL$124,4,0)),\"\",VLOOKUP($A49,出場選手エントリー票!$C$5:$AL$124,4,0))","v":""},{"$f":"IF($B49=\"\",\"\",VLOOKUP($A49,出場選手エントリー票!$C$5:$AL$124,5+1,0))","v":""},{"$f":"IF($B49=\"\",\"\",VLOOKUP($A49,出場選手エントリー票!$C$5:$AL$124,6+1,0))","v":""},{"$f":"IF($B49=\"\",\"\",VLOOKUP($A49,出場選手エントリー票!$C$5:$AL$124,9+1,0))","v":""},{"$f":"IF($B49=\"\",\"\",VLOOKUP($A49,出場選手エントリー票!$C$5:$AL$124,10+1,0))","v":""},{"$f":"IF($B49=\"\",\"\",VLOOKUP($A49,出場選手エントリー票!$C$5:$AL$124,11+1,0))","v":""},{"$f":"IF($B49=\"\",\"\",VLOOKUP($A49,出場選手エントリー票!$C$5:$AL$124,12+1,0))","v":""},{"$f":"IF($B49=\"\",\"\",VLOOKUP($A49,出場選手エントリー票!$C$5:$AL$124,13+1,0))","v":""},{"$f":"IF($B49=\"\",\"\",VLOOKUP($A49,出場選手エントリー票!$C$5:$AL$124,14+1,0))","v":""},{"$f":"IF($B49=\"\",\"\",IF(VLOOKUP($A49,出場選手エントリー票!$C$5:$AL$124,15+1,0)=\"\",\"\",VLOOKUP($A49,出場選手エントリー票!$C$5:$AL$124,15+1,0)))","v":""},{"$f":"IF($B49=\"\",\"\",IF(VLOOKUP($A49,出場選手エントリー票!$C$5:$AL$124,19+1,0)=\"\",\"\",VLOOKUP($A49,出場選手エントリー票!$C$5:$AL$124,19+1,0)))","v":""},{"$f":"IF($B49=\"\",\"\",IF(VLOOKUP($A49,出場選手エントリー票!$C$5:$AL$124,23+1,0)=\"\",\"\",VLOOKUP($A49,出場選手エントリー票!$C$5:$AL$124,23+1,0)))","v":""},{"$f":"IF($B49=\"\",\"\",IF(VLOOKUP($A49,出場選手エントリー票!$C$5:$AL$124,27+1,0)=\"\",\"\",VLOOKUP($A49,出場選手エントリー票!$C$5:$AL$124,27+1,0)))","v":""},{"$f":"IF($B49=\"\",\"\",IF(VLOOKUP($A49,出場選手エントリー票!$C$5:$AL$124,31+1,0)=\"\",\"\",VLOOKUP($A49,出場選手エントリー票!$C$5:$AL$124,31+1,0)))","v":""},null,null,null,null,null,null,null,null,null,null,"51"]
[49,{"$f":"IF(ISERROR(VLOOKUP($A50,出場選手エントリー票!$C$5:$AL$124,4,0)),\"\",VLOOKUP($A50,出場選手エントリー票!$C$5:$AL$124,4,0))","v":""},{"$f":"IF($B50=\"\",\"\",VLOOKUP($A50,出場選手エントリー票!$C$5:$AL$124,5+1,0))","v":""},{"$f":"IF($B50=\"\",\"\",VLOOKUP($A50,出場選手エントリー票!$C$5:$AL$124,6+1,0))","v":""},{"$f":"IF($B50=\"\",\"\",VLOOKUP($A50,出場選手エントリー票!$C$5:$AL$124,9+1,0))","v":""},{"$f":"IF($B50=\"\",\"\",VLOOKUP($A50,出場選手エントリー票!$C$5:$AL$124,10+1,0))","v":""},{"$f":"IF($B50=\"\",\"\",VLOOKUP($A50,出場選手エントリー票!$C$5:$AL$124,11+1,0))","v":""},{"$f":"IF($B50=\"\",\"\",VLOOKUP($A50,出場選手エントリー票!$C$5:$AL$124,12+1,0))","v":""},{"$f":"IF($B50=\"\",\"\",VLOOKUP($A50,出場選手エントリー票!$C$5:$AL$124,13+1,0))","v":""},{"$f":"IF($B50=\"\",\"\",VLOOKUP($A50,出場選手エントリー票!$C$5:$AL$124,14+1,0))","v":""},{"$f":"IF($B50=\"\",\"\",IF(VLOOKUP($A50,出場選手エントリー票!$C$5:$AL$124,15+1,0)=\"\",\"\",VLOOKUP($A50,出場選手エントリー票!$C$5:$AL$124,15+1,0)))","v":""},{"$f":"IF($B50=\"\",\"\",IF(VLOOKUP($A50,出場選手エントリー票!$C$5:$AL$124,19+1,0)=\"\",\"\",VLOOKUP($A50,出場選手エントリー票!$C$5:$AL$124,19+1,0)))","v":""},{"$f":"IF($B50=\"\",\"\",IF(VLOOKUP($A50,出場選手エントリー票!$C$5:$AL$124,23+1,0)=\"\",\"\",VLOOKUP($A50,出場選手エントリー票!$C$5:$AL$124,23+1,0)))","v":""},{"$f":"IF($B50=\"\",\"\",IF(VLOOKUP($A50,出場選手エントリー票!$C$5:$AL$124,27+1,0)=\"\",\"\",VLOOKUP($A50,出場選手エントリー票!$C$5:$AL$124,27+1,0)))","v":""},{"$f":"IF($B50=\"\",\"\",IF(VLOOKUP($A50,出場選手エントリー票!$C$5:$AL$124,31+1,0)=\"\",\"\",VLOOKUP($A50,出場選手エントリー票!$C$5:$AL$124,31+1,0)))","v":""},null,null,null,null,null,null,null,null,null,null,"52"]
[50,{"$f":"IF(ISERROR(VLOOKUP($A51,出場選手エントリー票!$C$5:$AL$124,4,0)),\"\",VLOOKUP($A51,出場選手エントリー票!$C$5:$AL$124,4,0))","v":""},{"$f":"IF($B51=\"\",\"\",VLOOKUP($A51,出場選手エントリー票!$C$5:$AL$124,5+1,0))","v":""},{"$f":"IF($B51=\"\",\"\",VLOOKUP($A51,出場選手エントリー票!$C$5:$AL$124,6+1,0))","v":""},{"$f":"IF($B51=\"\",\"\",VLOOKUP($A51,出場選手エントリー票!$C$5:$AL$124,9+1,0))","v":""},{"$f":"IF($B51=\"\",\"\",VLOOKUP($A51,出場選手エントリー票!$C$5:$AL$124,10+1,0))","v":""},{"$f":"IF($B51=\"\",\"\",VLOOKUP($A51,出場選手エントリー票!$C$5:$AL$124,11+1,0))","v":""},{"$f":"IF($B51=\"\",\"\",VLOOKUP($A51,出場選手エントリー票!$C$5:$AL$124,12+1,0))","v":""},{"$f":"IF($B51=\"\",\"\",VLOOKUP($A51,出場選手エントリー票!$C$5:$AL$124,13+1,0))","v":""},{"$f":"IF($B51=\"\",\"\",VLOOKUP($A51,出場選手エントリー票!$C$5:$AL$124,14+1,0))","v":""},{"$f":"IF($B51=\"\",\"\",IF(VLOOKUP($A51,出場選手エントリー票!$C$5:$AL$124,15+1,0)=\"\",\"\",VLOOKUP($A51,出場選手エントリー票!$C$5:$AL$124,15+1,0)))","v":""},{"$f":"IF($B51=\"\",\"\",IF(VLOOKUP($A51,出場選手エントリー票!$C$5:$AL$124,19+1,0)=\"\",\"\",VLOOKUP($A51,出場選手エントリー票!$C$5:$AL$124,19+1,0)))","v":""},{"$f":"IF($B51=\"\",\"\",IF(VLOOKUP($A51,出場選手エントリー票!$C$5:$AL$124,23+1,0)=\"\",\"\",VLOOKUP($A51,出場選手エントリー票!$C$5:$AL$124,23+1,0)))","v":""},{"$f":"IF($B51=\"\",\"\",IF(VLOOKUP($A51,出場選手エントリー票!$C$5:$AL$124,27+1,0)=\"\",\"\",VLOOKUP($A51,出場選手エントリー票!$C$5:$AL$124,27+1,0)))","v":""},{"$f":"IF($B51=\"\",\"\",IF(VLOOKUP($A51,出場選手エントリー票!$C$5:$AL$124,31+1,0)=\"\",\"\",VLOOKUP($A51,出場選手エントリー票!$C$5:$AL$124,31+1,0)))","v":""},null,null,null,null,null,null,null,null,null,null,"53"]
[51,{"$f":"IF(ISERROR(VLOOKUP($A52,出場選手エントリー票!$C$5:$AL$124,4,0)),\"\",VLOOKUP($A52,出場選手エントリー票!$C$5:$AL$124,4,0))","v":""},{"$f":"IF($B52=\"\",\"\",VLOOKUP($A52,出場選手エントリー票!$C$5:$AL$124,5+1,0))","v":""},{"$f":"IF($B52=\"\",\"\",VLOOKUP($A52,出場選手エントリー票!$C$5:$AL$124,6+1,0))","v":""},{"$f":"IF($B52=\"\",\"\",VLOOKUP($A52,出場選手エントリー票!$C$5:$AL$124,9+1,0))","v":""},{"$f":"IF($B52=\"\",\"\",VLOOKUP($A52,出場選手エントリー票!$C$5:$AL$124,10+1,0))","v":""},{"$f":"IF($B52=\"\",\"\",VLOOKUP($A52,出場選手エントリー票!$C$5:$AL$124,11+1,0))","v":""},{"$f":"IF($B52=\"\",\"\",VLOOKUP($A52,出場選手エントリー票!$C$5:$AL$124,12+1,0))","v":""},{"$f":"IF($B52=\"\",\"\",VLOOKUP($A52,出場選手エントリー票!$C$5:$AL$124,13+1,0))","v":""},{"$f":"IF($B52=\"\",\"\",VLOOKUP($A52,出場選手エントリー票!$C$5:$AL$124,14+1,0))","v":""},{"$f":"IF($B52=\"\",\"\",IF(VLOOKUP($A52,出場選手エントリー票!$C$5:$AL$124,15+1,0)=\"\",\"\",VLOOKUP($A52,出場選手エントリー票!$C$5:$AL$124,15+1,0)))","v":""},{"$f":"IF($B52=\"\",\"\",IF(VLOOKUP($A52,出場選手エントリー票!$C$5:$AL$124,19+1,0)=\"\",\"\",VLOOKUP($A52,出場選手エントリー票!$C$5:$AL$124,19+1,0)))","v":""},{"$f":"IF($B52=\"\",\"\",IF(VLOOKUP($A52,出場選手エントリー票!$C$5:$AL$124,23+1,0)=\"\",\"\",VLOOKUP($A52,出場選手エントリー票!$C$5:$AL$124,23+1,0)))","v":""},{"$f":"IF($B52=\"\",\"\",IF(VLOOKUP($A52,出場選手エントリー票!$C$5:$AL$124,27+1,0)=\"\",\"\",VLOOKUP($A52,出場選手エントリー票!$C$5:$AL$124,27+1,0)))","v":""},{"$f":"IF($B52=\"\",\"\",IF(VLOOKUP($A52,出場選手エントリー票!$C$5:$AL$124,31+1,0)=\"\",\"\",VLOOKUP($A52,出場選手エントリー票!$C$5:$AL$124,31+1,0)))","v":""},null,null,null,null,null,null,null,null,null,null,"54"]
[52,{"$f":"IF(ISERROR(VLOOKUP($A53,出場選手エントリー票!$C$5:$AL$124,4,0)),\"\",VLOOKUP($A53,出場選手エントリー票!$C$5:$AL$124,4,0))","v":""},{"$f":"IF($B53=\"\",\"\",VLOOKUP($A53,出場選手エントリー票!$C$5:$AL$124,5+1,0))","v":""},{"$f":"IF($B53=\"\",\"\",VLOOKUP($A53,出場選手エントリー票!$C$5:$AL$124,6+1,0))","v":""},{"$f":"IF($B53=\"\",\"\",VLOOKUP($A53,出場選手エントリー票!$C$5:$AL$124,9+1,0))","v":""},{"$f":"IF($B53=\"\",\"\",VLOOKUP($A53,出場選手エントリー票!$C$5:$AL$124,10+1,0))","v":""},{"$f":"IF($B53=\"\",\"\",VLOOKUP($A53,出場選手エントリー票!$C$5:$AL$124,11+1,0))","v":""},{"$f":"IF($B53=\"\",\"\",VLOOKUP($A53,出場選手エントリー票!$C$5:$AL$124,12+1,0))","v":""},{"$f":"IF($B53=\"\",\"\",VLOOKUP($A53,出場選手エントリー票!$C$5:$AL$124,13+1,0))","v":""},{"$f":"IF($B53=\"\",\"\",VLOOKUP($A53,出場選手エントリー票!$C$5:$AL$124,14+1,0))","v":""},{"$f":"IF($B53=\"\",\"\",IF(VLOOKUP($A53,出場選手エントリー票!$C$5:$AL$124,15+1,0)=\"\",\"\",VLOOKUP($A53,出場選手エントリー票!$C$5:$AL$124,15+1,0)))","v":""},{"$f":"IF($B53=\"\",\"\",IF(VLOOKUP($A53,出場選手エントリー票!$C$5:$AL$124,19+1,0)=\"\",\"\",VLOOKUP($A53,出場選手エントリー票!$C$5:$AL$124,19+1,0)))","v":""},{"$f":"IF($B53=\"\",\"\",IF(VLOOKUP($A53,出場選手エントリー票!$C$5:$AL$124,23+1,0)=\"\",\"\",VLOOKUP($A53,出場選手エントリー票!$C$5:$AL$124,23+1,0)))","v":""},{"$f":"IF($B53=\"\",\"\",IF(VLOOKUP($A53,出場選手エントリー票!$C$5:$AL$124,27+1,0)=\"\",\"\",VLOOKUP($A53,出場選手エントリー票!$C$5:$AL$124,27+1,0)))","v":""},{"$f":"IF($B53=\"\",\"\",IF(VLOOKUP($A53,出場選手エントリー票!$C$5:$AL$124,31+1,0)=\"\",\"\",VLOOKUP($A53,出場選手エントリー票!$C$5:$AL$124,31+1,0)))","v":""},null,null,null,null,null,null,null,null,null,null,"55"]
[53,{"$f":"IF(ISERROR(VLOOKUP($A54,出場選手エントリー票!$C$5:$AL$124,4,0)),\"\",VLOOKUP($A54,出場選手エントリー票!$C$5:$AL$124,4,0))","v":""},{"$f":"IF($B54=\"\",\"\",VLOOKUP($A54,出場選手エントリー票!$C$5:$AL$124,5+1,0))","v":""},{"$f":"IF($B54=\"\",\"\",VLOOKUP($A54,出場選手エントリー票!$C$5:$AL$124,6+1,0))","v":""},{"$f":"IF($B54=\"\",\"\",VLOOKUP($A54,出場選手エントリー票!$C$5:$AL$124,9+1,0))","v":""},{"$f":"IF($B54=\"\",\"\",VLOOKUP($A54,出場選手エントリー票!$C$5:$AL$124,10+1,0))","v":""},{"$f":"IF($B54=\"\",\"\",VLOOKUP($A54,出場選手エントリー票!$C$5:$AL$124,11+1,0))","v":""},{"$f":"IF($B54=\"\",\"\",VLOOKUP($A54,出場選手エントリー票!$C$5:$AL$124,12+1,0))","v":""},{"$f":"IF($B54=\"\",\"\",VLOOKUP($A54,出場選手エントリー票!$C$5:$AL$124,13+1,0))","v":""},{"$f":"IF($B54=\"\",\"\",VLOOKUP($A54,出場選手エントリー票!$C$5:$AL$124,14+1,0))","v":""},{"$f":"IF($B54=\"\",\"\",IF(VLOOKUP($A54,出場選手エントリー票!$C$5:$AL$124,15+1,0)=\"\",\"\",VLOOKUP($A54,出場選手エントリー票!$C$5:$AL$124,15+1,0)))","v":""},{"$f":"IF($B54=\"\",\"\",IF(VLOOKUP($A54,出場選手エントリー票!$C$5:$AL$124,19+1,0)=\"\",\"\",VLOOKUP($A54,出場選手エントリー票!$C$5:$AL$124,19+1,0)))","v":""},{"$f":"IF($B54=\"\",\"\",IF(VLOOKUP($A54,出場選手エントリー票!$C$5:$AL$124,23+1,0)=\"\",\"\",VLOOKUP($A54,出場選手エントリー票!$C$5:$AL$124,23+1,0)))","v":""},{"$f":"IF($B54=\"\",\"\",IF(VLOOKUP($A54,出場選手エントリー票!$C$5:$AL$124,27+1,0)=\"\",\"\",VLOOKUP($A54,出場選手エントリー票!$C$5:$AL$124,27+1,0)))","v":""},{"$f":"IF($B54=\"\",\"\",IF(VLOOKUP($A54,出場選手エントリー票!$C$5:$AL$124,31+1,0)=\"\",\"\",VLOOKUP($A54,出場選手エントリー票!$C$5:$AL$124,31+1,0)))","v":""},null,null,null,null,null,null,null,null,null,null,"56"]
[54,{"$f":"IF(ISERROR(VLOOKUP($A55,出場選手エントリー票!$C$5:$AL$124,4,0)),\"\",VLOOKUP($A55,出場選手エントリー票!$C$5:$AL$124,4,0))","v":""},{"$f":"IF($B55=\"\",\"\",VLOOKUP($A55,出場選手エントリー票!$C$5:$AL$124,5+1,0))","v":""},{"$f":"IF($B55=\"\",\"\",VLOOKUP($A55,出場選手エントリー票!$C$5:$AL$124,6+1,0))","v":""},{"$f":"IF($B55=\"\",\"\",VLOOKUP($A55,出場選手エントリー票!$C$5:$AL$124,9+1,0))","v":""},{"$f":"IF($B55=\"\",\"\",VLOOKUP($A55,出場選手エントリー票!$C$5:$AL$124,10+1,0))","v":""},{"$f":"IF($B55=\"\",\"\",VLOOKUP($A55,出場選手エントリー票!$C$5:$AL$124,11+1,0))","v":""},{"$f":"IF($B55=\"\",\"\",VLOOKUP($A55,出場選手エントリー票!$C$5:$AL$124,12+1,0))","v":""},{"$f":"IF($B55=\"\",\"\",VLOOKUP($A55,出場選手エントリー票!$C$5:$AL$124,13+1,0))","v":""},{"$f":"IF($B55=\"\",\"\",VLOOKUP($A55,出場選手エントリー票!$C$5:$AL$124,14+1,0))","v":""},{"$f":"IF($B55=\"\",\"\",IF(VLOOKUP($A55,出場選手エントリー票!$C$5:$AL$124,15+1,0)=\"\",\"\",VLOOKUP($A55,出場選手エントリー票!$C$5:$AL$124,15+1,0)))","v":""},{"$f":"IF($B55=\"\",\"\",IF(VLOOKUP($A55,出場選手エントリー票!$C$5:$AL$124,19+1,0)=\"\",\"\",VLOOKUP($A55,出場選手エントリー票!$C$5:$AL$124,19+1,0)))","v":""},{"$f":"IF($B55=\"\",\"\",IF(VLOOKUP($A55,出場選手エントリー票!$C$5:$AL$124,23+1,0)=\"\",\"\",VLOOKUP($A55,出場選手エントリー票!$C$5:$AL$124,23+1,0)))","v":""},{"$f":"IF($B55=\"\",\"\",IF(VLOOKUP($A55,出場選手エントリー票!$C$5:$AL$124,27+1,0)=\"\",\"\",VLOOKUP($A55,出場選手エントリー票!$C$5:$AL$124,27+1,0)))","v":""},{"$f":"IF($B55=\"\",\"\",IF(VLOOKUP($A55,出場選手エントリー票!$C$5:$AL$124,31+1,0)=\"\",\"\",VLOOKUP($A55,出場選手エントリー票!$C$5:$AL$124,31+1,0)))","v":""},null,null,null,null,null,null,null,null,null,null,"57"]
[55,{"$f":"IF(ISERROR(VLOOKUP($A56,出場選手エントリー票!$C$5:$AL$124,4,0)),\"\",VLOOKUP($A56,出場選手エントリー票!$C$5:$AL$124,4,0))","v":""},{"$f":"IF($B56=\"\",\"\",VLOOKUP($A56,出場選手エントリー票!$C$5:$AL$124,5+1,0))","v":""},{"$f":"IF($B56=\"\",\"\",VLOOKUP($A56,出場選手エントリー票!$C$5:$AL$124,6+1,0))","v":""},{"$f":"IF($B56=\"\",\"\",VLOOKUP($A56,出場選手エントリー票!$C$5:$AL$124,9+1,0))","v":""},{"$f":"IF($B56=\"\",\"\",VLOOKUP($A56,出場選手エントリー票!$C$5:$AL$124,10+1,0))","v":""},{"$f":"IF($B56=\"\",\"\",VLOOKUP($A56,出場選手エントリー票!$C$5:$AL$124,11+1,0))","v":""},{"$f":"IF($B56=\"\",\"\",VLOOKUP($A56,出場選手エントリー票!$C$5:$AL$124,12+1,0))","v":""},{"$f":"IF($B56=\"\",\"\",VLOOKUP($A56,出場選手エントリー票!$C$5:$AL$124,13+1,0))","v":""},{"$f":"IF($B56=\"\",\"\",VLOOKUP($A56,出場選手エントリー票!$C$5:$AL$124,14+1,0))","v":""},{"$f":"IF($B56=\"\",\"\",IF(VLOOKUP($A56,出場選手エントリー票!$C$5:$AL$124,15+1,0)=\"\",\"\",VLOOKUP($A56,出場選手エントリー票!$C$5:$AL$124,15+1,0)))","v":""},{"$f":"IF($B56=\"\",\"\",IF(VLOOKUP($A56,出場選手エントリー票!$C$5:$AL$124,19+1,0)=\"\",\"\",VLOOKUP($A56,出場選手エントリー票!$C$5:$AL$124,19+1,0)))","v":""},{"$f":"IF($B56=\"\",\"\",IF(VLOOKUP($A56,出場選手エントリー票!$C$5:$AL$124,23+1,0)=\"\",\"\",VLOOKUP($A56,出場選手エントリー票!$C$5:$AL$124,23+1,0)))","v":""},{"$f":"IF($B56=\"\",\"\",IF(VLOOKUP($A56,出場選手エントリー票!$C$5:$AL$124,27+1,0)=\"\",\"\",VLOOKUP($A56,出場選手エントリー票!$C$5:$AL$124,27+1,0)))","v":""},{"$f":"IF($B56=\"\",\"\",IF(VLOOKUP($A56,出場選手エントリー票!$C$5:$AL$124,31+1,0)=\"\",\"\",VLOOKUP($A56,出場選手エントリー票!$C$5:$AL$124,31+1,0)))","v":""},null,null,null,null,null,null,null,null,null,null,"58"]
[56,{"$f":"IF(ISERROR(VLOOKUP($A57,出場選手エントリー票!$C$5:$AL$124,4,0)),\"\",VLOOKUP($A57,出場選手エントリー票!$C$5:$AL$124,4,0))","v":""},{"$f":"IF($B57=\"\",\"\",VLOOKUP($A57,出場選手エントリー票!$C$5:$AL$124,5+1,0))","v":""},{"$f":"IF($B57=\"\",\"\",VLOOKUP($A57,出場選手エントリー票!$C$5:$AL$124,6+1,0))","v":""},{"$f":"IF($B57=\"\",\"\",VLOOKUP($A57,出場選手エントリー票!$C$5:$AL$124,9+1,0))","v":""},{"$f":"IF($B57=\"\",\"\",VLOOKUP($A57,出場選手エントリー票!$C$5:$AL$124,10+1,0))","v":""},{"$f":"IF($B57=\"\",\"\",VLOOKUP($A57,出場選手エントリー票!$C$5:$AL$124,11+1,0))","v":""},{"$f":"IF($B57=\"\",\"\",VLOOKUP($A57,出場選手エントリー票!$C$5:$AL$124,12+1,0))","v":""},{"$f":"IF($B57=\"\",\"\",VLOOKUP($A57,出場選手エントリー票!$C$5:$AL$124,13+1,0))","v":""},{"$f":"IF($B57=\"\",\"\",VLOOKUP($A57,出場選手エントリー票!$C$5:$AL$124,14+1,0))","v":""},{"$f":"IF($B57=\"\",\"\",IF(VLOOKUP($A57,出場選手エントリー票!$C$5:$AL$124,15+1,0)=\"\",\"\",VLOOKUP($A57,出場選手エントリー票!$C$5:$AL$124,15+1,0)))","v":""},{"$f":"IF($B57=\"\",\"\",IF(VLOOKUP($A57,出場選手エントリー票!$C$5:$AL$124,19+1,0)=\"\",\"\",VLOOKUP($A57,出場選手エントリー票!$C$5:$AL$124,19+1,0)))","v":""},{"$f":"IF($B57=\"\",\"\",IF(VLOOKUP($A57,出場選手エントリー票!$C$5:$AL$124,23+1,0)=\"\",\"\",VLOOKUP($A57,出場選手エントリー票!$C$5:$AL$124,23+1,0)))","v":""},{"$f":"IF($B57=\"\",\"\",IF(VLOOKUP($A57,出場選手エントリー票!$C$5:$AL$124,27+1,0)=\"\",\"\",VLOOKUP($A57,出場選手エントリー票!$C$5:$AL$124,27+1,0)))","v":""},{"$f":"IF($B57=\"\",\"\",IF(VLOOKUP($A57,出場選手エントリー票!$C$5:$AL$124,31+1,0)=\"\",\"\",VLOOKUP($A57,出場選手エントリー票!$C$5:$AL$124,31+1,0)))","v":""},null,null,null,null,null,null,null,null,null,null,"59"]
[57,{"$f":"IF(ISERROR(VLOOKUP($A58,出場選手エントリー票!$C$5:$AL$124,4,0)),\"\",VLOOKUP($A58,出場選手エントリー票!$C$5:$AL$124,4,0))","v":""},{"$f":"IF($B58=\"\",\"\",VLOOKUP($A58,出場選手エントリー票!$C$5:$AL$124,5+1,0))","v":""},{"$f":"IF($B58=\"\",\"\",VLOOKUP($A58,出場選手エントリー票!$C$5:$AL$124,6+1,0))","v":""},{"$f":"IF($B58=\"\",\"\",VLOOKUP($A58,出場選手エントリー票!$C$5:$AL$124,9+1,0))","v":""},{"$f":"IF($B58=\"\",\"\",VLOOKUP($A58,出場選手エントリー票!$C$5:$AL$124,10+1,0))","v":""},{"$f":"IF($B58=\"\",\"\",VLOOKUP($A58,出場選手エントリー票!$C$5:$AL$124,11+1,0))","v":""},{"$f":"IF($B58=\"\",\"\",VLOOKUP($A58,出場選手エントリー票!$C$5:$AL$124,12+1,0))","v":""},{"$f":"IF($B58=\"\",\"\",VLOOKUP($A58,出場選手エントリー票!$C$5:$AL$124,13+1,0))","v":""},{"$f":"IF($B58=\"\",\"\",VLOOKUP($A58,出場選手エントリー票!$C$5:$AL$124,14+1,0))","v":""},{"$f":"IF($B58=\"\",\"\",IF(VLOOKUP($A58,出場選手エントリー票!$C$5:$AL$124,15+1,0)=\"\",\"\",VLOOKUP($A58,出場選手エントリー票!$C$5:$AL$124,15+1,0)))","v":""},{"$f":"IF($B58=\"\",\"\",IF(VLOOKUP($A58,出場選手エントリー票!$C$5:$AL$124,19+1,0)=\"\",\"\",VLOOKUP($A58,出場選手エントリー票!$C$5:$AL$124,19+1,0)))","v":""},{"$f":"IF($B58=\"\",\"\",IF(VLOOKUP($A58,出場選手エントリー票!$C$5:$AL$124,23+1,0)=\"\",\"\",VLOOKUP($A58,出場選手エントリー票!$C$5:$AL$124,23+1,0)))","v":""},{"$f":"IF($B58=\"\",\"\",IF(VLOOKUP($A58,出場選手エントリー票!$C$5:$AL$124,27+1,0)=\"\",\"\",VLOOKUP($A58,出場選手エントリー票!$C$5:$AL$124,27+1,0)))","v":""},{"$f":"IF($B58=\"\",\"\",IF(VLOOKUP($A58,出場選手エントリー票!$C$5:$AL$124,31+1,0)=\"\",\"\",VLOOKUP($A58,出場選手エントリー票!$C$5:$AL$124,31+1,0)))","v":""},null,null,null,null,null,null,null,null,null,null,"60"]
[58,{"$f":"IF(ISERROR(VLOOKUP($A59,出場選手エントリー票!$C$5:$AL$124,4,0)),\"\",VLOOKUP($A59,出場選手エントリー票!$C$5:$AL$124,4,0))","v":""},{"$f":"IF($B59=\"\",\"\",VLOOKUP($A59,出場選手エントリー票!$C$5:$AL$124,5+1,0))","v":""},{"$f":"IF($B59=\"\",\"\",VLOOKUP($A59,出場選手エントリー票!$C$5:$AL$124,6+1,0))","v":""},{"$f":"IF($B59=\"\",\"\",VLOOKUP($A59,出場選手エントリー票!$C$5:$AL$124,9+1,0))","v":""},{"$f":"IF($B59=\"\",\"\",VLOOKUP($A59,出場選手エントリー票!$C$5:$AL$124,10+1,0))","v":""},{"$f":"IF($B59=\"\",\"\",VLOOKUP($A59,出場選手エントリー票!$C$5:$AL$124,11+1,0))","v":""},{"$f":"IF($B59=\"\",\"\",VLOOKUP($A59,出場選手エントリー票!$C$5:$AL$124,12+1,0))","v":""},{"$f":"IF($B59=\"\",\"\",VLOOKUP($A59,出場選手エントリー票!$C$5:$AL$124,13+1,0))","v":""},{"$f":"IF($B59=\"\",\"\",VLOOKUP($A59,出場選手エントリー票!$C$5:$AL$124,14+1,0))","v":""},{"$f":"IF($B59=\"\",\"\",IF(VLOOKUP($A59,出場選手エントリー票!$C$5:$AL$124,15+1,0)=\"\",\"\",VLOOKUP($A59,出場選手エントリー票!$C$5:$AL$124,15+1,0)))","v":""},{"$f":"IF($B59=\"\",\"\",IF(VLOOKUP($A59,出場選手エントリー票!$C$5:$AL$124,19+1,0)=\"\",\"\",VLOOKUP($A59,出場選手エントリー票!$C$5:$AL$124,19+1,0)))","v":""},{"$f":"IF($B59=\"\",\"\",IF(VLOOKUP($A59,出場選手エントリー票!$C$5:$AL$124,23+1,0)=\"\",\"\",VLOOKUP($A59,出場選手エントリー票!$C$5:$AL$124,23+1,0)))","v":""},{"$f":"IF($B59=\"\",\"\",IF(VLOOKUP($A59,出場選手エントリー票!$C$5:$AL$124,27+1,0)=\"\",\"\",VLOOKUP($A59,出場選手エントリー票!$C$5:$AL$124,27+1,0)))","v":""},{"$f":"IF($B59=\"\",\"\",IF(VLOOKUP($A59,出場選手エントリー票!$C$5:$AL$124,31+1,0)=\"\",\"\",VLOOKUP($A59,出場選手エントリー票!$C$5:$AL$124,31+1,0)))","v":""},null,null,null,null,null,null,null,null,null,null,"61"]
[59,{"$f":"IF(ISERROR(VLOOKUP($A60,出場選手エントリー票!$C$5:$AL$124,4,0)),\"\",VLOOKUP($A60,出場選手エントリー票!$C$5:$AL$124,4,0))","v":""},{"$f":"IF($B60=\"\",\"\",VLOOKUP($A60,出場選手エントリー票!$C$5:$AL$124,5+1,0))","v":""},{"$f":"IF($B60=\"\",\"\",VLOOKUP($A60,出場選手エントリー票!$C$5:$AL$124,6+1,0))","v":""},{"$f":"IF($B60=\"\",\"\",VLOOKUP($A60,出場選手エントリー票!$C$5:$AL$124,9+1,0))","v":""},{"$f":"IF($B60=\"\",\"\",VLOOKUP($A60,出場選手エントリー票!$C$5:$AL$124,10+1,0))","v":""},{"$f":"IF($B60=\"\",\"\",VLOOKUP($A60,出場選手エントリー票!$C$5:$AL$124,11+1,0))","v":""},{"$f":"IF($B60=\"\",\"\",VLOOKUP($A60,出場選手エントリー票!$C$5:$AL$124,12+1,0))","v":""},{"$f":"IF($B60=\"\",\"\",VLOOKUP($A60,出場選手エントリー票!$C$5:$AL$124,13+1,0))","v":""},{"$f":"IF($B60=\"\",\"\",VLOOKUP($A60,出場選手エントリー票!$C$5:$AL$124,14+1,0))","v":""},{"$f":"IF($B60=\"\",\"\",IF(VLOOKUP($A60,出場選手エントリー票!$C$5:$AL$124,15+1,0)=\"\",\"\",VLOOKUP($A60,出場選手エントリー票!$C$5:$AL$124,15+1,0)))","v":""},{"$f":"IF($B60=\"\",\"\",IF(VLOOKUP($A60,出場選手エントリー票!$C$5:$AL$124,19+1,0)=\"\",\"\",VLOOKUP($A60,出場選手エントリー票!$C$5:$AL$124,19+1,0)))","v":""},{"$f":"IF($B60=\"\",\"\",IF(VLOOKUP($A60,出場選手エントリー票!$C$5:$AL$124,23+1,0)=\"\",\"\",VLOOKUP($A60,出場選手エントリー票!$C$5:$AL$124,23+1,0)))","v":""},{"$f":"IF($B60=\"\",\"\",IF(VLOOKUP($A60,出場選手エントリー票!$C$5:$AL$124,27+1,0)=\"\",\"\",VLOOKUP($A60,出場選手エントリー票!$C$5:$AL$124,27+1,0)))","v":""},{"$f":"IF($B60=\"\",\"\",IF(VLOOKUP($A60,出場選手エントリー票!$C$5:$AL$124,31+1,0)=\"\",\"\",VLOOKUP($A60,出場選手エントリー票!$C$5:$AL$124,31+1,0)))","v":""},null,null,null,null,null,null,null,null,null,null,"62"]
[60,{"$f":"IF(ISERROR(VLOOKUP($A61,出場選手エントリー票!$C$5:$AL$124,4,0)),\"\",VLOOKUP($A61,出場選手エントリー票!$C$5:$AL$124,4,0))","v":""},{"$f":"IF($B61=\"\",\"\",VLOOKUP($A61,出場選手エントリー票!$C$5:$AL$124,5+1,0))","v":""},{"$f":"IF($B61=\"\",\"\",VLOOKUP($A61,出場選手エントリー票!$C$5:$AL$124,6+1,0))","v":""},{"$f":"IF($B61=\"\",\"\",VLOOKUP($A61,出場選手エントリー票!$C$5:$AL$124,9+1,0))","v":""},{"$f":"IF($B61=\"\",\"\",VLOOKUP($A61,出場選手エントリー票!$C$5:$AL$124,10+1,0))","v":""},{"$f":"IF($B61=\"\",\"\",VLOOKUP($A61,出場選手エントリー票!$C$5:$AL$124,11+1,0))","v":""},{"$f":"IF($B61=\"\",\"\",VLOOKUP($A61,出場選手エントリー票!$C$5:$AL$124,12+1,0))","v":""},{"$f":"IF($B61=\"\",\"\",VLOOKUP($A61,出場選手エントリー票!$C$5:$AL$124,13+1,0))","v":""},{"$f":"IF($B61=\"\",\"\",VLOOKUP($A61,出場選手エントリー票!$C$5:$AL$124,14+1,0))","v":""},{"$f":"IF($B61=\"\",\"\",IF(VLOOKUP($A61,出場選手エントリー票!$C$5:$AL$124,15+1,0)=\"\",\"\",VLOOKUP($A61,出場選手エントリー票!$C$5:$AL$124,15+1,0)))","v":""},{"$f":"IF($B61=\"\",\"\",IF(VLOOKUP($A61,出場選手エントリー票!$C$5:$AL$124,19+1,0)=\"\",\"\",VLOOKUP($A61,出場選手エントリー票!$C$5:$AL$124,19+1,0)))","v":""},{"$f":"IF($B61=\"\",\"\",IF(VLOOKUP($A61,出場選手エントリー票!$C$5:$AL$124,23+1,0)=\"\",\"\",VLOOKUP($A61,出場選手エントリー票!$C$5:$AL$124,23+1,0)))","v":""},{"$f":"IF($B61=\"\",\"\",IF(VLOOKUP($A61,出場選手エントリー票!$C$5:$AL$124,27+1,0)=\"\",\"\",VLOOKUP($A61,出場選手エントリー票!$C$5:$AL$124,27+1,0)))","v":""},{"$f":"IF($B61=\"\",\"\",IF(VLOOKUP($A61,出場選手エントリー票!$C$5:$AL$124,31+1,0)=\"\",\"\",VLOOKUP($A61,出場選手エントリー票!$C$5:$AL$124,31+1,0)))","v":""},null,null,null,null,null,null,null,null,null,null,"63"]
[61,{"$f":"IF(ISERROR(VLOOKUP($A62,出場選手エントリー票!$C$5:$AL$124,4,0)),\"\",VLOOKUP($A62,出場選手エントリー票!$C$5:$AL$124,4,0))","v":""},{"$f":"IF($B62=\"\",\"\",VLOOKUP($A62,出場選手エントリー票!$C$5:$AL$124,5+1,0))","v":""},{"$f":"IF($B62=\"\",\"\",VLOOKUP($A62,出場選手エントリー票!$C$5:$AL$124,6+1,0))","v":""},{"$f":"IF($B62=\"\",\"\",VLOOKUP($A62,出場選手エントリー票!$C$5:$AL$124,9+1,0))","v":""},{"$f":"IF($B62=\"\",\"\",VLOOKUP($A62,出場選手エントリー票!$C$5:$AL$124,10+1,0))","v":""},{"$f":"IF($B62=\"\",\"\",VLOOKUP($A62,出場選手エントリー票!$C$5:$AL$124,11+1,0))","v":""},{"$f":"IF($B62=\"\",\"\",VLOOKUP($A62,出場選手エントリー票!$C$5:$AL$124,12+1,0))","v":""},{"$f":"IF($B62=\"\",\"\",VLOOKUP($A62,出場選手エントリー票!$C$5:$AL$124,13+1,0))","v":""},{"$f":"IF($B62=\"\",\"\",VLOOKUP($A62,出場選手エントリー票!$C$5:$AL$124,14+1,0))","v":""},{"$f":"IF($B62=\"\",\"\",IF(VLOOKUP($A62,出場選手エントリー票!$C$5:$AL$124,15+1,0)=\"\",\"\",VLOOKUP($A62,出場選手エントリー票!$C$5:$AL$124,15+1,0)))","v":""},{"$f":"IF($B62=\"\",\"\",IF(VLOOKUP($A62,出場選手エントリー票!$C$5:$AL$124,19+1,0)=\"\",\"\",VLOOKUP($A62,出場選手エントリー票!$C$5:$AL$124,19+1,0)))","v":""},{"$f":"IF($B62=\"\",\"\",IF(VLOOKUP($A62,出場選手エントリー票!$C$5:$AL$124,23+1,0)=\"\",\"\",VLOOKUP($A62,出場選手エントリー票!$C$5:$AL$124,23+1,0)))","v":""},{"$f":"IF($B62=\"\",\"\",IF(VLOOKUP($A62,出場選手エントリー票!$C$5:$AL$124,27+1,0)=\"\",\"\",VLOOKUP($A62,出場選手エントリー票!$C$5:$AL$124,27+1,0)))","v":""},{"$f":"IF($B62=\"\",\"\",IF(VLOOKUP($A62,出場選手エントリー票!$C$5:$AL$124,31+1,0)=\"\",\"\",VLOOKUP($A62,出場選手エントリー票!$C$5:$AL$124,31+1,0)))","v":""},null,null,null,null,null,null,null,null,null,null,"64"]
[62,{"$f":"IF(ISERROR(VLOOKUP($A63,出場選手エントリー票!$C$5:$AL$124,4,0)),\"\",VLOOKUP($A63,出場選手エントリー票!$C$5:$AL$124,4,0))","v":""},{"$f":"IF($B63=\"\",\"\",VLOOKUP($A63,出場選手エントリー票!$C$5:$AL$124,5+1,0))","v":""},{"$f":"IF($B63=\"\",\"\",VLOOKUP($A63,出場選手エントリー票!$C$5:$AL$124,6+1,0))","v":""},{"$f":"IF($B63=\"\",\"\",VLOOKUP($A63,出場選手エントリー票!$C$5:$AL$124,9+1,0))","v":""},{"$f":"IF($B63=\"\",\"\",VLOOKUP($A63,出場選手エントリー票!$C$5:$AL$124,10+1,0))","v":""},{"$f":"IF($B63=\"\",\"\",VLOOKUP($A63,出場選手エントリー票!$C$5:$AL$124,11+1,0))","v":""},{"$f":"IF($B63=\"\",\"\",VLOOKUP($A63,出場選手エントリー票!$C$5:$AL$124,12+1,0))","v":""},{"$f":"IF($B63=\"\",\"\",VLOOKUP($A63,出場選手エントリー票!$C$5:$AL$124,13+1,0))","v":""},{"$f":"IF($B63=\"\",\"\",VLOOKUP($A63,出場選手エントリー票!$C$5:$AL$124,14+1,0))","v":""},{"$f":"IF($B63=\"\",\"\",IF(VLOOKUP($A63,出場選手エントリー票!$C$5:$AL$124,15+1,0)=\"\",\"\",VLOOKUP($A63,出場選手エントリー票!$C$5:$AL$124,15+1,0)))","v":""},{"$f":"IF($B63=\"\",\"\",IF(VLOOKUP($A63,出場選手エントリー票!$C$5:$AL$124,19+1,0)=\"\",\"\",VLOOKUP($A63,出場選手エントリー票!$C$5:$AL$124,19+1,0)))","v":""},{"$f":"IF($B63=\"\",\"\",IF(VLOOKUP($A63,出場選手エントリー票!$C$5:$AL$124,23+1,0)=\"\",\"\",VLOOKUP($A63,出場選手エントリー票!$C$5:$AL$124,23+1,0)))","v":""},{"$f":"IF($B63=\"\",\"\",IF(VLOOKUP($A63,出場選手エントリー票!$C$5:$AL$124,27+1,0)=\"\",\"\",VLOOKUP($A63,出場選手エントリー票!$C$5:$AL$124,27+1,0)))","v":""},{"$f":"IF($B63=\"\",\"\",IF(VLOOKUP($A63,出場選手エントリー票!$C$5:$AL$124,31+1,0)=\"\",\"\",VLOOKUP($A63,出場選手エントリー票!$C$5:$AL$124,31+1,0)))","v":""},null,null,null,null,null,null,null,null,null,null,"65"]
[63,{"$f":"IF(ISERROR(VLOOKUP($A64,出場選手エントリー票!$C$5:$AL$124,4,0)),\"\",VLOOKUP($A64,出場選手エントリー票!$C$5:$AL$124,4,0))","v":""},{"$f":"IF($B64=\"\",\"\",VLOOKUP($A64,出場選手エントリー票!$C$5:$AL$124,5+1,0))","v":""},{"$f":"IF($B64=\"\",\"\",VLOOKUP($A64,出場選手エントリー票!$C$5:$AL$124,6+1,0))","v":""},{"$f":"IF($B64=\"\",\"\",VLOOKUP($A64,出場選手エントリー票!$C$5:$AL$124,9+1,0))","v":""},{"$f":"IF($B64=\"\",\"\",VLOOKUP($A64,出場選手エントリー票!$C$5:$AL$124,10+1,0))","v":""},{"$f":"IF($B64=\"\",\"\",VLOOKUP($A64,出場選手エントリー票!$C$5:$AL$124,11+1,0))","v":""},{"$f":"IF($B64=\"\",\"\",VLOOKUP($A64,出場選手エントリー票!$C$5:$AL$124,12+1,0))","v":""},{"$f":"IF($B64=\"\",\"\",VLOOKUP($A64,出場選手エントリー票!$C$5:$AL$124,13+1,0))","v":""},{"$f":"IF($B64=\"\",\"\",VLOOKUP($A64,出場選手エントリー票!$C$5:$AL$124,14+1,0))","v":""},{"$f":"IF($B64=\"\",\"\",IF(VLOOKUP($A64,出場選手エントリー票!$C$5:$AL$124,15+1,0)=\"\",\"\",VLOOKUP($A64,出場選手エントリー票!$C$5:$AL$124,15+1,0)))","v":""},{"$f":"IF($B64=\"\",\"\",IF(VLOOKUP($A64,出場選手エントリー票!$C$5:$AL$124,19+1,0)=\"\",\"\",VLOOKUP($A64,出場選手エントリー票!$C$5:$AL$124,19+1,0)))","v":""},{"$f":"IF($B64=\"\",\"\",IF(VLOOKUP($A64,出場選手エントリー票!$C$5:$AL$124,23+1,0)=\"\",\"\",VLOOKUP($A64,出場選手エントリー票!$C$5:$AL$124,23+1,0)))","v":""},{"$f":"IF($B64=\"\",\"\",IF(VLOOKUP($A64,出場選手エントリー票!$C$5:$AL$124,27+1,0)=\"\",\"\",VLOOKUP($A64,出場選手エントリー票!$C$5:$AL$124,27+1,0)))","v":""},{"$f":"IF($B64=\"\",\"\",IF(VLOOKUP($A64,出場選手エントリー票!$C$5:$AL$124,31+1,0)=\"\",\"\",VLOOKUP($A64,出場選手エントリー票!$C$5:$AL$124,31+1,0)))","v":""},null,null,null,null,null,null,null,null,null,null,"66"]
[64,{"$f":"IF(ISERROR(VLOOKUP($A65,出場選手エントリー票!$C$5:$AL$124,4,0)),\"\",VLOOKUP($A65,出場選手エントリー票!$C$5:$AL$124,4,0))","v":""},{"$f":"IF($B65=\"\",\"\",VLOOKUP($A65,出場選手エントリー票!$C$5:$AL$124,5+1,0))","v":""},{"$f":"IF($B65=\"\",\"\",VLOOKUP($A65,出場選手エントリー票!$C$5:$AL$124,6+1,0))","v":""},{"$f":"IF($B65=\"\",\"\",VLOOKUP($A65,出場選手エントリー票!$C$5:$AL$124,9+1,0))","v":""},{"$f":"IF($B65=\"\",\"\",VLOOKUP($A65,出場選手エントリー票!$C$5:$AL$124,10+1,0))","v":""},{"$f":"IF($B65=\"\",\"\",VLOOKUP($A65,出場選手エントリー票!$C$5:$AL$124,11+1,0))","v":""},{"$f":"IF($B65=\"\",\"\",VLOOKUP($A65,出場選手エントリー票!$C$5:$AL$124,12+1,0))","v":""},{"$f":"IF($B65=\"\",\"\",VLOOKUP($A65,出場選手エントリー票!$C$5:$AL$124,13+1,0))","v":""},{"$f":"IF($B65=\"\",\"\",VLOOKUP($A65,出場選手エントリー票!$C$5:$AL$124,14+1,0))","v":""},{"$f":"IF($B65=\"\",\"\",IF(VLOOKUP($A65,出場選手エントリー票!$C$5:$AL$124,15+1,0)=\"\",\"\",VLOOKUP($A65,出場選手エントリー票!$C$5:$AL$124,15+1,0)))","v":""},{"$f":"IF($B65=\"\",\"\",IF(VLOOKUP($A65,出場選手エントリー票!$C$5:$AL$124,19+1,0)=\"\",\"\",VLOOKUP($A65,出場選手エントリー票!$C$5:$AL$124,19+1,0)))","v":""},{"$f":"IF($B65=\"\",\"\",IF(VLOOKUP($A65,出場選手エントリー票!$C$5:$AL$124,23+1,0)=\"\",\"\",VLOOKUP($A65,出場選手エントリー票!$C$5:$AL$124,23+1,0)))","v":""},{"$f":"IF($B65=\"\",\"\",IF(VLOOKUP($A65,出場選手エントリー票!$C$5:$AL$124,27+1,0)=\"\",\"\",VLOOKUP($A65,出場選手エントリー票!$C$5:$AL$124,27+1,0)))","v":""},{"$f":"IF($B65=\"\",\"\",IF(VLOOKUP($A65,出場選手エントリー票!$C$5:$AL$124,31+1,0)=\"\",\"\",VLOOKUP($A65,出場選手エントリー票!$C$5:$AL$124,31+1,0)))","v":""},null,null,null,null,null,null,null,null,null,null,"67"]
[65,{"$f":"IF(ISERROR(VLOOKUP($A66,出場選手エントリー票!$C$5:$AL$124,4,0)),\"\",VLOOKUP($A66,出場選手エントリー票!$C$5:$AL$124,4,0))","v":""},{"$f":"IF($B66=\"\",\"\",VLOOKUP($A66,出場選手エントリー票!$C$5:$AL$124,5+1,0))","v":""},{"$f":"IF($B66=\"\",\"\",VLOOKUP($A66,出場選手エントリー票!$C$5:$AL$124,6+1,0))","v":""},{"$f":"IF($B66=\"\",\"\",VLOOKUP($A66,出場選手エントリー票!$C$5:$AL$124,9+1,0))","v":""},{"$f":"IF($B66=\"\",\"\",VLOOKUP($A66,出場選手エントリー票!$C$5:$AL$124,10+1,0))","v":""},{"$f":"IF($B66=\"\",\"\",VLOOKUP($A66,出場選手エントリー票!$C$5:$AL$124,11+1,0))","v":""},{"$f":"IF($B66=\"\",\"\",VLOOKUP($A66,出場選手エントリー票!$C$5:$AL$124,12+1,0))","v":""},{"$f":"IF($B66=\"\",\"\",VLOOKUP($A66,出場選手エントリー票!$C$5:$AL$124,13+1,0))","v":""},{"$f":"IF($B66=\"\",\"\",VLOOKUP($A66,出場選手エントリー票!$C$5:$AL$124,14+1,0))","v":""},{"$f":"IF($B66=\"\",\"\",IF(VLOOKUP($A66,出場選手エントリー票!$C$5:$AL$124,15+1,0)=\"\",\"\",VLOOKUP($A66,出場選手エントリー票!$C$5:$AL$124,15+1,0)))","v":""},{"$f":"IF($B66=\"\",\"\",IF(VLOOKUP($A66,出場選手エントリー票!$C$5:$AL$124,19+1,0)=\"\",\"\",VLOOKUP($A66,出場選手エントリー票!$C$5:$AL$124,19+1,0)))","v":""},{"$f":"IF($B66=\"\",\"\",IF(VLOOKUP($A66,出場選手エントリー票!$C$5:$AL$124,23+1,0)=\"\",\"\",VLOOKUP($A66,出場選手エントリー票!$C$5:$AL$124,23+1,0)))","v":""},{"$f":"IF($B66=\"\",\"\",IF(VLOOKUP($A66,出場選手エントリー票!$C$5:$AL$124,27+1,0)=\"\",\"\",VLOOKUP($A66,出場選手エントリー票!$C$5:$AL$124,27+1,0)))","v":""},{"$f":"IF($B66=\"\",\"\",IF(VLOOKUP($A66,出場選手エントリー票!$C$5:$AL$124,31+1,0)=\"\",\"\",VLOOKUP($A66,出場選手エントリー票!$C$5:$AL$124,31+1,0)))","v":""},null,null,null,null,null,null,null,null,null,null,"68"]
[66,{"$f":"IF(ISERROR(VLOOKUP($A67,出場選手エントリー票!$C$5:$AL$124,4,0)),\"\",VLOOKUP($A67,出場選手エントリー票!$C$5:$AL$124,4,0))","v":""},{"$f":"IF($B67=\"\",\"\",VLOOKUP($A67,出場選手エントリー票!$C$5:$AL$124,5+1,0))","v":""},{"$f":"IF($B67=\"\",\"\",VLOOKUP($A67,出場選手エントリー票!$C$5:$AL$124,6+1,0))","v":""},{"$f":"IF($B67=\"\",\"\",VLOOKUP($A67,出場選手エントリー票!$C$5:$AL$124,9+1,0))","v":""},{"$f":"IF($B67=\"\",\"\",VLOOKUP($A67,出場選手エントリー票!$C$5:$AL$124,10+1,0))","v":""},{"$f":"IF($B67=\"\",\"\",VLOOKUP($A67,出場選手エントリー票!$C$5:$AL$124,11+1,0))","v":""},{"$f":"IF($B67=\"\",\"\",VLOOKUP($A67,出場選手エントリー票!$C$5:$AL$124,12+1,0))","v":""},{"$f":"IF($B67=\"\",\"\",VLOOKUP($A67,出場選手エントリー票!$C$5:$AL$124,13+1,0))","v":""},{"$f":"IF($B67=\"\",\"\",VLOOKUP($A67,出場選手エントリー票!$C$5:$AL$124,14+1,0))","v":""},{"$f":"IF($B67=\"\",\"\",IF(VLOOKUP($A67,出場選手エントリー票!$C$5:$AL$124,15+1,0)=\"\",\"\",VLOOKUP($A67,出場選手エントリー票!$C$5:$AL$124,15+1,0)))","v":""},{"$f":"IF($B67=\"\",\"\",IF(VLOOKUP($A67,出場選手エントリー票!$C$5:$AL$124,19+1,0)=\"\",\"\",VLOOKUP($A67,出場選手エントリー票!$C$5:$AL$124,19+1,0)))","v":""},{"$f":"IF($B67=\"\",\"\",IF(VLOOKUP($A67,出場選手エントリー票!$C$5:$AL$124,23+1,0)=\"\",\"\",VLOOKUP($A67,出場選手エントリー票!$C$5:$AL$124,23+1,0)))","v":""},{"$f":"IF($B67=\"\",\"\",IF(VLOOKUP($A67,出場選手エントリー票!$C$5:$AL$124,27+1,0)=\"\",\"\",VLOOKUP($A67,出場選手エントリー票!$C$5:$AL$124,27+1,0)))","v":""},{"$f":"IF($B67=\"\",\"\",IF(VLOOKUP($A67,出場選手エントリー票!$C$5:$AL$124,31+1,0)=\"\",\"\",VLOOKUP($A67,出場選手エントリー票!$C$5:$AL$124,31+1,0)))","v":""},null,null,null,null,null,null,null,null,null,null,"69"]
[67,{"$f":"IF(ISERROR(VLOOKUP($A68,出場選手エントリー票!$C$5:$AL$124,4,0)),\"\",VLOOKUP($A68,出場選手エントリー票!$C$5:$AL$124,4,0))","v":""},{"$f":"IF($B68=\"\",\"\",VLOOKUP($A68,出場選手エントリー票!$C$5:$AL$124,5+1,0))","v":""},{"$f":"IF($B68=\"\",\"\",VLOOKUP($A68,出場選手エントリー票!$C$5:$AL$124,6+1,0))","v":""},{"$f":"IF($B68=\"\",\"\",VLOOKUP($A68,出場選手エントリー票!$C$5:$AL$124,9+1,0))","v":""},{"$f":"IF($B68=\"\",\"\",VLOOKUP($A68,出場選手エントリー票!$C$5:$AL$124,10+1,0))","v":""},{"$f":"IF($B68=\"\",\"\",VLOOKUP($A68,出場選手エントリー票!$C$5:$AL$124,11+1,0))","v":""},{"$f":"IF($B68=\"\",\"\",VLOOKUP($A68,出場選手エントリー票!$C$5:$AL$124,12+1,0))","v":""},{"$f":"IF($B68=\"\",\"\",VLOOKUP($A68,出場選手エントリー票!$C$5:$AL$124,13+1,0))","v":""},{"$f":"IF($B68=\"\",\"\",VLOOKUP($A68,出場選手エントリー票!$C$5:$AL$124,14+1,0))","v":""},{"$f":"IF($B68=\"\",\"\",IF(VLOOKUP($A68,出場選手エントリー票!$C$5:$AL$124,15+1,0)=\"\",\"\",VLOOKUP($A68,出場選手エントリー票!$C$5:$AL$124,15+1,0)))","v":""},{"$f":"IF($B68=\"\",\"\",IF(VLOOKUP($A68,出場選手エントリー票!$C$5:$AL$124,19+1,0)=\"\",\"\",VLOOKUP($A68,出場選手エントリー票!$C$5:$AL$124,19+1,0)))","v":""},{"$f":"IF($B68=\"\",\"\",IF(VLOOKUP($A68,出場選手エントリー票!$C$5:$AL$124,23+1,0)=\"\",\"\",VLOOKUP($A68,出場選手エントリー票!$C$5:$AL$124,23+1,0)))","v":""},{"$f":"IF($B68=\"\",\"\",IF(VLOOKUP($A68,出場選手エントリー票!$C$5:$AL$124,27+1,0)=\"\",\"\",VLOOKUP($A68,出場選手エントリー票!$C$5:$AL$124,27+1,0)))","v":""},{"$f":"IF($B68=\"\",\"\",IF(VLOOKUP($A68,出場選手エントリー票!$C$5:$AL$124,31+1,0)=\"\",\"\",VLOOKUP($A68,出場選手エントリー票!$C$5:$AL$124,31+1,0)))","v":""},null,null,null,null,null,null,null,null,null,null,"70"]
[68,{"$f":"IF(ISERROR(VLOOKUP($A69,出場選手エントリー票!$C$5:$AL$124,4,0)),\"\",VLOOKUP($A69,出場選手エントリー票!$C$5:$AL$124,4,0))","v":""},{"$f":"IF($B69=\"\",\"\",VLOOKUP($A69,出場選手エントリー票!$C$5:$AL$124,5+1,0))","v":""},{"$f":"IF($B69=\"\",\"\",VLOOKUP($A69,出場選手エントリー票!$C$5:$AL$124,6+1,0))","v":""},{"$f":"IF($B69=\"\",\"\",VLOOKUP($A69,出場選手エントリー票!$C$5:$AL$124,9+1,0))","v":""},{"$f":"IF($B69=\"\",\"\",VLOOKUP($A69,出場選手エントリー票!$C$5:$AL$124,10+1,0))","v":""},{"$f":"IF($B69=\"\",\"\",VLOOKUP($A69,出場選手エントリー票!$C$5:$AL$124,11+1,0))","v":""},{"$f":"IF($B69=\"\",\"\",VLOOKUP($A69,出場選手エントリー票!$C$5:$AL$124,12+1,0))","v":""},{"$f":"IF($B69=\"\",\"\",VLOOKUP($A69,出場選手エントリー票!$C$5:$AL$124,13+1,0))","v":""},{"$f":"IF($B69=\"\",\"\",VLOOKUP($A69,出場選手エントリー票!$C$5:$AL$124,14+1,0))","v":""},{"$f":"IF($B69=\"\",\"\",IF(VLOOKUP($A69,出場選手エントリー票!$C$5:$AL$124,15+1,0)=\"\",\"\",VLOOKUP($A69,出場選手エントリー票!$C$5:$AL$124,15+1,0)))","v":""},{"$f":"IF($B69=\"\",\"\",IF(VLOOKUP($A69,出場選手エントリー票!$C$5:$AL$124,19+1,0)=\"\",\"\",VLOOKUP($A69,出場選手エントリー票!$C$5:$AL$124,19+1,0)))","v":""},{"$f":"IF($B69=\"\",\"\",IF(VLOOKUP($A69,出場選手エントリー票!$C$5:$AL$124,23+1,0)=\"\",\"\",VLOOKUP($A69,出場選手エントリー票!$C$5:$AL$124,23+1,0)))","v":""},{"$f":"IF($B69=\"\",\"\",IF(VLOOKUP($A69,出場選手エントリー票!$C$5:$AL$124,27+1,0)=\"\",\"\",VLOOKUP($A69,出場選手エントリー票!$C$5:$AL$124,27+1,0)))","v":""},{"$f":"IF($B69=\"\",\"\",IF(VLOOKUP($A69,出場選手エントリー票!$C$5:$AL$124,31+1,0)=\"\",\"\",VLOOKUP($A69,出場選手エントリー票!$C$5:$AL$124,31+1,0)))","v":""},null,null,null,null,null,null,null,null,null,null,"71"]
[69,{"$f":"IF(ISERROR(VLOOKUP($A70,出場選手エントリー票!$C$5:$AL$124,4,0)),\"\",VLOOKUP($A70,出場選手エントリー票!$C$5:$AL$124,4,0))","v":""},{"$f":"IF($B70=\"\",\"\",VLOOKUP($A70,出場選手エントリー票!$C$5:$AL$124,5+1,0))","v":""},{"$f":"IF($B70=\"\",\"\",VLOOKUP($A70,出場選手エントリー票!$C$5:$AL$124,6+1,0))","v":""},{"$f":"IF($B70=\"\",\"\",VLOOKUP($A70,出場選手エントリー票!$C$5:$AL$124,9+1,0))","v":""},{"$f":"IF($B70=\"\",\"\",VLOOKUP($A70,出場選手エントリー票!$C$5:$AL$124,10+1,0))","v":""},{"$f":"IF($B70=\"\",\"\",VLOOKUP($A70,出場選手エントリー票!$C$5:$AL$124,11+1,0))","v":""},{"$f":"IF($B70=\"\",\"\",VLOOKUP($A70,出場選手エントリー票!$C$5:$AL$124,12+1,0))","v":""},{"$f":"IF($B70=\"\",\"\",VLOOKUP($A70,出場選手エントリー票!$C$5:$AL$124,13+1,0))","v":""},{"$f":"IF($B70=\"\",\"\",VLOOKUP($A70,出場選手エントリー票!$C$5:$AL$124,14+1,0))","v":""},{"$f":"IF($B70=\"\",\"\",IF(VLOOKUP($A70,出場選手エントリー票!$C$5:$AL$124,15+1,0)=\"\",\"\",VLOOKUP($A70,出場選手エントリー票!$C$5:$AL$124,15+1,0)))","v":""},{"$f":"IF($B70=\"\",\"\",IF(VLOOKUP($A70,出場選手エントリー票!$C$5:$AL$124,19+1,0)=\"\",\"\",VLOOKUP($A70,出場選手エントリー票!$C$5:$AL$124,19+1,0)))","v":""},{"$f":"IF($B70=\"\",\"\",IF(VLOOKUP($A70,出場選手エントリー票!$C$5:$AL$124,23+1,0)=\"\",\"\",VLOOKUP($A70,出場選手エントリー票!$C$5:$AL$124,23+1,0)))","v":""},{"$f":"IF($B70=\"\",\"\",IF(VLOOKUP($A70,出場選手エントリー票!$C$5:$AL$124,27+1,0)=\"\",\"\",VLOOKUP($A70,出場選手エントリー票!$C$5:$AL$124,27+1,0)))","v":""},{"$f":"IF($B70=\"\",\"\",IF(VLOOKUP($A70,出場選手エントリー票!$C$5:$AL$124,31+1,0)=\"\",\"\",VLOOKUP($A70,出場選手エントリー票!$C$5:$AL$124,31+1,0)))","v":""},null,null,null,null,null,null,null,null,null,null,"72"]
[70,{"$f":"IF(ISERROR(VLOOKUP($A71,出場選手エントリー票!$C$5:$AL$124,4,0)),\"\",VLOOKUP($A71,出場選手エントリー票!$C$5:$AL$124,4,0))","v":""},{"$f":"IF($B71=\"\",\"\",VLOOKUP($A71,出場選手エントリー票!$C$5:$AL$124,5+1,0))","v":""},{"$f":"IF($B71=\"\",\"\",VLOOKUP($A71,出場選手エントリー票!$C$5:$AL$124,6+1,0))","v":""},{"$f":"IF($B71=\"\",\"\",VLOOKUP($A71,出場選手エントリー票!$C$5:$AL$124,9+1,0))","v":""},{"$f":"IF($B71=\"\",\"\",VLOOKUP($A71,出場選手エントリー票!$C$5:$AL$124,10+1,0))","v":""},{"$f":"IF($B71=\"\",\"\",VLOOKUP($A71,出場選手エントリー票!$C$5:$AL$124,11+1,0))","v":""},{"$f":"IF($B71=\"\",\"\",VLOOKUP($A71,出場選手エントリー票!$C$5:$AL$124,12+1,0))","v":""},{"$f":"IF($B71=\"\",\"\",VLOOKUP($A71,出場選手エントリー票!$C$5:$AL$124,13+1,0))","v":""},{"$f":"IF($B71=\"\",\"\",VLOOKUP($A71,出場選手エントリー票!$C$5:$AL$124,14+1,0))","v":""},{"$f":"IF($B71=\"\",\"\",IF(VLOOKUP($A71,出場選手エントリー票!$C$5:$AL$124,15+1,0)=\"\",\"\",VLOOKUP($A71,出場選手エントリー票!$C$5:$AL$124,15+1,0)))","v":""},{"$f":"IF($B71=\"\",\"\",IF(VLOOKUP($A71,出場選手エントリー票!$C$5:$AL$124,19+1,0)=\"\",\"\",VLOOKUP($A71,出場選手エントリー票!$C$5:$AL$124,19+1,0)))","v":""},{"$f":"IF($B71=\"\",\"\",IF(VLOOKUP($A71,出場選手エントリー票!$C$5:$AL$124,23+1,0)=\"\",\"\",VLOOKUP($A71,出場選手エントリー票!$C$5:$AL$124,23+1,0)))","v":""},{"$f":"IF($B71=\"\",\"\",IF(VLOOKUP($A71,出場選手エントリー票!$C$5:$AL$124,27+1,0)=\"\",\"\",VLOOKUP($A71,出場選手エントリー票!$C$5:$AL$124,27+1,0)))","v":""},{"$f":"IF($B71=\"\",\"\",IF(VLOOKUP($A71,出場選手エントリー票!$C$5:$AL$124,31+1,0)=\"\",\"\",VLOOKUP($A71,出場選手エントリー票!$C$5:$AL$124,31+1,0)))","v":""},null,null,null,null,null,null,null,null,null,null,"73"]
[71,{"$f":"IF(ISERROR(VLOOKUP($A72,出場選手エントリー票!$C$5:$AL$124,4,0)),\"\",VLOOKUP($A72,出場選手エントリー票!$C$5:$AL$124,4,0))","v":""},{"$f":"IF($B72=\"\",\"\",VLOOKUP($A72,出場選手エントリー票!$C$5:$AL$124,5+1,0))","v":""},{"$f":"IF($B72=\"\",\"\",VLOOKUP($A72,出場選手エントリー票!$C$5:$AL$124,6+1,0))","v":""},{"$f":"IF($B72=\"\",\"\",VLOOKUP($A72,出場選手エントリー票!$C$5:$AL$124,9+1,0))","v":""},{"$f":"IF($B72=\"\",\"\",VLOOKUP($A72,出場選手エントリー票!$C$5:$AL$124,10+1,0))","v":""},{"$f":"IF($B72=\"\",\"\",VLOOKUP($A72,出場選手エントリー票!$C$5:$AL$124,11+1,0))","v":""},{"$f":"IF($B72=\"\",\"\",VLOOKUP($A72,出場選手エントリー票!$C$5:$AL$124,12+1,0))","v":""},{"$f":"IF($B72=\"\",\"\",VLOOKUP($A72,出場選手エントリー票!$C$5:$AL$124,13+1,0))","v":""},{"$f":"IF($B72=\"\",\"\",VLOOKUP($A72,出場選手エントリー票!$C$5:$AL$124,14+1,0))","v":""},{"$f":"IF($B72=\"\",\"\",IF(VLOOKUP($A72,出場選手エントリー票!$C$5:$AL$124,15+1,0)=\"\",\"\",VLOOKUP($A72,出場選手エントリー票!$C$5:$AL$124,15+1,0)))","v":""},{"$f":"IF($B72=\"\",\"\",IF(VLOOKUP($A72,出場選手エントリー票!$C$5:$AL$124,19+1,0)=\"\",\"\",VLOOKUP($A72,出場選手エントリー票!$C$5:$AL$124,19+1,0)))","v":""},{"$f":"IF($B72=\"\",\"\",IF(VLOOKUP($A72,出場選手エントリー票!$C$5:$AL$124,23+1,0)=\"\",\"\",VLOOKUP($A72,出場選手エントリー票!$C$5:$AL$124,23+1,0)))","v":""},{"$f":"IF($B72=\"\",\"\",IF(VLOOKUP($A72,出場選手エントリー票!$C$5:$AL$124,27+1,0)=\"\",\"\",VLOOKUP($A72,出場選手エントリー票!$C$5:$AL$124,27+1,0)))","v":""},{"$f":"IF($B72=\"\",\"\",IF(VLOOKUP($A72,出場選手エントリー票!$C$5:$AL$124,31+1,0)=\"\",\"\",VLOOKUP($A72,出場選手エントリー票!$C$5:$AL$124,31+1,0)))","v":""},null,null,null,null,null,null,null,null,null,null,"74"]
[72,{"$f":"IF(ISERROR(VLOOKUP($A73,出場選手エントリー票!$C$5:$AL$124,4,0)),\"\",VLOOKUP($A73,出場選手エントリー票!$C$5:$AL$124,4,0))","v":""},{"$f":"IF($B73=\"\",\"\",VLOOKUP($A73,出場選手エントリー票!$C$5:$AL$124,5+1,0))","v":""},{"$f":"IF($B73=\"\",\"\",VLOOKUP($A73,出場選手エントリー票!$C$5:$AL$124,6+1,0))","v":""},{"$f":"IF($B73=\"\",\"\",VLOOKUP($A73,出場選手エントリー票!$C$5:$AL$124,9+1,0))","v":""},{"$f":"IF($B73=\"\",\"\",VLOOKUP($A73,出場選手エントリー票!$C$5:$AL$124,10+1,0))","v":""},{"$f":"IF($B73=\"\",\"\",VLOOKUP($A73,出場選手エントリー票!$C$5:$AL$124,11+1,0))","v":""},{"$f":"IF($B73=\"\",\"\",VLOOKUP($A73,出場選手エントリー票!$C$5:$AL$124,12+1,0))","v":""},{"$f":"IF($B73=\"\",\"\",VLOOKUP($A73,出場選手エントリー票!$C$5:$AL$124,13+1,0))","v":""},{"$f":"IF($B73=\"\",\"\",VLOOKUP($A73,出場選手エントリー票!$C$5:$AL$124,14+1,0))","v":""},{"$f":"IF($B73=\"\",\"\",IF(VLOOKUP($A73,出場選手エントリー票!$C$5:$AL$124,15+1,0)=\"\",\"\",VLOOKUP($A73,出場選手エントリー票!$C$5:$AL$124,15+1,0)))","v":""},{"$f":"IF($B73=\"\",\"\",IF(VLOOKUP($A73,出場選手エントリー票!$C$5:$AL$124,19+1,0)=\"\",\"\",VLOOKUP($A73,出場選手エントリー票!$C$5:$AL$124,19+1,0)))","v":""},{"$f":"IF($B73=\"\",\"\",IF(VLOOKUP($A73,出場選手エントリー票!$C$5:$AL$124,23+1,0)=\"\",\"\",VLOOKUP($A73,出場選手エントリー票!$C$5:$AL$124,23+1,0)))","v":""},{"$f":"IF($B73=\"\",\"\",IF(VLOOKUP($A73,出場選手エントリー票!$C$5:$AL$124,27+1,0)=\"\",\"\",VLOOKUP($A73,出場選手エントリー票!$C$5:$AL$124,27+1,0)))","v":""},{"$f":"IF($B73=\"\",\"\",IF(VLOOKUP($A73,出場選手エントリー票!$C$5:$AL$124,31+1,0)=\"\",\"\",VLOOKUP($A73,出場選手エントリー票!$C$5:$AL$124,31+1,0)))","v":""},null,null,null,null,null,null,null,null,null,null,"75"]
[73,{"$f":"IF(ISERROR(VLOOKUP($A74,出場選手エントリー票!$C$5:$AL$124,4,0)),\"\",VLOOKUP($A74,出場選手エントリー票!$C$5:$AL$124,4,0))","v":""},{"$f":"IF($B74=\"\",\"\",VLOOKUP($A74,出場選手エントリー票!$C$5:$AL$124,5+1,0))","v":""},{"$f":"IF($B74=\"\",\"\",VLOOKUP($A74,出場選手エントリー票!$C$5:$AL$124,6+1,0))","v":""},{"$f":"IF($B74=\"\",\"\",VLOOKUP($A74,出場選手エントリー票!$C$5:$AL$124,9+1,0))","v":""},{"$f":"IF($B74=\"\",\"\",VLOOKUP($A74,出場選手エントリー票!$C$5:$AL$124,10+1,0))","v":""},{"$f":"IF($B74=\"\",\"\",VLOOKUP($A74,出場選手エントリー票!$C$5:$AL$124,11+1,0))","v":""},{"$f":"IF($B74=\"\",\"\",VLOOKUP($A74,出場選手エントリー票!$C$5:$AL$124,12+1,0))","v":""},{"$f":"IF($B74=\"\",\"\",VLOOKUP($A74,出場選手エントリー票!$C$5:$AL$124,13+1,0))","v":""},{"$f":"IF($B74=\"\",\"\",VLOOKUP($A74,出場選手エントリー票!$C$5:$AL$124,14+1,0))","v":""},{"$f":"IF($B74=\"\",\"\",IF(VLOOKUP($A74,出場選手エントリー票!$C$5:$AL$124,15+1,0)=\"\",\"\",VLOOKUP($A74,出場選手エントリー票!$C$5:$AL$124,15+1,0)))","v":""},{"$f":"IF($B74=\"\",\"\",IF(VLOOKUP($A74,出場選手エントリー票!$C$5:$AL$124,19+1,0)=\"\",\"\",VLOOKUP($A74,出場選手エントリー票!$C$5:$AL$124,19+1,0)))","v":""},{"$f":"IF($B74=\"\",\"\",IF(VLOOKUP($A74,出場選手エントリー票!$C$5:$AL$124,23+1,0)=\"\",\"\",VLOOKUP($A74,出場選手エントリー票!$C$5:$AL$124,23+1,0)))","v":""},{"$f":"IF($B74=\"\",\"\",IF(VLOOKUP($A74,出場選手エントリー票!$C$5:$AL$124,27+1,0)=\"\",\"\",VLOOKUP($A74,出場選手エントリー票!$C$5:$AL$124,27+1,0)))","v":""},{"$f":"IF($B74=\"\",\"\",IF(VLOOKUP($A74,出場選手エントリー票!$C$5:$AL$124,31+1,0)=\"\",\"\",VLOOKUP($A74,出場選手エントリー票!$C$5:$AL$124,31+1,0)))","v":""},null,null,null,null,null,null,null,null,null,null,"76"]
[74,{"$f":"IF(ISERROR(VLOOKUP($A75,出場選手エントリー票!$C$5:$AL$124,4,0)),\"\",VLOOKUP($A75,出場選手エントリー票!$C$5:$AL$124,4,0))","v":""},{"$f":"IF($B75=\"\",\"\",VLOOKUP($A75,出場選手エントリー票!$C$5:$AL$124,5+1,0))","v":""},{"$f":"IF($B75=\"\",\"\",VLOOKUP($A75,出場選手エントリー票!$C$5:$AL$124,6+1,0))","v":""},{"$f":"IF($B75=\"\",\"\",VLOOKUP($A75,出場選手エントリー票!$C$5:$AL$124,9+1,0))","v":""},{"$f":"IF($B75=\"\",\"\",VLOOKUP($A75,出場選手エントリー票!$C$5:$AL$124,10+1,0))","v":""},{"$f":"IF($B75=\"\",\"\",VLOOKUP($A75,出場選手エントリー票!$C$5:$AL$124,11+1,0))","v":""},{"$f":"IF($B75=\"\",\"\",VLOOKUP($A75,出場選手エントリー票!$C$5:$AL$124,12+1,0))","v":""},{"$f":"IF($B75=\"\",\"\",VLOOKUP($A75,出場選手エントリー票!$C$5:$AL$124,13+1,0))","v":""},{"$f":"IF($B75=\"\",\"\",VLOOKUP($A75,出場選手エントリー票!$C$5:$AL$124,14+1,0))","v":""},{"$f":"IF($B75=\"\",\"\",IF(VLOOKUP($A75,出場選手エントリー票!$C$5:$AL$124,15+1,0)=\"\",\"\",VLOOKUP($A75,出場選手エントリー票!$C$5:$AL$124,15+1,0)))","v":""},{"$f":"IF($B75=\"\",\"\",IF(VLOOKUP($A75,出場選手エントリー票!$C$5:$AL$124,19+1,0)=\"\",\"\",VLOOKUP($A75,出場選手エントリー票!$C$5:$AL$124,19+1,0)))","v":""},{"$f":"IF($B75=\"\",\"\",IF(VLOOKUP($A75,出場選手エントリー票!$C$5:$AL$124,23+1,0)=\"\",\"\",VLOOKUP($A75,出場選手エントリー票!$C$5:$AL$124,23+1,0)))","v":""},{"$f":"IF($B75=\"\",\"\",IF(VLOOKUP($A75,出場選手エントリー票!$C$5:$AL$124,27+1,0)=\"\",\"\",VLOOKUP($A75,出場選手エントリー票!$C$5:$AL$124,27+1,0)))","v":""},{"$f":"IF($B75=\"\",\"\",IF(VLOOKUP($A75,出場選手エントリー票!$C$5:$AL$124,31+1,0)=\"\",\"\",VLOOKUP($A75,出場選手エントリー票!$C$5:$AL$124,31+1,0)))","v":""},null,null,null,null,null,null,null,null,null,null,"77"]
[75,{"$f":"IF(ISERROR(VLOOKUP($A76,出場選手エントリー票!$C$5:$AL$124,4,0)),\"\",VLOOKUP($A76,出場選手エントリー票!$C$5:$AL$124,4,0))","v":""},{"$f":"IF($B76=\"\",\"\",VLOOKUP($A76,出場選手エントリー票!$C$5:$AL$124,5+1,0))","v":""},{"$f":"IF($B76=\"\",\"\",VLOOKUP($A76,出場選手エントリー票!$C$5:$AL$124,6+1,0))","v":""},{"$f":"IF($B76=\"\",\"\",VLOOKUP($A76,出場選手エントリー票!$C$5:$AL$124,9+1,0))","v":""},{"$f":"IF($B76=\"\",\"\",VLOOKUP($A76,出場選手エントリー票!$C$5:$AL$124,10+1,0))","v":""},{"$f":"IF($B76=\"\",\"\",VLOOKUP($A76,出場選手エントリー票!$C$5:$AL$124,11+1,0))","v":""},{"$f":"IF($B76=\"\",\"\",VLOOKUP($A76,出場選手エントリー票!$C$5:$AL$124,12+1,0))","v":""},{"$f":"IF($B76=\"\",\"\",VLOOKUP($A76,出場選手エントリー票!$C$5:$AL$124,13+1,0))","v":""},{"$f":"IF($B76=\"\",\"\",VLOOKUP($A76,出場選手エントリー票!$C$5:$AL$124,14+1,0))","v":""},{"$f":"IF($B76=\"\",\"\",IF(VLOOKUP($A76,出場選手エントリー票!$C$5:$AL$124,15+1,0)=\"\",\"\",VLOOKUP($A76,出場選手エントリー票!$C$5:$AL$124,15+1,0)))","v":""},{"$f":"IF($B76=\"\",\"\",IF(VLOOKUP($A76,出場選手エントリー票!$C$5:$AL$124,19+1,0)=\"\",\"\",VLOOKUP($A76,出場選手エントリー票!$C$5:$AL$124,19+1,0)))","v":""},{"$f":"IF($B76=\"\",\"\",IF(VLOOKUP($A76,出場選手エントリー票!$C$5:$AL$124,23+1,0)=\"\",\"\",VLOOKUP($A76,出場選手エントリー票!$C$5:$AL$124,23+1,0)))","v":""},{"$f":"IF($B76=\"\",\"\",IF(VLOOKUP($A76,出場選手エントリー票!$C$5:$AL$124,27+1,0)=\"\",\"\",VLOOKUP($A76,出場選手エントリー票!$C$5:$AL$124,27+1,0)))","v":""},{"$f":"IF($B76=\"\",\"\",IF(VLOOKUP($A76,出場選手エントリー票!$C$5:$AL$124,31+1,0)=\"\",\"\",VLOOKUP($A76,出場選手エントリー票!$C$5:$AL$124,31+1,0)))","v":""},null,null,null,null,null,null,null,null,null,null,"78"]
[76,{"$f":"IF(ISERROR(VLOOKUP($A77,出場選手エントリー票!$C$5:$AL$124,4,0)),\"\",VLOOKUP($A77,出場選手エントリー票!$C$5:$AL$124,4,0))","v":""},{"$f":"IF($B77=\"\",\"\",VLOOKUP($A77,出場選手エントリー票!$C$5:$AL$124,5+1,0))","v":""},{"$f":"IF($B77=\"\",\"\",VLOOKUP($A77,出場選手エントリー票!$C$5:$AL$124,6+1,0))","v":""},{"$f":"IF($B77=\"\",\"\",VLOOKUP($A77,出場選手エントリー票!$C$5:$AL$124,9+1,0))","v":""},{"$f":"IF($B77=\"\",\"\",VLOOKUP($A77,出場選手エントリー票!$C$5:$AL$124,10+1,0))","v":""},{"$f":"IF($B77=\"\",\"\",VLOOKUP($A77,出場選手エントリー票!$C$5:$AL$124,11+1,0))","v":""},{"$f":"IF($B77=\"\",\"\",VLOOKUP($A77,出場選手エントリー票!$C$5:$AL$124,12+1,0))","v":""},{"$f":"IF($B77=\"\",\"\",VLOOKUP($A77,出場選手エントリー票!$C$5:$AL$124,13+1,0))","v":""},{"$f":"IF($B77=\"\",\"\",VLOOKUP($A77,出場選手エントリー票!$C$5:$AL$124,14+1,0))","v":""},{"$f":"IF($B77=\"\",\"\",IF(VLOOKUP($A77,出場選手エントリー票!$C$5:$AL$124,15+1,0)=\"\",\"\",VLOOKUP($A77,出場選手エントリー票!$C$5:$AL$124,15+1,0)))","v":""},{"$f":"IF($B77=\"\",\"\",IF(VLOOKUP($A77,出場選手エントリー票!$C$5:$AL$124,19+1,0)=\"\",\"\",VLOOKUP($A77,出場選手エントリー票!$C$5:$AL$124,19+1,0)))","v":""},{"$f":"IF($B77=\"\",\"\",IF(VLOOKUP($A77,出場選手エントリー票!$C$5:$AL$124,23+1,0)=\"\",\"\",VLOOKUP($A77,出場選手エントリー票!$C$5:$AL$124,23+1,0)))","v":""},{"$f":"IF($B77=\"\",\"\",IF(VLOOKUP($A77,出場選手エントリー票!$C$5:$AL$124,27+1,0)=\"\",\"\",VLOOKUP($A77,出場選手エントリー票!$C$5:$AL$124,27+1,0)))","v":""},{"$f":"IF($B77=\"\",\"\",IF(VLOOKUP($A77,出場選手エントリー票!$C$5:$AL$124,31+1,0)=\"\",\"\",VLOOKUP($A77,出場選手エントリー票!$C$5:$AL$124,31+1,0)))","v":""},null,null,null,null,null,null,null,null,null,null,"79"]
[77,{"$f":"IF(ISERROR(VLOOKUP($A78,出場選手エントリー票!$C$5:$AL$124,4,0)),\"\",VLOOKUP($A78,出場選手エントリー票!$C$5:$AL$124,4,0))","v":""},{"$f":"IF($B78=\"\",\"\",VLOOKUP($A78,出場選手エントリー票!$C$5:$AL$124,5+1,0))","v":""},{"$f":"IF($B78=\"\",\"\",VLOOKUP($A78,出場選手エントリー票!$C$5:$AL$124,6+1,0))","v":""},{"$f":"IF($B78=\"\",\"\",VLOOKUP($A78,出場選手エントリー票!$C$5:$AL$124,9+1,0))","v":""},{"$f":"IF($B78=\"\",\"\",VLOOKUP($A78,出場選手エントリー票!$C$5:$AL$124,10+1,0))","v":""},{"$f":"IF($B78=\"\",\"\",VLOOKUP($A78,出場選手エントリー票!$C$5:$AL$124,11+1,0))","v":""},{"$f":"IF($B78=\"\",\"\",VLOOKUP($A78,出場選手エントリー票!$C$5:$AL$124,12+1,0))","v":""},{"$f":"IF($B78=\"\",\"\",VLOOKUP($A78,出場選手エントリー票!$C$5:$AL$124,13+1,0))","v":""},{"$f":"IF($B78=\"\",\"\",VLOOKUP($A78,出場選手エントリー票!$C$5:$AL$124,14+1,0))","v":""},{"$f":"IF($B78=\"\",\"\",IF(VLOOKUP($A78,出場選手エントリー票!$C$5:$AL$124,15+1,0)=\"\",\"\",VLOOKUP($A78,出場選手エントリー票!$C$5:$AL$124,15+1,0)))","v":""},{"$f":"IF($B78=\"\",\"\",IF(VLOOKUP($A78,出場選手エントリー票!$C$5:$AL$124,19+1,0)=\"\",\"\",VLOOKUP($A78,出場選手エントリー票!$C$5:$AL$124,19+1,0)))","v":""},{"$f":"IF($B78=\"\",\"\",IF(VLOOKUP($A78,出場選手エントリー票!$C$5:$AL$124,23+1,0)=\"\",\"\",VLOOKUP($A78,出場選手エントリー票!$C$5:$AL$124,23+1,0)))","v":""},{"$f":"IF($B78=\"\",\"\",IF(VLOOKUP($A78,出場選手エントリー票!$C$5:$AL$124,27+1,0)=\"\",\"\",VLOOKUP($A78,出場選手エントリー票!$C$5:$AL$124,27+1,0)))","v":""},{"$f":"IF($B78=\"\",\"\",IF(VLOOKUP($A78,出場選手エントリー票!$C$5:$AL$124,31+1,0)=\"\",\"\",VLOOKUP($A78,出場選手エントリー票!$C$5:$AL$124,31+1,0)))","v":""},null,null,null,null,null,null,null,null,null,null,"80"]
[78,{"$f":"IF(ISERROR(VLOOKUP($A79,出場選手エントリー票!$C$5:$AL$124,4,0)),\"\",VLOOKUP($A79,出場選手エントリー票!$C$5:$AL$124,4,0))","v":""},{"$f":"IF($B79=\"\",\"\",VLOOKUP($A79,出場選手エントリー票!$C$5:$AL$124,5+1,0))","v":""},{"$f":"IF($B79=\"\",\"\",VLOOKUP($A79,出場選手エントリー票!$C$5:$AL$124,6+1,0))","v":""},{"$f":"IF($B79=\"\",\"\",VLOOKUP($A79,出場選手エントリー票!$C$5:$AL$124,9+1,0))","v":""},{"$f":"IF($B79=\"\",\"\",VLOOKUP($A79,出場選手エントリー票!$C$5:$AL$124,10+1,0))","v":""},{"$f":"IF($B79=\"\",\"\",VLOOKUP($A79,出場選手エントリー票!$C$5:$AL$124,11+1,0))","v":""},{"$f":"IF($B79=\"\",\"\",VLOOKUP($A79,出場選手エントリー票!$C$5:$AL$124,12+1,0))","v":""},{"$f":"IF($B79=\"\",\"\",VLOOKUP($A79,出場選手エントリー票!$C$5:$AL$124,13+1,0))","v":""},{"$f":"IF($B79=\"\",\"\",VLOOKUP($A79,出場選手エントリー票!$C$5:$AL$124,14+1,0))","v":""},{"$f":"IF($B79=\"\",\"\",IF(VLOOKUP($A79,出場選手エントリー票!$C$5:$AL$124,15+1,0)=\"\",\"\",VLOOKUP($A79,出場選手エントリー票!$C$5:$AL$124,15+1,0)))","v":""},{"$f":"IF($B79=\"\",\"\",IF(VLOOKUP($A79,出場選手エントリー票!$C$5:$AL$124,19+1,0)=\"\",\"\",VLOOKUP($A79,出場選手エントリー票!$C$5:$AL$124,19+1,0)))","v":""},{"$f":"IF($B79=\"\",\"\",IF(VLOOKUP($A79,出場選手エントリー票!$C$5:$AL$124,23+1,0)=\"\",\"\",VLOOKUP($A79,出場選手エントリー票!$C$5:$AL$124,23+1,0)))","v":""},{"$f":"IF($B79=\"\",\"\",IF(VLOOKUP($A79,出場選手エントリー票!$C$5:$AL$124,27+1,0)=\"\",\"\",VLOOKUP($A79,出場選手エントリー票!$C$5:$AL$124,27+1,0)))","v":""},{"$f":"IF($B79=\"\",\"\",IF(VLOOKUP($A79,出場選手エントリー票!$C$5:$AL$124,31+1,0)=\"\",\"\",VLOOKUP($A79,出場選手エントリー票!$C$5:$AL$124,31+1,0)))","v":""},null,null,null,null,null,null,null,null,null,null,"81"]
[79,{"$f":"IF(ISERROR(VLOOKUP($A80,出場選手エントリー票!$C$5:$AL$124,4,0)),\"\",VLOOKUP($A80,出場選手エントリー票!$C$5:$AL$124,4,0))","v":""},{"$f":"IF($B80=\"\",\"\",VLOOKUP($A80,出場選手エントリー票!$C$5:$AL$124,5+1,0))","v":""},{"$f":"IF($B80=\"\",\"\",VLOOKUP($A80,出場選手エントリー票!$C$5:$AL$124,6+1,0))","v":""},{"$f":"IF($B80=\"\",\"\",VLOOKUP($A80,出場選手エントリー票!$C$5:$AL$124,9+1,0))","v":""},{"$f":"IF($B80=\"\",\"\",VLOOKUP($A80,出場選手エントリー票!$C$5:$AL$124,10+1,0))","v":""},{"$f":"IF($B80=\"\",\"\",VLOOKUP($A80,出場選手エントリー票!$C$5:$AL$124,11+1,0))","v":""},{"$f":"IF($B80=\"\",\"\",VLOOKUP($A80,出場選手エントリー票!$C$5:$AL$124,12+1,0))","v":""},{"$f":"IF($B80=\"\",\"\",VLOOKUP($A80,出場選手エントリー票!$C$5:$AL$124,13+1,0))","v":""},{"$f":"IF($B80=\"\",\"\",VLOOKUP($A80,出場選手エントリー票!$C$5:$AL$124,14+1,0))","v":""},{"$f":"IF($B80=\"\",\"\",IF(VLOOKUP($A80,出場選手エントリー票!$C$5:$AL$124,15+1,0)=\"\",\"\",VLOOKUP($A80,出場選手エントリー票!$C$5:$AL$124,15+1,0)))","v":""},{"$f":"IF($B80=\"\",\"\",IF(VLOOKUP($A80,出場選手エントリー票!$C$5:$AL$124,19+1,0)=\"\",\"\",VLOOKUP($A80,出場選手エントリー票!$C$5:$AL$124,19+1,0)))","v":""},{"$f":"IF($B80=\"\",\"\",IF(VLOOKUP($A80,出場選手エントリー票!$C$5:$AL$124,23+1,0)=\"\",\"\",VLOOKUP($A80,出場選手エントリー票!$C$5:$AL$124,23+1,0)))","v":""},{"$f":"IF($B80=\"\",\"\",IF(VLOOKUP($A80,出場選手エントリー票!$C$5:$AL$124,27+1,0)=\"\",\"\",VLOOKUP($A80,出場選手エントリー票!$C$5:$AL$124,27+1,0)))","v":""},{"$f":"IF($B80=\"\",\"\",IF(VLOOKUP($A80,出場選手エントリー票!$C$5:$AL$124,31+1,0)=\"\",\"\",VLOOKUP($A80,出場選手エントリー票!$C$5:$AL$124,31+1,0)))","v":""},null,null,null,null,null,null,null,null,null,null,"82"]
[80,{"$f":"IF(ISERROR(VLOOKUP($A81,出場選手エントリー票!$C$5:$AL$124,4,0)),\"\",VLOOKUP($A81,出場選手エントリー票!$C$5:$AL$124,4,0))","v":""},{"$f":"IF($B81=\"\",\"\",VLOOKUP($A81,出場選手エントリー票!$C$5:$AL$124,5+1,0))","v":""},{"$f":"IF($B81=\"\",\"\",VLOOKUP($A81,出場選手エントリー票!$C$5:$AL$124,6+1,0))","v":""},{"$f":"IF($B81=\"\",\"\",VLOOKUP($A81,出場選手エントリー票!$C$5:$AL$124,9+1,0))","v":""},{"$f":"IF($B81=\"\",\"\",VLOOKUP($A81,出場選手エントリー票!$C$5:$AL$124,10+1,0))","v":""},{"$f":"IF($B81=\"\",\"\",VLOOKUP($A81,出場選手エントリー票!$C$5:$AL$124,11+1,0))","v":""},{"$f":"IF($B81=\"\",\"\",VLOOKUP($A81,出場選手エントリー票!$C$5:$AL$124,12+1,0))","v":""},{"$f":"IF($B81=\"\",\"\",VLOOKUP($A81,出場選手エントリー票!$C$5:$AL$124,13+1,0))","v":""},{"$f":"IF($B81=\"\",\"\",VLOOKUP($A81,出場選手エントリー票!$C$5:$AL$124,14+1,0))","v":""},{"$f":"IF($B81=\"\",\"\",IF(VLOOKUP($A81,出場選手エントリー票!$C$5:$AL$124,15+1,0)=\"\",\"\",VLOOKUP($A81,出場選手エントリー票!$C$5:$AL$124,15+1,0)))","v":""},{"$f":"IF($B81=\"\",\"\",IF(VLOOKUP($A81,出場選手エントリー票!$C$5:$AL$124,19+1,0)=\"\",\"\",VLOOKUP($A81,出場選手エントリー票!$C$5:$AL$124,19+1,0)))","v":""},{"$f":"IF($B81=\"\",\"\",IF(VLOOKUP($A81,出場選手エントリー票!$C$5:$AL$124,23+1,0)=\"\",\"\",VLOOKUP($A81,出場選手エントリー票!$C$5:$AL$124,23+1,0)))","v":""},{"$f":"IF($B81=\"\",\"\",IF(VLOOKUP($A81,出場選手エントリー票!$C$5:$AL$124,27+1,0)=\"\",\"\",VLOOKUP($A81,出場選手エントリー票!$C$5:$AL$124,27+1,0)))","v":""},{"$f":"IF($B81=\"\",\"\",IF(VLOOKUP($A81,出場選手エントリー票!$C$5:$AL$124,31+1,0)=\"\",\"\",VLOOKUP($A81,出場選手エントリー票!$C$5:$AL$124,31+1,0)))","v":""},null,null,null,null,null,null,null,null,null,null,"83"]
[null,null,null,null,null,null,null,null,null,null,null,null,null,null,null,null,null,null,null,null,null,null,null,null,null,"84"]
[null,null,null,null,null,null,null,null,null,null,null,null,null,null,null,null,null,null,null,null,null,null,null,null,null,"85"]
[null,null,null,null,null,null,null,null,null,null,null,null,null,null,null,null,null,null,null,null,null,null,null,null,null,"86"]
[null,null,null,null,null,null,null,null,null,null,null,null,null,null,null,null,null,null,null,null,null,null,null,null,null,"87"]
[null,null,null,null,null,null,null,null,null,null,null,null,null,null,null,null,null,null,null,null,null,null,null,null,null,"88"]
[null,null,null,null,null,null,null,null,null,null,null,null,null,null,null,null,null,null,null,null,null,null,null,null,null,"89"]
[null,null,null,null,null,null,null,null,null,null,null,null,null,null,null,null,null,null,null,null,null,null,null,null,null,"90"]
[null,null,null,null,null,null,null,null,null,null,null,null,null,null,null,null,null,null,null,null,null,null,null,null,null,"91"]
[null,null,null,null,null,null,null,null,null,null,null,null,null,null,null,null,null,null,null,null,null,null,null,null,null,"92"]
[null,null,null,null,null,null,null,null,null,null,null,null,null,null,null,null,null,null,null,null,null,null,null,null,null,"93"]
[null,null,null,null,null,null,null,null,null,null,null,null,null,null,null,null,null,null,null,null,null,null,null,null,null,"94"]
[null,null,null,null,null,null,null,null,null,null,null,null,null,null,null,null,null,null,null,null,null,null,null,null,null,"95"]
[null,null,null,null,null,null,null,null,null,null,null,null,null,null,null,null,null,null,null,null,null,null,null,null,null,"96"]
[null,null,null,null,null,null,null,null,null,null,null,null,null,null,null,null,null,null,null,null,null,null,null,null,null,"97"]
[null,null,null,null,null,null,null,null,null,null,null,null,null,null,null,null,null,null,null,null,null,null,null,null,null,"98"]
[null,null,null,null,null,null,null,null,null,null,null,null,null,null,null,null,null,null,null,null,null,null,null,null,null,"99"]