{"text_format":"1","workbook":"xlsx","n_sheets":9,"sheets":["入力方法","中学番号","新規登録","ｴﾝﾄﾘｰ票","会計シート","Ａ票男","Ａ票女","氏名ﾃﾞｰﾀ","ﾃﾞｰﾀ"],"not_rendered":{"charts":0,"images":0,"macros":1,"external_links":0,"defined_names":10,"comments":0,"pivot_tables":0},"unopened":[],"bounds":{"document_bytes":16777216,"sheet_cells":100000,"rows_first":2000,"rows_last":500,"rows_between":2000,"halvings":0,"cell_chars":16384,"cell_head_chars":4096},"cells_cut":0,"cells_raw":0,"read":"whole","date_system":"1900"}

{"sheet":"入力方法","index":0,"n_rows":71,"n_cols":28,"rows_kept":71,"cut":false,"hidden":false,"merged":[]}
[null,null,"手順"]
["C:\\Users\\TK5\\Desktop"]
[]
[]
[null,null,null,null,null,null,null,null,null,null,null,null,null,null,null,null,null,null,null,null,null,null,null,null,null,null,null,"こ"]
[null,null,null,null,null,null,null,null,null,null,null,null,null,null,null,null,null,null,null,null,null,null,null,null,null,null,null,"こ"]
[null,null,"①新規登録",null,null,null,null,null,null,null,null,null,null,null,null,null,null,null,null,null,null,null,null,null,null,null,null,"ま"]
[null,null,null,null,"↓色つきの部分に数値や文字を入力をしてくだい。A票、B票にリンクしています。",null,null,null,null,null,null,null,null,null,null,null,null,null,null,null,null,null,null,null,null,null,null,"で"]
[null,null,"5桁","氏名","全角","ﾌﾘｶﾞﾅ",null,"半角",null,"英語表記",null,"半角",null,"学年","生年","性別",null,"省略校名"]
[null,null,"半角","姓","名","姓",null,"名",null,"姓",null,"名",null,"半角","半角","全角",null,"６文字　全角"]
[null,null,41001,"秋本","嘉一","ｱｷﾓﾄ",null,"ﾖｼｶｽﾞ",null,"AKIMOTO",null,"Yoshikazu",null,2,2004,"男",null,"都芦花"]
[null,null,40201,"高野","淳子","ﾀｶﾉ",null,"ｼﾞｭﾝｺ",null,"TAKANO",null,"Jyunko",null,2,2004,"女",null,"学大附"]
[null,null,124813,"今村","量子","ｲﾏﾑﾗ",null,"ﾘｮｳｺ",null,"IMAMURA",null,"Ryouko",null,"Ｊ1",2008,"女",null,"昭和女子中"]
[]
[]
[null,null,"②ｴﾝﾄﾘｰB票"]
[]
[null,null,"競技会名",null,"東京高体連陸上第４支部春季競技会"]
[null,null,"学校名（正式名称）",null,"東京都阿佐ヶ谷南高等学校",null,null,null,null,null,null,null,null,null,null,null,null,null,null,null,null,null,null,null,null,null,null,"こ"]
[null,null,"略称学校名",null,"都阿佐ヶ谷南",null,null,null,null,null,null,null,null,null,null,null,null,null,null,null,null,null,null,null,null,null,null,"こ"]
[null,null,"学校長名",null,"陸上　駅伝",null,null,null,null,null,null,null,null,null,null,null,null,null,null,null,null,null,null,null,null,null,null,"ま"]
[null,null,"学校所在地",null,"東京都杉並区南阿佐ヶ谷１－２３－４５",null,null,null,null,null,null,null,null,null,null,null,null,null,null,null,null,null,null,null,null,null,null,"で"]
[null,null,null,"電話番号","０３－３３９２－１２３４",null,null,null,null,null,null,null,null,null,null,null,null,null,"支部","学校番号"]
[null,null,null,"ＦＡＸ番号","０３－３３９２－１２３４",null,null,null,null,null,null,null,null,null,null,null,null,null,4,72]
[null,null,"顧問氏名",null,"陸上　投擲",null,null,null,null,null,null,null,null,null,null,null,null,null,"↑半角で入力します↓"]
[null,null,"連絡先",null,"０９０－００００－００００",null,null,null,null,null,null,null,null,null,null,null,null,null,"ﾘﾚｰ出場ﾁｰﾑ数",null,null,"ﾌﾟﾛｸﾞﾗﾑ"]
[null,null,null,null,null,null,null,null,null,null,null,null,null,null,null,null,null,null,"4×100","4×400"]
[null,null,null,null,null,null,null,null,null,null,null,null,null,null,null,null,null,"男子",1,1,"ﾁｰﾑ",1,"冊",null,null,null,null,"こ"]
[null,null,null,null,null,null,null,null,null,null,null,null,null,null,null,null,null,"女子",0,2,"ﾁｰﾑ",1,"冊",null,null,null,null,"こ"]
[null,null,"番号","氏名",null,"性別","種目１","最高記録　半角",null,null,"種目２","最高記録　半角",null,null,"種目３","最高記録　半角",null,null,"4×100","最高記録　半角",null,null,"4×400","最高記録　半角",null,null,null,"ま"]
[null,null,"半角","姓","名","全角",null,"分","秒",null,null,"分","秒",null,null,"分","秒",null,"走順","分","秒",null,"走順","分","秒",null,null,"で"]
[null,null,"5桁","全角","全角",null,"ﾘｽﾄから入力",null,"ｍ","ｃｍ","ﾘｽﾄから入力",null,"ｍ","ｃｍ","ﾘｽﾄから入力",null,"ｍ","ｃｍ","リストから入力",null,"ｍ","ｃｍ","リストから入力",null,"ｍ","ｃｍ"]
["",1,47201,"宇野","走一郎","男","100m",null,"12","34","砲丸投",null,"12","43","400mH","1","23","45","男A1",null,"45","67","男A3","3","45","67"]
["",2,47202,"加藤","走次郎","男","走幅跳",null,"5","43","走高跳",null,"00","00",null,null,null,null,"男A2",null,"45","67"]
["",3,47203,"金田","走太","男","5000m","17","23","89",null,null,null,null,null,null,null,null,null,null,null,null,"男A1","3","45","67"]
["",4,47204,"佐藤","投太","男"]
["",5,47205,"鈴木","跳太","男"]
["",6,47251,"駒沢","文子","女","100m",null,"14","32",null,null,null,null,null,null,null,null,null,null,null,null,"女A1","00","00","00"]
["",7,47252,"大井","大子","女","400mH","1","23","45"]
["",8,47253,"世田谷","杉子","女","砲丸投",null,"6","78",null,null,null,null,null,null,null,null,null,null,null,null,"女B1",null,"56","78"]
["",9,47254,"上柚木","並子","女","3000m","10","23","45","円盤投",null,"00","00",null,null,null,null,null,null,null,null,"女A2","00","00","00"]
["",10,47255,"夢島","高子","女",null,null,null,null,null,null,null,null,null,null,null,null,null,null,null,null,"女A3","00","00","00"]
[null,11,47256,"江戸川","中子","女",null,null,null,null,null,null,null,null,null,null,null,null,null,null,null,null,"女A4","00","00","00"]
[null,12,null,null,null,null,null,null,null,null,null,null,null,null,null,null,null,null,null,null,null,null,null,null,null,null,null,"こ"]
[null,13,null,null,null,null,null,null,null,null,null,null,null,null,null,null,null,null,null,null,null,null,null,null,null,null,null,"こ"]
[null,14,null,"","","",null,null,null,null,null,null,null,null,null,null,null,null,null,null,null,null,null,null,null,null,null,"ま"]
[null,null,null,null,null,null,null,null,null,null,null,null,null,null,null,null,null,null,null,null,null,null,null,null,null,null,null,"で"]
[]
[]
[]
[]
[]
[null,null,null,null,null,null,"100m",null,null,null,null,null,null,null,null,null,null,null,null,null,null,null,null,null,null,null,null,"こ"]
[null,null,null,null,null,null,"200m",null,null,null,null,null,null,null,null,null,null,null,null,null,null,null,null,null,null,null,null,"こ"]
[null,null,null,null,null,null,"400m",null,null,null,null,null,null,null,null,null,null,null,null,null,null,null,null,null,null,null,null,"ま"]
[null,null,null,null,null,null,"800m","←例です",null,null,null,null,null,null,null,null,null,null,null,null,null,null,null,null,null,null,null,"で"]
[null,null,null,null,null,null,"1500m"]
[null,null,null,null,null,null,"3000m"]
[null,null,null,null,null,null,"5000m"]
[null,null,null,null,null,null,"100mH"]
[null,null,null,null,null,null,"110mH"]
[null,null,null,null,null,null,"400mH"]
[null,null,null,null,null,null,"走高跳",null,null,null,null,null,null,null,null,null,null,null,null,null,null,null,null,null,null,null,null,"こ"]
[null,null,null,null,null,null,"走幅跳",null,null,null,null,null,null,null,null,null,null,null,null,null,null,null,null,null,null,null,null,"こ"]
[null,null,null,null,null,null,"三段跳",null,null,null,null,null,null,null,null,null,null,null,null,null,null,null,null,null,null,null,null,"ま"]
[null,null,null,null,null,null,"砲丸投",null,null,null,null,null,null,null,null,null,null,null,null,null,null,null,null,null,null,null,null,"で"]
[null,null,null,null,null,null,"円盤投"]
[null,null,null,null,null,null,"やり投"]
[]
[]
[null,null,"以上ここまで",null,null,null,"以上ここまで",null,null,"以上ここまで",null,null,null,"以上ここまで",null,null,"以上ここまで"]

{"sheet":"中学番号","index":1,"n_rows":68,"n_cols":11,"rows_kept":68,"cut":false,"hidden":false,"merged":[]}
["支部","支部番号","正式名称","略称","男登録ナンバー","女登録ナンバー","男学校番号","女学校番号",null,"高校"]
["世田谷",12,"世田谷区立太子堂中学校","太子堂","C120101～","C120201～","01","02",null,"団体名","番号"]
["世田谷",12,"世田谷区立桜丘中学校","桜丘","C120301～","C120401～","03","04",null,"筑波大駒場","401"]
["世田谷",12,"世田谷区立松沢中学校","松沢","C120501～","C120601～","05","06",null,"学大附","402"]
["世田谷",12,"世田谷区立駒沢中学校","駒沢","C120701～","C120801～","07","08",null,"都園芸",403]
["世田谷",12,"世田谷区立北沢中学校","北沢","C120901～","C121001～","09","10",null,"都世田谷泉","404"]
["世田谷",12,"世田谷区立緑丘中学校","緑丘","C121101～","C121201～","11","12",null,"都世田谷総合","405"]
["世田谷",12,"世田谷区立駒留中学校","駒留","C121301～","C121401～","13","14",null,"都桜町","406"]
["世田谷",12,"世田谷区立梅丘中学校","梅丘","C121501～","C121601～","15","16",null,"都千歳丘","409"]
["世田谷",12,"世田谷区立桜木中学校","桜木","C121701～","C121801～","17","18",null,"都芦花","410"]
["世田谷",12,"世田谷区立富士中学校","富士","C121901～","C122001～","19","20",null,"都松原","411"]
["世田谷",12,"世田谷区立弦巻中学校","弦巻","C122101～","C122201～","21","22",null,"都深沢","413"]
["世田谷",12,"世田谷区立奥沢中学校","奥沢","C122301～","C122401～","23","24",null,"鴎友学園女","414"]
["世田谷",12,"世田谷区立八幡中学校","八幡","C122501～","C122601～","25","26",null,"科学技術学園",415]
["世田谷",12,"世田谷区立玉川中学校","玉川","C122701～","C122801～","27","28",null,"恵泉女学園","417"]
["世田谷",12,"世田谷区立瀬田中学校","瀬田","C122901～","C123001～","29","30",null,"佼成学園女","418"]
["世田谷",12,"世田谷区立深沢中学校","深沢","C123101～","C123201～","31","32",null,"国士舘","419"]
["世田谷",12,"世田谷区立尾山台中学校","尾山台","C123301～","C123401～","33","34",null,"駒大高",426]
["世田谷",12,"世田谷区立用賀中学校","用賀","C123501～","C123601～","35","36",null,"駒大高",427]
["世田谷",12,"世田谷区立東深沢中学校","東深沢","C123701～","C123801～","37","38",null,"駒場学園","421"]
["世田谷",12,"世田谷区立砧中学校","砧","C123901～","C124001～","39","40",null,"駒場東邦","422"]
["世田谷",12,"世田谷区立烏山中学校","烏山","C124101～","C124201～","41","42",null,"松陰","423"]
["世田谷",12,"世田谷区立千歳中学校","千歳","C124301～","C124401～","43","44",null,"昭和女子大附","424"]
["世田谷",12,"世田谷区立芦花中学校","芦花","C124501～","C124601～","45","46",null,"成城学園","425"]
["世田谷",12,"世田谷区立上祖師谷中学校","上祖師谷","C124701～","C124801～","47","48",null,"世田谷学園","428"]
["世田谷",12,"世田谷区立砧南中学校","砧南","C124901～","C125001～","49","50",null,"大東学園","430"]
["世田谷",12,"世田谷区立喜多見中学校","喜多見","C125101～","C125201～","51","52",null,"三田国際","432"]
["世田谷",12,"世田谷区立三宿中学校","三宿","C125301～","C125401～","53","54",null,"東農大一","433"]
["世田谷",12,"世田谷区立世田谷中学校","世田谷","C125501～","C125601～","55","56",null,"都市大等々力","434"]
["世田谷",12,"世田谷区立船橋希望中学校","船橋希望","C125701～","C125801～","57","58",null,"田園調布学園","435"]
["世田谷",12,"東京学芸大学附属世田谷中学校","学大附世田谷","C125901～","C126001～","59","60",null,"日女体二階堂","436"]
["世田谷",12,"筑波大学附属駒場中学校","筑波大駒場中","C126101～","C126201～","61","62",null,"日本学園","437"]
["世田谷",12,"駒場東邦中学校","駒場東邦中","C126301～","C126401～","63","64",null,"日大櫻丘","438"]
["世田谷",12,"昭和女子大学附属昭和中学校","昭和女大附中","C126501～","C126601～","65","66",null,"都市大付属","439"]
["世田谷",12,"成城学園中学校","成城学園中","C126701～","C126801～","67","68",null,"目黒星美学園","440"]
["世田谷",12,"東京都市大学付属中学校","都市大付中","C126901～","C127001～","69","70",null,"東大附属","441"]
["世田谷",12,"佼成学園女子中学校","佼成女中","C127101～","C127201～","71","72",null,"都鷺宮","442"]
["世田谷",12,"田園調布学園中等部","田園調布学園中","C127301～","C127401～","73","74",null,"都中野工","443"]
["世田谷",12,"世田谷学園中学校","世田谷学園中","C127501～","C127601～","75","76",null,"都富士","444"]
["世田谷",12,"東京都市大学等々力中学校","都市大等々力中","C127701～","C127801～","77","78",null,"都武蔵丘","445"]
["世田谷",12,"鴎友学園女子中学校","鴎友女中","C127901～","C128001～","79","80",null,"実践学園","448"]
["世田谷",12,"松蔭中学校","松蔭中","C128101～","C128201～","81","82",null,"東亜学園","449"]
["世田谷",12,"玉川聖学院中等部","玉川聖学院中","C128301～","C128401～","83","84",null,"宝仙学園","451"]
["世田谷",12,"国士舘中学校","国士舘中","C128501～","C128601～","85","86",null,"堀越","452"]
["世田谷",12,"恵泉女学園中学校","恵泉女学園中","C128701～","C128801～","87","88",null,"明大中野","453"]
["世田谷",12,"国本女子中学校","国本女中","C128901～","C129001～","89","90",null,"都永福学園","454"]
["世田谷",12,"聖ドミニコ学園中学校","聖ドミニコ中","C129101～","C129201～","91","92",null,"都杉並総合","456"]
["世田谷",12,"日本学園中学校","日本学園中","C129301～","C129401～","93","94",null,"都杉並","457"]
["世田谷",12,"三田国際学園中学校","三田国際中","C129501～","C129601～","95","96",null,"都杉並工","458"]
["世田谷",12,"東京農業大学第一高等学校中等部","東農大一中","C129701～","C129801～","97","98",null,"都豊多摩","459"]
["世田谷",12,"目黒星美学園中学校","目黒星美中","C129901～","C130001～","99","00",null,"都西","460"]
["中野",14,"東京都立富士高等学校附属中学校","都立富士中","C142301～","C142401～","23","24",null,"都農芸","461"]
["中野",14,"東京大学教育学部附属中等教育学校","東大附中","C142501～","C142601～","25","26",null,"佼成学園","464"]
["中野",14,"明治大学付属中野中学校","明大中野中","C142701～","C142801～","27","28",null,"國學院久我山","465"]
["中野",14,"宝仙学園中学校","宝仙学園中","C142901～","C143001～","29","30",null,"専大附","467"]
["中野",14,"新渡戸文化中学校","新渡戸文化中","C143101～","C143201～","31","32",null,"中大杉並","468"]
["中野",14,"大妻中野中学校","大妻中野中","C143301～","C143401～","33","34",null,"東京立正","469"]
["中野",14,"実践学園中学校","実践学園中","C143501～","C143601～","35","36",null,"日大二","470"]
["杉並",15,"東京都立中央聾学校","中央ろう中","C154701～","C154801～","47","48",null,"日大鶴ヶ丘","471"]
["杉並",15,"立教女学院中学校","立教女学院中","C154901～","C155001～","49","50",null,"文大杉並","472"]
["杉並",15,"日本大学第二中学校","日大二中","C155101～","C155201～","51","52",null,"立教女学院","473"]
["杉並",15,"佼成学園中学校","佼成学園中","C155301～","C155401～","53","54",null,"都中央ろう","475"]
["杉並",15,"文化学園大学杉並中学校","文大杉並中","C155501～","C155601～","55","56"]
["杉並",15,"國學院大学久我山中学校","國學院久我山中","C155701～","C155801～","57","58"]
["杉並",15,"光塩女子学院中等科","光塩女学院中","C155901～","C156001～","59","60"]
["杉並",15,"女子美術大学付属中学校","女子美大付中","C156101～","C156201～","61","62"]
["杉並",15,"杉並学院中学校","杉並学院中","C156301～","C156401～","63","64"]
["杉並",15,"東京立正中学校","東京立正中","C156501～","C156601～","65","66"]

{"sheet":"新規登録","index":2,"n_rows":105,"n_cols":13,"rows_kept":105,"cut":false,"hidden":false,"merged":[]}
[0,"↓色つきの部分だけに数値や文字を入力をしてくだい。ｴﾝﾄﾘｰ票、A票にリンクしています。"]
[0.1,"5桁","氏名","全角","ﾌﾘｶﾞﾅ","半角","英語表記","半角","学年","生年","性別","省略校名"]
[0.2,"半角","姓","名","姓","名","姓","名","半角","半角","全角","６文字　全角"]
[null,120101,"陸","走子","ﾘｸ","ｿｳｺ","RIKU","Souko","J2",2007,"女","世田谷中","←例 中学"]
[0.3,47201,"陸上","走太","ﾘｸｼﾞｮｳ","ｿｳﾀ","RIKUJOU","Souta",1,2003,"男","都阿佐ヶ谷南","←例 高校"]
[1]
[2]
[3]
[4]
[5]
[6]
[7]
[8]
[9]
[10]
[11]
[12]
[13]
[14]
[15]
[16]
[17]
[18]
[19]
[20]
[21]
[22]
[23]
[24]
[25]
[26]
[27]
[28]
[29]
[30]
[31]
[32]
[33]
[34]
[35]
[36]
[37]
[38]
[39]
[40]
[41]
[42]
[43]
[44]
[45]
[46]
[47]
[48]
[49]
[50]
[51]
[52]
[53]
[54]
[55]
[56]
[57]
[58]
[59]
[60]
[61]
[62]
[63]
[64]
[65]
[66]
[67]
[68]
[69]
[70]
[71]
[72]
[73]
[74]
[75]
[76]
[77]
[78]
[79]
[80]
[81]
[82]
[83]
[84]
[85]
[86]
[87]
[88]
[89]
[90]
[91]
[92]
[93]
[94]
[95]
[96]
[97]
[98]
[99]
[100]

{"sheet":"ｴﾝﾄﾘｰ票","index":3,"n_rows":115,"n_cols":66,"rows_kept":115,"cut":false,"hidden":false,"merged":[]}
[{"$f":"CONCATENATE(A2,\"\\\",A3)","v":"C:\\Users\\y-nezu\\Desktop\\400春季競技会217"},null,null,null,"競技会名",null,"東京高体連陸上第4支部春季競技会",null,null,null,null,null,null,null,null,null,null,null,null,"令和5年度","春季競技会"]
["C:\\Users\\y-nezu\\Desktop",null,null,null,"学校名（正式名称）"]
[{"$f":"CONCATENATE(VALUE(AB6*100+AC6),G3,U1,A5)","v":"400春季競技会217"},null,null,null,"略称学校名"]
[{"$f":"NOW()","v":"2023-02-17T13:52:20.280"},null,null,null,"学校長名"]
[{"$f":"TEXT(A4,\"md\")","v":"217"},null,null,null,"学校所在地",null,null,null,null,null,null,null,null,null,null,null,null,null,null,null,null,null,null,null,null,null,null,"支部","学校番号",null,"賞状用学校名"]
[null,null,null,null,null,"電話番号",null,null,null,null,null,null,null,null,null,null,null,null,null,null,null,null,null,null,null,null,null,4,null,null,{"$f":"VLOOKUP(AB6*100+AC6,ﾃﾞｰﾀ!S:V,3,FALSE)","v":{"$error":"#N/A"}}]
[null,null,null,null,null,"ＦＡＸ番号",null,null,null,null,null,null,null,null,null,null,null,null,null,null,null,null,null,null,null,null,null,"↑半角で入力します",null,null,{"$f":"IF(G2=\"\",\"\",IF(AB6=7,\"\",IF(G2=AE6,\"\",\"賞状用と正式名称が違います。\")))","v":""}]
[null,null,null,null,"顧問氏名",null,null,null,null,null,null,null,null,null,null,null,null,null,null,null,null,null,null,null,null,null,null,"↓",null,null,{"$f":"IF(AE7=\"\",\"\",\"変更したいときは、メールで連絡してください\")","v":""}]
[null,null,null,null,"連絡先",null,null,null,null,null,null,null,null,null,null,null,null,null,null,null,null,null,null,null,null,null,null,"ﾘﾚｰ出場ﾁｰﾑ数",null,null,"ﾌﾟﾛｸﾞﾗﾑ"]
[null,null,null,null,null,null,null,null,null,null,null,null,null,null,null,null,null,null,null,null,null,null,null,null,null,null,null,"4×100","4×400"]
[null,null,null,null,null,null,null,null,null,null,null,null,null,null,null,null,null,null,null,null,null,null,"男子",null,null,null,"男子",0,0,"ﾁｰﾑ",1,"冊"]
[null,null,null,null,null,null,null,null,null,null,null,null,null,null,null,null,null,null,null,null,null,null,"女子",null,null,null,"女子",0,0,"ﾁｰﾑ",1,"冊"]
[null,null,null,null,"番号","氏名",null,"ﾌﾘｶﾞﾅ","半角","英字",null,"学年","校名","性別","生年月日","種目１","最高記録　　半角",null,null,"種目２","最高記録　　半角",null,null,"種目３","最高記録　　半角",null,null,"4×100","最高記録　　半角",null,null,"4×400","最高記録　　半角",null,null,null,null,null,null,null,null,null,null,null,"男","4×100",null,"ﾘﾚｰ",null,null,"男","4×400",null,null,null,null,"女","4×100",null,"ﾘﾚｰ",null,null,"女","4×400"]
[null,null,null,null,"半角","姓","名","姓","名","姓","名","半角","全角","全角","半角",null,"分","秒",null,null,"分","秒",null,null,"分","秒",null,"走順","分","秒",null,"走順","分","秒",null,null,null,null,null,"4×100","4×400"]
["4×100","4×400",0,null,"5桁","全角","全角",null,null,"半角","半角",null,null,null,null,"ﾘｽﾄから入力",null,"ｍ","ｃｍ","ﾘｽﾄから入力",null,"ｍ","ｃｍ","ﾘｽﾄから入力",null,"ｍ","ｃｍ","リストから入力",null,"ｍ","ｃｍ","リストから入力",null,"ｍ","ｃｍ",null,null,null,null,"記録","記録","男女",{"$f":"IF(RIGHT(P15,4)=\"×100\",IF(N15=\"男\",VLOOKUP(AB15,ﾘﾚｰｺｰﾄﾞ,2,0),VLOOKUP(AB15,ﾘﾚｰｺｰﾄﾞ,4,0)),\"\")","v":""},null,"学校","５桁No","走順","記録",{"$f":"IF(RIGHT(P15,4)=\"×400\",IF(N15=\"男\",VLOOKUP(AB15,ﾘﾚｰｺｰﾄﾞ,3,0),VLOOKUP(AB15,ﾘﾚｰｺｰﾄﾞ,5,0)),\"\")","v":""},null,"学校","５桁No","走順","記録",{"$f":"IF(RIGHT(AT15,4)=\"×100\",IF(AQ15=\"男\",VLOOKUP(AV15,ﾘﾚｰｺｰﾄﾞ,2,0),VLOOKUP(AV15,ﾘﾚｰｺｰﾄﾞ,4,0)),\"\")","v":""},null,"学校","５桁No","走順","記録",{"$f":"IF(RIGHT(AT15,4)=\"×400\",IF(AQ15=\"男\",VLOOKUP(AV15,ﾘﾚｰｺｰﾄﾞ,3,0),VLOOKUP(AV15,ﾘﾚｰｺｰﾄﾞ,5,0)),\"\")","v":""},null,"学校","５桁No","走順","記録"]
[{"$f":"IF(AB16=\"\",\"\",IF(N16=\"男\",VLOOKUP(AB16,ﾘﾚｰｺｰﾄﾞ,2,0),VLOOKUP(AB16,ﾘﾚｰｺｰﾄﾞ女,2,0)))","v":""},{"$f":"IF(AF16=\"\",\"\",IF(N16=\"男\",VLOOKUP(AF16,ﾘﾚｰｺｰﾄﾞ,3,0),VLOOKUP(AF16,ﾘﾚｰｺｰﾄﾞ女,3,0)))","v":""},{"$f":"IF(E16=\"\",\"\",IF(AP16=1,COUNTIF(AP$16:AP16,1)*10+2001-10,COUNTIF(AP$16:AP16,2)*10+6001-10))","v":""},1,null,{"$f":"IF($E16=\"\",\"\",IF(ISERROR(VLOOKUP($E16,氏名ﾃﾞｰﾀ!$B:$L,2,0)),IF(ISERROR(VLOOKUP($E16,新規登録!$B:$L,2,0)),\"未登録\",VLOOKUP($E16,新規登録!$B:$L,2,0)),(VLOOKUP($E16,氏名ﾃﾞｰﾀ!$B:$L,2,0))))","v":""},{"$f":"IF($E16=\"\",\"\",IF(ISERROR(VLOOKUP($E16,氏名ﾃﾞｰﾀ!$B:$L,3,0)),IF(ISERROR(VLOOKUP($E16,新規登録!$B:$L,3,0)),\"未登録\",VLOOKUP($E16,新規登録!$B:$L,3,0)),(VLOOKUP($E16,氏名ﾃﾞｰﾀ!$B:$L,3,0))))","v":""},{"$f":"IF($E16=\"\",\"\",IF(ISERROR(VLOOKUP($E16,氏名ﾃﾞｰﾀ!$B:$L,4,0)),IF(ISERROR(VLOOKUP($E16,新規登録!$B:$L,4,0)),\"未登録\",VLOOKUP($E16,新規登録!$B:$L,4,0)),(VLOOKUP($E16,氏名ﾃﾞｰﾀ!$B:$L,4,0))))","v":""},{"$f":"IF($E16=\"\",\"\",IF(ISERROR(VLOOKUP($E16,氏名ﾃﾞｰﾀ!$B:$L,5,0)),IF(ISERROR(VLOOKUP($E16,新規登録!$B:$L,5,0)),\"未登録\",VLOOKUP($E16,新規登録!$B:$L,5,0)),(VLOOKUP($E16,氏名ﾃﾞｰﾀ!$B:$L,5,0))))","v":""},{"$f":"IF($E16=\"\",\"\",IF(ISERROR(VLOOKUP($E16,氏名ﾃﾞｰﾀ!$B:$L,6,0)),IF(ISERROR(VLOOKUP($E16,新規登録!$B:$L,6,0)),\"未登録\",VLOOKUP($E16,新規登録!$B:$L,6,0)),(VLOOKUP($E16,氏名ﾃﾞｰﾀ!$B:$L,6,0))))","v":""},{"$f":"IF($E16=\"\",\"\",IF(ISERROR(VLOOKUP($E16,氏名ﾃﾞｰﾀ!$B:$L,7,0)),IF(ISERROR(VLOOKUP($E16,新規登録!$B:$L,7,0)),\"未登録\",VLOOKUP($E16,新規登録!$B:$L,7,0)),(VLOOKUP($E16,氏名ﾃﾞｰﾀ!$B:$L,7,0))))","v":""},{"$f":"IF($E16=\"\",\"\",IF(ISERROR(VLOOKUP($E16,氏名ﾃﾞｰﾀ!$B:$L,10,0)),IF(ISERROR(VLOOKUP($E16,新規登録!$B:$L,8,0)),\"未登録\",VLOOKUP($E16,新規登録!$B:$L,8,0)),(VLOOKUP($E16,氏名ﾃﾞｰﾀ!$B:$L,10,0))))","v":""},{"$f":"IF($E16=\"\",\"\",IF(ISERROR(VLOOKUP($E16,氏名ﾃﾞｰﾀ!$B:$L,11,0)),IF(ISERROR(VLOOKUP($E16,新規登録!$B:$L,11,0)),\"未登録\",VLOOKUP($E16,新規登録!$B:$L,11,0)),$G$3))","v":""},{"$f":"IF($E16=\"\",\"\",IF(ISERROR(VLOOKUP($E16,氏名ﾃﾞｰﾀ!$B:$L,8,0)),IF(ISERROR(VLOOKUP($E16,新規登録!$B:$L,10,0)),\"ﾅｼ\",VLOOKUP($E16,新規登録!$B:$L,10,0)),(VLOOKUP($E16,氏名ﾃﾞｰﾀ!$B:$L,8,0))))","v":""},{"$f":"IF($E16=\"\",\"\",IF(ISERROR(VLOOKUP($E16,氏名ﾃﾞｰﾀ!$B:$M,12,0)),IF(ISERROR(VLOOKUP($E16,新規登録!$B:$L,9,0)),\"未登録\",VLOOKUP($E16,新規登録!$B:$L,9,0)),(VLOOKUP($E16,氏名ﾃﾞｰﾀ!$B:$M,12,0))))","v":""},null,null,null,null,null,null,null,null,null,null,null,null,null,null,null,null,null,null,null,null,null,null,null,null,{"$f":"IF(AB16=\"\",\"\",CONCATENATE(IF(AC16=\"\",\"0\",AC16),IF(AD16=\"\",\"00\",CHOOSE(LEN(AD16),CONCATENATE(\"0\",AD16),AD16)),IF(AE16=\"\",\"00\",CHOOSE(LEN(AE16),CONCATENATE(\"0\",AE16),AE16))))","v":""},{"$f":"IF(AF16=\"\",\"\",CONCATENATE(IF(AG16=\"\",\"0\",AG16),IF(AH16=\"\",\"00\",CHOOSE(LEN(AH16),CONCATENATE(\"0\",AH16),AH16)),IF(AI16=\"\",\"00\",CHOOSE(LEN(AI16),CONCATENATE(\"0\",AI16),AI16))))","v":""},{"$f":"IF(N16=\"男\",1,2)","v":2},{"$f":"IF(AP16=1,IF(A16=\"\",1000,A16),\"1000\")","v":"1000"},{"$f":"IF(AP16=1,IF(AT16=\"\",\"\",LEFT(AT16,3)),\"\")","v":""},{"$f":"IF(AP16=1,IF(AT16=\"\",\"\",LEFT(AT16,3)),\"\")","v":""},{"$f":"IF(AP16=1,IF(A16=\"\",\"\",E16),\"\")","v":""},{"$f":"IF(AP16=1,IF(A16=\"\",\"\",RIGHT(AB16,2)),\"\")","v":""},{"$f":"IF(AP16=1,IF(A16=\"\",\"\",AN16),\"\")","v":""},{"$f":"IF(AP16=1,IF(B16=\"\",1000,B16),\"1000\")","v":"1000"},{"$f":"IF(AP16=1,IF(AZ16=\"\",\"\",LEFT(AZ16,3)),\"\")","v":""},{"$f":"IF(AP16=1,IF(AZ16=\"\",\"\",LEFT(AZ16,3)),\"\")","v":""},{"$f":"IF(AP16=1,IF(B16=\"\",\"\",E16),\"\")","v":""},{"$f":"IF(AP16=1,IF(B16=\"\",\"\",RIGHT(AF16,2)),\"\")","v":""},{"$f":"IF(AP16=1,IF(B16=\"\",\"\",AO16),\"\")","v":""},{"$f":"IF(AP16=2,IF(A16=\"\",1000,A16),\"1000\")","v":1000},{"$f":"IF(AP16=2,IF(BF16=\"\",\"\",LEFT(BF16,3)),\"\")","v":""},{"$f":"IF(AP16=2,IF(BF16=\"\",\"\",LEFT(BF16,3)),\"\")","v":""},{"$f":"IF(AP16=2,IF(A16=\"\",\"\",E16),\"\")","v":""},{"$f":"IF(AP16=2,IF(A16=\"\",\"\",RIGHT(AB16,2)),\"\")","v":""},{"$f":"IF(AP16=2,IF(A16=\"\",\"\",AN16),\"\")","v":""},{"$f":"IF(AP16=2,IF(B16=\"\",1000,B16),\"1000\")","v":1000},{"$f":"IF(AP16=2,IF(BL16=\"\",\"\",LEFT(BL16,3)),\"\")","v":""},{"$f":"IF(AP16=2,IF(BL16=\"\",\"\",LEFT(BL16,3)),\"\")","v":""},{"$f":"IF(AP16=2,IF(B16=\"\",\"\",E16),\"\")","v":""},{"$f":"IF(AP16=2,IF(B16=\"\",\"\",RIGHT(AF16,2)),\"\")","v":""},{"$f":"IF(AP16=2,IF(B16=\"\",\"\",AO16),\"\")","v":""}]
[{"$f":"IF(AB17=\"\",\"\",IF(N17=\"男\",VLOOKUP(AB17,ﾘﾚｰｺｰﾄﾞ,2,0),VLOOKUP(AB17,ﾘﾚｰｺｰﾄﾞ女,2,0)))","v":""},{"$f":"IF(AF17=\"\",\"\",IF(N17=\"男\",VLOOKUP(AF17,ﾘﾚｰｺｰﾄﾞ,3,0),VLOOKUP(AF17,ﾘﾚｰｺｰﾄﾞ女,3,0)))","v":""},{"$f":"IF(E17=\"\",\"\",IF(AP17=1,COUNTIF(AP$16:AP17,1)*10+2001-10,COUNTIF(AP$16:AP17,2)*10+6001-10))","v":""},2,null,{"$f":"IF($E17=\"\",\"\",IF(ISERROR(VLOOKUP($E17,氏名ﾃﾞｰﾀ!$B:$L,2,0)),IF(ISERROR(VLOOKUP($E17,新規登録!$B:$L,2,0)),\"未登録\",VLOOKUP($E17,新規登録!$B:$L,2,0)),(VLOOKUP($E17,氏名ﾃﾞｰﾀ!$B:$L,2,0))))","v":""},{"$f":"IF($E17=\"\",\"\",IF(ISERROR(VLOOKUP($E17,氏名ﾃﾞｰﾀ!$B:$L,3,0)),IF(ISERROR(VLOOKUP($E17,新規登録!$B:$L,3,0)),\"未登録\",VLOOKUP($E17,新規登録!$B:$L,3,0)),(VLOOKUP($E17,氏名ﾃﾞｰﾀ!$B:$L,3,0))))","v":""},{"$f":"IF($E17=\"\",\"\",IF(ISERROR(VLOOKUP($E17,氏名ﾃﾞｰﾀ!$B:$L,4,0)),IF(ISERROR(VLOOKUP($E17,新規登録!$B:$L,4,0)),\"未登録\",VLOOKUP($E17,新規登録!$B:$L,4,0)),(VLOOKUP($E17,氏名ﾃﾞｰﾀ!$B:$L,4,0))))","v":""},{"$f":"IF($E17=\"\",\"\",IF(ISERROR(VLOOKUP($E17,氏名ﾃﾞｰﾀ!$B:$L,5,0)),IF(ISERROR(VLOOKUP($E17,新規登録!$B:$L,5,0)),\"未登録\",VLOOKUP($E17,新規登録!$B:$L,5,0)),(VLOOKUP($E17,氏名ﾃﾞｰﾀ!$B:$L,5,0))))","v":""},{"$f":"IF($E17=\"\",\"\",IF(ISERROR(VLOOKUP($E17,氏名ﾃﾞｰﾀ!$B:$L,6,0)),IF(ISERROR(VLOOKUP($E17,新規登録!$B:$L,6,0)),\"未登録\",VLOOKUP($E17,新規登録!$B:$L,6,0)),(VLOOKUP($E17,氏名ﾃﾞｰﾀ!$B:$L,6,0))))","v":""},{"$f":"IF($E17=\"\",\"\",IF(ISERROR(VLOOKUP($E17,氏名ﾃﾞｰﾀ!$B:$L,7,0)),IF(ISERROR(VLOOKUP($E17,新規登録!$B:$L,7,0)),\"未登録\",VLOOKUP($E17,新規登録!$B:$L,7,0)),(VLOOKUP($E17,氏名ﾃﾞｰﾀ!$B:$L,7,0))))","v":""},{"$f":"IF($E17=\"\",\"\",IF(ISERROR(VLOOKUP($E17,氏名ﾃﾞｰﾀ!$B:$L,10,0)),IF(ISERROR(VLOOKUP($E17,新規登録!$B:$L,8,0)),\"未登録\",VLOOKUP($E17,新規登録!$B:$L,8,0)),(VLOOKUP($E17,氏名ﾃﾞｰﾀ!$B:$L,10,0))))","v":""},{"$f":"IF($E17=\"\",\"\",IF(ISERROR(VLOOKUP($E17,氏名ﾃﾞｰﾀ!$B:$L,11,0)),IF(ISERROR(VLOOKUP($E17,新規登録!$B:$L,11,0)),\"未登録\",VLOOKUP($E17,新規登録!$B:$L,11,0)),$G$3))","v":""},{"$f":"IF($E17=\"\",\"\",IF(ISERROR(VLOOKUP($E17,氏名ﾃﾞｰﾀ!$B:$L,8,0)),IF(ISERROR(VLOOKUP($E17,新規登録!$B:$L,10,0)),\"ﾅｼ\",VLOOKUP($E17,新規登録!$B:$L,10,0)),(VLOOKUP($E17,氏名ﾃﾞｰﾀ!$B:$L,8,0))))","v":""},{"$f":"IF($E17=\"\",\"\",IF(ISERROR(VLOOKUP($E17,氏名ﾃﾞｰﾀ!$B:$M,12,0)),IF(ISERROR(VLOOKUP($E17,新規登録!$B:$L,9,0)),\"未登録\",VLOOKUP($E17,新規登録!$B:$L,9,0)),(VLOOKUP($E17,氏名ﾃﾞｰﾀ!$B:$M,12,0))))","v":""},null,null,null,null,null,null,null,null,null,null,null,null,null,null,null,null,null,null,null,null,null,null,null,null,"","",{"$f":"IF(N17=\"男\",1,2)","v":2},"1000",{"$f":"IF(AP17=1,IF(AT17=\"\",\"\",LEFT(AT17,3)),\"\")","v":""},{"$f":"IF(AP17=1,IF(AT17=\"\",\"\",LEFT(AT17,3)),\"\")","v":""},"","","","1000",{"$f":"IF(AP17=1,IF(AZ17=\"\",\"\",LEFT(AZ17,3)),\"\")","v":""},{"$f":"IF(AP17=1,IF(AZ17=\"\",\"\",LEFT(AZ17,3)),\"\")","v":""},"","","",1000,{"$f":"IF(AP17=2,IF(BF17=\"\",\"\",LEFT(BF17,3)),\"\")","v":""},{"$f":"IF(AP17=2,IF(BF17=\"\",\"\",LEFT(BF17,3)),\"\")","v":""},"","","",1000,{"$f":"IF(AP17=2,IF(BL17=\"\",\"\",LEFT(BL17,3)),\"\")","v":""},{"$f":"IF(AP17=2,IF(BL17=\"\",\"\",LEFT(BL17,3)),\"\")","v":""},"","",""]
["","",{"$f":"IF(E18=\"\",\"\",IF(AP18=1,COUNTIF(AP$16:AP18,1)*10+2001-10,COUNTIF(AP$16:AP18,2)*10+6001-10))","v":""},3,null,{"$f":"IF($E18=\"\",\"\",IF(ISERROR(VLOOKUP($E18,氏名ﾃﾞｰﾀ!$B:$L,2,0)),IF(ISERROR(VLOOKUP($E18,新規登録!$B:$L,2,0)),\"未登録\",VLOOKUP($E18,新規登録!$B:$L,2,0)),(VLOOKUP($E18,氏名ﾃﾞｰﾀ!$B:$L,2,0))))","v":""},{"$f":"IF($E18=\"\",\"\",IF(ISERROR(VLOOKUP($E18,氏名ﾃﾞｰﾀ!$B:$L,3,0)),IF(ISERROR(VLOOKUP($E18,新規登録!$B:$L,3,0)),\"未登録\",VLOOKUP($E18,新規登録!$B:$L,3,0)),(VLOOKUP($E18,氏名ﾃﾞｰﾀ!$B:$L,3,0))))","v":""},{"$f":"IF($E18=\"\",\"\",IF(ISERROR(VLOOKUP($E18,氏名ﾃﾞｰﾀ!$B:$L,4,0)),IF(ISERROR(VLOOKUP($E18,新規登録!$B:$L,4,0)),\"未登録\",VLOOKUP($E18,新規登録!$B:$L,4,0)),(VLOOKUP($E18,氏名ﾃﾞｰﾀ!$B:$L,4,0))))","v":""},{"$f":"IF($E18=\"\",\"\",IF(ISERROR(VLOOKUP($E18,氏名ﾃﾞｰﾀ!$B:$L,5,0)),IF(ISERROR(VLOOKUP($E18,新規登録!$B:$L,5,0)),\"未登録\",VLOOKUP($E18,新規登録!$B:$L,5,0)),(VLOOKUP($E18,氏名ﾃﾞｰﾀ!$B:$L,5,0))))","v":""},{"$f":"IF($E18=\"\",\"\",IF(ISERROR(VLOOKUP($E18,氏名ﾃﾞｰﾀ!$B:$L,6,0)),IF(ISERROR(VLOOKUP($E18,新規登録!$B:$L,6,0)),\"未登録\",VLOOKUP($E18,新規登録!$B:$L,6,0)),(VLOOKUP($E18,氏名ﾃﾞｰﾀ!$B:$L,6,0))))","v":""},{"$f":"IF($E18=\"\",\"\",IF(ISERROR(VLOOKUP($E18,氏名ﾃﾞｰﾀ!$B:$L,7,0)),IF(ISERROR(VLOOKUP($E18,新規登録!$B:$L,7,0)),\"未登録\",VLOOKUP($E18,新規登録!$B:$L,7,0)),(VLOOKUP($E18,氏名ﾃﾞｰﾀ!$B:$L,7,0))))","v":""},{"$f":"IF($E18=\"\",\"\",IF(ISERROR(VLOOKUP($E18,氏名ﾃﾞｰﾀ!$B:$L,10,0)),IF(ISERROR(VLOOKUP($E18,新規登録!$B:$L,8,0)),\"未登録\",VLOOKUP($E18,新規登録!$B:$L,8,0)),(VLOOKUP($E18,氏名ﾃﾞｰﾀ!$B:$L,10,0))))","v":""},{"$f":"IF($E18=\"\",\"\",IF(ISERROR(VLOOKUP($E18,氏名ﾃﾞｰﾀ!$B:$L,11,0)),IF(ISERROR(VLOOKUP($E18,新規登録!$B:$L,11,0)),\"未登録\",VLOOKUP($E18,新規登録!$B:$L,11,0)),$G$3))","v":""},{"$f":"IF($E18=\"\",\"\",IF(ISERROR(VLOOKUP($E18,氏名ﾃﾞｰﾀ!$B:$L,8,0)),IF(ISERROR(VLOOKUP($E18,新規登録!$B:$L,10,0)),\"ﾅｼ\",VLOOKUP($E18,新規登録!$B:$L,10,0)),(VLOOKUP($E18,氏名ﾃﾞｰﾀ!$B:$L,8,0))))","v":""},{"$f":"IF($E18=\"\",\"\",IF(ISERROR(VLOOKUP($E18,氏名ﾃﾞｰﾀ!$B:$M,12,0)),IF(ISERROR(VLOOKUP($E18,新規登録!$B:$L,9,0)),\"未登録\",VLOOKUP($E18,新規登録!$B:$L,9,0)),(VLOOKUP($E18,氏名ﾃﾞｰﾀ!$B:$M,12,0))))","v":""},null,null,null,null,null,null,null,null,null,null,null,null,null,null,null,null,null,null,null,null,null,null,null,null,"","",2,"1000",{"$f":"IF(AP18=1,IF(AT18=\"\",\"\",LEFT(AT18,3)),\"\")","v":""},{"$f":"IF(AP18=1,IF(AT18=\"\",\"\",LEFT(AT18,3)),\"\")","v":""},"","","","1000","","","","","",1000,"","","","","",1000,"","","","",""]
["","",{"$f":"IF(E19=\"\",\"\",IF(AP19=1,COUNTIF(AP$16:AP19,1)*10+2001-10,COUNTIF(AP$16:AP19,2)*10+6001-10))","v":""},4,null,{"$f":"IF($E19=\"\",\"\",IF(ISERROR(VLOOKUP($E19,氏名ﾃﾞｰﾀ!$B:$L,2,0)),IF(ISERROR(VLOOKUP($E19,新規登録!$B:$L,2,0)),\"未登録\",VLOOKUP($E19,新規登録!$B:$L,2,0)),(VLOOKUP($E19,氏名ﾃﾞｰﾀ!$B:$L,2,0))))","v":""},{"$f":"IF($E19=\"\",\"\",IF(ISERROR(VLOOKUP($E19,氏名ﾃﾞｰﾀ!$B:$L,3,0)),IF(ISERROR(VLOOKUP($E19,新規登録!$B:$L,3,0)),\"未登録\",VLOOKUP($E19,新規登録!$B:$L,3,0)),(VLOOKUP($E19,氏名ﾃﾞｰﾀ!$B:$L,3,0))))","v":""},{"$f":"IF($E19=\"\",\"\",IF(ISERROR(VLOOKUP($E19,氏名ﾃﾞｰﾀ!$B:$L,4,0)),IF(ISERROR(VLOOKUP($E19,新規登録!$B:$L,4,0)),\"未登録\",VLOOKUP($E19,新規登録!$B:$L,4,0)),(VLOOKUP($E19,氏名ﾃﾞｰﾀ!$B:$L,4,0))))","v":""},{"$f":"IF($E19=\"\",\"\",IF(ISERROR(VLOOKUP($E19,氏名ﾃﾞｰﾀ!$B:$L,5,0)),IF(ISERROR(VLOOKUP($E19,新規登録!$B:$L,5,0)),\"未登録\",VLOOKUP($E19,新規登録!$B:$L,5,0)),(VLOOKUP($E19,氏名ﾃﾞｰﾀ!$B:$L,5,0))))","v":""},{"$f":"IF($E19=\"\",\"\",IF(ISERROR(VLOOKUP($E19,氏名ﾃﾞｰﾀ!$B:$L,6,0)),IF(ISERROR(VLOOKUP($E19,新規登録!$B:$L,6,0)),\"未登録\",VLOOKUP($E19,新規登録!$B:$L,6,0)),(VLOOKUP($E19,氏名ﾃﾞｰﾀ!$B:$L,6,0))))","v":""},{"$f":"IF($E19=\"\",\"\",IF(ISERROR(VLOOKUP($E19,氏名ﾃﾞｰﾀ!$B:$L,7,0)),IF(ISERROR(VLOOKUP($E19,新規登録!$B:$L,7,0)),\"未登録\",VLOOKUP($E19,新規登録!$B:$L,7,0)),(VLOOKUP($E19,氏名ﾃﾞｰﾀ!$B:$L,7,0))))","v":""},{"$f":"IF($E19=\"\",\"\",IF(ISERROR(VLOOKUP($E19,氏名ﾃﾞｰﾀ!$B:$L,10,0)),IF(ISERROR(VLOOKUP($E19,新規登録!$B:$L,8,0)),\"未登録\",VLOOKUP($E19,新規登録!$B:$L,8,0)),(VLOOKUP($E19,氏名ﾃﾞｰﾀ!$B:$L,10,0))))","v":""},{"$f":"IF($E19=\"\",\"\",IF(ISERROR(VLOOKUP($E19,氏名ﾃﾞｰﾀ!$B:$L,11,0)),IF(ISERROR(VLOOKUP($E19,新規登録!$B:$L,11,0)),\"未登録\",VLOOKUP($E19,新規登録!$B:$L,11,0)),$G$3))","v":""},{"$f":"IF($E19=\"\",\"\",IF(ISERROR(VLOOKUP($E19,氏名ﾃﾞｰﾀ!$B:$L,8,0)),IF(ISERROR(VLOOKUP($E19,新規登録!$B:$L,10,0)),\"ﾅｼ\",VLOOKUP($E19,新規登録!$B:$L,10,0)),(VLOOKUP($E19,氏名ﾃﾞｰﾀ!$B:$L,8,0))))","v":""},{"$f":"IF($E19=\"\",\"\",IF(ISERROR(VLOOKUP($E19,氏名ﾃﾞｰﾀ!$B:$M,12,0)),IF(ISERROR(VLOOKUP($E19,新規登録!$B:$L,9,0)),\"未登録\",VLOOKUP($E19,新規登録!$B:$L,9,0)),(VLOOKUP($E19,氏名ﾃﾞｰﾀ!$B:$M,12,0))))","v":""},null,null,null,null,null,null,null,null,null,null,null,null,null,null,null,null,null,null,null,null,null,null,null,null,"","",2,"1000","","","","","","1000","","","","","",1000,"","","","","",1000,"","","","",""]
["","",{"$f":"IF(E20=\"\",\"\",IF(AP20=1,COUNTIF(AP$16:AP20,1)*10+2001-10,COUNTIF(AP$16:AP20,2)*10+6001-10))","v":""},5,null,{"$f":"IF($E20=\"\",\"\",IF(ISERROR(VLOOKUP($E20,氏名ﾃﾞｰﾀ!$B:$L,2,0)),IF(ISERROR(VLOOKUP($E20,新規登録!$B:$L,2,0)),\"未登録\",VLOOKUP($E20,新規登録!$B:$L,2,0)),(VLOOKUP($E20,氏名ﾃﾞｰﾀ!$B:$L,2,0))))","v":""},{"$f":"IF($E20=\"\",\"\",IF(ISERROR(VLOOKUP($E20,氏名ﾃﾞｰﾀ!$B:$L,3,0)),IF(ISERROR(VLOOKUP($E20,新規登録!$B:$L,3,0)),\"未登録\",VLOOKUP($E20,新規登録!$B:$L,3,0)),(VLOOKUP($E20,氏名ﾃﾞｰﾀ!$B:$L,3,0))))","v":""},{"$f":"IF($E20=\"\",\"\",IF(ISERROR(VLOOKUP($E20,氏名ﾃﾞｰﾀ!$B:$L,4,0)),IF(ISERROR(VLOOKUP($E20,新規登録!$B:$L,4,0)),\"未登録\",VLOOKUP($E20,新規登録!$B:$L,4,0)),(VLOOKUP($E20,氏名ﾃﾞｰﾀ!$B:$L,4,0))))","v":""},{"$f":"IF($E20=\"\",\"\",IF(ISERROR(VLOOKUP($E20,氏名ﾃﾞｰﾀ!$B:$L,5,0)),IF(ISERROR(VLOOKUP($E20,新規登録!$B:$L,5,0)),\"未登録\",VLOOKUP($E20,新規登録!$B:$L,5,0)),(VLOOKUP($E20,氏名ﾃﾞｰﾀ!$B:$L,5,0))))","v":""},{"$f":"IF($E20=\"\",\"\",IF(ISERROR(VLOOKUP($E20,氏名ﾃﾞｰﾀ!$B:$L,6,0)),IF(ISERROR(VLOOKUP($E20,新規登録!$B:$L,6,0)),\"未登録\",VLOOKUP($E20,新規登録!$B:$L,6,0)),(VLOOKUP($E20,氏名ﾃﾞｰﾀ!$B:$L,6,0))))","v":""},{"$f":"IF($E20=\"\",\"\",IF(ISERROR(VLOOKUP($E20,氏名ﾃﾞｰﾀ!$B:$L,7,0)),IF(ISERROR(VLOOKUP($E20,新規登録!$B:$L,7,0)),\"未登録\",VLOOKUP($E20,新規登録!$B:$L,7,0)),(VLOOKUP($E20,氏名ﾃﾞｰﾀ!$B:$L,7,0))))","v":""},{"$f":"IF($E20=\"\",\"\",IF(ISERROR(VLOOKUP($E20,氏名ﾃﾞｰﾀ!$B:$L,10,0)),IF(ISERROR(VLOOKUP($E20,新規登録!$B:$L,8,0)),\"未登録\",VLOOKUP($E20,新規登録!$B:$L,8,0)),(VLOOKUP($E20,氏名ﾃﾞｰﾀ!$B:$L,10,0))))","v":""},{"$f":"IF($E20=\"\",\"\",IF(ISERROR(VLOOKUP($E20,氏名ﾃﾞｰﾀ!$B:$L,11,0)),IF(ISERROR(VLOOKUP($E20,新規登録!$B:$L,11,0)),\"未登録\",VLOOKUP($E20,新規登録!$B:$L,11,0)),$G$3))","v":""},{"$f":"IF($E20=\"\",\"\",IF(ISERROR(VLOOKUP($E20,氏名ﾃﾞｰﾀ!$B:$L,8,0)),IF(ISERROR(VLOOKUP($E20,新規登録!$B:$L,10,0)),\"ﾅｼ\",VLOOKUP($E20,新規登録!$B:$L,10,0)),(VLOOKUP($E20,氏名ﾃﾞｰﾀ!$B:$L,8,0))))","v":""},{"$f":"IF($E20=\"\",\"\",IF(ISERROR(VLOOKUP($E20,氏名ﾃﾞｰﾀ!$B:$M,12,0)),IF(ISERROR(VLOOKUP($E20,新規登録!$B:$L,9,0)),\"未登録\",VLOOKUP($E20,新規登録!$B:$L,9,0)),(VLOOKUP($E20,氏名ﾃﾞｰﾀ!$B:$M,12,0))))","v":""},null,null,null,null,null,null,null,null,null,null,null,null,null,null,null,null,null,null,null,null,null,null,null,null,"","",2,"1000","","","","","","1000","","","","","",1000,"","","","","",1000,"","","","",""]
["","",{"$f":"IF(E21=\"\",\"\",IF(AP21=1,COUNTIF(AP$16:AP21,1)*10+2001-10,COUNTIF(AP$16:AP21,2)*10+6001-10))","v":""},6,null,{"$f":"IF($E21=\"\",\"\",IF(ISERROR(VLOOKUP($E21,氏名ﾃﾞｰﾀ!$B:$L,2,0)),IF(ISERROR(VLOOKUP($E21,新規登録!$B:$L,2,0)),\"未登録\",VLOOKUP($E21,新規登録!$B:$L,2,0)),(VLOOKUP($E21,氏名ﾃﾞｰﾀ!$B:$L,2,0))))","v":""},{"$f":"IF($E21=\"\",\"\",IF(ISERROR(VLOOKUP($E21,氏名ﾃﾞｰﾀ!$B:$L,3,0)),IF(ISERROR(VLOOKUP($E21,新規登録!$B:$L,3,0)),\"未登録\",VLOOKUP($E21,新規登録!$B:$L,3,0)),(VLOOKUP($E21,氏名ﾃﾞｰﾀ!$B:$L,3,0))))","v":""},{"$f":"IF($E21=\"\",\"\",IF(ISERROR(VLOOKUP($E21,氏名ﾃﾞｰﾀ!$B:$L,4,0)),IF(ISERROR(VLOOKUP($E21,新規登録!$B:$L,4,0)),\"未登録\",VLOOKUP($E21,新規登録!$B:$L,4,0)),(VLOOKUP($E21,氏名ﾃﾞｰﾀ!$B:$L,4,0))))","v":""},{"$f":"IF($E21=\"\",\"\",IF(ISERROR(VLOOKUP($E21,氏名ﾃﾞｰﾀ!$B:$L,5,0)),IF(ISERROR(VLOOKUP($E21,新規登録!$B:$L,5,0)),\"未登録\",VLOOKUP($E21,新規登録!$B:$L,5,0)),(VLOOKUP($E21,氏名ﾃﾞｰﾀ!$B:$L,5,0))))","v":""},{"$f":"IF($E21=\"\",\"\",IF(ISERROR(VLOOKUP($E21,氏名ﾃﾞｰﾀ!$B:$L,6,0)),IF(ISERROR(VLOOKUP($E21,新規登録!$B:$L,6,0)),\"未登録\",VLOOKUP($E21,新規登録!$B:$L,6,0)),(VLOOKUP($E21,氏名ﾃﾞｰﾀ!$B:$L,6,0))))","v":""},{"$f":"IF($E21=\"\",\"\",IF(ISERROR(VLOOKUP($E21,氏名ﾃﾞｰﾀ!$B:$L,7,0)),IF(ISERROR(VLOOKUP($E21,新規登録!$B:$L,7,0)),\"未登録\",VLOOKUP($E21,新規登録!$B:$L,7,0)),(VLOOKUP($E21,氏名ﾃﾞｰﾀ!$B:$L,7,0))))","v":""},{"$f":"IF($E21=\"\",\"\",IF(ISERROR(VLOOKUP($E21,氏名ﾃﾞｰﾀ!$B:$L,10,0)),IF(ISERROR(VLOOKUP($E21,新規登録!$B:$L,8,0)),\"未登録\",VLOOKUP($E21,新規登録!$B:$L,8,0)),(VLOOKUP($E21,氏名ﾃﾞｰﾀ!$B:$L,10,0))))","v":""},{"$f":"IF($E21=\"\",\"\",IF(ISERROR(VLOOKUP($E21,氏名ﾃﾞｰﾀ!$B:$L,11,0)),IF(ISERROR(VLOOKUP($E21,新規登録!$B:$L,11,0)),\"未登録\",VLOOKUP($E21,新規登録!$B:$L,11,0)),$G$3))","v":""},{"$f":"IF($E21=\"\",\"\",IF(ISERROR(VLOOKUP($E21,氏名ﾃﾞｰﾀ!$B:$L,8,0)),IF(ISERROR(VLOOKUP($E21,新規登録!$B:$L,10,0)),\"ﾅｼ\",VLOOKUP($E21,新規登録!$B:$L,10,0)),(VLOOKUP($E21,氏名ﾃﾞｰﾀ!$B:$L,8,0))))","v":""},{"$f":"IF($E21=\"\",\"\",IF(ISERROR(VLOOKUP($E21,氏名ﾃﾞｰﾀ!$B:$M,12,0)),IF(ISERROR(VLOOKUP($E21,新規登録!$B:$L,9,0)),\"未登録\",VLOOKUP($E21,新規登録!$B:$L,9,0)),(VLOOKUP($E21,氏名ﾃﾞｰﾀ!$B:$M,12,0))))","v":""},null,null,null,null,null,null,null,null,null,null,null,null,null,null,null,null,null,null,null,null,null,null,null,null,"","",2,"1000","","","","","","1000","","","","","",1000,"","","","","",1000,"","","","",""]
["","",{"$f":"IF(E22=\"\",\"\",IF(AP22=1,COUNTIF(AP$16:AP22,1)*10+2001-10,COUNTIF(AP$16:AP22,2)*10+6001-10))","v":""},7,null,{"$f":"IF($E22=\"\",\"\",IF(ISERROR(VLOOKUP($E22,氏名ﾃﾞｰﾀ!$B:$L,2,0)),IF(ISERROR(VLOOKUP($E22,新規登録!$B:$L,2,0)),\"未登録\",VLOOKUP($E22,新規登録!$B:$L,2,0)),(VLOOKUP($E22,氏名ﾃﾞｰﾀ!$B:$L,2,0))))","v":""},{"$f":"IF($E22=\"\",\"\",IF(ISERROR(VLOOKUP($E22,氏名ﾃﾞｰﾀ!$B:$L,3,0)),IF(ISERROR(VLOOKUP($E22,新規登録!$B:$L,3,0)),\"未登録\",VLOOKUP($E22,新規登録!$B:$L,3,0)),(VLOOKUP($E22,氏名ﾃﾞｰﾀ!$B:$L,3,0))))","v":""},{"$f":"IF($E22=\"\",\"\",IF(ISERROR(VLOOKUP($E22,氏名ﾃﾞｰﾀ!$B:$L,4,0)),IF(ISERROR(VLOOKUP($E22,新規登録!$B:$L,4,0)),\"未登録\",VLOOKUP($E22,新規登録!$B:$L,4,0)),(VLOOKUP($E22,氏名ﾃﾞｰﾀ!$B:$L,4,0))))","v":""},{"$f":"IF($E22=\"\",\"\",IF(ISERROR(VLOOKUP($E22,氏名ﾃﾞｰﾀ!$B:$L,5,0)),IF(ISERROR(VLOOKUP($E22,新規登録!$B:$L,5,0)),\"未登録\",VLOOKUP($E22,新規登録!$B:$L,5,0)),(VLOOKUP($E22,氏名ﾃﾞｰﾀ!$B:$L,5,0))))","v":""},{"$f":"IF($E22=\"\",\"\",IF(ISERROR(VLOOKUP($E22,氏名ﾃﾞｰﾀ!$B:$L,6,0)),IF(ISERROR(VLOOKUP($E22,新規登録!$B:$L,6,0)),\"未登録\",VLOOKUP($E22,新規登録!$B:$L,6,0)),(VLOOKUP($E22,氏名ﾃﾞｰﾀ!$B:$L,6,0))))","v":""},{"$f":"IF($E22=\"\",\"\",IF(ISERROR(VLOOKUP($E22,氏名ﾃﾞｰﾀ!$B:$L,7,0)),IF(ISERROR(VLOOKUP($E22,新規登録!$B:$L,7,0)),\"未登録\",VLOOKUP($E22,新規登録!$B:$L,7,0)),(VLOOKUP($E22,氏名ﾃﾞｰﾀ!$B:$L,7,0))))","v":""},{"$f":"IF($E22=\"\",\"\",IF(ISERROR(VLOOKUP($E22,氏名ﾃﾞｰﾀ!$B:$L,10,0)),IF(ISERROR(VLOOKUP($E22,新規登録!$B:$L,8,0)),\"未登録\",VLOOKUP($E22,新規登録!$B:$L,8,0)),(VLOOKUP($E22,氏名ﾃﾞｰﾀ!$B:$L,10,0))))","v":""},{"$f":"IF($E22=\"\",\"\",IF(ISERROR(VLOOKUP($E22,氏名ﾃﾞｰﾀ!$B:$L,11,0)),IF(ISERROR(VLOOKUP($E22,新規登録!$B:$L,11,0)),\"未登録\",VLOOKUP($E22,新規登録!$B:$L,11,0)),$G$3))","v":""},{"$f":"IF($E22=\"\",\"\",IF(ISERROR(VLOOKUP($E22,氏名ﾃﾞｰﾀ!$B:$L,8,0)),IF(ISERROR(VLOOKUP($E22,新規登録!$B:$L,10,0)),\"ﾅｼ\",VLOOKUP($E22,新規登録!$B:$L,10,0)),(VLOOKUP($E22,氏名ﾃﾞｰﾀ!$B:$L,8,0))))","v":""},{"$f":"IF($E22=\"\",\"\",IF(ISERROR(VLOOKUP($E22,氏名ﾃﾞｰﾀ!$B:$M,12,0)),IF(ISERROR(VLOOKUP($E22,新規登録!$B:$L,9,0)),\"未登録\",VLOOKUP($E22,新規登録!$B:$L,9,0)),(VLOOKUP($E22,氏名ﾃﾞｰﾀ!$B:$M,12,0))))","v":""},null,null,null,null,null,null,null,null,null,null,null,null,null,null,null,null,null,null,null,null,null,null,null,null,"","",2,"1000","","","","","","1000","","","","","",1000,"","","","","",1000,"","","","",""]
["","",{"$f":"IF(E23=\"\",\"\",IF(AP23=1,COUNTIF(AP$16:AP23,1)*10+2001-10,COUNTIF(AP$16:AP23,2)*10+6001-10))","v":""},8,null,{"$f":"IF($E23=\"\",\"\",IF(ISERROR(VLOOKUP($E23,氏名ﾃﾞｰﾀ!$B:$L,2,0)),IF(ISERROR(VLOOKUP($E23,新規登録!$B:$L,2,0)),\"未登録\",VLOOKUP($E23,新規登録!$B:$L,2,0)),(VLOOKUP($E23,氏名ﾃﾞｰﾀ!$B:$L,2,0))))","v":""},{"$f":"IF($E23=\"\",\"\",IF(ISERROR(VLOOKUP($E23,氏名ﾃﾞｰﾀ!$B:$L,3,0)),IF(ISERROR(VLOOKUP($E23,新規登録!$B:$L,3,0)),\"未登録\",VLOOKUP($E23,新規登録!$B:$L,3,0)),(VLOOKUP($E23,氏名ﾃﾞｰﾀ!$B:$L,3,0))))","v":""},{"$f":"IF($E23=\"\",\"\",IF(ISERROR(VLOOKUP($E23,氏名ﾃﾞｰﾀ!$B:$L,4,0)),IF(ISERROR(VLOOKUP($E23,新規登録!$B:$L,4,0)),\"未登録\",VLOOKUP($E23,新規登録!$B:$L,4,0)),(VLOOKUP($E23,氏名ﾃﾞｰﾀ!$B:$L,4,0))))","v":""},{"$f":"IF($E23=\"\",\"\",IF(ISERROR(VLOOKUP($E23,氏名ﾃﾞｰﾀ!$B:$L,5,0)),IF(ISERROR(VLOOKUP($E23,新規登録!$B:$L,5,0)),\"未登録\",VLOOKUP($E23,新規登録!$B:$L,5,0)),(VLOOKUP($E23,氏名ﾃﾞｰﾀ!$B:$L,5,0))))","v":""},{"$f":"IF($E23=\"\",\"\",IF(ISERROR(VLOOKUP($E23,氏名ﾃﾞｰﾀ!$B:$L,6,0)),IF(ISERROR(VLOOKUP($E23,新規登録!$B:$L,6,0)),\"未登録\",VLOOKUP($E23,新規登録!$B:$L,6,0)),(VLOOKUP($E23,氏名ﾃﾞｰﾀ!$B:$L,6,0))))","v":""},{"$f":"IF($E23=\"\",\"\",IF(ISERROR(VLOOKUP($E23,氏名ﾃﾞｰﾀ!$B:$L,7,0)),IF(ISERROR(VLOOKUP($E23,新規登録!$B:$L,7,0)),\"未登録\",VLOOKUP($E23,新規登録!$B:$L,7,0)),(VLOOKUP($E23,氏名ﾃﾞｰﾀ!$B:$L,7,0))))","v":""},{"$f":"IF($E23=\"\",\"\",IF(ISERROR(VLOOKUP($E23,氏名ﾃﾞｰﾀ!$B:$L,10,0)),IF(ISERROR(VLOOKUP($E23,新規登録!$B:$L,8,0)),\"未登録\",VLOOKUP($E23,新規登録!$B:$L,8,0)),(VLOOKUP($E23,氏名ﾃﾞｰﾀ!$B:$L,10,0))))","v":""},{"$f":"IF($E23=\"\",\"\",IF(ISERROR(VLOOKUP($E23,氏名ﾃﾞｰﾀ!$B:$L,11,0)),IF(ISERROR(VLOOKUP($E23,新規登録!$B:$L,11,0)),\"未登録\",VLOOKUP($E23,新規登録!$B:$L,11,0)),$G$3))","v":""},{"$f":"IF($E23=\"\",\"\",IF(ISERROR(VLOOKUP($E23,氏名ﾃﾞｰﾀ!$B:$L,8,0)),IF(ISERROR(VLOOKUP($E23,新規登録!$B:$L,10,0)),\"ﾅｼ\",VLOOKUP($E23,新規登録!$B:$L,10,0)),(VLOOKUP($E23,氏名ﾃﾞｰﾀ!$B:$L,8,0))))","v":""},{"$f":"IF($E23=\"\",\"\",IF(ISERROR(VLOOKUP($E23,氏名ﾃﾞｰﾀ!$B:$M,12,0)),IF(ISERROR(VLOOKUP($E23,新規登録!$B:$L,9,0)),\"未登録\",VLOOKUP($E23,新規登録!$B:$L,9,0)),(VLOOKUP($E23,氏名ﾃﾞｰﾀ!$B:$M,12,0))))","v":""},null,null,null,null,null,null,null,null,null,null,null,null,null,null,null,null,null,null,null,null,null,null,null,null,"","",2,"1000","","","","","","1000","","","","","",1000,"","","","","",1000,"","","","",""]
["","",{"$f":"IF(E24=\"\",\"\",IF(AP24=1,COUNTIF(AP$16:AP24,1)*10+2001-10,COUNTIF(AP$16:AP24,2)*10+6001-10))","v":""},9,null,{"$f":"IF($E24=\"\",\"\",IF(ISERROR(VLOOKUP($E24,氏名ﾃﾞｰﾀ!$B:$L,2,0)),IF(ISERROR(VLOOKUP($E24,新規登録!$B:$L,2,0)),\"未登録\",VLOOKUP($E24,新規登録!$B:$L,2,0)),(VLOOKUP($E24,氏名ﾃﾞｰﾀ!$B:$L,2,0))))","v":""},{"$f":"IF($E24=\"\",\"\",IF(ISERROR(VLOOKUP($E24,氏名ﾃﾞｰﾀ!$B:$L,3,0)),IF(ISERROR(VLOOKUP($E24,新規登録!$B:$L,3,0)),\"未登録\",VLOOKUP($E24,新規登録!$B:$L,3,0)),(VLOOKUP($E24,氏名ﾃﾞｰﾀ!$B:$L,3,0))))","v":""},{"$f":"IF($E24=\"\",\"\",IF(ISERROR(VLOOKUP($E24,氏名ﾃﾞｰﾀ!$B:$L,4,0)),IF(ISERROR(VLOOKUP($E24,新規登録!$B:$L,4,0)),\"未登録\",VLOOKUP($E24,新規登録!$B:$L,4,0)),(VLOOKUP($E24,氏名ﾃﾞｰﾀ!$B:$L,4,0))))","v":""},{"$f":"IF($E24=\"\",\"\",IF(ISERROR(VLOOKUP($E24,氏名ﾃﾞｰﾀ!$B:$L,5,0)),IF(ISERROR(VLOOKUP($E24,新規登録!$B:$L,5,0)),\"未登録\",VLOOKUP($E24,新規登録!$B:$L,5,0)),(VLOOKUP($E24,氏名ﾃﾞｰﾀ!$B:$L,5,0))))","v":""},{"$f":"IF($E24=\"\",\"\",IF(ISERROR(VLOOKUP($E24,氏名ﾃﾞｰﾀ!$B:$L,6,0)),IF(ISERROR(VLOOKUP($E24,新規登録!$B:$L,6,0)),\"未登録\",VLOOKUP($E24,新規登録!$B:$L,6,0)),(VLOOKUP($E24,氏名ﾃﾞｰﾀ!$B:$L,6,0))))","v":""},{"$f":"IF($E24=\"\",\"\",IF(ISERROR(VLOOKUP($E24,氏名ﾃﾞｰﾀ!$B:$L,7,0)),IF(ISERROR(VLOOKUP($E24,新規登録!$B:$L,7,0)),\"未登録\",VLOOKUP($E24,新規登録!$B:$L,7,0)),(VLOOKUP($E24,氏名ﾃﾞｰﾀ!$B:$L,7,0))))","v":""},{"$f":"IF($E24=\"\",\"\",IF(ISERROR(VLOOKUP($E24,氏名ﾃﾞｰﾀ!$B:$L,10,0)),IF(ISERROR(VLOOKUP($E24,新規登録!$B:$L,8,0)),\"未登録\",VLOOKUP($E24,新規登録!$B:$L,8,0)),(VLOOKUP($E24,氏名ﾃﾞｰﾀ!$B:$L,10,0))))","v":""},{"$f":"IF($E24=\"\",\"\",IF(ISERROR(VLOOKUP($E24,氏名ﾃﾞｰﾀ!$B:$L,11,0)),IF(ISERROR(VLOOKUP($E24,新規登録!$B:$L,11,0)),\"未登録\",VLOOKUP($E24,新規登録!$B:$L,11,0)),$G$3))","v":""},{"$f":"IF($E24=\"\",\"\",IF(ISERROR(VLOOKUP($E24,氏名ﾃﾞｰﾀ!$B:$L,8,0)),IF(ISERROR(VLOOKUP($E24,新規登録!$B:$L,10,0)),\"ﾅｼ\",VLOOKUP($E24,新規登録!$B:$L,10,0)),(VLOOKUP($E24,氏名ﾃﾞｰﾀ!$B:$L,8,0))))","v":""},{"$f":"IF($E24=\"\",\"\",IF(ISERROR(VLOOKUP($E24,氏名ﾃﾞｰﾀ!$B:$M,12,0)),IF(ISERROR(VLOOKUP($E24,新規登録!$B:$L,9,0)),\"未登録\",VLOOKUP($E24,新規登録!$B:$L,9,0)),(VLOOKUP($E24,氏名ﾃﾞｰﾀ!$B:$M,12,0))))","v":""},null,null,null,null,null,null,null,null,null,null,null,null,null,null,null,null,null,null,null,null,null,null,null,null,"","",2,"1000","","","","","","1000","","","","","",1000,"","","","","",1000,"","","","",""]
["","",{"$f":"IF(E25=\"\",\"\",IF(AP25=1,COUNTIF(AP$16:AP25,1)*10+2001-10,COUNTIF(AP$16:AP25,2)*10+6001-10))","v":""},10,null,{"$f":"IF($E25=\"\",\"\",IF(ISERROR(VLOOKUP($E25,氏名ﾃﾞｰﾀ!$B:$L,2,0)),IF(ISERROR(VLOOKUP($E25,新規登録!$B:$L,2,0)),\"未登録\",VLOOKUP($E25,新規登録!$B:$L,2,0)),(VLOOKUP($E25,氏名ﾃﾞｰﾀ!$B:$L,2,0))))","v":""},{"$f":"IF($E25=\"\",\"\",IF(ISERROR(VLOOKUP($E25,氏名ﾃﾞｰﾀ!$B:$L,3,0)),IF(ISERROR(VLOOKUP($E25,新規登録!$B:$L,3,0)),\"未登録\",VLOOKUP($E25,新規登録!$B:$L,3,0)),(VLOOKUP($E25,氏名ﾃﾞｰﾀ!$B:$L,3,0))))","v":""},{"$f":"IF($E25=\"\",\"\",IF(ISERROR(VLOOKUP($E25,氏名ﾃﾞｰﾀ!$B:$L,4,0)),IF(ISERROR(VLOOKUP($E25,新規登録!$B:$L,4,0)),\"未登録\",VLOOKUP($E25,新規登録!$B:$L,4,0)),(VLOOKUP($E25,氏名ﾃﾞｰﾀ!$B:$L,4,0))))","v":""},{"$f":"IF($E25=\"\",\"\",IF(ISERROR(VLOOKUP($E25,氏名ﾃﾞｰﾀ!$B:$L,5,0)),IF(ISERROR(VLOOKUP($E25,新規登録!$B:$L,5,0)),\"未登録\",VLOOKUP($E25,新規登録!$B:$L,5,0)),(VLOOKUP($E25,氏名ﾃﾞｰﾀ!$B:$L,5,0))))","v":""},{"$f":"IF($E25=\"\",\"\",IF(ISERROR(VLOOKUP($E25,氏名ﾃﾞｰﾀ!$B:$L,6,0)),IF(ISERROR(VLOOKUP($E25,新規登録!$B:$L,6,0)),\"未登録\",VLOOKUP($E25,新規登録!$B:$L,6,0)),(VLOOKUP($E25,氏名ﾃﾞｰﾀ!$B:$L,6,0))))","v":""},{"$f":"IF($E25=\"\",\"\",IF(ISERROR(VLOOKUP($E25,氏名ﾃﾞｰﾀ!$B:$L,7,0)),IF(ISERROR(VLOOKUP($E25,新規登録!$B:$L,7,0)),\"未登録\",VLOOKUP($E25,新規登録!$B:$L,7,0)),(VLOOKUP($E25,氏名ﾃﾞｰﾀ!$B:$L,7,0))))","v":""},{"$f":"IF($E25=\"\",\"\",IF(ISERROR(VLOOKUP($E25,氏名ﾃﾞｰﾀ!$B:$L,10,0)),IF(ISERROR(VLOOKUP($E25,新規登録!$B:$L,8,0)),\"未登録\",VLOOKUP($E25,新規登録!$B:$L,8,0)),(VLOOKUP($E25,氏名ﾃﾞｰﾀ!$B:$L,10,0))))","v":""},{"$f":"IF($E25=\"\",\"\",IF(ISERROR(VLOOKUP($E25,氏名ﾃﾞｰﾀ!$B:$L,11,0)),IF(ISERROR(VLOOKUP($E25,新規登録!$B:$L,11,0)),\"未登録\",VLOOKUP($E25,新規登録!$B:$L,11,0)),$G$3))","v":""},{"$f":"IF($E25=\"\",\"\",IF(ISERROR(VLOOKUP($E25,氏名ﾃﾞｰﾀ!$B:$L,8,0)),IF(ISERROR(VLOOKUP($E25,新規登録!$B:$L,10,0)),\"ﾅｼ\",VLOOKUP($E25,新規登録!$B:$L,10,0)),(VLOOKUP($E25,氏名ﾃﾞｰﾀ!$B:$L,8,0))))","v":""},{"$f":"IF($E25=\"\",\"\",IF(ISERROR(VLOOKUP($E25,氏名ﾃﾞｰﾀ!$B:$M,12,0)),IF(ISERROR(VLOOKUP($E25,新規登録!$B:$L,9,0)),\"未登録\",VLOOKUP($E25,新規登録!$B:$L,9,0)),(VLOOKUP($E25,氏名ﾃﾞｰﾀ!$B:$M,12,0))))","v":""},null,null,null,null,null,null,null,null,null,null,null,null,null,null,null,null,null,null,null,null,null,null,null,null,"","",2,"1000","","","","","","1000","","","","","",1000,"","","","","",1000,"","","","",""]
["","",{"$f":"IF(E26=\"\",\"\",IF(AP26=1,COUNTIF(AP$16:AP26,1)*10+2001-10,COUNTIF(AP$16:AP26,2)*10+6001-10))","v":""},11,null,{"$f":"IF($E26=\"\",\"\",IF(ISERROR(VLOOKUP($E26,氏名ﾃﾞｰﾀ!$B:$L,2,0)),IF(ISERROR(VLOOKUP($E26,新規登録!$B:$L,2,0)),\"未登録\",VLOOKUP($E26,新規登録!$B:$L,2,0)),(VLOOKUP($E26,氏名ﾃﾞｰﾀ!$B:$L,2,0))))","v":""},{"$f":"IF($E26=\"\",\"\",IF(ISERROR(VLOOKUP($E26,氏名ﾃﾞｰﾀ!$B:$L,3,0)),IF(ISERROR(VLOOKUP($E26,新規登録!$B:$L,3,0)),\"未登録\",VLOOKUP($E26,新規登録!$B:$L,3,0)),(VLOOKUP($E26,氏名ﾃﾞｰﾀ!$B:$L,3,0))))","v":""},{"$f":"IF($E26=\"\",\"\",IF(ISERROR(VLOOKUP($E26,氏名ﾃﾞｰﾀ!$B:$L,4,0)),IF(ISERROR(VLOOKUP($E26,新規登録!$B:$L,4,0)),\"未登録\",VLOOKUP($E26,新規登録!$B:$L,4,0)),(VLOOKUP($E26,氏名ﾃﾞｰﾀ!$B:$L,4,0))))","v":""},{"$f":"IF($E26=\"\",\"\",IF(ISERROR(VLOOKUP($E26,氏名ﾃﾞｰﾀ!$B:$L,5,0)),IF(ISERROR(VLOOKUP($E26,新規登録!$B:$L,5,0)),\"未登録\",VLOOKUP($E26,新規登録!$B:$L,5,0)),(VLOOKUP($E26,氏名ﾃﾞｰﾀ!$B:$L,5,0))))","v":""},{"$f":"IF($E26=\"\",\"\",IF(ISERROR(VLOOKUP($E26,氏名ﾃﾞｰﾀ!$B:$L,6,0)),IF(ISERROR(VLOOKUP($E26,新規登録!$B:$L,6,0)),\"未登録\",VLOOKUP($E26,新規登録!$B:$L,6,0)),(VLOOKUP($E26,氏名ﾃﾞｰﾀ!$B:$L,6,0))))","v":""},{"$f":"IF($E26=\"\",\"\",IF(ISERROR(VLOOKUP($E26,氏名ﾃﾞｰﾀ!$B:$L,7,0)),IF(ISERROR(VLOOKUP($E26,新規登録!$B:$L,7,0)),\"未登録\",VLOOKUP($E26,新規登録!$B:$L,7,0)),(VLOOKUP($E26,氏名ﾃﾞｰﾀ!$B:$L,7,0))))","v":""},{"$f":"IF($E26=\"\",\"\",IF(ISERROR(VLOOKUP($E26,氏名ﾃﾞｰﾀ!$B:$L,10,0)),IF(ISERROR(VLOOKUP($E26,新規登録!$B:$L,8,0)),\"未登録\",VLOOKUP($E26,新規登録!$B:$L,8,0)),(VLOOKUP($E26,氏名ﾃﾞｰﾀ!$B:$L,10,0))))","v":""},{"$f":"IF($E26=\"\",\"\",IF(ISERROR(VLOOKUP($E26,氏名ﾃﾞｰﾀ!$B:$L,11,0)),IF(ISERROR(VLOOKUP($E26,新規登録!$B:$L,11,0)),\"未登録\",VLOOKUP($E26,新規登録!$B:$L,11,0)),$G$3))","v":""},{"$f":"IF($E26=\"\",\"\",IF(ISERROR(VLOOKUP($E26,氏名ﾃﾞｰﾀ!$B:$L,8,0)),IF(ISERROR(VLOOKUP($E26,新規登録!$B:$L,10,0)),\"ﾅｼ\",VLOOKUP($E26,新規登録!$B:$L,10,0)),(VLOOKUP($E26,氏名ﾃﾞｰﾀ!$B:$L,8,0))))","v":""},{"$f":"IF($E26=\"\",\"\",IF(ISERROR(VLOOKUP($E26,氏名ﾃﾞｰﾀ!$B:$M,12,0)),IF(ISERROR(VLOOKUP($E26,新規登録!$B:$L,9,0)),\"未登録\",VLOOKUP($E26,新規登録!$B:$L,9,0)),(VLOOKUP($E26,氏名ﾃﾞｰﾀ!$B:$M,12,0))))","v":""},null,null,null,null,null,null,null,null,null,null,null,null,null,null,null,null,null,null,null,null,null,null,null,null,"","",2,"1000","","","","","","1000","","","","","",1000,"","","","","",1000,"","","","",""]
["","",{"$f":"IF(E27=\"\",\"\",IF(AP27=1,COUNTIF(AP$16:AP27,1)*10+2001-10,COUNTIF(AP$16:AP27,2)*10+6001-10))","v":""},12,null,{"$f":"IF($E27=\"\",\"\",IF(ISERROR(VLOOKUP($E27,氏名ﾃﾞｰﾀ!$B:$L,2,0)),IF(ISERROR(VLOOKUP($E27,新規登録!$B:$L,2,0)),\"未登録\",VLOOKUP($E27,新規登録!$B:$L,2,0)),(VLOOKUP($E27,氏名ﾃﾞｰﾀ!$B:$L,2,0))))","v":""},{"$f":"IF($E27=\"\",\"\",IF(ISERROR(VLOOKUP($E27,氏名ﾃﾞｰﾀ!$B:$L,3,0)),IF(ISERROR(VLOOKUP($E27,新規登録!$B:$L,3,0)),\"未登録\",VLOOKUP($E27,新規登録!$B:$L,3,0)),(VLOOKUP($E27,氏名ﾃﾞｰﾀ!$B:$L,3,0))))","v":""},{"$f":"IF($E27=\"\",\"\",IF(ISERROR(VLOOKUP($E27,氏名ﾃﾞｰﾀ!$B:$L,4,0)),IF(ISERROR(VLOOKUP($E27,新規登録!$B:$L,4,0)),\"未登録\",VLOOKUP($E27,新規登録!$B:$L,4,0)),(VLOOKUP($E27,氏名ﾃﾞｰﾀ!$B:$L,4,0))))","v":""},{"$f":"IF($E27=\"\",\"\",IF(ISERROR(VLOOKUP($E27,氏名ﾃﾞｰﾀ!$B:$L,5,0)),IF(ISERROR(VLOOKUP($E27,新規登録!$B:$L,5,0)),\"未登録\",VLOOKUP($E27,新規登録!$B:$L,5,0)),(VLOOKUP($E27,氏名ﾃﾞｰﾀ!$B:$L,5,0))))","v":""},{"$f":"IF($E27=\"\",\"\",IF(ISERROR(VLOOKUP($E27,氏名ﾃﾞｰﾀ!$B:$L,6,0)),IF(ISERROR(VLOOKUP($E27,新規登録!$B:$L,6,0)),\"未登録\",VLOOKUP($E27,新規登録!$B:$L,6,0)),(VLOOKUP($E27,氏名ﾃﾞｰﾀ!$B:$L,6,0))))","v":""},{"$f":"IF($E27=\"\",\"\",IF(ISERROR(VLOOKUP($E27,氏名ﾃﾞｰﾀ!$B:$L,7,0)),IF(ISERROR(VLOOKUP($E27,新規登録!$B:$L,7,0)),\"未登録\",VLOOKUP($E27,新規登録!$B:$L,7,0)),(VLOOKUP($E27,氏名ﾃﾞｰﾀ!$B:$L,7,0))))","v":""},{"$f":"IF($E27=\"\",\"\",IF(ISERROR(VLOOKUP($E27,氏名ﾃﾞｰﾀ!$B:$L,10,0)),IF(ISERROR(VLOOKUP($E27,新規登録!$B:$L,8,0)),\"未登録\",VLOOKUP($E27,新規登録!$B:$L,8,0)),(VLOOKUP($E27,氏名ﾃﾞｰﾀ!$B:$L,10,0))))","v":""},{"$f":"IF($E27=\"\",\"\",IF(ISERROR(VLOOKUP($E27,氏名ﾃﾞｰﾀ!$B:$L,11,0)),IF(ISERROR(VLOOKUP($E27,新規登録!$B:$L,11,0)),\"未登録\",VLOOKUP($E27,新規登録!$B:$L,11,0)),$G$3))","v":""},{"$f":"IF($E27=\"\",\"\",IF(ISERROR(VLOOKUP($E27,氏名ﾃﾞｰﾀ!$B:$L,8,0)),IF(ISERROR(VLOOKUP($E27,新規登録!$B:$L,10,0)),\"ﾅｼ\",VLOOKUP($E27,新規登録!$B:$L,10,0)),(VLOOKUP($E27,氏名ﾃﾞｰﾀ!$B:$L,8,0))))","v":""},{"$f":"IF($E27=\"\",\"\",IF(ISERROR(VLOOKUP($E27,氏名ﾃﾞｰﾀ!$B:$M,12,0)),IF(ISERROR(VLOOKUP($E27,新規登録!$B:$L,9,0)),\"未登録\",VLOOKUP($E27,新規登録!$B:$L,9,0)),(VLOOKUP($E27,氏名ﾃﾞｰﾀ!$B:$M,12,0))))","v":""},null,null,null,null,null,null,null,null,null,null,null,null,null,null,null,null,null,null,null,null,null,null,null,null,"","",2,"1000","","","","","","1000","","","","","",1000,"","","","","",1000,"","","","",""]
["","",{"$f":"IF(E28=\"\",\"\",IF(AP28=1,COUNTIF(AP$16:AP28,1)*10+2001-10,COUNTIF(AP$16:AP28,2)*10+6001-10))","v":""},13,null,{"$f":"IF($E28=\"\",\"\",IF(ISERROR(VLOOKUP($E28,氏名ﾃﾞｰﾀ!$B:$L,2,0)),IF(ISERROR(VLOOKUP($E28,新規登録!$B:$L,2,0)),\"未登録\",VLOOKUP($E28,新規登録!$B:$L,2,0)),(VLOOKUP($E28,氏名ﾃﾞｰﾀ!$B:$L,2,0))))","v":""},{"$f":"IF($E28=\"\",\"\",IF(ISERROR(VLOOKUP($E28,氏名ﾃﾞｰﾀ!$B:$L,3,0)),IF(ISERROR(VLOOKUP($E28,新規登録!$B:$L,3,0)),\"未登録\",VLOOKUP($E28,新規登録!$B:$L,3,0)),(VLOOKUP($E28,氏名ﾃﾞｰﾀ!$B:$L,3,0))))","v":""},{"$f":"IF($E28=\"\",\"\",IF(ISERROR(VLOOKUP($E28,氏名ﾃﾞｰﾀ!$B:$L,4,0)),IF(ISERROR(VLOOKUP($E28,新規登録!$B:$L,4,0)),\"未登録\",VLOOKUP($E28,新規登録!$B:$L,4,0)),(VLOOKUP($E28,氏名ﾃﾞｰﾀ!$B:$L,4,0))))","v":""},{"$f":"IF($E28=\"\",\"\",IF(ISERROR(VLOOKUP($E28,氏名ﾃﾞｰﾀ!$B:$L,5,0)),IF(ISERROR(VLOOKUP($E28,新規登録!$B:$L,5,0)),\"未登録\",VLOOKUP($E28,新規登録!$B:$L,5,0)),(VLOOKUP($E28,氏名ﾃﾞｰﾀ!$B:$L,5,0))))","v":""},{"$f":"IF($E28=\"\",\"\",IF(ISERROR(VLOOKUP($E28,氏名ﾃﾞｰﾀ!$B:$L,6,0)),IF(ISERROR(VLOOKUP($E28,新規登録!$B:$L,6,0)),\"未登録\",VLOOKUP($E28,新規登録!$B:$L,6,0)),(VLOOKUP($E28,氏名ﾃﾞｰﾀ!$B:$L,6,0))))","v":""},{"$f":"IF($E28=\"\",\"\",IF(ISERROR(VLOOKUP($E28,氏名ﾃﾞｰﾀ!$B:$L,7,0)),IF(ISERROR(VLOOKUP($E28,新規登録!$B:$L,7,0)),\"未登録\",VLOOKUP($E28,新規登録!$B:$L,7,0)),(VLOOKUP($E28,氏名ﾃﾞｰﾀ!$B:$L,7,0))))","v":""},{"$f":"IF($E28=\"\",\"\",IF(ISERROR(VLOOKUP($E28,氏名ﾃﾞｰﾀ!$B:$L,10,0)),IF(ISERROR(VLOOKUP($E28,新規登録!$B:$L,8,0)),\"未登録\",VLOOKUP($E28,新規登録!$B:$L,8,0)),(VLOOKUP($E28,氏名ﾃﾞｰﾀ!$B:$L,10,0))))","v":""},{"$f":"IF($E28=\"\",\"\",IF(ISERROR(VLOOKUP($E28,氏名ﾃﾞｰﾀ!$B:$L,11,0)),IF(ISERROR(VLOOKUP($E28,新規登録!$B:$L,11,0)),\"未登録\",VLOOKUP($E28,新規登録!$B:$L,11,0)),$G$3))","v":""},{"$f":"IF($E28=\"\",\"\",IF(ISERROR(VLOOKUP($E28,氏名ﾃﾞｰﾀ!$B:$L,8,0)),IF(ISERROR(VLOOKUP($E28,新規登録!$B:$L,10,0)),\"ﾅｼ\",VLOOKUP($E28,新規登録!$B:$L,10,0)),(VLOOKUP($E28,氏名ﾃﾞｰﾀ!$B:$L,8,0))))","v":""},{"$f":"IF($E28=\"\",\"\",IF(ISERROR(VLOOKUP($E28,氏名ﾃﾞｰﾀ!$B:$M,12,0)),IF(ISERROR(VLOOKUP($E28,新規登録!$B:$L,9,0)),\"未登録\",VLOOKUP($E28,新規登録!$B:$L,9,0)),(VLOOKUP($E28,氏名ﾃﾞｰﾀ!$B:$M,12,0))))","v":""},null,null,null,null,null,null,null,null,null,null,null,null,null,null,null,null,null,null,null,null,null,null,null,null,"","",2,"1000","","","","","","1000","","","","","",1000,"","","","","",1000,"","","","",""]
["","",{"$f":"IF(E29=\"\",\"\",IF(AP29=1,COUNTIF(AP$16:AP29,1)*10+2001-10,COUNTIF(AP$16:AP29,2)*10+6001-10))","v":""},14,null,{"$f":"IF($E29=\"\",\"\",IF(ISERROR(VLOOKUP($E29,氏名ﾃﾞｰﾀ!$B:$L,2,0)),IF(ISERROR(VLOOKUP($E29,新規登録!$B:$L,2,0)),\"未登録\",VLOOKUP($E29,新規登録!$B:$L,2,0)),(VLOOKUP($E29,氏名ﾃﾞｰﾀ!$B:$L,2,0))))","v":""},{"$f":"IF($E29=\"\",\"\",IF(ISERROR(VLOOKUP($E29,氏名ﾃﾞｰﾀ!$B:$L,3,0)),IF(ISERROR(VLOOKUP($E29,新規登録!$B:$L,3,0)),\"未登録\",VLOOKUP($E29,新規登録!$B:$L,3,0)),(VLOOKUP($E29,氏名ﾃﾞｰﾀ!$B:$L,3,0))))","v":""},{"$f":"IF($E29=\"\",\"\",IF(ISERROR(VLOOKUP($E29,氏名ﾃﾞｰﾀ!$B:$L,4,0)),IF(ISERROR(VLOOKUP($E29,新規登録!$B:$L,4,0)),\"未登録\",VLOOKUP($E29,新規登録!$B:$L,4,0)),(VLOOKUP($E29,氏名ﾃﾞｰﾀ!$B:$L,4,0))))","v":""},{"$f":"IF($E29=\"\",\"\",IF(ISERROR(VLOOKUP($E29,氏名ﾃﾞｰﾀ!$B:$L,5,0)),IF(ISERROR(VLOOKUP($E29,新規登録!$B:$L,5,0)),\"未登録\",VLOOKUP($E29,新規登録!$B:$L,5,0)),(VLOOKUP($E29,氏名ﾃﾞｰﾀ!$B:$L,5,0))))","v":""},{"$f":"IF($E29=\"\",\"\",IF(ISERROR(VLOOKUP($E29,氏名ﾃﾞｰﾀ!$B:$L,6,0)),IF(ISERROR(VLOOKUP($E29,新規登録!$B:$L,6,0)),\"未登録\",VLOOKUP($E29,新規登録!$B:$L,6,0)),(VLOOKUP($E29,氏名ﾃﾞｰﾀ!$B:$L,6,0))))","v":""},{"$f":"IF($E29=\"\",\"\",IF(ISERROR(VLOOKUP($E29,氏名ﾃﾞｰﾀ!$B:$L,7,0)),IF(ISERROR(VLOOKUP($E29,新規登録!$B:$L,7,0)),\"未登録\",VLOOKUP($E29,新規登録!$B:$L,7,0)),(VLOOKUP($E29,氏名ﾃﾞｰﾀ!$B:$L,7,0))))","v":""},{"$f":"IF($E29=\"\",\"\",IF(ISERROR(VLOOKUP($E29,氏名ﾃﾞｰﾀ!$B:$L,10,0)),IF(ISERROR(VLOOKUP($E29,新規登録!$B:$L,8,0)),\"未登録\",VLOOKUP($E29,新規登録!$B:$L,8,0)),(VLOOKUP($E29,氏名ﾃﾞｰﾀ!$B:$L,10,0))))","v":""},{"$f":"IF($E29=\"\",\"\",IF(ISERROR(VLOOKUP($E29,氏名ﾃﾞｰﾀ!$B:$L,11,0)),IF(ISERROR(VLOOKUP($E29,新規登録!$B:$L,11,0)),\"未登録\",VLOOKUP($E29,新規登録!$B:$L,11,0)),$G$3))","v":""},{"$f":"IF($E29=\"\",\"\",IF(ISERROR(VLOOKUP($E29,氏名ﾃﾞｰﾀ!$B:$L,8,0)),IF(ISERROR(VLOOKUP($E29,新規登録!$B:$L,10,0)),\"ﾅｼ\",VLOOKUP($E29,新規登録!$B:$L,10,0)),(VLOOKUP($E29,氏名ﾃﾞｰﾀ!$B:$L,8,0))))","v":""},{"$f":"IF($E29=\"\",\"\",IF(ISERROR(VLOOKUP($E29,氏名ﾃﾞｰﾀ!$B:$M,12,0)),IF(ISERROR(VLOOKUP($E29,新規登録!$B:$L,9,0)),\"未登録\",VLOOKUP($E29,新規登録!$B:$L,9,0)),(VLOOKUP($E29,氏名ﾃﾞｰﾀ!$B:$M,12,0))))","v":""},null,null,null,null,null,null,null,null,null,null,null,null,null,null,null,null,null,null,null,null,null,null,null,null,"","",2,"1000","","","","","","1000","","","","","",1000,"","","","","",1000,"","","","",""]
["","",{"$f":"IF(E30=\"\",\"\",IF(AP30=1,COUNTIF(AP$16:AP30,1)*10+2001-10,COUNTIF(AP$16:AP30,2)*10+6001-10))","v":""},15,null,{"$f":"IF($E30=\"\",\"\",IF(ISERROR(VLOOKUP($E30,氏名ﾃﾞｰﾀ!$B:$L,2,0)),IF(ISERROR(VLOOKUP($E30,新規登録!$B:$L,2,0)),\"未登録\",VLOOKUP($E30,新規登録!$B:$L,2,0)),(VLOOKUP($E30,氏名ﾃﾞｰﾀ!$B:$L,2,0))))","v":""},{"$f":"IF($E30=\"\",\"\",IF(ISERROR(VLOOKUP($E30,氏名ﾃﾞｰﾀ!$B:$L,3,0)),IF(ISERROR(VLOOKUP($E30,新規登録!$B:$L,3,0)),\"未登録\",VLOOKUP($E30,新規登録!$B:$L,3,0)),(VLOOKUP($E30,氏名ﾃﾞｰﾀ!$B:$L,3,0))))","v":""},{"$f":"IF($E30=\"\",\"\",IF(ISERROR(VLOOKUP($E30,氏名ﾃﾞｰﾀ!$B:$L,4,0)),IF(ISERROR(VLOOKUP($E30,新規登録!$B:$L,4,0)),\"未登録\",VLOOKUP($E30,新規登録!$B:$L,4,0)),(VLOOKUP($E30,氏名ﾃﾞｰﾀ!$B:$L,4,0))))","v":""},{"$f":"IF($E30=\"\",\"\",IF(ISERROR(VLOOKUP($E30,氏名ﾃﾞｰﾀ!$B:$L,5,0)),IF(ISERROR(VLOOKUP($E30,新規登録!$B:$L,5,0)),\"未登録\",VLOOKUP($E30,新規登録!$B:$L,5,0)),(VLOOKUP($E30,氏名ﾃﾞｰﾀ!$B:$L,5,0))))","v":""},{"$f":"IF($E30=\"\",\"\",IF(ISERROR(VLOOKUP($E30,氏名ﾃﾞｰﾀ!$B:$L,6,0)),IF(ISERROR(VLOOKUP($E30,新規登録!$B:$L,6,0)),\"未登録\",VLOOKUP($E30,新規登録!$B:$L,6,0)),(VLOOKUP($E30,氏名ﾃﾞｰﾀ!$B:$L,6,0))))","v":""},{"$f":"IF($E30=\"\",\"\",IF(ISERROR(VLOOKUP($E30,氏名ﾃﾞｰﾀ!$B:$L,7,0)),IF(ISERROR(VLOOKUP($E30,新規登録!$B:$L,7,0)),\"未登録\",VLOOKUP($E30,新規登録!$B:$L,7,0)),(VLOOKUP($E30,氏名ﾃﾞｰﾀ!$B:$L,7,0))))","v":""},{"$f":"IF($E30=\"\",\"\",IF(ISERROR(VLOOKUP($E30,氏名ﾃﾞｰﾀ!$B:$L,10,0)),IF(ISERROR(VLOOKUP($E30,新規登録!$B:$L,8,0)),\"未登録\",VLOOKUP($E30,新規登録!$B:$L,8,0)),(VLOOKUP($E30,氏名ﾃﾞｰﾀ!$B:$L,10,0))))","v":""},{"$f":"IF($E30=\"\",\"\",IF(ISERROR(VLOOKUP($E30,氏名ﾃﾞｰﾀ!$B:$L,11,0)),IF(ISERROR(VLOOKUP($E30,新規登録!$B:$L,11,0)),\"未登録\",VLOOKUP($E30,新規登録!$B:$L,11,0)),$G$3))","v":""},{"$f":"IF($E30=\"\",\"\",IF(ISERROR(VLOOKUP($E30,氏名ﾃﾞｰﾀ!$B:$L,8,0)),IF(ISERROR(VLOOKUP($E30,新規登録!$B:$L,10,0)),\"ﾅｼ\",VLOOKUP($E30,新規登録!$B:$L,10,0)),(VLOOKUP($E30,氏名ﾃﾞｰﾀ!$B:$L,8,0))))","v":""},{"$f":"IF($E30=\"\",\"\",IF(ISERROR(VLOOKUP($E30,氏名ﾃﾞｰﾀ!$B:$M,12,0)),IF(ISERROR(VLOOKUP($E30,新規登録!$B:$L,9,0)),\"未登録\",VLOOKUP($E30,新規登録!$B:$L,9,0)),(VLOOKUP($E30,氏名ﾃﾞｰﾀ!$B:$M,12,0))))","v":""},null,null,null,null,null,null,null,null,null,null,null,null,null,null,null,null,null,null,null,null,null,null,null,null,"","",2,"1000","","","","","","1000","","","","","",1000,"","","","","",1000,"","","","",""]
["","",{"$f":"IF(E31=\"\",\"\",IF(AP31=1,COUNTIF(AP$16:AP31,1)*10+2001-10,COUNTIF(AP$16:AP31,2)*10+6001-10))","v":""},16,null,{"$f":"IF($E31=\"\",\"\",IF(ISERROR(VLOOKUP($E31,氏名ﾃﾞｰﾀ!$B:$L,2,0)),IF(ISERROR(VLOOKUP($E31,新規登録!$B:$L,2,0)),\"未登録\",VLOOKUP($E31,新規登録!$B:$L,2,0)),(VLOOKUP($E31,氏名ﾃﾞｰﾀ!$B:$L,2,0))))","v":""},{"$f":"IF($E31=\"\",\"\",IF(ISERROR(VLOOKUP($E31,氏名ﾃﾞｰﾀ!$B:$L,3,0)),IF(ISERROR(VLOOKUP($E31,新規登録!$B:$L,3,0)),\"未登録\",VLOOKUP($E31,新規登録!$B:$L,3,0)),(VLOOKUP($E31,氏名ﾃﾞｰﾀ!$B:$L,3,0))))","v":""},{"$f":"IF($E31=\"\",\"\",IF(ISERROR(VLOOKUP($E31,氏名ﾃﾞｰﾀ!$B:$L,4,0)),IF(ISERROR(VLOOKUP($E31,新規登録!$B:$L,4,0)),\"未登録\",VLOOKUP($E31,新規登録!$B:$L,4,0)),(VLOOKUP($E31,氏名ﾃﾞｰﾀ!$B:$L,4,0))))","v":""},{"$f":"IF($E31=\"\",\"\",IF(ISERROR(VLOOKUP($E31,氏名ﾃﾞｰﾀ!$B:$L,5,0)),IF(ISERROR(VLOOKUP($E31,新規登録!$B:$L,5,0)),\"未登録\",VLOOKUP($E31,新規登録!$B:$L,5,0)),(VLOOKUP($E31,氏名ﾃﾞｰﾀ!$B:$L,5,0))))","v":""},{"$f":"IF($E31=\"\",\"\",IF(ISERROR(VLOOKUP($E31,氏名ﾃﾞｰﾀ!$B:$L,6,0)),IF(ISERROR(VLOOKUP($E31,新規登録!$B:$L,6,0)),\"未登録\",VLOOKUP($E31,新規登録!$B:$L,6,0)),(VLOOKUP($E31,氏名ﾃﾞｰﾀ!$B:$L,6,0))))","v":""},{"$f":"IF($E31=\"\",\"\",IF(ISERROR(VLOOKUP($E31,氏名ﾃﾞｰﾀ!$B:$L,7,0)),IF(ISERROR(VLOOKUP($E31,新規登録!$B:$L,7,0)),\"未登録\",VLOOKUP($E31,新規登録!$B:$L,7,0)),(VLOOKUP($E31,氏名ﾃﾞｰﾀ!$B:$L,7,0))))","v":""},{"$f":"IF($E31=\"\",\"\",IF(ISERROR(VLOOKUP($E31,氏名ﾃﾞｰﾀ!$B:$L,10,0)),IF(ISERROR(VLOOKUP($E31,新規登録!$B:$L,8,0)),\"未登録\",VLOOKUP($E31,新規登録!$B:$L,8,0)),(VLOOKUP($E31,氏名ﾃﾞｰﾀ!$B:$L,10,0))))","v":""},{"$f":"IF($E31=\"\",\"\",IF(ISERROR(VLOOKUP($E31,氏名ﾃﾞｰﾀ!$B:$L,11,0)),IF(ISERROR(VLOOKUP($E31,新規登録!$B:$L,11,0)),\"未登録\",VLOOKUP($E31,新規登録!$B:$L,11,0)),$G$3))","v":""},{"$f":"IF($E31=\"\",\"\",IF(ISERROR(VLOOKUP($E31,氏名ﾃﾞｰﾀ!$B:$L,8,0)),IF(ISERROR(VLOOKUP($E31,新規登録!$B:$L,10,0)),\"ﾅｼ\",VLOOKUP($E31,新規登録!$B:$L,10,0)),(VLOOKUP($E31,氏名ﾃﾞｰﾀ!$B:$L,8,0))))","v":""},{"$f":"IF($E31=\"\",\"\",IF(ISERROR(VLOOKUP($E31,氏名ﾃﾞｰﾀ!$B:$M,12,0)),IF(ISERROR(VLOOKUP($E31,新規登録!$B:$L,9,0)),\"未登録\",VLOOKUP($E31,新規登録!$B:$L,9,0)),(VLOOKUP($E31,氏名ﾃﾞｰﾀ!$B:$M,12,0))))","v":""},null,null,null,null,null,null,null,null,null,null,null,null,null,null,null,null,null,null,null,null,null,null,null,null,"","",2,"1000","","","","","","1000","","","","","",1000,"","","","","",1000,"","","","",""]
["","",{"$f":"IF(E32=\"\",\"\",IF(AP32=1,COUNTIF(AP$16:AP32,1)*10+2001-10,COUNTIF(AP$16:AP32,2)*10+6001-10))","v":""},17,null,{"$f":"IF($E32=\"\",\"\",IF(ISERROR(VLOOKUP($E32,氏名ﾃﾞｰﾀ!$B:$L,2,0)),IF(ISERROR(VLOOKUP($E32,新規登録!$B:$L,2,0)),\"未登録\",VLOOKUP($E32,新規登録!$B:$L,2,0)),(VLOOKUP($E32,氏名ﾃﾞｰﾀ!$B:$L,2,0))))","v":""},{"$f":"IF($E32=\"\",\"\",IF(ISERROR(VLOOKUP($E32,氏名ﾃﾞｰﾀ!$B:$L,3,0)),IF(ISERROR(VLOOKUP($E32,新規登録!$B:$L,3,0)),\"未登録\",VLOOKUP($E32,新規登録!$B:$L,3,0)),(VLOOKUP($E32,氏名ﾃﾞｰﾀ!$B:$L,3,0))))","v":""},{"$f":"IF($E32=\"\",\"\",IF(ISERROR(VLOOKUP($E32,氏名ﾃﾞｰﾀ!$B:$L,4,0)),IF(ISERROR(VLOOKUP($E32,新規登録!$B:$L,4,0)),\"未登録\",VLOOKUP($E32,新規登録!$B:$L,4,0)),(VLOOKUP($E32,氏名ﾃﾞｰﾀ!$B:$L,4,0))))","v":""},{"$f":"IF($E32=\"\",\"\",IF(ISERROR(VLOOKUP($E32,氏名ﾃﾞｰﾀ!$B:$L,5,0)),IF(ISERROR(VLOOKUP($E32,新規登録!$B:$L,5,0)),\"未登録\",VLOOKUP($E32,新規登録!$B:$L,5,0)),(VLOOKUP($E32,氏名ﾃﾞｰﾀ!$B:$L,5,0))))","v":""},{"$f":"IF($E32=\"\",\"\",IF(ISERROR(VLOOKUP($E32,氏名ﾃﾞｰﾀ!$B:$L,6,0)),IF(ISERROR(VLOOKUP($E32,新規登録!$B:$L,6,0)),\"未登録\",VLOOKUP($E32,新規登録!$B:$L,6,0)),(VLOOKUP($E32,氏名ﾃﾞｰﾀ!$B:$L,6,0))))","v":""},{"$f":"IF($E32=\"\",\"\",IF(ISERROR(VLOOKUP($E32,氏名ﾃﾞｰﾀ!$B:$L,7,0)),IF(ISERROR(VLOOKUP($E32,新規登録!$B:$L,7,0)),\"未登録\",VLOOKUP($E32,新規登録!$B:$L,7,0)),(VLOOKUP($E32,氏名ﾃﾞｰﾀ!$B:$L,7,0))))","v":""},{"$f":"IF($E32=\"\",\"\",IF(ISERROR(VLOOKUP($E32,氏名ﾃﾞｰﾀ!$B:$L,10,0)),IF(ISERROR(VLOOKUP($E32,新規登録!$B:$L,8,0)),\"未登録\",VLOOKUP($E32,新規登録!$B:$L,8,0)),(VLOOKUP($E32,氏名ﾃﾞｰﾀ!$B:$L,10,0))))","v":""},{"$f":"IF($E32=\"\",\"\",IF(ISERROR(VLOOKUP($E32,氏名ﾃﾞｰﾀ!$B:$L,11,0)),IF(ISERROR(VLOOKUP($E32,新規登録!$B:$L,11,0)),\"未登録\",VLOOKUP($E32,新規登録!$B:$L,11,0)),$G$3))","v":""},{"$f":"IF($E32=\"\",\"\",IF(ISERROR(VLOOKUP($E32,氏名ﾃﾞｰﾀ!$B:$L,8,0)),IF(ISERROR(VLOOKUP($E32,新規登録!$B:$L,10,0)),\"ﾅｼ\",VLOOKUP($E32,新規登録!$B:$L,10,0)),(VLOOKUP($E32,氏名ﾃﾞｰﾀ!$B:$L,8,0))))","v":""},{"$f":"IF($E32=\"\",\"\",IF(ISERROR(VLOOKUP($E32,氏名ﾃﾞｰﾀ!$B:$M,12,0)),IF(ISERROR(VLOOKUP($E32,新規登録!$B:$L,9,0)),\"未登録\",VLOOKUP($E32,新規登録!$B:$L,9,0)),(VLOOKUP($E32,氏名ﾃﾞｰﾀ!$B:$M,12,0))))","v":""},null,null,null,null,null,null,null,null,null,null,null,null,null,null,null,null,null,null,null,null,null,null,null,null,"","",2,"1000","","","","","","1000","","","","","",1000,"","","","","",1000,"","","","",""]
["","",{"$f":"IF(E33=\"\",\"\",IF(AP33=1,COUNTIF(AP$16:AP33,1)*10+2001-10,COUNTIF(AP$16:AP33,2)*10+6001-10))","v":""},18,null,{"$f":"IF($E33=\"\",\"\",IF(ISERROR(VLOOKUP($E33,氏名ﾃﾞｰﾀ!$B:$L,2,0)),IF(ISERROR(VLOOKUP($E33,新規登録!$B:$L,2,0)),\"未登録\",VLOOKUP($E33,新規登録!$B:$L,2,0)),(VLOOKUP($E33,氏名ﾃﾞｰﾀ!$B:$L,2,0))))","v":""},{"$f":"IF($E33=\"\",\"\",IF(ISERROR(VLOOKUP($E33,氏名ﾃﾞｰﾀ!$B:$L,3,0)),IF(ISERROR(VLOOKUP($E33,新規登録!$B:$L,3,0)),\"未登録\",VLOOKUP($E33,新規登録!$B:$L,3,0)),(VLOOKUP($E33,氏名ﾃﾞｰﾀ!$B:$L,3,0))))","v":""},{"$f":"IF($E33=\"\",\"\",IF(ISERROR(VLOOKUP($E33,氏名ﾃﾞｰﾀ!$B:$L,4,0)),IF(ISERROR(VLOOKUP($E33,新規登録!$B:$L,4,0)),\"未登録\",VLOOKUP($E33,新規登録!$B:$L,4,0)),(VLOOKUP($E33,氏名ﾃﾞｰﾀ!$B:$L,4,0))))","v":""},{"$f":"IF($E33=\"\",\"\",IF(ISERROR(VLOOKUP($E33,氏名ﾃﾞｰﾀ!$B:$L,5,0)),IF(ISERROR(VLOOKUP($E33,新規登録!$B:$L,5,0)),\"未登録\",VLOOKUP($E33,新規登録!$B:$L,5,0)),(VLOOKUP($E33,氏名ﾃﾞｰﾀ!$B:$L,5,0))))","v":""},{"$f":"IF($E33=\"\",\"\",IF(ISERROR(VLOOKUP($E33,氏名ﾃﾞｰﾀ!$B:$L,6,0)),IF(ISERROR(VLOOKUP($E33,新規登録!$B:$L,6,0)),\"未登録\",VLOOKUP($E33,新規登録!$B:$L,6,0)),(VLOOKUP($E33,氏名ﾃﾞｰﾀ!$B:$L,6,0))))","v":""},{"$f":"IF($E33=\"\",\"\",IF(ISERROR(VLOOKUP($E33,氏名ﾃﾞｰﾀ!$B:$L,7,0)),IF(ISERROR(VLOOKUP($E33,新規登録!$B:$L,7,0)),\"未登録\",VLOOKUP($E33,新規登録!$B:$L,7,0)),(VLOOKUP($E33,氏名ﾃﾞｰﾀ!$B:$L,7,0))))","v":""},{"$f":"IF($E33=\"\",\"\",IF(ISERROR(VLOOKUP($E33,氏名ﾃﾞｰﾀ!$B:$L,10,0)),IF(ISERROR(VLOOKUP($E33,新規登録!$B:$L,8,0)),\"未登録\",VLOOKUP($E33,新規登録!$B:$L,8,0)),(VLOOKUP($E33,氏名ﾃﾞｰﾀ!$B:$L,10,0))))","v":""},{"$f":"IF($E33=\"\",\"\",IF(ISERROR(VLOOKUP($E33,氏名ﾃﾞｰﾀ!$B:$L,11,0)),IF(ISERROR(VLOOKUP($E33,新規登録!$B:$L,11,0)),\"未登録\",VLOOKUP($E33,新規登録!$B:$L,11,0)),$G$3))","v":""},{"$f":"IF($E33=\"\",\"\",IF(ISERROR(VLOOKUP($E33,氏名ﾃﾞｰﾀ!$B:$L,8,0)),IF(ISERROR(VLOOKUP($E33,新規登録!$B:$L,10,0)),\"ﾅｼ\",VLOOKUP($E33,新規登録!$B:$L,10,0)),(VLOOKUP($E33,氏名ﾃﾞｰﾀ!$B:$L,8,0))))","v":""},{"$f":"IF($E33=\"\",\"\",IF(ISERROR(VLOOKUP($E33,氏名ﾃﾞｰﾀ!$B:$M,12,0)),IF(ISERROR(VLOOKUP($E33,新規登録!$B:$L,9,0)),\"未登録\",VLOOKUP($E33,新規登録!$B:$L,9,0)),(VLOOKUP($E33,氏名ﾃﾞｰﾀ!$B:$M,12,0))))","v":""},null,null,null,null,null,null,null,null,null,null,null,null,null,null,null,null,null,null,null,null,null,null,null,null,"","",2,"1000","","","","","","1000","","","","","",1000,"","","","","",1000,"","","","",""]
["","",{"$f":"IF(E34=\"\",\"\",IF(AP34=1,COUNTIF(AP$16:AP34,1)*10+2001-10,COUNTIF(AP$16:AP34,2)*10+6001-10))","v":""},19,null,{"$f":"IF($E34=\"\",\"\",IF(ISERROR(VLOOKUP($E34,氏名ﾃﾞｰﾀ!$B:$L,2,0)),IF(ISERROR(VLOOKUP($E34,新規登録!$B:$L,2,0)),\"未登録\",VLOOKUP($E34,新規登録!$B:$L,2,0)),(VLOOKUP($E34,氏名ﾃﾞｰﾀ!$B:$L,2,0))))","v":""},{"$f":"IF($E34=\"\",\"\",IF(ISERROR(VLOOKUP($E34,氏名ﾃﾞｰﾀ!$B:$L,3,0)),IF(ISERROR(VLOOKUP($E34,新規登録!$B:$L,3,0)),\"未登録\",VLOOKUP($E34,新規登録!$B:$L,3,0)),(VLOOKUP($E34,氏名ﾃﾞｰﾀ!$B:$L,3,0))))","v":""},{"$f":"IF($E34=\"\",\"\",IF(ISERROR(VLOOKUP($E34,氏名ﾃﾞｰﾀ!$B:$L,4,0)),IF(ISERROR(VLOOKUP($E34,新規登録!$B:$L,4,0)),\"未登録\",VLOOKUP($E34,新規登録!$B:$L,4,0)),(VLOOKUP($E34,氏名ﾃﾞｰﾀ!$B:$L,4,0))))","v":""},{"$f":"IF($E34=\"\",\"\",IF(ISERROR(VLOOKUP($E34,氏名ﾃﾞｰﾀ!$B:$L,5,0)),IF(ISERROR(VLOOKUP($E34,新規登録!$B:$L,5,0)),\"未登録\",VLOOKUP($E34,新規登録!$B:$L,5,0)),(VLOOKUP($E34,氏名ﾃﾞｰﾀ!$B:$L,5,0))))","v":""},{"$f":"IF($E34=\"\",\"\",IF(ISERROR(VLOOKUP($E34,氏名ﾃﾞｰﾀ!$B:$L,6,0)),IF(ISERROR(VLOOKUP($E34,新規登録!$B:$L,6,0)),\"未登録\",VLOOKUP($E34,新規登録!$B:$L,6,0)),(VLOOKUP($E34,氏名ﾃﾞｰﾀ!$B:$L,6,0))))","v":""},{"$f":"IF($E34=\"\",\"\",IF(ISERROR(VLOOKUP($E34,氏名ﾃﾞｰﾀ!$B:$L,7,0)),IF(ISERROR(VLOOKUP($E34,新規登録!$B:$L,7,0)),\"未登録\",VLOOKUP($E34,新規登録!$B:$L,7,0)),(VLOOKUP($E34,氏名ﾃﾞｰﾀ!$B:$L,7,0))))","v":""},{"$f":"IF($E34=\"\",\"\",IF(ISERROR(VLOOKUP($E34,氏名ﾃﾞｰﾀ!$B:$L,10,0)),IF(ISERROR(VLOOKUP($E34,新規登録!$B:$L,8,0)),\"未登録\",VLOOKUP($E34,新規登録!$B:$L,8,0)),(VLOOKUP($E34,氏名ﾃﾞｰﾀ!$B:$L,10,0))))","v":""},{"$f":"IF($E34=\"\",\"\",IF(ISERROR(VLOOKUP($E34,氏名ﾃﾞｰﾀ!$B:$L,11,0)),IF(ISERROR(VLOOKUP($E34,新規登録!$B:$L,11,0)),\"未登録\",VLOOKUP($E34,新規登録!$B:$L,11,0)),$G$3))","v":""},{"$f":"IF($E34=\"\",\"\",IF(ISERROR(VLOOKUP($E34,氏名ﾃﾞｰﾀ!$B:$L,8,0)),IF(ISERROR(VLOOKUP($E34,新規登録!$B:$L,10,0)),\"ﾅｼ\",VLOOKUP($E34,新規登録!$B:$L,10,0)),(VLOOKUP($E34,氏名ﾃﾞｰﾀ!$B:$L,8,0))))","v":""},{"$f":"IF($E34=\"\",\"\",IF(ISERROR(VLOOKUP($E34,氏名ﾃﾞｰﾀ!$B:$M,12,0)),IF(ISERROR(VLOOKUP($E34,新規登録!$B:$L,9,0)),\"未登録\",VLOOKUP($E34,新規登録!$B:$L,9,0)),(VLOOKUP($E34,氏名ﾃﾞｰﾀ!$B:$M,12,0))))","v":""},null,null,null,null,null,null,null,null,null,null,null,null,null,null,null,null,null,null,null,null,null,null,null,null,"","",2,"1000","","","","","","1000","","","","","",1000,"","","","","",1000,"","","","",""]
["","",{"$f":"IF(E35=\"\",\"\",IF(AP35=1,COUNTIF(AP$16:AP35,1)*10+2001-10,COUNTIF(AP$16:AP35,2)*10+6001-10))","v":""},20,null,{"$f":"IF($E35=\"\",\"\",IF(ISERROR(VLOOKUP($E35,氏名ﾃﾞｰﾀ!$B:$L,2,0)),IF(ISERROR(VLOOKUP($E35,新規登録!$B:$L,2,0)),\"未登録\",VLOOKUP($E35,新規登録!$B:$L,2,0)),(VLOOKUP($E35,氏名ﾃﾞｰﾀ!$B:$L,2,0))))","v":""},{"$f":"IF($E35=\"\",\"\",IF(ISERROR(VLOOKUP($E35,氏名ﾃﾞｰﾀ!$B:$L,3,0)),IF(ISERROR(VLOOKUP($E35,新規登録!$B:$L,3,0)),\"未登録\",VLOOKUP($E35,新規登録!$B:$L,3,0)),(VLOOKUP($E35,氏名ﾃﾞｰﾀ!$B:$L,3,0))))","v":""},{"$f":"IF($E35=\"\",\"\",IF(ISERROR(VLOOKUP($E35,氏名ﾃﾞｰﾀ!$B:$L,4,0)),IF(ISERROR(VLOOKUP($E35,新規登録!$B:$L,4,0)),\"未登録\",VLOOKUP($E35,新規登録!$B:$L,4,0)),(VLOOKUP($E35,氏名ﾃﾞｰﾀ!$B:$L,4,0))))","v":""},{"$f":"IF($E35=\"\",\"\",IF(ISERROR(VLOOKUP($E35,氏名ﾃﾞｰﾀ!$B:$L,5,0)),IF(ISERROR(VLOOKUP($E35,新規登録!$B:$L,5,0)),\"未登録\",VLOOKUP($E35,新規登録!$B:$L,5,0)),(VLOOKUP($E35,氏名ﾃﾞｰﾀ!$B:$L,5,0))))","v":""},{"$f":"IF($E35=\"\",\"\",IF(ISERROR(VLOOKUP($E35,氏名ﾃﾞｰﾀ!$B:$L,6,0)),IF(ISERROR(VLOOKUP($E35,新規登録!$B:$L,6,0)),\"未登録\",VLOOKUP($E35,新規登録!$B:$L,6,0)),(VLOOKUP($E35,氏名ﾃﾞｰﾀ!$B:$L,6,0))))","v":""},{"$f":"IF($E35=\"\",\"\",IF(ISERROR(VLOOKUP($E35,氏名ﾃﾞｰﾀ!$B:$L,7,0)),IF(ISERROR(VLOOKUP($E35,新規登録!$B:$L,7,0)),\"未登録\",VLOOKUP($E35,新規登録!$B:$L,7,0)),(VLOOKUP($E35,氏名ﾃﾞｰﾀ!$B:$L,7,0))))","v":""},{"$f":"IF($E35=\"\",\"\",IF(ISERROR(VLOOKUP($E35,氏名ﾃﾞｰﾀ!$B:$L,10,0)),IF(ISERROR(VLOOKUP($E35,新規登録!$B:$L,8,0)),\"未登録\",VLOOKUP($E35,新規登録!$B:$L,8,0)),(VLOOKUP($E35,氏名ﾃﾞｰﾀ!$B:$L,10,0))))","v":""},{"$f":"IF($E35=\"\",\"\",IF(ISERROR(VLOOKUP($E35,氏名ﾃﾞｰﾀ!$B:$L,11,0)),IF(ISERROR(VLOOKUP($E35,新規登録!$B:$L,11,0)),\"未登録\",VLOOKUP($E35,新規登録!$B:$L,11,0)),$G$3))","v":""},{"$f":"IF($E35=\"\",\"\",IF(ISERROR(VLOOKUP($E35,氏名ﾃﾞｰﾀ!$B:$L,8,0)),IF(ISERROR(VLOOKUP($E35,新規登録!$B:$L,10,0)),\"ﾅｼ\",VLOOKUP($E35,新規登録!$B:$L,10,0)),(VLOOKUP($E35,氏名ﾃﾞｰﾀ!$B:$L,8,0))))","v":""},{"$f":"IF($E35=\"\",\"\",IF(ISERROR(VLOOKUP($E35,氏名ﾃﾞｰﾀ!$B:$M,12,0)),IF(ISERROR(VLOOKUP($E35,新規登録!$B:$L,9,0)),\"未登録\",VLOOKUP($E35,新規登録!$B:$L,9,0)),(VLOOKUP($E35,氏名ﾃﾞｰﾀ!$B:$M,12,0))))","v":""},null,null,null,null,null,null,null,null,null,null,null,null,null,null,null,null,null,null,null,null,null,null,null,null,"","",2,"1000","","","","","","1000","","","","","",1000,"","","","","",1000,"","","","",""]
["","",{"$f":"IF(E36=\"\",\"\",IF(AP36=1,COUNTIF(AP$16:AP36,1)*10+2001-10,COUNTIF(AP$16:AP36,2)*10+6001-10))","v":""},21,null,{"$f":"IF($E36=\"\",\"\",IF(ISERROR(VLOOKUP($E36,氏名ﾃﾞｰﾀ!$B:$L,2,0)),IF(ISERROR(VLOOKUP($E36,新規登録!$B:$L,2,0)),\"未登録\",VLOOKUP($E36,新規登録!$B:$L,2,0)),(VLOOKUP($E36,氏名ﾃﾞｰﾀ!$B:$L,2,0))))","v":""},{"$f":"IF($E36=\"\",\"\",IF(ISERROR(VLOOKUP($E36,氏名ﾃﾞｰﾀ!$B:$L,3,0)),IF(ISERROR(VLOOKUP($E36,新規登録!$B:$L,3,0)),\"未登録\",VLOOKUP($E36,新規登録!$B:$L,3,0)),(VLOOKUP($E36,氏名ﾃﾞｰﾀ!$B:$L,3,0))))","v":""},{"$f":"IF($E36=\"\",\"\",IF(ISERROR(VLOOKUP($E36,氏名ﾃﾞｰﾀ!$B:$L,4,0)),IF(ISERROR(VLOOKUP($E36,新規登録!$B:$L,4,0)),\"未登録\",VLOOKUP($E36,新規登録!$B:$L,4,0)),(VLOOKUP($E36,氏名ﾃﾞｰﾀ!$B:$L,4,0))))","v":""},{"$f":"IF($E36=\"\",\"\",IF(ISERROR(VLOOKUP($E36,氏名ﾃﾞｰﾀ!$B:$L,5,0)),IF(ISERROR(VLOOKUP($E36,新規登録!$B:$L,5,0)),\"未登録\",VLOOKUP($E36,新規登録!$B:$L,5,0)),(VLOOKUP($E36,氏名ﾃﾞｰﾀ!$B:$L,5,0))))","v":""},{"$f":"IF($E36=\"\",\"\",IF(ISERROR(VLOOKUP($E36,氏名ﾃﾞｰﾀ!$B:$L,6,0)),IF(ISERROR(VLOOKUP($E36,新規登録!$B:$L,6,0)),\"未登録\",VLOOKUP($E36,新規登録!$B:$L,6,0)),(VLOOKUP($E36,氏名ﾃﾞｰﾀ!$B:$L,6,0))))","v":""},{"$f":"IF($E36=\"\",\"\",IF(ISERROR(VLOOKUP($E36,氏名ﾃﾞｰﾀ!$B:$L,7,0)),IF(ISERROR(VLOOKUP($E36,新規登録!$B:$L,7,0)),\"未登録\",VLOOKUP($E36,新規登録!$B:$L,7,0)),(VLOOKUP($E36,氏名ﾃﾞｰﾀ!$B:$L,7,0))))","v":""},{"$f":"IF($E36=\"\",\"\",IF(ISERROR(VLOOKUP($E36,氏名ﾃﾞｰﾀ!$B:$L,10,0)),IF(ISERROR(VLOOKUP($E36,新規登録!$B:$L,8,0)),\"未登録\",VLOOKUP($E36,新規登録!$B:$L,8,0)),(VLOOKUP($E36,氏名ﾃﾞｰﾀ!$B:$L,10,0))))","v":""},{"$f":"IF($E36=\"\",\"\",IF(ISERROR(VLOOKUP($E36,氏名ﾃﾞｰﾀ!$B:$L,11,0)),IF(ISERROR(VLOOKUP($E36,新規登録!$B:$L,11,0)),\"未登録\",VLOOKUP($E36,新規登録!$B:$L,11,0)),$G$3))","v":""},{"$f":"IF($E36=\"\",\"\",IF(ISERROR(VLOOKUP($E36,氏名ﾃﾞｰﾀ!$B:$L,8,0)),IF(ISERROR(VLOOKUP($E36,新規登録!$B:$L,10,0)),\"ﾅｼ\",VLOOKUP($E36,新規登録!$B:$L,10,0)),(VLOOKUP($E36,氏名ﾃﾞｰﾀ!$B:$L,8,0))))","v":""},{"$f":"IF($E36=\"\",\"\",IF(ISERROR(VLOOKUP($E36,氏名ﾃﾞｰﾀ!$B:$M,12,0)),IF(ISERROR(VLOOKUP($E36,新規登録!$B:$L,9,0)),\"未登録\",VLOOKUP($E36,新規登録!$B:$L,9,0)),(VLOOKUP($E36,氏名ﾃﾞｰﾀ!$B:$M,12,0))))","v":""},null,null,null,null,null,null,null,null,null,null,null,null,null,null,null,null,null,null,null,null,null,null,null,null,"","",2,"1000","","","","","","1000","","","","","",1000,"","","","","",1000,"","","","",""]
["","",{"$f":"IF(E37=\"\",\"\",IF(AP37=1,COUNTIF(AP$16:AP37,1)*10+2001-10,COUNTIF(AP$16:AP37,2)*10+6001-10))","v":""},22,null,{"$f":"IF($E37=\"\",\"\",IF(ISERROR(VLOOKUP($E37,氏名ﾃﾞｰﾀ!$B:$L,2,0)),IF(ISERROR(VLOOKUP($E37,新規登録!$B:$L,2,0)),\"未登録\",VLOOKUP($E37,新規登録!$B:$L,2,0)),(VLOOKUP($E37,氏名ﾃﾞｰﾀ!$B:$L,2,0))))","v":""},{"$f":"IF($E37=\"\",\"\",IF(ISERROR(VLOOKUP($E37,氏名ﾃﾞｰﾀ!$B:$L,3,0)),IF(ISERROR(VLOOKUP($E37,新規登録!$B:$L,3,0)),\"未登録\",VLOOKUP($E37,新規登録!$B:$L,3,0)),(VLOOKUP($E37,氏名ﾃﾞｰﾀ!$B:$L,3,0))))","v":""},{"$f":"IF($E37=\"\",\"\",IF(ISERROR(VLOOKUP($E37,氏名ﾃﾞｰﾀ!$B:$L,4,0)),IF(ISERROR(VLOOKUP($E37,新規登録!$B:$L,4,0)),\"未登録\",VLOOKUP($E37,新規登録!$B:$L,4,0)),(VLOOKUP($E37,氏名ﾃﾞｰﾀ!$B:$L,4,0))))","v":""},{"$f":"IF($E37=\"\",\"\",IF(ISERROR(VLOOKUP($E37,氏名ﾃﾞｰﾀ!$B:$L,5,0)),IF(ISERROR(VLOOKUP($E37,新規登録!$B:$L,5,0)),\"未登録\",VLOOKUP($E37,新規登録!$B:$L,5,0)),(VLOOKUP($E37,氏名ﾃﾞｰﾀ!$B:$L,5,0))))","v":""},{"$f":"IF($E37=\"\",\"\",IF(ISERROR(VLOOKUP($E37,氏名ﾃﾞｰﾀ!$B:$L,6,0)),IF(ISERROR(VLOOKUP($E37,新規登録!$B:$L,6,0)),\"未登録\",VLOOKUP($E37,新規登録!$B:$L,6,0)),(VLOOKUP($E37,氏名ﾃﾞｰﾀ!$B:$L,6,0))))","v":""},{"$f":"IF($E37=\"\",\"\",IF(ISERROR(VLOOKUP($E37,氏名ﾃﾞｰﾀ!$B:$L,7,0)),IF(ISERROR(VLOOKUP($E37,新規登録!$B:$L,7,0)),\"未登録\",VLOOKUP($E37,新規登録!$B:$L,7,0)),(VLOOKUP($E37,氏名ﾃﾞｰﾀ!$B:$L,7,0))))","v":""},{"$f":"IF($E37=\"\",\"\",IF(ISERROR(VLOOKUP($E37,氏名ﾃﾞｰﾀ!$B:$L,10,0)),IF(ISERROR(VLOOKUP($E37,新規登録!$B:$L,8,0)),\"未登録\",VLOOKUP($E37,新規登録!$B:$L,8,0)),(VLOOKUP($E37,氏名ﾃﾞｰﾀ!$B:$L,10,0))))","v":""},{"$f":"IF($E37=\"\",\"\",IF(ISERROR(VLOOKUP($E37,氏名ﾃﾞｰﾀ!$B:$L,11,0)),IF(ISERROR(VLOOKUP($E37,新規登録!$B:$L,11,0)),\"未登録\",VLOOKUP($E37,新規登録!$B:$L,11,0)),$G$3))","v":""},{"$f":"IF($E37=\"\",\"\",IF(ISERROR(VLOOKUP($E37,氏名ﾃﾞｰﾀ!$B:$L,8,0)),IF(ISERROR(VLOOKUP($E37,新規登録!$B:$L,10,0)),\"ﾅｼ\",VLOOKUP($E37,新規登録!$B:$L,10,0)),(VLOOKUP($E37,氏名ﾃﾞｰﾀ!$B:$L,8,0))))","v":""},{"$f":"IF($E37=\"\",\"\",IF(ISERROR(VLOOKUP($E37,氏名ﾃﾞｰﾀ!$B:$M,12,0)),IF(ISERROR(VLOOKUP($E37,新規登録!$B:$L,9,0)),\"未登録\",VLOOKUP($E37,新規登録!$B:$L,9,0)),(VLOOKUP($E37,氏名ﾃﾞｰﾀ!$B:$M,12,0))))","v":""},null,null,null,null,null,null,null,null,null,null,null,null,null,null,null,null,null,null,null,null,null,null,null,null,"","",2,"1000","","","","","","1000","","","","","",1000,"","","","","",1000,"","","","",""]
["","",{"$f":"IF(E38=\"\",\"\",IF(AP38=1,COUNTIF(AP$16:AP38,1)*10+2001-10,COUNTIF(AP$16:AP38,2)*10+6001-10))","v":""},23,null,{"$f":"IF($E38=\"\",\"\",IF(ISERROR(VLOOKUP($E38,氏名ﾃﾞｰﾀ!$B:$L,2,0)),IF(ISERROR(VLOOKUP($E38,新規登録!$B:$L,2,0)),\"未登録\",VLOOKUP($E38,新規登録!$B:$L,2,0)),(VLOOKUP($E38,氏名ﾃﾞｰﾀ!$B:$L,2,0))))","v":""},{"$f":"IF($E38=\"\",\"\",IF(ISERROR(VLOOKUP($E38,氏名ﾃﾞｰﾀ!$B:$L,3,0)),IF(ISERROR(VLOOKUP($E38,新規登録!$B:$L,3,0)),\"未登録\",VLOOKUP($E38,新規登録!$B:$L,3,0)),(VLOOKUP($E38,氏名ﾃﾞｰﾀ!$B:$L,3,0))))","v":""},{"$f":"IF($E38=\"\",\"\",IF(ISERROR(VLOOKUP($E38,氏名ﾃﾞｰﾀ!$B:$L,4,0)),IF(ISERROR(VLOOKUP($E38,新規登録!$B:$L,4,0)),\"未登録\",VLOOKUP($E38,新規登録!$B:$L,4,0)),(VLOOKUP($E38,氏名ﾃﾞｰﾀ!$B:$L,4,0))))","v":""},{"$f":"IF($E38=\"\",\"\",IF(ISERROR(VLOOKUP($E38,氏名ﾃﾞｰﾀ!$B:$L,5,0)),IF(ISERROR(VLOOKUP($E38,新規登録!$B:$L,5,0)),\"未登録\",VLOOKUP($E38,新規登録!$B:$L,5,0)),(VLOOKUP($E38,氏名ﾃﾞｰﾀ!$B:$L,5,0))))","v":""},{"$f":"IF($E38=\"\",\"\",IF(ISERROR(VLOOKUP($E38,氏名ﾃﾞｰﾀ!$B:$L,6,0)),IF(ISERROR(VLOOKUP($E38,新規登録!$B:$L,6,0)),\"未登録\",VLOOKUP($E38,新規登録!$B:$L,6,0)),(VLOOKUP($E38,氏名ﾃﾞｰﾀ!$B:$L,6,0))))","v":""},{"$f":"IF($E38=\"\",\"\",IF(ISERROR(VLOOKUP($E38,氏名ﾃﾞｰﾀ!$B:$L,7,0)),IF(ISERROR(VLOOKUP($E38,新規登録!$B:$L,7,0)),\"未登録\",VLOOKUP($E38,新規登録!$B:$L,7,0)),(VLOOKUP($E38,氏名ﾃﾞｰﾀ!$B:$L,7,0))))","v":""},{"$f":"IF($E38=\"\",\"\",IF(ISERROR(VLOOKUP($E38,氏名ﾃﾞｰﾀ!$B:$L,10,0)),IF(ISERROR(VLOOKUP($E38,新規登録!$B:$L,8,0)),\"未登録\",VLOOKUP($E38,新規登録!$B:$L,8,0)),(VLOOKUP($E38,氏名ﾃﾞｰﾀ!$B:$L,10,0))))","v":""},{"$f":"IF($E38=\"\",\"\",IF(ISERROR(VLOOKUP($E38,氏名ﾃﾞｰﾀ!$B:$L,11,0)),IF(ISERROR(VLOOKUP($E38,新規登録!$B:$L,11,0)),\"未登録\",VLOOKUP($E38,新規登録!$B:$L,11,0)),$G$3))","v":""},{"$f":"IF($E38=\"\",\"\",IF(ISERROR(VLOOKUP($E38,氏名ﾃﾞｰﾀ!$B:$L,8,0)),IF(ISERROR(VLOOKUP($E38,新規登録!$B:$L,10,0)),\"ﾅｼ\",VLOOKUP($E38,新規登録!$B:$L,10,0)),(VLOOKUP($E38,氏名ﾃﾞｰﾀ!$B:$L,8,0))))","v":""},{"$f":"IF($E38=\"\",\"\",IF(ISERROR(VLOOKUP($E38,氏名ﾃﾞｰﾀ!$B:$M,12,0)),IF(ISERROR(VLOOKUP($E38,新規登録!$B:$L,9,0)),\"未登録\",VLOOKUP($E38,新規登録!$B:$L,9,0)),(VLOOKUP($E38,氏名ﾃﾞｰﾀ!$B:$M,12,0))))","v":""},null,null,null,null,null,null,null,null,null,null,null,null,null,null,null,null,null,null,null,null,null,null,null,null,"","",2,"1000","","","","","","1000","","","","","",1000,"","","","","",1000,"","","","",""]
["","",{"$f":"IF(E39=\"\",\"\",IF(AP39=1,COUNTIF(AP$16:AP39,1)*10+2001-10,COUNTIF(AP$16:AP39,2)*10+6001-10))","v":""},24,null,{"$f":"IF($E39=\"\",\"\",IF(ISERROR(VLOOKUP($E39,氏名ﾃﾞｰﾀ!$B:$L,2,0)),IF(ISERROR(VLOOKUP($E39,新規登録!$B:$L,2,0)),\"未登録\",VLOOKUP($E39,新規登録!$B:$L,2,0)),(VLOOKUP($E39,氏名ﾃﾞｰﾀ!$B:$L,2,0))))","v":""},{"$f":"IF($E39=\"\",\"\",IF(ISERROR(VLOOKUP($E39,氏名ﾃﾞｰﾀ!$B:$L,3,0)),IF(ISERROR(VLOOKUP($E39,新規登録!$B:$L,3,0)),\"未登録\",VLOOKUP($E39,新規登録!$B:$L,3,0)),(VLOOKUP($E39,氏名ﾃﾞｰﾀ!$B:$L,3,0))))","v":""},{"$f":"IF($E39=\"\",\"\",IF(ISERROR(VLOOKUP($E39,氏名ﾃﾞｰﾀ!$B:$L,4,0)),IF(ISERROR(VLOOKUP($E39,新規登録!$B:$L,4,0)),\"未登録\",VLOOKUP($E39,新規登録!$B:$L,4,0)),(VLOOKUP($E39,氏名ﾃﾞｰﾀ!$B:$L,4,0))))","v":""},{"$f":"IF($E39=\"\",\"\",IF(ISERROR(VLOOKUP($E39,氏名ﾃﾞｰﾀ!$B:$L,5,0)),IF(ISERROR(VLOOKUP($E39,新規登録!$B:$L,5,0)),\"未登録\",VLOOKUP($E39,新規登録!$B:$L,5,0)),(VLOOKUP($E39,氏名ﾃﾞｰﾀ!$B:$L,5,0))))","v":""},{"$f":"IF($E39=\"\",\"\",IF(ISERROR(VLOOKUP($E39,氏名ﾃﾞｰﾀ!$B:$L,6,0)),IF(ISERROR(VLOOKUP($E39,新規登録!$B:$L,6,0)),\"未登録\",VLOOKUP($E39,新規登録!$B:$L,6,0)),(VLOOKUP($E39,氏名ﾃﾞｰﾀ!$B:$L,6,0))))","v":""},{"$f":"IF($E39=\"\",\"\",IF(ISERROR(VLOOKUP($E39,氏名ﾃﾞｰﾀ!$B:$L,7,0)),IF(ISERROR(VLOOKUP($E39,新規登録!$B:$L,7,0)),\"未登録\",VLOOKUP($E39,新規登録!$B:$L,7,0)),(VLOOKUP($E39,氏名ﾃﾞｰﾀ!$B:$L,7,0))))","v":""},{"$f":"IF($E39=\"\",\"\",IF(ISERROR(VLOOKUP($E39,氏名ﾃﾞｰﾀ!$B:$L,10,0)),IF(ISERROR(VLOOKUP($E39,新規登録!$B:$L,8,0)),\"未登録\",VLOOKUP($E39,新規登録!$B:$L,8,0)),(VLOOKUP($E39,氏名ﾃﾞｰﾀ!$B:$L,10,0))))","v":""},{"$f":"IF($E39=\"\",\"\",IF(ISERROR(VLOOKUP($E39,氏名ﾃﾞｰﾀ!$B:$L,11,0)),IF(ISERROR(VLOOKUP($E39,新規登録!$B:$L,11,0)),\"未登録\",VLOOKUP($E39,新規登録!$B:$L,11,0)),$G$3))","v":""},{"$f":"IF($E39=\"\",\"\",IF(ISERROR(VLOOKUP($E39,氏名ﾃﾞｰﾀ!$B:$L,8,0)),IF(ISERROR(VLOOKUP($E39,新規登録!$B:$L,10,0)),\"ﾅｼ\",VLOOKUP($E39,新規登録!$B:$L,10,0)),(VLOOKUP($E39,氏名ﾃﾞｰﾀ!$B:$L,8,0))))","v":""},{"$f":"IF($E39=\"\",\"\",IF(ISERROR(VLOOKUP($E39,氏名ﾃﾞｰﾀ!$B:$M,12,0)),IF(ISERROR(VLOOKUP($E39,新規登録!$B:$L,9,0)),\"未登録\",VLOOKUP($E39,新規登録!$B:$L,9,0)),(VLOOKUP($E39,氏名ﾃﾞｰﾀ!$B:$M,12,0))))","v":""},null,null,null,null,null,null,null,null,null,null,null,null,null,null,null,null,null,null,null,null,null,null,null,null,"","",2,"1000","","","","","","1000","","","","","",1000,"","","","","",1000,"","","","",""]
["","",{"$f":"IF(E40=\"\",\"\",IF(AP40=1,COUNTIF(AP$16:AP40,1)*10+2001-10,COUNTIF(AP$16:AP40,2)*10+6001-10))","v":""},25,null,{"$f":"IF($E40=\"\",\"\",IF(ISERROR(VLOOKUP($E40,氏名ﾃﾞｰﾀ!$B:$L,2,0)),IF(ISERROR(VLOOKUP($E40,新規登録!$B:$L,2,0)),\"未登録\",VLOOKUP($E40,新規登録!$B:$L,2,0)),(VLOOKUP($E40,氏名ﾃﾞｰﾀ!$B:$L,2,0))))","v":""},{"$f":"IF($E40=\"\",\"\",IF(ISERROR(VLOOKUP($E40,氏名ﾃﾞｰﾀ!$B:$L,3,0)),IF(ISERROR(VLOOKUP($E40,新規登録!$B:$L,3,0)),\"未登録\",VLOOKUP($E40,新規登録!$B:$L,3,0)),(VLOOKUP($E40,氏名ﾃﾞｰﾀ!$B:$L,3,0))))","v":""},{"$f":"IF($E40=\"\",\"\",IF(ISERROR(VLOOKUP($E40,氏名ﾃﾞｰﾀ!$B:$L,4,0)),IF(ISERROR(VLOOKUP($E40,新規登録!$B:$L,4,0)),\"未登録\",VLOOKUP($E40,新規登録!$B:$L,4,0)),(VLOOKUP($E40,氏名ﾃﾞｰﾀ!$B:$L,4,0))))","v":""},{"$f":"IF($E40=\"\",\"\",IF(ISERROR(VLOOKUP($E40,氏名ﾃﾞｰﾀ!$B:$L,5,0)),IF(ISERROR(VLOOKUP($E40,新規登録!$B:$L,5,0)),\"未登録\",VLOOKUP($E40,新規登録!$B:$L,5,0)),(VLOOKUP($E40,氏名ﾃﾞｰﾀ!$B:$L,5,0))))","v":""},{"$f":"IF($E40=\"\",\"\",IF(ISERROR(VLOOKUP($E40,氏名ﾃﾞｰﾀ!$B:$L,6,0)),IF(ISERROR(VLOOKUP($E40,新規登録!$B:$L,6,0)),\"未登録\",VLOOKUP($E40,新規登録!$B:$L,6,0)),(VLOOKUP($E40,氏名ﾃﾞｰﾀ!$B:$L,6,0))))","v":""},{"$f":"IF($E40=\"\",\"\",IF(ISERROR(VLOOKUP($E40,氏名ﾃﾞｰﾀ!$B:$L,7,0)),IF(ISERROR(VLOOKUP($E40,新規登録!$B:$L,7,0)),\"未登録\",VLOOKUP($E40,新規登録!$B:$L,7,0)),(VLOOKUP($E40,氏名ﾃﾞｰﾀ!$B:$L,7,0))))","v":""},{"$f":"IF($E40=\"\",\"\",IF(ISERROR(VLOOKUP($E40,氏名ﾃﾞｰﾀ!$B:$L,10,0)),IF(ISERROR(VLOOKUP($E40,新規登録!$B:$L,8,0)),\"未登録\",VLOOKUP($E40,新規登録!$B:$L,8,0)),(VLOOKUP($E40,氏名ﾃﾞｰﾀ!$B:$L,10,0))))","v":""},{"$f":"IF($E40=\"\",\"\",IF(ISERROR(VLOOKUP($E40,氏名ﾃﾞｰﾀ!$B:$L,11,0)),IF(ISERROR(VLOOKUP($E40,新規登録!$B:$L,11,0)),\"未登録\",VLOOKUP($E40,新規登録!$B:$L,11,0)),$G$3))","v":""},{"$f":"IF($E40=\"\",\"\",IF(ISERROR(VLOOKUP($E40,氏名ﾃﾞｰﾀ!$B:$L,8,0)),IF(ISERROR(VLOOKUP($E40,新規登録!$B:$L,10,0)),\"ﾅｼ\",VLOOKUP($E40,新規登録!$B:$L,10,0)),(VLOOKUP($E40,氏名ﾃﾞｰﾀ!$B:$L,8,0))))","v":""},{"$f":"IF($E40=\"\",\"\",IF(ISERROR(VLOOKUP($E40,氏名ﾃﾞｰﾀ!$B:$M,12,0)),IF(ISERROR(VLOOKUP($E40,新規登録!$B:$L,9,0)),\"未登録\",VLOOKUP($E40,新規登録!$B:$L,9,0)),(VLOOKUP($E40,氏名ﾃﾞｰﾀ!$B:$M,12,0))))","v":""},null,null,null,null,null,null,null,null,null,null,null,null,null,null,null,null,null,null,null,null,null,null,null,null,"","",2,"1000","","","","","","1000","","","","","",1000,"","","","","",1000,"","","","",""]
["","",{"$f":"IF(E41=\"\",\"\",IF(AP41=1,COUNTIF(AP$16:AP41,1)*10+2001-10,COUNTIF(AP$16:AP41,2)*10+6001-10))","v":""},26,null,{"$f":"IF($E41=\"\",\"\",IF(ISERROR(VLOOKUP($E41,氏名ﾃﾞｰﾀ!$B:$L,2,0)),IF(ISERROR(VLOOKUP($E41,新規登録!$B:$L,2,0)),\"未登録\",VLOOKUP($E41,新規登録!$B:$L,2,0)),(VLOOKUP($E41,氏名ﾃﾞｰﾀ!$B:$L,2,0))))","v":""},{"$f":"IF($E41=\"\",\"\",IF(ISERROR(VLOOKUP($E41,氏名ﾃﾞｰﾀ!$B:$L,3,0)),IF(ISERROR(VLOOKUP($E41,新規登録!$B:$L,3,0)),\"未登録\",VLOOKUP($E41,新規登録!$B:$L,3,0)),(VLOOKUP($E41,氏名ﾃﾞｰﾀ!$B:$L,3,0))))","v":""},{"$f":"IF($E41=\"\",\"\",IF(ISERROR(VLOOKUP($E41,氏名ﾃﾞｰﾀ!$B:$L,4,0)),IF(ISERROR(VLOOKUP($E41,新規登録!$B:$L,4,0)),\"未登録\",VLOOKUP($E41,新規登録!$B:$L,4,0)),(VLOOKUP($E41,氏名ﾃﾞｰﾀ!$B:$L,4,0))))","v":""},{"$f":"IF($E41=\"\",\"\",IF(ISERROR(VLOOKUP($E41,氏名ﾃﾞｰﾀ!$B:$L,5,0)),IF(ISERROR(VLOOKUP($E41,新規登録!$B:$L,5,0)),\"未登録\",VLOOKUP($E41,新規登録!$B:$L,5,0)),(VLOOKUP($E41,氏名ﾃﾞｰﾀ!$B:$L,5,0))))","v":""},{"$f":"IF($E41=\"\",\"\",IF(ISERROR(VLOOKUP($E41,氏名ﾃﾞｰﾀ!$B:$L,6,0)),IF(ISERROR(VLOOKUP($E41,新規登録!$B:$L,6,0)),\"未登録\",VLOOKUP($E41,新規登録!$B:$L,6,0)),(VLOOKUP($E41,氏名ﾃﾞｰﾀ!$B:$L,6,0))))","v":""},{"$f":"IF($E41=\"\",\"\",IF(ISERROR(VLOOKUP($E41,氏名ﾃﾞｰﾀ!$B:$L,7,0)),IF(ISERROR(VLOOKUP($E41,新規登録!$B:$L,7,0)),\"未登録\",VLOOKUP($E41,新規登録!$B:$L,7,0)),(VLOOKUP($E41,氏名ﾃﾞｰﾀ!$B:$L,7,0))))","v":""},{"$f":"IF($E41=\"\",\"\",IF(ISERROR(VLOOKUP($E41,氏名ﾃﾞｰﾀ!$B:$L,10,0)),IF(ISERROR(VLOOKUP($E41,新規登録!$B:$L,8,0)),\"未登録\",VLOOKUP($E41,新規登録!$B:$L,8,0)),(VLOOKUP($E41,氏名ﾃﾞｰﾀ!$B:$L,10,0))))","v":""},{"$f":"IF($E41=\"\",\"\",IF(ISERROR(VLOOKUP($E41,氏名ﾃﾞｰﾀ!$B:$L,11,0)),IF(ISERROR(VLOOKUP($E41,新規登録!$B:$L,11,0)),\"未登録\",VLOOKUP($E41,新規登録!$B:$L,11,0)),$G$3))","v":""},{"$f":"IF($E41=\"\",\"\",IF(ISERROR(VLOOKUP($E41,氏名ﾃﾞｰﾀ!$B:$L,8,0)),IF(ISERROR(VLOOKUP($E41,新規登録!$B:$L,10,0)),\"ﾅｼ\",VLOOKUP($E41,新規登録!$B:$L,10,0)),(VLOOKUP($E41,氏名ﾃﾞｰﾀ!$B:$L,8,0))))","v":""},{"$f":"IF($E41=\"\",\"\",IF(ISERROR(VLOOKUP($E41,氏名ﾃﾞｰﾀ!$B:$M,12,0)),IF(ISERROR(VLOOKUP($E41,新規登録!$B:$L,9,0)),\"未登録\",VLOOKUP($E41,新規登録!$B:$L,9,0)),(VLOOKUP($E41,氏名ﾃﾞｰﾀ!$B:$M,12,0))))","v":""},null,null,null,null,null,null,null,null,null,null,null,null,null,null,null,null,null,null,null,null,null,null,null,null,"","",2,"1000","","","","","","1000","","","","","",1000,"","","","","",1000,"","","","",""]
["","",{"$f":"IF(E42=\"\",\"\",IF(AP42=1,COUNTIF(AP$16:AP42,1)*10+2001-10,COUNTIF(AP$16:AP42,2)*10+6001-10))","v":""},27,null,{"$f":"IF($E42=\"\",\"\",IF(ISERROR(VLOOKUP($E42,氏名ﾃﾞｰﾀ!$B:$L,2,0)),IF(ISERROR(VLOOKUP($E42,新規登録!$B:$L,2,0)),\"未登録\",VLOOKUP($E42,新規登録!$B:$L,2,0)),(VLOOKUP($E42,氏名ﾃﾞｰﾀ!$B:$L,2,0))))","v":""},{"$f":"IF($E42=\"\",\"\",IF(ISERROR(VLOOKUP($E42,氏名ﾃﾞｰﾀ!$B:$L,3,0)),IF(ISERROR(VLOOKUP($E42,新規登録!$B:$L,3,0)),\"未登録\",VLOOKUP($E42,新規登録!$B:$L,3,0)),(VLOOKUP($E42,氏名ﾃﾞｰﾀ!$B:$L,3,0))))","v":""},{"$f":"IF($E42=\"\",\"\",IF(ISERROR(VLOOKUP($E42,氏名ﾃﾞｰﾀ!$B:$L,4,0)),IF(ISERROR(VLOOKUP($E42,新規登録!$B:$L,4,0)),\"未登録\",VLOOKUP($E42,新規登録!$B:$L,4,0)),(VLOOKUP($E42,氏名ﾃﾞｰﾀ!$B:$L,4,0))))","v":""},{"$f":"IF($E42=\"\",\"\",IF(ISERROR(VLOOKUP($E42,氏名ﾃﾞｰﾀ!$B:$L,5,0)),IF(ISERROR(VLOOKUP($E42,新規登録!$B:$L,5,0)),\"未登録\",VLOOKUP($E42,新規登録!$B:$L,5,0)),(VLOOKUP($E42,氏名ﾃﾞｰﾀ!$B:$L,5,0))))","v":""},{"$f":"IF($E42=\"\",\"\",IF(ISERROR(VLOOKUP($E42,氏名ﾃﾞｰﾀ!$B:$L,6,0)),IF(ISERROR(VLOOKUP($E42,新規登録!$B:$L,6,0)),\"未登録\",VLOOKUP($E42,新規登録!$B:$L,6,0)),(VLOOKUP($E42,氏名ﾃﾞｰﾀ!$B:$L,6,0))))","v":""},{"$f":"IF($E42=\"\",\"\",IF(ISERROR(VLOOKUP($E42,氏名ﾃﾞｰﾀ!$B:$L,7,0)),IF(ISERROR(VLOOKUP($E42,新規登録!$B:$L,7,0)),\"未登録\",VLOOKUP($E42,新規登録!$B:$L,7,0)),(VLOOKUP($E42,氏名ﾃﾞｰﾀ!$B:$L,7,0))))","v":""},{"$f":"IF($E42=\"\",\"\",IF(ISERROR(VLOOKUP($E42,氏名ﾃﾞｰﾀ!$B:$L,10,0)),IF(ISERROR(VLOOKUP($E42,新規登録!$B:$L,8,0)),\"未登録\",VLOOKUP($E42,新規登録!$B:$L,8,0)),(VLOOKUP($E42,氏名ﾃﾞｰﾀ!$B:$L,10,0))))","v":""},{"$f":"IF($E42=\"\",\"\",IF(ISERROR(VLOOKUP($E42,氏名ﾃﾞｰﾀ!$B:$L,11,0)),IF(ISERROR(VLOOKUP($E42,新規登録!$B:$L,11,0)),\"未登録\",VLOOKUP($E42,新規登録!$B:$L,11,0)),$G$3))","v":""},{"$f":"IF($E42=\"\",\"\",IF(ISERROR(VLOOKUP($E42,氏名ﾃﾞｰﾀ!$B:$L,8,0)),IF(ISERROR(VLOOKUP($E42,新規登録!$B:$L,10,0)),\"ﾅｼ\",VLOOKUP($E42,新規登録!$B:$L,10,0)),(VLOOKUP($E42,氏名ﾃﾞｰﾀ!$B:$L,8,0))))","v":""},{"$f":"IF($E42=\"\",\"\",IF(ISERROR(VLOOKUP($E42,氏名ﾃﾞｰﾀ!$B:$M,12,0)),IF(ISERROR(VLOOKUP($E42,新規登録!$B:$L,9,0)),\"未登録\",VLOOKUP($E42,新規登録!$B:$L,9,0)),(VLOOKUP($E42,氏名ﾃﾞｰﾀ!$B:$M,12,0))))","v":""},null,null,null,null,null,null,null,null,null,null,null,null,null,null,null,null,null,null,null,null,null,null,null,null,"","",2,"1000","","","","","","1000","","","","","",1000,"","","","","",1000,"","","","",""]
["","",{"$f":"IF(E43=\"\",\"\",IF(AP43=1,COUNTIF(AP$16:AP43,1)*10+2001-10,COUNTIF(AP$16:AP43,2)*10+6001-10))","v":""},28,null,{"$f":"IF($E43=\"\",\"\",IF(ISERROR(VLOOKUP($E43,氏名ﾃﾞｰﾀ!$B:$L,2,0)),IF(ISERROR(VLOOKUP($E43,新規登録!$B:$L,2,0)),\"未登録\",VLOOKUP($E43,新規登録!$B:$L,2,0)),(VLOOKUP($E43,氏名ﾃﾞｰﾀ!$B:$L,2,0))))","v":""},{"$f":"IF($E43=\"\",\"\",IF(ISERROR(VLOOKUP($E43,氏名ﾃﾞｰﾀ!$B:$L,3,0)),IF(ISERROR(VLOOKUP($E43,新規登録!$B:$L,3,0)),\"未登録\",VLOOKUP($E43,新規登録!$B:$L,3,0)),(VLOOKUP($E43,氏名ﾃﾞｰﾀ!$B:$L,3,0))))","v":""},{"$f":"IF($E43=\"\",\"\",IF(ISERROR(VLOOKUP($E43,氏名ﾃﾞｰﾀ!$B:$L,4,0)),IF(ISERROR(VLOOKUP($E43,新規登録!$B:$L,4,0)),\"未登録\",VLOOKUP($E43,新規登録!$B:$L,4,0)),(VLOOKUP($E43,氏名ﾃﾞｰﾀ!$B:$L,4,0))))","v":""},{"$f":"IF($E43=\"\",\"\",IF(ISERROR(VLOOKUP($E43,氏名ﾃﾞｰﾀ!$B:$L,5,0)),IF(ISERROR(VLOOKUP($E43,新規登録!$B:$L,5,0)),\"未登録\",VLOOKUP($E43,新規登録!$B:$L,5,0)),(VLOOKUP($E43,氏名ﾃﾞｰﾀ!$B:$L,5,0))))","v":""},{"$f":"IF($E43=\"\",\"\",IF(ISERROR(VLOOKUP($E43,氏名ﾃﾞｰﾀ!$B:$L,6,0)),IF(ISERROR(VLOOKUP($E43,新規登録!$B:$L,6,0)),\"未登録\",VLOOKUP($E43,新規登録!$B:$L,6,0)),(VLOOKUP($E43,氏名ﾃﾞｰﾀ!$B:$L,6,0))))","v":""},{"$f":"IF($E43=\"\",\"\",IF(ISERROR(VLOOKUP($E43,氏名ﾃﾞｰﾀ!$B:$L,7,0)),IF(ISERROR(VLOOKUP($E43,新規登録!$B:$L,7,0)),\"未登録\",VLOOKUP($E43,新規登録!$B:$L,7,0)),(VLOOKUP($E43,氏名ﾃﾞｰﾀ!$B:$L,7,0))))","v":""},{"$f":"IF($E43=\"\",\"\",IF(ISERROR(VLOOKUP($E43,氏名ﾃﾞｰﾀ!$B:$L,10,0)),IF(ISERROR(VLOOKUP($E43,新規登録!$B:$L,8,0)),\"未登録\",VLOOKUP($E43,新規登録!$B:$L,8,0)),(VLOOKUP($E43,氏名ﾃﾞｰﾀ!$B:$L,10,0))))","v":""},{"$f":"IF($E43=\"\",\"\",IF(ISERROR(VLOOKUP($E43,氏名ﾃﾞｰﾀ!$B:$L,11,0)),IF(ISERROR(VLOOKUP($E43,新規登録!$B:$L,11,0)),\"未登録\",VLOOKUP($E43,新規登録!$B:$L,11,0)),$G$3))","v":""},{"$f":"IF($E43=\"\",\"\",IF(ISERROR(VLOOKUP($E43,氏名ﾃﾞｰﾀ!$B:$L,8,0)),IF(ISERROR(VLOOKUP($E43,新規登録!$B:$L,10,0)),\"ﾅｼ\",VLOOKUP($E43,新規登録!$B:$L,10,0)),(VLOOKUP($E43,氏名ﾃﾞｰﾀ!$B:$L,8,0))))","v":""},{"$f":"IF($E43=\"\",\"\",IF(ISERROR(VLOOKUP($E43,氏名ﾃﾞｰﾀ!$B:$M,12,0)),IF(ISERROR(VLOOKUP($E43,新規登録!$B:$L,9,0)),\"未登録\",VLOOKUP($E43,新規登録!$B:$L,9,0)),(VLOOKUP($E43,氏名ﾃﾞｰﾀ!$B:$M,12,0))))","v":""},null,null,null,null,null,null,null,null,null,null,null,null,null,null,null,null,null,null,null,null,null,null,null,null,"","",2,"1000","","","","","","1000","","","","","",1000,"","","","","",1000,"","","","",""]
["","",{"$f":"IF(E44=\"\",\"\",IF(AP44=1,COUNTIF(AP$16:AP44,1)*10+2001-10,COUNTIF(AP$16:AP44,2)*10+6001-10))","v":""},29,null,{"$f":"IF($E44=\"\",\"\",IF(ISERROR(VLOOKUP($E44,氏名ﾃﾞｰﾀ!$B:$L,2,0)),IF(ISERROR(VLOOKUP($E44,新規登録!$B:$L,2,0)),\"未登録\",VLOOKUP($E44,新規登録!$B:$L,2,0)),(VLOOKUP($E44,氏名ﾃﾞｰﾀ!$B:$L,2,0))))","v":""},{"$f":"IF($E44=\"\",\"\",IF(ISERROR(VLOOKUP($E44,氏名ﾃﾞｰﾀ!$B:$L,3,0)),IF(ISERROR(VLOOKUP($E44,新規登録!$B:$L,3,0)),\"未登録\",VLOOKUP($E44,新規登録!$B:$L,3,0)),(VLOOKUP($E44,氏名ﾃﾞｰﾀ!$B:$L,3,0))))","v":""},{"$f":"IF($E44=\"\",\"\",IF(ISERROR(VLOOKUP($E44,氏名ﾃﾞｰﾀ!$B:$L,4,0)),IF(ISERROR(VLOOKUP($E44,新規登録!$B:$L,4,0)),\"未登録\",VLOOKUP($E44,新規登録!$B:$L,4,0)),(VLOOKUP($E44,氏名ﾃﾞｰﾀ!$B:$L,4,0))))","v":""},{"$f":"IF($E44=\"\",\"\",IF(ISERROR(VLOOKUP($E44,氏名ﾃﾞｰﾀ!$B:$L,5,0)),IF(ISERROR(VLOOKUP($E44,新規登録!$B:$L,5,0)),\"未登録\",VLOOKUP($E44,新規登録!$B:$L,5,0)),(VLOOKUP($E44,氏名ﾃﾞｰﾀ!$B:$L,5,0))))","v":""},{"$f":"IF($E44=\"\",\"\",IF(ISERROR(VLOOKUP($E44,氏名ﾃﾞｰﾀ!$B:$L,6,0)),IF(ISERROR(VLOOKUP($E44,新規登録!$B:$L,6,0)),\"未登録\",VLOOKUP($E44,新規登録!$B:$L,6,0)),(VLOOKUP($E44,氏名ﾃﾞｰﾀ!$B:$L,6,0))))","v":""},{"$f":"IF($E44=\"\",\"\",IF(ISERROR(VLOOKUP($E44,氏名ﾃﾞｰﾀ!$B:$L,7,0)),IF(ISERROR(VLOOKUP($E44,新規登録!$B:$L,7,0)),\"未登録\",VLOOKUP($E44,新規登録!$B:$L,7,0)),(VLOOKUP($E44,氏名ﾃﾞｰﾀ!$B:$L,7,0))))","v":""},{"$f":"IF($E44=\"\",\"\",IF(ISERROR(VLOOKUP($E44,氏名ﾃﾞｰﾀ!$B:$L,10,0)),IF(ISERROR(VLOOKUP($E44,新規登録!$B:$L,8,0)),\"未登録\",VLOOKUP($E44,新規登録!$B:$L,8,0)),(VLOOKUP($E44,氏名ﾃﾞｰﾀ!$B:$L,10,0))))","v":""},{"$f":"IF($E44=\"\",\"\",IF(ISERROR(VLOOKUP($E44,氏名ﾃﾞｰﾀ!$B:$L,11,0)),IF(ISERROR(VLOOKUP($E44,新規登録!$B:$L,11,0)),\"未登録\",VLOOKUP($E44,新規登録!$B:$L,11,0)),$G$3))","v":""},{"$f":"IF($E44=\"\",\"\",IF(ISERROR(VLOOKUP($E44,氏名ﾃﾞｰﾀ!$B:$L,8,0)),IF(ISERROR(VLOOKUP($E44,新規登録!$B:$L,10,0)),\"ﾅｼ\",VLOOKUP($E44,新規登録!$B:$L,10,0)),(VLOOKUP($E44,氏名ﾃﾞｰﾀ!$B:$L,8,0))))","v":""},{"$f":"IF($E44=\"\",\"\",IF(ISERROR(VLOOKUP($E44,氏名ﾃﾞｰﾀ!$B:$M,12,0)),IF(ISERROR(VLOOKUP($E44,新規登録!$B:$L,9,0)),\"未登録\",VLOOKUP($E44,新規登録!$B:$L,9,0)),(VLOOKUP($E44,氏名ﾃﾞｰﾀ!$B:$M,12,0))))","v":""},null,null,null,null,null,null,null,null,null,null,null,null,null,null,null,null,null,null,null,null,null,null,null,null,"","",2,"1000","","","","","","1000","","","","","",1000,"","","","","",1000,"","","","",""]
["","",{"$f":"IF(E45=\"\",\"\",IF(AP45=1,COUNTIF(AP$16:AP45,1)*10+2001-10,COUNTIF(AP$16:AP45,2)*10+6001-10))","v":""},30,null,{"$f":"IF($E45=\"\",\"\",IF(ISERROR(VLOOKUP($E45,氏名ﾃﾞｰﾀ!$B:$L,2,0)),IF(ISERROR(VLOOKUP($E45,新規登録!$B:$L,2,0)),\"未登録\",VLOOKUP($E45,新規登録!$B:$L,2,0)),(VLOOKUP($E45,氏名ﾃﾞｰﾀ!$B:$L,2,0))))","v":""},{"$f":"IF($E45=\"\",\"\",IF(ISERROR(VLOOKUP($E45,氏名ﾃﾞｰﾀ!$B:$L,3,0)),IF(ISERROR(VLOOKUP($E45,新規登録!$B:$L,3,0)),\"未登録\",VLOOKUP($E45,新規登録!$B:$L,3,0)),(VLOOKUP($E45,氏名ﾃﾞｰﾀ!$B:$L,3,0))))","v":""},{"$f":"IF($E45=\"\",\"\",IF(ISERROR(VLOOKUP($E45,氏名ﾃﾞｰﾀ!$B:$L,4,0)),IF(ISERROR(VLOOKUP($E45,新規登録!$B:$L,4,0)),\"未登録\",VLOOKUP($E45,新規登録!$B:$L,4,0)),(VLOOKUP($E45,氏名ﾃﾞｰﾀ!$B:$L,4,0))))","v":""},{"$f":"IF($E45=\"\",\"\",IF(ISERROR(VLOOKUP($E45,氏名ﾃﾞｰﾀ!$B:$L,5,0)),IF(ISERROR(VLOOKUP($E45,新規登録!$B:$L,5,0)),\"未登録\",VLOOKUP($E45,新規登録!$B:$L,5,0)),(VLOOKUP($E45,氏名ﾃﾞｰﾀ!$B:$L,5,0))))","v":""},{"$f":"IF($E45=\"\",\"\",IF(ISERROR(VLOOKUP($E45,氏名ﾃﾞｰﾀ!$B:$L,6,0)),IF(ISERROR(VLOOKUP($E45,新規登録!$B:$L,6,0)),\"未登録\",VLOOKUP($E45,新規登録!$B:$L,6,0)),(VLOOKUP($E45,氏名ﾃﾞｰﾀ!$B:$L,6,0))))","v":""},{"$f":"IF($E45=\"\",\"\",IF(ISERROR(VLOOKUP($E45,氏名ﾃﾞｰﾀ!$B:$L,7,0)),IF(ISERROR(VLOOKUP($E45,新規登録!$B:$L,7,0)),\"未登録\",VLOOKUP($E45,新規登録!$B:$L,7,0)),(VLOOKUP($E45,氏名ﾃﾞｰﾀ!$B:$L,7,0))))","v":""},{"$f":"IF($E45=\"\",\"\",IF(ISERROR(VLOOKUP($E45,氏名ﾃﾞｰﾀ!$B:$L,10,0)),IF(ISERROR(VLOOKUP($E45,新規登録!$B:$L,8,0)),\"未登録\",VLOOKUP($E45,新規登録!$B:$L,8,0)),(VLOOKUP($E45,氏名ﾃﾞｰﾀ!$B:$L,10,0))))","v":""},{"$f":"IF($E45=\"\",\"\",IF(ISERROR(VLOOKUP($E45,氏名ﾃﾞｰﾀ!$B:$L,11,0)),IF(ISERROR(VLOOKUP($E45,新規登録!$B:$L,11,0)),\"未登録\",VLOOKUP($E45,新規登録!$B:$L,11,0)),$G$3))","v":""},{"$f":"IF($E45=\"\",\"\",IF(ISERROR(VLOOKUP($E45,氏名ﾃﾞｰﾀ!$B:$L,8,0)),IF(ISERROR(VLOOKUP($E45,新規登録!$B:$L,10,0)),\"ﾅｼ\",VLOOKUP($E45,新規登録!$B:$L,10,0)),(VLOOKUP($E45,氏名ﾃﾞｰﾀ!$B:$L,8,0))))","v":""},{"$f":"IF($E45=\"\",\"\",IF(ISERROR(VLOOKUP($E45,氏名ﾃﾞｰﾀ!$B:$M,12,0)),IF(ISERROR(VLOOKUP($E45,新規登録!$B:$L,9,0)),\"未登録\",VLOOKUP($E45,新規登録!$B:$L,9,0)),(VLOOKUP($E45,氏名ﾃﾞｰﾀ!$B:$M,12,0))))","v":""},null,null,null,null,null,null,null,null,null,null,null,null,null,null,null,null,null,null,null,null,null,null,null,null,"","",2,"1000","","","","","","1000","","","","","",1000,"","","","","",1000,"","","","",""]
["","",{"$f":"IF(E46=\"\",\"\",IF(AP46=1,COUNTIF(AP$16:AP46,1)*10+2001-10,COUNTIF(AP$16:AP46,2)*10+6001-10))","v":""},31,null,{"$f":"IF($E46=\"\",\"\",IF(ISERROR(VLOOKUP($E46,氏名ﾃﾞｰﾀ!$B:$L,2,0)),IF(ISERROR(VLOOKUP($E46,新規登録!$B:$L,2,0)),\"未登録\",VLOOKUP($E46,新規登録!$B:$L,2,0)),(VLOOKUP($E46,氏名ﾃﾞｰﾀ!$B:$L,2,0))))","v":""},{"$f":"IF($E46=\"\",\"\",IF(ISERROR(VLOOKUP($E46,氏名ﾃﾞｰﾀ!$B:$L,3,0)),IF(ISERROR(VLOOKUP($E46,新規登録!$B:$L,3,0)),\"未登録\",VLOOKUP($E46,新規登録!$B:$L,3,0)),(VLOOKUP($E46,氏名ﾃﾞｰﾀ!$B:$L,3,0))))","v":""},{"$f":"IF($E46=\"\",\"\",IF(ISERROR(VLOOKUP($E46,氏名ﾃﾞｰﾀ!$B:$L,4,0)),IF(ISERROR(VLOOKUP($E46,新規登録!$B:$L,4,0)),\"未登録\",VLOOKUP($E46,新規登録!$B:$L,4,0)),(VLOOKUP($E46,氏名ﾃﾞｰﾀ!$B:$L,4,0))))","v":""},{"$f":"IF($E46=\"\",\"\",IF(ISERROR(VLOOKUP($E46,氏名ﾃﾞｰﾀ!$B:$L,5,0)),IF(ISERROR(VLOOKUP($E46,新規登録!$B:$L,5,0)),\"未登録\",VLOOKUP($E46,新規登録!$B:$L,5,0)),(VLOOKUP($E46,氏名ﾃﾞｰﾀ!$B:$L,5,0))))","v":""},{"$f":"IF($E46=\"\",\"\",IF(ISERROR(VLOOKUP($E46,氏名ﾃﾞｰﾀ!$B:$L,6,0)),IF(ISERROR(VLOOKUP($E46,新規登録!$B:$L,6,0)),\"未登録\",VLOOKUP($E46,新規登録!$B:$L,6,0)),(VLOOKUP($E46,氏名ﾃﾞｰﾀ!$B:$L,6,0))))","v":""},{"$f":"IF($E46=\"\",\"\",IF(ISERROR(VLOOKUP($E46,氏名ﾃﾞｰﾀ!$B:$L,7,0)),IF(ISERROR(VLOOKUP($E46,新規登録!$B:$L,7,0)),\"未登録\",VLOOKUP($E46,新規登録!$B:$L,7,0)),(VLOOKUP($E46,氏名ﾃﾞｰﾀ!$B:$L,7,0))))","v":""},{"$f":"IF($E46=\"\",\"\",IF(ISERROR(VLOOKUP($E46,氏名ﾃﾞｰﾀ!$B:$L,10,0)),IF(ISERROR(VLOOKUP($E46,新規登録!$B:$L,8,0)),\"未登録\",VLOOKUP($E46,新規登録!$B:$L,8,0)),(VLOOKUP($E46,氏名ﾃﾞｰﾀ!$B:$L,10,0))))","v":""},{"$f":"IF($E46=\"\",\"\",IF(ISERROR(VLOOKUP($E46,氏名ﾃﾞｰﾀ!$B:$L,11,0)),IF(ISERROR(VLOOKUP($E46,新規登録!$B:$L,11,0)),\"未登録\",VLOOKUP($E46,新規登録!$B:$L,11,0)),$G$3))","v":""},{"$f":"IF($E46=\"\",\"\",IF(ISERROR(VLOOKUP($E46,氏名ﾃﾞｰﾀ!$B:$L,8,0)),IF(ISERROR(VLOOKUP($E46,新規登録!$B:$L,10,0)),\"ﾅｼ\",VLOOKUP($E46,新規登録!$B:$L,10,0)),(VLOOKUP($E46,氏名ﾃﾞｰﾀ!$B:$L,8,0))))","v":""},{"$f":"IF($E46=\"\",\"\",IF(ISERROR(VLOOKUP($E46,氏名ﾃﾞｰﾀ!$B:$M,12,0)),IF(ISERROR(VLOOKUP($E46,新規登録!$B:$L,9,0)),\"未登録\",VLOOKUP($E46,新規登録!$B:$L,9,0)),(VLOOKUP($E46,氏名ﾃﾞｰﾀ!$B:$M,12,0))))","v":""},null,null,null,null,null,null,null,null,null,null,null,null,null,null,null,null,null,null,null,null,null,null,null,null,"","",2,"1000","","","","","","1000","","","","","",1000,"","","","","",1000,"","","","",""]
["","",{"$f":"IF(E47=\"\",\"\",IF(AP47=1,COUNTIF(AP$16:AP47,1)*10+2001-10,COUNTIF(AP$16:AP47,2)*10+6001-10))","v":""},32,null,{"$f":"IF($E47=\"\",\"\",IF(ISERROR(VLOOKUP($E47,氏名ﾃﾞｰﾀ!$B:$L,2,0)),IF(ISERROR(VLOOKUP($E47,新規登録!$B:$L,2,0)),\"未登録\",VLOOKUP($E47,新規登録!$B:$L,2,0)),(VLOOKUP($E47,氏名ﾃﾞｰﾀ!$B:$L,2,0))))","v":""},{"$f":"IF($E47=\"\",\"\",IF(ISERROR(VLOOKUP($E47,氏名ﾃﾞｰﾀ!$B:$L,3,0)),IF(ISERROR(VLOOKUP($E47,新規登録!$B:$L,3,0)),\"未登録\",VLOOKUP($E47,新規登録!$B:$L,3,0)),(VLOOKUP($E47,氏名ﾃﾞｰﾀ!$B:$L,3,0))))","v":""},{"$f":"IF($E47=\"\",\"\",IF(ISERROR(VLOOKUP($E47,氏名ﾃﾞｰﾀ!$B:$L,4,0)),IF(ISERROR(VLOOKUP($E47,新規登録!$B:$L,4,0)),\"未登録\",VLOOKUP($E47,新規登録!$B:$L,4,0)),(VLOOKUP($E47,氏名ﾃﾞｰﾀ!$B:$L,4,0))))","v":""},{"$f":"IF($E47=\"\",\"\",IF(ISERROR(VLOOKUP($E47,氏名ﾃﾞｰﾀ!$B:$L,5,0)),IF(ISERROR(VLOOKUP($E47,新規登録!$B:$L,5,0)),\"未登録\",VLOOKUP($E47,新規登録!$B:$L,5,0)),(VLOOKUP($E47,氏名ﾃﾞｰﾀ!$B:$L,5,0))))","v":""},{"$f":"IF($E47=\"\",\"\",IF(ISERROR(VLOOKUP($E47,氏名ﾃﾞｰﾀ!$B:$L,6,0)),IF(ISERROR(VLOOKUP($E47,新規登録!$B:$L,6,0)),\"未登録\",VLOOKUP($E47,新規登録!$B:$L,6,0)),(VLOOKUP($E47,氏名ﾃﾞｰﾀ!$B:$L,6,0))))","v":""},{"$f":"IF($E47=\"\",\"\",IF(ISERROR(VLOOKUP($E47,氏名ﾃﾞｰﾀ!$B:$L,7,0)),IF(ISERROR(VLOOKUP($E47,新規登録!$B:$L,7,0)),\"未登録\",VLOOKUP($E47,新規登録!$B:$L,7,0)),(VLOOKUP($E47,氏名ﾃﾞｰﾀ!$B:$L,7,0))))","v":""},{"$f":"IF($E47=\"\",\"\",IF(ISERROR(VLOOKUP($E47,氏名ﾃﾞｰﾀ!$B:$L,10,0)),IF(ISERROR(VLOOKUP($E47,新規登録!$B:$L,8,0)),\"未登録\",VLOOKUP($E47,新規登録!$B:$L,8,0)),(VLOOKUP($E47,氏名ﾃﾞｰﾀ!$B:$L,10,0))))","v":""},{"$f":"IF($E47=\"\",\"\",IF(ISERROR(VLOOKUP($E47,氏名ﾃﾞｰﾀ!$B:$L,11,0)),IF(ISERROR(VLOOKUP($E47,新規登録!$B:$L,11,0)),\"未登録\",VLOOKUP($E47,新規登録!$B:$L,11,0)),$G$3))","v":""},{"$f":"IF($E47=\"\",\"\",IF(ISERROR(VLOOKUP($E47,氏名ﾃﾞｰﾀ!$B:$L,8,0)),IF(ISERROR(VLOOKUP($E47,新規登録!$B:$L,10,0)),\"ﾅｼ\",VLOOKUP($E47,新規登録!$B:$L,10,0)),(VLOOKUP($E47,氏名ﾃﾞｰﾀ!$B:$L,8,0))))","v":""},{"$f":"IF($E47=\"\",\"\",IF(ISERROR(VLOOKUP($E47,氏名ﾃﾞｰﾀ!$B:$M,12,0)),IF(ISERROR(VLOOKUP($E47,新規登録!$B:$L,9,0)),\"未登録\",VLOOKUP($E47,新規登録!$B:$L,9,0)),(VLOOKUP($E47,氏名ﾃﾞｰﾀ!$B:$M,12,0))))","v":""},null,null,null,null,null,null,null,null,null,null,null,null,null,null,null,null,null,null,null,null,null,null,null,null,"","",2,"1000","","","","","","1000","","","","","",1000,"","","","","",1000,"","","","",""]
[{"$f":"IF(AB48=\"\",\"\",IF(N48=\"男\",VLOOKUP(AB48,ﾘﾚｰｺｰﾄﾞ,2,0),VLOOKUP(AB48,ﾘﾚｰｺｰﾄﾞ女,2,0)))","v":""},{"$f":"IF(AF48=\"\",\"\",IF(N48=\"男\",VLOOKUP(AF48,ﾘﾚｰｺｰﾄﾞ,3,0),VLOOKUP(AF48,ﾘﾚｰｺｰﾄﾞ女,3,0)))","v":""},{"$f":"IF(E48=\"\",\"\",IF(AP48=1,COUNTIF(AP$16:AP48,1)*10+2001-10,COUNTIF(AP$16:AP48,2)*10+6001-10))","v":""},33,null,{"$f":"IF($E48=\"\",\"\",IF(ISERROR(VLOOKUP($E48,氏名ﾃﾞｰﾀ!$B:$L,2,0)),IF(ISERROR(VLOOKUP($E48,新規登録!$B:$L,2,0)),\"未登録\",VLOOKUP($E48,新規登録!$B:$L,2,0)),(VLOOKUP($E48,氏名ﾃﾞｰﾀ!$B:$L,2,0))))","v":""},{"$f":"IF($E48=\"\",\"\",IF(ISERROR(VLOOKUP($E48,氏名ﾃﾞｰﾀ!$B:$L,3,0)),IF(ISERROR(VLOOKUP($E48,新規登録!$B:$L,3,0)),\"未登録\",VLOOKUP($E48,新規登録!$B:$L,3,0)),(VLOOKUP($E48,氏名ﾃﾞｰﾀ!$B:$L,3,0))))","v":""},{"$f":"IF($E48=\"\",\"\",IF(ISERROR(VLOOKUP($E48,氏名ﾃﾞｰﾀ!$B:$L,4,0)),IF(ISERROR(VLOOKUP($E48,新規登録!$B:$L,4,0)),\"未登録\",VLOOKUP($E48,新規登録!$B:$L,4,0)),(VLOOKUP($E48,氏名ﾃﾞｰﾀ!$B:$L,4,0))))","v":""},{"$f":"IF($E48=\"\",\"\",IF(ISERROR(VLOOKUP($E48,氏名ﾃﾞｰﾀ!$B:$L,5,0)),IF(ISERROR(VLOOKUP($E48,新規登録!$B:$L,5,0)),\"未登録\",VLOOKUP($E48,新規登録!$B:$L,5,0)),(VLOOKUP($E48,氏名ﾃﾞｰﾀ!$B:$L,5,0))))","v":""},{"$f":"IF($E48=\"\",\"\",IF(ISERROR(VLOOKUP($E48,氏名ﾃﾞｰﾀ!$B:$L,6,0)),IF(ISERROR(VLOOKUP($E48,新規登録!$B:$L,6,0)),\"未登録\",VLOOKUP($E48,新規登録!$B:$L,6,0)),(VLOOKUP($E48,氏名ﾃﾞｰﾀ!$B:$L,6,0))))","v":""},{"$f":"IF($E48=\"\",\"\",IF(ISERROR(VLOOKUP($E48,氏名ﾃﾞｰﾀ!$B:$L,7,0)),IF(ISERROR(VLOOKUP($E48,新規登録!$B:$L,7,0)),\"未登録\",VLOOKUP($E48,新規登録!$B:$L,7,0)),(VLOOKUP($E48,氏名ﾃﾞｰﾀ!$B:$L,7,0))))","v":""},{"$f":"IF($E48=\"\",\"\",IF(ISERROR(VLOOKUP($E48,氏名ﾃﾞｰﾀ!$B:$L,10,0)),IF(ISERROR(VLOOKUP($E48,新規登録!$B:$L,8,0)),\"未登録\",VLOOKUP($E48,新規登録!$B:$L,8,0)),(VLOOKUP($E48,氏名ﾃﾞｰﾀ!$B:$L,10,0))))","v":""},{"$f":"IF($E48=\"\",\"\",IF(ISERROR(VLOOKUP($E48,氏名ﾃﾞｰﾀ!$B:$L,11,0)),IF(ISERROR(VLOOKUP($E48,新規登録!$B:$L,11,0)),\"未登録\",VLOOKUP($E48,新規登録!$B:$L,11,0)),$G$3))","v":""},{"$f":"IF($E48=\"\",\"\",IF(ISERROR(VLOOKUP($E48,氏名ﾃﾞｰﾀ!$B:$L,8,0)),IF(ISERROR(VLOOKUP($E48,新規登録!$B:$L,10,0)),\"ﾅｼ\",VLOOKUP($E48,新規登録!$B:$L,10,0)),(VLOOKUP($E48,氏名ﾃﾞｰﾀ!$B:$L,8,0))))","v":""},{"$f":"IF($E48=\"\",\"\",IF(ISERROR(VLOOKUP($E48,氏名ﾃﾞｰﾀ!$B:$M,12,0)),IF(ISERROR(VLOOKUP($E48,新規登録!$B:$L,9,0)),\"未登録\",VLOOKUP($E48,新規登録!$B:$L,9,0)),(VLOOKUP($E48,氏名ﾃﾞｰﾀ!$B:$M,12,0))))","v":""},null,null,null,null,null,null,null,null,null,null,null,null,null,null,null,null,null,null,null,null,null,null,null,null,{"$f":"IF(AB48=\"\",\"\",CONCATENATE(IF(AC48=\"\",\"0\",AC48),IF(AD48=\"\",\"00\",CHOOSE(LEN(AD48),CONCATENATE(\"0\",AD48),AD48)),IF(AE48=\"\",\"00\",CHOOSE(LEN(AE48),CONCATENATE(\"0\",AE48),AE48))))","v":""},{"$f":"IF(AF48=\"\",\"\",CONCATENATE(IF(AG48=\"\",\"0\",AG48),IF(AH48=\"\",\"00\",CHOOSE(LEN(AH48),CONCATENATE(\"0\",AH48),AH48)),IF(AI48=\"\",\"00\",CHOOSE(LEN(AI48),CONCATENATE(\"0\",AI48),AI48))))","v":""},2,{"$f":"IF(AP48=1,IF(A48=\"\",1000,A48),\"1000\")","v":"1000"},"","",{"$f":"IF(AP48=1,IF(A48=\"\",\"\",E48),\"\")","v":""},{"$f":"IF(AP48=1,IF(A48=\"\",\"\",RIGHT(AB48,2)),\"\")","v":""},{"$f":"IF(AP48=1,IF(A48=\"\",\"\",AN48),\"\")","v":""},{"$f":"IF(AP48=1,IF(B48=\"\",1000,B48),\"1000\")","v":"1000"},"","",{"$f":"IF(AP48=1,IF(B48=\"\",\"\",E48),\"\")","v":""},{"$f":"IF(AP48=1,IF(B48=\"\",\"\",RIGHT(AF48,2)),\"\")","v":""},{"$f":"IF(AP48=1,IF(B48=\"\",\"\",AO48),\"\")","v":""},{"$f":"IF(AP48=2,IF(A48=\"\",1000,A48),\"1000\")","v":1000},"","",{"$f":"IF(AP48=2,IF(A48=\"\",\"\",E48),\"\")","v":""},{"$f":"IF(AP48=2,IF(A48=\"\",\"\",RIGHT(AB48,2)),\"\")","v":""},{"$f":"IF(AP48=2,IF(A48=\"\",\"\",AN48),\"\")","v":""},{"$f":"IF(AP48=2,IF(B48=\"\",1000,B48),\"1000\")","v":1000},"","",{"$f":"IF(AP48=2,IF(B48=\"\",\"\",E48),\"\")","v":""},{"$f":"IF(AP48=2,IF(B48=\"\",\"\",RIGHT(AF48,2)),\"\")","v":""},{"$f":"IF(AP48=2,IF(B48=\"\",\"\",AO48),\"\")","v":""}]
["","",{"$f":"IF(E49=\"\",\"\",IF(AP49=1,COUNTIF(AP$16:AP49,1)*10+2001-10,COUNTIF(AP$16:AP49,2)*10+6001-10))","v":""},34,null,{"$f":"IF($E49=\"\",\"\",IF(ISERROR(VLOOKUP($E49,氏名ﾃﾞｰﾀ!$B:$L,2,0)),IF(ISERROR(VLOOKUP($E49,新規登録!$B:$L,2,0)),\"未登録\",VLOOKUP($E49,新規登録!$B:$L,2,0)),(VLOOKUP($E49,氏名ﾃﾞｰﾀ!$B:$L,2,0))))","v":""},{"$f":"IF($E49=\"\",\"\",IF(ISERROR(VLOOKUP($E49,氏名ﾃﾞｰﾀ!$B:$L,3,0)),IF(ISERROR(VLOOKUP($E49,新規登録!$B:$L,3,0)),\"未登録\",VLOOKUP($E49,新規登録!$B:$L,3,0)),(VLOOKUP($E49,氏名ﾃﾞｰﾀ!$B:$L,3,0))))","v":""},{"$f":"IF($E49=\"\",\"\",IF(ISERROR(VLOOKUP($E49,氏名ﾃﾞｰﾀ!$B:$L,4,0)),IF(ISERROR(VLOOKUP($E49,新規登録!$B:$L,4,0)),\"未登録\",VLOOKUP($E49,新規登録!$B:$L,4,0)),(VLOOKUP($E49,氏名ﾃﾞｰﾀ!$B:$L,4,0))))","v":""},{"$f":"IF($E49=\"\",\"\",IF(ISERROR(VLOOKUP($E49,氏名ﾃﾞｰﾀ!$B:$L,5,0)),IF(ISERROR(VLOOKUP($E49,新規登録!$B:$L,5,0)),\"未登録\",VLOOKUP($E49,新規登録!$B:$L,5,0)),(VLOOKUP($E49,氏名ﾃﾞｰﾀ!$B:$L,5,0))))","v":""},{"$f":"IF($E49=\"\",\"\",IF(ISERROR(VLOOKUP($E49,氏名ﾃﾞｰﾀ!$B:$L,6,0)),IF(ISERROR(VLOOKUP($E49,新規登録!$B:$L,6,0)),\"未登録\",VLOOKUP($E49,新規登録!$B:$L,6,0)),(VLOOKUP($E49,氏名ﾃﾞｰﾀ!$B:$L,6,0))))","v":""},{"$f":"IF($E49=\"\",\"\",IF(ISERROR(VLOOKUP($E49,氏名ﾃﾞｰﾀ!$B:$L,7,0)),IF(ISERROR(VLOOKUP($E49,新規登録!$B:$L,7,0)),\"未登録\",VLOOKUP($E49,新規登録!$B:$L,7,0)),(VLOOKUP($E49,氏名ﾃﾞｰﾀ!$B:$L,7,0))))","v":""},{"$f":"IF($E49=\"\",\"\",IF(ISERROR(VLOOKUP($E49,氏名ﾃﾞｰﾀ!$B:$L,10,0)),IF(ISERROR(VLOOKUP($E49,新規登録!$B:$L,8,0)),\"未登録\",VLOOKUP($E49,新規登録!$B:$L,8,0)),(VLOOKUP($E49,氏名ﾃﾞｰﾀ!$B:$L,10,0))))","v":""},{"$f":"IF($E49=\"\",\"\",IF(ISERROR(VLOOKUP($E49,氏名ﾃﾞｰﾀ!$B:$L,11,0)),IF(ISERROR(VLOOKUP($E49,新規登録!$B:$L,11,0)),\"未登録\",VLOOKUP($E49,新規登録!$B:$L,11,0)),$G$3))","v":""},{"$f":"IF($E49=\"\",\"\",IF(ISERROR(VLOOKUP($E49,氏名ﾃﾞｰﾀ!$B:$L,8,0)),IF(ISERROR(VLOOKUP($E49,新規登録!$B:$L,10,0)),\"ﾅｼ\",VLOOKUP($E49,新規登録!$B:$L,10,0)),(VLOOKUP($E49,氏名ﾃﾞｰﾀ!$B:$L,8,0))))","v":""},{"$f":"IF($E49=\"\",\"\",IF(ISERROR(VLOOKUP($E49,氏名ﾃﾞｰﾀ!$B:$M,12,0)),IF(ISERROR(VLOOKUP($E49,新規登録!$B:$L,9,0)),\"未登録\",VLOOKUP($E49,新規登録!$B:$L,9,0)),(VLOOKUP($E49,氏名ﾃﾞｰﾀ!$B:$M,12,0))))","v":""},null,null,null,null,null,null,null,null,null,null,null,null,null,null,null,null,null,null,null,null,null,null,null,null,"","",2,"1000","","","","","","1000","","","","","",1000,"","","","","",1000,"","","","",""]
["","",{"$f":"IF(E50=\"\",\"\",IF(AP50=1,COUNTIF(AP$16:AP50,1)*10+2001-10,COUNTIF(AP$16:AP50,2)*10+6001-10))","v":""},35,null,{"$f":"IF($E50=\"\",\"\",IF(ISERROR(VLOOKUP($E50,氏名ﾃﾞｰﾀ!$B:$L,2,0)),IF(ISERROR(VLOOKUP($E50,新規登録!$B:$L,2,0)),\"未登録\",VLOOKUP($E50,新規登録!$B:$L,2,0)),(VLOOKUP($E50,氏名ﾃﾞｰﾀ!$B:$L,2,0))))","v":""},{"$f":"IF($E50=\"\",\"\",IF(ISERROR(VLOOKUP($E50,氏名ﾃﾞｰﾀ!$B:$L,3,0)),IF(ISERROR(VLOOKUP($E50,新規登録!$B:$L,3,0)),\"未登録\",VLOOKUP($E50,新規登録!$B:$L,3,0)),(VLOOKUP($E50,氏名ﾃﾞｰﾀ!$B:$L,3,0))))","v":""},{"$f":"IF($E50=\"\",\"\",IF(ISERROR(VLOOKUP($E50,氏名ﾃﾞｰﾀ!$B:$L,4,0)),IF(ISERROR(VLOOKUP($E50,新規登録!$B:$L,4,0)),\"未登録\",VLOOKUP($E50,新規登録!$B:$L,4,0)),(VLOOKUP($E50,氏名ﾃﾞｰﾀ!$B:$L,4,0))))","v":""},{"$f":"IF($E50=\"\",\"\",IF(ISERROR(VLOOKUP($E50,氏名ﾃﾞｰﾀ!$B:$L,5,0)),IF(ISERROR(VLOOKUP($E50,新規登録!$B:$L,5,0)),\"未登録\",VLOOKUP($E50,新規登録!$B:$L,5,0)),(VLOOKUP($E50,氏名ﾃﾞｰﾀ!$B:$L,5,0))))","v":""},{"$f":"IF($E50=\"\",\"\",IF(ISERROR(VLOOKUP($E50,氏名ﾃﾞｰﾀ!$B:$L,6,0)),IF(ISERROR(VLOOKUP($E50,新規登録!$B:$L,6,0)),\"未登録\",VLOOKUP($E50,新規登録!$B:$L,6,0)),(VLOOKUP($E50,氏名ﾃﾞｰﾀ!$B:$L,6,0))))","v":""},{"$f":"IF($E50=\"\",\"\",IF(ISERROR(VLOOKUP($E50,氏名ﾃﾞｰﾀ!$B:$L,7,0)),IF(ISERROR(VLOOKUP($E50,新規登録!$B:$L,7,0)),\"未登録\",VLOOKUP($E50,新規登録!$B:$L,7,0)),(VLOOKUP($E50,氏名ﾃﾞｰﾀ!$B:$L,7,0))))","v":""},{"$f":"IF($E50=\"\",\"\",IF(ISERROR(VLOOKUP($E50,氏名ﾃﾞｰﾀ!$B:$L,10,0)),IF(ISERROR(VLOOKUP($E50,新規登録!$B:$L,8,0)),\"未登録\",VLOOKUP($E50,新規登録!$B:$L,8,0)),(VLOOKUP($E50,氏名ﾃﾞｰﾀ!$B:$L,10,0))))","v":""},{"$f":"IF($E50=\"\",\"\",IF(ISERROR(VLOOKUP($E50,氏名ﾃﾞｰﾀ!$B:$L,11,0)),IF(ISERROR(VLOOKUP($E50,新規登録!$B:$L,11,0)),\"未登録\",VLOOKUP($E50,新規登録!$B:$L,11,0)),$G$3))","v":""},{"$f":"IF($E50=\"\",\"\",IF(ISERROR(VLOOKUP($E50,氏名ﾃﾞｰﾀ!$B:$L,8,0)),IF(ISERROR(VLOOKUP($E50,新規登録!$B:$L,10,0)),\"ﾅｼ\",VLOOKUP($E50,新規登録!$B:$L,10,0)),(VLOOKUP($E50,氏名ﾃﾞｰﾀ!$B:$L,8,0))))","v":""},{"$f":"IF($E50=\"\",\"\",IF(ISERROR(VLOOKUP($E50,氏名ﾃﾞｰﾀ!$B:$M,12,0)),IF(ISERROR(VLOOKUP($E50,新規登録!$B:$L,9,0)),\"未登録\",VLOOKUP($E50,新規登録!$B:$L,9,0)),(VLOOKUP($E50,氏名ﾃﾞｰﾀ!$B:$M,12,0))))","v":""},null,null,null,null,null,null,null,null,null,null,null,null,null,null,null,null,null,null,null,null,null,null,null,null,"","",2,"1000","","","","","","1000","","","","","",1000,"","","","","",1000,"","","","",""]
["","",{"$f":"IF(E51=\"\",\"\",IF(AP51=1,COUNTIF(AP$16:AP51,1)*10+2001-10,COUNTIF(AP$16:AP51,2)*10+6001-10))","v":""},36,null,{"$f":"IF($E51=\"\",\"\",IF(ISERROR(VLOOKUP($E51,氏名ﾃﾞｰﾀ!$B:$L,2,0)),IF(ISERROR(VLOOKUP($E51,新規登録!$B:$L,2,0)),\"未登録\",VLOOKUP($E51,新規登録!$B:$L,2,0)),(VLOOKUP($E51,氏名ﾃﾞｰﾀ!$B:$L,2,0))))","v":""},{"$f":"IF($E51=\"\",\"\",IF(ISERROR(VLOOKUP($E51,氏名ﾃﾞｰﾀ!$B:$L,3,0)),IF(ISERROR(VLOOKUP($E51,新規登録!$B:$L,3,0)),\"未登録\",VLOOKUP($E51,新規登録!$B:$L,3,0)),(VLOOKUP($E51,氏名ﾃﾞｰﾀ!$B:$L,3,0))))","v":""},{"$f":"IF($E51=\"\",\"\",IF(ISERROR(VLOOKUP($E51,氏名ﾃﾞｰﾀ!$B:$L,4,0)),IF(ISERROR(VLOOKUP($E51,新規登録!$B:$L,4,0)),\"未登録\",VLOOKUP($E51,新規登録!$B:$L,4,0)),(VLOOKUP($E51,氏名ﾃﾞｰﾀ!$B:$L,4,0))))","v":""},{"$f":"IF($E51=\"\",\"\",IF(ISERROR(VLOOKUP($E51,氏名ﾃﾞｰﾀ!$B:$L,5,0)),IF(ISERROR(VLOOKUP($E51,新規登録!$B:$L,5,0)),\"未登録\",VLOOKUP($E51,新規登録!$B:$L,5,0)),(VLOOKUP($E51,氏名ﾃﾞｰﾀ!$B:$L,5,0))))","v":""},{"$f":"IF($E51=\"\",\"\",IF(ISERROR(VLOOKUP($E51,氏名ﾃﾞｰﾀ!$B:$L,6,0)),IF(ISERROR(VLOOKUP($E51,新規登録!$B:$L,6,0)),\"未登録\",VLOOKUP($E51,新規登録!$B:$L,6,0)),(VLOOKUP($E51,氏名ﾃﾞｰﾀ!$B:$L,6,0))))","v":""},{"$f":"IF($E51=\"\",\"\",IF(ISERROR(VLOOKUP($E51,氏名ﾃﾞｰﾀ!$B:$L,7,0)),IF(ISERROR(VLOOKUP($E51,新規登録!$B:$L,7,0)),\"未登録\",VLOOKUP($E51,新規登録!$B:$L,7,0)),(VLOOKUP($E51,氏名ﾃﾞｰﾀ!$B:$L,7,0))))","v":""},{"$f":"IF($E51=\"\",\"\",IF(ISERROR(VLOOKUP($E51,氏名ﾃﾞｰﾀ!$B:$L,10,0)),IF(ISERROR(VLOOKUP($E51,新規登録!$B:$L,8,0)),\"未登録\",VLOOKUP($E51,新規登録!$B:$L,8,0)),(VLOOKUP($E51,氏名ﾃﾞｰﾀ!$B:$L,10,0))))","v":""},{"$f":"IF($E51=\"\",\"\",IF(ISERROR(VLOOKUP($E51,氏名ﾃﾞｰﾀ!$B:$L,11,0)),IF(ISERROR(VLOOKUP($E51,新規登録!$B:$L,11,0)),\"未登録\",VLOOKUP($E51,新規登録!$B:$L,11,0)),$G$3))","v":""},{"$f":"IF($E51=\"\",\"\",IF(ISERROR(VLOOKUP($E51,氏名ﾃﾞｰﾀ!$B:$L,8,0)),IF(ISERROR(VLOOKUP($E51,新規登録!$B:$L,10,0)),\"ﾅｼ\",VLOOKUP($E51,新規登録!$B:$L,10,0)),(VLOOKUP($E51,氏名ﾃﾞｰﾀ!$B:$L,8,0))))","v":""},{"$f":"IF($E51=\"\",\"\",IF(ISERROR(VLOOKUP($E51,氏名ﾃﾞｰﾀ!$B:$M,12,0)),IF(ISERROR(VLOOKUP($E51,新規登録!$B:$L,9,0)),\"未登録\",VLOOKUP($E51,新規登録!$B:$L,9,0)),(VLOOKUP($E51,氏名ﾃﾞｰﾀ!$B:$M,12,0))))","v":""},null,null,null,null,null,null,null,null,null,null,null,null,null,null,null,null,null,null,null,null,null,null,null,null,"","",2,"1000","","","","","","1000","","","","","",1000,"","","","","",1000,"","","","",""]
["","",{"$f":"IF(E52=\"\",\"\",IF(AP52=1,COUNTIF(AP$16:AP52,1)*10+2001-10,COUNTIF(AP$16:AP52,2)*10+6001-10))","v":""},37,null,{"$f":"IF($E52=\"\",\"\",IF(ISERROR(VLOOKUP($E52,氏名ﾃﾞｰﾀ!$B:$L,2,0)),IF(ISERROR(VLOOKUP($E52,新規登録!$B:$L,2,0)),\"未登録\",VLOOKUP($E52,新規登録!$B:$L,2,0)),(VLOOKUP($E52,氏名ﾃﾞｰﾀ!$B:$L,2,0))))","v":""},{"$f":"IF($E52=\"\",\"\",IF(ISERROR(VLOOKUP($E52,氏名ﾃﾞｰﾀ!$B:$L,3,0)),IF(ISERROR(VLOOKUP($E52,新規登録!$B:$L,3,0)),\"未登録\",VLOOKUP($E52,新規登録!$B:$L,3,0)),(VLOOKUP($E52,氏名ﾃﾞｰﾀ!$B:$L,3,0))))","v":""},{"$f":"IF($E52=\"\",\"\",IF(ISERROR(VLOOKUP($E52,氏名ﾃﾞｰﾀ!$B:$L,4,0)),IF(ISERROR(VLOOKUP($E52,新規登録!$B:$L,4,0)),\"未登録\",VLOOKUP($E52,新規登録!$B:$L,4,0)),(VLOOKUP($E52,氏名ﾃﾞｰﾀ!$B:$L,4,0))))","v":""},{"$f":"IF($E52=\"\",\"\",IF(ISERROR(VLOOKUP($E52,氏名ﾃﾞｰﾀ!$B:$L,5,0)),IF(ISERROR(VLOOKUP($E52,新規登録!$B:$L,5,0)),\"未登録\",VLOOKUP($E52,新規登録!$B:$L,5,0)),(VLOOKUP($E52,氏名ﾃﾞｰﾀ!$B:$L,5,0))))","v":""},{"$f":"IF($E52=\"\",\"\",IF(ISERROR(VLOOKUP($E52,氏名ﾃﾞｰﾀ!$B:$L,6,0)),IF(ISERROR(VLOOKUP($E52,新規登録!$B:$L,6,0)),\"未登録\",VLOOKUP($E52,新規登録!$B:$L,6,0)),(VLOOKUP($E52,氏名ﾃﾞｰﾀ!$B:$L,6,0))))","v":""},{"$f":"IF($E52=\"\",\"\",IF(ISERROR(VLOOKUP($E52,氏名ﾃﾞｰﾀ!$B:$L,7,0)),IF(ISERROR(VLOOKUP($E52,新規登録!$B:$L,7,0)),\"未登録\",VLOOKUP($E52,新規登録!$B:$L,7,0)),(VLOOKUP($E52,氏名ﾃﾞｰﾀ!$B:$L,7,0))))","v":""},{"$f":"IF($E52=\"\",\"\",IF(ISERROR(VLOOKUP($E52,氏名ﾃﾞｰﾀ!$B:$L,10,0)),IF(ISERROR(VLOOKUP($E52,新規登録!$B:$L,8,0)),\"未登録\",VLOOKUP($E52,新規登録!$B:$L,8,0)),(VLOOKUP($E52,氏名ﾃﾞｰﾀ!$B:$L,10,0))))","v":""},{"$f":"IF($E52=\"\",\"\",IF(ISERROR(VLOOKUP($E52,氏名ﾃﾞｰﾀ!$B:$L,11,0)),IF(ISERROR(VLOOKUP($E52,新規登録!$B:$L,11,0)),\"未登録\",VLOOKUP($E52,新規登録!$B:$L,11,0)),$G$3))","v":""},{"$f":"IF($E52=\"\",\"\",IF(ISERROR(VLOOKUP($E52,氏名ﾃﾞｰﾀ!$B:$L,8,0)),IF(ISERROR(VLOOKUP($E52,新規登録!$B:$L,10,0)),\"ﾅｼ\",VLOOKUP($E52,新規登録!$B:$L,10,0)),(VLOOKUP($E52,氏名ﾃﾞｰﾀ!$B:$L,8,0))))","v":""},{"$f":"IF($E52=\"\",\"\",IF(ISERROR(VLOOKUP($E52,氏名ﾃﾞｰﾀ!$B:$M,12,0)),IF(ISERROR(VLOOKUP($E52,新規登録!$B:$L,9,0)),\"未登録\",VLOOKUP($E52,新規登録!$B:$L,9,0)),(VLOOKUP($E52,氏名ﾃﾞｰﾀ!$B:$M,12,0))))","v":""},null,null,null,null,null,null,null,null,null,null,null,null,null,null,null,null,null,null,null,null,null,null,null,null,"","",2,"1000","","","","","","1000","","","","","",1000,"","","","","",1000,"","","","",""]
["","",{"$f":"IF(E53=\"\",\"\",IF(AP53=1,COUNTIF(AP$16:AP53,1)*10+2001-10,COUNTIF(AP$16:AP53,2)*10+6001-10))","v":""},38,null,{"$f":"IF($E53=\"\",\"\",IF(ISERROR(VLOOKUP($E53,氏名ﾃﾞｰﾀ!$B:$L,2,0)),IF(ISERROR(VLOOKUP($E53,新規登録!$B:$L,2,0)),\"未登録\",VLOOKUP($E53,新規登録!$B:$L,2,0)),(VLOOKUP($E53,氏名ﾃﾞｰﾀ!$B:$L,2,0))))","v":""},{"$f":"IF($E53=\"\",\"\",IF(ISERROR(VLOOKUP($E53,氏名ﾃﾞｰﾀ!$B:$L,3,0)),IF(ISERROR(VLOOKUP($E53,新規登録!$B:$L,3,0)),\"未登録\",VLOOKUP($E53,新規登録!$B:$L,3,0)),(VLOOKUP($E53,氏名ﾃﾞｰﾀ!$B:$L,3,0))))","v":""},{"$f":"IF($E53=\"\",\"\",IF(ISERROR(VLOOKUP($E53,氏名ﾃﾞｰﾀ!$B:$L,4,0)),IF(ISERROR(VLOOKUP($E53,新規登録!$B:$L,4,0)),\"未登録\",VLOOKUP($E53,新規登録!$B:$L,4,0)),(VLOOKUP($E53,氏名ﾃﾞｰﾀ!$B:$L,4,0))))","v":""},{"$f":"IF($E53=\"\",\"\",IF(ISERROR(VLOOKUP($E53,氏名ﾃﾞｰﾀ!$B:$L,5,0)),IF(ISERROR(VLOOKUP($E53,新規登録!$B:$L,5,0)),\"未登録\",VLOOKUP($E53,新規登録!$B:$L,5,0)),(VLOOKUP($E53,氏名ﾃﾞｰﾀ!$B:$L,5,0))))","v":""},{"$f":"IF($E53=\"\",\"\",IF(ISERROR(VLOOKUP($E53,氏名ﾃﾞｰﾀ!$B:$L,6,0)),IF(ISERROR(VLOOKUP($E53,新規登録!$B:$L,6,0)),\"未登録\",VLOOKUP($E53,新規登録!$B:$L,6,0)),(VLOOKUP($E53,氏名ﾃﾞｰﾀ!$B:$L,6,0))))","v":""},{"$f":"IF($E53=\"\",\"\",IF(ISERROR(VLOOKUP($E53,氏名ﾃﾞｰﾀ!$B:$L,7,0)),IF(ISERROR(VLOOKUP($E53,新規登録!$B:$L,7,0)),\"未登録\",VLOOKUP($E53,新規登録!$B:$L,7,0)),(VLOOKUP($E53,氏名ﾃﾞｰﾀ!$B:$L,7,0))))","v":""},{"$f":"IF($E53=\"\",\"\",IF(ISERROR(VLOOKUP($E53,氏名ﾃﾞｰﾀ!$B:$L,10,0)),IF(ISERROR(VLOOKUP($E53,新規登録!$B:$L,8,0)),\"未登録\",VLOOKUP($E53,新規登録!$B:$L,8,0)),(VLOOKUP($E53,氏名ﾃﾞｰﾀ!$B:$L,10,0))))","v":""},{"$f":"IF($E53=\"\",\"\",IF(ISERROR(VLOOKUP($E53,氏名ﾃﾞｰﾀ!$B:$L,11,0)),IF(ISERROR(VLOOKUP($E53,新規登録!$B:$L,11,0)),\"未登録\",VLOOKUP($E53,新規登録!$B:$L,11,0)),$G$3))","v":""},{"$f":"IF($E53=\"\",\"\",IF(ISERROR(VLOOKUP($E53,氏名ﾃﾞｰﾀ!$B:$L,8,0)),IF(ISERROR(VLOOKUP($E53,新規登録!$B:$L,10,0)),\"ﾅｼ\",VLOOKUP($E53,新規登録!$B:$L,10,0)),(VLOOKUP($E53,氏名ﾃﾞｰﾀ!$B:$L,8,0))))","v":""},{"$f":"IF($E53=\"\",\"\",IF(ISERROR(VLOOKUP($E53,氏名ﾃﾞｰﾀ!$B:$M,12,0)),IF(ISERROR(VLOOKUP($E53,新規登録!$B:$L,9,0)),\"未登録\",VLOOKUP($E53,新規登録!$B:$L,9,0)),(VLOOKUP($E53,氏名ﾃﾞｰﾀ!$B:$M,12,0))))","v":""},null,null,null,null,null,null,null,null,null,null,null,null,null,null,null,null,null,null,null,null,null,null,null,null,"","",2,"1000","","","","","","1000","","","","","",1000,"","","","","",1000,"","","","",""]
["","",{"$f":"IF(E54=\"\",\"\",IF(AP54=1,COUNTIF(AP$16:AP54,1)*10+2001-10,COUNTIF(AP$16:AP54,2)*10+6001-10))","v":""},39,null,{"$f":"IF($E54=\"\",\"\",IF(ISERROR(VLOOKUP($E54,氏名ﾃﾞｰﾀ!$B:$L,2,0)),IF(ISERROR(VLOOKUP($E54,新規登録!$B:$L,2,0)),\"未登録\",VLOOKUP($E54,新規登録!$B:$L,2,0)),(VLOOKUP($E54,氏名ﾃﾞｰﾀ!$B:$L,2,0))))","v":""},{"$f":"IF($E54=\"\",\"\",IF(ISERROR(VLOOKUP($E54,氏名ﾃﾞｰﾀ!$B:$L,3,0)),IF(ISERROR(VLOOKUP($E54,新規登録!$B:$L,3,0)),\"未登録\",VLOOKUP($E54,新規登録!$B:$L,3,0)),(VLOOKUP($E54,氏名ﾃﾞｰﾀ!$B:$L,3,0))))","v":""},{"$f":"IF($E54=\"\",\"\",IF(ISERROR(VLOOKUP($E54,氏名ﾃﾞｰﾀ!$B:$L,4,0)),IF(ISERROR(VLOOKUP($E54,新規登録!$B:$L,4,0)),\"未登録\",VLOOKUP($E54,新規登録!$B:$L,4,0)),(VLOOKUP($E54,氏名ﾃﾞｰﾀ!$B:$L,4,0))))","v":""},{"$f":"IF($E54=\"\",\"\",IF(ISERROR(VLOOKUP($E54,氏名ﾃﾞｰﾀ!$B:$L,5,0)),IF(ISERROR(VLOOKUP($E54,新規登録!$B:$L,5,0)),\"未登録\",VLOOKUP($E54,新規登録!$B:$L,5,0)),(VLOOKUP($E54,氏名ﾃﾞｰﾀ!$B:$L,5,0))))","v":""},{"$f":"IF($E54=\"\",\"\",IF(ISERROR(VLOOKUP($E54,氏名ﾃﾞｰﾀ!$B:$L,6,0)),IF(ISERROR(VLOOKUP($E54,新規登録!$B:$L,6,0)),\"未登録\",VLOOKUP($E54,新規登録!$B:$L,6,0)),(VLOOKUP($E54,氏名ﾃﾞｰﾀ!$B:$L,6,0))))","v":""},{"$f":"IF($E54=\"\",\"\",IF(ISERROR(VLOOKUP($E54,氏名ﾃﾞｰﾀ!$B:$L,7,0)),IF(ISERROR(VLOOKUP($E54,新規登録!$B:$L,7,0)),\"未登録\",VLOOKUP($E54,新規登録!$B:$L,7,0)),(VLOOKUP($E54,氏名ﾃﾞｰﾀ!$B:$L,7,0))))","v":""},{"$f":"IF($E54=\"\",\"\",IF(ISERROR(VLOOKUP($E54,氏名ﾃﾞｰﾀ!$B:$L,10,0)),IF(ISERROR(VLOOKUP($E54,新規登録!$B:$L,8,0)),\"未登録\",VLOOKUP($E54,新規登録!$B:$L,8,0)),(VLOOKUP($E54,氏名ﾃﾞｰﾀ!$B:$L,10,0))))","v":""},{"$f":"IF($E54=\"\",\"\",IF(ISERROR(VLOOKUP($E54,氏名ﾃﾞｰﾀ!$B:$L,11,0)),IF(ISERROR(VLOOKUP($E54,新規登録!$B:$L,11,0)),\"未登録\",VLOOKUP($E54,新規登録!$B:$L,11,0)),$G$3))","v":""},{"$f":"IF($E54=\"\",\"\",IF(ISERROR(VLOOKUP($E54,氏名ﾃﾞｰﾀ!$B:$L,8,0)),IF(ISERROR(VLOOKUP($E54,新規登録!$B:$L,10,0)),\"ﾅｼ\",VLOOKUP($E54,新規登録!$B:$L,10,0)),(VLOOKUP($E54,氏名ﾃﾞｰﾀ!$B:$L,8,0))))","v":""},{"$f":"IF($E54=\"\",\"\",IF(ISERROR(VLOOKUP($E54,氏名ﾃﾞｰﾀ!$B:$M,12,0)),IF(ISERROR(VLOOKUP($E54,新規登録!$B:$L,9,0)),\"未登録\",VLOOKUP($E54,新規登録!$B:$L,9,0)),(VLOOKUP($E54,氏名ﾃﾞｰﾀ!$B:$M,12,0))))","v":""},null,null,null,null,null,null,null,null,null,null,null,null,null,null,null,null,null,null,null,null,null,null,null,null,"","",2,"1000","","","","","","1000","","","","","",1000,"","","","","",1000,"","","","",""]
["","",{"$f":"IF(E55=\"\",\"\",IF(AP55=1,COUNTIF(AP$16:AP55,1)*10+2001-10,COUNTIF(AP$16:AP55,2)*10+6001-10))","v":""},40,null,{"$f":"IF($E55=\"\",\"\",IF(ISERROR(VLOOKUP($E55,氏名ﾃﾞｰﾀ!$B:$L,2,0)),IF(ISERROR(VLOOKUP($E55,新規登録!$B:$L,2,0)),\"未登録\",VLOOKUP($E55,新規登録!$B:$L,2,0)),(VLOOKUP($E55,氏名ﾃﾞｰﾀ!$B:$L,2,0))))","v":""},{"$f":"IF($E55=\"\",\"\",IF(ISERROR(VLOOKUP($E55,氏名ﾃﾞｰﾀ!$B:$L,3,0)),IF(ISERROR(VLOOKUP($E55,新規登録!$B:$L,3,0)),\"未登録\",VLOOKUP($E55,新規登録!$B:$L,3,0)),(VLOOKUP($E55,氏名ﾃﾞｰﾀ!$B:$L,3,0))))","v":""},{"$f":"IF($E55=\"\",\"\",IF(ISERROR(VLOOKUP($E55,氏名ﾃﾞｰﾀ!$B:$L,4,0)),IF(ISERROR(VLOOKUP($E55,新規登録!$B:$L,4,0)),\"未登録\",VLOOKUP($E55,新規登録!$B:$L,4,0)),(VLOOKUP($E55,氏名ﾃﾞｰﾀ!$B:$L,4,0))))","v":""},{"$f":"IF($E55=\"\",\"\",IF(ISERROR(VLOOKUP($E55,氏名ﾃﾞｰﾀ!$B:$L,5,0)),IF(ISERROR(VLOOKUP($E55,新規登録!$B:$L,5,0)),\"未登録\",VLOOKUP($E55,新規登録!$B:$L,5,0)),(VLOOKUP($E55,氏名ﾃﾞｰﾀ!$B:$L,5,0))))","v":""},{"$f":"IF($E55=\"\",\"\",IF(ISERROR(VLOOKUP($E55,氏名ﾃﾞｰﾀ!$B:$L,6,0)),IF(ISERROR(VLOOKUP($E55,新規登録!$B:$L,6,0)),\"未登録\",VLOOKUP($E55,新規登録!$B:$L,6,0)),(VLOOKUP($E55,氏名ﾃﾞｰﾀ!$B:$L,6,0))))","v":""},{"$f":"IF($E55=\"\",\"\",IF(ISERROR(VLOOKUP($E55,氏名ﾃﾞｰﾀ!$B:$L,7,0)),IF(ISERROR(VLOOKUP($E55,新規登録!$B:$L,7,0)),\"未登録\",VLOOKUP($E55,新規登録!$B:$L,7,0)),(VLOOKUP($E55,氏名ﾃﾞｰﾀ!$B:$L,7,0))))","v":""},{"$f":"IF($E55=\"\",\"\",IF(ISERROR(VLOOKUP($E55,氏名ﾃﾞｰﾀ!$B:$L,10,0)),IF(ISERROR(VLOOKUP($E55,新規登録!$B:$L,8,0)),\"未登録\",VLOOKUP($E55,新規登録!$B:$L,8,0)),(VLOOKUP($E55,氏名ﾃﾞｰﾀ!$B:$L,10,0))))","v":""},{"$f":"IF($E55=\"\",\"\",IF(ISERROR(VLOOKUP($E55,氏名ﾃﾞｰﾀ!$B:$L,11,0)),IF(ISERROR(VLOOKUP($E55,新規登録!$B:$L,11,0)),\"未登録\",VLOOKUP($E55,新規登録!$B:$L,11,0)),$G$3))","v":""},{"$f":"IF($E55=\"\",\"\",IF(ISERROR(VLOOKUP($E55,氏名ﾃﾞｰﾀ!$B:$L,8,0)),IF(ISERROR(VLOOKUP($E55,新規登録!$B:$L,10,0)),\"ﾅｼ\",VLOOKUP($E55,新規登録!$B:$L,10,0)),(VLOOKUP($E55,氏名ﾃﾞｰﾀ!$B:$L,8,0))))","v":""},{"$f":"IF($E55=\"\",\"\",IF(ISERROR(VLOOKUP($E55,氏名ﾃﾞｰﾀ!$B:$M,12,0)),IF(ISERROR(VLOOKUP($E55,新規登録!$B:$L,9,0)),\"未登録\",VLOOKUP($E55,新規登録!$B:$L,9,0)),(VLOOKUP($E55,氏名ﾃﾞｰﾀ!$B:$M,12,0))))","v":""},null,null,null,null,null,null,null,null,null,null,null,null,null,null,null,null,null,null,null,null,null,null,null,null,"","",2,"1000","","","","","","1000","","","","","",1000,"","","","","",1000,"","","","",""]
["","",{"$f":"IF(E56=\"\",\"\",IF(AP56=1,COUNTIF(AP$16:AP56,1)*10+2001-10,COUNTIF(AP$16:AP56,2)*10+6001-10))","v":""},41,null,{"$f":"IF($E56=\"\",\"\",IF(ISERROR(VLOOKUP($E56,氏名ﾃﾞｰﾀ!$B:$L,2,0)),IF(ISERROR(VLOOKUP($E56,新規登録!$B:$L,2,0)),\"未登録\",VLOOKUP($E56,新規登録!$B:$L,2,0)),(VLOOKUP($E56,氏名ﾃﾞｰﾀ!$B:$L,2,0))))","v":""},{"$f":"IF($E56=\"\",\"\",IF(ISERROR(VLOOKUP($E56,氏名ﾃﾞｰﾀ!$B:$L,3,0)),IF(ISERROR(VLOOKUP($E56,新規登録!$B:$L,3,0)),\"未登録\",VLOOKUP($E56,新規登録!$B:$L,3,0)),(VLOOKUP($E56,氏名ﾃﾞｰﾀ!$B:$L,3,0))))","v":""},{"$f":"IF($E56=\"\",\"\",IF(ISERROR(VLOOKUP($E56,氏名ﾃﾞｰﾀ!$B:$L,4,0)),IF(ISERROR(VLOOKUP($E56,新規登録!$B:$L,4,0)),\"未登録\",VLOOKUP($E56,新規登録!$B:$L,4,0)),(VLOOKUP($E56,氏名ﾃﾞｰﾀ!$B:$L,4,0))))","v":""},{"$f":"IF($E56=\"\",\"\",IF(ISERROR(VLOOKUP($E56,氏名ﾃﾞｰﾀ!$B:$L,5,0)),IF(ISERROR(VLOOKUP($E56,新規登録!$B:$L,5,0)),\"未登録\",VLOOKUP($E56,新規登録!$B:$L,5,0)),(VLOOKUP($E56,氏名ﾃﾞｰﾀ!$B:$L,5,0))))","v":""},{"$f":"IF($E56=\"\",\"\",IF(ISERROR(VLOOKUP($E56,氏名ﾃﾞｰﾀ!$B:$L,6,0)),IF(ISERROR(VLOOKUP($E56,新規登録!$B:$L,6,0)),\"未登録\",VLOOKUP($E56,新規登録!$B:$L,6,0)),(VLOOKUP($E56,氏名ﾃﾞｰﾀ!$B:$L,6,0))))","v":""},{"$f":"IF($E56=\"\",\"\",IF(ISERROR(VLOOKUP($E56,氏名ﾃﾞｰﾀ!$B:$L,7,0)),IF(ISERROR(VLOOKUP($E56,新規登録!$B:$L,7,0)),\"未登録\",VLOOKUP($E56,新規登録!$B:$L,7,0)),(VLOOKUP($E56,氏名ﾃﾞｰﾀ!$B:$L,7,0))))","v":""},{"$f":"IF($E56=\"\",\"\",IF(ISERROR(VLOOKUP($E56,氏名ﾃﾞｰﾀ!$B:$L,10,0)),IF(ISERROR(VLOOKUP($E56,新規登録!$B:$L,8,0)),\"未登録\",VLOOKUP($E56,新規登録!$B:$L,8,0)),(VLOOKUP($E56,氏名ﾃﾞｰﾀ!$B:$L,10,0))))","v":""},{"$f":"IF($E56=\"\",\"\",IF(ISERROR(VLOOKUP($E56,氏名ﾃﾞｰﾀ!$B:$L,11,0)),IF(ISERROR(VLOOKUP($E56,新規登録!$B:$L,11,0)),\"未登録\",VLOOKUP($E56,新規登録!$B:$L,11,0)),$G$3))","v":""},{"$f":"IF($E56=\"\",\"\",IF(ISERROR(VLOOKUP($E56,氏名ﾃﾞｰﾀ!$B:$L,8,0)),IF(ISERROR(VLOOKUP($E56,新規登録!$B:$L,10,0)),\"ﾅｼ\",VLOOKUP($E56,新規登録!$B:$L,10,0)),(VLOOKUP($E56,氏名ﾃﾞｰﾀ!$B:$L,8,0))))","v":""},{"$f":"IF($E56=\"\",\"\",IF(ISERROR(VLOOKUP($E56,氏名ﾃﾞｰﾀ!$B:$M,12,0)),IF(ISERROR(VLOOKUP($E56,新規登録!$B:$L,9,0)),\"未登録\",VLOOKUP($E56,新規登録!$B:$L,9,0)),(VLOOKUP($E56,氏名ﾃﾞｰﾀ!$B:$M,12,0))))","v":""},null,null,null,null,null,null,null,null,null,null,null,null,null,null,null,null,null,null,null,null,null,null,null,null,"","",2,"1000","","","","","","1000","","","","","",1000,"","","","","",1000,"","","","",""]
["","",{"$f":"IF(E57=\"\",\"\",IF(AP57=1,COUNTIF(AP$16:AP57,1)*10+2001-10,COUNTIF(AP$16:AP57,2)*10+6001-10))","v":""},42,null,{"$f":"IF($E57=\"\",\"\",IF(ISERROR(VLOOKUP($E57,氏名ﾃﾞｰﾀ!$B:$L,2,0)),IF(ISERROR(VLOOKUP($E57,新規登録!$B:$L,2,0)),\"未登録\",VLOOKUP($E57,新規登録!$B:$L,2,0)),(VLOOKUP($E57,氏名ﾃﾞｰﾀ!$B:$L,2,0))))","v":""},{"$f":"IF($E57=\"\",\"\",IF(ISERROR(VLOOKUP($E57,氏名ﾃﾞｰﾀ!$B:$L,3,0)),IF(ISERROR(VLOOKUP($E57,新規登録!$B:$L,3,0)),\"未登録\",VLOOKUP($E57,新規登録!$B:$L,3,0)),(VLOOKUP($E57,氏名ﾃﾞｰﾀ!$B:$L,3,0))))","v":""},{"$f":"IF($E57=\"\",\"\",IF(ISERROR(VLOOKUP($E57,氏名ﾃﾞｰﾀ!$B:$L,4,0)),IF(ISERROR(VLOOKUP($E57,新規登録!$B:$L,4,0)),\"未登録\",VLOOKUP($E57,新規登録!$B:$L,4,0)),(VLOOKUP($E57,氏名ﾃﾞｰﾀ!$B:$L,4,0))))","v":""},{"$f":"IF($E57=\"\",\"\",IF(ISERROR(VLOOKUP($E57,氏名ﾃﾞｰﾀ!$B:$L,5,0)),IF(ISERROR(VLOOKUP($E57,新規登録!$B:$L,5,0)),\"未登録\",VLOOKUP($E57,新規登録!$B:$L,5,0)),(VLOOKUP($E57,氏名ﾃﾞｰﾀ!$B:$L,5,0))))","v":""},{"$f":"IF($E57=\"\",\"\",IF(ISERROR(VLOOKUP($E57,氏名ﾃﾞｰﾀ!$B:$L,6,0)),IF(ISERROR(VLOOKUP($E57,新規登録!$B:$L,6,0)),\"未登録\",VLOOKUP($E57,新規登録!$B:$L,6,0)),(VLOOKUP($E57,氏名ﾃﾞｰﾀ!$B:$L,6,0))))","v":""},{"$f":"IF($E57=\"\",\"\",IF(ISERROR(VLOOKUP($E57,氏名ﾃﾞｰﾀ!$B:$L,7,0)),IF(ISERROR(VLOOKUP($E57,新規登録!$B:$L,7,0)),\"未登録\",VLOOKUP($E57,新規登録!$B:$L,7,0)),(VLOOKUP($E57,氏名ﾃﾞｰﾀ!$B:$L,7,0))))","v":""},{"$f":"IF($E57=\"\",\"\",IF(ISERROR(VLOOKUP($E57,氏名ﾃﾞｰﾀ!$B:$L,10,0)),IF(ISERROR(VLOOKUP($E57,新規登録!$B:$L,8,0)),\"未登録\",VLOOKUP($E57,新規登録!$B:$L,8,0)),(VLOOKUP($E57,氏名ﾃﾞｰﾀ!$B:$L,10,0))))","v":""},{"$f":"IF($E57=\"\",\"\",IF(ISERROR(VLOOKUP($E57,氏名ﾃﾞｰﾀ!$B:$L,11,0)),IF(ISERROR(VLOOKUP($E57,新規登録!$B:$L,11,0)),\"未登録\",VLOOKUP($E57,新規登録!$B:$L,11,0)),$G$3))","v":""},{"$f":"IF($E57=\"\",\"\",IF(ISERROR(VLOOKUP($E57,氏名ﾃﾞｰﾀ!$B:$L,8,0)),IF(ISERROR(VLOOKUP($E57,新規登録!$B:$L,10,0)),\"ﾅｼ\",VLOOKUP($E57,新規登録!$B:$L,10,0)),(VLOOKUP($E57,氏名ﾃﾞｰﾀ!$B:$L,8,0))))","v":""},{"$f":"IF($E57=\"\",\"\",IF(ISERROR(VLOOKUP($E57,氏名ﾃﾞｰﾀ!$B:$M,12,0)),IF(ISERROR(VLOOKUP($E57,新規登録!$B:$L,9,0)),\"未登録\",VLOOKUP($E57,新規登録!$B:$L,9,0)),(VLOOKUP($E57,氏名ﾃﾞｰﾀ!$B:$M,12,0))))","v":""},null,null,null,null,null,null,null,null,null,null,null,null,null,null,null,null,null,null,null,null,null,null,null,null,"","",2,"1000","","","","","","1000","","","","","",1000,"","","","","",1000,"","","","",""]
["","",{"$f":"IF(E58=\"\",\"\",IF(AP58=1,COUNTIF(AP$16:AP58,1)*10+2001-10,COUNTIF(AP$16:AP58,2)*10+6001-10))","v":""},43,null,{"$f":"IF($E58=\"\",\"\",IF(ISERROR(VLOOKUP($E58,氏名ﾃﾞｰﾀ!$B:$L,2,0)),IF(ISERROR(VLOOKUP($E58,新規登録!$B:$L,2,0)),\"未登録\",VLOOKUP($E58,新規登録!$B:$L,2,0)),(VLOOKUP($E58,氏名ﾃﾞｰﾀ!$B:$L,2,0))))","v":""},{"$f":"IF($E58=\"\",\"\",IF(ISERROR(VLOOKUP($E58,氏名ﾃﾞｰﾀ!$B:$L,3,0)),IF(ISERROR(VLOOKUP($E58,新規登録!$B:$L,3,0)),\"未登録\",VLOOKUP($E58,新規登録!$B:$L,3,0)),(VLOOKUP($E58,氏名ﾃﾞｰﾀ!$B:$L,3,0))))","v":""},{"$f":"IF($E58=\"\",\"\",IF(ISERROR(VLOOKUP($E58,氏名ﾃﾞｰﾀ!$B:$L,4,0)),IF(ISERROR(VLOOKUP($E58,新規登録!$B:$L,4,0)),\"未登録\",VLOOKUP($E58,新規登録!$B:$L,4,0)),(VLOOKUP($E58,氏名ﾃﾞｰﾀ!$B:$L,4,0))))","v":""},{"$f":"IF($E58=\"\",\"\",IF(ISERROR(VLOOKUP($E58,氏名ﾃﾞｰﾀ!$B:$L,5,0)),IF(ISERROR(VLOOKUP($E58,新規登録!$B:$L,5,0)),\"未登録\",VLOOKUP($E58,新規登録!$B:$L,5,0)),(VLOOKUP($E58,氏名ﾃﾞｰﾀ!$B:$L,5,0))))","v":""},{"$f":"IF($E58=\"\",\"\",IF(ISERROR(VLOOKUP($E58,氏名ﾃﾞｰﾀ!$B:$L,6,0)),IF(ISERROR(VLOOKUP($E58,新規登録!$B:$L,6,0)),\"未登録\",VLOOKUP($E58,新規登録!$B:$L,6,0)),(VLOOKUP($E58,氏名ﾃﾞｰﾀ!$B:$L,6,0))))","v":""},{"$f":"IF($E58=\"\",\"\",IF(ISERROR(VLOOKUP($E58,氏名ﾃﾞｰﾀ!$B:$L,7,0)),IF(ISERROR(VLOOKUP($E58,新規登録!$B:$L,7,0)),\"未登録\",VLOOKUP($E58,新規登録!$B:$L,7,0)),(VLOOKUP($E58,氏名ﾃﾞｰﾀ!$B:$L,7,0))))","v":""},{"$f":"IF($E58=\"\",\"\",IF(ISERROR(VLOOKUP($E58,氏名ﾃﾞｰﾀ!$B:$L,10,0)),IF(ISERROR(VLOOKUP($E58,新規登録!$B:$L,8,0)),\"未登録\",VLOOKUP($E58,新規登録!$B:$L,8,0)),(VLOOKUP($E58,氏名ﾃﾞｰﾀ!$B:$L,10,0))))","v":""},{"$f":"IF($E58=\"\",\"\",IF(ISERROR(VLOOKUP($E58,氏名ﾃﾞｰﾀ!$B:$L,11,0)),IF(ISERROR(VLOOKUP($E58,新規登録!$B:$L,11,0)),\"未登録\",VLOOKUP($E58,新規登録!$B:$L,11,0)),$G$3))","v":""},{"$f":"IF($E58=\"\",\"\",IF(ISERROR(VLOOKUP($E58,氏名ﾃﾞｰﾀ!$B:$L,8,0)),IF(ISERROR(VLOOKUP($E58,新規登録!$B:$L,10,0)),\"ﾅｼ\",VLOOKUP($E58,新規登録!$B:$L,10,0)),(VLOOKUP($E58,氏名ﾃﾞｰﾀ!$B:$L,8,0))))","v":""},{"$f":"IF($E58=\"\",\"\",IF(ISERROR(VLOOKUP($E58,氏名ﾃﾞｰﾀ!$B:$M,12,0)),IF(ISERROR(VLOOKUP($E58,新規登録!$B:$L,9,0)),\"未登録\",VLOOKUP($E58,新規登録!$B:$L,9,0)),(VLOOKUP($E58,氏名ﾃﾞｰﾀ!$B:$M,12,0))))","v":""},null,null,null,null,null,null,null,null,null,null,null,null,null,null,null,null,null,null,null,null,null,null,null,null,"","",2,"1000","","","","","","1000","","","","","",1000,"","","","","",1000,"","","","",""]
["","",{"$f":"IF(E59=\"\",\"\",IF(AP59=1,COUNTIF(AP$16:AP59,1)*10+2001-10,COUNTIF(AP$16:AP59,2)*10+6001-10))","v":""},44,null,{"$f":"IF($E59=\"\",\"\",IF(ISERROR(VLOOKUP($E59,氏名ﾃﾞｰﾀ!$B:$L,2,0)),IF(ISERROR(VLOOKUP($E59,新規登録!$B:$L,2,0)),\"未登録\",VLOOKUP($E59,新規登録!$B:$L,2,0)),(VLOOKUP($E59,氏名ﾃﾞｰﾀ!$B:$L,2,0))))","v":""},{"$f":"IF($E59=\"\",\"\",IF(ISERROR(VLOOKUP($E59,氏名ﾃﾞｰﾀ!$B:$L,3,0)),IF(ISERROR(VLOOKUP($E59,新規登録!$B:$L,3,0)),\"未登録\",VLOOKUP($E59,新規登録!$B:$L,3,0)),(VLOOKUP($E59,氏名ﾃﾞｰﾀ!$B:$L,3,0))))","v":""},{"$f":"IF($E59=\"\",\"\",IF(ISERROR(VLOOKUP($E59,氏名ﾃﾞｰﾀ!$B:$L,4,0)),IF(ISERROR(VLOOKUP($E59,新規登録!$B:$L,4,0)),\"未登録\",VLOOKUP($E59,新規登録!$B:$L,4,0)),(VLOOKUP($E59,氏名ﾃﾞｰﾀ!$B:$L,4,0))))","v":""},{"$f":"IF($E59=\"\",\"\",IF(ISERROR(VLOOKUP($E59,氏名ﾃﾞｰﾀ!$B:$L,5,0)),IF(ISERROR(VLOOKUP($E59,新規登録!$B:$L,5,0)),\"未登録\",VLOOKUP($E59,新規登録!$B:$L,5,0)),(VLOOKUP($E59,氏名ﾃﾞｰﾀ!$B:$L,5,0))))","v":""},{"$f":"IF($E59=\"\",\"\",IF(ISERROR(VLOOKUP($E59,氏名ﾃﾞｰﾀ!$B:$L,6,0)),IF(ISERROR(VLOOKUP($E59,新規登録!$B:$L,6,0)),\"未登録\",VLOOKUP($E59,新規登録!$B:$L,6,0)),(VLOOKUP($E59,氏名ﾃﾞｰﾀ!$B:$L,6,0))))","v":""},{"$f":"IF($E59=\"\",\"\",IF(ISERROR(VLOOKUP($E59,氏名ﾃﾞｰﾀ!$B:$L,7,0)),IF(ISERROR(VLOOKUP($E59,新規登録!$B:$L,7,0)),\"未登録\",VLOOKUP($E59,新規登録!$B:$L,7,0)),(VLOOKUP($E59,氏名ﾃﾞｰﾀ!$B:$L,7,0))))","v":""},{"$f":"IF($E59=\"\",\"\",IF(ISERROR(VLOOKUP($E59,氏名ﾃﾞｰﾀ!$B:$L,10,0)),IF(ISERROR(VLOOKUP($E59,新規登録!$B:$L,8,0)),\"未登録\",VLOOKUP($E59,新規登録!$B:$L,8,0)),(VLOOKUP($E59,氏名ﾃﾞｰﾀ!$B:$L,10,0))))","v":""},{"$f":"IF($E59=\"\",\"\",IF(ISERROR(VLOOKUP($E59,氏名ﾃﾞｰﾀ!$B:$L,11,0)),IF(ISERROR(VLOOKUP($E59,新規登録!$B:$L,11,0)),\"未登録\",VLOOKUP($E59,新規登録!$B:$L,11,0)),$G$3))","v":""},{"$f":"IF($E59=\"\",\"\",IF(ISERROR(VLOOKUP($E59,氏名ﾃﾞｰﾀ!$B:$L,8,0)),IF(ISERROR(VLOOKUP($E59,新規登録!$B:$L,10,0)),\"ﾅｼ\",VLOOKUP($E59,新規登録!$B:$L,10,0)),(VLOOKUP($E59,氏名ﾃﾞｰﾀ!$B:$L,8,0))))","v":""},{"$f":"IF($E59=\"\",\"\",IF(ISERROR(VLOOKUP($E59,氏名ﾃﾞｰﾀ!$B:$M,12,0)),IF(ISERROR(VLOOKUP($E59,新規登録!$B:$L,9,0)),\"未登録\",VLOOKUP($E59,新規登録!$B:$L,9,0)),(VLOOKUP($E59,氏名ﾃﾞｰﾀ!$B:$M,12,0))))","v":""},null,null,null,null,null,null,null,null,null,null,null,null,null,null,null,null,null,null,null,null,null,null,null,null,"","",2,"1000","","","","","","1000","","","","","",1000,"","","","","",1000,"","","","",""]
["","",{"$f":"IF(E60=\"\",\"\",IF(AP60=1,COUNTIF(AP$16:AP60,1)*10+2001-10,COUNTIF(AP$16:AP60,2)*10+6001-10))","v":""},45,null,{"$f":"IF($E60=\"\",\"\",IF(ISERROR(VLOOKUP($E60,氏名ﾃﾞｰﾀ!$B:$L,2,0)),IF(ISERROR(VLOOKUP($E60,新規登録!$B:$L,2,0)),\"未登録\",VLOOKUP($E60,新規登録!$B:$L,2,0)),(VLOOKUP($E60,氏名ﾃﾞｰﾀ!$B:$L,2,0))))","v":""},{"$f":"IF($E60=\"\",\"\",IF(ISERROR(VLOOKUP($E60,氏名ﾃﾞｰﾀ!$B:$L,3,0)),IF(ISERROR(VLOOKUP($E60,新規登録!$B:$L,3,0)),\"未登録\",VLOOKUP($E60,新規登録!$B:$L,3,0)),(VLOOKUP($E60,氏名ﾃﾞｰﾀ!$B:$L,3,0))))","v":""},{"$f":"IF($E60=\"\",\"\",IF(ISERROR(VLOOKUP($E60,氏名ﾃﾞｰﾀ!$B:$L,4,0)),IF(ISERROR(VLOOKUP($E60,新規登録!$B:$L,4,0)),\"未登録\",VLOOKUP($E60,新規登録!$B:$L,4,0)),(VLOOKUP($E60,氏名ﾃﾞｰﾀ!$B:$L,4,0))))","v":""},{"$f":"IF($E60=\"\",\"\",IF(ISERROR(VLOOKUP($E60,氏名ﾃﾞｰﾀ!$B:$L,5,0)),IF(ISERROR(VLOOKUP($E60,新規登録!$B:$L,5,0)),\"未登録\",VLOOKUP($E60,新規登録!$B:$L,5,0)),(VLOOKUP($E60,氏名ﾃﾞｰﾀ!$B:$L,5,0))))","v":""},{"$f":"IF($E60=\"\",\"\",IF(ISERROR(VLOOKUP($E60,氏名ﾃﾞｰﾀ!$B:$L,6,0)),IF(ISERROR(VLOOKUP($E60,新規登録!$B:$L,6,0)),\"未登録\",VLOOKUP($E60,新規登録!$B:$L,6,0)),(VLOOKUP($E60,氏名ﾃﾞｰﾀ!$B:$L,6,0))))","v":""},{"$f":"IF($E60=\"\",\"\",IF(ISERROR(VLOOKUP($E60,氏名ﾃﾞｰﾀ!$B:$L,7,0)),IF(ISERROR(VLOOKUP($E60,新規登録!$B:$L,7,0)),\"未登録\",VLOOKUP($E60,新規登録!$B:$L,7,0)),(VLOOKUP($E60,氏名ﾃﾞｰﾀ!$B:$L,7,0))))","v":""},{"$f":"IF($E60=\"\",\"\",IF(ISERROR(VLOOKUP($E60,氏名ﾃﾞｰﾀ!$B:$L,10,0)),IF(ISERROR(VLOOKUP($E60,新規登録!$B:$L,8,0)),\"未登録\",VLOOKUP($E60,新規登録!$B:$L,8,0)),(VLOOKUP($E60,氏名ﾃﾞｰﾀ!$B:$L,10,0))))","v":""},{"$f":"IF($E60=\"\",\"\",IF(ISERROR(VLOOKUP($E60,氏名ﾃﾞｰﾀ!$B:$L,11,0)),IF(ISERROR(VLOOKUP($E60,新規登録!$B:$L,11,0)),\"未登録\",VLOOKUP($E60,新規登録!$B:$L,11,0)),$G$3))","v":""},{"$f":"IF($E60=\"\",\"\",IF(ISERROR(VLOOKUP($E60,氏名ﾃﾞｰﾀ!$B:$L,8,0)),IF(ISERROR(VLOOKUP($E60,新規登録!$B:$L,10,0)),\"ﾅｼ\",VLOOKUP($E60,新規登録!$B:$L,10,0)),(VLOOKUP($E60,氏名ﾃﾞｰﾀ!$B:$L,8,0))))","v":""},{"$f":"IF($E60=\"\",\"\",IF(ISERROR(VLOOKUP($E60,氏名ﾃﾞｰﾀ!$B:$M,12,0)),IF(ISERROR(VLOOKUP($E60,新規登録!$B:$L,9,0)),\"未登録\",VLOOKUP($E60,新規登録!$B:$L,9,0)),(VLOOKUP($E60,氏名ﾃﾞｰﾀ!$B:$M,12,0))))","v":""},null,null,null,null,null,null,null,null,null,null,null,null,null,null,null,null,null,null,null,null,null,null,null,null,"","",2,"1000","","","","","","1000","","","","","",1000,"","","","","",1000,"","","","",""]
["","",{"$f":"IF(E61=\"\",\"\",IF(AP61=1,COUNTIF(AP$16:AP61,1)*10+2001-10,COUNTIF(AP$16:AP61,2)*10+6001-10))","v":""},46,null,{"$f":"IF($E61=\"\",\"\",IF(ISERROR(VLOOKUP($E61,氏名ﾃﾞｰﾀ!$B:$L,2,0)),IF(ISERROR(VLOOKUP($E61,新規登録!$B:$L,2,0)),\"未登録\",VLOOKUP($E61,新規登録!$B:$L,2,0)),(VLOOKUP($E61,氏名ﾃﾞｰﾀ!$B:$L,2,0))))","v":""},{"$f":"IF($E61=\"\",\"\",IF(ISERROR(VLOOKUP($E61,氏名ﾃﾞｰﾀ!$B:$L,3,0)),IF(ISERROR(VLOOKUP($E61,新規登録!$B:$L,3,0)),\"未登録\",VLOOKUP($E61,新規登録!$B:$L,3,0)),(VLOOKUP($E61,氏名ﾃﾞｰﾀ!$B:$L,3,0))))","v":""},{"$f":"IF($E61=\"\",\"\",IF(ISERROR(VLOOKUP($E61,氏名ﾃﾞｰﾀ!$B:$L,4,0)),IF(ISERROR(VLOOKUP($E61,新規登録!$B:$L,4,0)),\"未登録\",VLOOKUP($E61,新規登録!$B:$L,4,0)),(VLOOKUP($E61,氏名ﾃﾞｰﾀ!$B:$L,4,0))))","v":""},{"$f":"IF($E61=\"\",\"\",IF(ISERROR(VLOOKUP($E61,氏名ﾃﾞｰﾀ!$B:$L,5,0)),IF(ISERROR(VLOOKUP($E61,新規登録!$B:$L,5,0)),\"未登録\",VLOOKUP($E61,新規登録!$B:$L,5,0)),(VLOOKUP($E61,氏名ﾃﾞｰﾀ!$B:$L,5,0))))","v":""},{"$f":"IF($E61=\"\",\"\",IF(ISERROR(VLOOKUP($E61,氏名ﾃﾞｰﾀ!$B:$L,6,0)),IF(ISERROR(VLOOKUP($E61,新規登録!$B:$L,6,0)),\"未登録\",VLOOKUP($E61,新規登録!$B:$L,6,0)),(VLOOKUP($E61,氏名ﾃﾞｰﾀ!$B:$L,6,0))))","v":""},{"$f":"IF($E61=\"\",\"\",IF(ISERROR(VLOOKUP($E61,氏名ﾃﾞｰﾀ!$B:$L,7,0)),IF(ISERROR(VLOOKUP($E61,新規登録!$B:$L,7,0)),\"未登録\",VLOOKUP($E61,新規登録!$B:$L,7,0)),(VLOOKUP($E61,氏名ﾃﾞｰﾀ!$B:$L,7,0))))","v":""},{"$f":"IF($E61=\"\",\"\",IF(ISERROR(VLOOKUP($E61,氏名ﾃﾞｰﾀ!$B:$L,10,0)),IF(ISERROR(VLOOKUP($E61,新規登録!$B:$L,8,0)),\"未登録\",VLOOKUP($E61,新規登録!$B:$L,8,0)),(VLOOKUP($E61,氏名ﾃﾞｰﾀ!$B:$L,10,0))))","v":""},{"$f":"IF($E61=\"\",\"\",IF(ISERROR(VLOOKUP($E61,氏名ﾃﾞｰﾀ!$B:$L,11,0)),IF(ISERROR(VLOOKUP($E61,新規登録!$B:$L,11,0)),\"未登録\",VLOOKUP($E61,新規登録!$B:$L,11,0)),$G$3))","v":""},{"$f":"IF($E61=\"\",\"\",IF(ISERROR(VLOOKUP($E61,氏名ﾃﾞｰﾀ!$B:$L,8,0)),IF(ISERROR(VLOOKUP($E61,新規登録!$B:$L,10,0)),\"ﾅｼ\",VLOOKUP($E61,新規登録!$B:$L,10,0)),(VLOOKUP($E61,氏名ﾃﾞｰﾀ!$B:$L,8,0))))","v":""},{"$f":"IF($E61=\"\",\"\",IF(ISERROR(VLOOKUP($E61,氏名ﾃﾞｰﾀ!$B:$M,12,0)),IF(ISERROR(VLOOKUP($E61,新規登録!$B:$L,9,0)),\"未登録\",VLOOKUP($E61,新規登録!$B:$L,9,0)),(VLOOKUP($E61,氏名ﾃﾞｰﾀ!$B:$M,12,0))))","v":""},null,null,null,null,null,null,null,null,null,null,null,null,null,null,null,null,null,null,null,null,null,null,null,null,"","",2,"1000","","","","","","1000","","","","","",1000,"","","","","",1000,"","","","",""]
["","",{"$f":"IF(E62=\"\",\"\",IF(AP62=1,COUNTIF(AP$16:AP62,1)*10+2001-10,COUNTIF(AP$16:AP62,2)*10+6001-10))","v":""},47,null,{"$f":"IF($E62=\"\",\"\",IF(ISERROR(VLOOKUP($E62,氏名ﾃﾞｰﾀ!$B:$L,2,0)),IF(ISERROR(VLOOKUP($E62,新規登録!$B:$L,2,0)),\"未登録\",VLOOKUP($E62,新規登録!$B:$L,2,0)),(VLOOKUP($E62,氏名ﾃﾞｰﾀ!$B:$L,2,0))))","v":""},{"$f":"IF($E62=\"\",\"\",IF(ISERROR(VLOOKUP($E62,氏名ﾃﾞｰﾀ!$B:$L,3,0)),IF(ISERROR(VLOOKUP($E62,新規登録!$B:$L,3,0)),\"未登録\",VLOOKUP($E62,新規登録!$B:$L,3,0)),(VLOOKUP($E62,氏名ﾃﾞｰﾀ!$B:$L,3,0))))","v":""},{"$f":"IF($E62=\"\",\"\",IF(ISERROR(VLOOKUP($E62,氏名ﾃﾞｰﾀ!$B:$L,4,0)),IF(ISERROR(VLOOKUP($E62,新規登録!$B:$L,4,0)),\"未登録\",VLOOKUP($E62,新規登録!$B:$L,4,0)),(VLOOKUP($E62,氏名ﾃﾞｰﾀ!$B:$L,4,0))))","v":""},{"$f":"IF($E62=\"\",\"\",IF(ISERROR(VLOOKUP($E62,氏名ﾃﾞｰﾀ!$B:$L,5,0)),IF(ISERROR(VLOOKUP($E62,新規登録!$B:$L,5,0)),\"未登録\",VLOOKUP($E62,新規登録!$B:$L,5,0)),(VLOOKUP($E62,氏名ﾃﾞｰﾀ!$B:$L,5,0))))","v":""},{"$f":"IF($E62=\"\",\"\",IF(ISERROR(VLOOKUP($E62,氏名ﾃﾞｰﾀ!$B:$L,6,0)),IF(ISERROR(VLOOKUP($E62,新規登録!$B:$L,6,0)),\"未登録\",VLOOKUP($E62,新規登録!$B:$L,6,0)),(VLOOKUP($E62,氏名ﾃﾞｰﾀ!$B:$L,6,0))))","v":""},{"$f":"IF($E62=\"\",\"\",IF(ISERROR(VLOOKUP($E62,氏名ﾃﾞｰﾀ!$B:$L,7,0)),IF(ISERROR(VLOOKUP($E62,新規登録!$B:$L,7,0)),\"未登録\",VLOOKUP($E62,新規登録!$B:$L,7,0)),(VLOOKUP($E62,氏名ﾃﾞｰﾀ!$B:$L,7,0))))","v":""},{"$f":"IF($E62=\"\",\"\",IF(ISERROR(VLOOKUP($E62,氏名ﾃﾞｰﾀ!$B:$L,10,0)),IF(ISERROR(VLOOKUP($E62,新規登録!$B:$L,8,0)),\"未登録\",VLOOKUP($E62,新規登録!$B:$L,8,0)),(VLOOKUP($E62,氏名ﾃﾞｰﾀ!$B:$L,10,0))))","v":""},{"$f":"IF($E62=\"\",\"\",IF(ISERROR(VLOOKUP($E62,氏名ﾃﾞｰﾀ!$B:$L,11,0)),IF(ISERROR(VLOOKUP($E62,新規登録!$B:$L,11,0)),\"未登録\",VLOOKUP($E62,新規登録!$B:$L,11,0)),$G$3))","v":""},{"$f":"IF($E62=\"\",\"\",IF(ISERROR(VLOOKUP($E62,氏名ﾃﾞｰﾀ!$B:$L,8,0)),IF(ISERROR(VLOOKUP($E62,新規登録!$B:$L,10,0)),\"ﾅｼ\",VLOOKUP($E62,新規登録!$B:$L,10,0)),(VLOOKUP($E62,氏名ﾃﾞｰﾀ!$B:$L,8,0))))","v":""},{"$f":"IF($E62=\"\",\"\",IF(ISERROR(VLOOKUP($E62,氏名ﾃﾞｰﾀ!$B:$M,12,0)),IF(ISERROR(VLOOKUP($E62,新規登録!$B:$L,9,0)),\"未登録\",VLOOKUP($E62,新規登録!$B:$L,9,0)),(VLOOKUP($E62,氏名ﾃﾞｰﾀ!$B:$M,12,0))))","v":""},null,null,null,null,null,null,null,null,null,null,null,null,null,null,null,null,null,null,null,null,null,null,null,null,"","",2,"1000","","","","","","1000","","","","","",1000,"","","","","",1000,"","","","",""]
["","",{"$f":"IF(E63=\"\",\"\",IF(AP63=1,COUNTIF(AP$16:AP63,1)*10+2001-10,COUNTIF(AP$16:AP63,2)*10+6001-10))","v":""},48,null,{"$f":"IF($E63=\"\",\"\",IF(ISERROR(VLOOKUP($E63,氏名ﾃﾞｰﾀ!$B:$L,2,0)),IF(ISERROR(VLOOKUP($E63,新規登録!$B:$L,2,0)),\"未登録\",VLOOKUP($E63,新規登録!$B:$L,2,0)),(VLOOKUP($E63,氏名ﾃﾞｰﾀ!$B:$L,2,0))))","v":""},{"$f":"IF($E63=\"\",\"\",IF(ISERROR(VLOOKUP($E63,氏名ﾃﾞｰﾀ!$B:$L,3,0)),IF(ISERROR(VLOOKUP($E63,新規登録!$B:$L,3,0)),\"未登録\",VLOOKUP($E63,新規登録!$B:$L,3,0)),(VLOOKUP($E63,氏名ﾃﾞｰﾀ!$B:$L,3,0))))","v":""},{"$f":"IF($E63=\"\",\"\",IF(ISERROR(VLOOKUP($E63,氏名ﾃﾞｰﾀ!$B:$L,4,0)),IF(ISERROR(VLOOKUP($E63,新規登録!$B:$L,4,0)),\"未登録\",VLOOKUP($E63,新規登録!$B:$L,4,0)),(VLOOKUP($E63,氏名ﾃﾞｰﾀ!$B:$L,4,0))))","v":""},{"$f":"IF($E63=\"\",\"\",IF(ISERROR(VLOOKUP($E63,氏名ﾃﾞｰﾀ!$B:$L,5,0)),IF(ISERROR(VLOOKUP($E63,新規登録!$B:$L,5,0)),\"未登録\",VLOOKUP($E63,新規登録!$B:$L,5,0)),(VLOOKUP($E63,氏名ﾃﾞｰﾀ!$B:$L,5,0))))","v":""},{"$f":"IF($E63=\"\",\"\",IF(ISERROR(VLOOKUP($E63,氏名ﾃﾞｰﾀ!$B:$L,6,0)),IF(ISERROR(VLOOKUP($E63,新規登録!$B:$L,6,0)),\"未登録\",VLOOKUP($E63,新規登録!$B:$L,6,0)),(VLOOKUP($E63,氏名ﾃﾞｰﾀ!$B:$L,6,0))))","v":""},{"$f":"IF($E63=\"\",\"\",IF(ISERROR(VLOOKUP($E63,氏名ﾃﾞｰﾀ!$B:$L,7,0)),IF(ISERROR(VLOOKUP($E63,新規登録!$B:$L,7,0)),\"未登録\",VLOOKUP($E63,新規登録!$B:$L,7,0)),(VLOOKUP($E63,氏名ﾃﾞｰﾀ!$B:$L,7,0))))","v":""},{"$f":"IF($E63=\"\",\"\",IF(ISERROR(VLOOKUP($E63,氏名ﾃﾞｰﾀ!$B:$L,10,0)),IF(ISERROR(VLOOKUP($E63,新規登録!$B:$L,8,0)),\"未登録\",VLOOKUP($E63,新規登録!$B:$L,8,0)),(VLOOKUP($E63,氏名ﾃﾞｰﾀ!$B:$L,10,0))))","v":""},{"$f":"IF($E63=\"\",\"\",IF(ISERROR(VLOOKUP($E63,氏名ﾃﾞｰﾀ!$B:$L,11,0)),IF(ISERROR(VLOOKUP($E63,新規登録!$B:$L,11,0)),\"未登録\",VLOOKUP($E63,新規登録!$B:$L,11,0)),$G$3))","v":""},{"$f":"IF($E63=\"\",\"\",IF(ISERROR(VLOOKUP($E63,氏名ﾃﾞｰﾀ!$B:$L,8,0)),IF(ISERROR(VLOOKUP($E63,新規登録!$B:$L,10,0)),\"ﾅｼ\",VLOOKUP($E63,新規登録!$B:$L,10,0)),(VLOOKUP($E63,氏名ﾃﾞｰﾀ!$B:$L,8,0))))","v":""},{"$f":"IF($E63=\"\",\"\",IF(ISERROR(VLOOKUP($E63,氏名ﾃﾞｰﾀ!$B:$M,12,0)),IF(ISERROR(VLOOKUP($E63,新規登録!$B:$L,9,0)),\"未登録\",VLOOKUP($E63,新規登録!$B:$L,9,0)),(VLOOKUP($E63,氏名ﾃﾞｰﾀ!$B:$M,12,0))))","v":""},null,null,null,null,null,null,null,null,null,null,null,null,null,null,null,null,null,null,null,null,null,null,null,null,"","",2,"1000","","","","","","1000","","","","","",1000,"","","","","",1000,"","","","",""]
["","",{"$f":"IF(E64=\"\",\"\",IF(AP64=1,COUNTIF(AP$16:AP64,1)*10+2001-10,COUNTIF(AP$16:AP64,2)*10+6001-10))","v":""},49,null,{"$f":"IF($E64=\"\",\"\",IF(ISERROR(VLOOKUP($E64,氏名ﾃﾞｰﾀ!$B:$L,2,0)),IF(ISERROR(VLOOKUP($E64,新規登録!$B:$L,2,0)),\"未登録\",VLOOKUP($E64,新規登録!$B:$L,2,0)),(VLOOKUP($E64,氏名ﾃﾞｰﾀ!$B:$L,2,0))))","v":""},{"$f":"IF($E64=\"\",\"\",IF(ISERROR(VLOOKUP($E64,氏名ﾃﾞｰﾀ!$B:$L,3,0)),IF(ISERROR(VLOOKUP($E64,新規登録!$B:$L,3,0)),\"未登録\",VLOOKUP($E64,新規登録!$B:$L,3,0)),(VLOOKUP($E64,氏名ﾃﾞｰﾀ!$B:$L,3,0))))","v":""},{"$f":"IF($E64=\"\",\"\",IF(ISERROR(VLOOKUP($E64,氏名ﾃﾞｰﾀ!$B:$L,4,0)),IF(ISERROR(VLOOKUP($E64,新規登録!$B:$L,4,0)),\"未登録\",VLOOKUP($E64,新規登録!$B:$L,4,0)),(VLOOKUP($E64,氏名ﾃﾞｰﾀ!$B:$L,4,0))))","v":""},{"$f":"IF($E64=\"\",\"\",IF(ISERROR(VLOOKUP($E64,氏名ﾃﾞｰﾀ!$B:$L,5,0)),IF(ISERROR(VLOOKUP($E64,新規登録!$B:$L,5,0)),\"未登録\",VLOOKUP($E64,新規登録!$B:$L,5,0)),(VLOOKUP($E64,氏名ﾃﾞｰﾀ!$B:$L,5,0))))","v":""},{"$f":"IF($E64=\"\",\"\",IF(ISERROR(VLOOKUP($E64,氏名ﾃﾞｰﾀ!$B:$L,6,0)),IF(ISERROR(VLOOKUP($E64,新規登録!$B:$L,6,0)),\"未登録\",VLOOKUP($E64,新規登録!$B:$L,6,0)),(VLOOKUP($E64,氏名ﾃﾞｰﾀ!$B:$L,6,0))))","v":""},{"$f":"IF($E64=\"\",\"\",IF(ISERROR(VLOOKUP($E64,氏名ﾃﾞｰﾀ!$B:$L,7,0)),IF(ISERROR(VLOOKUP($E64,新規登録!$B:$L,7,0)),\"未登録\",VLOOKUP($E64,新規登録!$B:$L,7,0)),(VLOOKUP($E64,氏名ﾃﾞｰﾀ!$B:$L,7,0))))","v":""},{"$f":"IF($E64=\"\",\"\",IF(ISERROR(VLOOKUP($E64,氏名ﾃﾞｰﾀ!$B:$L,10,0)),IF(ISERROR(VLOOKUP($E64,新規登録!$B:$L,8,0)),\"未登録\",VLOOKUP($E64,新規登録!$B:$L,8,0)),(VLOOKUP($E64,氏名ﾃﾞｰﾀ!$B:$L,10,0))))","v":""},{"$f":"IF($E64=\"\",\"\",IF(ISERROR(VLOOKUP($E64,氏名ﾃﾞｰﾀ!$B:$L,11,0)),IF(ISERROR(VLOOKUP($E64,新規登録!$B:$L,11,0)),\"未登録\",VLOOKUP($E64,新規登録!$B:$L,11,0)),$G$3))","v":""},{"$f":"IF($E64=\"\",\"\",IF(ISERROR(VLOOKUP($E64,氏名ﾃﾞｰﾀ!$B:$L,8,0)),IF(ISERROR(VLOOKUP($E64,新規登録!$B:$L,10,0)),\"ﾅｼ\",VLOOKUP($E64,新規登録!$B:$L,10,0)),(VLOOKUP($E64,氏名ﾃﾞｰﾀ!$B:$L,8,0))))","v":""},{"$f":"IF($E64=\"\",\"\",IF(ISERROR(VLOOKUP($E64,氏名ﾃﾞｰﾀ!$B:$M,12,0)),IF(ISERROR(VLOOKUP($E64,新規登録!$B:$L,9,0)),\"未登録\",VLOOKUP($E64,新規登録!$B:$L,9,0)),(VLOOKUP($E64,氏名ﾃﾞｰﾀ!$B:$M,12,0))))","v":""},null,null,null,null,null,null,null,null,null,null,null,null,null,null,null,null,null,null,null,null,null,null,null,null,"","",2,"1000","","","","","","1000","","","","","",1000,"","","","","",1000,"","","","",""]
["","",{"$f":"IF(E65=\"\",\"\",IF(AP65=1,COUNTIF(AP$16:AP65,1)*10+2001-10,COUNTIF(AP$16:AP65,2)*10+6001-10))","v":""},50,null,{"$f":"IF($E65=\"\",\"\",IF(ISERROR(VLOOKUP($E65,氏名ﾃﾞｰﾀ!$B:$L,2,0)),IF(ISERROR(VLOOKUP($E65,新規登録!$B:$L,2,0)),\"未登録\",VLOOKUP($E65,新規登録!$B:$L,2,0)),(VLOOKUP($E65,氏名ﾃﾞｰﾀ!$B:$L,2,0))))","v":""},{"$f":"IF($E65=\"\",\"\",IF(ISERROR(VLOOKUP($E65,氏名ﾃﾞｰﾀ!$B:$L,3,0)),IF(ISERROR(VLOOKUP($E65,新規登録!$B:$L,3,0)),\"未登録\",VLOOKUP($E65,新規登録!$B:$L,3,0)),(VLOOKUP($E65,氏名ﾃﾞｰﾀ!$B:$L,3,0))))","v":""},{"$f":"IF($E65=\"\",\"\",IF(ISERROR(VLOOKUP($E65,氏名ﾃﾞｰﾀ!$B:$L,4,0)),IF(ISERROR(VLOOKUP($E65,新規登録!$B:$L,4,0)),\"未登録\",VLOOKUP($E65,新規登録!$B:$L,4,0)),(VLOOKUP($E65,氏名ﾃﾞｰﾀ!$B:$L,4,0))))","v":""},{"$f":"IF($E65=\"\",\"\",IF(ISERROR(VLOOKUP($E65,氏名ﾃﾞｰﾀ!$B:$L,5,0)),IF(ISERROR(VLOOKUP($E65,新規登録!$B:$L,5,0)),\"未登録\",VLOOKUP($E65,新規登録!$B:$L,5,0)),(VLOOKUP($E65,氏名ﾃﾞｰﾀ!$B:$L,5,0))))","v":""},{"$f":"IF($E65=\"\",\"\",IF(ISERROR(VLOOKUP($E65,氏名ﾃﾞｰﾀ!$B:$L,6,0)),IF(ISERROR(VLOOKUP($E65,新規登録!$B:$L,6,0)),\"未登録\",VLOOKUP($E65,新規登録!$B:$L,6,0)),(VLOOKUP($E65,氏名ﾃﾞｰﾀ!$B:$L,6,0))))","v":""},{"$f":"IF($E65=\"\",\"\",IF(ISERROR(VLOOKUP($E65,氏名ﾃﾞｰﾀ!$B:$L,7,0)),IF(ISERROR(VLOOKUP($E65,新規登録!$B:$L,7,0)),\"未登録\",VLOOKUP($E65,新規登録!$B:$L,7,0)),(VLOOKUP($E65,氏名ﾃﾞｰﾀ!$B:$L,7,0))))","v":""},{"$f":"IF($E65=\"\",\"\",IF(ISERROR(VLOOKUP($E65,氏名ﾃﾞｰﾀ!$B:$L,10,0)),IF(ISERROR(VLOOKUP($E65,新規登録!$B:$L,8,0)),\"未登録\",VLOOKUP($E65,新規登録!$B:$L,8,0)),(VLOOKUP($E65,氏名ﾃﾞｰﾀ!$B:$L,10,0))))","v":""},{"$f":"IF($E65=\"\",\"\",IF(ISERROR(VLOOKUP($E65,氏名ﾃﾞｰﾀ!$B:$L,11,0)),IF(ISERROR(VLOOKUP($E65,新規登録!$B:$L,11,0)),\"未登録\",VLOOKUP($E65,新規登録!$B:$L,11,0)),$G$3))","v":""},{"$f":"IF($E65=\"\",\"\",IF(ISERROR(VLOOKUP($E65,氏名ﾃﾞｰﾀ!$B:$L,8,0)),IF(ISERROR(VLOOKUP($E65,新規登録!$B:$L,10,0)),\"ﾅｼ\",VLOOKUP($E65,新規登録!$B:$L,10,0)),(VLOOKUP($E65,氏名ﾃﾞｰﾀ!$B:$L,8,0))))","v":""},{"$f":"IF($E65=\"\",\"\",IF(ISERROR(VLOOKUP($E65,氏名ﾃﾞｰﾀ!$B:$M,12,0)),IF(ISERROR(VLOOKUP($E65,新規登録!$B:$L,9,0)),\"未登録\",VLOOKUP($E65,新規登録!$B:$L,9,0)),(VLOOKUP($E65,氏名ﾃﾞｰﾀ!$B:$M,12,0))))","v":""},null,null,null,null,null,null,null,null,null,null,null,null,null,null,null,null,null,null,null,null,null,null,null,null,"","",2,"1000","","","","","","1000","","","","","",1000,"","","","","",1000,"","","","",""]
["","",{"$f":"IF(E66=\"\",\"\",IF(AP66=1,COUNTIF(AP$16:AP66,1)*10+2001-10,COUNTIF(AP$16:AP66,2)*10+6001-10))","v":""},51,null,{"$f":"IF($E66=\"\",\"\",IF(ISERROR(VLOOKUP($E66,氏名ﾃﾞｰﾀ!$B:$L,2,0)),IF(ISERROR(VLOOKUP($E66,新規登録!$B:$L,2,0)),\"未登録\",VLOOKUP($E66,新規登録!$B:$L,2,0)),(VLOOKUP($E66,氏名ﾃﾞｰﾀ!$B:$L,2,0))))","v":""},{"$f":"IF($E66=\"\",\"\",IF(ISERROR(VLOOKUP($E66,氏名ﾃﾞｰﾀ!$B:$L,3,0)),IF(ISERROR(VLOOKUP($E66,新規登録!$B:$L,3,0)),\"未登録\",VLOOKUP($E66,新規登録!$B:$L,3,0)),(VLOOKUP($E66,氏名ﾃﾞｰﾀ!$B:$L,3,0))))","v":""},{"$f":"IF($E66=\"\",\"\",IF(ISERROR(VLOOKUP($E66,氏名ﾃﾞｰﾀ!$B:$L,4,0)),IF(ISERROR(VLOOKUP($E66,新規登録!$B:$L,4,0)),\"未登録\",VLOOKUP($E66,新規登録!$B:$L,4,0)),(VLOOKUP($E66,氏名ﾃﾞｰﾀ!$B:$L,4,0))))","v":""},{"$f":"IF($E66=\"\",\"\",IF(ISERROR(VLOOKUP($E66,氏名ﾃﾞｰﾀ!$B:$L,5,0)),IF(ISERROR(VLOOKUP($E66,新規登録!$B:$L,5,0)),\"未登録\",VLOOKUP($E66,新規登録!$B:$L,5,0)),(VLOOKUP($E66,氏名ﾃﾞｰﾀ!$B:$L,5,0))))","v":""},{"$f":"IF($E66=\"\",\"\",IF(ISERROR(VLOOKUP($E66,氏名ﾃﾞｰﾀ!$B:$L,6,0)),IF(ISERROR(VLOOKUP($E66,新規登録!$B:$L,6,0)),\"未登録\",VLOOKUP($E66,新規登録!$B:$L,6,0)),(VLOOKUP($E66,氏名ﾃﾞｰﾀ!$B:$L,6,0))))","v":""},{"$f":"IF($E66=\"\",\"\",IF(ISERROR(VLOOKUP($E66,氏名ﾃﾞｰﾀ!$B:$L,7,0)),IF(ISERROR(VLOOKUP($E66,新規登録!$B:$L,7,0)),\"未登録\",VLOOKUP($E66,新規登録!$B:$L,7,0)),(VLOOKUP($E66,氏名ﾃﾞｰﾀ!$B:$L,7,0))))","v":""},{"$f":"IF($E66=\"\",\"\",IF(ISERROR(VLOOKUP($E66,氏名ﾃﾞｰﾀ!$B:$L,10,0)),IF(ISERROR(VLOOKUP($E66,新規登録!$B:$L,8,0)),\"未登録\",VLOOKUP($E66,新規登録!$B:$L,8,0)),(VLOOKUP($E66,氏名ﾃﾞｰﾀ!$B:$L,10,0))))","v":""},{"$f":"IF($E66=\"\",\"\",IF(ISERROR(VLOOKUP($E66,氏名ﾃﾞｰﾀ!$B:$L,11,0)),IF(ISERROR(VLOOKUP($E66,新規登録!$B:$L,11,0)),\"未登録\",VLOOKUP($E66,新規登録!$B:$L,11,0)),$G$3))","v":""},{"$f":"IF($E66=\"\",\"\",IF(ISERROR(VLOOKUP($E66,氏名ﾃﾞｰﾀ!$B:$L,8,0)),IF(ISERROR(VLOOKUP($E66,新規登録!$B:$L,10,0)),\"ﾅｼ\",VLOOKUP($E66,新規登録!$B:$L,10,0)),(VLOOKUP($E66,氏名ﾃﾞｰﾀ!$B:$L,8,0))))","v":""},{"$f":"IF($E66=\"\",\"\",IF(ISERROR(VLOOKUP($E66,氏名ﾃﾞｰﾀ!$B:$M,12,0)),IF(ISERROR(VLOOKUP($E66,新規登録!$B:$L,9,0)),\"未登録\",VLOOKUP($E66,新規登録!$B:$L,9,0)),(VLOOKUP($E66,氏名ﾃﾞｰﾀ!$B:$M,12,0))))","v":""},null,null,null,null,null,null,null,null,null,null,null,null,null,null,null,null,null,null,null,null,null,null,null,null,"","",2,"1000","","","","","","1000","","","","","",1000,"","","","","",1000,"","","","",""]
["","",{"$f":"IF(E67=\"\",\"\",IF(AP67=1,COUNTIF(AP$16:AP67,1)*10+2001-10,COUNTIF(AP$16:AP67,2)*10+6001-10))","v":""},52,null,{"$f":"IF($E67=\"\",\"\",IF(ISERROR(VLOOKUP($E67,氏名ﾃﾞｰﾀ!$B:$L,2,0)),IF(ISERROR(VLOOKUP($E67,新規登録!$B:$L,2,0)),\"未登録\",VLOOKUP($E67,新規登録!$B:$L,2,0)),(VLOOKUP($E67,氏名ﾃﾞｰﾀ!$B:$L,2,0))))","v":""},{"$f":"IF($E67=\"\",\"\",IF(ISERROR(VLOOKUP($E67,氏名ﾃﾞｰﾀ!$B:$L,3,0)),IF(ISERROR(VLOOKUP($E67,新規登録!$B:$L,3,0)),\"未登録\",VLOOKUP($E67,新規登録!$B:$L,3,0)),(VLOOKUP($E67,氏名ﾃﾞｰﾀ!$B:$L,3,0))))","v":""},{"$f":"IF($E67=\"\",\"\",IF(ISERROR(VLOOKUP($E67,氏名ﾃﾞｰﾀ!$B:$L,4,0)),IF(ISERROR(VLOOKUP($E67,新規登録!$B:$L,4,0)),\"未登録\",VLOOKUP($E67,新規登録!$B:$L,4,0)),(VLOOKUP($E67,氏名ﾃﾞｰﾀ!$B:$L,4,0))))","v":""},{"$f":"IF($E67=\"\",\"\",IF(ISERROR(VLOOKUP($E67,氏名ﾃﾞｰﾀ!$B:$L,5,0)),IF(ISERROR(VLOOKUP($E67,新規登録!$B:$L,5,0)),\"未登録\",VLOOKUP($E67,新規登録!$B:$L,5,0)),(VLOOKUP($E67,氏名ﾃﾞｰﾀ!$B:$L,5,0))))","v":""},{"$f":"IF($E67=\"\",\"\",IF(ISERROR(VLOOKUP($E67,氏名ﾃﾞｰﾀ!$B:$L,6,0)),IF(ISERROR(VLOOKUP($E67,新規登録!$B:$L,6,0)),\"未登録\",VLOOKUP($E67,新規登録!$B:$L,6,0)),(VLOOKUP($E67,氏名ﾃﾞｰﾀ!$B:$L,6,0))))","v":""},{"$f":"IF($E67=\"\",\"\",IF(ISERROR(VLOOKUP($E67,氏名ﾃﾞｰﾀ!$B:$L,7,0)),IF(ISERROR(VLOOKUP($E67,新規登録!$B:$L,7,0)),\"未登録\",VLOOKUP($E67,新規登録!$B:$L,7,0)),(VLOOKUP($E67,氏名ﾃﾞｰﾀ!$B:$L,7,0))))","v":""},{"$f":"IF($E67=\"\",\"\",IF(ISERROR(VLOOKUP($E67,氏名ﾃﾞｰﾀ!$B:$L,10,0)),IF(ISERROR(VLOOKUP($E67,新規登録!$B:$L,8,0)),\"未登録\",VLOOKUP($E67,新規登録!$B:$L,8,0)),(VLOOKUP($E67,氏名ﾃﾞｰﾀ!$B:$L,10,0))))","v":""},{"$f":"IF($E67=\"\",\"\",IF(ISERROR(VLOOKUP($E67,氏名ﾃﾞｰﾀ!$B:$L,11,0)),IF(ISERROR(VLOOKUP($E67,新規登録!$B:$L,11,0)),\"未登録\",VLOOKUP($E67,新規登録!$B:$L,11,0)),$G$3))","v":""},{"$f":"IF($E67=\"\",\"\",IF(ISERROR(VLOOKUP($E67,氏名ﾃﾞｰﾀ!$B:$L,8,0)),IF(ISERROR(VLOOKUP($E67,新規登録!$B:$L,10,0)),\"ﾅｼ\",VLOOKUP($E67,新規登録!$B:$L,10,0)),(VLOOKUP($E67,氏名ﾃﾞｰﾀ!$B:$L,8,0))))","v":""},{"$f":"IF($E67=\"\",\"\",IF(ISERROR(VLOOKUP($E67,氏名ﾃﾞｰﾀ!$B:$M,12,0)),IF(ISERROR(VLOOKUP($E67,新規登録!$B:$L,9,0)),\"未登録\",VLOOKUP($E67,新規登録!$B:$L,9,0)),(VLOOKUP($E67,氏名ﾃﾞｰﾀ!$B:$M,12,0))))","v":""},null,null,null,null,null,null,null,null,null,null,null,null,null,null,null,null,null,null,null,null,null,null,null,null,"","",2,"1000","","","","","","1000","","","","","",1000,"","","","","",1000,"","","","",""]
["","",{"$f":"IF(E68=\"\",\"\",IF(AP68=1,COUNTIF(AP$16:AP68,1)*10+2001-10,COUNTIF(AP$16:AP68,2)*10+6001-10))","v":""},53,null,{"$f":"IF($E68=\"\",\"\",IF(ISERROR(VLOOKUP($E68,氏名ﾃﾞｰﾀ!$B:$L,2,0)),IF(ISERROR(VLOOKUP($E68,新規登録!$B:$L,2,0)),\"未登録\",VLOOKUP($E68,新規登録!$B:$L,2,0)),(VLOOKUP($E68,氏名ﾃﾞｰﾀ!$B:$L,2,0))))","v":""},{"$f":"IF($E68=\"\",\"\",IF(ISERROR(VLOOKUP($E68,氏名ﾃﾞｰﾀ!$B:$L,3,0)),IF(ISERROR(VLOOKUP($E68,新規登録!$B:$L,3,0)),\"未登録\",VLOOKUP($E68,新規登録!$B:$L,3,0)),(VLOOKUP($E68,氏名ﾃﾞｰﾀ!$B:$L,3,0))))","v":""},{"$f":"IF($E68=\"\",\"\",IF(ISERROR(VLOOKUP($E68,氏名ﾃﾞｰﾀ!$B:$L,4,0)),IF(ISERROR(VLOOKUP($E68,新規登録!$B:$L,4,0)),\"未登録\",VLOOKUP($E68,新規登録!$B:$L,4,0)),(VLOOKUP($E68,氏名ﾃﾞｰﾀ!$B:$L,4,0))))","v":""},{"$f":"IF($E68=\"\",\"\",IF(ISERROR(VLOOKUP($E68,氏名ﾃﾞｰﾀ!$B:$L,5,0)),IF(ISERROR(VLOOKUP($E68,新規登録!$B:$L,5,0)),\"未登録\",VLOOKUP($E68,新規登録!$B:$L,5,0)),(VLOOKUP($E68,氏名ﾃﾞｰﾀ!$B:$L,5,0))))","v":""},{"$f":"IF($E68=\"\",\"\",IF(ISERROR(VLOOKUP($E68,氏名ﾃﾞｰﾀ!$B:$L,6,0)),IF(ISERROR(VLOOKUP($E68,新規登録!$B:$L,6,0)),\"未登録\",VLOOKUP($E68,新規登録!$B:$L,6,0)),(VLOOKUP($E68,氏名ﾃﾞｰﾀ!$B:$L,6,0))))","v":""},{"$f":"IF($E68=\"\",\"\",IF(ISERROR(VLOOKUP($E68,氏名ﾃﾞｰﾀ!$B:$L,7,0)),IF(ISERROR(VLOOKUP($E68,新規登録!$B:$L,7,0)),\"未登録\",VLOOKUP($E68,新規登録!$B:$L,7,0)),(VLOOKUP($E68,氏名ﾃﾞｰﾀ!$B:$L,7,0))))","v":""},{"$f":"IF($E68=\"\",\"\",IF(ISERROR(VLOOKUP($E68,氏名ﾃﾞｰﾀ!$B:$L,10,0)),IF(ISERROR(VLOOKUP($E68,新規登録!$B:$L,8,0)),\"未登録\",VLOOKUP($E68,新規登録!$B:$L,8,0)),(VLOOKUP($E68,氏名ﾃﾞｰﾀ!$B:$L,10,0))))","v":""},{"$f":"IF($E68=\"\",\"\",IF(ISERROR(VLOOKUP($E68,氏名ﾃﾞｰﾀ!$B:$L,11,0)),IF(ISERROR(VLOOKUP($E68,新規登録!$B:$L,11,0)),\"未登録\",VLOOKUP($E68,新規登録!$B:$L,11,0)),$G$3))","v":""},{"$f":"IF($E68=\"\",\"\",IF(ISERROR(VLOOKUP($E68,氏名ﾃﾞｰﾀ!$B:$L,8,0)),IF(ISERROR(VLOOKUP($E68,新規登録!$B:$L,10,0)),\"ﾅｼ\",VLOOKUP($E68,新規登録!$B:$L,10,0)),(VLOOKUP($E68,氏名ﾃﾞｰﾀ!$B:$L,8,0))))","v":""},{"$f":"IF($E68=\"\",\"\",IF(ISERROR(VLOOKUP($E68,氏名ﾃﾞｰﾀ!$B:$M,12,0)),IF(ISERROR(VLOOKUP($E68,新規登録!$B:$L,9,0)),\"未登録\",VLOOKUP($E68,新規登録!$B:$L,9,0)),(VLOOKUP($E68,氏名ﾃﾞｰﾀ!$B:$M,12,0))))","v":""},null,null,null,null,null,null,null,null,null,null,null,null,null,null,null,null,null,null,null,null,null,null,null,null,"","",2,"1000","","","","","","1000","","","","","",1000,"","","","","",1000,"","","","",""]
["","",{"$f":"IF(E69=\"\",\"\",IF(AP69=1,COUNTIF(AP$16:AP69,1)*10+2001-10,COUNTIF(AP$16:AP69,2)*10+6001-10))","v":""},54,null,{"$f":"IF($E69=\"\",\"\",IF(ISERROR(VLOOKUP($E69,氏名ﾃﾞｰﾀ!$B:$L,2,0)),IF(ISERROR(VLOOKUP($E69,新規登録!$B:$L,2,0)),\"未登録\",VLOOKUP($E69,新規登録!$B:$L,2,0)),(VLOOKUP($E69,氏名ﾃﾞｰﾀ!$B:$L,2,0))))","v":""},{"$f":"IF($E69=\"\",\"\",IF(ISERROR(VLOOKUP($E69,氏名ﾃﾞｰﾀ!$B:$L,3,0)),IF(ISERROR(VLOOKUP($E69,新規登録!$B:$L,3,0)),\"未登録\",VLOOKUP($E69,新規登録!$B:$L,3,0)),(VLOOKUP($E69,氏名ﾃﾞｰﾀ!$B:$L,3,0))))","v":""},{"$f":"IF($E69=\"\",\"\",IF(ISERROR(VLOOKUP($E69,氏名ﾃﾞｰﾀ!$B:$L,4,0)),IF(ISERROR(VLOOKUP($E69,新規登録!$B:$L,4,0)),\"未登録\",VLOOKUP($E69,新規登録!$B:$L,4,0)),(VLOOKUP($E69,氏名ﾃﾞｰﾀ!$B:$L,4,0))))","v":""},{"$f":"IF($E69=\"\",\"\",IF(ISERROR(VLOOKUP($E69,氏名ﾃﾞｰﾀ!$B:$L,5,0)),IF(ISERROR(VLOOKUP($E69,新規登録!$B:$L,5,0)),\"未登録\",VLOOKUP($E69,新規登録!$B:$L,5,0)),(VLOOKUP($E69,氏名ﾃﾞｰﾀ!$B:$L,5,0))))","v":""},{"$f":"IF($E69=\"\",\"\",IF(ISERROR(VLOOKUP($E69,氏名ﾃﾞｰﾀ!$B:$L,6,0)),IF(ISERROR(VLOOKUP($E69,新規登録!$B:$L,6,0)),\"未登録\",VLOOKUP($E69,新規登録!$B:$L,6,0)),(VLOOKUP($E69,氏名ﾃﾞｰﾀ!$B:$L,6,0))))","v":""},{"$f":"IF($E69=\"\",\"\",IF(ISERROR(VLOOKUP($E69,氏名ﾃﾞｰﾀ!$B:$L,7,0)),IF(ISERROR(VLOOKUP($E69,新規登録!$B:$L,7,0)),\"未登録\",VLOOKUP($E69,新規登録!$B:$L,7,0)),(VLOOKUP($E69,氏名ﾃﾞｰﾀ!$B:$L,7,0))))","v":""},{"$f":"IF($E69=\"\",\"\",IF(ISERROR(VLOOKUP($E69,氏名ﾃﾞｰﾀ!$B:$L,10,0)),IF(ISERROR(VLOOKUP($E69,新規登録!$B:$L,8,0)),\"未登録\",VLOOKUP($E69,新規登録!$B:$L,8,0)),(VLOOKUP($E69,氏名ﾃﾞｰﾀ!$B:$L,10,0))))","v":""},{"$f":"IF($E69=\"\",\"\",IF(ISERROR(VLOOKUP($E69,氏名ﾃﾞｰﾀ!$B:$L,11,0)),IF(ISERROR(VLOOKUP($E69,新規登録!$B:$L,11,0)),\"未登録\",VLOOKUP($E69,新規登録!$B:$L,11,0)),$G$3))","v":""},{"$f":"IF($E69=\"\",\"\",IF(ISERROR(VLOOKUP($E69,氏名ﾃﾞｰﾀ!$B:$L,8,0)),IF(ISERROR(VLOOKUP($E69,新規登録!$B:$L,10,0)),\"ﾅｼ\",VLOOKUP($E69,新規登録!$B:$L,10,0)),(VLOOKUP($E69,氏名ﾃﾞｰﾀ!$B:$L,8,0))))","v":""},{"$f":"IF($E69=\"\",\"\",IF(ISERROR(VLOOKUP($E69,氏名ﾃﾞｰﾀ!$B:$M,12,0)),IF(ISERROR(VLOOKUP($E69,新規登録!$B:$L,9,0)),\"未登録\",VLOOKUP($E69,新規登録!$B:$L,9,0)),(VLOOKUP($E69,氏名ﾃﾞｰﾀ!$B:$M,12,0))))","v":""},null,null,null,null,null,null,null,null,null,null,null,null,null,null,null,null,null,null,null,null,null,null,null,null,"","",2,"1000","","","","","","1000","","","","","",1000,"","","","","",1000,"","","","",""]
["","",{"$f":"IF(E70=\"\",\"\",IF(AP70=1,COUNTIF(AP$16:AP70,1)*10+2001-10,COUNTIF(AP$16:AP70,2)*10+6001-10))","v":""},55,null,{"$f":"IF($E70=\"\",\"\",IF(ISERROR(VLOOKUP($E70,氏名ﾃﾞｰﾀ!$B:$L,2,0)),IF(ISERROR(VLOOKUP($E70,新規登録!$B:$L,2,0)),\"未登録\",VLOOKUP($E70,新規登録!$B:$L,2,0)),(VLOOKUP($E70,氏名ﾃﾞｰﾀ!$B:$L,2,0))))","v":""},{"$f":"IF($E70=\"\",\"\",IF(ISERROR(VLOOKUP($E70,氏名ﾃﾞｰﾀ!$B:$L,3,0)),IF(ISERROR(VLOOKUP($E70,新規登録!$B:$L,3,0)),\"未登録\",VLOOKUP($E70,新規登録!$B:$L,3,0)),(VLOOKUP($E70,氏名ﾃﾞｰﾀ!$B:$L,3,0))))","v":""},{"$f":"IF($E70=\"\",\"\",IF(ISERROR(VLOOKUP($E70,氏名ﾃﾞｰﾀ!$B:$L,4,0)),IF(ISERROR(VLOOKUP($E70,新規登録!$B:$L,4,0)),\"未登録\",VLOOKUP($E70,新規登録!$B:$L,4,0)),(VLOOKUP($E70,氏名ﾃﾞｰﾀ!$B:$L,4,0))))","v":""},{"$f":"IF($E70=\"\",\"\",IF(ISERROR(VLOOKUP($E70,氏名ﾃﾞｰﾀ!$B:$L,5,0)),IF(ISERROR(VLOOKUP($E70,新規登録!$B:$L,5,0)),\"未登録\",VLOOKUP($E70,新規登録!$B:$L,5,0)),(VLOOKUP($E70,氏名ﾃﾞｰﾀ!$B:$L,5,0))))","v":""},{"$f":"IF($E70=\"\",\"\",IF(ISERROR(VLOOKUP($E70,氏名ﾃﾞｰﾀ!$B:$L,6,0)),IF(ISERROR(VLOOKUP($E70,新規登録!$B:$L,6,0)),\"未登録\",VLOOKUP($E70,新規登録!$B:$L,6,0)),(VLOOKUP($E70,氏名ﾃﾞｰﾀ!$B:$L,6,0))))","v":""},{"$f":"IF($E70=\"\",\"\",IF(ISERROR(VLOOKUP($E70,氏名ﾃﾞｰﾀ!$B:$L,7,0)),IF(ISERROR(VLOOKUP($E70,新規登録!$B:$L,7,0)),\"未登録\",VLOOKUP($E70,新規登録!$B:$L,7,0)),(VLOOKUP($E70,氏名ﾃﾞｰﾀ!$B:$L,7,0))))","v":""},{"$f":"IF($E70=\"\",\"\",IF(ISERROR(VLOOKUP($E70,氏名ﾃﾞｰﾀ!$B:$L,10,0)),IF(ISERROR(VLOOKUP($E70,新規登録!$B:$L,8,0)),\"未登録\",VLOOKUP($E70,新規登録!$B:$L,8,0)),(VLOOKUP($E70,氏名ﾃﾞｰﾀ!$B:$L,10,0))))","v":""},{"$f":"IF($E70=\"\",\"\",IF(ISERROR(VLOOKUP($E70,氏名ﾃﾞｰﾀ!$B:$L,11,0)),IF(ISERROR(VLOOKUP($E70,新規登録!$B:$L,11,0)),\"未登録\",VLOOKUP($E70,新規登録!$B:$L,11,0)),$G$3))","v":""},{"$f":"IF($E70=\"\",\"\",IF(ISERROR(VLOOKUP($E70,氏名ﾃﾞｰﾀ!$B:$L,8,0)),IF(ISERROR(VLOOKUP($E70,新規登録!$B:$L,10,0)),\"ﾅｼ\",VLOOKUP($E70,新規登録!$B:$L,10,0)),(VLOOKUP($E70,氏名ﾃﾞｰﾀ!$B:$L,8,0))))","v":""},{"$f":"IF($E70=\"\",\"\",IF(ISERROR(VLOOKUP($E70,氏名ﾃﾞｰﾀ!$B:$M,12,0)),IF(ISERROR(VLOOKUP($E70,新規登録!$B:$L,9,0)),\"未登録\",VLOOKUP($E70,新規登録!$B:$L,9,0)),(VLOOKUP($E70,氏名ﾃﾞｰﾀ!$B:$M,12,0))))","v":""},null,null,null,null,null,null,null,null,null,null,null,null,null,null,null,null,null,null,null,null,null,null,null,null,"","",2,"1000","","","","","","1000","","","","","",1000,"","","","","",1000,"","","","",""]
["","",{"$f":"IF(E71=\"\",\"\",IF(AP71=1,COUNTIF(AP$16:AP71,1)*10+2001-10,COUNTIF(AP$16:AP71,2)*10+6001-10))","v":""},56,null,{"$f":"IF($E71=\"\",\"\",IF(ISERROR(VLOOKUP($E71,氏名ﾃﾞｰﾀ!$B:$L,2,0)),IF(ISERROR(VLOOKUP($E71,新規登録!$B:$L,2,0)),\"未登録\",VLOOKUP($E71,新規登録!$B:$L,2,0)),(VLOOKUP($E71,氏名ﾃﾞｰﾀ!$B:$L,2,0))))","v":""},{"$f":"IF($E71=\"\",\"\",IF(ISERROR(VLOOKUP($E71,氏名ﾃﾞｰﾀ!$B:$L,3,0)),IF(ISERROR(VLOOKUP($E71,新規登録!$B:$L,3,0)),\"未登録\",VLOOKUP($E71,新規登録!$B:$L,3,0)),(VLOOKUP($E71,氏名ﾃﾞｰﾀ!$B:$L,3,0))))","v":""},{"$f":"IF($E71=\"\",\"\",IF(ISERROR(VLOOKUP($E71,氏名ﾃﾞｰﾀ!$B:$L,4,0)),IF(ISERROR(VLOOKUP($E71,新規登録!$B:$L,4,0)),\"未登録\",VLOOKUP($E71,新規登録!$B:$L,4,0)),(VLOOKUP($E71,氏名ﾃﾞｰﾀ!$B:$L,4,0))))","v":""},{"$f":"IF($E71=\"\",\"\",IF(ISERROR(VLOOKUP($E71,氏名ﾃﾞｰﾀ!$B:$L,5,0)),IF(ISERROR(VLOOKUP($E71,新規登録!$B:$L,5,0)),\"未登録\",VLOOKUP($E71,新規登録!$B:$L,5,0)),(VLOOKUP($E71,氏名ﾃﾞｰﾀ!$B:$L,5,0))))","v":""},{"$f":"IF($E71=\"\",\"\",IF(ISERROR(VLOOKUP($E71,氏名ﾃﾞｰﾀ!$B:$L,6,0)),IF(ISERROR(VLOOKUP($E71,新規登録!$B:$L,6,0)),\"未登録\",VLOOKUP($E71,新規登録!$B:$L,6,0)),(VLOOKUP($E71,氏名ﾃﾞｰﾀ!$B:$L,6,0))))","v":""},{"$f":"IF($E71=\"\",\"\",IF(ISERROR(VLOOKUP($E71,氏名ﾃﾞｰﾀ!$B:$L,7,0)),IF(ISERROR(VLOOKUP($E71,新規登録!$B:$L,7,0)),\"未登録\",VLOOKUP($E71,新規登録!$B:$L,7,0)),(VLOOKUP($E71,氏名ﾃﾞｰﾀ!$B:$L,7,0))))","v":""},{"$f":"IF($E71=\"\",\"\",IF(ISERROR(VLOOKUP($E71,氏名ﾃﾞｰﾀ!$B:$L,10,0)),IF(ISERROR(VLOOKUP($E71,新規登録!$B:$L,8,0)),\"未登録\",VLOOKUP($E71,新規登録!$B:$L,8,0)),(VLOOKUP($E71,氏名ﾃﾞｰﾀ!$B:$L,10,0))))","v":""},{"$f":"IF($E71=\"\",\"\",IF(ISERROR(VLOOKUP($E71,氏名ﾃﾞｰﾀ!$B:$L,11,0)),IF(ISERROR(VLOOKUP($E71,新規登録!$B:$L,11,0)),\"未登録\",VLOOKUP($E71,新規登録!$B:$L,11,0)),$G$3))","v":""},{"$f":"IF($E71=\"\",\"\",IF(ISERROR(VLOOKUP($E71,氏名ﾃﾞｰﾀ!$B:$L,8,0)),IF(ISERROR(VLOOKUP($E71,新規登録!$B:$L,10,0)),\"ﾅｼ\",VLOOKUP($E71,新規登録!$B:$L,10,0)),(VLOOKUP($E71,氏名ﾃﾞｰﾀ!$B:$L,8,0))))","v":""},{"$f":"IF($E71=\"\",\"\",IF(ISERROR(VLOOKUP($E71,氏名ﾃﾞｰﾀ!$B:$M,12,0)),IF(ISERROR(VLOOKUP($E71,新規登録!$B:$L,9,0)),\"未登録\",VLOOKUP($E71,新規登録!$B:$L,9,0)),(VLOOKUP($E71,氏名ﾃﾞｰﾀ!$B:$M,12,0))))","v":""},null,null,null,null,null,null,null,null,null,null,null,null,null,null,null,null,null,null,null,null,null,null,null,null,"","",2,"1000","","","","","","1000","","","","","",1000,"","","","","",1000,"","","","",""]
["","",{"$f":"IF(E72=\"\",\"\",IF(AP72=1,COUNTIF(AP$16:AP72,1)*10+2001-10,COUNTIF(AP$16:AP72,2)*10+6001-10))","v":""},57,null,{"$f":"IF($E72=\"\",\"\",IF(ISERROR(VLOOKUP($E72,氏名ﾃﾞｰﾀ!$B:$L,2,0)),IF(ISERROR(VLOOKUP($E72,新規登録!$B:$L,2,0)),\"未登録\",VLOOKUP($E72,新規登録!$B:$L,2,0)),(VLOOKUP($E72,氏名ﾃﾞｰﾀ!$B:$L,2,0))))","v":""},{"$f":"IF($E72=\"\",\"\",IF(ISERROR(VLOOKUP($E72,氏名ﾃﾞｰﾀ!$B:$L,3,0)),IF(ISERROR(VLOOKUP($E72,新規登録!$B:$L,3,0)),\"未登録\",VLOOKUP($E72,新規登録!$B:$L,3,0)),(VLOOKUP($E72,氏名ﾃﾞｰﾀ!$B:$L,3,0))))","v":""},{"$f":"IF($E72=\"\",\"\",IF(ISERROR(VLOOKUP($E72,氏名ﾃﾞｰﾀ!$B:$L,4,0)),IF(ISERROR(VLOOKUP($E72,新規登録!$B:$L,4,0)),\"未登録\",VLOOKUP($E72,新規登録!$B:$L,4,0)),(VLOOKUP($E72,氏名ﾃﾞｰﾀ!$B:$L,4,0))))","v":""},{"$f":"IF($E72=\"\",\"\",IF(ISERROR(VLOOKUP($E72,氏名ﾃﾞｰﾀ!$B:$L,5,0)),IF(ISERROR(VLOOKUP($E72,新規登録!$B:$L,5,0)),\"未登録\",VLOOKUP($E72,新規登録!$B:$L,5,0)),(VLOOKUP($E72,氏名ﾃﾞｰﾀ!$B:$L,5,0))))","v":""},{"$f":"IF($E72=\"\",\"\",IF(ISERROR(VLOOKUP($E72,氏名ﾃﾞｰﾀ!$B:$L,6,0)),IF(ISERROR(VLOOKUP($E72,新規登録!$B:$L,6,0)),\"未登録\",VLOOKUP($E72,新規登録!$B:$L,6,0)),(VLOOKUP($E72,氏名ﾃﾞｰﾀ!$B:$L,6,0))))","v":""},{"$f":"IF($E72=\"\",\"\",IF(ISERROR(VLOOKUP($E72,氏名ﾃﾞｰﾀ!$B:$L,7,0)),IF(ISERROR(VLOOKUP($E72,新規登録!$B:$L,7,0)),\"未登録\",VLOOKUP($E72,新規登録!$B:$L,7,0)),(VLOOKUP($E72,氏名ﾃﾞｰﾀ!$B:$L,7,0))))","v":""},{"$f":"IF($E72=\"\",\"\",IF(ISERROR(VLOOKUP($E72,氏名ﾃﾞｰﾀ!$B:$L,10,0)),IF(ISERROR(VLOOKUP($E72,新規登録!$B:$L,8,0)),\"未登録\",VLOOKUP($E72,新規登録!$B:$L,8,0)),(VLOOKUP($E72,氏名ﾃﾞｰﾀ!$B:$L,10,0))))","v":""},{"$f":"IF($E72=\"\",\"\",IF(ISERROR(VLOOKUP($E72,氏名ﾃﾞｰﾀ!$B:$L,11,0)),IF(ISERROR(VLOOKUP($E72,新規登録!$B:$L,11,0)),\"未登録\",VLOOKUP($E72,新規登録!$B:$L,11,0)),$G$3))","v":""},{"$f":"IF($E72=\"\",\"\",IF(ISERROR(VLOOKUP($E72,氏名ﾃﾞｰﾀ!$B:$L,8,0)),IF(ISERROR(VLOOKUP($E72,新規登録!$B:$L,10,0)),\"ﾅｼ\",VLOOKUP($E72,新規登録!$B:$L,10,0)),(VLOOKUP($E72,氏名ﾃﾞｰﾀ!$B:$L,8,0))))","v":""},{"$f":"IF($E72=\"\",\"\",IF(ISERROR(VLOOKUP($E72,氏名ﾃﾞｰﾀ!$B:$M,12,0)),IF(ISERROR(VLOOKUP($E72,新規登録!$B:$L,9,0)),\"未登録\",VLOOKUP($E72,新規登録!$B:$L,9,0)),(VLOOKUP($E72,氏名ﾃﾞｰﾀ!$B:$M,12,0))))","v":""},null,null,null,null,null,null,null,null,null,null,null,null,null,null,null,null,null,null,null,null,null,null,null,null,"","",2,"1000","","","","","","1000","","","","","",1000,"","","","","",1000,"","","","",""]
["","",{"$f":"IF(E73=\"\",\"\",IF(AP73=1,COUNTIF(AP$16:AP73,1)*10+2001-10,COUNTIF(AP$16:AP73,2)*10+6001-10))","v":""},58,null,{"$f":"IF($E73=\"\",\"\",IF(ISERROR(VLOOKUP($E73,氏名ﾃﾞｰﾀ!$B:$L,2,0)),IF(ISERROR(VLOOKUP($E73,新規登録!$B:$L,2,0)),\"未登録\",VLOOKUP($E73,新規登録!$B:$L,2,0)),(VLOOKUP($E73,氏名ﾃﾞｰﾀ!$B:$L,2,0))))","v":""},{"$f":"IF($E73=\"\",\"\",IF(ISERROR(VLOOKUP($E73,氏名ﾃﾞｰﾀ!$B:$L,3,0)),IF(ISERROR(VLOOKUP($E73,新規登録!$B:$L,3,0)),\"未登録\",VLOOKUP($E73,新規登録!$B:$L,3,0)),(VLOOKUP($E73,氏名ﾃﾞｰﾀ!$B:$L,3,0))))","v":""},{"$f":"IF($E73=\"\",\"\",IF(ISERROR(VLOOKUP($E73,氏名ﾃﾞｰﾀ!$B:$L,4,0)),IF(ISERROR(VLOOKUP($E73,新規登録!$B:$L,4,0)),\"未登録\",VLOOKUP($E73,新規登録!$B:$L,4,0)),(VLOOKUP($E73,氏名ﾃﾞｰﾀ!$B:$L,4,0))))","v":""},{"$f":"IF($E73=\"\",\"\",IF(ISERROR(VLOOKUP($E73,氏名ﾃﾞｰﾀ!$B:$L,5,0)),IF(ISERROR(VLOOKUP($E73,新規登録!$B:$L,5,0)),\"未登録\",VLOOKUP($E73,新規登録!$B:$L,5,0)),(VLOOKUP($E73,氏名ﾃﾞｰﾀ!$B:$L,5,0))))","v":""},{"$f":"IF($E73=\"\",\"\",IF(ISERROR(VLOOKUP($E73,氏名ﾃﾞｰﾀ!$B:$L,6,0)),IF(ISERROR(VLOOKUP($E73,新規登録!$B:$L,6,0)),\"未登録\",VLOOKUP($E73,新規登録!$B:$L,6,0)),(VLOOKUP($E73,氏名ﾃﾞｰﾀ!$B:$L,6,0))))","v":""},{"$f":"IF($E73=\"\",\"\",IF(ISERROR(VLOOKUP($E73,氏名ﾃﾞｰﾀ!$B:$L,7,0)),IF(ISERROR(VLOOKUP($E73,新規登録!$B:$L,7,0)),\"未登録\",VLOOKUP($E73,新規登録!$B:$L,7,0)),(VLOOKUP($E73,氏名ﾃﾞｰﾀ!$B:$L,7,0))))","v":""},{"$f":"IF($E73=\"\",\"\",IF(ISERROR(VLOOKUP($E73,氏名ﾃﾞｰﾀ!$B:$L,10,0)),IF(ISERROR(VLOOKUP($E73,新規登録!$B:$L,8,0)),\"未登録\",VLOOKUP($E73,新規登録!$B:$L,8,0)),(VLOOKUP($E73,氏名ﾃﾞｰﾀ!$B:$L,10,0))))","v":""},{"$f":"IF($E73=\"\",\"\",IF(ISERROR(VLOOKUP($E73,氏名ﾃﾞｰﾀ!$B:$L,11,0)),IF(ISERROR(VLOOKUP($E73,新規登録!$B:$L,11,0)),\"未登録\",VLOOKUP($E73,新規登録!$B:$L,11,0)),$G$3))","v":""},{"$f":"IF($E73=\"\",\"\",IF(ISERROR(VLOOKUP($E73,氏名ﾃﾞｰﾀ!$B:$L,8,0)),IF(ISERROR(VLOOKUP($E73,新規登録!$B:$L,10,0)),\"ﾅｼ\",VLOOKUP($E73,新規登録!$B:$L,10,0)),(VLOOKUP($E73,氏名ﾃﾞｰﾀ!$B:$L,8,0))))","v":""},{"$f":"IF($E73=\"\",\"\",IF(ISERROR(VLOOKUP($E73,氏名ﾃﾞｰﾀ!$B:$M,12,0)),IF(ISERROR(VLOOKUP($E73,新規登録!$B:$L,9,0)),\"未登録\",VLOOKUP($E73,新規登録!$B:$L,9,0)),(VLOOKUP($E73,氏名ﾃﾞｰﾀ!$B:$M,12,0))))","v":""},null,null,null,null,null,null,null,null,null,null,null,null,null,null,null,null,null,null,null,null,null,null,null,null,"","",2,"1000","","","","","","1000","","","","","",1000,"","","","","",1000,"","","","",""]
["","",{"$f":"IF(E74=\"\",\"\",IF(AP74=1,COUNTIF(AP$16:AP74,1)*10+2001-10,COUNTIF(AP$16:AP74,2)*10+6001-10))","v":""},59,null,{"$f":"IF($E74=\"\",\"\",IF(ISERROR(VLOOKUP($E74,氏名ﾃﾞｰﾀ!$B:$L,2,0)),IF(ISERROR(VLOOKUP($E74,新規登録!$B:$L,2,0)),\"未登録\",VLOOKUP($E74,新規登録!$B:$L,2,0)),(VLOOKUP($E74,氏名ﾃﾞｰﾀ!$B:$L,2,0))))","v":""},{"$f":"IF($E74=\"\",\"\",IF(ISERROR(VLOOKUP($E74,氏名ﾃﾞｰﾀ!$B:$L,3,0)),IF(ISERROR(VLOOKUP($E74,新規登録!$B:$L,3,0)),\"未登録\",VLOOKUP($E74,新規登録!$B:$L,3,0)),(VLOOKUP($E74,氏名ﾃﾞｰﾀ!$B:$L,3,0))))","v":""},{"$f":"IF($E74=\"\",\"\",IF(ISERROR(VLOOKUP($E74,氏名ﾃﾞｰﾀ!$B:$L,4,0)),IF(ISERROR(VLOOKUP($E74,新規登録!$B:$L,4,0)),\"未登録\",VLOOKUP($E74,新規登録!$B:$L,4,0)),(VLOOKUP($E74,氏名ﾃﾞｰﾀ!$B:$L,4,0))))","v":""},{"$f":"IF($E74=\"\",\"\",IF(ISERROR(VLOOKUP($E74,氏名ﾃﾞｰﾀ!$B:$L,5,0)),IF(ISERROR(VLOOKUP($E74,新規登録!$B:$L,5,0)),\"未登録\",VLOOKUP($E74,新規登録!$B:$L,5,0)),(VLOOKUP($E74,氏名ﾃﾞｰﾀ!$B:$L,5,0))))","v":""},{"$f":"IF($E74=\"\",\"\",IF(ISERROR(VLOOKUP($E74,氏名ﾃﾞｰﾀ!$B:$L,6,0)),IF(ISERROR(VLOOKUP($E74,新規登録!$B:$L,6,0)),\"未登録\",VLOOKUP($E74,新規登録!$B:$L,6,0)),(VLOOKUP($E74,氏名ﾃﾞｰﾀ!$B:$L,6,0))))","v":""},{"$f":"IF($E74=\"\",\"\",IF(ISERROR(VLOOKUP($E74,氏名ﾃﾞｰﾀ!$B:$L,7,0)),IF(ISERROR(VLOOKUP($E74,新規登録!$B:$L,7,0)),\"未登録\",VLOOKUP($E74,新規登録!$B:$L,7,0)),(VLOOKUP($E74,氏名ﾃﾞｰﾀ!$B:$L,7,0))))","v":""},{"$f":"IF($E74=\"\",\"\",IF(ISERROR(VLOOKUP($E74,氏名ﾃﾞｰﾀ!$B:$L,10,0)),IF(ISERROR(VLOOKUP($E74,新規登録!$B:$L,8,0)),\"未登録\",VLOOKUP($E74,新規登録!$B:$L,8,0)),(VLOOKUP($E74,氏名ﾃﾞｰﾀ!$B:$L,10,0))))","v":""},{"$f":"IF($E74=\"\",\"\",IF(ISERROR(VLOOKUP($E74,氏名ﾃﾞｰﾀ!$B:$L,11,0)),IF(ISERROR(VLOOKUP($E74,新規登録!$B:$L,11,0)),\"未登録\",VLOOKUP($E74,新規登録!$B:$L,11,0)),$G$3))","v":""},{"$f":"IF($E74=\"\",\"\",IF(ISERROR(VLOOKUP($E74,氏名ﾃﾞｰﾀ!$B:$L,8,0)),IF(ISERROR(VLOOKUP($E74,新規登録!$B:$L,10,0)),\"ﾅｼ\",VLOOKUP($E74,新規登録!$B:$L,10,0)),(VLOOKUP($E74,氏名ﾃﾞｰﾀ!$B:$L,8,0))))","v":""},{"$f":"IF($E74=\"\",\"\",IF(ISERROR(VLOOKUP($E74,氏名ﾃﾞｰﾀ!$B:$M,12,0)),IF(ISERROR(VLOOKUP($E74,新規登録!$B:$L,9,0)),\"未登録\",VLOOKUP($E74,新規登録!$B:$L,9,0)),(VLOOKUP($E74,氏名ﾃﾞｰﾀ!$B:$M,12,0))))","v":""},null,null,null,null,null,null,null,null,null,null,null,null,null,null,null,null,null,null,null,null,null,null,null,null,"","",2,"1000","","","","","","1000","","","","","",1000,"","","","","",1000,"","","","",""]
["","",{"$f":"IF(E75=\"\",\"\",IF(AP75=1,COUNTIF(AP$16:AP75,1)*10+2001-10,COUNTIF(AP$16:AP75,2)*10+6001-10))","v":""},60,null,{"$f":"IF($E75=\"\",\"\",IF(ISERROR(VLOOKUP($E75,氏名ﾃﾞｰﾀ!$B:$L,2,0)),IF(ISERROR(VLOOKUP($E75,新規登録!$B:$L,2,0)),\"未登録\",VLOOKUP($E75,新規登録!$B:$L,2,0)),(VLOOKUP($E75,氏名ﾃﾞｰﾀ!$B:$L,2,0))))","v":""},{"$f":"IF($E75=\"\",\"\",IF(ISERROR(VLOOKUP($E75,氏名ﾃﾞｰﾀ!$B:$L,3,0)),IF(ISERROR(VLOOKUP($E75,新規登録!$B:$L,3,0)),\"未登録\",VLOOKUP($E75,新規登録!$B:$L,3,0)),(VLOOKUP($E75,氏名ﾃﾞｰﾀ!$B:$L,3,0))))","v":""},{"$f":"IF($E75=\"\",\"\",IF(ISERROR(VLOOKUP($E75,氏名ﾃﾞｰﾀ!$B:$L,4,0)),IF(ISERROR(VLOOKUP($E75,新規登録!$B:$L,4,0)),\"未登録\",VLOOKUP($E75,新規登録!$B:$L,4,0)),(VLOOKUP($E75,氏名ﾃﾞｰﾀ!$B:$L,4,0))))","v":""},{"$f":"IF($E75=\"\",\"\",IF(ISERROR(VLOOKUP($E75,氏名ﾃﾞｰﾀ!$B:$L,5,0)),IF(ISERROR(VLOOKUP($E75,新規登録!$B:$L,5,0)),\"未登録\",VLOOKUP($E75,新規登録!$B:$L,5,0)),(VLOOKUP($E75,氏名ﾃﾞｰﾀ!$B:$L,5,0))))","v":""},{"$f":"IF($E75=\"\",\"\",IF(ISERROR(VLOOKUP($E75,氏名ﾃﾞｰﾀ!$B:$L,6,0)),IF(ISERROR(VLOOKUP($E75,新規登録!$B:$L,6,0)),\"未登録\",VLOOKUP($E75,新規登録!$B:$L,6,0)),(VLOOKUP($E75,氏名ﾃﾞｰﾀ!$B:$L,6,0))))","v":""},{"$f":"IF($E75=\"\",\"\",IF(ISERROR(VLOOKUP($E75,氏名ﾃﾞｰﾀ!$B:$L,7,0)),IF(ISERROR(VLOOKUP($E75,新規登録!$B:$L,7,0)),\"未登録\",VLOOKUP($E75,新規登録!$B:$L,7,0)),(VLOOKUP($E75,氏名ﾃﾞｰﾀ!$B:$L,7,0))))","v":""},{"$f":"IF($E75=\"\",\"\",IF(ISERROR(VLOOKUP($E75,氏名ﾃﾞｰﾀ!$B:$L,10,0)),IF(ISERROR(VLOOKUP($E75,新規登録!$B:$L,8,0)),\"未登録\",VLOOKUP($E75,新規登録!$B:$L,8,0)),(VLOOKUP($E75,氏名ﾃﾞｰﾀ!$B:$L,10,0))))","v":""},{"$f":"IF($E75=\"\",\"\",IF(ISERROR(VLOOKUP($E75,氏名ﾃﾞｰﾀ!$B:$L,11,0)),IF(ISERROR(VLOOKUP($E75,新規登録!$B:$L,11,0)),\"未登録\",VLOOKUP($E75,新規登録!$B:$L,11,0)),$G$3))","v":""},{"$f":"IF($E75=\"\",\"\",IF(ISERROR(VLOOKUP($E75,氏名ﾃﾞｰﾀ!$B:$L,8,0)),IF(ISERROR(VLOOKUP($E75,新規登録!$B:$L,10,0)),\"ﾅｼ\",VLOOKUP($E75,新規登録!$B:$L,10,0)),(VLOOKUP($E75,氏名ﾃﾞｰﾀ!$B:$L,8,0))))","v":""},{"$f":"IF($E75=\"\",\"\",IF(ISERROR(VLOOKUP($E75,氏名ﾃﾞｰﾀ!$B:$M,12,0)),IF(ISERROR(VLOOKUP($E75,新規登録!$B:$L,9,0)),\"未登録\",VLOOKUP($E75,新規登録!$B:$L,9,0)),(VLOOKUP($E75,氏名ﾃﾞｰﾀ!$B:$M,12,0))))","v":""},null,null,null,null,null,null,null,null,null,null,null,null,null,null,null,null,null,null,null,null,null,null,null,null,"","",2,"1000","","","","","","1000","","","","","",1000,"","","","","",1000,"","","","",""]
["","",{"$f":"IF(E76=\"\",\"\",IF(AP76=1,COUNTIF(AP$16:AP76,1)*10+2001-10,COUNTIF(AP$16:AP76,2)*10+6001-10))","v":""},61,null,{"$f":"IF($E76=\"\",\"\",IF(ISERROR(VLOOKUP($E76,氏名ﾃﾞｰﾀ!$B:$L,2,0)),IF(ISERROR(VLOOKUP($E76,新規登録!$B:$L,2,0)),\"未登録\",VLOOKUP($E76,新規登録!$B:$L,2,0)),(VLOOKUP($E76,氏名ﾃﾞｰﾀ!$B:$L,2,0))))","v":""},{"$f":"IF($E76=\"\",\"\",IF(ISERROR(VLOOKUP($E76,氏名ﾃﾞｰﾀ!$B:$L,3,0)),IF(ISERROR(VLOOKUP($E76,新規登録!$B:$L,3,0)),\"未登録\",VLOOKUP($E76,新規登録!$B:$L,3,0)),(VLOOKUP($E76,氏名ﾃﾞｰﾀ!$B:$L,3,0))))","v":""},{"$f":"IF($E76=\"\",\"\",IF(ISERROR(VLOOKUP($E76,氏名ﾃﾞｰﾀ!$B:$L,4,0)),IF(ISERROR(VLOOKUP($E76,新規登録!$B:$L,4,0)),\"未登録\",VLOOKUP($E76,新規登録!$B:$L,4,0)),(VLOOKUP($E76,氏名ﾃﾞｰﾀ!$B:$L,4,0))))","v":""},{"$f":"IF($E76=\"\",\"\",IF(ISERROR(VLOOKUP($E76,氏名ﾃﾞｰﾀ!$B:$L,5,0)),IF(ISERROR(VLOOKUP($E76,新規登録!$B:$L,5,0)),\"未登録\",VLOOKUP($E76,新規登録!$B:$L,5,0)),(VLOOKUP($E76,氏名ﾃﾞｰﾀ!$B:$L,5,0))))","v":""},{"$f":"IF($E76=\"\",\"\",IF(ISERROR(VLOOKUP($E76,氏名ﾃﾞｰﾀ!$B:$L,6,0)),IF(ISERROR(VLOOKUP($E76,新規登録!$B:$L,6,0)),\"未登録\",VLOOKUP($E76,新規登録!$B:$L,6,0)),(VLOOKUP($E76,氏名ﾃﾞｰﾀ!$B:$L,6,0))))","v":""},{"$f":"IF($E76=\"\",\"\",IF(ISERROR(VLOOKUP($E76,氏名ﾃﾞｰﾀ!$B:$L,7,0)),IF(ISERROR(VLOOKUP($E76,新規登録!$B:$L,7,0)),\"未登録\",VLOOKUP($E76,新規登録!$B:$L,7,0)),(VLOOKUP($E76,氏名ﾃﾞｰﾀ!$B:$L,7,0))))","v":""},{"$f":"IF($E76=\"\",\"\",IF(ISERROR(VLOOKUP($E76,氏名ﾃﾞｰﾀ!$B:$L,10,0)),IF(ISERROR(VLOOKUP($E76,新規登録!$B:$L,8,0)),\"未登録\",VLOOKUP($E76,新規登録!$B:$L,8,0)),(VLOOKUP($E76,氏名ﾃﾞｰﾀ!$B:$L,10,0))))","v":""},{"$f":"IF($E76=\"\",\"\",IF(ISERROR(VLOOKUP($E76,氏名ﾃﾞｰﾀ!$B:$L,11,0)),IF(ISERROR(VLOOKUP($E76,新規登録!$B:$L,11,0)),\"未登録\",VLOOKUP($E76,新規登録!$B:$L,11,0)),$G$3))","v":""},{"$f":"IF($E76=\"\",\"\",IF(ISERROR(VLOOKUP($E76,氏名ﾃﾞｰﾀ!$B:$L,8,0)),IF(ISERROR(VLOOKUP($E76,新規登録!$B:$L,10,0)),\"ﾅｼ\",VLOOKUP($E76,新規登録!$B:$L,10,0)),(VLOOKUP($E76,氏名ﾃﾞｰﾀ!$B:$L,8,0))))","v":""},{"$f":"IF($E76=\"\",\"\",IF(ISERROR(VLOOKUP($E76,氏名ﾃﾞｰﾀ!$B:$M,12,0)),IF(ISERROR(VLOOKUP($E76,新規登録!$B:$L,9,0)),\"未登録\",VLOOKUP($E76,新規登録!$B:$L,9,0)),(VLOOKUP($E76,氏名ﾃﾞｰﾀ!$B:$M,12,0))))","v":""},null,null,null,null,null,null,null,null,null,null,null,null,null,null,null,null,null,null,null,null,null,null,null,null,"","",2,"1000","","","","","","1000","","","","","",1000,"","","","","",1000,"","","","",""]
["","",{"$f":"IF(E77=\"\",\"\",IF(AP77=1,COUNTIF(AP$16:AP77,1)*10+2001-10,COUNTIF(AP$16:AP77,2)*10+6001-10))","v":""},62,null,{"$f":"IF($E77=\"\",\"\",IF(ISERROR(VLOOKUP($E77,氏名ﾃﾞｰﾀ!$B:$L,2,0)),IF(ISERROR(VLOOKUP($E77,新規登録!$B:$L,2,0)),\"未登録\",VLOOKUP($E77,新規登録!$B:$L,2,0)),(VLOOKUP($E77,氏名ﾃﾞｰﾀ!$B:$L,2,0))))","v":""},{"$f":"IF($E77=\"\",\"\",IF(ISERROR(VLOOKUP($E77,氏名ﾃﾞｰﾀ!$B:$L,3,0)),IF(ISERROR(VLOOKUP($E77,新規登録!$B:$L,3,0)),\"未登録\",VLOOKUP($E77,新規登録!$B:$L,3,0)),(VLOOKUP($E77,氏名ﾃﾞｰﾀ!$B:$L,3,0))))","v":""},{"$f":"IF($E77=\"\",\"\",IF(ISERROR(VLOOKUP($E77,氏名ﾃﾞｰﾀ!$B:$L,4,0)),IF(ISERROR(VLOOKUP($E77,新規登録!$B:$L,4,0)),\"未登録\",VLOOKUP($E77,新規登録!$B:$L,4,0)),(VLOOKUP($E77,氏名ﾃﾞｰﾀ!$B:$L,4,0))))","v":""},{"$f":"IF($E77=\"\",\"\",IF(ISERROR(VLOOKUP($E77,氏名ﾃﾞｰﾀ!$B:$L,5,0)),IF(ISERROR(VLOOKUP($E77,新規登録!$B:$L,5,0)),\"未登録\",VLOOKUP($E77,新規登録!$B:$L,5,0)),(VLOOKUP($E77,氏名ﾃﾞｰﾀ!$B:$L,5,0))))","v":""},{"$f":"IF($E77=\"\",\"\",IF(ISERROR(VLOOKUP($E77,氏名ﾃﾞｰﾀ!$B:$L,6,0)),IF(ISERROR(VLOOKUP($E77,新規登録!$B:$L,6,0)),\"未登録\",VLOOKUP($E77,新規登録!$B:$L,6,0)),(VLOOKUP($E77,氏名ﾃﾞｰﾀ!$B:$L,6,0))))","v":""},{"$f":"IF($E77=\"\",\"\",IF(ISERROR(VLOOKUP($E77,氏名ﾃﾞｰﾀ!$B:$L,7,0)),IF(ISERROR(VLOOKUP($E77,新規登録!$B:$L,7,0)),\"未登録\",VLOOKUP($E77,新規登録!$B:$L,7,0)),(VLOOKUP($E77,氏名ﾃﾞｰﾀ!$B:$L,7,0))))","v":""},{"$f":"IF($E77=\"\",\"\",IF(ISERROR(VLOOKUP($E77,氏名ﾃﾞｰﾀ!$B:$L,10,0)),IF(ISERROR(VLOOKUP($E77,新規登録!$B:$L,8,0)),\"未登録\",VLOOKUP($E77,新規登録!$B:$L,8,0)),(VLOOKUP($E77,氏名ﾃﾞｰﾀ!$B:$L,10,0))))","v":""},{"$f":"IF($E77=\"\",\"\",IF(ISERROR(VLOOKUP($E77,氏名ﾃﾞｰﾀ!$B:$L,11,0)),IF(ISERROR(VLOOKUP($E77,新規登録!$B:$L,11,0)),\"未登録\",VLOOKUP($E77,新規登録!$B:$L,11,0)),$G$3))","v":""},{"$f":"IF($E77=\"\",\"\",IF(ISERROR(VLOOKUP($E77,氏名ﾃﾞｰﾀ!$B:$L,8,0)),IF(ISERROR(VLOOKUP($E77,新規登録!$B:$L,10,0)),\"ﾅｼ\",VLOOKUP($E77,新規登録!$B:$L,10,0)),(VLOOKUP($E77,氏名ﾃﾞｰﾀ!$B:$L,8,0))))","v":""},{"$f":"IF($E77=\"\",\"\",IF(ISERROR(VLOOKUP($E77,氏名ﾃﾞｰﾀ!$B:$M,12,0)),IF(ISERROR(VLOOKUP($E77,新規登録!$B:$L,9,0)),\"未登録\",VLOOKUP($E77,新規登録!$B:$L,9,0)),(VLOOKUP($E77,氏名ﾃﾞｰﾀ!$B:$M,12,0))))","v":""},null,null,null,null,null,null,null,null,null,null,null,null,null,null,null,null,null,null,null,null,null,null,null,null,"","",2,"1000","","","","","","1000","","","","","",1000,"","","","","",1000,"","","","",""]
["","",{"$f":"IF(E78=\"\",\"\",IF(AP78=1,COUNTIF(AP$16:AP78,1)*10+2001-10,COUNTIF(AP$16:AP78,2)*10+6001-10))","v":""},63,null,{"$f":"IF($E78=\"\",\"\",IF(ISERROR(VLOOKUP($E78,氏名ﾃﾞｰﾀ!$B:$L,2,0)),IF(ISERROR(VLOOKUP($E78,新規登録!$B:$L,2,0)),\"未登録\",VLOOKUP($E78,新規登録!$B:$L,2,0)),(VLOOKUP($E78,氏名ﾃﾞｰﾀ!$B:$L,2,0))))","v":""},{"$f":"IF($E78=\"\",\"\",IF(ISERROR(VLOOKUP($E78,氏名ﾃﾞｰﾀ!$B:$L,3,0)),IF(ISERROR(VLOOKUP($E78,新規登録!$B:$L,3,0)),\"未登録\",VLOOKUP($E78,新規登録!$B:$L,3,0)),(VLOOKUP($E78,氏名ﾃﾞｰﾀ!$B:$L,3,0))))","v":""},{"$f":"IF($E78=\"\",\"\",IF(ISERROR(VLOOKUP($E78,氏名ﾃﾞｰﾀ!$B:$L,4,0)),IF(ISERROR(VLOOKUP($E78,新規登録!$B:$L,4,0)),\"未登録\",VLOOKUP($E78,新規登録!$B:$L,4,0)),(VLOOKUP($E78,氏名ﾃﾞｰﾀ!$B:$L,4,0))))","v":""},{"$f":"IF($E78=\"\",\"\",IF(ISERROR(VLOOKUP($E78,氏名ﾃﾞｰﾀ!$B:$L,5,0)),IF(ISERROR(VLOOKUP($E78,新規登録!$B:$L,5,0)),\"未登録\",VLOOKUP($E78,新規登録!$B:$L,5,0)),(VLOOKUP($E78,氏名ﾃﾞｰﾀ!$B:$L,5,0))))","v":""},{"$f":"IF($E78=\"\",\"\",IF(ISERROR(VLOOKUP($E78,氏名ﾃﾞｰﾀ!$B:$L,6,0)),IF(ISERROR(VLOOKUP($E78,新規登録!$B:$L,6,0)),\"未登録\",VLOOKUP($E78,新規登録!$B:$L,6,0)),(VLOOKUP($E78,氏名ﾃﾞｰﾀ!$B:$L,6,0))))","v":""},{"$f":"IF($E78=\"\",\"\",IF(ISERROR(VLOOKUP($E78,氏名ﾃﾞｰﾀ!$B:$L,7,0)),IF(ISERROR(VLOOKUP($E78,新規登録!$B:$L,7,0)),\"未登録\",VLOOKUP($E78,新規登録!$B:$L,7,0)),(VLOOKUP($E78,氏名ﾃﾞｰﾀ!$B:$L,7,0))))","v":""},{"$f":"IF($E78=\"\",\"\",IF(ISERROR(VLOOKUP($E78,氏名ﾃﾞｰﾀ!$B:$L,10,0)),IF(ISERROR(VLOOKUP($E78,新規登録!$B:$L,8,0)),\"未登録\",VLOOKUP($E78,新規登録!$B:$L,8,0)),(VLOOKUP($E78,氏名ﾃﾞｰﾀ!$B:$L,10,0))))","v":""},{"$f":"IF($E78=\"\",\"\",IF(ISERROR(VLOOKUP($E78,氏名ﾃﾞｰﾀ!$B:$L,11,0)),IF(ISERROR(VLOOKUP($E78,新規登録!$B:$L,11,0)),\"未登録\",VLOOKUP($E78,新規登録!$B:$L,11,0)),$G$3))","v":""},{"$f":"IF($E78=\"\",\"\",IF(ISERROR(VLOOKUP($E78,氏名ﾃﾞｰﾀ!$B:$L,8,0)),IF(ISERROR(VLOOKUP($E78,新規登録!$B:$L,10,0)),\"ﾅｼ\",VLOOKUP($E78,新規登録!$B:$L,10,0)),(VLOOKUP($E78,氏名ﾃﾞｰﾀ!$B:$L,8,0))))","v":""},{"$f":"IF($E78=\"\",\"\",IF(ISERROR(VLOOKUP($E78,氏名ﾃﾞｰﾀ!$B:$M,12,0)),IF(ISERROR(VLOOKUP($E78,新規登録!$B:$L,9,0)),\"未登録\",VLOOKUP($E78,新規登録!$B:$L,9,0)),(VLOOKUP($E78,氏名ﾃﾞｰﾀ!$B:$M,12,0))))","v":""},null,null,null,null,null,null,null,null,null,null,null,null,null,null,null,null,null,null,null,null,null,null,null,null,"","",2,"1000","","","","","","1000","","","","","",1000,"","","","","",1000,"","","","",""]
["","",{"$f":"IF(E79=\"\",\"\",IF(AP79=1,COUNTIF(AP$16:AP79,1)*10+2001-10,COUNTIF(AP$16:AP79,2)*10+6001-10))","v":""},64,null,{"$f":"IF($E79=\"\",\"\",IF(ISERROR(VLOOKUP($E79,氏名ﾃﾞｰﾀ!$B:$L,2,0)),IF(ISERROR(VLOOKUP($E79,新規登録!$B:$L,2,0)),\"未登録\",VLOOKUP($E79,新規登録!$B:$L,2,0)),(VLOOKUP($E79,氏名ﾃﾞｰﾀ!$B:$L,2,0))))","v":""},{"$f":"IF($E79=\"\",\"\",IF(ISERROR(VLOOKUP($E79,氏名ﾃﾞｰﾀ!$B:$L,3,0)),IF(ISERROR(VLOOKUP($E79,新規登録!$B:$L,3,0)),\"未登録\",VLOOKUP($E79,新規登録!$B:$L,3,0)),(VLOOKUP($E79,氏名ﾃﾞｰﾀ!$B:$L,3,0))))","v":""},{"$f":"IF($E79=\"\",\"\",IF(ISERROR(VLOOKUP($E79,氏名ﾃﾞｰﾀ!$B:$L,4,0)),IF(ISERROR(VLOOKUP($E79,新規登録!$B:$L,4,0)),\"未登録\",VLOOKUP($E79,新規登録!$B:$L,4,0)),(VLOOKUP($E79,氏名ﾃﾞｰﾀ!$B:$L,4,0))))","v":""},{"$f":"IF($E79=\"\",\"\",IF(ISERROR(VLOOKUP($E79,氏名ﾃﾞｰﾀ!$B:$L,5,0)),IF(ISERROR(VLOOKUP($E79,新規登録!$B:$L,5,0)),\"未登録\",VLOOKUP($E79,新規登録!$B:$L,5,0)),(VLOOKUP($E79,氏名ﾃﾞｰﾀ!$B:$L,5,0))))","v":""},{"$f":"IF($E79=\"\",\"\",IF(ISERROR(VLOOKUP($E79,氏名ﾃﾞｰﾀ!$B:$L,6,0)),IF(ISERROR(VLOOKUP($E79,新規登録!$B:$L,6,0)),\"未登録\",VLOOKUP($E79,新規登録!$B:$L,6,0)),(VLOOKUP($E79,氏名ﾃﾞｰﾀ!$B:$L,6,0))))","v":""},{"$f":"IF($E79=\"\",\"\",IF(ISERROR(VLOOKUP($E79,氏名ﾃﾞｰﾀ!$B:$L,7,0)),IF(ISERROR(VLOOKUP($E79,新規登録!$B:$L,7,0)),\"未登録\",VLOOKUP($E79,新規登録!$B:$L,7,0)),(VLOOKUP($E79,氏名ﾃﾞｰﾀ!$B:$L,7,0))))","v":""},{"$f":"IF($E79=\"\",\"\",IF(ISERROR(VLOOKUP($E79,氏名ﾃﾞｰﾀ!$B:$L,10,0)),IF(ISERROR(VLOOKUP($E79,新規登録!$B:$L,8,0)),\"未登録\",VLOOKUP($E79,新規登録!$B:$L,8,0)),(VLOOKUP($E79,氏名ﾃﾞｰﾀ!$B:$L,10,0))))","v":""},{"$f":"IF($E79=\"\",\"\",IF(ISERROR(VLOOKUP($E79,氏名ﾃﾞｰﾀ!$B:$L,11,0)),IF(ISERROR(VLOOKUP($E79,新規登録!$B:$L,11,0)),\"未登録\",VLOOKUP($E79,新規登録!$B:$L,11,0)),$G$3))","v":""},{"$f":"IF($E79=\"\",\"\",IF(ISERROR(VLOOKUP($E79,氏名ﾃﾞｰﾀ!$B:$L,8,0)),IF(ISERROR(VLOOKUP($E79,新規登録!$B:$L,10,0)),\"ﾅｼ\",VLOOKUP($E79,新規登録!$B:$L,10,0)),(VLOOKUP($E79,氏名ﾃﾞｰﾀ!$B:$L,8,0))))","v":""},{"$f":"IF($E79=\"\",\"\",IF(ISERROR(VLOOKUP($E79,氏名ﾃﾞｰﾀ!$B:$M,12,0)),IF(ISERROR(VLOOKUP($E79,新規登録!$B:$L,9,0)),\"未登録\",VLOOKUP($E79,新規登録!$B:$L,9,0)),(VLOOKUP($E79,氏名ﾃﾞｰﾀ!$B:$M,12,0))))","v":""},null,null,null,null,null,null,null,null,null,null,null,null,null,null,null,null,null,null,null,null,null,null,null,null,"","",2,"1000","","","","","","1000","","","","","",1000,"","","","","",1000,"","","","",""]
[{"$f":"IF(AB80=\"\",\"\",IF(N80=\"男\",VLOOKUP(AB80,ﾘﾚｰｺｰﾄﾞ,2,0),VLOOKUP(AB80,ﾘﾚｰｺｰﾄﾞ女,2,0)))","v":""},{"$f":"IF(AF80=\"\",\"\",IF(N80=\"男\",VLOOKUP(AF80,ﾘﾚｰｺｰﾄﾞ,3,0),VLOOKUP(AF80,ﾘﾚｰｺｰﾄﾞ女,3,0)))","v":""},{"$f":"IF(E80=\"\",\"\",IF(AP80=1,COUNTIF(AP$16:AP80,1)*10+2001-10,COUNTIF(AP$16:AP80,2)*10+6001-10))","v":""},65,null,{"$f":"IF($E80=\"\",\"\",IF(ISERROR(VLOOKUP($E80,氏名ﾃﾞｰﾀ!$B:$L,2,0)),IF(ISERROR(VLOOKUP($E80,新規登録!$B:$L,2,0)),\"未登録\",VLOOKUP($E80,新規登録!$B:$L,2,0)),(VLOOKUP($E80,氏名ﾃﾞｰﾀ!$B:$L,2,0))))","v":""},{"$f":"IF($E80=\"\",\"\",IF(ISERROR(VLOOKUP($E80,氏名ﾃﾞｰﾀ!$B:$L,3,0)),IF(ISERROR(VLOOKUP($E80,新規登録!$B:$L,3,0)),\"未登録\",VLOOKUP($E80,新規登録!$B:$L,3,0)),(VLOOKUP($E80,氏名ﾃﾞｰﾀ!$B:$L,3,0))))","v":""},{"$f":"IF($E80=\"\",\"\",IF(ISERROR(VLOOKUP($E80,氏名ﾃﾞｰﾀ!$B:$L,4,0)),IF(ISERROR(VLOOKUP($E80,新規登録!$B:$L,4,0)),\"未登録\",VLOOKUP($E80,新規登録!$B:$L,4,0)),(VLOOKUP($E80,氏名ﾃﾞｰﾀ!$B:$L,4,0))))","v":""},{"$f":"IF($E80=\"\",\"\",IF(ISERROR(VLOOKUP($E80,氏名ﾃﾞｰﾀ!$B:$L,5,0)),IF(ISERROR(VLOOKUP($E80,新規登録!$B:$L,5,0)),\"未登録\",VLOOKUP($E80,新規登録!$B:$L,5,0)),(VLOOKUP($E80,氏名ﾃﾞｰﾀ!$B:$L,5,0))))","v":""},{"$f":"IF($E80=\"\",\"\",IF(ISERROR(VLOOKUP($E80,氏名ﾃﾞｰﾀ!$B:$L,6,0)),IF(ISERROR(VLOOKUP($E80,新規登録!$B:$L,6,0)),\"未登録\",VLOOKUP($E80,新規登録!$B:$L,6,0)),(VLOOKUP($E80,氏名ﾃﾞｰﾀ!$B:$L,6,0))))","v":""},{"$f":"IF($E80=\"\",\"\",IF(ISERROR(VLOOKUP($E80,氏名ﾃﾞｰﾀ!$B:$L,7,0)),IF(ISERROR(VLOOKUP($E80,新規登録!$B:$L,7,0)),\"未登録\",VLOOKUP($E80,新規登録!$B:$L,7,0)),(VLOOKUP($E80,氏名ﾃﾞｰﾀ!$B:$L,7,0))))","v":""},{"$f":"IF($E80=\"\",\"\",IF(ISERROR(VLOOKUP($E80,氏名ﾃﾞｰﾀ!$B:$L,10,0)),IF(ISERROR(VLOOKUP($E80,新規登録!$B:$L,8,0)),\"未登録\",VLOOKUP($E80,新規登録!$B:$L,8,0)),(VLOOKUP($E80,氏名ﾃﾞｰﾀ!$B:$L,10,0))))","v":""},{"$f":"IF($E80=\"\",\"\",IF(ISERROR(VLOOKUP($E80,氏名ﾃﾞｰﾀ!$B:$L,11,0)),IF(ISERROR(VLOOKUP($E80,新規登録!$B:$L,11,0)),\"未登録\",VLOOKUP($E80,新規登録!$B:$L,11,0)),$G$3))","v":""},{"$f":"IF($E80=\"\",\"\",IF(ISERROR(VLOOKUP($E80,氏名ﾃﾞｰﾀ!$B:$L,8,0)),IF(ISERROR(VLOOKUP($E80,新規登録!$B:$L,10,0)),\"ﾅｼ\",VLOOKUP($E80,新規登録!$B:$L,10,0)),(VLOOKUP($E80,氏名ﾃﾞｰﾀ!$B:$L,8,0))))","v":""},{"$f":"IF($E80=\"\",\"\",IF(ISERROR(VLOOKUP($E80,氏名ﾃﾞｰﾀ!$B:$M,12,0)),IF(ISERROR(VLOOKUP($E80,新規登録!$B:$L,9,0)),\"未登録\",VLOOKUP($E80,新規登録!$B:$L,9,0)),(VLOOKUP($E80,氏名ﾃﾞｰﾀ!$B:$M,12,0))))","v":""},null,null,null,null,null,null,null,null,null,null,null,null,null,null,null,null,null,null,null,null,null,null,null,null,{"$f":"IF(AB80=\"\",\"\",CONCATENATE(IF(AC80=\"\",\"0\",AC80),IF(AD80=\"\",\"00\",CHOOSE(LEN(AD80),CONCATENATE(\"0\",AD80),AD80)),IF(AE80=\"\",\"00\",CHOOSE(LEN(AE80),CONCATENATE(\"0\",AE80),AE80))))","v":""},{"$f":"IF(AF80=\"\",\"\",CONCATENATE(IF(AG80=\"\",\"0\",AG80),IF(AH80=\"\",\"00\",CHOOSE(LEN(AH80),CONCATENATE(\"0\",AH80),AH80)),IF(AI80=\"\",\"00\",CHOOSE(LEN(AI80),CONCATENATE(\"0\",AI80),AI80))))","v":""},2,{"$f":"IF(AP80=1,IF(A80=\"\",1000,A80),\"1000\")","v":"1000"},"","",{"$f":"IF(AP80=1,IF(A80=\"\",\"\",E80),\"\")","v":""},{"$f":"IF(AP80=1,IF(A80=\"\",\"\",RIGHT(AB80,2)),\"\")","v":""},{"$f":"IF(AP80=1,IF(A80=\"\",\"\",AN80),\"\")","v":""},{"$f":"IF(AP80=1,IF(B80=\"\",1000,B80),\"1000\")","v":"1000"},"","",{"$f":"IF(AP80=1,IF(B80=\"\",\"\",E80),\"\")","v":""},{"$f":"IF(AP80=1,IF(B80=\"\",\"\",RIGHT(AF80,2)),\"\")","v":""},{"$f":"IF(AP80=1,IF(B80=\"\",\"\",AO80),\"\")","v":""},{"$f":"IF(AP80=2,IF(A80=\"\",1000,A80),\"1000\")","v":1000},"","",{"$f":"IF(AP80=2,IF(A80=\"\",\"\",E80),\"\")","v":""},{"$f":"IF(AP80=2,IF(A80=\"\",\"\",RIGHT(AB80,2)),\"\")","v":""},{"$f":"IF(AP80=2,IF(A80=\"\",\"\",AN80),\"\")","v":""},{"$f":"IF(AP80=2,IF(B80=\"\",1000,B80),\"1000\")","v":1000},"","",{"$f":"IF(AP80=2,IF(B80=\"\",\"\",E80),\"\")","v":""},{"$f":"IF(AP80=2,IF(B80=\"\",\"\",RIGHT(AF80,2)),\"\")","v":""},{"$f":"IF(AP80=2,IF(B80=\"\",\"\",AO80),\"\")","v":""}]
["","",{"$f":"IF(E81=\"\",\"\",IF(AP81=1,COUNTIF(AP$16:AP81,1)*10+2001-10,COUNTIF(AP$16:AP81,2)*10+6001-10))","v":""},66,null,{"$f":"IF($E81=\"\",\"\",IF(ISERROR(VLOOKUP($E81,氏名ﾃﾞｰﾀ!$B:$L,2,0)),IF(ISERROR(VLOOKUP($E81,新規登録!$B:$L,2,0)),\"未登録\",VLOOKUP($E81,新規登録!$B:$L,2,0)),(VLOOKUP($E81,氏名ﾃﾞｰﾀ!$B:$L,2,0))))","v":""},{"$f":"IF($E81=\"\",\"\",IF(ISERROR(VLOOKUP($E81,氏名ﾃﾞｰﾀ!$B:$L,3,0)),IF(ISERROR(VLOOKUP($E81,新規登録!$B:$L,3,0)),\"未登録\",VLOOKUP($E81,新規登録!$B:$L,3,0)),(VLOOKUP($E81,氏名ﾃﾞｰﾀ!$B:$L,3,0))))","v":""},{"$f":"IF($E81=\"\",\"\",IF(ISERROR(VLOOKUP($E81,氏名ﾃﾞｰﾀ!$B:$L,4,0)),IF(ISERROR(VLOOKUP($E81,新規登録!$B:$L,4,0)),\"未登録\",VLOOKUP($E81,新規登録!$B:$L,4,0)),(VLOOKUP($E81,氏名ﾃﾞｰﾀ!$B:$L,4,0))))","v":""},{"$f":"IF($E81=\"\",\"\",IF(ISERROR(VLOOKUP($E81,氏名ﾃﾞｰﾀ!$B:$L,5,0)),IF(ISERROR(VLOOKUP($E81,新規登録!$B:$L,5,0)),\"未登録\",VLOOKUP($E81,新規登録!$B:$L,5,0)),(VLOOKUP($E81,氏名ﾃﾞｰﾀ!$B:$L,5,0))))","v":""},{"$f":"IF($E81=\"\",\"\",IF(ISERROR(VLOOKUP($E81,氏名ﾃﾞｰﾀ!$B:$L,6,0)),IF(ISERROR(VLOOKUP($E81,新規登録!$B:$L,6,0)),\"未登録\",VLOOKUP($E81,新規登録!$B:$L,6,0)),(VLOOKUP($E81,氏名ﾃﾞｰﾀ!$B:$L,6,0))))","v":""},{"$f":"IF($E81=\"\",\"\",IF(ISERROR(VLOOKUP($E81,氏名ﾃﾞｰﾀ!$B:$L,7,0)),IF(ISERROR(VLOOKUP($E81,新規登録!$B:$L,7,0)),\"未登録\",VLOOKUP($E81,新規登録!$B:$L,7,0)),(VLOOKUP($E81,氏名ﾃﾞｰﾀ!$B:$L,7,0))))","v":""},{"$f":"IF($E81=\"\",\"\",IF(ISERROR(VLOOKUP($E81,氏名ﾃﾞｰﾀ!$B:$L,10,0)),IF(ISERROR(VLOOKUP($E81,新規登録!$B:$L,8,0)),\"未登録\",VLOOKUP($E81,新規登録!$B:$L,8,0)),(VLOOKUP($E81,氏名ﾃﾞｰﾀ!$B:$L,10,0))))","v":""},{"$f":"IF($E81=\"\",\"\",IF(ISERROR(VLOOKUP($E81,氏名ﾃﾞｰﾀ!$B:$L,11,0)),IF(ISERROR(VLOOKUP($E81,新規登録!$B:$L,11,0)),\"未登録\",VLOOKUP($E81,新規登録!$B:$L,11,0)),$G$3))","v":""},{"$f":"IF($E81=\"\",\"\",IF(ISERROR(VLOOKUP($E81,氏名ﾃﾞｰﾀ!$B:$L,8,0)),IF(ISERROR(VLOOKUP($E81,新規登録!$B:$L,10,0)),\"ﾅｼ\",VLOOKUP($E81,新規登録!$B:$L,10,0)),(VLOOKUP($E81,氏名ﾃﾞｰﾀ!$B:$L,8,0))))","v":""},{"$f":"IF($E81=\"\",\"\",IF(ISERROR(VLOOKUP($E81,氏名ﾃﾞｰﾀ!$B:$M,12,0)),IF(ISERROR(VLOOKUP($E81,新規登録!$B:$L,9,0)),\"未登録\",VLOOKUP($E81,新規登録!$B:$L,9,0)),(VLOOKUP($E81,氏名ﾃﾞｰﾀ!$B:$M,12,0))))","v":""},null,null,null,null,null,null,null,null,null,null,null,null,null,null,null,null,null,null,null,null,null,null,null,null,"","",{"$f":"IF(N81=\"男\",1,2)","v":2},"1000","","","","","","1000",{"$f":"IF(AP81=1,IF(AZ81=\"\",\"\",LEFT(AZ81,3)),\"\")","v":""},{"$f":"IF(AP81=1,IF(AZ81=\"\",\"\",LEFT(AZ81,3)),\"\")","v":""},"","","",1000,{"$f":"IF(AP81=2,IF(BF81=\"\",\"\",LEFT(BF81,3)),\"\")","v":""},{"$f":"IF(AP81=2,IF(BF81=\"\",\"\",LEFT(BF81,3)),\"\")","v":""},"","","",1000,{"$f":"IF(AP81=2,IF(BL81=\"\",\"\",LEFT(BL81,3)),\"\")","v":""},{"$f":"IF(AP81=2,IF(BL81=\"\",\"\",LEFT(BL81,3)),\"\")","v":""},"","",""]
["","",{"$f":"IF(E82=\"\",\"\",IF(AP82=1,COUNTIF(AP$16:AP82,1)*10+2001-10,COUNTIF(AP$16:AP82,2)*10+6001-10))","v":""},67,null,{"$f":"IF($E82=\"\",\"\",IF(ISERROR(VLOOKUP($E82,氏名ﾃﾞｰﾀ!$B:$L,2,0)),IF(ISERROR(VLOOKUP($E82,新規登録!$B:$L,2,0)),\"未登録\",VLOOKUP($E82,新規登録!$B:$L,2,0)),(VLOOKUP($E82,氏名ﾃﾞｰﾀ!$B:$L,2,0))))","v":""},{"$f":"IF($E82=\"\",\"\",IF(ISERROR(VLOOKUP($E82,氏名ﾃﾞｰﾀ!$B:$L,3,0)),IF(ISERROR(VLOOKUP($E82,新規登録!$B:$L,3,0)),\"未登録\",VLOOKUP($E82,新規登録!$B:$L,3,0)),(VLOOKUP($E82,氏名ﾃﾞｰﾀ!$B:$L,3,0))))","v":""},{"$f":"IF($E82=\"\",\"\",IF(ISERROR(VLOOKUP($E82,氏名ﾃﾞｰﾀ!$B:$L,4,0)),IF(ISERROR(VLOOKUP($E82,新規登録!$B:$L,4,0)),\"未登録\",VLOOKUP($E82,新規登録!$B:$L,4,0)),(VLOOKUP($E82,氏名ﾃﾞｰﾀ!$B:$L,4,0))))","v":""},{"$f":"IF($E82=\"\",\"\",IF(ISERROR(VLOOKUP($E82,氏名ﾃﾞｰﾀ!$B:$L,5,0)),IF(ISERROR(VLOOKUP($E82,新規登録!$B:$L,5,0)),\"未登録\",VLOOKUP($E82,新規登録!$B:$L,5,0)),(VLOOKUP($E82,氏名ﾃﾞｰﾀ!$B:$L,5,0))))","v":""},{"$f":"IF($E82=\"\",\"\",IF(ISERROR(VLOOKUP($E82,氏名ﾃﾞｰﾀ!$B:$L,6,0)),IF(ISERROR(VLOOKUP($E82,新規登録!$B:$L,6,0)),\"未登録\",VLOOKUP($E82,新規登録!$B:$L,6,0)),(VLOOKUP($E82,氏名ﾃﾞｰﾀ!$B:$L,6,0))))","v":""},{"$f":"IF($E82=\"\",\"\",IF(ISERROR(VLOOKUP($E82,氏名ﾃﾞｰﾀ!$B:$L,7,0)),IF(ISERROR(VLOOKUP($E82,新規登録!$B:$L,7,0)),\"未登録\",VLOOKUP($E82,新規登録!$B:$L,7,0)),(VLOOKUP($E82,氏名ﾃﾞｰﾀ!$B:$L,7,0))))","v":""},{"$f":"IF($E82=\"\",\"\",IF(ISERROR(VLOOKUP($E82,氏名ﾃﾞｰﾀ!$B:$L,10,0)),IF(ISERROR(VLOOKUP($E82,新規登録!$B:$L,8,0)),\"未登録\",VLOOKUP($E82,新規登録!$B:$L,8,0)),(VLOOKUP($E82,氏名ﾃﾞｰﾀ!$B:$L,10,0))))","v":""},{"$f":"IF($E82=\"\",\"\",IF(ISERROR(VLOOKUP($E82,氏名ﾃﾞｰﾀ!$B:$L,11,0)),IF(ISERROR(VLOOKUP($E82,新規登録!$B:$L,11,0)),\"未登録\",VLOOKUP($E82,新規登録!$B:$L,11,0)),$G$3))","v":""},{"$f":"IF($E82=\"\",\"\",IF(ISERROR(VLOOKUP($E82,氏名ﾃﾞｰﾀ!$B:$L,8,0)),IF(ISERROR(VLOOKUP($E82,新規登録!$B:$L,10,0)),\"ﾅｼ\",VLOOKUP($E82,新規登録!$B:$L,10,0)),(VLOOKUP($E82,氏名ﾃﾞｰﾀ!$B:$L,8,0))))","v":""},{"$f":"IF($E82=\"\",\"\",IF(ISERROR(VLOOKUP($E82,氏名ﾃﾞｰﾀ!$B:$M,12,0)),IF(ISERROR(VLOOKUP($E82,新規登録!$B:$L,9,0)),\"未登録\",VLOOKUP($E82,新規登録!$B:$L,9,0)),(VLOOKUP($E82,氏名ﾃﾞｰﾀ!$B:$M,12,0))))","v":""},null,null,null,null,null,null,null,null,null,null,null,null,null,null,null,null,null,null,null,null,null,null,null,null,"","",2,"1000",{"$f":"IF(AP82=1,IF(AT82=\"\",\"\",LEFT(AT82,3)),\"\")","v":""},{"$f":"IF(AP82=1,IF(AT82=\"\",\"\",LEFT(AT82,3)),\"\")","v":""},"","","","1000","","","","","",1000,"","","","","",1000,"","","","",""]
["","",{"$f":"IF(E83=\"\",\"\",IF(AP83=1,COUNTIF(AP$16:AP83,1)*10+2001-10,COUNTIF(AP$16:AP83,2)*10+6001-10))","v":""},68,null,{"$f":"IF($E83=\"\",\"\",IF(ISERROR(VLOOKUP($E83,氏名ﾃﾞｰﾀ!$B:$L,2,0)),IF(ISERROR(VLOOKUP($E83,新規登録!$B:$L,2,0)),\"未登録\",VLOOKUP($E83,新規登録!$B:$L,2,0)),(VLOOKUP($E83,氏名ﾃﾞｰﾀ!$B:$L,2,0))))","v":""},{"$f":"IF($E83=\"\",\"\",IF(ISERROR(VLOOKUP($E83,氏名ﾃﾞｰﾀ!$B:$L,3,0)),IF(ISERROR(VLOOKUP($E83,新規登録!$B:$L,3,0)),\"未登録\",VLOOKUP($E83,新規登録!$B:$L,3,0)),(VLOOKUP($E83,氏名ﾃﾞｰﾀ!$B:$L,3,0))))","v":""},{"$f":"IF($E83=\"\",\"\",IF(ISERROR(VLOOKUP($E83,氏名ﾃﾞｰﾀ!$B:$L,4,0)),IF(ISERROR(VLOOKUP($E83,新規登録!$B:$L,4,0)),\"未登録\",VLOOKUP($E83,新規登録!$B:$L,4,0)),(VLOOKUP($E83,氏名ﾃﾞｰﾀ!$B:$L,4,0))))","v":""},{"$f":"IF($E83=\"\",\"\",IF(ISERROR(VLOOKUP($E83,氏名ﾃﾞｰﾀ!$B:$L,5,0)),IF(ISERROR(VLOOKUP($E83,新規登録!$B:$L,5,0)),\"未登録\",VLOOKUP($E83,新規登録!$B:$L,5,0)),(VLOOKUP($E83,氏名ﾃﾞｰﾀ!$B:$L,5,0))))","v":""},{"$f":"IF($E83=\"\",\"\",IF(ISERROR(VLOOKUP($E83,氏名ﾃﾞｰﾀ!$B:$L,6,0)),IF(ISERROR(VLOOKUP($E83,新規登録!$B:$L,6,0)),\"未登録\",VLOOKUP($E83,新規登録!$B:$L,6,0)),(VLOOKUP($E83,氏名ﾃﾞｰﾀ!$B:$L,6,0))))","v":""},{"$f":"IF($E83=\"\",\"\",IF(ISERROR(VLOOKUP($E83,氏名ﾃﾞｰﾀ!$B:$L,7,0)),IF(ISERROR(VLOOKUP($E83,新規登録!$B:$L,7,0)),\"未登録\",VLOOKUP($E83,新規登録!$B:$L,7,0)),(VLOOKUP($E83,氏名ﾃﾞｰﾀ!$B:$L,7,0))))","v":""},{"$f":"IF($E83=\"\",\"\",IF(ISERROR(VLOOKUP($E83,氏名ﾃﾞｰﾀ!$B:$L,10,0)),IF(ISERROR(VLOOKUP($E83,新規登録!$B:$L,8,0)),\"未登録\",VLOOKUP($E83,新規登録!$B:$L,8,0)),(VLOOKUP($E83,氏名ﾃﾞｰﾀ!$B:$L,10,0))))","v":""},{"$f":"IF($E83=\"\",\"\",IF(ISERROR(VLOOKUP($E83,氏名ﾃﾞｰﾀ!$B:$L,11,0)),IF(ISERROR(VLOOKUP($E83,新規登録!$B:$L,11,0)),\"未登録\",VLOOKUP($E83,新規登録!$B:$L,11,0)),$G$3))","v":""},{"$f":"IF($E83=\"\",\"\",IF(ISERROR(VLOOKUP($E83,氏名ﾃﾞｰﾀ!$B:$L,8,0)),IF(ISERROR(VLOOKUP($E83,新規登録!$B:$L,10,0)),\"ﾅｼ\",VLOOKUP($E83,新規登録!$B:$L,10,0)),(VLOOKUP($E83,氏名ﾃﾞｰﾀ!$B:$L,8,0))))","v":""},{"$f":"IF($E83=\"\",\"\",IF(ISERROR(VLOOKUP($E83,氏名ﾃﾞｰﾀ!$B:$M,12,0)),IF(ISERROR(VLOOKUP($E83,新規登録!$B:$L,9,0)),\"未登録\",VLOOKUP($E83,新規登録!$B:$L,9,0)),(VLOOKUP($E83,氏名ﾃﾞｰﾀ!$B:$M,12,0))))","v":""},null,null,null,null,null,null,null,null,null,null,null,null,null,null,null,null,null,null,null,null,null,null,null,null,"","",2,"1000","","","","","","1000","","","","","",1000,"","","","","",1000,"","","","",""]
["","",{"$f":"IF(E84=\"\",\"\",IF(AP84=1,COUNTIF(AP$16:AP84,1)*10+2001-10,COUNTIF(AP$16:AP84,2)*10+6001-10))","v":""},69,null,{"$f":"IF($E84=\"\",\"\",IF(ISERROR(VLOOKUP($E84,氏名ﾃﾞｰﾀ!$B:$L,2,0)),IF(ISERROR(VLOOKUP($E84,新規登録!$B:$L,2,0)),\"未登録\",VLOOKUP($E84,新規登録!$B:$L,2,0)),(VLOOKUP($E84,氏名ﾃﾞｰﾀ!$B:$L,2,0))))","v":""},{"$f":"IF($E84=\"\",\"\",IF(ISERROR(VLOOKUP($E84,氏名ﾃﾞｰﾀ!$B:$L,3,0)),IF(ISERROR(VLOOKUP($E84,新規登録!$B:$L,3,0)),\"未登録\",VLOOKUP($E84,新規登録!$B:$L,3,0)),(VLOOKUP($E84,氏名ﾃﾞｰﾀ!$B:$L,3,0))))","v":""},{"$f":"IF($E84=\"\",\"\",IF(ISERROR(VLOOKUP($E84,氏名ﾃﾞｰﾀ!$B:$L,4,0)),IF(ISERROR(VLOOKUP($E84,新規登録!$B:$L,4,0)),\"未登録\",VLOOKUP($E84,新規登録!$B:$L,4,0)),(VLOOKUP($E84,氏名ﾃﾞｰﾀ!$B:$L,4,0))))","v":""},{"$f":"IF($E84=\"\",\"\",IF(ISERROR(VLOOKUP($E84,氏名ﾃﾞｰﾀ!$B:$L,5,0)),IF(ISERROR(VLOOKUP($E84,新規登録!$B:$L,5,0)),\"未登録\",VLOOKUP($E84,新規登録!$B:$L,5,0)),(VLOOKUP($E84,氏名ﾃﾞｰﾀ!$B:$L,5,0))))","v":""},{"$f":"IF($E84=\"\",\"\",IF(ISERROR(VLOOKUP($E84,氏名ﾃﾞｰﾀ!$B:$L,6,0)),IF(ISERROR(VLOOKUP($E84,新規登録!$B:$L,6,0)),\"未登録\",VLOOKUP($E84,新規登録!$B:$L,6,0)),(VLOOKUP($E84,氏名ﾃﾞｰﾀ!$B:$L,6,0))))","v":""},{"$f":"IF($E84=\"\",\"\",IF(ISERROR(VLOOKUP($E84,氏名ﾃﾞｰﾀ!$B:$L,7,0)),IF(ISERROR(VLOOKUP($E84,新規登録!$B:$L,7,0)),\"未登録\",VLOOKUP($E84,新規登録!$B:$L,7,0)),(VLOOKUP($E84,氏名ﾃﾞｰﾀ!$B:$L,7,0))))","v":""},{"$f":"IF($E84=\"\",\"\",IF(ISERROR(VLOOKUP($E84,氏名ﾃﾞｰﾀ!$B:$L,10,0)),IF(ISERROR(VLOOKUP($E84,新規登録!$B:$L,8,0)),\"未登録\",VLOOKUP($E84,新規登録!$B:$L,8,0)),(VLOOKUP($E84,氏名ﾃﾞｰﾀ!$B:$L,10,0))))","v":""},{"$f":"IF($E84=\"\",\"\",IF(ISERROR(VLOOKUP($E84,氏名ﾃﾞｰﾀ!$B:$L,11,0)),IF(ISERROR(VLOOKUP($E84,新規登録!$B:$L,11,0)),\"未登録\",VLOOKUP($E84,新規登録!$B:$L,11,0)),$G$3))","v":""},{"$f":"IF($E84=\"\",\"\",IF(ISERROR(VLOOKUP($E84,氏名ﾃﾞｰﾀ!$B:$L,8,0)),IF(ISERROR(VLOOKUP($E84,新規登録!$B:$L,10,0)),\"ﾅｼ\",VLOOKUP($E84,新規登録!$B:$L,10,0)),(VLOOKUP($E84,氏名ﾃﾞｰﾀ!$B:$L,8,0))))","v":""},{"$f":"IF($E84=\"\",\"\",IF(ISERROR(VLOOKUP($E84,氏名ﾃﾞｰﾀ!$B:$M,12,0)),IF(ISERROR(VLOOKUP($E84,新規登録!$B:$L,9,0)),\"未登録\",VLOOKUP($E84,新規登録!$B:$L,9,0)),(VLOOKUP($E84,氏名ﾃﾞｰﾀ!$B:$M,12,0))))","v":""},null,null,null,null,null,null,null,null,null,null,null,null,null,null,null,null,null,null,null,null,null,null,null,null,"","",2,"1000","","","","","","1000","","","","","",1000,"","","","","",1000,"","","","",""]
["","",{"$f":"IF(E85=\"\",\"\",IF(AP85=1,COUNTIF(AP$16:AP85,1)*10+2001-10,COUNTIF(AP$16:AP85,2)*10+6001-10))","v":""},70,null,{"$f":"IF($E85=\"\",\"\",IF(ISERROR(VLOOKUP($E85,氏名ﾃﾞｰﾀ!$B:$L,2,0)),IF(ISERROR(VLOOKUP($E85,新規登録!$B:$L,2,0)),\"未登録\",VLOOKUP($E85,新規登録!$B:$L,2,0)),(VLOOKUP($E85,氏名ﾃﾞｰﾀ!$B:$L,2,0))))","v":""},{"$f":"IF($E85=\"\",\"\",IF(ISERROR(VLOOKUP($E85,氏名ﾃﾞｰﾀ!$B:$L,3,0)),IF(ISERROR(VLOOKUP($E85,新規登録!$B:$L,3,0)),\"未登録\",VLOOKUP($E85,新規登録!$B:$L,3,0)),(VLOOKUP($E85,氏名ﾃﾞｰﾀ!$B:$L,3,0))))","v":""},{"$f":"IF($E85=\"\",\"\",IF(ISERROR(VLOOKUP($E85,氏名ﾃﾞｰﾀ!$B:$L,4,0)),IF(ISERROR(VLOOKUP($E85,新規登録!$B:$L,4,0)),\"未登録\",VLOOKUP($E85,新規登録!$B:$L,4,0)),(VLOOKUP($E85,氏名ﾃﾞｰﾀ!$B:$L,4,0))))","v":""},{"$f":"IF($E85=\"\",\"\",IF(ISERROR(VLOOKUP($E85,氏名ﾃﾞｰﾀ!$B:$L,5,0)),IF(ISERROR(VLOOKUP($E85,新規登録!$B:$L,5,0)),\"未登録\",VLOOKUP($E85,新規登録!$B:$L,5,0)),(VLOOKUP($E85,氏名ﾃﾞｰﾀ!$B:$L,5,0))))","v":""},{"$f":"IF($E85=\"\",\"\",IF(ISERROR(VLOOKUP($E85,氏名ﾃﾞｰﾀ!$B:$L,6,0)),IF(ISERROR(VLOOKUP($E85,新規登録!$B:$L,6,0)),\"未登録\",VLOOKUP($E85,新規登録!$B:$L,6,0)),(VLOOKUP($E85,氏名ﾃﾞｰﾀ!$B:$L,6,0))))","v":""},{"$f":"IF($E85=\"\",\"\",IF(ISERROR(VLOOKUP($E85,氏名ﾃﾞｰﾀ!$B:$L,7,0)),IF(ISERROR(VLOOKUP($E85,新規登録!$B:$L,7,0)),\"未登録\",VLOOKUP($E85,新規登録!$B:$L,7,0)),(VLOOKUP($E85,氏名ﾃﾞｰﾀ!$B:$L,7,0))))","v":""},{"$f":"IF($E85=\"\",\"\",IF(ISERROR(VLOOKUP($E85,氏名ﾃﾞｰﾀ!$B:$L,10,0)),IF(ISERROR(VLOOKUP($E85,新規登録!$B:$L,8,0)),\"未登録\",VLOOKUP($E85,新規登録!$B:$L,8,0)),(VLOOKUP($E85,氏名ﾃﾞｰﾀ!$B:$L,10,0))))","v":""},{"$f":"IF($E85=\"\",\"\",IF(ISERROR(VLOOKUP($E85,氏名ﾃﾞｰﾀ!$B:$L,11,0)),IF(ISERROR(VLOOKUP($E85,新規登録!$B:$L,11,0)),\"未登録\",VLOOKUP($E85,新規登録!$B:$L,11,0)),$G$3))","v":""},{"$f":"IF($E85=\"\",\"\",IF(ISERROR(VLOOKUP($E85,氏名ﾃﾞｰﾀ!$B:$L,8,0)),IF(ISERROR(VLOOKUP($E85,新規登録!$B:$L,10,0)),\"ﾅｼ\",VLOOKUP($E85,新規登録!$B:$L,10,0)),(VLOOKUP($E85,氏名ﾃﾞｰﾀ!$B:$L,8,0))))","v":""},{"$f":"IF($E85=\"\",\"\",IF(ISERROR(VLOOKUP($E85,氏名ﾃﾞｰﾀ!$B:$M,12,0)),IF(ISERROR(VLOOKUP($E85,新規登録!$B:$L,9,0)),\"未登録\",VLOOKUP($E85,新規登録!$B:$L,9,0)),(VLOOKUP($E85,氏名ﾃﾞｰﾀ!$B:$M,12,0))))","v":""},null,null,null,null,null,null,null,null,null,null,null,null,null,null,null,null,null,null,null,null,null,null,null,null,"","",2,"1000","","","","","","1000","","","","","",1000,"","","","","",1000,"","","","",""]
["","",{"$f":"IF(E86=\"\",\"\",IF(AP86=1,COUNTIF(AP$16:AP86,1)*10+2001-10,COUNTIF(AP$16:AP86,2)*10+6001-10))","v":""},71,null,{"$f":"IF($E86=\"\",\"\",IF(ISERROR(VLOOKUP($E86,氏名ﾃﾞｰﾀ!$B:$L,2,0)),IF(ISERROR(VLOOKUP($E86,新規登録!$B:$L,2,0)),\"未登録\",VLOOKUP($E86,新規登録!$B:$L,2,0)),(VLOOKUP($E86,氏名ﾃﾞｰﾀ!$B:$L,2,0))))","v":""},{"$f":"IF($E86=\"\",\"\",IF(ISERROR(VLOOKUP($E86,氏名ﾃﾞｰﾀ!$B:$L,3,0)),IF(ISERROR(VLOOKUP($E86,新規登録!$B:$L,3,0)),\"未登録\",VLOOKUP($E86,新規登録!$B:$L,3,0)),(VLOOKUP($E86,氏名ﾃﾞｰﾀ!$B:$L,3,0))))","v":""},{"$f":"IF($E86=\"\",\"\",IF(ISERROR(VLOOKUP($E86,氏名ﾃﾞｰﾀ!$B:$L,4,0)),IF(ISERROR(VLOOKUP($E86,新規登録!$B:$L,4,0)),\"未登録\",VLOOKUP($E86,新規登録!$B:$L,4,0)),(VLOOKUP($E86,氏名ﾃﾞｰﾀ!$B:$L,4,0))))","v":""},{"$f":"IF($E86=\"\",\"\",IF(ISERROR(VLOOKUP($E86,氏名ﾃﾞｰﾀ!$B:$L,5,0)),IF(ISERROR(VLOOKUP($E86,新規登録!$B:$L,5,0)),\"未登録\",VLOOKUP($E86,新規登録!$B:$L,5,0)),(VLOOKUP($E86,氏名ﾃﾞｰﾀ!$B:$L,5,0))))","v":""},{"$f":"IF($E86=\"\",\"\",IF(ISERROR(VLOOKUP($E86,氏名ﾃﾞｰﾀ!$B:$L,6,0)),IF(ISERROR(VLOOKUP($E86,新規登録!$B:$L,6,0)),\"未登録\",VLOOKUP($E86,新規登録!$B:$L,6,0)),(VLOOKUP($E86,氏名ﾃﾞｰﾀ!$B:$L,6,0))))","v":""},{"$f":"IF($E86=\"\",\"\",IF(ISERROR(VLOOKUP($E86,氏名ﾃﾞｰﾀ!$B:$L,7,0)),IF(ISERROR(VLOOKUP($E86,新規登録!$B:$L,7,0)),\"未登録\",VLOOKUP($E86,新規登録!$B:$L,7,0)),(VLOOKUP($E86,氏名ﾃﾞｰﾀ!$B:$L,7,0))))","v":""},{"$f":"IF($E86=\"\",\"\",IF(ISERROR(VLOOKUP($E86,氏名ﾃﾞｰﾀ!$B:$L,10,0)),IF(ISERROR(VLOOKUP($E86,新規登録!$B:$L,8,0)),\"未登録\",VLOOKUP($E86,新規登録!$B:$L,8,0)),(VLOOKUP($E86,氏名ﾃﾞｰﾀ!$B:$L,10,0))))","v":""},{"$f":"IF($E86=\"\",\"\",IF(ISERROR(VLOOKUP($E86,氏名ﾃﾞｰﾀ!$B:$L,11,0)),IF(ISERROR(VLOOKUP($E86,新規登録!$B:$L,11,0)),\"未登録\",VLOOKUP($E86,新規登録!$B:$L,11,0)),$G$3))","v":""},{"$f":"IF($E86=\"\",\"\",IF(ISERROR(VLOOKUP($E86,氏名ﾃﾞｰﾀ!$B:$L,8,0)),IF(ISERROR(VLOOKUP($E86,新規登録!$B:$L,10,0)),\"ﾅｼ\",VLOOKUP($E86,新規登録!$B:$L,10,0)),(VLOOKUP($E86,氏名ﾃﾞｰﾀ!$B:$L,8,0))))","v":""},{"$f":"IF($E86=\"\",\"\",IF(ISERROR(VLOOKUP($E86,氏名ﾃﾞｰﾀ!$B:$M,12,0)),IF(ISERROR(VLOOKUP($E86,新規登録!$B:$L,9,0)),\"未登録\",VLOOKUP($E86,新規登録!$B:$L,9,0)),(VLOOKUP($E86,氏名ﾃﾞｰﾀ!$B:$M,12,0))))","v":""},null,null,null,null,null,null,null,null,null,null,null,null,null,null,null,null,null,null,null,null,null,null,null,null,"","",2,"1000","","","","","","1000","","","","","",1000,"","","","","",1000,"","","","",""]
["","",{"$f":"IF(E87=\"\",\"\",IF(AP87=1,COUNTIF(AP$16:AP87,1)*10+2001-10,COUNTIF(AP$16:AP87,2)*10+6001-10))","v":""},72,null,{"$f":"IF($E87=\"\",\"\",IF(ISERROR(VLOOKUP($E87,氏名ﾃﾞｰﾀ!$B:$L,2,0)),IF(ISERROR(VLOOKUP($E87,新規登録!$B:$L,2,0)),\"未登録\",VLOOKUP($E87,新規登録!$B:$L,2,0)),(VLOOKUP($E87,氏名ﾃﾞｰﾀ!$B:$L,2,0))))","v":""},{"$f":"IF($E87=\"\",\"\",IF(ISERROR(VLOOKUP($E87,氏名ﾃﾞｰﾀ!$B:$L,3,0)),IF(ISERROR(VLOOKUP($E87,新規登録!$B:$L,3,0)),\"未登録\",VLOOKUP($E87,新規登録!$B:$L,3,0)),(VLOOKUP($E87,氏名ﾃﾞｰﾀ!$B:$L,3,0))))","v":""},{"$f":"IF($E87=\"\",\"\",IF(ISERROR(VLOOKUP($E87,氏名ﾃﾞｰﾀ!$B:$L,4,0)),IF(ISERROR(VLOOKUP($E87,新規登録!$B:$L,4,0)),\"未登録\",VLOOKUP($E87,新規登録!$B:$L,4,0)),(VLOOKUP($E87,氏名ﾃﾞｰﾀ!$B:$L,4,0))))","v":""},{"$f":"IF($E87=\"\",\"\",IF(ISERROR(VLOOKUP($E87,氏名ﾃﾞｰﾀ!$B:$L,5,0)),IF(ISERROR(VLOOKUP($E87,新規登録!$B:$L,5,0)),\"未登録\",VLOOKUP($E87,新規登録!$B:$L,5,0)),(VLOOKUP($E87,氏名ﾃﾞｰﾀ!$B:$L,5,0))))","v":""},{"$f":"IF($E87=\"\",\"\",IF(ISERROR(VLOOKUP($E87,氏名ﾃﾞｰﾀ!$B:$L,6,0)),IF(ISERROR(VLOOKUP($E87,新規登録!$B:$L,6,0)),\"未登録\",VLOOKUP($E87,新規登録!$B:$L,6,0)),(VLOOKUP($E87,氏名ﾃﾞｰﾀ!$B:$L,6,0))))","v":""},{"$f":"IF($E87=\"\",\"\",IF(ISERROR(VLOOKUP($E87,氏名ﾃﾞｰﾀ!$B:$L,7,0)),IF(ISERROR(VLOOKUP($E87,新規登録!$B:$L,7,0)),\"未登録\",VLOOKUP($E87,新規登録!$B:$L,7,0)),(VLOOKUP($E87,氏名ﾃﾞｰﾀ!$B:$L,7,0))))","v":""},{"$f":"IF($E87=\"\",\"\",IF(ISERROR(VLOOKUP($E87,氏名ﾃﾞｰﾀ!$B:$L,10,0)),IF(ISERROR(VLOOKUP($E87,新規登録!$B:$L,8,0)),\"未登録\",VLOOKUP($E87,新規登録!$B:$L,8,0)),(VLOOKUP($E87,氏名ﾃﾞｰﾀ!$B:$L,10,0))))","v":""},{"$f":"IF($E87=\"\",\"\",IF(ISERROR(VLOOKUP($E87,氏名ﾃﾞｰﾀ!$B:$L,11,0)),IF(ISERROR(VLOOKUP($E87,新規登録!$B:$L,11,0)),\"未登録\",VLOOKUP($E87,新規登録!$B:$L,11,0)),$G$3))","v":""},{"$f":"IF($E87=\"\",\"\",IF(ISERROR(VLOOKUP($E87,氏名ﾃﾞｰﾀ!$B:$L,8,0)),IF(ISERROR(VLOOKUP($E87,新規登録!$B:$L,10,0)),\"ﾅｼ\",VLOOKUP($E87,新規登録!$B:$L,10,0)),(VLOOKUP($E87,氏名ﾃﾞｰﾀ!$B:$L,8,0))))","v":""},{"$f":"IF($E87=\"\",\"\",IF(ISERROR(VLOOKUP($E87,氏名ﾃﾞｰﾀ!$B:$M,12,0)),IF(ISERROR(VLOOKUP($E87,新規登録!$B:$L,9,0)),\"未登録\",VLOOKUP($E87,新規登録!$B:$L,9,0)),(VLOOKUP($E87,氏名ﾃﾞｰﾀ!$B:$M,12,0))))","v":""},null,null,null,null,null,null,null,null,null,null,null,null,null,null,null,null,null,null,null,null,null,null,null,null,"","",2,"1000","","","","","","1000","","","","","",1000,"","","","","",1000,"","","","",""]
["","",{"$f":"IF(E88=\"\",\"\",IF(AP88=1,COUNTIF(AP$16:AP88,1)*10+2001-10,COUNTIF(AP$16:AP88,2)*10+6001-10))","v":""},73,null,{"$f":"IF($E88=\"\",\"\",IF(ISERROR(VLOOKUP($E88,氏名ﾃﾞｰﾀ!$B:$L,2,0)),IF(ISERROR(VLOOKUP($E88,新規登録!$B:$L,2,0)),\"未登録\",VLOOKUP($E88,新規登録!$B:$L,2,0)),(VLOOKUP($E88,氏名ﾃﾞｰﾀ!$B:$L,2,0))))","v":""},{"$f":"IF($E88=\"\",\"\",IF(ISERROR(VLOOKUP($E88,氏名ﾃﾞｰﾀ!$B:$L,3,0)),IF(ISERROR(VLOOKUP($E88,新規登録!$B:$L,3,0)),\"未登録\",VLOOKUP($E88,新規登録!$B:$L,3,0)),(VLOOKUP($E88,氏名ﾃﾞｰﾀ!$B:$L,3,0))))","v":""},{"$f":"IF($E88=\"\",\"\",IF(ISERROR(VLOOKUP($E88,氏名ﾃﾞｰﾀ!$B:$L,4,0)),IF(ISERROR(VLOOKUP($E88,新規登録!$B:$L,4,0)),\"未登録\",VLOOKUP($E88,新規登録!$B:$L,4,0)),(VLOOKUP($E88,氏名ﾃﾞｰﾀ!$B:$L,4,0))))","v":""},{"$f":"IF($E88=\"\",\"\",IF(ISERROR(VLOOKUP($E88,氏名ﾃﾞｰﾀ!$B:$L,5,0)),IF(ISERROR(VLOOKUP($E88,新規登録!$B:$L,5,0)),\"未登録\",VLOOKUP($E88,新規登録!$B:$L,5,0)),(VLOOKUP($E88,氏名ﾃﾞｰﾀ!$B:$L,5,0))))","v":""},{"$f":"IF($E88=\"\",\"\",IF(ISERROR(VLOOKUP($E88,氏名ﾃﾞｰﾀ!$B:$L,6,0)),IF(ISERROR(VLOOKUP($E88,新規登録!$B:$L,6,0)),\"未登録\",VLOOKUP($E88,新規登録!$B:$L,6,0)),(VLOOKUP($E88,氏名ﾃﾞｰﾀ!$B:$L,6,0))))","v":""},{"$f":"IF($E88=\"\",\"\",IF(ISERROR(VLOOKUP($E88,氏名ﾃﾞｰﾀ!$B:$L,7,0)),IF(ISERROR(VLOOKUP($E88,新規登録!$B:$L,7,0)),\"未登録\",VLOOKUP($E88,新規登録!$B:$L,7,0)),(VLOOKUP($E88,氏名ﾃﾞｰﾀ!$B:$L,7,0))))","v":""},{"$f":"IF($E88=\"\",\"\",IF(ISERROR(VLOOKUP($E88,氏名ﾃﾞｰﾀ!$B:$L,10,0)),IF(ISERROR(VLOOKUP($E88,新規登録!$B:$L,8,0)),\"未登録\",VLOOKUP($E88,新規登録!$B:$L,8,0)),(VLOOKUP($E88,氏名ﾃﾞｰﾀ!$B:$L,10,0))))","v":""},{"$f":"IF($E88=\"\",\"\",IF(ISERROR(VLOOKUP($E88,氏名ﾃﾞｰﾀ!$B:$L,11,0)),IF(ISERROR(VLOOKUP($E88,新規登録!$B:$L,11,0)),\"未登録\",VLOOKUP($E88,新規登録!$B:$L,11,0)),$G$3))","v":""},{"$f":"IF($E88=\"\",\"\",IF(ISERROR(VLOOKUP($E88,氏名ﾃﾞｰﾀ!$B:$L,8,0)),IF(ISERROR(VLOOKUP($E88,新規登録!$B:$L,10,0)),\"ﾅｼ\",VLOOKUP($E88,新規登録!$B:$L,10,0)),(VLOOKUP($E88,氏名ﾃﾞｰﾀ!$B:$L,8,0))))","v":""},{"$f":"IF($E88=\"\",\"\",IF(ISERROR(VLOOKUP($E88,氏名ﾃﾞｰﾀ!$B:$M,12,0)),IF(ISERROR(VLOOKUP($E88,新規登録!$B:$L,9,0)),\"未登録\",VLOOKUP($E88,新規登録!$B:$L,9,0)),(VLOOKUP($E88,氏名ﾃﾞｰﾀ!$B:$M,12,0))))","v":""},null,null,null,null,null,null,null,null,null,null,null,null,null,null,null,null,null,null,null,null,null,null,null,null,"","",2,"1000","","","","","","1000","","","","","",1000,"","","","","",1000,"","","","",""]
["","",{"$f":"IF(E89=\"\",\"\",IF(AP89=1,COUNTIF(AP$16:AP89,1)*10+2001-10,COUNTIF(AP$16:AP89,2)*10+6001-10))","v":""},74,null,{"$f":"IF($E89=\"\",\"\",IF(ISERROR(VLOOKUP($E89,氏名ﾃﾞｰﾀ!$B:$L,2,0)),IF(ISERROR(VLOOKUP($E89,新規登録!$B:$L,2,0)),\"未登録\",VLOOKUP($E89,新規登録!$B:$L,2,0)),(VLOOKUP($E89,氏名ﾃﾞｰﾀ!$B:$L,2,0))))","v":""},{"$f":"IF($E89=\"\",\"\",IF(ISERROR(VLOOKUP($E89,氏名ﾃﾞｰﾀ!$B:$L,3,0)),IF(ISERROR(VLOOKUP($E89,新規登録!$B:$L,3,0)),\"未登録\",VLOOKUP($E89,新規登録!$B:$L,3,0)),(VLOOKUP($E89,氏名ﾃﾞｰﾀ!$B:$L,3,0))))","v":""},{"$f":"IF($E89=\"\",\"\",IF(ISERROR(VLOOKUP($E89,氏名ﾃﾞｰﾀ!$B:$L,4,0)),IF(ISERROR(VLOOKUP($E89,新規登録!$B:$L,4,0)),\"未登録\",VLOOKUP($E89,新規登録!$B:$L,4,0)),(VLOOKUP($E89,氏名ﾃﾞｰﾀ!$B:$L,4,0))))","v":""},{"$f":"IF($E89=\"\",\"\",IF(ISERROR(VLOOKUP($E89,氏名ﾃﾞｰﾀ!$B:$L,5,0)),IF(ISERROR(VLOOKUP($E89,新規登録!$B:$L,5,0)),\"未登録\",VLOOKUP($E89,新規登録!$B:$L,5,0)),(VLOOKUP($E89,氏名ﾃﾞｰﾀ!$B:$L,5,0))))","v":""},{"$f":"IF($E89=\"\",\"\",IF(ISERROR(VLOOKUP($E89,氏名ﾃﾞｰﾀ!$B:$L,6,0)),IF(ISERROR(VLOOKUP($E89,新規登録!$B:$L,6,0)),\"未登録\",VLOOKUP($E89,新規登録!$B:$L,6,0)),(VLOOKUP($E89,氏名ﾃﾞｰﾀ!$B:$L,6,0))))","v":""},{"$f":"IF($E89=\"\",\"\",IF(ISERROR(VLOOKUP($E89,氏名ﾃﾞｰﾀ!$B:$L,7,0)),IF(ISERROR(VLOOKUP($E89,新規登録!$B:$L,7,0)),\"未登録\",VLOOKUP($E89,新規登録!$B:$L,7,0)),(VLOOKUP($E89,氏名ﾃﾞｰﾀ!$B:$L,7,0))))","v":""},{"$f":"IF($E89=\"\",\"\",IF(ISERROR(VLOOKUP($E89,氏名ﾃﾞｰﾀ!$B:$L,10,0)),IF(ISERROR(VLOOKUP($E89,新規登録!$B:$L,8,0)),\"未登録\",VLOOKUP($E89,新規登録!$B:$L,8,0)),(VLOOKUP($E89,氏名ﾃﾞｰﾀ!$B:$L,10,0))))","v":""},{"$f":"IF($E89=\"\",\"\",IF(ISERROR(VLOOKUP($E89,氏名ﾃﾞｰﾀ!$B:$L,11,0)),IF(ISERROR(VLOOKUP($E89,新規登録!$B:$L,11,0)),\"未登録\",VLOOKUP($E89,新規登録!$B:$L,11,0)),$G$3))","v":""},{"$f":"IF($E89=\"\",\"\",IF(ISERROR(VLOOKUP($E89,氏名ﾃﾞｰﾀ!$B:$L,8,0)),IF(ISERROR(VLOOKUP($E89,新規登録!$B:$L,10,0)),\"ﾅｼ\",VLOOKUP($E89,新規登録!$B:$L,10,0)),(VLOOKUP($E89,氏名ﾃﾞｰﾀ!$B:$L,8,0))))","v":""},{"$f":"IF($E89=\"\",\"\",IF(ISERROR(VLOOKUP($E89,氏名ﾃﾞｰﾀ!$B:$M,12,0)),IF(ISERROR(VLOOKUP($E89,新規登録!$B:$L,9,0)),\"未登録\",VLOOKUP($E89,新規登録!$B:$L,9,0)),(VLOOKUP($E89,氏名ﾃﾞｰﾀ!$B:$M,12,0))))","v":""},null,null,null,null,null,null,null,null,null,null,null,null,null,null,null,null,null,null,null,null,null,null,null,null,"","",2,"1000","","","","","","1000","","","","","",1000,"","","","","",1000,"","","","",""]
["","",{"$f":"IF(E90=\"\",\"\",IF(AP90=1,COUNTIF(AP$16:AP90,1)*10+2001-10,COUNTIF(AP$16:AP90,2)*10+6001-10))","v":""},75,null,{"$f":"IF($E90=\"\",\"\",IF(ISERROR(VLOOKUP($E90,氏名ﾃﾞｰﾀ!$B:$L,2,0)),IF(ISERROR(VLOOKUP($E90,新規登録!$B:$L,2,0)),\"未登録\",VLOOKUP($E90,新規登録!$B:$L,2,0)),(VLOOKUP($E90,氏名ﾃﾞｰﾀ!$B:$L,2,0))))","v":""},{"$f":"IF($E90=\"\",\"\",IF(ISERROR(VLOOKUP($E90,氏名ﾃﾞｰﾀ!$B:$L,3,0)),IF(ISERROR(VLOOKUP($E90,新規登録!$B:$L,3,0)),\"未登録\",VLOOKUP($E90,新規登録!$B:$L,3,0)),(VLOOKUP($E90,氏名ﾃﾞｰﾀ!$B:$L,3,0))))","v":""},{"$f":"IF($E90=\"\",\"\",IF(ISERROR(VLOOKUP($E90,氏名ﾃﾞｰﾀ!$B:$L,4,0)),IF(ISERROR(VLOOKUP($E90,新規登録!$B:$L,4,0)),\"未登録\",VLOOKUP($E90,新規登録!$B:$L,4,0)),(VLOOKUP($E90,氏名ﾃﾞｰﾀ!$B:$L,4,0))))","v":""},{"$f":"IF($E90=\"\",\"\",IF(ISERROR(VLOOKUP($E90,氏名ﾃﾞｰﾀ!$B:$L,5,0)),IF(ISERROR(VLOOKUP($E90,新規登録!$B:$L,5,0)),\"未登録\",VLOOKUP($E90,新規登録!$B:$L,5,0)),(VLOOKUP($E90,氏名ﾃﾞｰﾀ!$B:$L,5,0))))","v":""},{"$f":"IF($E90=\"\",\"\",IF(ISERROR(VLOOKUP($E90,氏名ﾃﾞｰﾀ!$B:$L,6,0)),IF(ISERROR(VLOOKUP($E90,新規登録!$B:$L,6,0)),\"未登録\",VLOOKUP($E90,新規登録!$B:$L,6,0)),(VLOOKUP($E90,氏名ﾃﾞｰﾀ!$B:$L,6,0))))","v":""},{"$f":"IF($E90=\"\",\"\",IF(ISERROR(VLOOKUP($E90,氏名ﾃﾞｰﾀ!$B:$L,7,0)),IF(ISERROR(VLOOKUP($E90,新規登録!$B:$L,7,0)),\"未登録\",VLOOKUP($E90,新規登録!$B:$L,7,0)),(VLOOKUP($E90,氏名ﾃﾞｰﾀ!$B:$L,7,0))))","v":""},{"$f":"IF($E90=\"\",\"\",IF(ISERROR(VLOOKUP($E90,氏名ﾃﾞｰﾀ!$B:$L,10,0)),IF(ISERROR(VLOOKUP($E90,新規登録!$B:$L,8,0)),\"未登録\",VLOOKUP($E90,新規登録!$B:$L,8,0)),(VLOOKUP($E90,氏名ﾃﾞｰﾀ!$B:$L,10,0))))","v":""},{"$f":"IF($E90=\"\",\"\",IF(ISERROR(VLOOKUP($E90,氏名ﾃﾞｰﾀ!$B:$L,11,0)),IF(ISERROR(VLOOKUP($E90,新規登録!$B:$L,11,0)),\"未登録\",VLOOKUP($E90,新規登録!$B:$L,11,0)),$G$3))","v":""},{"$f":"IF($E90=\"\",\"\",IF(ISERROR(VLOOKUP($E90,氏名ﾃﾞｰﾀ!$B:$L,8,0)),IF(ISERROR(VLOOKUP($E90,新規登録!$B:$L,10,0)),\"ﾅｼ\",VLOOKUP($E90,新規登録!$B:$L,10,0)),(VLOOKUP($E90,氏名ﾃﾞｰﾀ!$B:$L,8,0))))","v":""},{"$f":"IF($E90=\"\",\"\",IF(ISERROR(VLOOKUP($E90,氏名ﾃﾞｰﾀ!$B:$M,12,0)),IF(ISERROR(VLOOKUP($E90,新規登録!$B:$L,9,0)),\"未登録\",VLOOKUP($E90,新規登録!$B:$L,9,0)),(VLOOKUP($E90,氏名ﾃﾞｰﾀ!$B:$M,12,0))))","v":""},null,null,null,null,null,null,null,null,null,null,null,null,null,null,null,null,null,null,null,null,null,null,null,null,"","",2,"1000","","","","","","1000","","","","","",1000,"","","","","",1000,"","","","",""]
["","",{"$f":"IF(E91=\"\",\"\",IF(AP91=1,COUNTIF(AP$16:AP91,1)*10+2001-10,COUNTIF(AP$16:AP91,2)*10+6001-10))","v":""},76,null,{"$f":"IF($E91=\"\",\"\",IF(ISERROR(VLOOKUP($E91,氏名ﾃﾞｰﾀ!$B:$L,2,0)),IF(ISERROR(VLOOKUP($E91,新規登録!$B:$L,2,0)),\"未登録\",VLOOKUP($E91,新規登録!$B:$L,2,0)),(VLOOKUP($E91,氏名ﾃﾞｰﾀ!$B:$L,2,0))))","v":""},{"$f":"IF($E91=\"\",\"\",IF(ISERROR(VLOOKUP($E91,氏名ﾃﾞｰﾀ!$B:$L,3,0)),IF(ISERROR(VLOOKUP($E91,新規登録!$B:$L,3,0)),\"未登録\",VLOOKUP($E91,新規登録!$B:$L,3,0)),(VLOOKUP($E91,氏名ﾃﾞｰﾀ!$B:$L,3,0))))","v":""},{"$f":"IF($E91=\"\",\"\",IF(ISERROR(VLOOKUP($E91,氏名ﾃﾞｰﾀ!$B:$L,4,0)),IF(ISERROR(VLOOKUP($E91,新規登録!$B:$L,4,0)),\"未登録\",VLOOKUP($E91,新規登録!$B:$L,4,0)),(VLOOKUP($E91,氏名ﾃﾞｰﾀ!$B:$L,4,0))))","v":""},{"$f":"IF($E91=\"\",\"\",IF(ISERROR(VLOOKUP($E91,氏名ﾃﾞｰﾀ!$B:$L,5,0)),IF(ISERROR(VLOOKUP($E91,新規登録!$B:$L,5,0)),\"未登録\",VLOOKUP($E91,新規登録!$B:$L,5,0)),(VLOOKUP($E91,氏名ﾃﾞｰﾀ!$B:$L,5,0))))","v":""},{"$f":"IF($E91=\"\",\"\",IF(ISERROR(VLOOKUP($E91,氏名ﾃﾞｰﾀ!$B:$L,6,0)),IF(ISERROR(VLOOKUP($E91,新規登録!$B:$L,6,0)),\"未登録\",VLOOKUP($E91,新規登録!$B:$L,6,0)),(VLOOKUP($E91,氏名ﾃﾞｰﾀ!$B:$L,6,0))))","v":""},{"$f":"IF($E91=\"\",\"\",IF(ISERROR(VLOOKUP($E91,氏名ﾃﾞｰﾀ!$B:$L,7,0)),IF(ISERROR(VLOOKUP($E91,新規登録!$B:$L,7,0)),\"未登録\",VLOOKUP($E91,新規登録!$B:$L,7,0)),(VLOOKUP($E91,氏名ﾃﾞｰﾀ!$B:$L,7,0))))","v":""},{"$f":"IF($E91=\"\",\"\",IF(ISERROR(VLOOKUP($E91,氏名ﾃﾞｰﾀ!$B:$L,10,0)),IF(ISERROR(VLOOKUP($E91,新規登録!$B:$L,8,0)),\"未登録\",VLOOKUP($E91,新規登録!$B:$L,8,0)),(VLOOKUP($E91,氏名ﾃﾞｰﾀ!$B:$L,10,0))))","v":""},{"$f":"IF($E91=\"\",\"\",IF(ISERROR(VLOOKUP($E91,氏名ﾃﾞｰﾀ!$B:$L,11,0)),IF(ISERROR(VLOOKUP($E91,新規登録!$B:$L,11,0)),\"未登録\",VLOOKUP($E91,新規登録!$B:$L,11,0)),$G$3))","v":""},{"$f":"IF($E91=\"\",\"\",IF(ISERROR(VLOOKUP($E91,氏名ﾃﾞｰﾀ!$B:$L,8,0)),IF(ISERROR(VLOOKUP($E91,新規登録!$B:$L,10,0)),\"ﾅｼ\",VLOOKUP($E91,新規登録!$B:$L,10,0)),(VLOOKUP($E91,氏名ﾃﾞｰﾀ!$B:$L,8,0))))","v":""},{"$f":"IF($E91=\"\",\"\",IF(ISERROR(VLOOKUP($E91,氏名ﾃﾞｰﾀ!$B:$M,12,0)),IF(ISERROR(VLOOKUP($E91,新規登録!$B:$L,9,0)),\"未登録\",VLOOKUP($E91,新規登録!$B:$L,9,0)),(VLOOKUP($E91,氏名ﾃﾞｰﾀ!$B:$M,12,0))))","v":""},null,null,null,null,null,null,null,null,null,null,null,null,null,null,null,null,null,null,null,null,null,null,null,null,"","",2,"1000","","","","","","1000","","","","","",1000,"","","","","",1000,"","","","",""]
["","",{"$f":"IF(E92=\"\",\"\",IF(AP92=1,COUNTIF(AP$16:AP92,1)*10+2001-10,COUNTIF(AP$16:AP92,2)*10+6001-10))","v":""},77,null,{"$f":"IF($E92=\"\",\"\",IF(ISERROR(VLOOKUP($E92,氏名ﾃﾞｰﾀ!$B:$L,2,0)),IF(ISERROR(VLOOKUP($E92,新規登録!$B:$L,2,0)),\"未登録\",VLOOKUP($E92,新規登録!$B:$L,2,0)),(VLOOKUP($E92,氏名ﾃﾞｰﾀ!$B:$L,2,0))))","v":""},{"$f":"IF($E92=\"\",\"\",IF(ISERROR(VLOOKUP($E92,氏名ﾃﾞｰﾀ!$B:$L,3,0)),IF(ISERROR(VLOOKUP($E92,新規登録!$B:$L,3,0)),\"未登録\",VLOOKUP($E92,新規登録!$B:$L,3,0)),(VLOOKUP($E92,氏名ﾃﾞｰﾀ!$B:$L,3,0))))","v":""},{"$f":"IF($E92=\"\",\"\",IF(ISERROR(VLOOKUP($E92,氏名ﾃﾞｰﾀ!$B:$L,4,0)),IF(ISERROR(VLOOKUP($E92,新規登録!$B:$L,4,0)),\"未登録\",VLOOKUP($E92,新規登録!$B:$L,4,0)),(VLOOKUP($E92,氏名ﾃﾞｰﾀ!$B:$L,4,0))))","v":""},{"$f":"IF($E92=\"\",\"\",IF(ISERROR(VLOOKUP($E92,氏名ﾃﾞｰﾀ!$B:$L,5,0)),IF(ISERROR(VLOOKUP($E92,新規登録!$B:$L,5,0)),\"未登録\",VLOOKUP($E92,新規登録!$B:$L,5,0)),(VLOOKUP($E92,氏名ﾃﾞｰﾀ!$B:$L,5,0))))","v":""},{"$f":"IF($E92=\"\",\"\",IF(ISERROR(VLOOKUP($E92,氏名ﾃﾞｰﾀ!$B:$L,6,0)),IF(ISERROR(VLOOKUP($E92,新規登録!$B:$L,6,0)),\"未登録\",VLOOKUP($E92,新規登録!$B:$L,6,0)),(VLOOKUP($E92,氏名ﾃﾞｰﾀ!$B:$L,6,0))))","v":""},{"$f":"IF($E92=\"\",\"\",IF(ISERROR(VLOOKUP($E92,氏名ﾃﾞｰﾀ!$B:$L,7,0)),IF(ISERROR(VLOOKUP($E92,新規登録!$B:$L,7,0)),\"未登録\",VLOOKUP($E92,新規登録!$B:$L,7,0)),(VLOOKUP($E92,氏名ﾃﾞｰﾀ!$B:$L,7,0))))","v":""},{"$f":"IF($E92=\"\",\"\",IF(ISERROR(VLOOKUP($E92,氏名ﾃﾞｰﾀ!$B:$L,10,0)),IF(ISERROR(VLOOKUP($E92,新規登録!$B:$L,8,0)),\"未登録\",VLOOKUP($E92,新規登録!$B:$L,8,0)),(VLOOKUP($E92,氏名ﾃﾞｰﾀ!$B:$L,10,0))))","v":""},{"$f":"IF($E92=\"\",\"\",IF(ISERROR(VLOOKUP($E92,氏名ﾃﾞｰﾀ!$B:$L,11,0)),IF(ISERROR(VLOOKUP($E92,新規登録!$B:$L,11,0)),\"未登録\",VLOOKUP($E92,新規登録!$B:$L,11,0)),$G$3))","v":""},{"$f":"IF($E92=\"\",\"\",IF(ISERROR(VLOOKUP($E92,氏名ﾃﾞｰﾀ!$B:$L,8,0)),IF(ISERROR(VLOOKUP($E92,新規登録!$B:$L,10,0)),\"ﾅｼ\",VLOOKUP($E92,新規登録!$B:$L,10,0)),(VLOOKUP($E92,氏名ﾃﾞｰﾀ!$B:$L,8,0))))","v":""},{"$f":"IF($E92=\"\",\"\",IF(ISERROR(VLOOKUP($E92,氏名ﾃﾞｰﾀ!$B:$M,12,0)),IF(ISERROR(VLOOKUP($E92,新規登録!$B:$L,9,0)),\"未登録\",VLOOKUP($E92,新規登録!$B:$L,9,0)),(VLOOKUP($E92,氏名ﾃﾞｰﾀ!$B:$M,12,0))))","v":""},null,null,null,null,null,null,null,null,null,null,null,null,null,null,null,null,null,null,null,null,null,null,null,null,"","",2,"1000","","","","","","1000","","","","","",1000,"","","","","",1000,"","","","",""]
["","",{"$f":"IF(E93=\"\",\"\",IF(AP93=1,COUNTIF(AP$16:AP93,1)*10+2001-10,COUNTIF(AP$16:AP93,2)*10+6001-10))","v":""},78,null,{"$f":"IF($E93=\"\",\"\",IF(ISERROR(VLOOKUP($E93,氏名ﾃﾞｰﾀ!$B:$L,2,0)),IF(ISERROR(VLOOKUP($E93,新規登録!$B:$L,2,0)),\"未登録\",VLOOKUP($E93,新規登録!$B:$L,2,0)),(VLOOKUP($E93,氏名ﾃﾞｰﾀ!$B:$L,2,0))))","v":""},{"$f":"IF($E93=\"\",\"\",IF(ISERROR(VLOOKUP($E93,氏名ﾃﾞｰﾀ!$B:$L,3,0)),IF(ISERROR(VLOOKUP($E93,新規登録!$B:$L,3,0)),\"未登録\",VLOOKUP($E93,新規登録!$B:$L,3,0)),(VLOOKUP($E93,氏名ﾃﾞｰﾀ!$B:$L,3,0))))","v":""},{"$f":"IF($E93=\"\",\"\",IF(ISERROR(VLOOKUP($E93,氏名ﾃﾞｰﾀ!$B:$L,4,0)),IF(ISERROR(VLOOKUP($E93,新規登録!$B:$L,4,0)),\"未登録\",VLOOKUP($E93,新規登録!$B:$L,4,0)),(VLOOKUP($E93,氏名ﾃﾞｰﾀ!$B:$L,4,0))))","v":""},{"$f":"IF($E93=\"\",\"\",IF(ISERROR(VLOOKUP($E93,氏名ﾃﾞｰﾀ!$B:$L,5,0)),IF(ISERROR(VLOOKUP($E93,新規登録!$B:$L,5,0)),\"未登録\",VLOOKUP($E93,新規登録!$B:$L,5,0)),(VLOOKUP($E93,氏名ﾃﾞｰﾀ!$B:$L,5,0))))","v":""},{"$f":"IF($E93=\"\",\"\",IF(ISERROR(VLOOKUP($E93,氏名ﾃﾞｰﾀ!$B:$L,6,0)),IF(ISERROR(VLOOKUP($E93,新規登録!$B:$L,6,0)),\"未登録\",VLOOKUP($E93,新規登録!$B:$L,6,0)),(VLOOKUP($E93,氏名ﾃﾞｰﾀ!$B:$L,6,0))))","v":""},{"$f":"IF($E93=\"\",\"\",IF(ISERROR(VLOOKUP($E93,氏名ﾃﾞｰﾀ!$B:$L,7,0)),IF(ISERROR(VLOOKUP($E93,新規登録!$B:$L,7,0)),\"未登録\",VLOOKUP($E93,新規登録!$B:$L,7,0)),(VLOOKUP($E93,氏名ﾃﾞｰﾀ!$B:$L,7,0))))","v":""},{"$f":"IF($E93=\"\",\"\",IF(ISERROR(VLOOKUP($E93,氏名ﾃﾞｰﾀ!$B:$L,10,0)),IF(ISERROR(VLOOKUP($E93,新規登録!$B:$L,8,0)),\"未登録\",VLOOKUP($E93,新規登録!$B:$L,8,0)),(VLOOKUP($E93,氏名ﾃﾞｰﾀ!$B:$L,10,0))))","v":""},{"$f":"IF($E93=\"\",\"\",IF(ISERROR(VLOOKUP($E93,氏名ﾃﾞｰﾀ!$B:$L,11,0)),IF(ISERROR(VLOOKUP($E93,新規登録!$B:$L,11,0)),\"未登録\",VLOOKUP($E93,新規登録!$B:$L,11,0)),$G$3))","v":""},{"$f":"IF($E93=\"\",\"\",IF(ISERROR(VLOOKUP($E93,氏名ﾃﾞｰﾀ!$B:$L,8,0)),IF(ISERROR(VLOOKUP($E93,新規登録!$B:$L,10,0)),\"ﾅｼ\",VLOOKUP($E93,新規登録!$B:$L,10,0)),(VLOOKUP($E93,氏名ﾃﾞｰﾀ!$B:$L,8,0))))","v":""},{"$f":"IF($E93=\"\",\"\",IF(ISERROR(VLOOKUP($E93,氏名ﾃﾞｰﾀ!$B:$M,12,0)),IF(ISERROR(VLOOKUP($E93,新規登録!$B:$L,9,0)),\"未登録\",VLOOKUP($E93,新規登録!$B:$L,9,0)),(VLOOKUP($E93,氏名ﾃﾞｰﾀ!$B:$M,12,0))))","v":""},null,null,null,null,null,null,null,null,null,null,null,null,null,null,null,null,null,null,null,null,null,null,null,null,"","",2,"1000","","","","","","1000","","","","","",1000,"","","","","",1000,"","","","",""]
["","",{"$f":"IF(E94=\"\",\"\",IF(AP94=1,COUNTIF(AP$16:AP94,1)*10+2001-10,COUNTIF(AP$16:AP94,2)*10+6001-10))","v":""},79,null,{"$f":"IF($E94=\"\",\"\",IF(ISERROR(VLOOKUP($E94,氏名ﾃﾞｰﾀ!$B:$L,2,0)),IF(ISERROR(VLOOKUP($E94,新規登録!$B:$L,2,0)),\"未登録\",VLOOKUP($E94,新規登録!$B:$L,2,0)),(VLOOKUP($E94,氏名ﾃﾞｰﾀ!$B:$L,2,0))))","v":""},{"$f":"IF($E94=\"\",\"\",IF(ISERROR(VLOOKUP($E94,氏名ﾃﾞｰﾀ!$B:$L,3,0)),IF(ISERROR(VLOOKUP($E94,新規登録!$B:$L,3,0)),\"未登録\",VLOOKUP($E94,新規登録!$B:$L,3,0)),(VLOOKUP($E94,氏名ﾃﾞｰﾀ!$B:$L,3,0))))","v":""},{"$f":"IF($E94=\"\",\"\",IF(ISERROR(VLOOKUP($E94,氏名ﾃﾞｰﾀ!$B:$L,4,0)),IF(ISERROR(VLOOKUP($E94,新規登録!$B:$L,4,0)),\"未登録\",VLOOKUP($E94,新規登録!$B:$L,4,0)),(VLOOKUP($E94,氏名ﾃﾞｰﾀ!$B:$L,4,0))))","v":""},{"$f":"IF($E94=\"\",\"\",IF(ISERROR(VLOOKUP($E94,氏名ﾃﾞｰﾀ!$B:$L,5,0)),IF(ISERROR(VLOOKUP($E94,新規登録!$B:$L,5,0)),\"未登録\",VLOOKUP($E94,新規登録!$B:$L,5,0)),(VLOOKUP($E94,氏名ﾃﾞｰﾀ!$B:$L,5,0))))","v":""},{"$f":"IF($E94=\"\",\"\",IF(ISERROR(VLOOKUP($E94,氏名ﾃﾞｰﾀ!$B:$L,6,0)),IF(ISERROR(VLOOKUP($E94,新規登録!$B:$L,6,0)),\"未登録\",VLOOKUP($E94,新規登録!$B:$L,6,0)),(VLOOKUP($E94,氏名ﾃﾞｰﾀ!$B:$L,6,0))))","v":""},{"$f":"IF($E94=\"\",\"\",IF(ISERROR(VLOOKUP($E94,氏名ﾃﾞｰﾀ!$B:$L,7,0)),IF(ISERROR(VLOOKUP($E94,新規登録!$B:$L,7,0)),\"未登録\",VLOOKUP($E94,新規登録!$B:$L,7,0)),(VLOOKUP($E94,氏名ﾃﾞｰﾀ!$B:$L,7,0))))","v":""},{"$f":"IF($E94=\"\",\"\",IF(ISERROR(VLOOKUP($E94,氏名ﾃﾞｰﾀ!$B:$L,10,0)),IF(ISERROR(VLOOKUP($E94,新規登録!$B:$L,8,0)),\"未登録\",VLOOKUP($E94,新規登録!$B:$L,8,0)),(VLOOKUP($E94,氏名ﾃﾞｰﾀ!$B:$L,10,0))))","v":""},{"$f":"IF($E94=\"\",\"\",IF(ISERROR(VLOOKUP($E94,氏名ﾃﾞｰﾀ!$B:$L,11,0)),IF(ISERROR(VLOOKUP($E94,新規登録!$B:$L,11,0)),\"未登録\",VLOOKUP($E94,新規登録!$B:$L,11,0)),$G$3))","v":""},{"$f":"IF($E94=\"\",\"\",IF(ISERROR(VLOOKUP($E94,氏名ﾃﾞｰﾀ!$B:$L,8,0)),IF(ISERROR(VLOOKUP($E94,新規登録!$B:$L,10,0)),\"ﾅｼ\",VLOOKUP($E94,新規登録!$B:$L,10,0)),(VLOOKUP($E94,氏名ﾃﾞｰﾀ!$B:$L,8,0))))","v":""},{"$f":"IF($E94=\"\",\"\",IF(ISERROR(VLOOKUP($E94,氏名ﾃﾞｰﾀ!$B:$M,12,0)),IF(ISERROR(VLOOKUP($E94,新規登録!$B:$L,9,0)),\"未登録\",VLOOKUP($E94,新規登録!$B:$L,9,0)),(VLOOKUP($E94,氏名ﾃﾞｰﾀ!$B:$M,12,0))))","v":""},null,null,null,null,null,null,null,null,null,null,null,null,null,null,null,null,null,null,null,null,null,null,null,null,"","",2,"1000","","","","","","1000","","","","","",1000,"","","","","",1000,"","","","",""]
["","",{"$f":"IF(E95=\"\",\"\",IF(AP95=1,COUNTIF(AP$16:AP95,1)*10+2001-10,COUNTIF(AP$16:AP95,2)*10+6001-10))","v":""},80,null,{"$f":"IF($E95=\"\",\"\",IF(ISERROR(VLOOKUP($E95,氏名ﾃﾞｰﾀ!$B:$L,2,0)),IF(ISERROR(VLOOKUP($E95,新規登録!$B:$L,2,0)),\"未登録\",VLOOKUP($E95,新規登録!$B:$L,2,0)),(VLOOKUP($E95,氏名ﾃﾞｰﾀ!$B:$L,2,0))))","v":""},{"$f":"IF($E95=\"\",\"\",IF(ISERROR(VLOOKUP($E95,氏名ﾃﾞｰﾀ!$B:$L,3,0)),IF(ISERROR(VLOOKUP($E95,新規登録!$B:$L,3,0)),\"未登録\",VLOOKUP($E95,新規登録!$B:$L,3,0)),(VLOOKUP($E95,氏名ﾃﾞｰﾀ!$B:$L,3,0))))","v":""},{"$f":"IF($E95=\"\",\"\",IF(ISERROR(VLOOKUP($E95,氏名ﾃﾞｰﾀ!$B:$L,4,0)),IF(ISERROR(VLOOKUP($E95,新規登録!$B:$L,4,0)),\"未登録\",VLOOKUP($E95,新規登録!$B:$L,4,0)),(VLOOKUP($E95,氏名ﾃﾞｰﾀ!$B:$L,4,0))))","v":""},{"$f":"IF($E95=\"\",\"\",IF(ISERROR(VLOOKUP($E95,氏名ﾃﾞｰﾀ!$B:$L,5,0)),IF(ISERROR(VLOOKUP($E95,新規登録!$B:$L,5,0)),\"未登録\",VLOOKUP($E95,新規登録!$B:$L,5,0)),(VLOOKUP($E95,氏名ﾃﾞｰﾀ!$B:$L,5,0))))","v":""},{"$f":"IF($E95=\"\",\"\",IF(ISERROR(VLOOKUP($E95,氏名ﾃﾞｰﾀ!$B:$L,6,0)),IF(ISERROR(VLOOKUP($E95,新規登録!$B:$L,6,0)),\"未登録\",VLOOKUP($E95,新規登録!$B:$L,6,0)),(VLOOKUP($E95,氏名ﾃﾞｰﾀ!$B:$L,6,0))))","v":""},{"$f":"IF($E95=\"\",\"\",IF(ISERROR(VLOOKUP($E95,氏名ﾃﾞｰﾀ!$B:$L,7,0)),IF(ISERROR(VLOOKUP($E95,新規登録!$B:$L,7,0)),\"未登録\",VLOOKUP($E95,新規登録!$B:$L,7,0)),(VLOOKUP($E95,氏名ﾃﾞｰﾀ!$B:$L,7,0))))","v":""},{"$f":"IF($E95=\"\",\"\",IF(ISERROR(VLOOKUP($E95,氏名ﾃﾞｰﾀ!$B:$L,10,0)),IF(ISERROR(VLOOKUP($E95,新規登録!$B:$L,8,0)),\"未登録\",VLOOKUP($E95,新規登録!$B:$L,8,0)),(VLOOKUP($E95,氏名ﾃﾞｰﾀ!$B:$L,10,0))))","v":""},{"$f":"IF($E95=\"\",\"\",IF(ISERROR(VLOOKUP($E95,氏名ﾃﾞｰﾀ!$B:$L,11,0)),IF(ISERROR(VLOOKUP($E95,新規登録!$B:$L,11,0)),\"未登録\",VLOOKUP($E95,新規登録!$B:$L,11,0)),$G$3))","v":""},{"$f":"IF($E95=\"\",\"\",IF(ISERROR(VLOOKUP($E95,氏名ﾃﾞｰﾀ!$B:$L,8,0)),IF(ISERROR(VLOOKUP($E95,新規登録!$B:$L,10,0)),\"ﾅｼ\",VLOOKUP($E95,新規登録!$B:$L,10,0)),(VLOOKUP($E95,氏名ﾃﾞｰﾀ!$B:$L,8,0))))","v":""},{"$f":"IF($E95=\"\",\"\",IF(ISERROR(VLOOKUP($E95,氏名ﾃﾞｰﾀ!$B:$M,12,0)),IF(ISERROR(VLOOKUP($E95,新規登録!$B:$L,9,0)),\"未登録\",VLOOKUP($E95,新規登録!$B:$L,9,0)),(VLOOKUP($E95,氏名ﾃﾞｰﾀ!$B:$M,12,0))))","v":""},null,null,null,null,null,null,null,null,null,null,null,null,null,null,null,null,null,null,null,null,null,null,null,null,"","",2,"1000","","","","","","1000","","","","","",1000,"","","","","",1000,"","","","",""]
["","",{"$f":"IF(E96=\"\",\"\",IF(AP96=1,COUNTIF(AP$16:AP96,1)*10+2001-10,COUNTIF(AP$16:AP96,2)*10+6001-10))","v":""},81,null,{"$f":"IF($E96=\"\",\"\",IF(ISERROR(VLOOKUP($E96,氏名ﾃﾞｰﾀ!$B:$L,2,0)),IF(ISERROR(VLOOKUP($E96,新規登録!$B:$L,2,0)),\"未登録\",VLOOKUP($E96,新規登録!$B:$L,2,0)),(VLOOKUP($E96,氏名ﾃﾞｰﾀ!$B:$L,2,0))))","v":""},{"$f":"IF($E96=\"\",\"\",IF(ISERROR(VLOOKUP($E96,氏名ﾃﾞｰﾀ!$B:$L,3,0)),IF(ISERROR(VLOOKUP($E96,新規登録!$B:$L,3,0)),\"未登録\",VLOOKUP($E96,新規登録!$B:$L,3,0)),(VLOOKUP($E96,氏名ﾃﾞｰﾀ!$B:$L,3,0))))","v":""},{"$f":"IF($E96=\"\",\"\",IF(ISERROR(VLOOKUP($E96,氏名ﾃﾞｰﾀ!$B:$L,4,0)),IF(ISERROR(VLOOKUP($E96,新規登録!$B:$L,4,0)),\"未登録\",VLOOKUP($E96,新規登録!$B:$L,4,0)),(VLOOKUP($E96,氏名ﾃﾞｰﾀ!$B:$L,4,0))))","v":""},{"$f":"IF($E96=\"\",\"\",IF(ISERROR(VLOOKUP($E96,氏名ﾃﾞｰﾀ!$B:$L,5,0)),IF(ISERROR(VLOOKUP($E96,新規登録!$B:$L,5,0)),\"未登録\",VLOOKUP($E96,新規登録!$B:$L,5,0)),(VLOOKUP($E96,氏名ﾃﾞｰﾀ!$B:$L,5,0))))","v":""},{"$f":"IF($E96=\"\",\"\",IF(ISERROR(VLOOKUP($E96,氏名ﾃﾞｰﾀ!$B:$L,6,0)),IF(ISERROR(VLOOKUP($E96,新規登録!$B:$L,6,0)),\"未登録\",VLOOKUP($E96,新規登録!$B:$L,6,0)),(VLOOKUP($E96,氏名ﾃﾞｰﾀ!$B:$L,6,0))))","v":""},{"$f":"IF($E96=\"\",\"\",IF(ISERROR(VLOOKUP($E96,氏名ﾃﾞｰﾀ!$B:$L,7,0)),IF(ISERROR(VLOOKUP($E96,新規登録!$B:$L,7,0)),\"未登録\",VLOOKUP($E96,新規登録!$B:$L,7,0)),(VLOOKUP($E96,氏名ﾃﾞｰﾀ!$B:$L,7,0))))","v":""},{"$f":"IF($E96=\"\",\"\",IF(ISERROR(VLOOKUP($E96,氏名ﾃﾞｰﾀ!$B:$L,10,0)),IF(ISERROR(VLOOKUP($E96,新規登録!$B:$L,8,0)),\"未登録\",VLOOKUP($E96,新規登録!$B:$L,8,0)),(VLOOKUP($E96,氏名ﾃﾞｰﾀ!$B:$L,10,0))))","v":""},{"$f":"IF($E96=\"\",\"\",IF(ISERROR(VLOOKUP($E96,氏名ﾃﾞｰﾀ!$B:$L,11,0)),IF(ISERROR(VLOOKUP($E96,新規登録!$B:$L,11,0)),\"未登録\",VLOOKUP($E96,新規登録!$B:$L,11,0)),$G$3))","v":""},{"$f":"IF($E96=\"\",\"\",IF(ISERROR(VLOOKUP($E96,氏名ﾃﾞｰﾀ!$B:$L,8,0)),IF(ISERROR(VLOOKUP($E96,新規登録!$B:$L,10,0)),\"ﾅｼ\",VLOOKUP($E96,新規登録!$B:$L,10,0)),(VLOOKUP($E96,氏名ﾃﾞｰﾀ!$B:$L,8,0))))","v":""},{"$f":"IF($E96=\"\",\"\",IF(ISERROR(VLOOKUP($E96,氏名ﾃﾞｰﾀ!$B:$M,12,0)),IF(ISERROR(VLOOKUP($E96,新規登録!$B:$L,9,0)),\"未登録\",VLOOKUP($E96,新規登録!$B:$L,9,0)),(VLOOKUP($E96,氏名ﾃﾞｰﾀ!$B:$M,12,0))))","v":""},null,null,null,null,null,null,null,null,null,null,null,null,null,null,null,null,null,null,null,null,null,null,null,null,"","",2,"1000","","","","","","1000","","","","","",1000,"","","","","",1000,"","","","",""]
["","",{"$f":"IF(E97=\"\",\"\",IF(AP97=1,COUNTIF(AP$16:AP97,1)*10+2001-10,COUNTIF(AP$16:AP97,2)*10+6001-10))","v":""},82,null,{"$f":"IF($E97=\"\",\"\",IF(ISERROR(VLOOKUP($E97,氏名ﾃﾞｰﾀ!$B:$L,2,0)),IF(ISERROR(VLOOKUP($E97,新規登録!$B:$L,2,0)),\"未登録\",VLOOKUP($E97,新規登録!$B:$L,2,0)),(VLOOKUP($E97,氏名ﾃﾞｰﾀ!$B:$L,2,0))))","v":""},{"$f":"IF($E97=\"\",\"\",IF(ISERROR(VLOOKUP($E97,氏名ﾃﾞｰﾀ!$B:$L,3,0)),IF(ISERROR(VLOOKUP($E97,新規登録!$B:$L,3,0)),\"未登録\",VLOOKUP($E97,新規登録!$B:$L,3,0)),(VLOOKUP($E97,氏名ﾃﾞｰﾀ!$B:$L,3,0))))","v":""},{"$f":"IF($E97=\"\",\"\",IF(ISERROR(VLOOKUP($E97,氏名ﾃﾞｰﾀ!$B:$L,4,0)),IF(ISERROR(VLOOKUP($E97,新規登録!$B:$L,4,0)),\"未登録\",VLOOKUP($E97,新規登録!$B:$L,4,0)),(VLOOKUP($E97,氏名ﾃﾞｰﾀ!$B:$L,4,0))))","v":""},{"$f":"IF($E97=\"\",\"\",IF(ISERROR(VLOOKUP($E97,氏名ﾃﾞｰﾀ!$B:$L,5,0)),IF(ISERROR(VLOOKUP($E97,新規登録!$B:$L,5,0)),\"未登録\",VLOOKUP($E97,新規登録!$B:$L,5,0)),(VLOOKUP($E97,氏名ﾃﾞｰﾀ!$B:$L,5,0))))","v":""},{"$f":"IF($E97=\"\",\"\",IF(ISERROR(VLOOKUP($E97,氏名ﾃﾞｰﾀ!$B:$L,6,0)),IF(ISERROR(VLOOKUP($E97,新規登録!$B:$L,6,0)),\"未登録\",VLOOKUP($E97,新規登録!$B:$L,6,0)),(VLOOKUP($E97,氏名ﾃﾞｰﾀ!$B:$L,6,0))))","v":""},{"$f":"IF($E97=\"\",\"\",IF(ISERROR(VLOOKUP($E97,氏名ﾃﾞｰﾀ!$B:$L,7,0)),IF(ISERROR(VLOOKUP($E97,新規登録!$B:$L,7,0)),\"未登録\",VLOOKUP($E97,新規登録!$B:$L,7,0)),(VLOOKUP($E97,氏名ﾃﾞｰﾀ!$B:$L,7,0))))","v":""},{"$f":"IF($E97=\"\",\"\",IF(ISERROR(VLOOKUP($E97,氏名ﾃﾞｰﾀ!$B:$L,10,0)),IF(ISERROR(VLOOKUP($E97,新規登録!$B:$L,8,0)),\"未登録\",VLOOKUP($E97,新規登録!$B:$L,8,0)),(VLOOKUP($E97,氏名ﾃﾞｰﾀ!$B:$L,10,0))))","v":""},{"$f":"IF($E97=\"\",\"\",IF(ISERROR(VLOOKUP($E97,氏名ﾃﾞｰﾀ!$B:$L,11,0)),IF(ISERROR(VLOOKUP($E97,新規登録!$B:$L,11,0)),\"未登録\",VLOOKUP($E97,新規登録!$B:$L,11,0)),$G$3))","v":""},{"$f":"IF($E97=\"\",\"\",IF(ISERROR(VLOOKUP($E97,氏名ﾃﾞｰﾀ!$B:$L,8,0)),IF(ISERROR(VLOOKUP($E97,新規登録!$B:$L,10,0)),\"ﾅｼ\",VLOOKUP($E97,新規登録!$B:$L,10,0)),(VLOOKUP($E97,氏名ﾃﾞｰﾀ!$B:$L,8,0))))","v":""},{"$f":"IF($E97=\"\",\"\",IF(ISERROR(VLOOKUP($E97,氏名ﾃﾞｰﾀ!$B:$M,12,0)),IF(ISERROR(VLOOKUP($E97,新規登録!$B:$L,9,0)),\"未登録\",VLOOKUP($E97,新規登録!$B:$L,9,0)),(VLOOKUP($E97,氏名ﾃﾞｰﾀ!$B:$M,12,0))))","v":""},null,null,null,null,null,null,null,null,null,null,null,null,null,null,null,null,null,null,null,null,null,null,null,null,"","",2,"1000","","","","","","1000","","","","","",1000,"","","","","",1000,"","","","",""]
["","",{"$f":"IF(E98=\"\",\"\",IF(AP98=1,COUNTIF(AP$16:AP98,1)*10+2001-10,COUNTIF(AP$16:AP98,2)*10+6001-10))","v":""},83,null,{"$f":"IF($E98=\"\",\"\",IF(ISERROR(VLOOKUP($E98,氏名ﾃﾞｰﾀ!$B:$L,2,0)),IF(ISERROR(VLOOKUP($E98,新規登録!$B:$L,2,0)),\"未登録\",VLOOKUP($E98,新規登録!$B:$L,2,0)),(VLOOKUP($E98,氏名ﾃﾞｰﾀ!$B:$L,2,0))))","v":""},{"$f":"IF($E98=\"\",\"\",IF(ISERROR(VLOOKUP($E98,氏名ﾃﾞｰﾀ!$B:$L,3,0)),IF(ISERROR(VLOOKUP($E98,新規登録!$B:$L,3,0)),\"未登録\",VLOOKUP($E98,新規登録!$B:$L,3,0)),(VLOOKUP($E98,氏名ﾃﾞｰﾀ!$B:$L,3,0))))","v":""},{"$f":"IF($E98=\"\",\"\",IF(ISERROR(VLOOKUP($E98,氏名ﾃﾞｰﾀ!$B:$L,4,0)),IF(ISERROR(VLOOKUP($E98,新規登録!$B:$L,4,0)),\"未登録\",VLOOKUP($E98,新規登録!$B:$L,4,0)),(VLOOKUP($E98,氏名ﾃﾞｰﾀ!$B:$L,4,0))))","v":""},{"$f":"IF($E98=\"\",\"\",IF(ISERROR(VLOOKUP($E98,氏名ﾃﾞｰﾀ!$B:$L,5,0)),IF(ISERROR(VLOOKUP($E98,新規登録!$B:$L,5,0)),\"未登録\",VLOOKUP($E98,新規登録!$B:$L,5,0)),(VLOOKUP($E98,氏名ﾃﾞｰﾀ!$B:$L,5,0))))","v":""},{"$f":"IF($E98=\"\",\"\",IF(ISERROR(VLOOKUP($E98,氏名ﾃﾞｰﾀ!$B:$L,6,0)),IF(ISERROR(VLOOKUP($E98,新規登録!$B:$L,6,0)),\"未登録\",VLOOKUP($E98,新規登録!$B:$L,6,0)),(VLOOKUP($E98,氏名ﾃﾞｰﾀ!$B:$L,6,0))))","v":""},{"$f":"IF($E98=\"\",\"\",IF(ISERROR(VLOOKUP($E98,氏名ﾃﾞｰﾀ!$B:$L,7,0)),IF(ISERROR(VLOOKUP($E98,新規登録!$B:$L,7,0)),\"未登録\",VLOOKUP($E98,新規登録!$B:$L,7,0)),(VLOOKUP($E98,氏名ﾃﾞｰﾀ!$B:$L,7,0))))","v":""},{"$f":"IF($E98=\"\",\"\",IF(ISERROR(VLOOKUP($E98,氏名ﾃﾞｰﾀ!$B:$L,10,0)),IF(ISERROR(VLOOKUP($E98,新規登録!$B:$L,8,0)),\"未登録\",VLOOKUP($E98,新規登録!$B:$L,8,0)),(VLOOKUP($E98,氏名ﾃﾞｰﾀ!$B:$L,10,0))))","v":""},{"$f":"IF($E98=\"\",\"\",IF(ISERROR(VLOOKUP($E98,氏名ﾃﾞｰﾀ!$B:$L,11,0)),IF(ISERROR(VLOOKUP($E98,新規登録!$B:$L,11,0)),\"未登録\",VLOOKUP($E98,新規登録!$B:$L,11,0)),$G$3))","v":""},{"$f":"IF($E98=\"\",\"\",IF(ISERROR(VLOOKUP($E98,氏名ﾃﾞｰﾀ!$B:$L,8,0)),IF(ISERROR(VLOOKUP($E98,新規登録!$B:$L,10,0)),\"ﾅｼ\",VLOOKUP($E98,新規登録!$B:$L,10,0)),(VLOOKUP($E98,氏名ﾃﾞｰﾀ!$B:$L,8,0))))","v":""},{"$f":"IF($E98=\"\",\"\",IF(ISERROR(VLOOKUP($E98,氏名ﾃﾞｰﾀ!$B:$M,12,0)),IF(ISERROR(VLOOKUP($E98,新規登録!$B:$L,9,0)),\"未登録\",VLOOKUP($E98,新規登録!$B:$L,9,0)),(VLOOKUP($E98,氏名ﾃﾞｰﾀ!$B:$M,12,0))))","v":""},null,null,null,null,null,null,null,null,null,null,null,null,null,null,null,null,null,null,null,null,null,null,null,null,"","",2,"1000","","","","","","1000","","","","","",1000,"","","","","",1000,"","","","",""]
["","",{"$f":"IF(E99=\"\",\"\",IF(AP99=1,COUNTIF(AP$16:AP99,1)*10+2001-10,COUNTIF(AP$16:AP99,2)*10+6001-10))","v":""},84,null,{"$f":"IF($E99=\"\",\"\",IF(ISERROR(VLOOKUP($E99,氏名ﾃﾞｰﾀ!$B:$L,2,0)),IF(ISERROR(VLOOKUP($E99,新規登録!$B:$L,2,0)),\"未登録\",VLOOKUP($E99,新規登録!$B:$L,2,0)),(VLOOKUP($E99,氏名ﾃﾞｰﾀ!$B:$L,2,0))))","v":""},{"$f":"IF($E99=\"\",\"\",IF(ISERROR(VLOOKUP($E99,氏名ﾃﾞｰﾀ!$B:$L,3,0)),IF(ISERROR(VLOOKUP($E99,新規登録!$B:$L,3,0)),\"未登録\",VLOOKUP($E99,新規登録!$B:$L,3,0)),(VLOOKUP($E99,氏名ﾃﾞｰﾀ!$B:$L,3,0))))","v":""},{"$f":"IF($E99=\"\",\"\",IF(ISERROR(VLOOKUP($E99,氏名ﾃﾞｰﾀ!$B:$L,4,0)),IF(ISERROR(VLOOKUP($E99,新規登録!$B:$L,4,0)),\"未登録\",VLOOKUP($E99,新規登録!$B:$L,4,0)),(VLOOKUP($E99,氏名ﾃﾞｰﾀ!$B:$L,4,0))))","v":""},{"$f":"IF($E99=\"\",\"\",IF(ISERROR(VLOOKUP($E99,氏名ﾃﾞｰﾀ!$B:$L,5,0)),IF(ISERROR(VLOOKUP($E99,新規登録!$B:$L,5,0)),\"未登録\",VLOOKUP($E99,新規登録!$B:$L,5,0)),(VLOOKUP($E99,氏名ﾃﾞｰﾀ!$B:$L,5,0))))","v":""},{"$f":"IF($E99=\"\",\"\",IF(ISERROR(VLOOKUP($E99,氏名ﾃﾞｰﾀ!$B:$L,6,0)),IF(ISERROR(VLOOKUP($E99,新規登録!$B:$L,6,0)),\"未登録\",VLOOKUP($E99,新規登録!$B:$L,6,0)),(VLOOKUP($E99,氏名ﾃﾞｰﾀ!$B:$L,6,0))))","v":""},{"$f":"IF($E99=\"\",\"\",IF(ISERROR(VLOOKUP($E99,氏名ﾃﾞｰﾀ!$B:$L,7,0)),IF(ISERROR(VLOOKUP($E99,新規登録!$B:$L,7,0)),\"未登録\",VLOOKUP($E99,新規登録!$B:$L,7,0)),(VLOOKUP($E99,氏名ﾃﾞｰﾀ!$B:$L,7,0))))","v":""},{"$f":"IF($E99=\"\",\"\",IF(ISERROR(VLOOKUP($E99,氏名ﾃﾞｰﾀ!$B:$L,10,0)),IF(ISERROR(VLOOKUP($E99,新規登録!$B:$L,8,0)),\"未登録\",VLOOKUP($E99,新規登録!$B:$L,8,0)),(VLOOKUP($E99,氏名ﾃﾞｰﾀ!$B:$L,10,0))))","v":""},{"$f":"IF($E99=\"\",\"\",IF(ISERROR(VLOOKUP($E99,氏名ﾃﾞｰﾀ!$B:$L,11,0)),IF(ISERROR(VLOOKUP($E99,新規登録!$B:$L,11,0)),\"未登録\",VLOOKUP($E99,新規登録!$B:$L,11,0)),$G$3))","v":""},{"$f":"IF($E99=\"\",\"\",IF(ISERROR(VLOOKUP($E99,氏名ﾃﾞｰﾀ!$B:$L,8,0)),IF(ISERROR(VLOOKUP($E99,新規登録!$B:$L,10,0)),\"ﾅｼ\",VLOOKUP($E99,新規登録!$B:$L,10,0)),(VLOOKUP($E99,氏名ﾃﾞｰﾀ!$B:$L,8,0))))","v":""},{"$f":"IF($E99=\"\",\"\",IF(ISERROR(VLOOKUP($E99,氏名ﾃﾞｰﾀ!$B:$M,12,0)),IF(ISERROR(VLOOKUP($E99,新規登録!$B:$L,9,0)),\"未登録\",VLOOKUP($E99,新規登録!$B:$L,9,0)),(VLOOKUP($E99,氏名ﾃﾞｰﾀ!$B:$M,12,0))))","v":""},null,null,null,null,null,null,null,null,null,null,null,null,null,null,null,null,null,null,null,null,null,null,null,null,"","",2,"1000","","","","","","1000","","","","","",1000,"","","","","",1000,"","","","",""]
["","",{"$f":"IF(E100=\"\",\"\",IF(AP100=1,COUNTIF(AP$16:AP100,1)*10+2001-10,COUNTIF(AP$16:AP100,2)*10+6001-10))","v":""},85,null,{"$f":"IF($E100=\"\",\"\",IF(ISERROR(VLOOKUP($E100,氏名ﾃﾞｰﾀ!$B:$L,2,0)),IF(ISERROR(VLOOKUP($E100,新規登録!$B:$L,2,0)),\"未登録\",VLOOKUP($E100,新規登録!$B:$L,2,0)),(VLOOKUP($E100,氏名ﾃﾞｰﾀ!$B:$L,2,0))))","v":""},{"$f":"IF($E100=\"\",\"\",IF(ISERROR(VLOOKUP($E100,氏名ﾃﾞｰﾀ!$B:$L,3,0)),IF(ISERROR(VLOOKUP($E100,新規登録!$B:$L,3,0)),\"未登録\",VLOOKUP($E100,新規登録!$B:$L,3,0)),(VLOOKUP($E100,氏名ﾃﾞｰﾀ!$B:$L,3,0))))","v":""},{"$f":"IF($E100=\"\",\"\",IF(ISERROR(VLOOKUP($E100,氏名ﾃﾞｰﾀ!$B:$L,4,0)),IF(ISERROR(VLOOKUP($E100,新規登録!$B:$L,4,0)),\"未登録\",VLOOKUP($E100,新規登録!$B:$L,4,0)),(VLOOKUP($E100,氏名ﾃﾞｰﾀ!$B:$L,4,0))))","v":""},{"$f":"IF($E100=\"\",\"\",IF(ISERROR(VLOOKUP($E100,氏名ﾃﾞｰﾀ!$B:$L,5,0)),IF(ISERROR(VLOOKUP($E100,新規登録!$B:$L,5,0)),\"未登録\",VLOOKUP($E100,新規登録!$B:$L,5,0)),(VLOOKUP($E100,氏名ﾃﾞｰﾀ!$B:$L,5,0))))","v":""},{"$f":"IF($E100=\"\",\"\",IF(ISERROR(VLOOKUP($E100,氏名ﾃﾞｰﾀ!$B:$L,6,0)),IF(ISERROR(VLOOKUP($E100,新規登録!$B:$L,6,0)),\"未登録\",VLOOKUP($E100,新規登録!$B:$L,6,0)),(VLOOKUP($E100,氏名ﾃﾞｰﾀ!$B:$L,6,0))))","v":""},{"$f":"IF($E100=\"\",\"\",IF(ISERROR(VLOOKUP($E100,氏名ﾃﾞｰﾀ!$B:$L,7,0)),IF(ISERROR(VLOOKUP($E100,新規登録!$B:$L,7,0)),\"未登録\",VLOOKUP($E100,新規登録!$B:$L,7,0)),(VLOOKUP($E100,氏名ﾃﾞｰﾀ!$B:$L,7,0))))","v":""},{"$f":"IF($E100=\"\",\"\",IF(ISERROR(VLOOKUP($E100,氏名ﾃﾞｰﾀ!$B:$L,10,0)),IF(ISERROR(VLOOKUP($E100,新規登録!$B:$L,8,0)),\"未登録\",VLOOKUP($E100,新規登録!$B:$L,8,0)),(VLOOKUP($E100,氏名ﾃﾞｰﾀ!$B:$L,10,0))))","v":""},{"$f":"IF($E100=\"\",\"\",IF(ISERROR(VLOOKUP($E100,氏名ﾃﾞｰﾀ!$B:$L,11,0)),IF(ISERROR(VLOOKUP($E100,新規登録!$B:$L,11,0)),\"未登録\",VLOOKUP($E100,新規登録!$B:$L,11,0)),$G$3))","v":""},{"$f":"IF($E100=\"\",\"\",IF(ISERROR(VLOOKUP($E100,氏名ﾃﾞｰﾀ!$B:$L,8,0)),IF(ISERROR(VLOOKUP($E100,新規登録!$B:$L,10,0)),\"ﾅｼ\",VLOOKUP($E100,新規登録!$B:$L,10,0)),(VLOOKUP($E100,氏名ﾃﾞｰﾀ!$B:$L,8,0))))","v":""},{"$f":"IF($E100=\"\",\"\",IF(ISERROR(VLOOKUP($E100,氏名ﾃﾞｰﾀ!$B:$M,12,0)),IF(ISERROR(VLOOKUP($E100,新規登録!$B:$L,9,0)),\"未登録\",VLOOKUP($E100,新規登録!$B:$L,9,0)),(VLOOKUP($E100,氏名ﾃﾞｰﾀ!$B:$M,12,0))))","v":""},null,null,null,null,null,null,null,null,null,null,null,null,null,null,null,null,null,null,null,null,null,null,null,null,"","",2,"1000","","","","","","1000","","","","","",1000,"","","","","",1000,"","","","",""]
["","",{"$f":"IF(E101=\"\",\"\",IF(AP101=1,COUNTIF(AP$16:AP101,1)*10+2001-10,COUNTIF(AP$16:AP101,2)*10+6001-10))","v":""},86,null,{"$f":"IF($E101=\"\",\"\",IF(ISERROR(VLOOKUP($E101,氏名ﾃﾞｰﾀ!$B:$L,2,0)),IF(ISERROR(VLOOKUP($E101,新規登録!$B:$L,2,0)),\"未登録\",VLOOKUP($E101,新規登録!$B:$L,2,0)),(VLOOKUP($E101,氏名ﾃﾞｰﾀ!$B:$L,2,0))))","v":""},{"$f":"IF($E101=\"\",\"\",IF(ISERROR(VLOOKUP($E101,氏名ﾃﾞｰﾀ!$B:$L,3,0)),IF(ISERROR(VLOOKUP($E101,新規登録!$B:$L,3,0)),\"未登録\",VLOOKUP($E101,新規登録!$B:$L,3,0)),(VLOOKUP($E101,氏名ﾃﾞｰﾀ!$B:$L,3,0))))","v":""},{"$f":"IF($E101=\"\",\"\",IF(ISERROR(VLOOKUP($E101,氏名ﾃﾞｰﾀ!$B:$L,4,0)),IF(ISERROR(VLOOKUP($E101,新規登録!$B:$L,4,0)),\"未登録\",VLOOKUP($E101,新規登録!$B:$L,4,0)),(VLOOKUP($E101,氏名ﾃﾞｰﾀ!$B:$L,4,0))))","v":""},{"$f":"IF($E101=\"\",\"\",IF(ISERROR(VLOOKUP($E101,氏名ﾃﾞｰﾀ!$B:$L,5,0)),IF(ISERROR(VLOOKUP($E101,新規登録!$B:$L,5,0)),\"未登録\",VLOOKUP($E101,新規登録!$B:$L,5,0)),(VLOOKUP($E101,氏名ﾃﾞｰﾀ!$B:$L,5,0))))","v":""},{"$f":"IF($E101=\"\",\"\",IF(ISERROR(VLOOKUP($E101,氏名ﾃﾞｰﾀ!$B:$L,6,0)),IF(ISERROR(VLOOKUP($E101,新規登録!$B:$L,6,0)),\"未登録\",VLOOKUP($E101,新規登録!$B:$L,6,0)),(VLOOKUP($E101,氏名ﾃﾞｰﾀ!$B:$L,6,0))))","v":""},{"$f":"IF($E101=\"\",\"\",IF(ISERROR(VLOOKUP($E101,氏名ﾃﾞｰﾀ!$B:$L,7,0)),IF(ISERROR(VLOOKUP($E101,新規登録!$B:$L,7,0)),\"未登録\",VLOOKUP($E101,新規登録!$B:$L,7,0)),(VLOOKUP($E101,氏名ﾃﾞｰﾀ!$B:$L,7,0))))","v":""},{"$f":"IF($E101=\"\",\"\",IF(ISERROR(VLOOKUP($E101,氏名ﾃﾞｰﾀ!$B:$L,10,0)),IF(ISERROR(VLOOKUP($E101,新規登録!$B:$L,8,0)),\"未登録\",VLOOKUP($E101,新規登録!$B:$L,8,0)),(VLOOKUP($E101,氏名ﾃﾞｰﾀ!$B:$L,10,0))))","v":""},{"$f":"IF($E101=\"\",\"\",IF(ISERROR(VLOOKUP($E101,氏名ﾃﾞｰﾀ!$B:$L,11,0)),IF(ISERROR(VLOOKUP($E101,新規登録!$B:$L,11,0)),\"未登録\",VLOOKUP($E101,新規登録!$B:$L,11,0)),$G$3))","v":""},{"$f":"IF($E101=\"\",\"\",IF(ISERROR(VLOOKUP($E101,氏名ﾃﾞｰﾀ!$B:$L,8,0)),IF(ISERROR(VLOOKUP($E101,新規登録!$B:$L,10,0)),\"ﾅｼ\",VLOOKUP($E101,新規登録!$B:$L,10,0)),(VLOOKUP($E101,氏名ﾃﾞｰﾀ!$B:$L,8,0))))","v":""},{"$f":"IF($E101=\"\",\"\",IF(ISERROR(VLOOKUP($E101,氏名ﾃﾞｰﾀ!$B:$M,12,0)),IF(ISERROR(VLOOKUP($E101,新規登録!$B:$L,9,0)),\"未登録\",VLOOKUP($E101,新規登録!$B:$L,9,0)),(VLOOKUP($E101,氏名ﾃﾞｰﾀ!$B:$M,12,0))))","v":""},null,null,null,null,null,null,null,null,null,null,null,null,null,null,null,null,null,null,null,null,null,null,null,null,"","",2,"1000","","","","","","1000","","","","","",1000,"","","","","",1000,"","","","",""]
["","",{"$f":"IF(E102=\"\",\"\",IF(AP102=1,COUNTIF(AP$16:AP102,1)*10+2001-10,COUNTIF(AP$16:AP102,2)*10+6001-10))","v":""},87,null,{"$f":"IF($E102=\"\",\"\",IF(ISERROR(VLOOKUP($E102,氏名ﾃﾞｰﾀ!$B:$L,2,0)),IF(ISERROR(VLOOKUP($E102,新規登録!$B:$L,2,0)),\"未登録\",VLOOKUP($E102,新規登録!$B:$L,2,0)),(VLOOKUP($E102,氏名ﾃﾞｰﾀ!$B:$L,2,0))))","v":""},{"$f":"IF($E102=\"\",\"\",IF(ISERROR(VLOOKUP($E102,氏名ﾃﾞｰﾀ!$B:$L,3,0)),IF(ISERROR(VLOOKUP($E102,新規登録!$B:$L,3,0)),\"未登録\",VLOOKUP($E102,新規登録!$B:$L,3,0)),(VLOOKUP($E102,氏名ﾃﾞｰﾀ!$B:$L,3,0))))","v":""},{"$f":"IF($E102=\"\",\"\",IF(ISERROR(VLOOKUP($E102,氏名ﾃﾞｰﾀ!$B:$L,4,0)),IF(ISERROR(VLOOKUP($E102,新規登録!$B:$L,4,0)),\"未登録\",VLOOKUP($E102,新規登録!$B:$L,4,0)),(VLOOKUP($E102,氏名ﾃﾞｰﾀ!$B:$L,4,0))))","v":""},{"$f":"IF($E102=\"\",\"\",IF(ISERROR(VLOOKUP($E102,氏名ﾃﾞｰﾀ!$B:$L,5,0)),IF(ISERROR(VLOOKUP($E102,新規登録!$B:$L,5,0)),\"未登録\",VLOOKUP($E102,新規登録!$B:$L,5,0)),(VLOOKUP($E102,氏名ﾃﾞｰﾀ!$B:$L,5,0))))","v":""},{"$f":"IF($E102=\"\",\"\",IF(ISERROR(VLOOKUP($E102,氏名ﾃﾞｰﾀ!$B:$L,6,0)),IF(ISERROR(VLOOKUP($E102,新規登録!$B:$L,6,0)),\"未登録\",VLOOKUP($E102,新規登録!$B:$L,6,0)),(VLOOKUP($E102,氏名ﾃﾞｰﾀ!$B:$L,6,0))))","v":""},{"$f":"IF($E102=\"\",\"\",IF(ISERROR(VLOOKUP($E102,氏名ﾃﾞｰﾀ!$B:$L,7,0)),IF(ISERROR(VLOOKUP($E102,新規登録!$B:$L,7,0)),\"未登録\",VLOOKUP($E102,新規登録!$B:$L,7,0)),(VLOOKUP($E102,氏名ﾃﾞｰﾀ!$B:$L,7,0))))","v":""},{"$f":"IF($E102=\"\",\"\",IF(ISERROR(VLOOKUP($E102,氏名ﾃﾞｰﾀ!$B:$L,10,0)),IF(ISERROR(VLOOKUP($E102,新規登録!$B:$L,8,0)),\"未登録\",VLOOKUP($E102,新規登録!$B:$L,8,0)),(VLOOKUP($E102,氏名ﾃﾞｰﾀ!$B:$L,10,0))))","v":""},{"$f":"IF($E102=\"\",\"\",IF(ISERROR(VLOOKUP($E102,氏名ﾃﾞｰﾀ!$B:$L,11,0)),IF(ISERROR(VLOOKUP($E102,新規登録!$B:$L,11,0)),\"未登録\",VLOOKUP($E102,新規登録!$B:$L,11,0)),$G$3))","v":""},{"$f":"IF($E102=\"\",\"\",IF(ISERROR(VLOOKUP($E102,氏名ﾃﾞｰﾀ!$B:$L,8,0)),IF(ISERROR(VLOOKUP($E102,新規登録!$B:$L,10,0)),\"ﾅｼ\",VLOOKUP($E102,新規登録!$B:$L,10,0)),(VLOOKUP($E102,氏名ﾃﾞｰﾀ!$B:$L,8,0))))","v":""},{"$f":"IF($E102=\"\",\"\",IF(ISERROR(VLOOKUP($E102,氏名ﾃﾞｰﾀ!$B:$M,12,0)),IF(ISERROR(VLOOKUP($E102,新規登録!$B:$L,9,0)),\"未登録\",VLOOKUP($E102,新規登録!$B:$L,9,0)),(VLOOKUP($E102,氏名ﾃﾞｰﾀ!$B:$M,12,0))))","v":""},null,null,null,null,null,null,null,null,null,null,null,null,null,null,null,null,null,null,null,null,null,null,null,null,"","",2,"1000","","","","","","1000","","","","","",1000,"","","","","",1000,"","","","",""]
["","",{"$f":"IF(E103=\"\",\"\",IF(AP103=1,COUNTIF(AP$16:AP103,1)*10+2001-10,COUNTIF(AP$16:AP103,2)*10+6001-10))","v":""},88,null,{"$f":"IF($E103=\"\",\"\",IF(ISERROR(VLOOKUP($E103,氏名ﾃﾞｰﾀ!$B:$L,2,0)),IF(ISERROR(VLOOKUP($E103,新規登録!$B:$L,2,0)),\"未登録\",VLOOKUP($E103,新規登録!$B:$L,2,0)),(VLOOKUP($E103,氏名ﾃﾞｰﾀ!$B:$L,2,0))))","v":""},{"$f":"IF($E103=\"\",\"\",IF(ISERROR(VLOOKUP($E103,氏名ﾃﾞｰﾀ!$B:$L,3,0)),IF(ISERROR(VLOOKUP($E103,新規登録!$B:$L,3,0)),\"未登録\",VLOOKUP($E103,新規登録!$B:$L,3,0)),(VLOOKUP($E103,氏名ﾃﾞｰﾀ!$B:$L,3,0))))","v":""},{"$f":"IF($E103=\"\",\"\",IF(ISERROR(VLOOKUP($E103,氏名ﾃﾞｰﾀ!$B:$L,4,0)),IF(ISERROR(VLOOKUP($E103,新規登録!$B:$L,4,0)),\"未登録\",VLOOKUP($E103,新規登録!$B:$L,4,0)),(VLOOKUP($E103,氏名ﾃﾞｰﾀ!$B:$L,4,0))))","v":""},{"$f":"IF($E103=\"\",\"\",IF(ISERROR(VLOOKUP($E103,氏名ﾃﾞｰﾀ!$B:$L,5,0)),IF(ISERROR(VLOOKUP($E103,新規登録!$B:$L,5,0)),\"未登録\",VLOOKUP($E103,新規登録!$B:$L,5,0)),(VLOOKUP($E103,氏名ﾃﾞｰﾀ!$B:$L,5,0))))","v":""},{"$f":"IF($E103=\"\",\"\",IF(ISERROR(VLOOKUP($E103,氏名ﾃﾞｰﾀ!$B:$L,6,0)),IF(ISERROR(VLOOKUP($E103,新規登録!$B:$L,6,0)),\"未登録\",VLOOKUP($E103,新規登録!$B:$L,6,0)),(VLOOKUP($E103,氏名ﾃﾞｰﾀ!$B:$L,6,0))))","v":""},{"$f":"IF($E103=\"\",\"\",IF(ISERROR(VLOOKUP($E103,氏名ﾃﾞｰﾀ!$B:$L,7,0)),IF(ISERROR(VLOOKUP($E103,新規登録!$B:$L,7,0)),\"未登録\",VLOOKUP($E103,新規登録!$B:$L,7,0)),(VLOOKUP($E103,氏名ﾃﾞｰﾀ!$B:$L,7,0))))","v":""},{"$f":"IF($E103=\"\",\"\",IF(ISERROR(VLOOKUP($E103,氏名ﾃﾞｰﾀ!$B:$L,10,0)),IF(ISERROR(VLOOKUP($E103,新規登録!$B:$L,8,0)),\"未登録\",VLOOKUP($E103,新規登録!$B:$L,8,0)),(VLOOKUP($E103,氏名ﾃﾞｰﾀ!$B:$L,10,0))))","v":""},{"$f":"IF($E103=\"\",\"\",IF(ISERROR(VLOOKUP($E103,氏名ﾃﾞｰﾀ!$B:$L,11,0)),IF(ISERROR(VLOOKUP($E103,新規登録!$B:$L,11,0)),\"未登録\",VLOOKUP($E103,新規登録!$B:$L,11,0)),$G$3))","v":""},{"$f":"IF($E103=\"\",\"\",IF(ISERROR(VLOOKUP($E103,氏名ﾃﾞｰﾀ!$B:$L,8,0)),IF(ISERROR(VLOOKUP($E103,新規登録!$B:$L,10,0)),\"ﾅｼ\",VLOOKUP($E103,新規登録!$B:$L,10,0)),(VLOOKUP($E103,氏名ﾃﾞｰﾀ!$B:$L,8,0))))","v":""},{"$f":"IF($E103=\"\",\"\",IF(ISERROR(VLOOKUP($E103,氏名ﾃﾞｰﾀ!$B:$M,12,0)),IF(ISERROR(VLOOKUP($E103,新規登録!$B:$L,9,0)),\"未登録\",VLOOKUP($E103,新規登録!$B:$L,9,0)),(VLOOKUP($E103,氏名ﾃﾞｰﾀ!$B:$M,12,0))))","v":""},null,null,null,null,null,null,null,null,null,null,null,null,null,null,null,null,null,null,null,null,null,null,null,null,"","",2,"1000","","","","","","1000","","","","","",1000,"","","","","",1000,"","","","",""]
["","",{"$f":"IF(E104=\"\",\"\",IF(AP104=1,COUNTIF(AP$16:AP104,1)*10+2001-10,COUNTIF(AP$16:AP104,2)*10+6001-10))","v":""},89,null,{"$f":"IF($E104=\"\",\"\",IF(ISERROR(VLOOKUP($E104,氏名ﾃﾞｰﾀ!$B:$L,2,0)),IF(ISERROR(VLOOKUP($E104,新規登録!$B:$L,2,0)),\"未登録\",VLOOKUP($E104,新規登録!$B:$L,2,0)),(VLOOKUP($E104,氏名ﾃﾞｰﾀ!$B:$L,2,0))))","v":""},{"$f":"IF($E104=\"\",\"\",IF(ISERROR(VLOOKUP($E104,氏名ﾃﾞｰﾀ!$B:$L,3,0)),IF(ISERROR(VLOOKUP($E104,新規登録!$B:$L,3,0)),\"未登録\",VLOOKUP($E104,新規登録!$B:$L,3,0)),(VLOOKUP($E104,氏名ﾃﾞｰﾀ!$B:$L,3,0))))","v":""},{"$f":"IF($E104=\"\",\"\",IF(ISERROR(VLOOKUP($E104,氏名ﾃﾞｰﾀ!$B:$L,4,0)),IF(ISERROR(VLOOKUP($E104,新規登録!$B:$L,4,0)),\"未登録\",VLOOKUP($E104,新規登録!$B:$L,4,0)),(VLOOKUP($E104,氏名ﾃﾞｰﾀ!$B:$L,4,0))))","v":""},{"$f":"IF($E104=\"\",\"\",IF(ISERROR(VLOOKUP($E104,氏名ﾃﾞｰﾀ!$B:$L,5,0)),IF(ISERROR(VLOOKUP($E104,新規登録!$B:$L,5,0)),\"未登録\",VLOOKUP($E104,新規登録!$B:$L,5,0)),(VLOOKUP($E104,氏名ﾃﾞｰﾀ!$B:$L,5,0))))","v":""},{"$f":"IF($E104=\"\",\"\",IF(ISERROR(VLOOKUP($E104,氏名ﾃﾞｰﾀ!$B:$L,6,0)),IF(ISERROR(VLOOKUP($E104,新規登録!$B:$L,6,0)),\"未登録\",VLOOKUP($E104,新規登録!$B:$L,6,0)),(VLOOKUP($E104,氏名ﾃﾞｰﾀ!$B:$L,6,0))))","v":""},{"$f":"IF($E104=\"\",\"\",IF(ISERROR(VLOOKUP($E104,氏名ﾃﾞｰﾀ!$B:$L,7,0)),IF(ISERROR(VLOOKUP($E104,新規登録!$B:$L,7,0)),\"未登録\",VLOOKUP($E104,新規登録!$B:$L,7,0)),(VLOOKUP($E104,氏名ﾃﾞｰﾀ!$B:$L,7,0))))","v":""},{"$f":"IF($E104=\"\",\"\",IF(ISERROR(VLOOKUP($E104,氏名ﾃﾞｰﾀ!$B:$L,10,0)),IF(ISERROR(VLOOKUP($E104,新規登録!$B:$L,8,0)),\"未登録\",VLOOKUP($E104,新規登録!$B:$L,8,0)),(VLOOKUP($E104,氏名ﾃﾞｰﾀ!$B:$L,10,0))))","v":""},{"$f":"IF($E104=\"\",\"\",IF(ISERROR(VLOOKUP($E104,氏名ﾃﾞｰﾀ!$B:$L,11,0)),IF(ISERROR(VLOOKUP($E104,新規登録!$B:$L,11,0)),\"未登録\",VLOOKUP($E104,新規登録!$B:$L,11,0)),$G$3))","v":""},{"$f":"IF($E104=\"\",\"\",IF(ISERROR(VLOOKUP($E104,氏名ﾃﾞｰﾀ!$B:$L,8,0)),IF(ISERROR(VLOOKUP($E104,新規登録!$B:$L,10,0)),\"ﾅｼ\",VLOOKUP($E104,新規登録!$B:$L,10,0)),(VLOOKUP($E104,氏名ﾃﾞｰﾀ!$B:$L,8,0))))","v":""},{"$f":"IF($E104=\"\",\"\",IF(ISERROR(VLOOKUP($E104,氏名ﾃﾞｰﾀ!$B:$M,12,0)),IF(ISERROR(VLOOKUP($E104,新規登録!$B:$L,9,0)),\"未登録\",VLOOKUP($E104,新規登録!$B:$L,9,0)),(VLOOKUP($E104,氏名ﾃﾞｰﾀ!$B:$M,12,0))))","v":""},null,null,null,null,null,null,null,null,null,null,null,null,null,null,null,null,null,null,null,null,null,null,null,null,"","",2,"1000","","","","","","1000","","","","","",1000,"","","","","",1000,"","","","",""]
["","",{"$f":"IF(E105=\"\",\"\",IF(AP105=1,COUNTIF(AP$16:AP105,1)*10+2001-10,COUNTIF(AP$16:AP105,2)*10+6001-10))","v":""},90,null,{"$f":"IF($E105=\"\",\"\",IF(ISERROR(VLOOKUP($E105,氏名ﾃﾞｰﾀ!$B:$L,2,0)),IF(ISERROR(VLOOKUP($E105,新規登録!$B:$L,2,0)),\"未登録\",VLOOKUP($E105,新規登録!$B:$L,2,0)),(VLOOKUP($E105,氏名ﾃﾞｰﾀ!$B:$L,2,0))))","v":""},{"$f":"IF($E105=\"\",\"\",IF(ISERROR(VLOOKUP($E105,氏名ﾃﾞｰﾀ!$B:$L,3,0)),IF(ISERROR(VLOOKUP($E105,新規登録!$B:$L,3,0)),\"未登録\",VLOOKUP($E105,新規登録!$B:$L,3,0)),(VLOOKUP($E105,氏名ﾃﾞｰﾀ!$B:$L,3,0))))","v":""},{"$f":"IF($E105=\"\",\"\",IF(ISERROR(VLOOKUP($E105,氏名ﾃﾞｰﾀ!$B:$L,4,0)),IF(ISERROR(VLOOKUP($E105,新規登録!$B:$L,4,0)),\"未登録\",VLOOKUP($E105,新規登録!$B:$L,4,0)),(VLOOKUP($E105,氏名ﾃﾞｰﾀ!$B:$L,4,0))))","v":""},{"$f":"IF($E105=\"\",\"\",IF(ISERROR(VLOOKUP($E105,氏名ﾃﾞｰﾀ!$B:$L,5,0)),IF(ISERROR(VLOOKUP($E105,新規登録!$B:$L,5,0)),\"未登録\",VLOOKUP($E105,新規登録!$B:$L,5,0)),(VLOOKUP($E105,氏名ﾃﾞｰﾀ!$B:$L,5,0))))","v":""},{"$f":"IF($E105=\"\",\"\",IF(ISERROR(VLOOKUP($E105,氏名ﾃﾞｰﾀ!$B:$L,6,0)),IF(ISERROR(VLOOKUP($E105,新規登録!$B:$L,6,0)),\"未登録\",VLOOKUP($E105,新規登録!$B:$L,6,0)),(VLOOKUP($E105,氏名ﾃﾞｰﾀ!$B:$L,6,0))))","v":""},{"$f":"IF($E105=\"\",\"\",IF(ISERROR(VLOOKUP($E105,氏名ﾃﾞｰﾀ!$B:$L,7,0)),IF(ISERROR(VLOOKUP($E105,新規登録!$B:$L,7,0)),\"未登録\",VLOOKUP($E105,新規登録!$B:$L,7,0)),(VLOOKUP($E105,氏名ﾃﾞｰﾀ!$B:$L,7,0))))","v":""},{"$f":"IF($E105=\"\",\"\",IF(ISERROR(VLOOKUP($E105,氏名ﾃﾞｰﾀ!$B:$L,10,0)),IF(ISERROR(VLOOKUP($E105,新規登録!$B:$L,8,0)),\"未登録\",VLOOKUP($E105,新規登録!$B:$L,8,0)),(VLOOKUP($E105,氏名ﾃﾞｰﾀ!$B:$L,10,0))))","v":""},{"$f":"IF($E105=\"\",\"\",IF(ISERROR(VLOOKUP($E105,氏名ﾃﾞｰﾀ!$B:$L,11,0)),IF(ISERROR(VLOOKUP($E105,新規登録!$B:$L,11,0)),\"未登録\",VLOOKUP($E105,新規登録!$B:$L,11,0)),$G$3))","v":""},{"$f":"IF($E105=\"\",\"\",IF(ISERROR(VLOOKUP($E105,氏名ﾃﾞｰﾀ!$B:$L,8,0)),IF(ISERROR(VLOOKUP($E105,新規登録!$B:$L,10,0)),\"ﾅｼ\",VLOOKUP($E105,新規登録!$B:$L,10,0)),(VLOOKUP($E105,氏名ﾃﾞｰﾀ!$B:$L,8,0))))","v":""},{"$f":"IF($E105=\"\",\"\",IF(ISERROR(VLOOKUP($E105,氏名ﾃﾞｰﾀ!$B:$M,12,0)),IF(ISERROR(VLOOKUP($E105,新規登録!$B:$L,9,0)),\"未登録\",VLOOKUP($E105,新規登録!$B:$L,9,0)),(VLOOKUP($E105,氏名ﾃﾞｰﾀ!$B:$M,12,0))))","v":""},null,null,null,null,null,null,null,null,null,null,null,null,null,null,null,null,null,null,null,null,null,null,null,null,"","",2,"1000","","","","","","1000","","","","","",1000,"","","","","",1000,"","","","",""]
["","",{"$f":"IF(E106=\"\",\"\",IF(AP106=1,COUNTIF(AP$16:AP106,1)*10+2001-10,COUNTIF(AP$16:AP106,2)*10+6001-10))","v":""},91,null,{"$f":"IF($E106=\"\",\"\",IF(ISERROR(VLOOKUP($E106,氏名ﾃﾞｰﾀ!$B:$L,2,0)),IF(ISERROR(VLOOKUP($E106,新規登録!$B:$L,2,0)),\"未登録\",VLOOKUP($E106,新規登録!$B:$L,2,0)),(VLOOKUP($E106,氏名ﾃﾞｰﾀ!$B:$L,2,0))))","v":""},{"$f":"IF($E106=\"\",\"\",IF(ISERROR(VLOOKUP($E106,氏名ﾃﾞｰﾀ!$B:$L,3,0)),IF(ISERROR(VLOOKUP($E106,新規登録!$B:$L,3,0)),\"未登録\",VLOOKUP($E106,新規登録!$B:$L,3,0)),(VLOOKUP($E106,氏名ﾃﾞｰﾀ!$B:$L,3,0))))","v":""},{"$f":"IF($E106=\"\",\"\",IF(ISERROR(VLOOKUP($E106,氏名ﾃﾞｰﾀ!$B:$L,4,0)),IF(ISERROR(VLOOKUP($E106,新規登録!$B:$L,4,0)),\"未登録\",VLOOKUP($E106,新規登録!$B:$L,4,0)),(VLOOKUP($E106,氏名ﾃﾞｰﾀ!$B:$L,4,0))))","v":""},{"$f":"IF($E106=\"\",\"\",IF(ISERROR(VLOOKUP($E106,氏名ﾃﾞｰﾀ!$B:$L,5,0)),IF(ISERROR(VLOOKUP($E106,新規登録!$B:$L,5,0)),\"未登録\",VLOOKUP($E106,新規登録!$B:$L,5,0)),(VLOOKUP($E106,氏名ﾃﾞｰﾀ!$B:$L,5,0))))","v":""},{"$f":"IF($E106=\"\",\"\",IF(ISERROR(VLOOKUP($E106,氏名ﾃﾞｰﾀ!$B:$L,6,0)),IF(ISERROR(VLOOKUP($E106,新規登録!$B:$L,6,0)),\"未登録\",VLOOKUP($E106,新規登録!$B:$L,6,0)),(VLOOKUP($E106,氏名ﾃﾞｰﾀ!$B:$L,6,0))))","v":""},{"$f":"IF($E106=\"\",\"\",IF(ISERROR(VLOOKUP($E106,氏名ﾃﾞｰﾀ!$B:$L,7,0)),IF(ISERROR(VLOOKUP($E106,新規登録!$B:$L,7,0)),\"未登録\",VLOOKUP($E106,新規登録!$B:$L,7,0)),(VLOOKUP($E106,氏名ﾃﾞｰﾀ!$B:$L,7,0))))","v":""},{"$f":"IF($E106=\"\",\"\",IF(ISERROR(VLOOKUP($E106,氏名ﾃﾞｰﾀ!$B:$L,10,0)),IF(ISERROR(VLOOKUP($E106,新規登録!$B:$L,8,0)),\"未登録\",VLOOKUP($E106,新規登録!$B:$L,8,0)),(VLOOKUP($E106,氏名ﾃﾞｰﾀ!$B:$L,10,0))))","v":""},{"$f":"IF($E106=\"\",\"\",IF(ISERROR(VLOOKUP($E106,氏名ﾃﾞｰﾀ!$B:$L,11,0)),IF(ISERROR(VLOOKUP($E106,新規登録!$B:$L,11,0)),\"未登録\",VLOOKUP($E106,新規登録!$B:$L,11,0)),$G$3))","v":""},{"$f":"IF($E106=\"\",\"\",IF(ISERROR(VLOOKUP($E106,氏名ﾃﾞｰﾀ!$B:$L,8,0)),IF(ISERROR(VLOOKUP($E106,新規登録!$B:$L,10,0)),\"ﾅｼ\",VLOOKUP($E106,新規登録!$B:$L,10,0)),(VLOOKUP($E106,氏名ﾃﾞｰﾀ!$B:$L,8,0))))","v":""},{"$f":"IF($E106=\"\",\"\",IF(ISERROR(VLOOKUP($E106,氏名ﾃﾞｰﾀ!$B:$M,12,0)),IF(ISERROR(VLOOKUP($E106,新規登録!$B:$L,9,0)),\"未登録\",VLOOKUP($E106,新規登録!$B:$L,9,0)),(VLOOKUP($E106,氏名ﾃﾞｰﾀ!$B:$M,12,0))))","v":""},null,null,null,null,null,null,null,null,null,null,null,null,null,null,null,null,null,null,null,null,null,null,null,null,"","",2,"1000","","","","","","1000","","","","","",1000,"","","","","",1000,"","","","",""]
["","",{"$f":"IF(E107=\"\",\"\",IF(AP107=1,COUNTIF(AP$16:AP107,1)*10+2001-10,COUNTIF(AP$16:AP107,2)*10+6001-10))","v":""},92,null,{"$f":"IF($E107=\"\",\"\",IF(ISERROR(VLOOKUP($E107,氏名ﾃﾞｰﾀ!$B:$L,2,0)),IF(ISERROR(VLOOKUP($E107,新規登録!$B:$L,2,0)),\"未登録\",VLOOKUP($E107,新規登録!$B:$L,2,0)),(VLOOKUP($E107,氏名ﾃﾞｰﾀ!$B:$L,2,0))))","v":""},{"$f":"IF($E107=\"\",\"\",IF(ISERROR(VLOOKUP($E107,氏名ﾃﾞｰﾀ!$B:$L,3,0)),IF(ISERROR(VLOOKUP($E107,新規登録!$B:$L,3,0)),\"未登録\",VLOOKUP($E107,新規登録!$B:$L,3,0)),(VLOOKUP($E107,氏名ﾃﾞｰﾀ!$B:$L,3,0))))","v":""},{"$f":"IF($E107=\"\",\"\",IF(ISERROR(VLOOKUP($E107,氏名ﾃﾞｰﾀ!$B:$L,4,0)),IF(ISERROR(VLOOKUP($E107,新規登録!$B:$L,4,0)),\"未登録\",VLOOKUP($E107,新規登録!$B:$L,4,0)),(VLOOKUP($E107,氏名ﾃﾞｰﾀ!$B:$L,4,0))))","v":""},{"$f":"IF($E107=\"\",\"\",IF(ISERROR(VLOOKUP($E107,氏名ﾃﾞｰﾀ!$B:$L,5,0)),IF(ISERROR(VLOOKUP($E107,新規登録!$B:$L,5,0)),\"未登録\",VLOOKUP($E107,新規登録!$B:$L,5,0)),(VLOOKUP($E107,氏名ﾃﾞｰﾀ!$B:$L,5,0))))","v":""},{"$f":"IF($E107=\"\",\"\",IF(ISERROR(VLOOKUP($E107,氏名ﾃﾞｰﾀ!$B:$L,6,0)),IF(ISERROR(VLOOKUP($E107,新規登録!$B:$L,6,0)),\"未登録\",VLOOKUP($E107,新規登録!$B:$L,6,0)),(VLOOKUP($E107,氏名ﾃﾞｰﾀ!$B:$L,6,0))))","v":""},{"$f":"IF($E107=\"\",\"\",IF(ISERROR(VLOOKUP($E107,氏名ﾃﾞｰﾀ!$B:$L,7,0)),IF(ISERROR(VLOOKUP($E107,新規登録!$B:$L,7,0)),\"未登録\",VLOOKUP($E107,新規登録!$B:$L,7,0)),(VLOOKUP($E107,氏名ﾃﾞｰﾀ!$B:$L,7,0))))","v":""},{"$f":"IF($E107=\"\",\"\",IF(ISERROR(VLOOKUP($E107,氏名ﾃﾞｰﾀ!$B:$L,10,0)),IF(ISERROR(VLOOKUP($E107,新規登録!$B:$L,8,0)),\"未登録\",VLOOKUP($E107,新規登録!$B:$L,8,0)),(VLOOKUP($E107,氏名ﾃﾞｰﾀ!$B:$L,10,0))))","v":""},{"$f":"IF($E107=\"\",\"\",IF(ISERROR(VLOOKUP($E107,氏名ﾃﾞｰﾀ!$B:$L,11,0)),IF(ISERROR(VLOOKUP($E107,新規登録!$B:$L,11,0)),\"未登録\",VLOOKUP($E107,新規登録!$B:$L,11,0)),$G$3))","v":""},{"$f":"IF($E107=\"\",\"\",IF(ISERROR(VLOOKUP($E107,氏名ﾃﾞｰﾀ!$B:$L,8,0)),IF(ISERROR(VLOOKUP($E107,新規登録!$B:$L,10,0)),\"ﾅｼ\",VLOOKUP($E107,新規登録!$B:$L,10,0)),(VLOOKUP($E107,氏名ﾃﾞｰﾀ!$B:$L,8,0))))","v":""},{"$f":"IF($E107=\"\",\"\",IF(ISERROR(VLOOKUP($E107,氏名ﾃﾞｰﾀ!$B:$M,12,0)),IF(ISERROR(VLOOKUP($E107,新規登録!$B:$L,9,0)),\"未登録\",VLOOKUP($E107,新規登録!$B:$L,9,0)),(VLOOKUP($E107,氏名ﾃﾞｰﾀ!$B:$M,12,0))))","v":""},null,null,null,null,null,null,null,null,null,null,null,null,null,null,null,null,null,null,null,null,null,null,null,null,"","",2,"1000","","","","","","1000","","","","","",1000,"","","","","",1000,"","","","",""]
["","",{"$f":"IF(E108=\"\",\"\",IF(AP108=1,COUNTIF(AP$16:AP108,1)*10+2001-10,COUNTIF(AP$16:AP108,2)*10+6001-10))","v":""},93,null,{"$f":"IF($E108=\"\",\"\",IF(ISERROR(VLOOKUP($E108,氏名ﾃﾞｰﾀ!$B:$L,2,0)),IF(ISERROR(VLOOKUP($E108,新規登録!$B:$L,2,0)),\"未登録\",VLOOKUP($E108,新規登録!$B:$L,2,0)),(VLOOKUP($E108,氏名ﾃﾞｰﾀ!$B:$L,2,0))))","v":""},{"$f":"IF($E108=\"\",\"\",IF(ISERROR(VLOOKUP($E108,氏名ﾃﾞｰﾀ!$B:$L,3,0)),IF(ISERROR(VLOOKUP($E108,新規登録!$B:$L,3,0)),\"未登録\",VLOOKUP($E108,新規登録!$B:$L,3,0)),(VLOOKUP($E108,氏名ﾃﾞｰﾀ!$B:$L,3,0))))","v":""},{"$f":"IF($E108=\"\",\"\",IF(ISERROR(VLOOKUP($E108,氏名ﾃﾞｰﾀ!$B:$L,4,0)),IF(ISERROR(VLOOKUP($E108,新規登録!$B:$L,4,0)),\"未登録\",VLOOKUP($E108,新規登録!$B:$L,4,0)),(VLOOKUP($E108,氏名ﾃﾞｰﾀ!$B:$L,4,0))))","v":""},{"$f":"IF($E108=\"\",\"\",IF(ISERROR(VLOOKUP($E108,氏名ﾃﾞｰﾀ!$B:$L,5,0)),IF(ISERROR(VLOOKUP($E108,新規登録!$B:$L,5,0)),\"未登録\",VLOOKUP($E108,新規登録!$B:$L,5,0)),(VLOOKUP($E108,氏名ﾃﾞｰﾀ!$B:$L,5,0))))","v":""},{"$f":"IF($E108=\"\",\"\",IF(ISERROR(VLOOKUP($E108,氏名ﾃﾞｰﾀ!$B:$L,6,0)),IF(ISERROR(VLOOKUP($E108,新規登録!$B:$L,6,0)),\"未登録\",VLOOKUP($E108,新規登録!$B:$L,6,0)),(VLOOKUP($E108,氏名ﾃﾞｰﾀ!$B:$L,6,0))))","v":""},{"$f":"IF($E108=\"\",\"\",IF(ISERROR(VLOOKUP($E108,氏名ﾃﾞｰﾀ!$B:$L,7,0)),IF(ISERROR(VLOOKUP($E108,新規登録!$B:$L,7,0)),\"未登録\",VLOOKUP($E108,新規登録!$B:$L,7,0)),(VLOOKUP($E108,氏名ﾃﾞｰﾀ!$B:$L,7,0))))","v":""},{"$f":"IF($E108=\"\",\"\",IF(ISERROR(VLOOKUP($E108,氏名ﾃﾞｰﾀ!$B:$L,10,0)),IF(ISERROR(VLOOKUP($E108,新規登録!$B:$L,8,0)),\"未登録\",VLOOKUP($E108,新規登録!$B:$L,8,0)),(VLOOKUP($E108,氏名ﾃﾞｰﾀ!$B:$L,10,0))))","v":""},{"$f":"IF($E108=\"\",\"\",IF(ISERROR(VLOOKUP($E108,氏名ﾃﾞｰﾀ!$B:$L,11,0)),IF(ISERROR(VLOOKUP($E108,新規登録!$B:$L,11,0)),\"未登録\",VLOOKUP($E108,新規登録!$B:$L,11,0)),$G$3))","v":""},{"$f":"IF($E108=\"\",\"\",IF(ISERROR(VLOOKUP($E108,氏名ﾃﾞｰﾀ!$B:$L,8,0)),IF(ISERROR(VLOOKUP($E108,新規登録!$B:$L,10,0)),\"ﾅｼ\",VLOOKUP($E108,新規登録!$B:$L,10,0)),(VLOOKUP($E108,氏名ﾃﾞｰﾀ!$B:$L,8,0))))","v":""},{"$f":"IF($E108=\"\",\"\",IF(ISERROR(VLOOKUP($E108,氏名ﾃﾞｰﾀ!$B:$M,12,0)),IF(ISERROR(VLOOKUP($E108,新規登録!$B:$L,9,0)),\"未登録\",VLOOKUP($E108,新規登録!$B:$L,9,0)),(VLOOKUP($E108,氏名ﾃﾞｰﾀ!$B:$M,12,0))))","v":""},null,null,null,null,null,null,null,null,null,null,null,null,null,null,null,null,null,null,null,null,null,null,null,null,"","",2,"1000","","","","","","1000","","","","","",1000,"","","","","",1000,"","","","",""]
["","",{"$f":"IF(E109=\"\",\"\",IF(AP109=1,COUNTIF(AP$16:AP109,1)*10+2001-10,COUNTIF(AP$16:AP109,2)*10+6001-10))","v":""},94,null,{"$f":"IF($E109=\"\",\"\",IF(ISERROR(VLOOKUP($E109,氏名ﾃﾞｰﾀ!$B:$L,2,0)),IF(ISERROR(VLOOKUP($E109,新規登録!$B:$L,2,0)),\"未登録\",VLOOKUP($E109,新規登録!$B:$L,2,0)),(VLOOKUP($E109,氏名ﾃﾞｰﾀ!$B:$L,2,0))))","v":""},{"$f":"IF($E109=\"\",\"\",IF(ISERROR(VLOOKUP($E109,氏名ﾃﾞｰﾀ!$B:$L,3,0)),IF(ISERROR(VLOOKUP($E109,新規登録!$B:$L,3,0)),\"未登録\",VLOOKUP($E109,新規登録!$B:$L,3,0)),(VLOOKUP($E109,氏名ﾃﾞｰﾀ!$B:$L,3,0))))","v":""},{"$f":"IF($E109=\"\",\"\",IF(ISERROR(VLOOKUP($E109,氏名ﾃﾞｰﾀ!$B:$L,4,0)),IF(ISERROR(VLOOKUP($E109,新規登録!$B:$L,4,0)),\"未登録\",VLOOKUP($E109,新規登録!$B:$L,4,0)),(VLOOKUP($E109,氏名ﾃﾞｰﾀ!$B:$L,4,0))))","v":""},{"$f":"IF($E109=\"\",\"\",IF(ISERROR(VLOOKUP($E109,氏名ﾃﾞｰﾀ!$B:$L,5,0)),IF(ISERROR(VLOOKUP($E109,新規登録!$B:$L,5,0)),\"未登録\",VLOOKUP($E109,新規登録!$B:$L,5,0)),(VLOOKUP($E109,氏名ﾃﾞｰﾀ!$B:$L,5,0))))","v":""},{"$f":"IF($E109=\"\",\"\",IF(ISERROR(VLOOKUP($E109,氏名ﾃﾞｰﾀ!$B:$L,6,0)),IF(ISERROR(VLOOKUP($E109,新規登録!$B:$L,6,0)),\"未登録\",VLOOKUP($E109,新規登録!$B:$L,6,0)),(VLOOKUP($E109,氏名ﾃﾞｰﾀ!$B:$L,6,0))))","v":""},{"$f":"IF($E109=\"\",\"\",IF(ISERROR(VLOOKUP($E109,氏名ﾃﾞｰﾀ!$B:$L,7,0)),IF(ISERROR(VLOOKUP($E109,新規登録!$B:$L,7,0)),\"未登録\",VLOOKUP($E109,新規登録!$B:$L,7,0)),(VLOOKUP($E109,氏名ﾃﾞｰﾀ!$B:$L,7,0))))","v":""},{"$f":"IF($E109=\"\",\"\",IF(ISERROR(VLOOKUP($E109,氏名ﾃﾞｰﾀ!$B:$L,10,0)),IF(ISERROR(VLOOKUP($E109,新規登録!$B:$L,8,0)),\"未登録\",VLOOKUP($E109,新規登録!$B:$L,8,0)),(VLOOKUP($E109,氏名ﾃﾞｰﾀ!$B:$L,10,0))))","v":""},{"$f":"IF($E109=\"\",\"\",IF(ISERROR(VLOOKUP($E109,氏名ﾃﾞｰﾀ!$B:$L,11,0)),IF(ISERROR(VLOOKUP($E109,新規登録!$B:$L,11,0)),\"未登録\",VLOOKUP($E109,新規登録!$B:$L,11,0)),$G$3))","v":""},{"$f":"IF($E109=\"\",\"\",IF(ISERROR(VLOOKUP($E109,氏名ﾃﾞｰﾀ!$B:$L,8,0)),IF(ISERROR(VLOOKUP($E109,新規登録!$B:$L,10,0)),\"ﾅｼ\",VLOOKUP($E109,新規登録!$B:$L,10,0)),(VLOOKUP($E109,氏名ﾃﾞｰﾀ!$B:$L,8,0))))","v":""},{"$f":"IF($E109=\"\",\"\",IF(ISERROR(VLOOKUP($E109,氏名ﾃﾞｰﾀ!$B:$M,12,0)),IF(ISERROR(VLOOKUP($E109,新規登録!$B:$L,9,0)),\"未登録\",VLOOKUP($E109,新規登録!$B:$L,9,0)),(VLOOKUP($E109,氏名ﾃﾞｰﾀ!$B:$M,12,0))))","v":""},null,null,null,null,null,null,null,null,null,null,null,null,null,null,null,null,null,null,null,null,null,null,null,null,"","",2,"1000","","","","","","1000","","","","","",1000,"","","","","",1000,"","","","",""]
["","",{"$f":"IF(E110=\"\",\"\",IF(AP110=1,COUNTIF(AP$16:AP110,1)*10+2001-10,COUNTIF(AP$16:AP110,2)*10+6001-10))","v":""},95,null,{"$f":"IF($E110=\"\",\"\",IF(ISERROR(VLOOKUP($E110,氏名ﾃﾞｰﾀ!$B:$L,2,0)),IF(ISERROR(VLOOKUP($E110,新規登録!$B:$L,2,0)),\"未登録\",VLOOKUP($E110,新規登録!$B:$L,2,0)),(VLOOKUP($E110,氏名ﾃﾞｰﾀ!$B:$L,2,0))))","v":""},{"$f":"IF($E110=\"\",\"\",IF(ISERROR(VLOOKUP($E110,氏名ﾃﾞｰﾀ!$B:$L,3,0)),IF(ISERROR(VLOOKUP($E110,新規登録!$B:$L,3,0)),\"未登録\",VLOOKUP($E110,新規登録!$B:$L,3,0)),(VLOOKUP($E110,氏名ﾃﾞｰﾀ!$B:$L,3,0))))","v":""},{"$f":"IF($E110=\"\",\"\",IF(ISERROR(VLOOKUP($E110,氏名ﾃﾞｰﾀ!$B:$L,4,0)),IF(ISERROR(VLOOKUP($E110,新規登録!$B:$L,4,0)),\"未登録\",VLOOKUP($E110,新規登録!$B:$L,4,0)),(VLOOKUP($E110,氏名ﾃﾞｰﾀ!$B:$L,4,0))))","v":""},{"$f":"IF($E110=\"\",\"\",IF(ISERROR(VLOOKUP($E110,氏名ﾃﾞｰﾀ!$B:$L,5,0)),IF(ISERROR(VLOOKUP($E110,新規登録!$B:$L,5,0)),\"未登録\",VLOOKUP($E110,新規登録!$B:$L,5,0)),(VLOOKUP($E110,氏名ﾃﾞｰﾀ!$B:$L,5,0))))","v":""},{"$f":"IF($E110=\"\",\"\",IF(ISERROR(VLOOKUP($E110,氏名ﾃﾞｰﾀ!$B:$L,6,0)),IF(ISERROR(VLOOKUP($E110,新規登録!$B:$L,6,0)),\"未登録\",VLOOKUP($E110,新規登録!$B:$L,6,0)),(VLOOKUP($E110,氏名ﾃﾞｰﾀ!$B:$L,6,0))))","v":""},{"$f":"IF($E110=\"\",\"\",IF(ISERROR(VLOOKUP($E110,氏名ﾃﾞｰﾀ!$B:$L,7,0)),IF(ISERROR(VLOOKUP($E110,新規登録!$B:$L,7,0)),\"未登録\",VLOOKUP($E110,新規登録!$B:$L,7,0)),(VLOOKUP($E110,氏名ﾃﾞｰﾀ!$B:$L,7,0))))","v":""},{"$f":"IF($E110=\"\",\"\",IF(ISERROR(VLOOKUP($E110,氏名ﾃﾞｰﾀ!$B:$L,10,0)),IF(ISERROR(VLOOKUP($E110,新規登録!$B:$L,8,0)),\"未登録\",VLOOKUP($E110,新規登録!$B:$L,8,0)),(VLOOKUP($E110,氏名ﾃﾞｰﾀ!$B:$L,10,0))))","v":""},{"$f":"IF($E110=\"\",\"\",IF(ISERROR(VLOOKUP($E110,氏名ﾃﾞｰﾀ!$B:$L,11,0)),IF(ISERROR(VLOOKUP($E110,新規登録!$B:$L,11,0)),\"未登録\",VLOOKUP($E110,新規登録!$B:$L,11,0)),$G$3))","v":""},{"$f":"IF($E110=\"\",\"\",IF(ISERROR(VLOOKUP($E110,氏名ﾃﾞｰﾀ!$B:$L,8,0)),IF(ISERROR(VLOOKUP($E110,新規登録!$B:$L,10,0)),\"ﾅｼ\",VLOOKUP($E110,新規登録!$B:$L,10,0)),(VLOOKUP($E110,氏名ﾃﾞｰﾀ!$B:$L,8,0))))","v":""},{"$f":"IF($E110=\"\",\"\",IF(ISERROR(VLOOKUP($E110,氏名ﾃﾞｰﾀ!$B:$M,12,0)),IF(ISERROR(VLOOKUP($E110,新規登録!$B:$L,9,0)),\"未登録\",VLOOKUP($E110,新規登録!$B:$L,9,0)),(VLOOKUP($E110,氏名ﾃﾞｰﾀ!$B:$M,12,0))))","v":""},null,null,null,null,null,null,null,null,null,null,null,null,null,null,null,null,null,null,null,null,null,null,null,null,"","",2,"1000","","","","","","1000","","","","","",1000,"","","","","",1000,"","","","",""]
["","",{"$f":"IF(E111=\"\",\"\",IF(AP111=1,COUNTIF(AP$16:AP111,1)*10+2001-10,COUNTIF(AP$16:AP111,2)*10+6001-10))","v":""},96,null,{"$f":"IF($E111=\"\",\"\",IF(ISERROR(VLOOKUP($E111,氏名ﾃﾞｰﾀ!$B:$L,2,0)),IF(ISERROR(VLOOKUP($E111,新規登録!$B:$L,2,0)),\"未登録\",VLOOKUP($E111,新規登録!$B:$L,2,0)),(VLOOKUP($E111,氏名ﾃﾞｰﾀ!$B:$L,2,0))))","v":""},{"$f":"IF($E111=\"\",\"\",IF(ISERROR(VLOOKUP($E111,氏名ﾃﾞｰﾀ!$B:$L,3,0)),IF(ISERROR(VLOOKUP($E111,新規登録!$B:$L,3,0)),\"未登録\",VLOOKUP($E111,新規登録!$B:$L,3,0)),(VLOOKUP($E111,氏名ﾃﾞｰﾀ!$B:$L,3,0))))","v":""},{"$f":"IF($E111=\"\",\"\",IF(ISERROR(VLOOKUP($E111,氏名ﾃﾞｰﾀ!$B:$L,4,0)),IF(ISERROR(VLOOKUP($E111,新規登録!$B:$L,4,0)),\"未登録\",VLOOKUP($E111,新規登録!$B:$L,4,0)),(VLOOKUP($E111,氏名ﾃﾞｰﾀ!$B:$L,4,0))))","v":""},{"$f":"IF($E111=\"\",\"\",IF(ISERROR(VLOOKUP($E111,氏名ﾃﾞｰﾀ!$B:$L,5,0)),IF(ISERROR(VLOOKUP($E111,新規登録!$B:$L,5,0)),\"未登録\",VLOOKUP($E111,新規登録!$B:$L,5,0)),(VLOOKUP($E111,氏名ﾃﾞｰﾀ!$B:$L,5,0))))","v":""},{"$f":"IF($E111=\"\",\"\",IF(ISERROR(VLOOKUP($E111,氏名ﾃﾞｰﾀ!$B:$L,6,0)),IF(ISERROR(VLOOKUP($E111,新規登録!$B:$L,6,0)),\"未登録\",VLOOKUP($E111,新規登録!$B:$L,6,0)),(VLOOKUP($E111,氏名ﾃﾞｰﾀ!$B:$L,6,0))))","v":""},{"$f":"IF($E111=\"\",\"\",IF(ISERROR(VLOOKUP($E111,氏名ﾃﾞｰﾀ!$B:$L,7,0)),IF(ISERROR(VLOOKUP($E111,新規登録!$B:$L,7,0)),\"未登録\",VLOOKUP($E111,新規登録!$B:$L,7,0)),(VLOOKUP($E111,氏名ﾃﾞｰﾀ!$B:$L,7,0))))","v":""},{"$f":"IF($E111=\"\",\"\",IF(ISERROR(VLOOKUP($E111,氏名ﾃﾞｰﾀ!$B:$L,10,0)),IF(ISERROR(VLOOKUP($E111,新規登録!$B:$L,8,0)),\"未登録\",VLOOKUP($E111,新規登録!$B:$L,8,0)),(VLOOKUP($E111,氏名ﾃﾞｰﾀ!$B:$L,10,0))))","v":""},{"$f":"IF($E111=\"\",\"\",IF(ISERROR(VLOOKUP($E111,氏名ﾃﾞｰﾀ!$B:$L,11,0)),IF(ISERROR(VLOOKUP($E111,新規登録!$B:$L,11,0)),\"未登録\",VLOOKUP($E111,新規登録!$B:$L,11,0)),$G$3))","v":""},{"$f":"IF($E111=\"\",\"\",IF(ISERROR(VLOOKUP($E111,氏名ﾃﾞｰﾀ!$B:$L,8,0)),IF(ISERROR(VLOOKUP($E111,新規登録!$B:$L,10,0)),\"ﾅｼ\",VLOOKUP($E111,新規登録!$B:$L,10,0)),(VLOOKUP($E111,氏名ﾃﾞｰﾀ!$B:$L,8,0))))","v":""},{"$f":"IF($E111=\"\",\"\",IF(ISERROR(VLOOKUP($E111,氏名ﾃﾞｰﾀ!$B:$M,12,0)),IF(ISERROR(VLOOKUP($E111,新規登録!$B:$L,9,0)),\"未登録\",VLOOKUP($E111,新規登録!$B:$L,9,0)),(VLOOKUP($E111,氏名ﾃﾞｰﾀ!$B:$M,12,0))))","v":""},null,null,null,null,null,null,null,null,null,null,null,null,null,null,null,null,null,null,null,null,null,null,null,null,"","",2,"1000","","","","","","1000","","","","","",1000,"","","","","",1000,"","","","",""]
[{"$f":"IF(AB112=\"\",\"\",IF(N112=\"男\",VLOOKUP(AB112,ﾘﾚｰｺｰﾄﾞ,2,0),VLOOKUP(AB112,ﾘﾚｰｺｰﾄﾞ女,2,0)))","v":""},{"$f":"IF(AF112=\"\",\"\",IF(N112=\"男\",VLOOKUP(AF112,ﾘﾚｰｺｰﾄﾞ,3,0),VLOOKUP(AF112,ﾘﾚｰｺｰﾄﾞ女,3,0)))","v":""},{"$f":"IF(E112=\"\",\"\",IF(AP112=1,COUNTIF(AP$16:AP112,1)*10+2001-10,COUNTIF(AP$16:AP112,2)*10+6001-10))","v":""},97,null,{"$f":"IF($E112=\"\",\"\",IF(ISERROR(VLOOKUP($E112,氏名ﾃﾞｰﾀ!$B:$L,2,0)),IF(ISERROR(VLOOKUP($E112,新規登録!$B:$L,2,0)),\"未登録\",VLOOKUP($E112,新規登録!$B:$L,2,0)),(VLOOKUP($E112,氏名ﾃﾞｰﾀ!$B:$L,2,0))))","v":""},{"$f":"IF($E112=\"\",\"\",IF(ISERROR(VLOOKUP($E112,氏名ﾃﾞｰﾀ!$B:$L,3,0)),IF(ISERROR(VLOOKUP($E112,新規登録!$B:$L,3,0)),\"未登録\",VLOOKUP($E112,新規登録!$B:$L,3,0)),(VLOOKUP($E112,氏名ﾃﾞｰﾀ!$B:$L,3,0))))","v":""},{"$f":"IF($E112=\"\",\"\",IF(ISERROR(VLOOKUP($E112,氏名ﾃﾞｰﾀ!$B:$L,4,0)),IF(ISERROR(VLOOKUP($E112,新規登録!$B:$L,4,0)),\"未登録\",VLOOKUP($E112,新規登録!$B:$L,4,0)),(VLOOKUP($E112,氏名ﾃﾞｰﾀ!$B:$L,4,0))))","v":""},{"$f":"IF($E112=\"\",\"\",IF(ISERROR(VLOOKUP($E112,氏名ﾃﾞｰﾀ!$B:$L,5,0)),IF(ISERROR(VLOOKUP($E112,新規登録!$B:$L,5,0)),\"未登録\",VLOOKUP($E112,新規登録!$B:$L,5,0)),(VLOOKUP($E112,氏名ﾃﾞｰﾀ!$B:$L,5,0))))","v":""},{"$f":"IF($E112=\"\",\"\",IF(ISERROR(VLOOKUP($E112,氏名ﾃﾞｰﾀ!$B:$L,6,0)),IF(ISERROR(VLOOKUP($E112,新規登録!$B:$L,6,0)),\"未登録\",VLOOKUP($E112,新規登録!$B:$L,6,0)),(VLOOKUP($E112,氏名ﾃﾞｰﾀ!$B:$L,6,0))))","v":""},{"$f":"IF($E112=\"\",\"\",IF(ISERROR(VLOOKUP($E112,氏名ﾃﾞｰﾀ!$B:$L,7,0)),IF(ISERROR(VLOOKUP($E112,新規登録!$B:$L,7,0)),\"未登録\",VLOOKUP($E112,新規登録!$B:$L,7,0)),(VLOOKUP($E112,氏名ﾃﾞｰﾀ!$B:$L,7,0))))","v":""},{"$f":"IF($E112=\"\",\"\",IF(ISERROR(VLOOKUP($E112,氏名ﾃﾞｰﾀ!$B:$L,10,0)),IF(ISERROR(VLOOKUP($E112,新規登録!$B:$L,8,0)),\"未登録\",VLOOKUP($E112,新規登録!$B:$L,8,0)),(VLOOKUP($E112,氏名ﾃﾞｰﾀ!$B:$L,10,0))))","v":""},{"$f":"IF($E112=\"\",\"\",IF(ISERROR(VLOOKUP($E112,氏名ﾃﾞｰﾀ!$B:$L,11,0)),IF(ISERROR(VLOOKUP($E112,新規登録!$B:$L,11,0)),\"未登録\",VLOOKUP($E112,新規登録!$B:$L,11,0)),$G$3))","v":""},{"$f":"IF($E112=\"\",\"\",IF(ISERROR(VLOOKUP($E112,氏名ﾃﾞｰﾀ!$B:$L,8,0)),IF(ISERROR(VLOOKUP($E112,新規登録!$B:$L,10,0)),\"ﾅｼ\",VLOOKUP($E112,新規登録!$B:$L,10,0)),(VLOOKUP($E112,氏名ﾃﾞｰﾀ!$B:$L,8,0))))","v":""},{"$f":"IF($E112=\"\",\"\",IF(ISERROR(VLOOKUP($E112,氏名ﾃﾞｰﾀ!$B:$M,12,0)),IF(ISERROR(VLOOKUP($E112,新規登録!$B:$L,9,0)),\"未登録\",VLOOKUP($E112,新規登録!$B:$L,9,0)),(VLOOKUP($E112,氏名ﾃﾞｰﾀ!$B:$M,12,0))))","v":""},null,null,null,null,null,null,null,null,null,null,null,null,null,null,null,null,null,null,null,null,null,null,null,null,"","",2,{"$f":"IF(AP112=1,IF(A112=\"\",1000,A112),\"1000\")","v":"1000"},"","","","","","1000","","","","","",1000,"","","","","",1000,"","","","",""]
["","",{"$f":"IF(E113=\"\",\"\",IF(AP113=1,COUNTIF(AP$16:AP113,1)*10+2001-10,COUNTIF(AP$16:AP113,2)*10+6001-10))","v":""},98,null,{"$f":"IF($E113=\"\",\"\",IF(ISERROR(VLOOKUP($E113,氏名ﾃﾞｰﾀ!$B:$L,2,0)),IF(ISERROR(VLOOKUP($E113,新規登録!$B:$L,2,0)),\"未登録\",VLOOKUP($E113,新規登録!$B:$L,2,0)),(VLOOKUP($E113,氏名ﾃﾞｰﾀ!$B:$L,2,0))))","v":""},{"$f":"IF($E113=\"\",\"\",IF(ISERROR(VLOOKUP($E113,氏名ﾃﾞｰﾀ!$B:$L,3,0)),IF(ISERROR(VLOOKUP($E113,新規登録!$B:$L,3,0)),\"未登録\",VLOOKUP($E113,新規登録!$B:$L,3,0)),(VLOOKUP($E113,氏名ﾃﾞｰﾀ!$B:$L,3,0))))","v":""},{"$f":"IF($E113=\"\",\"\",IF(ISERROR(VLOOKUP($E113,氏名ﾃﾞｰﾀ!$B:$L,4,0)),IF(ISERROR(VLOOKUP($E113,新規登録!$B:$L,4,0)),\"未登録\",VLOOKUP($E113,新規登録!$B:$L,4,0)),(VLOOKUP($E113,氏名ﾃﾞｰﾀ!$B:$L,4,0))))","v":""},{"$f":"IF($E113=\"\",\"\",IF(ISERROR(VLOOKUP($E113,氏名ﾃﾞｰﾀ!$B:$L,5,0)),IF(ISERROR(VLOOKUP($E113,新規登録!$B:$L,5,0)),\"未登録\",VLOOKUP($E113,新規登録!$B:$L,5,0)),(VLOOKUP($E113,氏名ﾃﾞｰﾀ!$B:$L,5,0))))","v":""},{"$f":"IF($E113=\"\",\"\",IF(ISERROR(VLOOKUP($E113,氏名ﾃﾞｰﾀ!$B:$L,6,0)),IF(ISERROR(VLOOKUP($E113,新規登録!$B:$L,6,0)),\"未登録\",VLOOKUP($E113,新規登録!$B:$L,6,0)),(VLOOKUP($E113,氏名ﾃﾞｰﾀ!$B:$L,6,0))))","v":""},{"$f":"IF($E113=\"\",\"\",IF(ISERROR(VLOOKUP($E113,氏名ﾃﾞｰﾀ!$B:$L,7,0)),IF(ISERROR(VLOOKUP($E113,新規登録!$B:$L,7,0)),\"未登録\",VLOOKUP($E113,新規登録!$B:$L,7,0)),(VLOOKUP($E113,氏名ﾃﾞｰﾀ!$B:$L,7,0))))","v":""},{"$f":"IF($E113=\"\",\"\",IF(ISERROR(VLOOKUP($E113,氏名ﾃﾞｰﾀ!$B:$L,10,0)),IF(ISERROR(VLOOKUP($E113,新規登録!$B:$L,8,0)),\"未登録\",VLOOKUP($E113,新規登録!$B:$L,8,0)),(VLOOKUP($E113,氏名ﾃﾞｰﾀ!$B:$L,10,0))))","v":""},{"$f":"IF($E113=\"\",\"\",IF(ISERROR(VLOOKUP($E113,氏名ﾃﾞｰﾀ!$B:$L,11,0)),IF(ISERROR(VLOOKUP($E113,新規登録!$B:$L,11,0)),\"未登録\",VLOOKUP($E113,新規登録!$B:$L,11,0)),$G$3))","v":""},{"$f":"IF($E113=\"\",\"\",IF(ISERROR(VLOOKUP($E113,氏名ﾃﾞｰﾀ!$B:$L,8,0)),IF(ISERROR(VLOOKUP($E113,新規登録!$B:$L,10,0)),\"ﾅｼ\",VLOOKUP($E113,新規登録!$B:$L,10,0)),(VLOOKUP($E113,氏名ﾃﾞｰﾀ!$B:$L,8,0))))","v":""},{"$f":"IF($E113=\"\",\"\",IF(ISERROR(VLOOKUP($E113,氏名ﾃﾞｰﾀ!$B:$M,12,0)),IF(ISERROR(VLOOKUP($E113,新規登録!$B:$L,9,0)),\"未登録\",VLOOKUP($E113,新規登録!$B:$L,9,0)),(VLOOKUP($E113,氏名ﾃﾞｰﾀ!$B:$M,12,0))))","v":""},null,null,null,null,null,null,null,null,null,null,null,null,null,null,null,null,null,null,null,null,null,null,null,null,"","",2,"1000","","","","","","1000","","","","","",1000,"","","","","",1000,"","","","",""]
["","",{"$f":"IF(E114=\"\",\"\",IF(AP114=1,COUNTIF(AP$16:AP114,1)*10+2001-10,COUNTIF(AP$16:AP114,2)*10+6001-10))","v":""},99,null,{"$f":"IF($E114=\"\",\"\",IF(ISERROR(VLOOKUP($E114,氏名ﾃﾞｰﾀ!$B:$L,2,0)),IF(ISERROR(VLOOKUP($E114,新規登録!$B:$L,2,0)),\"未登録\",VLOOKUP($E114,新規登録!$B:$L,2,0)),(VLOOKUP($E114,氏名ﾃﾞｰﾀ!$B:$L,2,0))))","v":""},{"$f":"IF($E114=\"\",\"\",IF(ISERROR(VLOOKUP($E114,氏名ﾃﾞｰﾀ!$B:$L,3,0)),IF(ISERROR(VLOOKUP($E114,新規登録!$B:$L,3,0)),\"未登録\",VLOOKUP($E114,新規登録!$B:$L,3,0)),(VLOOKUP($E114,氏名ﾃﾞｰﾀ!$B:$L,3,0))))","v":""},{"$f":"IF($E114=\"\",\"\",IF(ISERROR(VLOOKUP($E114,氏名ﾃﾞｰﾀ!$B:$L,4,0)),IF(ISERROR(VLOOKUP($E114,新規登録!$B:$L,4,0)),\"未登録\",VLOOKUP($E114,新規登録!$B:$L,4,0)),(VLOOKUP($E114,氏名ﾃﾞｰﾀ!$B:$L,4,0))))","v":""},{"$f":"IF($E114=\"\",\"\",IF(ISERROR(VLOOKUP($E114,氏名ﾃﾞｰﾀ!$B:$L,5,0)),IF(ISERROR(VLOOKUP($E114,新規登録!$B:$L,5,0)),\"未登録\",VLOOKUP($E114,新規登録!$B:$L,5,0)),(VLOOKUP($E114,氏名ﾃﾞｰﾀ!$B:$L,5,0))))","v":""},{"$f":"IF($E114=\"\",\"\",IF(ISERROR(VLOOKUP($E114,氏名ﾃﾞｰﾀ!$B:$L,6,0)),IF(ISERROR(VLOOKUP($E114,新規登録!$B:$L,6,0)),\"未登録\",VLOOKUP($E114,新規登録!$B:$L,6,0)),(VLOOKUP($E114,氏名ﾃﾞｰﾀ!$B:$L,6,0))))","v":""},{"$f":"IF($E114=\"\",\"\",IF(ISERROR(VLOOKUP($E114,氏名ﾃﾞｰﾀ!$B:$L,7,0)),IF(ISERROR(VLOOKUP($E114,新規登録!$B:$L,7,0)),\"未登録\",VLOOKUP($E114,新規登録!$B:$L,7,0)),(VLOOKUP($E114,氏名ﾃﾞｰﾀ!$B:$L,7,0))))","v":""},{"$f":"IF($E114=\"\",\"\",IF(ISERROR(VLOOKUP($E114,氏名ﾃﾞｰﾀ!$B:$L,10,0)),IF(ISERROR(VLOOKUP($E114,新規登録!$B:$L,8,0)),\"未登録\",VLOOKUP($E114,新規登録!$B:$L,8,0)),(VLOOKUP($E114,氏名ﾃﾞｰﾀ!$B:$L,10,0))))","v":""},{"$f":"IF($E114=\"\",\"\",IF(ISERROR(VLOOKUP($E114,氏名ﾃﾞｰﾀ!$B:$L,11,0)),IF(ISERROR(VLOOKUP($E114,新規登録!$B:$L,11,0)),\"未登録\",VLOOKUP($E114,新規登録!$B:$L,11,0)),$G$3))","v":""},{"$f":"IF($E114=\"\",\"\",IF(ISERROR(VLOOKUP($E114,氏名ﾃﾞｰﾀ!$B:$L,8,0)),IF(ISERROR(VLOOKUP($E114,新規登録!$B:$L,10,0)),\"ﾅｼ\",VLOOKUP($E114,新規登録!$B:$L,10,0)),(VLOOKUP($E114,氏名ﾃﾞｰﾀ!$B:$L,8,0))))","v":""},{"$f":"IF($E114=\"\",\"\",IF(ISERROR(VLOOKUP($E114,氏名ﾃﾞｰﾀ!$B:$M,12,0)),IF(ISERROR(VLOOKUP($E114,新規登録!$B:$L,9,0)),\"未登録\",VLOOKUP($E114,新規登録!$B:$L,9,0)),(VLOOKUP($E114,氏名ﾃﾞｰﾀ!$B:$M,12,0))))","v":""},null,null,null,null,null,null,null,null,null,null,null,null,null,null,null,null,null,null,null,null,null,null,null,null,"","",2,"1000","","","","","","1000","","","","","",1000,"","","","","",1000,"","","","",""]
["","",{"$f":"IF(E115=\"\",\"\",IF(AP115=1,COUNTIF(AP$16:AP115,1)*10+2001-10,COUNTIF(AP$16:AP115,2)*10+6001-10))","v":""},100,null,{"$f":"IF($E115=\"\",\"\",IF(ISERROR(VLOOKUP($E115,氏名ﾃﾞｰﾀ!$B:$L,2,0)),IF(ISERROR(VLOOKUP($E115,新規登録!$B:$L,2,0)),\"未登録\",VLOOKUP($E115,新規登録!$B:$L,2,0)),(VLOOKUP($E115,氏名ﾃﾞｰﾀ!$B:$L,2,0))))","v":""},{"$f":"IF($E115=\"\",\"\",IF(ISERROR(VLOOKUP($E115,氏名ﾃﾞｰﾀ!$B:$L,3,0)),IF(ISERROR(VLOOKUP($E115,新規登録!$B:$L,3,0)),\"未登録\",VLOOKUP($E115,新規登録!$B:$L,3,0)),(VLOOKUP($E115,氏名ﾃﾞｰﾀ!$B:$L,3,0))))","v":""},{"$f":"IF($E115=\"\",\"\",IF(ISERROR(VLOOKUP($E115,氏名ﾃﾞｰﾀ!$B:$L,4,0)),IF(ISERROR(VLOOKUP($E115,新規登録!$B:$L,4,0)),\"未登録\",VLOOKUP($E115,新規登録!$B:$L,4,0)),(VLOOKUP($E115,氏名ﾃﾞｰﾀ!$B:$L,4,0))))","v":""},{"$f":"IF($E115=\"\",\"\",IF(ISERROR(VLOOKUP($E115,氏名ﾃﾞｰﾀ!$B:$L,5,0)),IF(ISERROR(VLOOKUP($E115,新規登録!$B:$L,5,0)),\"未登録\",VLOOKUP($E115,新規登録!$B:$L,5,0)),(VLOOKUP($E115,氏名ﾃﾞｰﾀ!$B:$L,5,0))))","v":""},{"$f":"IF($E115=\"\",\"\",IF(ISERROR(VLOOKUP($E115,氏名ﾃﾞｰﾀ!$B:$L,6,0)),IF(ISERROR(VLOOKUP($E115,新規登録!$B:$L,6,0)),\"未登録\",VLOOKUP($E115,新規登録!$B:$L,6,0)),(VLOOKUP($E115,氏名ﾃﾞｰﾀ!$B:$L,6,0))))","v":""},{"$f":"IF($E115=\"\",\"\",IF(ISERROR(VLOOKUP($E115,氏名ﾃﾞｰﾀ!$B:$L,7,0)),IF(ISERROR(VLOOKUP($E115,新規登録!$B:$L,7,0)),\"未登録\",VLOOKUP($E115,新規登録!$B:$L,7,0)),(VLOOKUP($E115,氏名ﾃﾞｰﾀ!$B:$L,7,0))))","v":""},{"$f":"IF($E115=\"\",\"\",IF(ISERROR(VLOOKUP($E115,氏名ﾃﾞｰﾀ!$B:$L,10,0)),IF(ISERROR(VLOOKUP($E115,新規登録!$B:$L,8,0)),\"未登録\",VLOOKUP($E115,新規登録!$B:$L,8,0)),(VLOOKUP($E115,氏名ﾃﾞｰﾀ!$B:$L,10,0))))","v":""},{"$f":"IF($E115=\"\",\"\",IF(ISERROR(VLOOKUP($E115,氏名ﾃﾞｰﾀ!$B:$L,11,0)),IF(ISERROR(VLOOKUP($E115,新規登録!$B:$L,11,0)),\"未登録\",VLOOKUP($E115,新規登録!$B:$L,11,0)),$G$3))","v":""},{"$f":"IF($E115=\"\",\"\",IF(ISERROR(VLOOKUP($E115,氏名ﾃﾞｰﾀ!$B:$L,8,0)),IF(ISERROR(VLOOKUP($E115,新規登録!$B:$L,10,0)),\"ﾅｼ\",VLOOKUP($E115,新規登録!$B:$L,10,0)),(VLOOKUP($E115,氏名ﾃﾞｰﾀ!$B:$L,8,0))))","v":""},{"$f":"IF($E115=\"\",\"\",IF(ISERROR(VLOOKUP($E115,氏名ﾃﾞｰﾀ!$B:$M,12,0)),IF(ISERROR(VLOOKUP($E115,新規登録!$B:$L,9,0)),\"未登録\",VLOOKUP($E115,新規登録!$B:$L,9,0)),(VLOOKUP($E115,氏名ﾃﾞｰﾀ!$B:$M,12,0))))","v":""},null,null,null,null,null,null,null,null,null,null,null,null,null,null,null,null,null,null,null,null,null,null,null,null,"","",2,"1000","","","","","","1000","","","","","",1000,"","","","","",1000,"","","","",""]

{"sheet":"会計シート","index":4,"n_rows":24,"n_cols":23,"rows_kept":24,"cut":false,"hidden":false,"merged":[[23,13,23,16],[21,4,21,5],[19,10,19,11],[20,10,20,11],[21,10,21,11],[19,13,19,16],[20,13,20,16],[21,14,21,16],[4,20,4,22],[9,1,9,4],[9,5,9,8],[9,9,9,12],[10,2,10,4],[10,6,10,8],[10,10,10,12],[13,13,13,16],[0,2,0,3],[13,2,13,4],[13,6,13,8],[13,10,13,12],[11,2,11,4],[11,6,11,8],[11,10,11,12],[12,2,12,4],[12,6,12,8],[12,10,12,12],[4,1,4,19],[11,13,11,16],[12,13,12,16]]}
[null,"学校番号",{"$f":"ｴﾝﾄﾘｰ票!AC6","v":0},null,null,"学校名",{"$f":"ｴﾝﾄﾘｰ票!G2","v":0}]
[]
["大会名",null,{"$f":"ｴﾝﾄﾘｰ票!G1","v":"東京高体連陸上第4支部春季競技会"}]
[]
[null,"個人",null,null,null,null,null,null,null,null,null,null,null,null,null,null,null,null,null,null,"リレー"]
[null,"100m","200m","400m","800m","1500m","3000m","5000m","100mH","110mH","400mH","3000mSC","走高跳","棒高跳","走幅跳","三段跳","砲丸投","円盤投","やり投","合計","4x100mR","4x400mR","合計"]
["男子",{"$f":"COUNTIFS(ｴﾝﾄﾘｰ票!$N$16:$N$115,\"男\",ｴﾝﾄﾘｰ票!$P$16:$P$115,B6)+COUNTIFS(ｴﾝﾄﾘｰ票!$N$16:$N$115,\"男\",ｴﾝﾄﾘｰ票!$T$16:$T$115,B6)+COUNTIFS(ｴﾝﾄﾘｰ票!$N$16:$N$115,\"男\",ｴﾝﾄﾘｰ票!$X$16:$X$115,B6)","v":0},{"$f":"COUNTIFS(ｴﾝﾄﾘｰ票!$N$16:$N$115,\"男\",ｴﾝﾄﾘｰ票!$P$16:$P$115,C6)+COUNTIFS(ｴﾝﾄﾘｰ票!$N$16:$N$115,\"男\",ｴﾝﾄﾘｰ票!$T$16:$T$115,C6)+COUNTIFS(ｴﾝﾄﾘｰ票!$N$16:$N$115,\"男\",ｴﾝﾄﾘｰ票!$X$16:$X$115,C6)","v":0},{"$f":"COUNTIFS(ｴﾝﾄﾘｰ票!$N$16:$N$115,\"男\",ｴﾝﾄﾘｰ票!$P$16:$P$115,D6)+COUNTIFS(ｴﾝﾄﾘｰ票!$N$16:$N$115,\"男\",ｴﾝﾄﾘｰ票!$T$16:$T$115,D6)+COUNTIFS(ｴﾝﾄﾘｰ票!$N$16:$N$115,\"男\",ｴﾝﾄﾘｰ票!$X$16:$X$115,D6)","v":0},{"$f":"COUNTIFS(ｴﾝﾄﾘｰ票!$N$16:$N$115,\"男\",ｴﾝﾄﾘｰ票!$P$16:$P$115,E6)+COUNTIFS(ｴﾝﾄﾘｰ票!$N$16:$N$115,\"男\",ｴﾝﾄﾘｰ票!$T$16:$T$115,E6)+COUNTIFS(ｴﾝﾄﾘｰ票!$N$16:$N$115,\"男\",ｴﾝﾄﾘｰ票!$X$16:$X$115,E6)","v":0},{"$f":"COUNTIFS(ｴﾝﾄﾘｰ票!$N$16:$N$115,\"男\",ｴﾝﾄﾘｰ票!$P$16:$P$115,F6)+COUNTIFS(ｴﾝﾄﾘｰ票!$N$16:$N$115,\"男\",ｴﾝﾄﾘｰ票!$T$16:$T$115,F6)+COUNTIFS(ｴﾝﾄﾘｰ票!$N$16:$N$115,\"男\",ｴﾝﾄﾘｰ票!$X$16:$X$115,F6)","v":0},null,{"$f":"COUNTIFS(ｴﾝﾄﾘｰ票!$N$16:$N$115,\"男\",ｴﾝﾄﾘｰ票!$P$16:$P$115,H6)+COUNTIFS(ｴﾝﾄﾘｰ票!$N$16:$N$115,\"男\",ｴﾝﾄﾘｰ票!$T$16:$T$115,H6)+COUNTIFS(ｴﾝﾄﾘｰ票!$N$16:$N$115,\"男\",ｴﾝﾄﾘｰ票!$X$16:$X$115,H6)","v":0},null,{"$f":"COUNTIFS(ｴﾝﾄﾘｰ票!$N$16:$N$115,\"男\",ｴﾝﾄﾘｰ票!$P$16:$P$115,J6)+COUNTIFS(ｴﾝﾄﾘｰ票!$N$16:$N$115,\"男\",ｴﾝﾄﾘｰ票!$T$16:$T$115,J6)+COUNTIFS(ｴﾝﾄﾘｰ票!$N$16:$N$115,\"男\",ｴﾝﾄﾘｰ票!$X$16:$X$115,J6)","v":0},{"$f":"COUNTIFS(ｴﾝﾄﾘｰ票!$N$16:$N$115,\"男\",ｴﾝﾄﾘｰ票!$P$16:$P$115,K6)+COUNTIFS(ｴﾝﾄﾘｰ票!$N$16:$N$115,\"男\",ｴﾝﾄﾘｰ票!$T$16:$T$115,K6)+COUNTIFS(ｴﾝﾄﾘｰ票!$N$16:$N$115,\"男\",ｴﾝﾄﾘｰ票!$X$16:$X$115,K6)","v":0},{"$f":"COUNTIFS(ｴﾝﾄﾘｰ票!$N$16:$N$115,\"男\",ｴﾝﾄﾘｰ票!$P$16:$P$115,L6)+COUNTIFS(ｴﾝﾄﾘｰ票!$N$16:$N$115,\"男\",ｴﾝﾄﾘｰ票!$T$16:$T$115,L6)+COUNTIFS(ｴﾝﾄﾘｰ票!$N$16:$N$115,\"男\",ｴﾝﾄﾘｰ票!$X$16:$X$115,L6)","v":0},{"$f":"COUNTIFS(ｴﾝﾄﾘｰ票!$N$16:$N$115,\"男\",ｴﾝﾄﾘｰ票!$P$16:$P$115,M6)+COUNTIFS(ｴﾝﾄﾘｰ票!$N$16:$N$115,\"男\",ｴﾝﾄﾘｰ票!$T$16:$T$115,M6)+COUNTIFS(ｴﾝﾄﾘｰ票!$N$16:$N$115,\"男\",ｴﾝﾄﾘｰ票!$X$16:$X$115,M6)","v":0},{"$f":"COUNTIFS(ｴﾝﾄﾘｰ票!$N$16:$N$115,\"男\",ｴﾝﾄﾘｰ票!$P$16:$P$115,N6)+COUNTIFS(ｴﾝﾄﾘｰ票!$N$16:$N$115,\"男\",ｴﾝﾄﾘｰ票!$T$16:$T$115,N6)+COUNTIFS(ｴﾝﾄﾘｰ票!$N$16:$N$115,\"男\",ｴﾝﾄﾘｰ票!$X$16:$X$115,N6)","v":0},{"$f":"COUNTIFS(ｴﾝﾄﾘｰ票!$N$16:$N$115,\"男\",ｴﾝﾄﾘｰ票!$P$16:$P$115,O6)+COUNTIFS(ｴﾝﾄﾘｰ票!$N$16:$N$115,\"男\",ｴﾝﾄﾘｰ票!$T$16:$T$115,O6)+COUNTIFS(ｴﾝﾄﾘｰ票!$N$16:$N$115,\"男\",ｴﾝﾄﾘｰ票!$X$16:$X$115,O6)","v":0},{"$f":"COUNTIFS(ｴﾝﾄﾘｰ票!$N$16:$N$115,\"男\",ｴﾝﾄﾘｰ票!$P$16:$P$115,P6)+COUNTIFS(ｴﾝﾄﾘｰ票!$N$16:$N$115,\"男\",ｴﾝﾄﾘｰ票!$T$16:$T$115,P6)+COUNTIFS(ｴﾝﾄﾘｰ票!$N$16:$N$115,\"男\",ｴﾝﾄﾘｰ票!$X$16:$X$115,P6)","v":0},{"$f":"COUNTIFS(ｴﾝﾄﾘｰ票!$N$16:$N$115,\"男\",ｴﾝﾄﾘｰ票!$P$16:$P$115,Q6)+COUNTIFS(ｴﾝﾄﾘｰ票!$N$16:$N$115,\"男\",ｴﾝﾄﾘｰ票!$T$16:$T$115,Q6)+COUNTIFS(ｴﾝﾄﾘｰ票!$N$16:$N$115,\"男\",ｴﾝﾄﾘｰ票!$X$16:$X$115,Q6)","v":0},{"$f":"COUNTIFS(ｴﾝﾄﾘｰ票!$N$16:$N$115,\"男\",ｴﾝﾄﾘｰ票!$P$16:$P$115,R6)+COUNTIFS(ｴﾝﾄﾘｰ票!$N$16:$N$115,\"男\",ｴﾝﾄﾘｰ票!$T$16:$T$115,R6)+COUNTIFS(ｴﾝﾄﾘｰ票!$N$16:$N$115,\"男\",ｴﾝﾄﾘｰ票!$X$16:$X$115,R6)","v":0},{"$f":"COUNTIFS(ｴﾝﾄﾘｰ票!$N$16:$N$115,\"男\",ｴﾝﾄﾘｰ票!$P$16:$P$115,S6)+COUNTIFS(ｴﾝﾄﾘｰ票!$N$16:$N$115,\"男\",ｴﾝﾄﾘｰ票!$T$16:$T$115,S6)+COUNTIFS(ｴﾝﾄﾘｰ票!$N$16:$N$115,\"男\",ｴﾝﾄﾘｰ票!$X$16:$X$115,S6)","v":0},{"$f":"SUM(B7:S7)","v":0},{"$f":"ｴﾝﾄﾘｰ票!AB11","v":0},{"$f":"ｴﾝﾄﾘｰ票!AC11","v":0},{"$f":"SUM(U7:V7)","v":0}]
["女子",{"$f":"COUNTIFS(ｴﾝﾄﾘｰ票!$N$16:$N$115,\"女\",ｴﾝﾄﾘｰ票!$P$16:$P$115,B6)+COUNTIFS(ｴﾝﾄﾘｰ票!$N$16:$N$115,\"女\",ｴﾝﾄﾘｰ票!$T$16:$T$115,B6)+COUNTIFS(ｴﾝﾄﾘｰ票!$N$16:$N$115,\"女\",ｴﾝﾄﾘｰ票!$X$16:$X$115,B6)","v":0},{"$f":"COUNTIFS(ｴﾝﾄﾘｰ票!$N$16:$N$115,\"女\",ｴﾝﾄﾘｰ票!$P$16:$P$115,C6)+COUNTIFS(ｴﾝﾄﾘｰ票!$N$16:$N$115,\"女\",ｴﾝﾄﾘｰ票!$T$16:$T$115,C6)+COUNTIFS(ｴﾝﾄﾘｰ票!$N$16:$N$115,\"女\",ｴﾝﾄﾘｰ票!$X$16:$X$115,C6)","v":0},{"$f":"COUNTIFS(ｴﾝﾄﾘｰ票!$N$16:$N$115,\"女\",ｴﾝﾄﾘｰ票!$P$16:$P$115,D6)+COUNTIFS(ｴﾝﾄﾘｰ票!$N$16:$N$115,\"女\",ｴﾝﾄﾘｰ票!$T$16:$T$115,D6)+COUNTIFS(ｴﾝﾄﾘｰ票!$N$16:$N$115,\"女\",ｴﾝﾄﾘｰ票!$X$16:$X$115,D6)","v":0},{"$f":"COUNTIFS(ｴﾝﾄﾘｰ票!$N$16:$N$115,\"女\",ｴﾝﾄﾘｰ票!$P$16:$P$115,E6)+COUNTIFS(ｴﾝﾄﾘｰ票!$N$16:$N$115,\"女\",ｴﾝﾄﾘｰ票!$T$16:$T$115,E6)+COUNTIFS(ｴﾝﾄﾘｰ票!$N$16:$N$115,\"女\",ｴﾝﾄﾘｰ票!$X$16:$X$115,E6)","v":0},{"$f":"COUNTIFS(ｴﾝﾄﾘｰ票!$N$16:$N$115,\"女\",ｴﾝﾄﾘｰ票!$P$16:$P$115,F6)+COUNTIFS(ｴﾝﾄﾘｰ票!$N$16:$N$115,\"女\",ｴﾝﾄﾘｰ票!$T$16:$T$115,F6)+COUNTIFS(ｴﾝﾄﾘｰ票!$N$16:$N$115,\"女\",ｴﾝﾄﾘｰ票!$X$16:$X$115,F6)","v":0},{"$f":"COUNTIFS(ｴﾝﾄﾘｰ票!$N$16:$N$115,\"女\",ｴﾝﾄﾘｰ票!$P$16:$P$115,G6)+COUNTIFS(ｴﾝﾄﾘｰ票!$N$16:$N$115,\"女\",ｴﾝﾄﾘｰ票!$T$16:$T$115,G6)+COUNTIFS(ｴﾝﾄﾘｰ票!$N$16:$N$115,\"女\",ｴﾝﾄﾘｰ票!$X$16:$X$115,G6)","v":0},null,{"$f":"COUNTIFS(ｴﾝﾄﾘｰ票!$N$16:$N$115,\"女\",ｴﾝﾄﾘｰ票!$P$16:$P$115,I6)+COUNTIFS(ｴﾝﾄﾘｰ票!$N$16:$N$115,\"女\",ｴﾝﾄﾘｰ票!$T$16:$T$115,I6)+COUNTIFS(ｴﾝﾄﾘｰ票!$N$16:$N$115,\"女\",ｴﾝﾄﾘｰ票!$X$16:$X$115,I6)","v":0},null,{"$f":"COUNTIFS(ｴﾝﾄﾘｰ票!$N$16:$N$115,\"女\",ｴﾝﾄﾘｰ票!$P$16:$P$115,K6)+COUNTIFS(ｴﾝﾄﾘｰ票!$N$16:$N$115,\"女\",ｴﾝﾄﾘｰ票!$T$16:$T$115,K6)+COUNTIFS(ｴﾝﾄﾘｰ票!$N$16:$N$115,\"女\",ｴﾝﾄﾘｰ票!$X$16:$X$115,K6)","v":0},null,{"$f":"COUNTIFS(ｴﾝﾄﾘｰ票!$N$16:$N$115,\"女\",ｴﾝﾄﾘｰ票!$P$16:$P$115,M6)+COUNTIFS(ｴﾝﾄﾘｰ票!$N$16:$N$115,\"女\",ｴﾝﾄﾘｰ票!$T$16:$T$115,M6)+COUNTIFS(ｴﾝﾄﾘｰ票!$N$16:$N$115,\"女\",ｴﾝﾄﾘｰ票!$X$16:$X$115,M6)","v":0},{"$f":"COUNTIFS(ｴﾝﾄﾘｰ票!$N$16:$N$115,\"女\",ｴﾝﾄﾘｰ票!$P$16:$P$115,N6)+COUNTIFS(ｴﾝﾄﾘｰ票!$N$16:$N$115,\"女\",ｴﾝﾄﾘｰ票!$T$16:$T$115,N6)+COUNTIFS(ｴﾝﾄﾘｰ票!$N$16:$N$115,\"女\",ｴﾝﾄﾘｰ票!$X$16:$X$115,N6)","v":0},{"$f":"COUNTIFS(ｴﾝﾄﾘｰ票!$N$16:$N$115,\"女\",ｴﾝﾄﾘｰ票!$P$16:$P$115,O6)+COUNTIFS(ｴﾝﾄﾘｰ票!$N$16:$N$115,\"女\",ｴﾝﾄﾘｰ票!$T$16:$T$115,O6)+COUNTIFS(ｴﾝﾄﾘｰ票!$N$16:$N$115,\"女\",ｴﾝﾄﾘｰ票!$X$16:$X$115,O6)","v":0},{"$f":"COUNTIFS(ｴﾝﾄﾘｰ票!$N$16:$N$115,\"女\",ｴﾝﾄﾘｰ票!$P$16:$P$115,P6)+COUNTIFS(ｴﾝﾄﾘｰ票!$N$16:$N$115,\"女\",ｴﾝﾄﾘｰ票!$T$16:$T$115,P6)+COUNTIFS(ｴﾝﾄﾘｰ票!$N$16:$N$115,\"女\",ｴﾝﾄﾘｰ票!$X$16:$X$115,P6)","v":0},{"$f":"COUNTIFS(ｴﾝﾄﾘｰ票!$N$16:$N$115,\"女\",ｴﾝﾄﾘｰ票!$P$16:$P$115,Q6)+COUNTIFS(ｴﾝﾄﾘｰ票!$N$16:$N$115,\"女\",ｴﾝﾄﾘｰ票!$T$16:$T$115,Q6)+COUNTIFS(ｴﾝﾄﾘｰ票!$N$16:$N$115,\"女\",ｴﾝﾄﾘｰ票!$X$16:$X$115,Q6)","v":0},{"$f":"COUNTIFS(ｴﾝﾄﾘｰ票!$N$16:$N$115,\"女\",ｴﾝﾄﾘｰ票!$P$16:$P$115,R6)+COUNTIFS(ｴﾝﾄﾘｰ票!$N$16:$N$115,\"女\",ｴﾝﾄﾘｰ票!$T$16:$T$115,R6)+COUNTIFS(ｴﾝﾄﾘｰ票!$N$16:$N$115,\"女\",ｴﾝﾄﾘｰ票!$X$16:$X$115,R6)","v":0},{"$f":"COUNTIFS(ｴﾝﾄﾘｰ票!$N$16:$N$115,\"女\",ｴﾝﾄﾘｰ票!$P$16:$P$115,S6)+COUNTIFS(ｴﾝﾄﾘｰ票!$N$16:$N$115,\"女\",ｴﾝﾄﾘｰ票!$T$16:$T$115,S6)+COUNTIFS(ｴﾝﾄﾘｰ票!$N$16:$N$115,\"女\",ｴﾝﾄﾘｰ票!$X$16:$X$115,S6)","v":0},{"$f":"SUM(B8:S8)","v":0},{"$f":"ｴﾝﾄﾘｰ票!AB12","v":0},{"$f":"ｴﾝﾄﾘｰ票!AC12","v":0},{"$f":"SUM(U8:V8)","v":0}]
[]
[null,"個人種目（600円）",null,null,null,"リレー種目（1200円）",null,null,null,"プログラム（600円）",null,null,null,null,"合計",null,null,null,null,"中","学"]
["項目","数","合計",null,null,"数","合計",null,null,"数","合計",null,null,null,null,null,null,null,null,"砲丸投","円盤投"]
["男子",{"$f":"T7+T12+U12","v":0},{"$f":"B12*600","v":0},null,null,{"$f":"W7","v":0},{"$f":"F12*1200","v":0},null,null,{"$f":"ｴﾝﾄﾘｰ票!AE11","v":1},{"$f":"J12*600","v":600},null,null,{"$f":"SUM(C12,G12,K12)","v":600},null,null,null,null,"男子",{"$f":"COUNTIFS(ｴﾝﾄﾘｰ票!$N$16:$N$115,\"男\",ｴﾝﾄﾘｰ票!$P$16:$P$115,\"男中学砲丸投\")+COUNTIFS(ｴﾝﾄﾘｰ票!$N$16:$N$115,\"男\",ｴﾝﾄﾘｰ票!$T$16:$T$115,\"男中学砲丸投\")+COUNTIFS(ｴﾝﾄﾘｰ票!$N$16:$N$115,\"男\",ｴﾝﾄﾘｰ票!$X$16:$X$115,\"男中学砲丸投\")","v":0},{"$f":"COUNTIFS(ｴﾝﾄﾘｰ票!$N$16:$N$115,\"男\",ｴﾝﾄﾘｰ票!$P$16:$P$115,\"男中学円盤投\")+COUNTIFS(ｴﾝﾄﾘｰ票!$N$16:$N$115,\"男\",ｴﾝﾄﾘｰ票!$T$16:$T$115,\"男中学円盤投\")+COUNTIFS(ｴﾝﾄﾘｰ票!$N$16:$N$115,\"男\",ｴﾝﾄﾘｰ票!$X$16:$X$115,\"男中学円盤投\")","v":0}]
["女子",{"$f":"T8+T13+U13","v":0},{"$f":"B13*600","v":0},null,null,{"$f":"W8","v":0},{"$f":"F13*1200","v":0},null,null,{"$f":"ｴﾝﾄﾘｰ票!AE12","v":1},{"$f":"J13*600","v":600},null,null,{"$f":"SUM(C13,G13,K13)","v":600},null,null,null,null,"女子",{"$f":"COUNTIFS(ｴﾝﾄﾘｰ票!$N$16:$N$115,\"女\",ｴﾝﾄﾘｰ票!$P$16:$P$115,\"女中学砲丸投\")+COUNTIFS(ｴﾝﾄﾘｰ票!$N$16:$N$115,\"女\",ｴﾝﾄﾘｰ票!$T$16:$T$115,\"女中学砲丸投\")+COUNTIFS(ｴﾝﾄﾘｰ票!$N$16:$N$115,\"女\",ｴﾝﾄﾘｰ票!$X$16:$X$115,\"女中学砲丸投\")","v":0},{"$f":"COUNTIFS(ｴﾝﾄﾘｰ票!$N$16:$N$115,\"女\",ｴﾝﾄﾘｰ票!$P$16:$P$115,\"女中学円盤投\")+COUNTIFS(ｴﾝﾄﾘｰ票!$N$16:$N$115,\"女\",ｴﾝﾄﾘｰ票!$T$16:$T$115,\"女中学円盤投\")+COUNTIFS(ｴﾝﾄﾘｰ票!$N$16:$N$115,\"女\",ｴﾝﾄﾘｰ票!$X$16:$X$115,\"女中学円盤投\")","v":0}]
["合計",{"$f":"SUM(B12:B13)","v":0},{"$f":"SUM(C12:E13)","v":0},null,null,{"$f":"SUM(F12:F13)","v":0},{"$f":"SUM(G12:I13)","v":0},null,null,{"$f":"SUM(J12:J13)","v":2},{"$f":"SUM(K12:M13)","v":1200},null,null,{"$f":"SUM(N12:Q13)","v":1200}]
[]
["加盟・登録費"]
[]
[null,null,"新規加盟のみ(7500円)",null,null,null,null,"個人登録(1500円)"]
["項目","○印",null,null,"合計",null,null,"数",null,"合計",null,null,null,null,"合計"]
["男子",null,null,null,null,{"$f":"IF(B20=\"○\",\"7,500\",0)","v":0},null,null,null,null,{"$f":"IF(H20=\"\",0,H20*1500)","v":0},null,null,{"$f":"IF(F20=\"\",0,F20)+IF(K20=\"\",0,K20)","v":0},null,null,null,null,null,"○"]
["女子",null,null,null,null,{"$f":"IF(B21=\"○\",\"7,500\",0)","v":0},null,null,null,null,{"$f":"IF(H21=\"\",0,H21*1500)","v":0},null,null,{"$f":"F21+K21","v":0}]
["合計",{"$f":"IF(IF(B20=\"○\",1,0)+IF(B21=\"○\",1,0)=0,\"\",IF(B20=\"○\",1,0)+IF(B21=\"○\",1,0))","v":""},null,null,{"$f":"F20+F21","v":0},null,null,{"$f":"H20+H21","v":0},null,null,{"$f":"IF(H22=\"\",0,H22*1500)","v":0},null,null,null,{"$f":"N21+N20","v":0}]
[]
[null,null,null,null,null,null,null,null,null,null,null,null,"①＋②  ",{"$f":"N14+O22","v":1200}]

{"sheet":"Ａ票男","index":5,"n_rows":132,"n_cols":15,"rows_kept":132,"cut":false,"hidden":false,"merged":[[128,12,128,13],[129,12,129,13],[130,12,130,13],[131,12,131,13],[118,12,118,13],[119,12,119,13],[120,12,120,13],[121,12,121,13],[122,12,122,13],[123,12,123,13],[124,12,124,13],[125,12,125,13],[126,12,126,13],[110,12,110,13],[111,12,111,13],[112,12,112,13],[113,12,113,13],[114,12,114,13],[115,12,115,13],[116,12,116,13],[117,12,117,13],[127,12,127,13],[101,12,101,13],[102,12,102,13],[103,12,103,13],[104,12,104,13],[105,12,105,13],[106,12,106,13],[107,12,107,13],[108,12,108,13],[109,12,109,13],[87,12,87,13],[96,12,96,13],[96,20,96,21],[97,12,97,13],[98,12,98,13],[99,12,99,13],[100,12,100,13],[78,12,78,13],[79,12,79,13],[80,12,80,13],[81,12,81,13],[82,12,82,13],[83,12,83,13],[84,12,84,13],[85,12,85,13],[86,12,86,13],[69,12,69,13],[70,12,70,13],[71,12,71,13],[72,12,72,13],[73,12,73,13],[74,12,74,13],[75,12,75,13],[76,12,76,13],[77,12,77,13],[60,12,60,13],[61,12,61,13],[62,12,62,13],[63,12,63,13],[64,12,64,13],[65,12,65,13],[66,12,66,13],[67,12,67,13],[68,12,68,13],[52,12,52,13],[52,20,52,21],[53,12,53,13],[54,12,54,13],[55,12,55,13],[56,12,56,13],[57,12,57,13],[58,12,58,13],[59,12,59,13],[42,2,42,3],[42,4,42,6],[42,7,42,9],[43,2,43,3],[43,5,43,6],[43,7,43,9],[40,15,40,16],[40,17,40,18],[41,2,41,3],[41,4,41,6],[41,7,41,9],[41,11,41,12],[41,13,41,14],[41,15,41,16],[41,17,41,18],[34,12,34,13],[35,12,35,13],[36,12,36,13],[37,12,37,13],[38,12,38,13],[40,2,40,3],[40,4,40,6],[40,7,40,9],[40,11,40,12],[40,13,40,14],[25,12,25,13],[26,12,26,13],[27,12,27,13],[28,12,28,13],[29,12,29,13],[30,12,30,13],[31,12,31,13],[32,12,32,13],[33,12,33,13],[16,12,16,13],[17,12,17,13],[18,12,18,13],[19,12,19,13],[20,12,20,13],[21,12,21,13],[22,12,22,13],[23,12,23,13],[24,12,24,13],[8,12,8,13],[8,20,8,21],[9,12,9,13],[10,12,10,13],[11,12,11,13],[12,12,12,13],[13,12,13,13],[14,12,14,13],[15,12,15,13]]}
[null,{"$f":"ｴﾝﾄﾘｰ票!$G$1","v":"東京高体連陸上第4支部春季競技会"},null,null,null,null,null,null,null,null,null,null,null,null,"申込用紙(A票）"]
[{"$f":"ｴﾝﾄﾘｰ票!T1","v":"令和5年度"},null,null,null,null,null,null,null,null,null,null,null,"男子",null,"Ｎｏ．１"]
["学校名",null,{"$f":"ｴﾝﾄﾘｰ票!$G$2","v":0}]
["学校所在地",null,{"$f":"ｴﾝﾄﾘｰ票!$G$5","v":0}]
["学校長",null,{"$f":"ｴﾝﾄﾘｰ票!$G$4","v":0},null,null,null,null,null,null,"印","顧問氏名",{"$f":"ｴﾝﾄﾘｰ票!$G$8","v":0},null,null,"印"]
["電話",null,{"$f":"ｴﾝﾄﾘｰ票!$G$6","v":"00:00:00"},null,null,null,"ＦＡＸ",{"$f":"ｴﾝﾄﾘｰ票!$G$7","v":0},null,null,"連絡先",{"$f":"ｴﾝﾄﾘｰ票!$G$9","v":0}]
[]
[null,null,null,null,null,null,null,null,null,null,null,"種目"]
[null,"番号","出場者氏名",null,null,null,null,"学年",null,"個人","個人","個人","4×100",null,"4×400"]
[1,{"$f":"IF(ISERROR(VLOOKUP(A10*10-9+2000,ｴﾝﾄﾘｰ票!C$15:AM$115,3,0)),\"\",VLOOKUP(A10*10-9+2000,ｴﾝﾄﾘｰ票!C$15:AM$115,3,0))","v":""},{"$f":"IF(B10=\"\",\"\",CONCATENATE(VLOOKUP(B10,ｴﾝﾄﾘｰ票!$E$16:$N$115,2,0),\"　\",VLOOKUP(B10,ｴﾝﾄﾘｰ票!$E$16:$N$115,3,0)))","v":""},null,null,null,null,{"$f":"IF(B10=\"\",\"\",VLOOKUP(B10,ｴﾝﾄﾘｰ票!$E$16:$N$115,8,0))","v":""},null,{"$f":"IF(B10=\"\",\"\",IF(VLOOKUP(B10,ｴﾝﾄﾘｰ票!$E$16:$AA$115,12,0)=\"\",\"\",VLOOKUP(B10,ｴﾝﾄﾘｰ票!$E$16:$AA$115,12,0)))","v":""},{"$f":"IF(B10=\"\",\"\",IF(VLOOKUP(B10,ｴﾝﾄﾘｰ票!$E$16:$AA$115,16,0)=\"\",\"\",VLOOKUP(B10,ｴﾝﾄﾘｰ票!$E$16:$AA$115,16,0)))","v":""},{"$f":"IF(B10=\"\",\"\",IF(VLOOKUP(B10,ｴﾝﾄﾘｰ票!$E$16:$AA$115,20,0)=\"\",\"\",VLOOKUP(B10,ｴﾝﾄﾘｰ票!$E$16:$AA$115,20,0)))","v":""},{"$f":"IF(B10=\"\",\"\",IF(ISERROR(VLOOKUP(B10,ｴﾝﾄﾘｰ票!$AT$16:$AV$115,1,0)),\"\",VLOOKUP(B10,ｴﾝﾄﾘｰ票!$AT$16:$AV$115,2,0)))","v":""},null,{"$f":"IF(B10=\"\",\"\",IF(ISERROR(VLOOKUP(B10,ｴﾝﾄﾘｰ票!$AZ$16:$BB$115,1,0)),\"\",VLOOKUP(B10,ｴﾝﾄﾘｰ票!$AZ$16:$BB$115,2,0)))","v":""}]
[2,{"$f":"IF(ISERROR(VLOOKUP(A11*10-9+2000,ｴﾝﾄﾘｰ票!C$15:AM$115,3,0)),\"\",VLOOKUP(A11*10-9+2000,ｴﾝﾄﾘｰ票!C$15:AM$115,3,0))","v":""},{"$f":"IF(B11=\"\",\"\",CONCATENATE(VLOOKUP(B11,ｴﾝﾄﾘｰ票!$E$16:$N$115,2,0),\"　\",VLOOKUP(B11,ｴﾝﾄﾘｰ票!$E$16:$N$115,3,0)))","v":""},null,null,null,null,{"$f":"IF(B11=\"\",\"\",VLOOKUP(B11,ｴﾝﾄﾘｰ票!$E$16:$N$115,8,0))","v":""},null,{"$f":"IF(B11=\"\",\"\",IF(VLOOKUP(B11,ｴﾝﾄﾘｰ票!$E$16:$AA$115,12,0)=\"\",\"\",VLOOKUP(B11,ｴﾝﾄﾘｰ票!$E$16:$AA$115,12,0)))","v":""},{"$f":"IF(B11=\"\",\"\",IF(VLOOKUP(B11,ｴﾝﾄﾘｰ票!$E$16:$AA$115,16,0)=\"\",\"\",VLOOKUP(B11,ｴﾝﾄﾘｰ票!$E$16:$AA$115,16,0)))","v":""},{"$f":"IF(B11=\"\",\"\",IF(VLOOKUP(B11,ｴﾝﾄﾘｰ票!$E$16:$AA$115,20,0)=\"\",\"\",VLOOKUP(B11,ｴﾝﾄﾘｰ票!$E$16:$AA$115,20,0)))","v":""},{"$f":"IF(B11=\"\",\"\",IF(ISERROR(VLOOKUP(B11,ｴﾝﾄﾘｰ票!$AT$16:$AV$115,1,0)),\"\",VLOOKUP(B11,ｴﾝﾄﾘｰ票!$AT$16:$AV$115,2,0)))","v":""},null,{"$f":"IF(B11=\"\",\"\",IF(ISERROR(VLOOKUP(B11,ｴﾝﾄﾘｰ票!$AZ$16:$BB$115,1,0)),\"\",VLOOKUP(B11,ｴﾝﾄﾘｰ票!$AZ$16:$BB$115,2,0)))","v":""}]
[3,{"$f":"IF(ISERROR(VLOOKUP(A12*10-9+2000,ｴﾝﾄﾘｰ票!C$15:AM$115,3,0)),\"\",VLOOKUP(A12*10-9+2000,ｴﾝﾄﾘｰ票!C$15:AM$115,3,0))","v":""},{"$f":"IF(B12=\"\",\"\",CONCATENATE(VLOOKUP(B12,ｴﾝﾄﾘｰ票!$E$16:$N$115,2,0),\"　\",VLOOKUP(B12,ｴﾝﾄﾘｰ票!$E$16:$N$115,3,0)))","v":""},null,null,null,null,{"$f":"IF(B12=\"\",\"\",VLOOKUP(B12,ｴﾝﾄﾘｰ票!$E$16:$N$115,8,0))","v":""},null,{"$f":"IF(B12=\"\",\"\",IF(VLOOKUP(B12,ｴﾝﾄﾘｰ票!$E$16:$AA$115,12,0)=\"\",\"\",VLOOKUP(B12,ｴﾝﾄﾘｰ票!$E$16:$AA$115,12,0)))","v":""},{"$f":"IF(B12=\"\",\"\",IF(VLOOKUP(B12,ｴﾝﾄﾘｰ票!$E$16:$AA$115,16,0)=\"\",\"\",VLOOKUP(B12,ｴﾝﾄﾘｰ票!$E$16:$AA$115,16,0)))","v":""},{"$f":"IF(B12=\"\",\"\",IF(VLOOKUP(B12,ｴﾝﾄﾘｰ票!$E$16:$AA$115,20,0)=\"\",\"\",VLOOKUP(B12,ｴﾝﾄﾘｰ票!$E$16:$AA$115,20,0)))","v":""},{"$f":"IF(B12=\"\",\"\",IF(ISERROR(VLOOKUP(B12,ｴﾝﾄﾘｰ票!$AT$16:$AV$115,1,0)),\"\",VLOOKUP(B12,ｴﾝﾄﾘｰ票!$AT$16:$AV$115,2,0)))","v":""},null,{"$f":"IF(B12=\"\",\"\",IF(ISERROR(VLOOKUP(B12,ｴﾝﾄﾘｰ票!$AZ$16:$BB$115,1,0)),\"\",VLOOKUP(B12,ｴﾝﾄﾘｰ票!$AZ$16:$BB$115,2,0)))","v":""}]
[4,{"$f":"IF(ISERROR(VLOOKUP(A13*10-9+2000,ｴﾝﾄﾘｰ票!C$15:AM$115,3,0)),\"\",VLOOKUP(A13*10-9+2000,ｴﾝﾄﾘｰ票!C$15:AM$115,3,0))","v":""},{"$f":"IF(B13=\"\",\"\",CONCATENATE(VLOOKUP(B13,ｴﾝﾄﾘｰ票!$E$16:$N$115,2,0),\"　\",VLOOKUP(B13,ｴﾝﾄﾘｰ票!$E$16:$N$115,3,0)))","v":""},null,null,null,null,{"$f":"IF(B13=\"\",\"\",VLOOKUP(B13,ｴﾝﾄﾘｰ票!$E$16:$N$115,8,0))","v":""},null,{"$f":"IF(B13=\"\",\"\",IF(VLOOKUP(B13,ｴﾝﾄﾘｰ票!$E$16:$AA$115,12,0)=\"\",\"\",VLOOKUP(B13,ｴﾝﾄﾘｰ票!$E$16:$AA$115,12,0)))","v":""},{"$f":"IF(B13=\"\",\"\",IF(VLOOKUP(B13,ｴﾝﾄﾘｰ票!$E$16:$AA$115,16,0)=\"\",\"\",VLOOKUP(B13,ｴﾝﾄﾘｰ票!$E$16:$AA$115,16,0)))","v":""},{"$f":"IF(B13=\"\",\"\",IF(VLOOKUP(B13,ｴﾝﾄﾘｰ票!$E$16:$AA$115,20,0)=\"\",\"\",VLOOKUP(B13,ｴﾝﾄﾘｰ票!$E$16:$AA$115,20,0)))","v":""},{"$f":"IF(B13=\"\",\"\",IF(ISERROR(VLOOKUP(B13,ｴﾝﾄﾘｰ票!$AT$16:$AV$115,1,0)),\"\",VLOOKUP(B13,ｴﾝﾄﾘｰ票!$AT$16:$AV$115,2,0)))","v":""},null,{"$f":"IF(B13=\"\",\"\",IF(ISERROR(VLOOKUP(B13,ｴﾝﾄﾘｰ票!$AZ$16:$BB$115,1,0)),\"\",VLOOKUP(B13,ｴﾝﾄﾘｰ票!$AZ$16:$BB$115,2,0)))","v":""}]
[5,{"$f":"IF(ISERROR(VLOOKUP(A14*10-9+2000,ｴﾝﾄﾘｰ票!C$15:AM$115,3,0)),\"\",VLOOKUP(A14*10-9+2000,ｴﾝﾄﾘｰ票!C$15:AM$115,3,0))","v":""},{"$f":"IF(B14=\"\",\"\",CONCATENATE(VLOOKUP(B14,ｴﾝﾄﾘｰ票!$E$16:$N$115,2,0),\"　\",VLOOKUP(B14,ｴﾝﾄﾘｰ票!$E$16:$N$115,3,0)))","v":""},null,null,null,null,{"$f":"IF(B14=\"\",\"\",VLOOKUP(B14,ｴﾝﾄﾘｰ票!$E$16:$N$115,8,0))","v":""},null,{"$f":"IF(B14=\"\",\"\",IF(VLOOKUP(B14,ｴﾝﾄﾘｰ票!$E$16:$AA$115,12,0)=\"\",\"\",VLOOKUP(B14,ｴﾝﾄﾘｰ票!$E$16:$AA$115,12,0)))","v":""},{"$f":"IF(B14=\"\",\"\",IF(VLOOKUP(B14,ｴﾝﾄﾘｰ票!$E$16:$AA$115,16,0)=\"\",\"\",VLOOKUP(B14,ｴﾝﾄﾘｰ票!$E$16:$AA$115,16,0)))","v":""},{"$f":"IF(B14=\"\",\"\",IF(VLOOKUP(B14,ｴﾝﾄﾘｰ票!$E$16:$AA$115,20,0)=\"\",\"\",VLOOKUP(B14,ｴﾝﾄﾘｰ票!$E$16:$AA$115,20,0)))","v":""},{"$f":"IF(B14=\"\",\"\",IF(ISERROR(VLOOKUP(B14,ｴﾝﾄﾘｰ票!$AT$16:$AV$115,1,0)),\"\",VLOOKUP(B14,ｴﾝﾄﾘｰ票!$AT$16:$AV$115,2,0)))","v":""},null,{"$f":"IF(B14=\"\",\"\",IF(ISERROR(VLOOKUP(B14,ｴﾝﾄﾘｰ票!$AZ$16:$BB$115,1,0)),\"\",VLOOKUP(B14,ｴﾝﾄﾘｰ票!$AZ$16:$BB$115,2,0)))","v":""}]
[6,{"$f":"IF(ISERROR(VLOOKUP(A15*10-9+2000,ｴﾝﾄﾘｰ票!C$15:AM$115,3,0)),\"\",VLOOKUP(A15*10-9+2000,ｴﾝﾄﾘｰ票!C$15:AM$115,3,0))","v":""},{"$f":"IF(B15=\"\",\"\",CONCATENATE(VLOOKUP(B15,ｴﾝﾄﾘｰ票!$E$16:$N$115,2,0),\"　\",VLOOKUP(B15,ｴﾝﾄﾘｰ票!$E$16:$N$115,3,0)))","v":""},null,null,null,null,{"$f":"IF(B15=\"\",\"\",VLOOKUP(B15,ｴﾝﾄﾘｰ票!$E$16:$N$115,8,0))","v":""},null,{"$f":"IF(B15=\"\",\"\",IF(VLOOKUP(B15,ｴﾝﾄﾘｰ票!$E$16:$AA$115,12,0)=\"\",\"\",VLOOKUP(B15,ｴﾝﾄﾘｰ票!$E$16:$AA$115,12,0)))","v":""},{"$f":"IF(B15=\"\",\"\",IF(VLOOKUP(B15,ｴﾝﾄﾘｰ票!$E$16:$AA$115,16,0)=\"\",\"\",VLOOKUP(B15,ｴﾝﾄﾘｰ票!$E$16:$AA$115,16,0)))","v":""},{"$f":"IF(B15=\"\",\"\",IF(VLOOKUP(B15,ｴﾝﾄﾘｰ票!$E$16:$AA$115,20,0)=\"\",\"\",VLOOKUP(B15,ｴﾝﾄﾘｰ票!$E$16:$AA$115,20,0)))","v":""},{"$f":"IF(B15=\"\",\"\",IF(ISERROR(VLOOKUP(B15,ｴﾝﾄﾘｰ票!$AT$16:$AV$115,1,0)),\"\",VLOOKUP(B15,ｴﾝﾄﾘｰ票!$AT$16:$AV$115,2,0)))","v":""},null,{"$f":"IF(B15=\"\",\"\",IF(ISERROR(VLOOKUP(B15,ｴﾝﾄﾘｰ票!$AZ$16:$BB$115,1,0)),\"\",VLOOKUP(B15,ｴﾝﾄﾘｰ票!$AZ$16:$BB$115,2,0)))","v":""}]
[7,{"$f":"IF(ISERROR(VLOOKUP(A16*10-9+2000,ｴﾝﾄﾘｰ票!C$15:AM$115,3,0)),\"\",VLOOKUP(A16*10-9+2000,ｴﾝﾄﾘｰ票!C$15:AM$115,3,0))","v":""},{"$f":"IF(B16=\"\",\"\",CONCATENATE(VLOOKUP(B16,ｴﾝﾄﾘｰ票!$E$16:$N$115,2,0),\"　\",VLOOKUP(B16,ｴﾝﾄﾘｰ票!$E$16:$N$115,3,0)))","v":""},null,null,null,null,{"$f":"IF(B16=\"\",\"\",VLOOKUP(B16,ｴﾝﾄﾘｰ票!$E$16:$N$115,8,0))","v":""},null,{"$f":"IF(B16=\"\",\"\",IF(VLOOKUP(B16,ｴﾝﾄﾘｰ票!$E$16:$AA$115,12,0)=\"\",\"\",VLOOKUP(B16,ｴﾝﾄﾘｰ票!$E$16:$AA$115,12,0)))","v":""},{"$f":"IF(B16=\"\",\"\",IF(VLOOKUP(B16,ｴﾝﾄﾘｰ票!$E$16:$AA$115,16,0)=\"\",\"\",VLOOKUP(B16,ｴﾝﾄﾘｰ票!$E$16:$AA$115,16,0)))","v":""},{"$f":"IF(B16=\"\",\"\",IF(VLOOKUP(B16,ｴﾝﾄﾘｰ票!$E$16:$AA$115,20,0)=\"\",\"\",VLOOKUP(B16,ｴﾝﾄﾘｰ票!$E$16:$AA$115,20,0)))","v":""},{"$f":"IF(B16=\"\",\"\",IF(ISERROR(VLOOKUP(B16,ｴﾝﾄﾘｰ票!$AT$16:$AV$115,1,0)),\"\",VLOOKUP(B16,ｴﾝﾄﾘｰ票!$AT$16:$AV$115,2,0)))","v":""},null,{"$f":"IF(B16=\"\",\"\",IF(ISERROR(VLOOKUP(B16,ｴﾝﾄﾘｰ票!$AZ$16:$BB$115,1,0)),\"\",VLOOKUP(B16,ｴﾝﾄﾘｰ票!$AZ$16:$BB$115,2,0)))","v":""}]
[8,{"$f":"IF(ISERROR(VLOOKUP(A17*10-9+2000,ｴﾝﾄﾘｰ票!C$15:AM$115,3,0)),\"\",VLOOKUP(A17*10-9+2000,ｴﾝﾄﾘｰ票!C$15:AM$115,3,0))","v":""},{"$f":"IF(B17=\"\",\"\",CONCATENATE(VLOOKUP(B17,ｴﾝﾄﾘｰ票!$E$16:$N$115,2,0),\"　\",VLOOKUP(B17,ｴﾝﾄﾘｰ票!$E$16:$N$115,3,0)))","v":""},null,null,null,null,{"$f":"IF(B17=\"\",\"\",VLOOKUP(B17,ｴﾝﾄﾘｰ票!$E$16:$N$115,8,0))","v":""},null,{"$f":"IF(B17=\"\",\"\",IF(VLOOKUP(B17,ｴﾝﾄﾘｰ票!$E$16:$AA$115,12,0)=\"\",\"\",VLOOKUP(B17,ｴﾝﾄﾘｰ票!$E$16:$AA$115,12,0)))","v":""},{"$f":"IF(B17=\"\",\"\",IF(VLOOKUP(B17,ｴﾝﾄﾘｰ票!$E$16:$AA$115,16,0)=\"\",\"\",VLOOKUP(B17,ｴﾝﾄﾘｰ票!$E$16:$AA$115,16,0)))","v":""},{"$f":"IF(B17=\"\",\"\",IF(VLOOKUP(B17,ｴﾝﾄﾘｰ票!$E$16:$AA$115,20,0)=\"\",\"\",VLOOKUP(B17,ｴﾝﾄﾘｰ票!$E$16:$AA$115,20,0)))","v":""},{"$f":"IF(B17=\"\",\"\",IF(ISERROR(VLOOKUP(B17,ｴﾝﾄﾘｰ票!$AT$16:$AV$115,1,0)),\"\",VLOOKUP(B17,ｴﾝﾄﾘｰ票!$AT$16:$AV$115,2,0)))","v":""},null,{"$f":"IF(B17=\"\",\"\",IF(ISERROR(VLOOKUP(B17,ｴﾝﾄﾘｰ票!$AZ$16:$BB$115,1,0)),\"\",VLOOKUP(B17,ｴﾝﾄﾘｰ票!$AZ$16:$BB$115,2,0)))","v":""}]
[9,{"$f":"IF(ISERROR(VLOOKUP(A18*10-9+2000,ｴﾝﾄﾘｰ票!C$15:AM$115,3,0)),\"\",VLOOKUP(A18*10-9+2000,ｴﾝﾄﾘｰ票!C$15:AM$115,3,0))","v":""},{"$f":"IF(B18=\"\",\"\",CONCATENATE(VLOOKUP(B18,ｴﾝﾄﾘｰ票!$E$16:$N$115,2,0),\"　\",VLOOKUP(B18,ｴﾝﾄﾘｰ票!$E$16:$N$115,3,0)))","v":""},null,null,null,null,{"$f":"IF(B18=\"\",\"\",VLOOKUP(B18,ｴﾝﾄﾘｰ票!$E$16:$N$115,8,0))","v":""},null,{"$f":"IF(B18=\"\",\"\",IF(VLOOKUP(B18,ｴﾝﾄﾘｰ票!$E$16:$AA$115,12,0)=\"\",\"\",VLOOKUP(B18,ｴﾝﾄﾘｰ票!$E$16:$AA$115,12,0)))","v":""},{"$f":"IF(B18=\"\",\"\",IF(VLOOKUP(B18,ｴﾝﾄﾘｰ票!$E$16:$AA$115,16,0)=\"\",\"\",VLOOKUP(B18,ｴﾝﾄﾘｰ票!$E$16:$AA$115,16,0)))","v":""},{"$f":"IF(B18=\"\",\"\",IF(VLOOKUP(B18,ｴﾝﾄﾘｰ票!$E$16:$AA$115,20,0)=\"\",\"\",VLOOKUP(B18,ｴﾝﾄﾘｰ票!$E$16:$AA$115,20,0)))","v":""},{"$f":"IF(B18=\"\",\"\",IF(ISERROR(VLOOKUP(B18,ｴﾝﾄﾘｰ票!$AT$16:$AV$115,1,0)),\"\",VLOOKUP(B18,ｴﾝﾄﾘｰ票!$AT$16:$AV$115,2,0)))","v":""},null,{"$f":"IF(B18=\"\",\"\",IF(ISERROR(VLOOKUP(B18,ｴﾝﾄﾘｰ票!$AZ$16:$BB$115,1,0)),\"\",VLOOKUP(B18,ｴﾝﾄﾘｰ票!$AZ$16:$BB$115,2,0)))","v":""}]
[10,{"$f":"IF(ISERROR(VLOOKUP(A19*10-9+2000,ｴﾝﾄﾘｰ票!C$15:AM$115,3,0)),\"\",VLOOKUP(A19*10-9+2000,ｴﾝﾄﾘｰ票!C$15:AM$115,3,0))","v":""},{"$f":"IF(B19=\"\",\"\",CONCATENATE(VLOOKUP(B19,ｴﾝﾄﾘｰ票!$E$16:$N$115,2,0),\"　\",VLOOKUP(B19,ｴﾝﾄﾘｰ票!$E$16:$N$115,3,0)))","v":""},null,null,null,null,{"$f":"IF(B19=\"\",\"\",VLOOKUP(B19,ｴﾝﾄﾘｰ票!$E$16:$N$115,8,0))","v":""},null,{"$f":"IF(B19=\"\",\"\",IF(VLOOKUP(B19,ｴﾝﾄﾘｰ票!$E$16:$AA$115,12,0)=\"\",\"\",VLOOKUP(B19,ｴﾝﾄﾘｰ票!$E$16:$AA$115,12,0)))","v":""},{"$f":"IF(B19=\"\",\"\",IF(VLOOKUP(B19,ｴﾝﾄﾘｰ票!$E$16:$AA$115,16,0)=\"\",\"\",VLOOKUP(B19,ｴﾝﾄﾘｰ票!$E$16:$AA$115,16,0)))","v":""},{"$f":"IF(B19=\"\",\"\",IF(VLOOKUP(B19,ｴﾝﾄﾘｰ票!$E$16:$AA$115,20,0)=\"\",\"\",VLOOKUP(B19,ｴﾝﾄﾘｰ票!$E$16:$AA$115,20,0)))","v":""},{"$f":"IF(B19=\"\",\"\",IF(ISERROR(VLOOKUP(B19,ｴﾝﾄﾘｰ票!$AT$16:$AV$115,1,0)),\"\",VLOOKUP(B19,ｴﾝﾄﾘｰ票!$AT$16:$AV$115,2,0)))","v":""},null,{"$f":"IF(B19=\"\",\"\",IF(ISERROR(VLOOKUP(B19,ｴﾝﾄﾘｰ票!$AZ$16:$BB$115,1,0)),\"\",VLOOKUP(B19,ｴﾝﾄﾘｰ票!$AZ$16:$BB$115,2,0)))","v":""}]
[11,{"$f":"IF(ISERROR(VLOOKUP(A20*10-9+2000,ｴﾝﾄﾘｰ票!C$15:AM$115,3,0)),\"\",VLOOKUP(A20*10-9+2000,ｴﾝﾄﾘｰ票!C$15:AM$115,3,0))","v":""},{"$f":"IF(B20=\"\",\"\",CONCATENATE(VLOOKUP(B20,ｴﾝﾄﾘｰ票!$E$16:$N$115,2,0),\"　\",VLOOKUP(B20,ｴﾝﾄﾘｰ票!$E$16:$N$115,3,0)))","v":""},null,null,null,null,{"$f":"IF(B20=\"\",\"\",VLOOKUP(B20,ｴﾝﾄﾘｰ票!$E$16:$N$115,8,0))","v":""},null,{"$f":"IF(B20=\"\",\"\",IF(VLOOKUP(B20,ｴﾝﾄﾘｰ票!$E$16:$AA$115,12,0)=\"\",\"\",VLOOKUP(B20,ｴﾝﾄﾘｰ票!$E$16:$AA$115,12,0)))","v":""},{"$f":"IF(B20=\"\",\"\",IF(VLOOKUP(B20,ｴﾝﾄﾘｰ票!$E$16:$AA$115,16,0)=\"\",\"\",VLOOKUP(B20,ｴﾝﾄﾘｰ票!$E$16:$AA$115,16,0)))","v":""},{"$f":"IF(B20=\"\",\"\",IF(VLOOKUP(B20,ｴﾝﾄﾘｰ票!$E$16:$AA$115,20,0)=\"\",\"\",VLOOKUP(B20,ｴﾝﾄﾘｰ票!$E$16:$AA$115,20,0)))","v":""},{"$f":"IF(B20=\"\",\"\",IF(ISERROR(VLOOKUP(B20,ｴﾝﾄﾘｰ票!$AT$16:$AV$115,1,0)),\"\",VLOOKUP(B20,ｴﾝﾄﾘｰ票!$AT$16:$AV$115,2,0)))","v":""},null,{"$f":"IF(B20=\"\",\"\",IF(ISERROR(VLOOKUP(B20,ｴﾝﾄﾘｰ票!$AZ$16:$BB$115,1,0)),\"\",VLOOKUP(B20,ｴﾝﾄﾘｰ票!$AZ$16:$BB$115,2,0)))","v":""}]
[12,{"$f":"IF(ISERROR(VLOOKUP(A21*10-9+2000,ｴﾝﾄﾘｰ票!C$15:AM$115,3,0)),\"\",VLOOKUP(A21*10-9+2000,ｴﾝﾄﾘｰ票!C$15:AM$115,3,0))","v":""},{"$f":"IF(B21=\"\",\"\",CONCATENATE(VLOOKUP(B21,ｴﾝﾄﾘｰ票!$E$16:$N$115,2,0),\"　\",VLOOKUP(B21,ｴﾝﾄﾘｰ票!$E$16:$N$115,3,0)))","v":""},null,null,null,null,{"$f":"IF(B21=\"\",\"\",VLOOKUP(B21,ｴﾝﾄﾘｰ票!$E$16:$N$115,8,0))","v":""},null,{"$f":"IF(B21=\"\",\"\",IF(VLOOKUP(B21,ｴﾝﾄﾘｰ票!$E$16:$AA$115,12,0)=\"\",\"\",VLOOKUP(B21,ｴﾝﾄﾘｰ票!$E$16:$AA$115,12,0)))","v":""},{"$f":"IF(B21=\"\",\"\",IF(VLOOKUP(B21,ｴﾝﾄﾘｰ票!$E$16:$AA$115,16,0)=\"\",\"\",VLOOKUP(B21,ｴﾝﾄﾘｰ票!$E$16:$AA$115,16,0)))","v":""},{"$f":"IF(B21=\"\",\"\",IF(VLOOKUP(B21,ｴﾝﾄﾘｰ票!$E$16:$AA$115,20,0)=\"\",\"\",VLOOKUP(B21,ｴﾝﾄﾘｰ票!$E$16:$AA$115,20,0)))","v":""},{"$f":"IF(B21=\"\",\"\",IF(ISERROR(VLOOKUP(B21,ｴﾝﾄﾘｰ票!$AT$16:$AV$115,1,0)),\"\",VLOOKUP(B21,ｴﾝﾄﾘｰ票!$AT$16:$AV$115,2,0)))","v":""},null,{"$f":"IF(B21=\"\",\"\",IF(ISERROR(VLOOKUP(B21,ｴﾝﾄﾘｰ票!$AZ$16:$BB$115,1,0)),\"\",VLOOKUP(B21,ｴﾝﾄﾘｰ票!$AZ$16:$BB$115,2,0)))","v":""}]
[13,{"$f":"IF(ISERROR(VLOOKUP(A22*10-9+2000,ｴﾝﾄﾘｰ票!C$15:AM$115,3,0)),\"\",VLOOKUP(A22*10-9+2000,ｴﾝﾄﾘｰ票!C$15:AM$115,3,0))","v":""},{"$f":"IF(B22=\"\",\"\",CONCATENATE(VLOOKUP(B22,ｴﾝﾄﾘｰ票!$E$16:$N$115,2,0),\"　\",VLOOKUP(B22,ｴﾝﾄﾘｰ票!$E$16:$N$115,3,0)))","v":""},null,null,null,null,{"$f":"IF(B22=\"\",\"\",VLOOKUP(B22,ｴﾝﾄﾘｰ票!$E$16:$N$115,8,0))","v":""},null,{"$f":"IF(B22=\"\",\"\",IF(VLOOKUP(B22,ｴﾝﾄﾘｰ票!$E$16:$AA$115,12,0)=\"\",\"\",VLOOKUP(B22,ｴﾝﾄﾘｰ票!$E$16:$AA$115,12,0)))","v":""},{"$f":"IF(B22=\"\",\"\",IF(VLOOKUP(B22,ｴﾝﾄﾘｰ票!$E$16:$AA$115,16,0)=\"\",\"\",VLOOKUP(B22,ｴﾝﾄﾘｰ票!$E$16:$AA$115,16,0)))","v":""},{"$f":"IF(B22=\"\",\"\",IF(VLOOKUP(B22,ｴﾝﾄﾘｰ票!$E$16:$AA$115,20,0)=\"\",\"\",VLOOKUP(B22,ｴﾝﾄﾘｰ票!$E$16:$AA$115,20,0)))","v":""},{"$f":"IF(B22=\"\",\"\",IF(ISERROR(VLOOKUP(B22,ｴﾝﾄﾘｰ票!$AT$16:$AV$115,1,0)),\"\",VLOOKUP(B22,ｴﾝﾄﾘｰ票!$AT$16:$AV$115,2,0)))","v":""},null,{"$f":"IF(B22=\"\",\"\",IF(ISERROR(VLOOKUP(B22,ｴﾝﾄﾘｰ票!$AZ$16:$BB$115,1,0)),\"\",VLOOKUP(B22,ｴﾝﾄﾘｰ票!$AZ$16:$BB$115,2,0)))","v":""}]
[14,{"$f":"IF(ISERROR(VLOOKUP(A23*10-9+2000,ｴﾝﾄﾘｰ票!C$15:AM$115,3,0)),\"\",VLOOKUP(A23*10-9+2000,ｴﾝﾄﾘｰ票!C$15:AM$115,3,0))","v":""},{"$f":"IF(B23=\"\",\"\",CONCATENATE(VLOOKUP(B23,ｴﾝﾄﾘｰ票!$E$16:$N$115,2,0),\"　\",VLOOKUP(B23,ｴﾝﾄﾘｰ票!$E$16:$N$115,3,0)))","v":""},null,null,null,null,{"$f":"IF(B23=\"\",\"\",VLOOKUP(B23,ｴﾝﾄﾘｰ票!$E$16:$N$115,8,0))","v":""},null,{"$f":"IF(B23=\"\",\"\",IF(VLOOKUP(B23,ｴﾝﾄﾘｰ票!$E$16:$AA$115,12,0)=\"\",\"\",VLOOKUP(B23,ｴﾝﾄﾘｰ票!$E$16:$AA$115,12,0)))","v":""},{"$f":"IF(B23=\"\",\"\",IF(VLOOKUP(B23,ｴﾝﾄﾘｰ票!$E$16:$AA$115,16,0)=\"\",\"\",VLOOKUP(B23,ｴﾝﾄﾘｰ票!$E$16:$AA$115,16,0)))","v":""},{"$f":"IF(B23=\"\",\"\",IF(VLOOKUP(B23,ｴﾝﾄﾘｰ票!$E$16:$AA$115,20,0)=\"\",\"\",VLOOKUP(B23,ｴﾝﾄﾘｰ票!$E$16:$AA$115,20,0)))","v":""},{"$f":"IF(B23=\"\",\"\",IF(ISERROR(VLOOKUP(B23,ｴﾝﾄﾘｰ票!$AT$16:$AV$115,1,0)),\"\",VLOOKUP(B23,ｴﾝﾄﾘｰ票!$AT$16:$AV$115,2,0)))","v":""},null,{"$f":"IF(B23=\"\",\"\",IF(ISERROR(VLOOKUP(B23,ｴﾝﾄﾘｰ票!$AZ$16:$BB$115,1,0)),\"\",VLOOKUP(B23,ｴﾝﾄﾘｰ票!$AZ$16:$BB$115,2,0)))","v":""}]
[15,{"$f":"IF(ISERROR(VLOOKUP(A24*10-9+2000,ｴﾝﾄﾘｰ票!C$15:AM$115,3,0)),\"\",VLOOKUP(A24*10-9+2000,ｴﾝﾄﾘｰ票!C$15:AM$115,3,0))","v":""},{"$f":"IF(B24=\"\",\"\",CONCATENATE(VLOOKUP(B24,ｴﾝﾄﾘｰ票!$E$16:$N$115,2,0),\"　\",VLOOKUP(B24,ｴﾝﾄﾘｰ票!$E$16:$N$115,3,0)))","v":""},null,null,null,null,{"$f":"IF(B24=\"\",\"\",VLOOKUP(B24,ｴﾝﾄﾘｰ票!$E$16:$N$115,8,0))","v":""},null,{"$f":"IF(B24=\"\",\"\",IF(VLOOKUP(B24,ｴﾝﾄﾘｰ票!$E$16:$AA$115,12,0)=\"\",\"\",VLOOKUP(B24,ｴﾝﾄﾘｰ票!$E$16:$AA$115,12,0)))","v":""},{"$f":"IF(B24=\"\",\"\",IF(VLOOKUP(B24,ｴﾝﾄﾘｰ票!$E$16:$AA$115,16,0)=\"\",\"\",VLOOKUP(B24,ｴﾝﾄﾘｰ票!$E$16:$AA$115,16,0)))","v":""},{"$f":"IF(B24=\"\",\"\",IF(VLOOKUP(B24,ｴﾝﾄﾘｰ票!$E$16:$AA$115,20,0)=\"\",\"\",VLOOKUP(B24,ｴﾝﾄﾘｰ票!$E$16:$AA$115,20,0)))","v":""},{"$f":"IF(B24=\"\",\"\",IF(ISERROR(VLOOKUP(B24,ｴﾝﾄﾘｰ票!$AT$16:$AV$115,1,0)),\"\",VLOOKUP(B24,ｴﾝﾄﾘｰ票!$AT$16:$AV$115,2,0)))","v":""},null,{"$f":"IF(B24=\"\",\"\",IF(ISERROR(VLOOKUP(B24,ｴﾝﾄﾘｰ票!$AZ$16:$BB$115,1,0)),\"\",VLOOKUP(B24,ｴﾝﾄﾘｰ票!$AZ$16:$BB$115,2,0)))","v":""}]
[16,{"$f":"IF(ISERROR(VLOOKUP(A25*10-9+2000,ｴﾝﾄﾘｰ票!C$15:AM$115,3,0)),\"\",VLOOKUP(A25*10-9+2000,ｴﾝﾄﾘｰ票!C$15:AM$115,3,0))","v":""},{"$f":"IF(B25=\"\",\"\",CONCATENATE(VLOOKUP(B25,ｴﾝﾄﾘｰ票!$E$16:$N$115,2,0),\"　\",VLOOKUP(B25,ｴﾝﾄﾘｰ票!$E$16:$N$115,3,0)))","v":""},null,null,null,null,{"$f":"IF(B25=\"\",\"\",VLOOKUP(B25,ｴﾝﾄﾘｰ票!$E$16:$N$115,8,0))","v":""},null,{"$f":"IF(B25=\"\",\"\",IF(VLOOKUP(B25,ｴﾝﾄﾘｰ票!$E$16:$AA$115,12,0)=\"\",\"\",VLOOKUP(B25,ｴﾝﾄﾘｰ票!$E$16:$AA$115,12,0)))","v":""},{"$f":"IF(B25=\"\",\"\",IF(VLOOKUP(B25,ｴﾝﾄﾘｰ票!$E$16:$AA$115,16,0)=\"\",\"\",VLOOKUP(B25,ｴﾝﾄﾘｰ票!$E$16:$AA$115,16,0)))","v":""},{"$f":"IF(B25=\"\",\"\",IF(VLOOKUP(B25,ｴﾝﾄﾘｰ票!$E$16:$AA$115,20,0)=\"\",\"\",VLOOKUP(B25,ｴﾝﾄﾘｰ票!$E$16:$AA$115,20,0)))","v":""},{"$f":"IF(B25=\"\",\"\",IF(ISERROR(VLOOKUP(B25,ｴﾝﾄﾘｰ票!$AT$16:$AV$115,1,0)),\"\",VLOOKUP(B25,ｴﾝﾄﾘｰ票!$AT$16:$AV$115,2,0)))","v":""},null,{"$f":"IF(B25=\"\",\"\",IF(ISERROR(VLOOKUP(B25,ｴﾝﾄﾘｰ票!$AZ$16:$BB$115,1,0)),\"\",VLOOKUP(B25,ｴﾝﾄﾘｰ票!$AZ$16:$BB$115,2,0)))","v":""}]
[17,{"$f":"IF(ISERROR(VLOOKUP(A26*10-9+2000,ｴﾝﾄﾘｰ票!C$15:AM$115,3,0)),\"\",VLOOKUP(A26*10-9+2000,ｴﾝﾄﾘｰ票!C$15:AM$115,3,0))","v":""},{"$f":"IF(B26=\"\",\"\",CONCATENATE(VLOOKUP(B26,ｴﾝﾄﾘｰ票!$E$16:$N$115,2,0),\"　\",VLOOKUP(B26,ｴﾝﾄﾘｰ票!$E$16:$N$115,3,0)))","v":""},null,null,null,null,{"$f":"IF(B26=\"\",\"\",VLOOKUP(B26,ｴﾝﾄﾘｰ票!$E$16:$N$115,8,0))","v":""},null,{"$f":"IF(B26=\"\",\"\",IF(VLOOKUP(B26,ｴﾝﾄﾘｰ票!$E$16:$AA$115,12,0)=\"\",\"\",VLOOKUP(B26,ｴﾝﾄﾘｰ票!$E$16:$AA$115,12,0)))","v":""},{"$f":"IF(B26=\"\",\"\",IF(VLOOKUP(B26,ｴﾝﾄﾘｰ票!$E$16:$AA$115,16,0)=\"\",\"\",VLOOKUP(B26,ｴﾝﾄﾘｰ票!$E$16:$AA$115,16,0)))","v":""},{"$f":"IF(B26=\"\",\"\",IF(VLOOKUP(B26,ｴﾝﾄﾘｰ票!$E$16:$AA$115,20,0)=\"\",\"\",VLOOKUP(B26,ｴﾝﾄﾘｰ票!$E$16:$AA$115,20,0)))","v":""},{"$f":"IF(B26=\"\",\"\",IF(ISERROR(VLOOKUP(B26,ｴﾝﾄﾘｰ票!$AT$16:$AV$115,1,0)),\"\",VLOOKUP(B26,ｴﾝﾄﾘｰ票!$AT$16:$AV$115,2,0)))","v":""},null,{"$f":"IF(B26=\"\",\"\",IF(ISERROR(VLOOKUP(B26,ｴﾝﾄﾘｰ票!$AZ$16:$BB$115,1,0)),\"\",VLOOKUP(B26,ｴﾝﾄﾘｰ票!$AZ$16:$BB$115,2,0)))","v":""}]
[18,{"$f":"IF(ISERROR(VLOOKUP(A27*10-9+2000,ｴﾝﾄﾘｰ票!C$15:AM$115,3,0)),\"\",VLOOKUP(A27*10-9+2000,ｴﾝﾄﾘｰ票!C$15:AM$115,3,0))","v":""},{"$f":"IF(B27=\"\",\"\",CONCATENATE(VLOOKUP(B27,ｴﾝﾄﾘｰ票!$E$16:$N$115,2,0),\"　\",VLOOKUP(B27,ｴﾝﾄﾘｰ票!$E$16:$N$115,3,0)))","v":""},null,null,null,null,{"$f":"IF(B27=\"\",\"\",VLOOKUP(B27,ｴﾝﾄﾘｰ票!$E$16:$N$115,8,0))","v":""},null,{"$f":"IF(B27=\"\",\"\",IF(VLOOKUP(B27,ｴﾝﾄﾘｰ票!$E$16:$AA$115,12,0)=\"\",\"\",VLOOKUP(B27,ｴﾝﾄﾘｰ票!$E$16:$AA$115,12,0)))","v":""},{"$f":"IF(B27=\"\",\"\",IF(VLOOKUP(B27,ｴﾝﾄﾘｰ票!$E$16:$AA$115,16,0)=\"\",\"\",VLOOKUP(B27,ｴﾝﾄﾘｰ票!$E$16:$AA$115,16,0)))","v":""},{"$f":"IF(B27=\"\",\"\",IF(VLOOKUP(B27,ｴﾝﾄﾘｰ票!$E$16:$AA$115,20,0)=\"\",\"\",VLOOKUP(B27,ｴﾝﾄﾘｰ票!$E$16:$AA$115,20,0)))","v":""},{"$f":"IF(B27=\"\",\"\",IF(ISERROR(VLOOKUP(B27,ｴﾝﾄﾘｰ票!$AT$16:$AV$115,1,0)),\"\",VLOOKUP(B27,ｴﾝﾄﾘｰ票!$AT$16:$AV$115,2,0)))","v":""},null,{"$f":"IF(B27=\"\",\"\",IF(ISERROR(VLOOKUP(B27,ｴﾝﾄﾘｰ票!$AZ$16:$BB$115,1,0)),\"\",VLOOKUP(B27,ｴﾝﾄﾘｰ票!$AZ$16:$BB$115,2,0)))","v":""}]
[19,{"$f":"IF(ISERROR(VLOOKUP(A28*10-9+2000,ｴﾝﾄﾘｰ票!C$15:AM$115,3,0)),\"\",VLOOKUP(A28*10-9+2000,ｴﾝﾄﾘｰ票!C$15:AM$115,3,0))","v":""},{"$f":"IF(B28=\"\",\"\",CONCATENATE(VLOOKUP(B28,ｴﾝﾄﾘｰ票!$E$16:$N$115,2,0),\"　\",VLOOKUP(B28,ｴﾝﾄﾘｰ票!$E$16:$N$115,3,0)))","v":""},null,null,null,null,{"$f":"IF(B28=\"\",\"\",VLOOKUP(B28,ｴﾝﾄﾘｰ票!$E$16:$N$115,8,0))","v":""},null,{"$f":"IF(B28=\"\",\"\",IF(VLOOKUP(B28,ｴﾝﾄﾘｰ票!$E$16:$AA$115,12,0)=\"\",\"\",VLOOKUP(B28,ｴﾝﾄﾘｰ票!$E$16:$AA$115,12,0)))","v":""},{"$f":"IF(B28=\"\",\"\",IF(VLOOKUP(B28,ｴﾝﾄﾘｰ票!$E$16:$AA$115,16,0)=\"\",\"\",VLOOKUP(B28,ｴﾝﾄﾘｰ票!$E$16:$AA$115,16,0)))","v":""},{"$f":"IF(B28=\"\",\"\",IF(VLOOKUP(B28,ｴﾝﾄﾘｰ票!$E$16:$AA$115,20,0)=\"\",\"\",VLOOKUP(B28,ｴﾝﾄﾘｰ票!$E$16:$AA$115,20,0)))","v":""},{"$f":"IF(B28=\"\",\"\",IF(ISERROR(VLOOKUP(B28,ｴﾝﾄﾘｰ票!$AT$16:$AV$115,1,0)),\"\",VLOOKUP(B28,ｴﾝﾄﾘｰ票!$AT$16:$AV$115,2,0)))","v":""},null,{"$f":"IF(B28=\"\",\"\",IF(ISERROR(VLOOKUP(B28,ｴﾝﾄﾘｰ票!$AZ$16:$BB$115,1,0)),\"\",VLOOKUP(B28,ｴﾝﾄﾘｰ票!$AZ$16:$BB$115,2,0)))","v":""}]
[20,{"$f":"IF(ISERROR(VLOOKUP(A29*10-9+2000,ｴﾝﾄﾘｰ票!C$15:AM$115,3,0)),\"\",VLOOKUP(A29*10-9+2000,ｴﾝﾄﾘｰ票!C$15:AM$115,3,0))","v":""},{"$f":"IF(B29=\"\",\"\",CONCATENATE(VLOOKUP(B29,ｴﾝﾄﾘｰ票!$E$16:$N$115,2,0),\"　\",VLOOKUP(B29,ｴﾝﾄﾘｰ票!$E$16:$N$115,3,0)))","v":""},null,null,null,null,{"$f":"IF(B29=\"\",\"\",VLOOKUP(B29,ｴﾝﾄﾘｰ票!$E$16:$N$115,8,0))","v":""},null,{"$f":"IF(B29=\"\",\"\",IF(VLOOKUP(B29,ｴﾝﾄﾘｰ票!$E$16:$AA$115,12,0)=\"\",\"\",VLOOKUP(B29,ｴﾝﾄﾘｰ票!$E$16:$AA$115,12,0)))","v":""},{"$f":"IF(B29=\"\",\"\",IF(VLOOKUP(B29,ｴﾝﾄﾘｰ票!$E$16:$AA$115,16,0)=\"\",\"\",VLOOKUP(B29,ｴﾝﾄﾘｰ票!$E$16:$AA$115,16,0)))","v":""},{"$f":"IF(B29=\"\",\"\",IF(VLOOKUP(B29,ｴﾝﾄﾘｰ票!$E$16:$AA$115,20,0)=\"\",\"\",VLOOKUP(B29,ｴﾝﾄﾘｰ票!$E$16:$AA$115,20,0)))","v":""},{"$f":"IF(B29=\"\",\"\",IF(ISERROR(VLOOKUP(B29,ｴﾝﾄﾘｰ票!$AT$16:$AV$115,1,0)),\"\",VLOOKUP(B29,ｴﾝﾄﾘｰ票!$AT$16:$AV$115,2,0)))","v":""},null,{"$f":"IF(B29=\"\",\"\",IF(ISERROR(VLOOKUP(B29,ｴﾝﾄﾘｰ票!$AZ$16:$BB$115,1,0)),\"\",VLOOKUP(B29,ｴﾝﾄﾘｰ票!$AZ$16:$BB$115,2,0)))","v":""}]
[21,{"$f":"IF(ISERROR(VLOOKUP(A30*10-9+2000,ｴﾝﾄﾘｰ票!C$15:AM$115,3,0)),\"\",VLOOKUP(A30*10-9+2000,ｴﾝﾄﾘｰ票!C$15:AM$115,3,0))","v":""},{"$f":"IF(B30=\"\",\"\",CONCATENATE(VLOOKUP(B30,ｴﾝﾄﾘｰ票!$E$16:$N$115,2,0),\"　\",VLOOKUP(B30,ｴﾝﾄﾘｰ票!$E$16:$N$115,3,0)))","v":""},null,null,null,null,{"$f":"IF(B30=\"\",\"\",VLOOKUP(B30,ｴﾝﾄﾘｰ票!$E$16:$N$115,8,0))","v":""},null,{"$f":"IF(B30=\"\",\"\",IF(VLOOKUP(B30,ｴﾝﾄﾘｰ票!$E$16:$AA$115,12,0)=\"\",\"\",VLOOKUP(B30,ｴﾝﾄﾘｰ票!$E$16:$AA$115,12,0)))","v":""},{"$f":"IF(B30=\"\",\"\",IF(VLOOKUP(B30,ｴﾝﾄﾘｰ票!$E$16:$AA$115,16,0)=\"\",\"\",VLOOKUP(B30,ｴﾝﾄﾘｰ票!$E$16:$AA$115,16,0)))","v":""},{"$f":"IF(B30=\"\",\"\",IF(VLOOKUP(B30,ｴﾝﾄﾘｰ票!$E$16:$AA$115,20,0)=\"\",\"\",VLOOKUP(B30,ｴﾝﾄﾘｰ票!$E$16:$AA$115,20,0)))","v":""},{"$f":"IF(B30=\"\",\"\",IF(ISERROR(VLOOKUP(B30,ｴﾝﾄﾘｰ票!$AT$16:$AV$115,1,0)),\"\",VLOOKUP(B30,ｴﾝﾄﾘｰ票!$AT$16:$AV$115,2,0)))","v":""},null,{"$f":"IF(B30=\"\",\"\",IF(ISERROR(VLOOKUP(B30,ｴﾝﾄﾘｰ票!$AZ$16:$BB$115,1,0)),\"\",VLOOKUP(B30,ｴﾝﾄﾘｰ票!$AZ$16:$BB$115,2,0)))","v":""}]
[22,{"$f":"IF(ISERROR(VLOOKUP(A31*10-9+2000,ｴﾝﾄﾘｰ票!C$15:AM$115,3,0)),\"\",VLOOKUP(A31*10-9+2000,ｴﾝﾄﾘｰ票!C$15:AM$115,3,0))","v":""},{"$f":"IF(B31=\"\",\"\",CONCATENATE(VLOOKUP(B31,ｴﾝﾄﾘｰ票!$E$16:$N$115,2,0),\"　\",VLOOKUP(B31,ｴﾝﾄﾘｰ票!$E$16:$N$115,3,0)))","v":""},null,null,null,null,{"$f":"IF(B31=\"\",\"\",VLOOKUP(B31,ｴﾝﾄﾘｰ票!$E$16:$N$115,8,0))","v":""},null,{"$f":"IF(B31=\"\",\"\",IF(VLOOKUP(B31,ｴﾝﾄﾘｰ票!$E$16:$AA$115,12,0)=\"\",\"\",VLOOKUP(B31,ｴﾝﾄﾘｰ票!$E$16:$AA$115,12,0)))","v":""},{"$f":"IF(B31=\"\",\"\",IF(VLOOKUP(B31,ｴﾝﾄﾘｰ票!$E$16:$AA$115,16,0)=\"\",\"\",VLOOKUP(B31,ｴﾝﾄﾘｰ票!$E$16:$AA$115,16,0)))","v":""},{"$f":"IF(B31=\"\",\"\",IF(VLOOKUP(B31,ｴﾝﾄﾘｰ票!$E$16:$AA$115,20,0)=\"\",\"\",VLOOKUP(B31,ｴﾝﾄﾘｰ票!$E$16:$AA$115,20,0)))","v":""},{"$f":"IF(B31=\"\",\"\",IF(ISERROR(VLOOKUP(B31,ｴﾝﾄﾘｰ票!$AT$16:$AV$115,1,0)),\"\",VLOOKUP(B31,ｴﾝﾄﾘｰ票!$AT$16:$AV$115,2,0)))","v":""},null,{"$f":"IF(B31=\"\",\"\",IF(ISERROR(VLOOKUP(B31,ｴﾝﾄﾘｰ票!$AZ$16:$BB$115,1,0)),\"\",VLOOKUP(B31,ｴﾝﾄﾘｰ票!$AZ$16:$BB$115,2,0)))","v":""}]
[23,{"$f":"IF(ISERROR(VLOOKUP(A32*10-9+2000,ｴﾝﾄﾘｰ票!C$15:AM$115,3,0)),\"\",VLOOKUP(A32*10-9+2000,ｴﾝﾄﾘｰ票!C$15:AM$115,3,0))","v":""},{"$f":"IF(B32=\"\",\"\",CONCATENATE(VLOOKUP(B32,ｴﾝﾄﾘｰ票!$E$16:$N$115,2,0),\"　\",VLOOKUP(B32,ｴﾝﾄﾘｰ票!$E$16:$N$115,3,0)))","v":""},null,null,null,null,{"$f":"IF(B32=\"\",\"\",VLOOKUP(B32,ｴﾝﾄﾘｰ票!$E$16:$N$115,8,0))","v":""},null,{"$f":"IF(B32=\"\",\"\",IF(VLOOKUP(B32,ｴﾝﾄﾘｰ票!$E$16:$AA$115,12,0)=\"\",\"\",VLOOKUP(B32,ｴﾝﾄﾘｰ票!$E$16:$AA$115,12,0)))","v":""},{"$f":"IF(B32=\"\",\"\",IF(VLOOKUP(B32,ｴﾝﾄﾘｰ票!$E$16:$AA$115,16,0)=\"\",\"\",VLOOKUP(B32,ｴﾝﾄﾘｰ票!$E$16:$AA$115,16,0)))","v":""},{"$f":"IF(B32=\"\",\"\",IF(VLOOKUP(B32,ｴﾝﾄﾘｰ票!$E$16:$AA$115,20,0)=\"\",\"\",VLOOKUP(B32,ｴﾝﾄﾘｰ票!$E$16:$AA$115,20,0)))","v":""},{"$f":"IF(B32=\"\",\"\",IF(ISERROR(VLOOKUP(B32,ｴﾝﾄﾘｰ票!$AT$16:$AV$115,1,0)),\"\",VLOOKUP(B32,ｴﾝﾄﾘｰ票!$AT$16:$AV$115,2,0)))","v":""},null,{"$f":"IF(B32=\"\",\"\",IF(ISERROR(VLOOKUP(B32,ｴﾝﾄﾘｰ票!$AZ$16:$BB$115,1,0)),\"\",VLOOKUP(B32,ｴﾝﾄﾘｰ票!$AZ$16:$BB$115,2,0)))","v":""}]
[24,{"$f":"IF(ISERROR(VLOOKUP(A33*10-9+2000,ｴﾝﾄﾘｰ票!C$15:AM$115,3,0)),\"\",VLOOKUP(A33*10-9+2000,ｴﾝﾄﾘｰ票!C$15:AM$115,3,0))","v":""},{"$f":"IF(B33=\"\",\"\",CONCATENATE(VLOOKUP(B33,ｴﾝﾄﾘｰ票!$E$16:$N$115,2,0),\"　\",VLOOKUP(B33,ｴﾝﾄﾘｰ票!$E$16:$N$115,3,0)))","v":""},null,null,null,null,{"$f":"IF(B33=\"\",\"\",VLOOKUP(B33,ｴﾝﾄﾘｰ票!$E$16:$N$115,8,0))","v":""},null,{"$f":"IF(B33=\"\",\"\",IF(VLOOKUP(B33,ｴﾝﾄﾘｰ票!$E$16:$AA$115,12,0)=\"\",\"\",VLOOKUP(B33,ｴﾝﾄﾘｰ票!$E$16:$AA$115,12,0)))","v":""},{"$f":"IF(B33=\"\",\"\",IF(VLOOKUP(B33,ｴﾝﾄﾘｰ票!$E$16:$AA$115,16,0)=\"\",\"\",VLOOKUP(B33,ｴﾝﾄﾘｰ票!$E$16:$AA$115,16,0)))","v":""},{"$f":"IF(B33=\"\",\"\",IF(VLOOKUP(B33,ｴﾝﾄﾘｰ票!$E$16:$AA$115,20,0)=\"\",\"\",VLOOKUP(B33,ｴﾝﾄﾘｰ票!$E$16:$AA$115,20,0)))","v":""},{"$f":"IF(B33=\"\",\"\",IF(ISERROR(VLOOKUP(B33,ｴﾝﾄﾘｰ票!$AT$16:$AV$115,1,0)),\"\",VLOOKUP(B33,ｴﾝﾄﾘｰ票!$AT$16:$AV$115,2,0)))","v":""},null,{"$f":"IF(B33=\"\",\"\",IF(ISERROR(VLOOKUP(B33,ｴﾝﾄﾘｰ票!$AZ$16:$BB$115,1,0)),\"\",VLOOKUP(B33,ｴﾝﾄﾘｰ票!$AZ$16:$BB$115,2,0)))","v":""}]
[25,{"$f":"IF(ISERROR(VLOOKUP(A34*10-9+2000,ｴﾝﾄﾘｰ票!C$15:AM$115,3,0)),\"\",VLOOKUP(A34*10-9+2000,ｴﾝﾄﾘｰ票!C$15:AM$115,3,0))","v":""},{"$f":"IF(B34=\"\",\"\",CONCATENATE(VLOOKUP(B34,ｴﾝﾄﾘｰ票!$E$16:$N$115,2,0),\"　\",VLOOKUP(B34,ｴﾝﾄﾘｰ票!$E$16:$N$115,3,0)))","v":""},null,null,null,null,{"$f":"IF(B34=\"\",\"\",VLOOKUP(B34,ｴﾝﾄﾘｰ票!$E$16:$N$115,8,0))","v":""},null,{"$f":"IF(B34=\"\",\"\",IF(VLOOKUP(B34,ｴﾝﾄﾘｰ票!$E$16:$AA$115,12,0)=\"\",\"\",VLOOKUP(B34,ｴﾝﾄﾘｰ票!$E$16:$AA$115,12,0)))","v":""},{"$f":"IF(B34=\"\",\"\",IF(VLOOKUP(B34,ｴﾝﾄﾘｰ票!$E$16:$AA$115,16,0)=\"\",\"\",VLOOKUP(B34,ｴﾝﾄﾘｰ票!$E$16:$AA$115,16,0)))","v":""},{"$f":"IF(B34=\"\",\"\",IF(VLOOKUP(B34,ｴﾝﾄﾘｰ票!$E$16:$AA$115,20,0)=\"\",\"\",VLOOKUP(B34,ｴﾝﾄﾘｰ票!$E$16:$AA$115,20,0)))","v":""},{"$f":"IF(B34=\"\",\"\",IF(ISERROR(VLOOKUP(B34,ｴﾝﾄﾘｰ票!$AT$16:$AV$115,1,0)),\"\",VLOOKUP(B34,ｴﾝﾄﾘｰ票!$AT$16:$AV$115,2,0)))","v":""},null,{"$f":"IF(B34=\"\",\"\",IF(ISERROR(VLOOKUP(B34,ｴﾝﾄﾘｰ票!$AZ$16:$BB$115,1,0)),\"\",VLOOKUP(B34,ｴﾝﾄﾘｰ票!$AZ$16:$BB$115,2,0)))","v":""}]
[26,{"$f":"IF(ISERROR(VLOOKUP(A35*10-9+2000,ｴﾝﾄﾘｰ票!C$15:AM$115,3,0)),\"\",VLOOKUP(A35*10-9+2000,ｴﾝﾄﾘｰ票!C$15:AM$115,3,0))","v":""},{"$f":"IF(B35=\"\",\"\",CONCATENATE(VLOOKUP(B35,ｴﾝﾄﾘｰ票!$E$16:$N$115,2,0),\"　\",VLOOKUP(B35,ｴﾝﾄﾘｰ票!$E$16:$N$115,3,0)))","v":""},null,null,null,null,{"$f":"IF(B35=\"\",\"\",VLOOKUP(B35,ｴﾝﾄﾘｰ票!$E$16:$N$115,8,0))","v":""},null,{"$f":"IF(B35=\"\",\"\",IF(VLOOKUP(B35,ｴﾝﾄﾘｰ票!$E$16:$AA$115,12,0)=\"\",\"\",VLOOKUP(B35,ｴﾝﾄﾘｰ票!$E$16:$AA$115,12,0)))","v":""},{"$f":"IF(B35=\"\",\"\",IF(VLOOKUP(B35,ｴﾝﾄﾘｰ票!$E$16:$AA$115,16,0)=\"\",\"\",VLOOKUP(B35,ｴﾝﾄﾘｰ票!$E$16:$AA$115,16,0)))","v":""},{"$f":"IF(B35=\"\",\"\",IF(VLOOKUP(B35,ｴﾝﾄﾘｰ票!$E$16:$AA$115,20,0)=\"\",\"\",VLOOKUP(B35,ｴﾝﾄﾘｰ票!$E$16:$AA$115,20,0)))","v":""},{"$f":"IF(B35=\"\",\"\",IF(ISERROR(VLOOKUP(B35,ｴﾝﾄﾘｰ票!$AT$16:$AV$115,1,0)),\"\",VLOOKUP(B35,ｴﾝﾄﾘｰ票!$AT$16:$AV$115,2,0)))","v":""},null,{"$f":"IF(B35=\"\",\"\",IF(ISERROR(VLOOKUP(B35,ｴﾝﾄﾘｰ票!$AZ$16:$BB$115,1,0)),\"\",VLOOKUP(B35,ｴﾝﾄﾘｰ票!$AZ$16:$BB$115,2,0)))","v":""}]
[27,{"$f":"IF(ISERROR(VLOOKUP(A36*10-9+2000,ｴﾝﾄﾘｰ票!C$15:AM$115,3,0)),\"\",VLOOKUP(A36*10-9+2000,ｴﾝﾄﾘｰ票!C$15:AM$115,3,0))","v":""},{"$f":"IF(B36=\"\",\"\",CONCATENATE(VLOOKUP(B36,ｴﾝﾄﾘｰ票!$E$16:$N$115,2,0),\"　\",VLOOKUP(B36,ｴﾝﾄﾘｰ票!$E$16:$N$115,3,0)))","v":""},null,null,null,null,{"$f":"IF(B36=\"\",\"\",VLOOKUP(B36,ｴﾝﾄﾘｰ票!$E$16:$N$115,8,0))","v":""},null,{"$f":"IF(B36=\"\",\"\",IF(VLOOKUP(B36,ｴﾝﾄﾘｰ票!$E$16:$AA$115,12,0)=\"\",\"\",VLOOKUP(B36,ｴﾝﾄﾘｰ票!$E$16:$AA$115,12,0)))","v":""},{"$f":"IF(B36=\"\",\"\",IF(VLOOKUP(B36,ｴﾝﾄﾘｰ票!$E$16:$AA$115,16,0)=\"\",\"\",VLOOKUP(B36,ｴﾝﾄﾘｰ票!$E$16:$AA$115,16,0)))","v":""},{"$f":"IF(B36=\"\",\"\",IF(VLOOKUP(B36,ｴﾝﾄﾘｰ票!$E$16:$AA$115,20,0)=\"\",\"\",VLOOKUP(B36,ｴﾝﾄﾘｰ票!$E$16:$AA$115,20,0)))","v":""},{"$f":"IF(B36=\"\",\"\",IF(ISERROR(VLOOKUP(B36,ｴﾝﾄﾘｰ票!$AT$16:$AV$115,1,0)),\"\",VLOOKUP(B36,ｴﾝﾄﾘｰ票!$AT$16:$AV$115,2,0)))","v":""},null,{"$f":"IF(B36=\"\",\"\",IF(ISERROR(VLOOKUP(B36,ｴﾝﾄﾘｰ票!$AZ$16:$BB$115,1,0)),\"\",VLOOKUP(B36,ｴﾝﾄﾘｰ票!$AZ$16:$BB$115,2,0)))","v":""}]
[28,{"$f":"IF(ISERROR(VLOOKUP(A37*10-9+2000,ｴﾝﾄﾘｰ票!C$15:AM$115,3,0)),\"\",VLOOKUP(A37*10-9+2000,ｴﾝﾄﾘｰ票!C$15:AM$115,3,0))","v":""},{"$f":"IF(B37=\"\",\"\",CONCATENATE(VLOOKUP(B37,ｴﾝﾄﾘｰ票!$E$16:$N$115,2,0),\"　\",VLOOKUP(B37,ｴﾝﾄﾘｰ票!$E$16:$N$115,3,0)))","v":""},null,null,null,null,{"$f":"IF(B37=\"\",\"\",VLOOKUP(B37,ｴﾝﾄﾘｰ票!$E$16:$N$115,8,0))","v":""},null,{"$f":"IF(B37=\"\",\"\",IF(VLOOKUP(B37,ｴﾝﾄﾘｰ票!$E$16:$AA$115,12,0)=\"\",\"\",VLOOKUP(B37,ｴﾝﾄﾘｰ票!$E$16:$AA$115,12,0)))","v":""},{"$f":"IF(B37=\"\",\"\",IF(VLOOKUP(B37,ｴﾝﾄﾘｰ票!$E$16:$AA$115,16,0)=\"\",\"\",VLOOKUP(B37,ｴﾝﾄﾘｰ票!$E$16:$AA$115,16,0)))","v":""},{"$f":"IF(B37=\"\",\"\",IF(VLOOKUP(B37,ｴﾝﾄﾘｰ票!$E$16:$AA$115,20,0)=\"\",\"\",VLOOKUP(B37,ｴﾝﾄﾘｰ票!$E$16:$AA$115,20,0)))","v":""},{"$f":"IF(B37=\"\",\"\",IF(ISERROR(VLOOKUP(B37,ｴﾝﾄﾘｰ票!$AT$16:$AV$115,1,0)),\"\",VLOOKUP(B37,ｴﾝﾄﾘｰ票!$AT$16:$AV$115,2,0)))","v":""},null,{"$f":"IF(B37=\"\",\"\",IF(ISERROR(VLOOKUP(B37,ｴﾝﾄﾘｰ票!$AZ$16:$BB$115,1,0)),\"\",VLOOKUP(B37,ｴﾝﾄﾘｰ票!$AZ$16:$BB$115,2,0)))","v":""}]
[29,{"$f":"IF(ISERROR(VLOOKUP(A38*10-9+2000,ｴﾝﾄﾘｰ票!C$15:AM$115,3,0)),\"\",VLOOKUP(A38*10-9+2000,ｴﾝﾄﾘｰ票!C$15:AM$115,3,0))","v":""},{"$f":"IF(B38=\"\",\"\",CONCATENATE(VLOOKUP(B38,ｴﾝﾄﾘｰ票!$E$16:$N$115,2,0),\"　\",VLOOKUP(B38,ｴﾝﾄﾘｰ票!$E$16:$N$115,3,0)))","v":""},null,null,null,null,{"$f":"IF(B38=\"\",\"\",VLOOKUP(B38,ｴﾝﾄﾘｰ票!$E$16:$N$115,8,0))","v":""},null,{"$f":"IF(B38=\"\",\"\",IF(VLOOKUP(B38,ｴﾝﾄﾘｰ票!$E$16:$AA$115,12,0)=\"\",\"\",VLOOKUP(B38,ｴﾝﾄﾘｰ票!$E$16:$AA$115,12,0)))","v":""},{"$f":"IF(B38=\"\",\"\",IF(VLOOKUP(B38,ｴﾝﾄﾘｰ票!$E$16:$AA$115,16,0)=\"\",\"\",VLOOKUP(B38,ｴﾝﾄﾘｰ票!$E$16:$AA$115,16,0)))","v":""},{"$f":"IF(B38=\"\",\"\",IF(VLOOKUP(B38,ｴﾝﾄﾘｰ票!$E$16:$AA$115,20,0)=\"\",\"\",VLOOKUP(B38,ｴﾝﾄﾘｰ票!$E$16:$AA$115,20,0)))","v":""},{"$f":"IF(B38=\"\",\"\",IF(ISERROR(VLOOKUP(B38,ｴﾝﾄﾘｰ票!$AT$16:$AV$115,1,0)),\"\",VLOOKUP(B38,ｴﾝﾄﾘｰ票!$AT$16:$AV$115,2,0)))","v":""},null,{"$f":"IF(B38=\"\",\"\",IF(ISERROR(VLOOKUP(B38,ｴﾝﾄﾘｰ票!$AZ$16:$BB$115,1,0)),\"\",VLOOKUP(B38,ｴﾝﾄﾘｰ票!$AZ$16:$BB$115,2,0)))","v":""}]
[30,{"$f":"IF(ISERROR(VLOOKUP(A39*10-9+2000,ｴﾝﾄﾘｰ票!C$15:AM$115,3,0)),\"\",VLOOKUP(A39*10-9+2000,ｴﾝﾄﾘｰ票!C$15:AM$115,3,0))","v":""},{"$f":"IF(B39=\"\",\"\",CONCATENATE(VLOOKUP(B39,ｴﾝﾄﾘｰ票!$E$16:$N$115,2,0),\"　\",VLOOKUP(B39,ｴﾝﾄﾘｰ票!$E$16:$N$115,3,0)))","v":""},null,null,null,null,{"$f":"IF(B39=\"\",\"\",VLOOKUP(B39,ｴﾝﾄﾘｰ票!$E$16:$N$115,8,0))","v":""},null,{"$f":"IF(B39=\"\",\"\",IF(VLOOKUP(B39,ｴﾝﾄﾘｰ票!$E$16:$AA$115,12,0)=\"\",\"\",VLOOKUP(B39,ｴﾝﾄﾘｰ票!$E$16:$AA$115,12,0)))","v":""},{"$f":"IF(B39=\"\",\"\",IF(VLOOKUP(B39,ｴﾝﾄﾘｰ票!$E$16:$AA$115,16,0)=\"\",\"\",VLOOKUP(B39,ｴﾝﾄﾘｰ票!$E$16:$AA$115,16,0)))","v":""},{"$f":"IF(B39=\"\",\"\",IF(VLOOKUP(B39,ｴﾝﾄﾘｰ票!$E$16:$AA$115,20,0)=\"\",\"\",VLOOKUP(B39,ｴﾝﾄﾘｰ票!$E$16:$AA$115,20,0)))","v":""},{"$f":"IF(B39=\"\",\"\",IF(ISERROR(VLOOKUP(B39,ｴﾝﾄﾘｰ票!$AT$16:$AV$115,1,0)),\"\",VLOOKUP(B39,ｴﾝﾄﾘｰ票!$AT$16:$AV$115,2,0)))","v":""},null,{"$f":"IF(B39=\"\",\"\",IF(ISERROR(VLOOKUP(B39,ｴﾝﾄﾘｰ票!$AZ$16:$BB$115,1,0)),\"\",VLOOKUP(B39,ｴﾝﾄﾘｰ票!$AZ$16:$BB$115,2,0)))","v":""}]
[]
[null,null,"個人",null,"ﾘﾚｰ",null,null,"プログラム"]
[null,null,"@600円",null,"＠1200円",null,null,"＠600円"]
[null,null,{"$f":"300-COUNTBLANK(J10:L39)-COUNTBLANK(J54:L88)-COUNTBLANK(J98:L132)","v":0},null,{"$f":"ｴﾝﾄﾘｰ票!AB11+ｴﾝﾄﾘｰ票!AC11","v":0},null,null,{"$f":"ｴﾝﾄﾘｰ票!AE11","v":1},null,null,"合計"]
[null,null,{"$f":"C43*600","v":0},null,null,{"$f":"E43*1200","v":0},null,{"$f":"H43*600","v":600},null,null,{"$f":"C44+F44+H44","v":600}]
[null,{"$f":"ｴﾝﾄﾘｰ票!$G$1","v":"東京高体連陸上第4支部春季競技会"},null,null,null,null,null,null,null,null,null,null,null,null,"申込用紙(A票）"]
[{"$f":"A2","v":"令和5年度"},null,null,null,null,null,null,null,null,null,null,null,"男子",null,"Ｎｏ．2"]
["学校名",null,{"$f":"ｴﾝﾄﾘｰ票!$G$2","v":0}]
["学校所在地",null,{"$f":"ｴﾝﾄﾘｰ票!$G$5","v":0}]
["学校長",null,{"$f":"ｴﾝﾄﾘｰ票!$G$4","v":0},null,null,null,null,null,null,"印","顧問氏名",{"$f":"ｴﾝﾄﾘｰ票!$G$8","v":0},null,null,"印"]
["電話",null,{"$f":"ｴﾝﾄﾘｰ票!$G$6","v":"00:00:00"},null,null,null,"ＦＡＸ",{"$f":"ｴﾝﾄﾘｰ票!$G$7","v":0},null,null,"連絡先",{"$f":"ｴﾝﾄﾘｰ票!$G$9","v":0}]
[]
[null,null,null,null,null,null,null,null,null,null,null,"種目"]
[null,"番号","出場者氏名",null,null,null,null,"学年",null,"個人","個人","個人","4×100",null,"4×400"]
[31,{"$f":"IF(ISERROR(VLOOKUP(A54*10-9+2000,ｴﾝﾄﾘｰ票!C$15:AM$115,3,0)),\"\",VLOOKUP(A54*10-9+2000,ｴﾝﾄﾘｰ票!C$15:AM$115,3,0))","v":""},{"$f":"IF(B54=\"\",\"\",CONCATENATE(VLOOKUP(B54,ｴﾝﾄﾘｰ票!$E$16:$N$115,2,0),\"　\",VLOOKUP(B54,ｴﾝﾄﾘｰ票!$E$16:$N$115,3,0)))","v":""},null,null,null,null,{"$f":"IF(B54=\"\",\"\",VLOOKUP(B54,ｴﾝﾄﾘｰ票!$E$16:$N$115,8,0))","v":""},null,{"$f":"IF(B54=\"\",\"\",IF(VLOOKUP(B54,ｴﾝﾄﾘｰ票!$E$16:$AA$115,12,0)=\"\",\"\",VLOOKUP(B54,ｴﾝﾄﾘｰ票!$E$16:$AA$115,12,0)))","v":""},{"$f":"IF(B54=\"\",\"\",IF(VLOOKUP(B54,ｴﾝﾄﾘｰ票!$E$16:$AA$115,16,0)=\"\",\"\",VLOOKUP(B54,ｴﾝﾄﾘｰ票!$E$16:$AA$115,16,0)))","v":""},{"$f":"IF(B54=\"\",\"\",IF(VLOOKUP(B54,ｴﾝﾄﾘｰ票!$E$16:$AA$115,20,0)=\"\",\"\",VLOOKUP(B54,ｴﾝﾄﾘｰ票!$E$16:$AA$115,20,0)))","v":""},{"$f":"IF(B54=\"\",\"\",IF(ISERROR(VLOOKUP(B54,ｴﾝﾄﾘｰ票!$AT$16:$AV$115,1,0)),\"\",VLOOKUP(B54,ｴﾝﾄﾘｰ票!$AT$16:$AV$115,2,0)))","v":""},null,{"$f":"IF(B54=\"\",\"\",IF(ISERROR(VLOOKUP(B54,ｴﾝﾄﾘｰ票!$AZ$16:$BB$115,1,0)),\"\",VLOOKUP(B54,ｴﾝﾄﾘｰ票!$AZ$16:$BB$115,2,0)))","v":""}]
[32,{"$f":"IF(ISERROR(VLOOKUP(A55*10-9+2000,ｴﾝﾄﾘｰ票!C$15:AM$115,3,0)),\"\",VLOOKUP(A55*10-9+2000,ｴﾝﾄﾘｰ票!C$15:AM$115,3,0))","v":""},{"$f":"IF(B55=\"\",\"\",CONCATENATE(VLOOKUP(B55,ｴﾝﾄﾘｰ票!$E$16:$N$115,2,0),\"　\",VLOOKUP(B55,ｴﾝﾄﾘｰ票!$E$16:$N$115,3,0)))","v":""},null,null,null,null,{"$f":"IF(B55=\"\",\"\",VLOOKUP(B55,ｴﾝﾄﾘｰ票!$E$16:$N$115,8,0))","v":""},null,{"$f":"IF(B55=\"\",\"\",IF(VLOOKUP(B55,ｴﾝﾄﾘｰ票!$E$16:$AA$115,12,0)=\"\",\"\",VLOOKUP(B55,ｴﾝﾄﾘｰ票!$E$16:$AA$115,12,0)))","v":""},{"$f":"IF(B55=\"\",\"\",IF(VLOOKUP(B55,ｴﾝﾄﾘｰ票!$E$16:$AA$115,16,0)=\"\",\"\",VLOOKUP(B55,ｴﾝﾄﾘｰ票!$E$16:$AA$115,16,0)))","v":""},{"$f":"IF(B55=\"\",\"\",IF(VLOOKUP(B55,ｴﾝﾄﾘｰ票!$E$16:$AA$115,20,0)=\"\",\"\",VLOOKUP(B55,ｴﾝﾄﾘｰ票!$E$16:$AA$115,20,0)))","v":""},{"$f":"IF(B55=\"\",\"\",IF(ISERROR(VLOOKUP(B55,ｴﾝﾄﾘｰ票!$AT$16:$AV$115,1,0)),\"\",VLOOKUP(B55,ｴﾝﾄﾘｰ票!$AT$16:$AV$115,2,0)))","v":""},null,{"$f":"IF(B55=\"\",\"\",IF(ISERROR(VLOOKUP(B55,ｴﾝﾄﾘｰ票!$AZ$16:$BB$115,1,0)),\"\",VLOOKUP(B55,ｴﾝﾄﾘｰ票!$AZ$16:$BB$115,2,0)))","v":""}]
[33,{"$f":"IF(ISERROR(VLOOKUP(A56*10-9+2000,ｴﾝﾄﾘｰ票!C$15:AM$115,3,0)),\"\",VLOOKUP(A56*10-9+2000,ｴﾝﾄﾘｰ票!C$15:AM$115,3,0))","v":""},{"$f":"IF(B56=\"\",\"\",CONCATENATE(VLOOKUP(B56,ｴﾝﾄﾘｰ票!$E$16:$N$115,2,0),\"　\",VLOOKUP(B56,ｴﾝﾄﾘｰ票!$E$16:$N$115,3,0)))","v":""},null,null,null,null,{"$f":"IF(B56=\"\",\"\",VLOOKUP(B56,ｴﾝﾄﾘｰ票!$E$16:$N$115,8,0))","v":""},null,{"$f":"IF(B56=\"\",\"\",IF(VLOOKUP(B56,ｴﾝﾄﾘｰ票!$E$16:$AA$115,12,0)=\"\",\"\",VLOOKUP(B56,ｴﾝﾄﾘｰ票!$E$16:$AA$115,12,0)))","v":""},{"$f":"IF(B56=\"\",\"\",IF(VLOOKUP(B56,ｴﾝﾄﾘｰ票!$E$16:$AA$115,16,0)=\"\",\"\",VLOOKUP(B56,ｴﾝﾄﾘｰ票!$E$16:$AA$115,16,0)))","v":""},{"$f":"IF(B56=\"\",\"\",IF(VLOOKUP(B56,ｴﾝﾄﾘｰ票!$E$16:$AA$115,20,0)=\"\",\"\",VLOOKUP(B56,ｴﾝﾄﾘｰ票!$E$16:$AA$115,20,0)))","v":""},{"$f":"IF(B56=\"\",\"\",IF(ISERROR(VLOOKUP(B56,ｴﾝﾄﾘｰ票!$AT$16:$AV$115,1,0)),\"\",VLOOKUP(B56,ｴﾝﾄﾘｰ票!$AT$16:$AV$115,2,0)))","v":""},null,{"$f":"IF(B56=\"\",\"\",IF(ISERROR(VLOOKUP(B56,ｴﾝﾄﾘｰ票!$AZ$16:$BB$115,1,0)),\"\",VLOOKUP(B56,ｴﾝﾄﾘｰ票!$AZ$16:$BB$115,2,0)))","v":""}]
[34,{"$f":"IF(ISERROR(VLOOKUP(A57*10-9+2000,ｴﾝﾄﾘｰ票!C$15:AM$115,3,0)),\"\",VLOOKUP(A57*10-9+2000,ｴﾝﾄﾘｰ票!C$15:AM$115,3,0))","v":""},{"$f":"IF(B57=\"\",\"\",CONCATENATE(VLOOKUP(B57,ｴﾝﾄﾘｰ票!$E$16:$N$115,2,0),\"　\",VLOOKUP(B57,ｴﾝﾄﾘｰ票!$E$16:$N$115,3,0)))","v":""},null,null,null,null,{"$f":"IF(B57=\"\",\"\",VLOOKUP(B57,ｴﾝﾄﾘｰ票!$E$16:$N$115,8,0))","v":""},null,{"$f":"IF(B57=\"\",\"\",IF(VLOOKUP(B57,ｴﾝﾄﾘｰ票!$E$16:$AA$115,12,0)=\"\",\"\",VLOOKUP(B57,ｴﾝﾄﾘｰ票!$E$16:$AA$115,12,0)))","v":""},{"$f":"IF(B57=\"\",\"\",IF(VLOOKUP(B57,ｴﾝﾄﾘｰ票!$E$16:$AA$115,16,0)=\"\",\"\",VLOOKUP(B57,ｴﾝﾄﾘｰ票!$E$16:$AA$115,16,0)))","v":""},{"$f":"IF(B57=\"\",\"\",IF(VLOOKUP(B57,ｴﾝﾄﾘｰ票!$E$16:$AA$115,20,0)=\"\",\"\",VLOOKUP(B57,ｴﾝﾄﾘｰ票!$E$16:$AA$115,20,0)))","v":""},{"$f":"IF(B57=\"\",\"\",IF(ISERROR(VLOOKUP(B57,ｴﾝﾄﾘｰ票!$AT$16:$AV$115,1,0)),\"\",VLOOKUP(B57,ｴﾝﾄﾘｰ票!$AT$16:$AV$115,2,0)))","v":""},null,{"$f":"IF(B57=\"\",\"\",IF(ISERROR(VLOOKUP(B57,ｴﾝﾄﾘｰ票!$AZ$16:$BB$115,1,0)),\"\",VLOOKUP(B57,ｴﾝﾄﾘｰ票!$AZ$16:$BB$115,2,0)))","v":""}]
[35,{"$f":"IF(ISERROR(VLOOKUP(A58*10-9+2000,ｴﾝﾄﾘｰ票!C$15:AM$115,3,0)),\"\",VLOOKUP(A58*10-9+2000,ｴﾝﾄﾘｰ票!C$15:AM$115,3,0))","v":""},{"$f":"IF(B58=\"\",\"\",CONCATENATE(VLOOKUP(B58,ｴﾝﾄﾘｰ票!$E$16:$N$115,2,0),\"　\",VLOOKUP(B58,ｴﾝﾄﾘｰ票!$E$16:$N$115,3,0)))","v":""},null,null,null,null,{"$f":"IF(B58=\"\",\"\",VLOOKUP(B58,ｴﾝﾄﾘｰ票!$E$16:$N$115,8,0))","v":""},null,{"$f":"IF(B58=\"\",\"\",IF(VLOOKUP(B58,ｴﾝﾄﾘｰ票!$E$16:$AA$115,12,0)=\"\",\"\",VLOOKUP(B58,ｴﾝﾄﾘｰ票!$E$16:$AA$115,12,0)))","v":""},{"$f":"IF(B58=\"\",\"\",IF(VLOOKUP(B58,ｴﾝﾄﾘｰ票!$E$16:$AA$115,16,0)=\"\",\"\",VLOOKUP(B58,ｴﾝﾄﾘｰ票!$E$16:$AA$115,16,0)))","v":""},{"$f":"IF(B58=\"\",\"\",IF(VLOOKUP(B58,ｴﾝﾄﾘｰ票!$E$16:$AA$115,20,0)=\"\",\"\",VLOOKUP(B58,ｴﾝﾄﾘｰ票!$E$16:$AA$115,20,0)))","v":""},{"$f":"IF(B58=\"\",\"\",IF(ISERROR(VLOOKUP(B58,ｴﾝﾄﾘｰ票!$AT$16:$AV$115,1,0)),\"\",VLOOKUP(B58,ｴﾝﾄﾘｰ票!$AT$16:$AV$115,2,0)))","v":""},null,{"$f":"IF(B58=\"\",\"\",IF(ISERROR(VLOOKUP(B58,ｴﾝﾄﾘｰ票!$AZ$16:$BB$115,1,0)),\"\",VLOOKUP(B58,ｴﾝﾄﾘｰ票!$AZ$16:$BB$115,2,0)))","v":""}]
[36,{"$f":"IF(ISERROR(VLOOKUP(A59*10-9+2000,ｴﾝﾄﾘｰ票!C$15:AM$115,3,0)),\"\",VLOOKUP(A59*10-9+2000,ｴﾝﾄﾘｰ票!C$15:AM$115,3,0))","v":""},{"$f":"IF(B59=\"\",\"\",CONCATENATE(VLOOKUP(B59,ｴﾝﾄﾘｰ票!$E$16:$N$115,2,0),\"　\",VLOOKUP(B59,ｴﾝﾄﾘｰ票!$E$16:$N$115,3,0)))","v":""},null,null,null,null,{"$f":"IF(B59=\"\",\"\",VLOOKUP(B59,ｴﾝﾄﾘｰ票!$E$16:$N$115,8,0))","v":""},null,{"$f":"IF(B59=\"\",\"\",IF(VLOOKUP(B59,ｴﾝﾄﾘｰ票!$E$16:$AA$115,12,0)=\"\",\"\",VLOOKUP(B59,ｴﾝﾄﾘｰ票!$E$16:$AA$115,12,0)))","v":""},{"$f":"IF(B59=\"\",\"\",IF(VLOOKUP(B59,ｴﾝﾄﾘｰ票!$E$16:$AA$115,16,0)=\"\",\"\",VLOOKUP(B59,ｴﾝﾄﾘｰ票!$E$16:$AA$115,16,0)))","v":""},{"$f":"IF(B59=\"\",\"\",IF(VLOOKUP(B59,ｴﾝﾄﾘｰ票!$E$16:$AA$115,20,0)=\"\",\"\",VLOOKUP(B59,ｴﾝﾄﾘｰ票!$E$16:$AA$115,20,0)))","v":""},{"$f":"IF(B59=\"\",\"\",IF(ISERROR(VLOOKUP(B59,ｴﾝﾄﾘｰ票!$AT$16:$AV$115,1,0)),\"\",VLOOKUP(B59,ｴﾝﾄﾘｰ票!$AT$16:$AV$115,2,0)))","v":""},null,{"$f":"IF(B59=\"\",\"\",IF(ISERROR(VLOOKUP(B59,ｴﾝﾄﾘｰ票!$AZ$16:$BB$115,1,0)),\"\",VLOOKUP(B59,ｴﾝﾄﾘｰ票!$AZ$16:$BB$115,2,0)))","v":""}]
[37,{"$f":"IF(ISERROR(VLOOKUP(A60*10-9+2000,ｴﾝﾄﾘｰ票!C$15:AM$115,3,0)),\"\",VLOOKUP(A60*10-9+2000,ｴﾝﾄﾘｰ票!C$15:AM$115,3,0))","v":""},{"$f":"IF(B60=\"\",\"\",CONCATENATE(VLOOKUP(B60,ｴﾝﾄﾘｰ票!$E$16:$N$115,2,0),\"　\",VLOOKUP(B60,ｴﾝﾄﾘｰ票!$E$16:$N$115,3,0)))","v":""},null,null,null,null,{"$f":"IF(B60=\"\",\"\",VLOOKUP(B60,ｴﾝﾄﾘｰ票!$E$16:$N$115,8,0))","v":""},null,{"$f":"IF(B60=\"\",\"\",IF(VLOOKUP(B60,ｴﾝﾄﾘｰ票!$E$16:$AA$115,12,0)=\"\",\"\",VLOOKUP(B60,ｴﾝﾄﾘｰ票!$E$16:$AA$115,12,0)))","v":""},{"$f":"IF(B60=\"\",\"\",IF(VLOOKUP(B60,ｴﾝﾄﾘｰ票!$E$16:$AA$115,16,0)=\"\",\"\",VLOOKUP(B60,ｴﾝﾄﾘｰ票!$E$16:$AA$115,16,0)))","v":""},{"$f":"IF(B60=\"\",\"\",IF(VLOOKUP(B60,ｴﾝﾄﾘｰ票!$E$16:$AA$115,20,0)=\"\",\"\",VLOOKUP(B60,ｴﾝﾄﾘｰ票!$E$16:$AA$115,20,0)))","v":""},{"$f":"IF(B60=\"\",\"\",IF(ISERROR(VLOOKUP(B60,ｴﾝﾄﾘｰ票!$AT$16:$AV$115,1,0)),\"\",VLOOKUP(B60,ｴﾝﾄﾘｰ票!$AT$16:$AV$115,2,0)))","v":""},null,{"$f":"IF(B60=\"\",\"\",IF(ISERROR(VLOOKUP(B60,ｴﾝﾄﾘｰ票!$AZ$16:$BB$115,1,0)),\"\",VLOOKUP(B60,ｴﾝﾄﾘｰ票!$AZ$16:$BB$115,2,0)))","v":""}]
[38,{"$f":"IF(ISERROR(VLOOKUP(A61*10-9+2000,ｴﾝﾄﾘｰ票!C$15:AM$115,3,0)),\"\",VLOOKUP(A61*10-9+2000,ｴﾝﾄﾘｰ票!C$15:AM$115,3,0))","v":""},{"$f":"IF(B61=\"\",\"\",CONCATENATE(VLOOKUP(B61,ｴﾝﾄﾘｰ票!$E$16:$N$115,2,0),\"　\",VLOOKUP(B61,ｴﾝﾄﾘｰ票!$E$16:$N$115,3,0)))","v":""},null,null,null,null,{"$f":"IF(B61=\"\",\"\",VLOOKUP(B61,ｴﾝﾄﾘｰ票!$E$16:$N$115,8,0))","v":""},null,{"$f":"IF(B61=\"\",\"\",IF(VLOOKUP(B61,ｴﾝﾄﾘｰ票!$E$16:$AA$115,12,0)=\"\",\"\",VLOOKUP(B61,ｴﾝﾄﾘｰ票!$E$16:$AA$115,12,0)))","v":""},{"$f":"IF(B61=\"\",\"\",IF(VLOOKUP(B61,ｴﾝﾄﾘｰ票!$E$16:$AA$115,16,0)=\"\",\"\",VLOOKUP(B61,ｴﾝﾄﾘｰ票!$E$16:$AA$115,16,0)))","v":""},{"$f":"IF(B61=\"\",\"\",IF(VLOOKUP(B61,ｴﾝﾄﾘｰ票!$E$16:$AA$115,20,0)=\"\",\"\",VLOOKUP(B61,ｴﾝﾄﾘｰ票!$E$16:$AA$115,20,0)))","v":""},{"$f":"IF(B61=\"\",\"\",IF(ISERROR(VLOOKUP(B61,ｴﾝﾄﾘｰ票!$AT$16:$AV$115,1,0)),\"\",VLOOKUP(B61,ｴﾝﾄﾘｰ票!$AT$16:$AV$115,2,0)))","v":""},null,{"$f":"IF(B61=\"\",\"\",IF(ISERROR(VLOOKUP(B61,ｴﾝﾄﾘｰ票!$AZ$16:$BB$115,1,0)),\"\",VLOOKUP(B61,ｴﾝﾄﾘｰ票!$AZ$16:$BB$115,2,0)))","v":""}]
[39,{"$f":"IF(ISERROR(VLOOKUP(A62*10-9+2000,ｴﾝﾄﾘｰ票!C$15:AM$115,3,0)),\"\",VLOOKUP(A62*10-9+2000,ｴﾝﾄﾘｰ票!C$15:AM$115,3,0))","v":""},{"$f":"IF(B62=\"\",\"\",CONCATENATE(VLOOKUP(B62,ｴﾝﾄﾘｰ票!$E$16:$N$115,2,0),\"　\",VLOOKUP(B62,ｴﾝﾄﾘｰ票!$E$16:$N$115,3,0)))","v":""},null,null,null,null,{"$f":"IF(B62=\"\",\"\",VLOOKUP(B62,ｴﾝﾄﾘｰ票!$E$16:$N$115,8,0))","v":""},null,{"$f":"IF(B62=\"\",\"\",IF(VLOOKUP(B62,ｴﾝﾄﾘｰ票!$E$16:$AA$115,12,0)=\"\",\"\",VLOOKUP(B62,ｴﾝﾄﾘｰ票!$E$16:$AA$115,12,0)))","v":""},{"$f":"IF(B62=\"\",\"\",IF(VLOOKUP(B62,ｴﾝﾄﾘｰ票!$E$16:$AA$115,16,0)=\"\",\"\",VLOOKUP(B62,ｴﾝﾄﾘｰ票!$E$16:$AA$115,16,0)))","v":""},{"$f":"IF(B62=\"\",\"\",IF(VLOOKUP(B62,ｴﾝﾄﾘｰ票!$E$16:$AA$115,20,0)=\"\",\"\",VLOOKUP(B62,ｴﾝﾄﾘｰ票!$E$16:$AA$115,20,0)))","v":""},{"$f":"IF(B62=\"\",\"\",IF(ISERROR(VLOOKUP(B62,ｴﾝﾄﾘｰ票!$AT$16:$AV$115,1,0)),\"\",VLOOKUP(B62,ｴﾝﾄﾘｰ票!$AT$16:$AV$115,2,0)))","v":""},null,{"$f":"IF(B62=\"\",\"\",IF(ISERROR(VLOOKUP(B62,ｴﾝﾄﾘｰ票!$AZ$16:$BB$115,1,0)),\"\",VLOOKUP(B62,ｴﾝﾄﾘｰ票!$AZ$16:$BB$115,2,0)))","v":""}]
[40,{"$f":"IF(ISERROR(VLOOKUP(A63*10-9+2000,ｴﾝﾄﾘｰ票!C$15:AM$115,3,0)),\"\",VLOOKUP(A63*10-9+2000,ｴﾝﾄﾘｰ票!C$15:AM$115,3,0))","v":""},{"$f":"IF(B63=\"\",\"\",CONCATENATE(VLOOKUP(B63,ｴﾝﾄﾘｰ票!$E$16:$N$115,2,0),\"　\",VLOOKUP(B63,ｴﾝﾄﾘｰ票!$E$16:$N$115,3,0)))","v":""},null,null,null,null,{"$f":"IF(B63=\"\",\"\",VLOOKUP(B63,ｴﾝﾄﾘｰ票!$E$16:$N$115,8,0))","v":""},null,{"$f":"IF(B63=\"\",\"\",IF(VLOOKUP(B63,ｴﾝﾄﾘｰ票!$E$16:$AA$115,12,0)=\"\",\"\",VLOOKUP(B63,ｴﾝﾄﾘｰ票!$E$16:$AA$115,12,0)))","v":""},{"$f":"IF(B63=\"\",\"\",IF(VLOOKUP(B63,ｴﾝﾄﾘｰ票!$E$16:$AA$115,16,0)=\"\",\"\",VLOOKUP(B63,ｴﾝﾄﾘｰ票!$E$16:$AA$115,16,0)))","v":""},{"$f":"IF(B63=\"\",\"\",IF(VLOOKUP(B63,ｴﾝﾄﾘｰ票!$E$16:$AA$115,20,0)=\"\",\"\",VLOOKUP(B63,ｴﾝﾄﾘｰ票!$E$16:$AA$115,20,0)))","v":""},{"$f":"IF(B63=\"\",\"\",IF(ISERROR(VLOOKUP(B63,ｴﾝﾄﾘｰ票!$AT$16:$AV$115,1,0)),\"\",VLOOKUP(B63,ｴﾝﾄﾘｰ票!$AT$16:$AV$115,2,0)))","v":""},null,{"$f":"IF(B63=\"\",\"\",IF(ISERROR(VLOOKUP(B63,ｴﾝﾄﾘｰ票!$AZ$16:$BB$115,1,0)),\"\",VLOOKUP(B63,ｴﾝﾄﾘｰ票!$AZ$16:$BB$115,2,0)))","v":""}]
[41,{"$f":"IF(ISERROR(VLOOKUP(A64*10-9+2000,ｴﾝﾄﾘｰ票!C$15:AM$115,3,0)),\"\",VLOOKUP(A64*10-9+2000,ｴﾝﾄﾘｰ票!C$15:AM$115,3,0))","v":""},{"$f":"IF(B64=\"\",\"\",CONCATENATE(VLOOKUP(B64,ｴﾝﾄﾘｰ票!$E$16:$N$115,2,0),\"　\",VLOOKUP(B64,ｴﾝﾄﾘｰ票!$E$16:$N$115,3,0)))","v":""},null,null,null,null,{"$f":"IF(B64=\"\",\"\",VLOOKUP(B64,ｴﾝﾄﾘｰ票!$E$16:$N$115,8,0))","v":""},null,{"$f":"IF(B64=\"\",\"\",IF(VLOOKUP(B64,ｴﾝﾄﾘｰ票!$E$16:$AA$115,12,0)=\"\",\"\",VLOOKUP(B64,ｴﾝﾄﾘｰ票!$E$16:$AA$115,12,0)))","v":""},{"$f":"IF(B64=\"\",\"\",IF(VLOOKUP(B64,ｴﾝﾄﾘｰ票!$E$16:$AA$115,16,0)=\"\",\"\",VLOOKUP(B64,ｴﾝﾄﾘｰ票!$E$16:$AA$115,16,0)))","v":""},{"$f":"IF(B64=\"\",\"\",IF(VLOOKUP(B64,ｴﾝﾄﾘｰ票!$E$16:$AA$115,20,0)=\"\",\"\",VLOOKUP(B64,ｴﾝﾄﾘｰ票!$E$16:$AA$115,20,0)))","v":""},{"$f":"IF(B64=\"\",\"\",IF(ISERROR(VLOOKUP(B64,ｴﾝﾄﾘｰ票!$AT$16:$AV$115,1,0)),\"\",VLOOKUP(B64,ｴﾝﾄﾘｰ票!$AT$16:$AV$115,2,0)))","v":""},null,{"$f":"IF(B64=\"\",\"\",IF(ISERROR(VLOOKUP(B64,ｴﾝﾄﾘｰ票!$AZ$16:$BB$115,1,0)),\"\",VLOOKUP(B64,ｴﾝﾄﾘｰ票!$AZ$16:$BB$115,2,0)))","v":""}]
[42,{"$f":"IF(ISERROR(VLOOKUP(A65*10-9+2000,ｴﾝﾄﾘｰ票!C$15:AM$115,3,0)),\"\",VLOOKUP(A65*10-9+2000,ｴﾝﾄﾘｰ票!C$15:AM$115,3,0))","v":""},{"$f":"IF(B65=\"\",\"\",CONCATENATE(VLOOKUP(B65,ｴﾝﾄﾘｰ票!$E$16:$N$115,2,0),\"　\",VLOOKUP(B65,ｴﾝﾄﾘｰ票!$E$16:$N$115,3,0)))","v":""},null,null,null,null,{"$f":"IF(B65=\"\",\"\",VLOOKUP(B65,ｴﾝﾄﾘｰ票!$E$16:$N$115,8,0))","v":""},null,{"$f":"IF(B65=\"\",\"\",IF(VLOOKUP(B65,ｴﾝﾄﾘｰ票!$E$16:$AA$115,12,0)=\"\",\"\",VLOOKUP(B65,ｴﾝﾄﾘｰ票!$E$16:$AA$115,12,0)))","v":""},{"$f":"IF(B65=\"\",\"\",IF(VLOOKUP(B65,ｴﾝﾄﾘｰ票!$E$16:$AA$115,16,0)=\"\",\"\",VLOOKUP(B65,ｴﾝﾄﾘｰ票!$E$16:$AA$115,16,0)))","v":""},{"$f":"IF(B65=\"\",\"\",IF(VLOOKUP(B65,ｴﾝﾄﾘｰ票!$E$16:$AA$115,20,0)=\"\",\"\",VLOOKUP(B65,ｴﾝﾄﾘｰ票!$E$16:$AA$115,20,0)))","v":""},{"$f":"IF(B65=\"\",\"\",IF(ISERROR(VLOOKUP(B65,ｴﾝﾄﾘｰ票!$AT$16:$AV$115,1,0)),\"\",VLOOKUP(B65,ｴﾝﾄﾘｰ票!$AT$16:$AV$115,2,0)))","v":""},null,{"$f":"IF(B65=\"\",\"\",IF(ISERROR(VLOOKUP(B65,ｴﾝﾄﾘｰ票!$AZ$16:$BB$115,1,0)),\"\",VLOOKUP(B65,ｴﾝﾄﾘｰ票!$AZ$16:$BB$115,2,0)))","v":""}]
[43,{"$f":"IF(ISERROR(VLOOKUP(A66*10-9+2000,ｴﾝﾄﾘｰ票!C$15:AM$115,3,0)),\"\",VLOOKUP(A66*10-9+2000,ｴﾝﾄﾘｰ票!C$15:AM$115,3,0))","v":""},{"$f":"IF(B66=\"\",\"\",CONCATENATE(VLOOKUP(B66,ｴﾝﾄﾘｰ票!$E$16:$N$115,2,0),\"　\",VLOOKUP(B66,ｴﾝﾄﾘｰ票!$E$16:$N$115,3,0)))","v":""},null,null,null,null,{"$f":"IF(B66=\"\",\"\",VLOOKUP(B66,ｴﾝﾄﾘｰ票!$E$16:$N$115,8,0))","v":""},null,{"$f":"IF(B66=\"\",\"\",IF(VLOOKUP(B66,ｴﾝﾄﾘｰ票!$E$16:$AA$115,12,0)=\"\",\"\",VLOOKUP(B66,ｴﾝﾄﾘｰ票!$E$16:$AA$115,12,0)))","v":""},{"$f":"IF(B66=\"\",\"\",IF(VLOOKUP(B66,ｴﾝﾄﾘｰ票!$E$16:$AA$115,16,0)=\"\",\"\",VLOOKUP(B66,ｴﾝﾄﾘｰ票!$E$16:$AA$115,16,0)))","v":""},{"$f":"IF(B66=\"\",\"\",IF(VLOOKUP(B66,ｴﾝﾄﾘｰ票!$E$16:$AA$115,20,0)=\"\",\"\",VLOOKUP(B66,ｴﾝﾄﾘｰ票!$E$16:$AA$115,20,0)))","v":""},{"$f":"IF(B66=\"\",\"\",IF(ISERROR(VLOOKUP(B66,ｴﾝﾄﾘｰ票!$AT$16:$AV$115,1,0)),\"\",VLOOKUP(B66,ｴﾝﾄﾘｰ票!$AT$16:$AV$115,2,0)))","v":""},null,{"$f":"IF(B66=\"\",\"\",IF(ISERROR(VLOOKUP(B66,ｴﾝﾄﾘｰ票!$AZ$16:$BB$115,1,0)),\"\",VLOOKUP(B66,ｴﾝﾄﾘｰ票!$AZ$16:$BB$115,2,0)))","v":""}]
[44,{"$f":"IF(ISERROR(VLOOKUP(A67*10-9+2000,ｴﾝﾄﾘｰ票!C$15:AM$115,3,0)),\"\",VLOOKUP(A67*10-9+2000,ｴﾝﾄﾘｰ票!C$15:AM$115,3,0))","v":""},{"$f":"IF(B67=\"\",\"\",CONCATENATE(VLOOKUP(B67,ｴﾝﾄﾘｰ票!$E$16:$N$115,2,0),\"　\",VLOOKUP(B67,ｴﾝﾄﾘｰ票!$E$16:$N$115,3,0)))","v":""},null,null,null,null,{"$f":"IF(B67=\"\",\"\",VLOOKUP(B67,ｴﾝﾄﾘｰ票!$E$16:$N$115,8,0))","v":""},null,{"$f":"IF(B67=\"\",\"\",IF(VLOOKUP(B67,ｴﾝﾄﾘｰ票!$E$16:$AA$115,12,0)=\"\",\"\",VLOOKUP(B67,ｴﾝﾄﾘｰ票!$E$16:$AA$115,12,0)))","v":""},{"$f":"IF(B67=\"\",\"\",IF(VLOOKUP(B67,ｴﾝﾄﾘｰ票!$E$16:$AA$115,16,0)=\"\",\"\",VLOOKUP(B67,ｴﾝﾄﾘｰ票!$E$16:$AA$115,16,0)))","v":""},{"$f":"IF(B67=\"\",\"\",IF(VLOOKUP(B67,ｴﾝﾄﾘｰ票!$E$16:$AA$115,20,0)=\"\",\"\",VLOOKUP(B67,ｴﾝﾄﾘｰ票!$E$16:$AA$115,20,0)))","v":""},{"$f":"IF(B67=\"\",\"\",IF(ISERROR(VLOOKUP(B67,ｴﾝﾄﾘｰ票!$AT$16:$AV$115,1,0)),\"\",VLOOKUP(B67,ｴﾝﾄﾘｰ票!$AT$16:$AV$115,2,0)))","v":""},null,{"$f":"IF(B67=\"\",\"\",IF(ISERROR(VLOOKUP(B67,ｴﾝﾄﾘｰ票!$AZ$16:$BB$115,1,0)),\"\",VLOOKUP(B67,ｴﾝﾄﾘｰ票!$AZ$16:$BB$115,2,0)))","v":""}]
[45,{"$f":"IF(ISERROR(VLOOKUP(A68*10-9+2000,ｴﾝﾄﾘｰ票!C$15:AM$115,3,0)),\"\",VLOOKUP(A68*10-9+2000,ｴﾝﾄﾘｰ票!C$15:AM$115,3,0))","v":""},{"$f":"IF(B68=\"\",\"\",CONCATENATE(VLOOKUP(B68,ｴﾝﾄﾘｰ票!$E$16:$N$115,2,0),\"　\",VLOOKUP(B68,ｴﾝﾄﾘｰ票!$E$16:$N$115,3,0)))","v":""},null,null,null,null,{"$f":"IF(B68=\"\",\"\",VLOOKUP(B68,ｴﾝﾄﾘｰ票!$E$16:$N$115,8,0))","v":""},null,{"$f":"IF(B68=\"\",\"\",IF(VLOOKUP(B68,ｴﾝﾄﾘｰ票!$E$16:$AA$115,12,0)=\"\",\"\",VLOOKUP(B68,ｴﾝﾄﾘｰ票!$E$16:$AA$115,12,0)))","v":""},{"$f":"IF(B68=\"\",\"\",IF(VLOOKUP(B68,ｴﾝﾄﾘｰ票!$E$16:$AA$115,16,0)=\"\",\"\",VLOOKUP(B68,ｴﾝﾄﾘｰ票!$E$16:$AA$115,16,0)))","v":""},{"$f":"IF(B68=\"\",\"\",IF(VLOOKUP(B68,ｴﾝﾄﾘｰ票!$E$16:$AA$115,20,0)=\"\",\"\",VLOOKUP(B68,ｴﾝﾄﾘｰ票!$E$16:$AA$115,20,0)))","v":""},{"$f":"IF(B68=\"\",\"\",IF(ISERROR(VLOOKUP(B68,ｴﾝﾄﾘｰ票!$AT$16:$AV$115,1,0)),\"\",VLOOKUP(B68,ｴﾝﾄﾘｰ票!$AT$16:$AV$115,2,0)))","v":""},null,{"$f":"IF(B68=\"\",\"\",IF(ISERROR(VLOOKUP(B68,ｴﾝﾄﾘｰ票!$AZ$16:$BB$115,1,0)),\"\",VLOOKUP(B68,ｴﾝﾄﾘｰ票!$AZ$16:$BB$115,2,0)))","v":""}]
[46,{"$f":"IF(ISERROR(VLOOKUP(A69*10-9+2000,ｴﾝﾄﾘｰ票!C$15:AM$115,3,0)),\"\",VLOOKUP(A69*10-9+2000,ｴﾝﾄﾘｰ票!C$15:AM$115,3,0))","v":""},{"$f":"IF(B69=\"\",\"\",CONCATENATE(VLOOKUP(B69,ｴﾝﾄﾘｰ票!$E$16:$N$115,2,0),\"　\",VLOOKUP(B69,ｴﾝﾄﾘｰ票!$E$16:$N$115,3,0)))","v":""},null,null,null,null,{"$f":"IF(B69=\"\",\"\",VLOOKUP(B69,ｴﾝﾄﾘｰ票!$E$16:$N$115,8,0))","v":""},null,{"$f":"IF(B69=\"\",\"\",IF(VLOOKUP(B69,ｴﾝﾄﾘｰ票!$E$16:$AA$115,12,0)=\"\",\"\",VLOOKUP(B69,ｴﾝﾄﾘｰ票!$E$16:$AA$115,12,0)))","v":""},{"$f":"IF(B69=\"\",\"\",IF(VLOOKUP(B69,ｴﾝﾄﾘｰ票!$E$16:$AA$115,16,0)=\"\",\"\",VLOOKUP(B69,ｴﾝﾄﾘｰ票!$E$16:$AA$115,16,0)))","v":""},{"$f":"IF(B69=\"\",\"\",IF(VLOOKUP(B69,ｴﾝﾄﾘｰ票!$E$16:$AA$115,20,0)=\"\",\"\",VLOOKUP(B69,ｴﾝﾄﾘｰ票!$E$16:$AA$115,20,0)))","v":""},{"$f":"IF(B69=\"\",\"\",IF(ISERROR(VLOOKUP(B69,ｴﾝﾄﾘｰ票!$AT$16:$AV$115,1,0)),\"\",VLOOKUP(B69,ｴﾝﾄﾘｰ票!$AT$16:$AV$115,2,0)))","v":""},null,{"$f":"IF(B69=\"\",\"\",IF(ISERROR(VLOOKUP(B69,ｴﾝﾄﾘｰ票!$AZ$16:$BB$115,1,0)),\"\",VLOOKUP(B69,ｴﾝﾄﾘｰ票!$AZ$16:$BB$115,2,0)))","v":""}]
[47,{"$f":"IF(ISERROR(VLOOKUP(A70*10-9+2000,ｴﾝﾄﾘｰ票!C$15:AM$115,3,0)),\"\",VLOOKUP(A70*10-9+2000,ｴﾝﾄﾘｰ票!C$15:AM$115,3,0))","v":""},{"$f":"IF(B70=\"\",\"\",CONCATENATE(VLOOKUP(B70,ｴﾝﾄﾘｰ票!$E$16:$N$115,2,0),\"　\",VLOOKUP(B70,ｴﾝﾄﾘｰ票!$E$16:$N$115,3,0)))","v":""},null,null,null,null,{"$f":"IF(B70=\"\",\"\",VLOOKUP(B70,ｴﾝﾄﾘｰ票!$E$16:$N$115,8,0))","v":""},null,{"$f":"IF(B70=\"\",\"\",IF(VLOOKUP(B70,ｴﾝﾄﾘｰ票!$E$16:$AA$115,12,0)=\"\",\"\",VLOOKUP(B70,ｴﾝﾄﾘｰ票!$E$16:$AA$115,12,0)))","v":""},{"$f":"IF(B70=\"\",\"\",IF(VLOOKUP(B70,ｴﾝﾄﾘｰ票!$E$16:$AA$115,16,0)=\"\",\"\",VLOOKUP(B70,ｴﾝﾄﾘｰ票!$E$16:$AA$115,16,0)))","v":""},{"$f":"IF(B70=\"\",\"\",IF(VLOOKUP(B70,ｴﾝﾄﾘｰ票!$E$16:$AA$115,20,0)=\"\",\"\",VLOOKUP(B70,ｴﾝﾄﾘｰ票!$E$16:$AA$115,20,0)))","v":""},{"$f":"IF(B70=\"\",\"\",IF(ISERROR(VLOOKUP(B70,ｴﾝﾄﾘｰ票!$AT$16:$AV$115,1,0)),\"\",VLOOKUP(B70,ｴﾝﾄﾘｰ票!$AT$16:$AV$115,2,0)))","v":""},null,{"$f":"IF(B70=\"\",\"\",IF(ISERROR(VLOOKUP(B70,ｴﾝﾄﾘｰ票!$AZ$16:$BB$115,1,0)),\"\",VLOOKUP(B70,ｴﾝﾄﾘｰ票!$AZ$16:$BB$115,2,0)))","v":""}]
[48,{"$f":"IF(ISERROR(VLOOKUP(A71*10-9+2000,ｴﾝﾄﾘｰ票!C$15:AM$115,3,0)),\"\",VLOOKUP(A71*10-9+2000,ｴﾝﾄﾘｰ票!C$15:AM$115,3,0))","v":""},{"$f":"IF(B71=\"\",\"\",CONCATENATE(VLOOKUP(B71,ｴﾝﾄﾘｰ票!$E$16:$N$115,2,0),\"　\",VLOOKUP(B71,ｴﾝﾄﾘｰ票!$E$16:$N$115,3,0)))","v":""},null,null,null,null,{"$f":"IF(B71=\"\",\"\",VLOOKUP(B71,ｴﾝﾄﾘｰ票!$E$16:$N$115,8,0))","v":""},null,{"$f":"IF(B71=\"\",\"\",IF(VLOOKUP(B71,ｴﾝﾄﾘｰ票!$E$16:$AA$115,12,0)=\"\",\"\",VLOOKUP(B71,ｴﾝﾄﾘｰ票!$E$16:$AA$115,12,0)))","v":""},{"$f":"IF(B71=\"\",\"\",IF(VLOOKUP(B71,ｴﾝﾄﾘｰ票!$E$16:$AA$115,16,0)=\"\",\"\",VLOOKUP(B71,ｴﾝﾄﾘｰ票!$E$16:$AA$115,16,0)))","v":""},{"$f":"IF(B71=\"\",\"\",IF(VLOOKUP(B71,ｴﾝﾄﾘｰ票!$E$16:$AA$115,20,0)=\"\",\"\",VLOOKUP(B71,ｴﾝﾄﾘｰ票!$E$16:$AA$115,20,0)))","v":""},{"$f":"IF(B71=\"\",\"\",IF(ISERROR(VLOOKUP(B71,ｴﾝﾄﾘｰ票!$AT$16:$AV$115,1,0)),\"\",VLOOKUP(B71,ｴﾝﾄﾘｰ票!$AT$16:$AV$115,2,0)))","v":""},null,{"$f":"IF(B71=\"\",\"\",IF(ISERROR(VLOOKUP(B71,ｴﾝﾄﾘｰ票!$AZ$16:$BB$115,1,0)),\"\",VLOOKUP(B71,ｴﾝﾄﾘｰ票!$AZ$16:$BB$115,2,0)))","v":""}]
[49,{"$f":"IF(ISERROR(VLOOKUP(A72*10-9+2000,ｴﾝﾄﾘｰ票!C$15:AM$115,3,0)),\"\",VLOOKUP(A72*10-9+2000,ｴﾝﾄﾘｰ票!C$15:AM$115,3,0))","v":""},{"$f":"IF(B72=\"\",\"\",CONCATENATE(VLOOKUP(B72,ｴﾝﾄﾘｰ票!$E$16:$N$115,2,0),\"　\",VLOOKUP(B72,ｴﾝﾄﾘｰ票!$E$16:$N$115,3,0)))","v":""},null,null,null,null,{"$f":"IF(B72=\"\",\"\",VLOOKUP(B72,ｴﾝﾄﾘｰ票!$E$16:$N$115,8,0))","v":""},null,{"$f":"IF(B72=\"\",\"\",IF(VLOOKUP(B72,ｴﾝﾄﾘｰ票!$E$16:$AA$115,12,0)=\"\",\"\",VLOOKUP(B72,ｴﾝﾄﾘｰ票!$E$16:$AA$115,12,0)))","v":""},{"$f":"IF(B72=\"\",\"\",IF(VLOOKUP(B72,ｴﾝﾄﾘｰ票!$E$16:$AA$115,16,0)=\"\",\"\",VLOOKUP(B72,ｴﾝﾄﾘｰ票!$E$16:$AA$115,16,0)))","v":""},{"$f":"IF(B72=\"\",\"\",IF(VLOOKUP(B72,ｴﾝﾄﾘｰ票!$E$16:$AA$115,20,0)=\"\",\"\",VLOOKUP(B72,ｴﾝﾄﾘｰ票!$E$16:$AA$115,20,0)))","v":""},{"$f":"IF(B72=\"\",\"\",IF(ISERROR(VLOOKUP(B72,ｴﾝﾄﾘｰ票!$AT$16:$AV$115,1,0)),\"\",VLOOKUP(B72,ｴﾝﾄﾘｰ票!$AT$16:$AV$115,2,0)))","v":""},null,{"$f":"IF(B72=\"\",\"\",IF(ISERROR(VLOOKUP(B72,ｴﾝﾄﾘｰ票!$AZ$16:$BB$115,1,0)),\"\",VLOOKUP(B72,ｴﾝﾄﾘｰ票!$AZ$16:$BB$115,2,0)))","v":""}]
[50,{"$f":"IF(ISERROR(VLOOKUP(A73*10-9+2000,ｴﾝﾄﾘｰ票!C$15:AM$115,3,0)),\"\",VLOOKUP(A73*10-9+2000,ｴﾝﾄﾘｰ票!C$15:AM$115,3,0))","v":""},{"$f":"IF(B73=\"\",\"\",CONCATENATE(VLOOKUP(B73,ｴﾝﾄﾘｰ票!$E$16:$N$115,2,0),\"　\",VLOOKUP(B73,ｴﾝﾄﾘｰ票!$E$16:$N$115,3,0)))","v":""},null,null,null,null,{"$f":"IF(B73=\"\",\"\",VLOOKUP(B73,ｴﾝﾄﾘｰ票!$E$16:$N$115,8,0))","v":""},null,{"$f":"IF(B73=\"\",\"\",IF(VLOOKUP(B73,ｴﾝﾄﾘｰ票!$E$16:$AA$115,12,0)=\"\",\"\",VLOOKUP(B73,ｴﾝﾄﾘｰ票!$E$16:$AA$115,12,0)))","v":""},{"$f":"IF(B73=\"\",\"\",IF(VLOOKUP(B73,ｴﾝﾄﾘｰ票!$E$16:$AA$115,16,0)=\"\",\"\",VLOOKUP(B73,ｴﾝﾄﾘｰ票!$E$16:$AA$115,16,0)))","v":""},{"$f":"IF(B73=\"\",\"\",IF(VLOOKUP(B73,ｴﾝﾄﾘｰ票!$E$16:$AA$115,20,0)=\"\",\"\",VLOOKUP(B73,ｴﾝﾄﾘｰ票!$E$16:$AA$115,20,0)))","v":""},{"$f":"IF(B73=\"\",\"\",IF(ISERROR(VLOOKUP(B73,ｴﾝﾄﾘｰ票!$AT$16:$AV$115,1,0)),\"\",VLOOKUP(B73,ｴﾝﾄﾘｰ票!$AT$16:$AV$115,2,0)))","v":""},null,{"$f":"IF(B73=\"\",\"\",IF(ISERROR(VLOOKUP(B73,ｴﾝﾄﾘｰ票!$AZ$16:$BB$115,1,0)),\"\",VLOOKUP(B73,ｴﾝﾄﾘｰ票!$AZ$16:$BB$115,2,0)))","v":""}]
[51,{"$f":"IF(ISERROR(VLOOKUP(A74*10-9+2000,ｴﾝﾄﾘｰ票!C$15:AM$115,3,0)),\"\",VLOOKUP(A74*10-9+2000,ｴﾝﾄﾘｰ票!C$15:AM$115,3,0))","v":""},{"$f":"IF(B74=\"\",\"\",CONCATENATE(VLOOKUP(B74,ｴﾝﾄﾘｰ票!$E$16:$N$115,2,0),\"　\",VLOOKUP(B74,ｴﾝﾄﾘｰ票!$E$16:$N$115,3,0)))","v":""},null,null,null,null,{"$f":"IF(B74=\"\",\"\",VLOOKUP(B74,ｴﾝﾄﾘｰ票!$E$16:$N$115,8,0))","v":""},null,{"$f":"IF(B74=\"\",\"\",IF(VLOOKUP(B74,ｴﾝﾄﾘｰ票!$E$16:$AA$115,12,0)=\"\",\"\",VLOOKUP(B74,ｴﾝﾄﾘｰ票!$E$16:$AA$115,12,0)))","v":""},{"$f":"IF(B74=\"\",\"\",IF(VLOOKUP(B74,ｴﾝﾄﾘｰ票!$E$16:$AA$115,16,0)=\"\",\"\",VLOOKUP(B74,ｴﾝﾄﾘｰ票!$E$16:$AA$115,16,0)))","v":""},{"$f":"IF(B74=\"\",\"\",IF(VLOOKUP(B74,ｴﾝﾄﾘｰ票!$E$16:$AA$115,20,0)=\"\",\"\",VLOOKUP(B74,ｴﾝﾄﾘｰ票!$E$16:$AA$115,20,0)))","v":""},{"$f":"IF(B74=\"\",\"\",IF(ISERROR(VLOOKUP(B74,ｴﾝﾄﾘｰ票!$AT$16:$AV$115,1,0)),\"\",VLOOKUP(B74,ｴﾝﾄﾘｰ票!$AT$16:$AV$115,2,0)))","v":""},null,{"$f":"IF(B74=\"\",\"\",IF(ISERROR(VLOOKUP(B74,ｴﾝﾄﾘｰ票!$AZ$16:$BB$115,1,0)),\"\",VLOOKUP(B74,ｴﾝﾄﾘｰ票!$AZ$16:$BB$115,2,0)))","v":""}]
[52,{"$f":"IF(ISERROR(VLOOKUP(A75*10-9+2000,ｴﾝﾄﾘｰ票!C$15:AM$115,3,0)),\"\",VLOOKUP(A75*10-9+2000,ｴﾝﾄﾘｰ票!C$15:AM$115,3,0))","v":""},{"$f":"IF(B75=\"\",\"\",CONCATENATE(VLOOKUP(B75,ｴﾝﾄﾘｰ票!$E$16:$N$115,2,0),\"　\",VLOOKUP(B75,ｴﾝﾄﾘｰ票!$E$16:$N$115,3,0)))","v":""},null,null,null,null,{"$f":"IF(B75=\"\",\"\",VLOOKUP(B75,ｴﾝﾄﾘｰ票!$E$16:$N$115,8,0))","v":""},null,{"$f":"IF(B75=\"\",\"\",IF(VLOOKUP(B75,ｴﾝﾄﾘｰ票!$E$16:$AA$115,12,0)=\"\",\"\",VLOOKUP(B75,ｴﾝﾄﾘｰ票!$E$16:$AA$115,12,0)))","v":""},{"$f":"IF(B75=\"\",\"\",IF(VLOOKUP(B75,ｴﾝﾄﾘｰ票!$E$16:$AA$115,16,0)=\"\",\"\",VLOOKUP(B75,ｴﾝﾄﾘｰ票!$E$16:$AA$115,16,0)))","v":""},{"$f":"IF(B75=\"\",\"\",IF(VLOOKUP(B75,ｴﾝﾄﾘｰ票!$E$16:$AA$115,20,0)=\"\",\"\",VLOOKUP(B75,ｴﾝﾄﾘｰ票!$E$16:$AA$115,20,0)))","v":""},{"$f":"IF(B75=\"\",\"\",IF(ISERROR(VLOOKUP(B75,ｴﾝﾄﾘｰ票!$AT$16:$AV$115,1,0)),\"\",VLOOKUP(B75,ｴﾝﾄﾘｰ票!$AT$16:$AV$115,2,0)))","v":""},null,{"$f":"IF(B75=\"\",\"\",IF(ISERROR(VLOOKUP(B75,ｴﾝﾄﾘｰ票!$AZ$16:$BB$115,1,0)),\"\",VLOOKUP(B75,ｴﾝﾄﾘｰ票!$AZ$16:$BB$115,2,0)))","v":""}]
[53,{"$f":"IF(ISERROR(VLOOKUP(A76*10-9+2000,ｴﾝﾄﾘｰ票!C$15:AM$115,3,0)),\"\",VLOOKUP(A76*10-9+2000,ｴﾝﾄﾘｰ票!C$15:AM$115,3,0))","v":""},{"$f":"IF(B76=\"\",\"\",CONCATENATE(VLOOKUP(B76,ｴﾝﾄﾘｰ票!$E$16:$N$115,2,0),\"　\",VLOOKUP(B76,ｴﾝﾄﾘｰ票!$E$16:$N$115,3,0)))","v":""},null,null,null,null,{"$f":"IF(B76=\"\",\"\",VLOOKUP(B76,ｴﾝﾄﾘｰ票!$E$16:$N$115,8,0))","v":""},null,{"$f":"IF(B76=\"\",\"\",IF(VLOOKUP(B76,ｴﾝﾄﾘｰ票!$E$16:$AA$115,12,0)=\"\",\"\",VLOOKUP(B76,ｴﾝﾄﾘｰ票!$E$16:$AA$115,12,0)))","v":""},{"$f":"IF(B76=\"\",\"\",IF(VLOOKUP(B76,ｴﾝﾄﾘｰ票!$E$16:$AA$115,16,0)=\"\",\"\",VLOOKUP(B76,ｴﾝﾄﾘｰ票!$E$16:$AA$115,16,0)))","v":""},{"$f":"IF(B76=\"\",\"\",IF(VLOOKUP(B76,ｴﾝﾄﾘｰ票!$E$16:$AA$115,20,0)=\"\",\"\",VLOOKUP(B76,ｴﾝﾄﾘｰ票!$E$16:$AA$115,20,0)))","v":""},{"$f":"IF(B76=\"\",\"\",IF(ISERROR(VLOOKUP(B76,ｴﾝﾄﾘｰ票!$AT$16:$AV$115,1,0)),\"\",VLOOKUP(B76,ｴﾝﾄﾘｰ票!$AT$16:$AV$115,2,0)))","v":""},null,{"$f":"IF(B76=\"\",\"\",IF(ISERROR(VLOOKUP(B76,ｴﾝﾄﾘｰ票!$AZ$16:$BB$115,1,0)),\"\",VLOOKUP(B76,ｴﾝﾄﾘｰ票!$AZ$16:$BB$115,2,0)))","v":""}]
[54,{"$f":"IF(ISERROR(VLOOKUP(A77*10-9+2000,ｴﾝﾄﾘｰ票!C$15:AM$115,3,0)),\"\",VLOOKUP(A77*10-9+2000,ｴﾝﾄﾘｰ票!C$15:AM$115,3,0))","v":""},{"$f":"IF(B77=\"\",\"\",CONCATENATE(VLOOKUP(B77,ｴﾝﾄﾘｰ票!$E$16:$N$115,2,0),\"　\",VLOOKUP(B77,ｴﾝﾄﾘｰ票!$E$16:$N$115,3,0)))","v":""},null,null,null,null,{"$f":"IF(B77=\"\",\"\",VLOOKUP(B77,ｴﾝﾄﾘｰ票!$E$16:$N$115,8,0))","v":""},null,{"$f":"IF(B77=\"\",\"\",IF(VLOOKUP(B77,ｴﾝﾄﾘｰ票!$E$16:$AA$115,12,0)=\"\",\"\",VLOOKUP(B77,ｴﾝﾄﾘｰ票!$E$16:$AA$115,12,0)))","v":""},{"$f":"IF(B77=\"\",\"\",IF(VLOOKUP(B77,ｴﾝﾄﾘｰ票!$E$16:$AA$115,16,0)=\"\",\"\",VLOOKUP(B77,ｴﾝﾄﾘｰ票!$E$16:$AA$115,16,0)))","v":""},{"$f":"IF(B77=\"\",\"\",IF(VLOOKUP(B77,ｴﾝﾄﾘｰ票!$E$16:$AA$115,20,0)=\"\",\"\",VLOOKUP(B77,ｴﾝﾄﾘｰ票!$E$16:$AA$115,20,0)))","v":""},{"$f":"IF(B77=\"\",\"\",IF(ISERROR(VLOOKUP(B77,ｴﾝﾄﾘｰ票!$AT$16:$AV$115,1,0)),\"\",VLOOKUP(B77,ｴﾝﾄﾘｰ票!$AT$16:$AV$115,2,0)))","v":""},null,{"$f":"IF(B77=\"\",\"\",IF(ISERROR(VLOOKUP(B77,ｴﾝﾄﾘｰ票!$AZ$16:$BB$115,1,0)),\"\",VLOOKUP(B77,ｴﾝﾄﾘｰ票!$AZ$16:$BB$115,2,0)))","v":""}]
[55,{"$f":"IF(ISERROR(VLOOKUP(A78*10-9+2000,ｴﾝﾄﾘｰ票!C$15:AM$115,3,0)),\"\",VLOOKUP(A78*10-9+2000,ｴﾝﾄﾘｰ票!C$15:AM$115,3,0))","v":""},{"$f":"IF(B78=\"\",\"\",CONCATENATE(VLOOKUP(B78,ｴﾝﾄﾘｰ票!$E$16:$N$115,2,0),\"　\",VLOOKUP(B78,ｴﾝﾄﾘｰ票!$E$16:$N$115,3,0)))","v":""},null,null,null,null,{"$f":"IF(B78=\"\",\"\",VLOOKUP(B78,ｴﾝﾄﾘｰ票!$E$16:$N$115,8,0))","v":""},null,{"$f":"IF(B78=\"\",\"\",IF(VLOOKUP(B78,ｴﾝﾄﾘｰ票!$E$16:$AA$115,12,0)=\"\",\"\",VLOOKUP(B78,ｴﾝﾄﾘｰ票!$E$16:$AA$115,12,0)))","v":""},{"$f":"IF(B78=\"\",\"\",IF(VLOOKUP(B78,ｴﾝﾄﾘｰ票!$E$16:$AA$115,16,0)=\"\",\"\",VLOOKUP(B78,ｴﾝﾄﾘｰ票!$E$16:$AA$115,16,0)))","v":""},{"$f":"IF(B78=\"\",\"\",IF(VLOOKUP(B78,ｴﾝﾄﾘｰ票!$E$16:$AA$115,20,0)=\"\",\"\",VLOOKUP(B78,ｴﾝﾄﾘｰ票!$E$16:$AA$115,20,0)))","v":""},{"$f":"IF(B78=\"\",\"\",IF(ISERROR(VLOOKUP(B78,ｴﾝﾄﾘｰ票!$AT$16:$AV$115,1,0)),\"\",VLOOKUP(B78,ｴﾝﾄﾘｰ票!$AT$16:$AV$115,2,0)))","v":""},null,{"$f":"IF(B78=\"\",\"\",IF(ISERROR(VLOOKUP(B78,ｴﾝﾄﾘｰ票!$AZ$16:$BB$115,1,0)),\"\",VLOOKUP(B78,ｴﾝﾄﾘｰ票!$AZ$16:$BB$115,2,0)))","v":""}]
[56,{"$f":"IF(ISERROR(VLOOKUP(A79*10-9+2000,ｴﾝﾄﾘｰ票!C$15:AM$115,3,0)),\"\",VLOOKUP(A79*10-9+2000,ｴﾝﾄﾘｰ票!C$15:AM$115,3,0))","v":""},{"$f":"IF(B79=\"\",\"\",CONCATENATE(VLOOKUP(B79,ｴﾝﾄﾘｰ票!$E$16:$N$115,2,0),\"　\",VLOOKUP(B79,ｴﾝﾄﾘｰ票!$E$16:$N$115,3,0)))","v":""},null,null,null,null,{"$f":"IF(B79=\"\",\"\",VLOOKUP(B79,ｴﾝﾄﾘｰ票!$E$16:$N$115,8,0))","v":""},null,{"$f":"IF(B79=\"\",\"\",IF(VLOOKUP(B79,ｴﾝﾄﾘｰ票!$E$16:$AA$115,12,0)=\"\",\"\",VLOOKUP(B79,ｴﾝﾄﾘｰ票!$E$16:$AA$115,12,0)))","v":""},{"$f":"IF(B79=\"\",\"\",IF(VLOOKUP(B79,ｴﾝﾄﾘｰ票!$E$16:$AA$115,16,0)=\"\",\"\",VLOOKUP(B79,ｴﾝﾄﾘｰ票!$E$16:$AA$115,16,0)))","v":""},{"$f":"IF(B79=\"\",\"\",IF(VLOOKUP(B79,ｴﾝﾄﾘｰ票!$E$16:$AA$115,20,0)=\"\",\"\",VLOOKUP(B79,ｴﾝﾄﾘｰ票!$E$16:$AA$115,20,0)))","v":""},{"$f":"IF(B79=\"\",\"\",IF(ISERROR(VLOOKUP(B79,ｴﾝﾄﾘｰ票!$AT$16:$AV$115,1,0)),\"\",VLOOKUP(B79,ｴﾝﾄﾘｰ票!$AT$16:$AV$115,2,0)))","v":""},null,{"$f":"IF(B79=\"\",\"\",IF(ISERROR(VLOOKUP(B79,ｴﾝﾄﾘｰ票!$AZ$16:$BB$115,1,0)),\"\",VLOOKUP(B79,ｴﾝﾄﾘｰ票!$AZ$16:$BB$115,2,0)))","v":""}]
[57,{"$f":"IF(ISERROR(VLOOKUP(A80*10-9+2000,ｴﾝﾄﾘｰ票!C$15:AM$115,3,0)),\"\",VLOOKUP(A80*10-9+2000,ｴﾝﾄﾘｰ票!C$15:AM$115,3,0))","v":""},{"$f":"IF(B80=\"\",\"\",CONCATENATE(VLOOKUP(B80,ｴﾝﾄﾘｰ票!$E$16:$N$115,2,0),\"　\",VLOOKUP(B80,ｴﾝﾄﾘｰ票!$E$16:$N$115,3,0)))","v":""},null,null,null,null,{"$f":"IF(B80=\"\",\"\",VLOOKUP(B80,ｴﾝﾄﾘｰ票!$E$16:$N$115,8,0))","v":""},null,{"$f":"IF(B80=\"\",\"\",IF(VLOOKUP(B80,ｴﾝﾄﾘｰ票!$E$16:$AA$115,12,0)=\"\",\"\",VLOOKUP(B80,ｴﾝﾄﾘｰ票!$E$16:$AA$115,12,0)))","v":""},{"$f":"IF(B80=\"\",\"\",IF(VLOOKUP(B80,ｴﾝﾄﾘｰ票!$E$16:$AA$115,16,0)=\"\",\"\",VLOOKUP(B80,ｴﾝﾄﾘｰ票!$E$16:$AA$115,16,0)))","v":""},{"$f":"IF(B80=\"\",\"\",IF(VLOOKUP(B80,ｴﾝﾄﾘｰ票!$E$16:$AA$115,20,0)=\"\",\"\",VLOOKUP(B80,ｴﾝﾄﾘｰ票!$E$16:$AA$115,20,0)))","v":""},{"$f":"IF(B80=\"\",\"\",IF(ISERROR(VLOOKUP(B80,ｴﾝﾄﾘｰ票!$AT$16:$AV$115,1,0)),\"\",VLOOKUP(B80,ｴﾝﾄﾘｰ票!$AT$16:$AV$115,2,0)))","v":""},null,{"$f":"IF(B80=\"\",\"\",IF(ISERROR(VLOOKUP(B80,ｴﾝﾄﾘｰ票!$AZ$16:$BB$115,1,0)),\"\",VLOOKUP(B80,ｴﾝﾄﾘｰ票!$AZ$16:$BB$115,2,0)))","v":""}]
[58,{"$f":"IF(ISERROR(VLOOKUP(A81*10-9+2000,ｴﾝﾄﾘｰ票!C$15:AM$115,3,0)),\"\",VLOOKUP(A81*10-9+2000,ｴﾝﾄﾘｰ票!C$15:AM$115,3,0))","v":""},{"$f":"IF(B81=\"\",\"\",CONCATENATE(VLOOKUP(B81,ｴﾝﾄﾘｰ票!$E$16:$N$115,2,0),\"　\",VLOOKUP(B81,ｴﾝﾄﾘｰ票!$E$16:$N$115,3,0)))","v":""},null,null,null,null,{"$f":"IF(B81=\"\",\"\",VLOOKUP(B81,ｴﾝﾄﾘｰ票!$E$16:$N$115,8,0))","v":""},null,{"$f":"IF(B81=\"\",\"\",IF(VLOOKUP(B81,ｴﾝﾄﾘｰ票!$E$16:$AA$115,12,0)=\"\",\"\",VLOOKUP(B81,ｴﾝﾄﾘｰ票!$E$16:$AA$115,12,0)))","v":""},{"$f":"IF(B81=\"\",\"\",IF(VLOOKUP(B81,ｴﾝﾄﾘｰ票!$E$16:$AA$115,16,0)=\"\",\"\",VLOOKUP(B81,ｴﾝﾄﾘｰ票!$E$16:$AA$115,16,0)))","v":""},{"$f":"IF(B81=\"\",\"\",IF(VLOOKUP(B81,ｴﾝﾄﾘｰ票!$E$16:$AA$115,20,0)=\"\",\"\",VLOOKUP(B81,ｴﾝﾄﾘｰ票!$E$16:$AA$115,20,0)))","v":""},{"$f":"IF(B81=\"\",\"\",IF(ISERROR(VLOOKUP(B81,ｴﾝﾄﾘｰ票!$AT$16:$AV$115,1,0)),\"\",VLOOKUP(B81,ｴﾝﾄﾘｰ票!$AT$16:$AV$115,2,0)))","v":""},null,{"$f":"IF(B81=\"\",\"\",IF(ISERROR(VLOOKUP(B81,ｴﾝﾄﾘｰ票!$AZ$16:$BB$115,1,0)),\"\",VLOOKUP(B81,ｴﾝﾄﾘｰ票!$AZ$16:$BB$115,2,0)))","v":""}]
[59,{"$f":"IF(ISERROR(VLOOKUP(A82*10-9+2000,ｴﾝﾄﾘｰ票!C$15:AM$115,3,0)),\"\",VLOOKUP(A82*10-9+2000,ｴﾝﾄﾘｰ票!C$15:AM$115,3,0))","v":""},{"$f":"IF(B82=\"\",\"\",CONCATENATE(VLOOKUP(B82,ｴﾝﾄﾘｰ票!$E$16:$N$115,2,0),\"　\",VLOOKUP(B82,ｴﾝﾄﾘｰ票!$E$16:$N$115,3,0)))","v":""},null,null,null,null,{"$f":"IF(B82=\"\",\"\",VLOOKUP(B82,ｴﾝﾄﾘｰ票!$E$16:$N$115,8,0))","v":""},null,{"$f":"IF(B82=\"\",\"\",IF(VLOOKUP(B82,ｴﾝﾄﾘｰ票!$E$16:$AA$115,12,0)=\"\",\"\",VLOOKUP(B82,ｴﾝﾄﾘｰ票!$E$16:$AA$115,12,0)))","v":""},{"$f":"IF(B82=\"\",\"\",IF(VLOOKUP(B82,ｴﾝﾄﾘｰ票!$E$16:$AA$115,16,0)=\"\",\"\",VLOOKUP(B82,ｴﾝﾄﾘｰ票!$E$16:$AA$115,16,0)))","v":""},{"$f":"IF(B82=\"\",\"\",IF(VLOOKUP(B82,ｴﾝﾄﾘｰ票!$E$16:$AA$115,20,0)=\"\",\"\",VLOOKUP(B82,ｴﾝﾄﾘｰ票!$E$16:$AA$115,20,0)))","v":""},{"$f":"IF(B82=\"\",\"\",IF(ISERROR(VLOOKUP(B82,ｴﾝﾄﾘｰ票!$AT$16:$AV$115,1,0)),\"\",VLOOKUP(B82,ｴﾝﾄﾘｰ票!$AT$16:$AV$115,2,0)))","v":""},null,{"$f":"IF(B82=\"\",\"\",IF(ISERROR(VLOOKUP(B82,ｴﾝﾄﾘｰ票!$AZ$16:$BB$115,1,0)),\"\",VLOOKUP(B82,ｴﾝﾄﾘｰ票!$AZ$16:$BB$115,2,0)))","v":""}]
[60,{"$f":"IF(ISERROR(VLOOKUP(A83*10-9+2000,ｴﾝﾄﾘｰ票!C$15:AM$115,3,0)),\"\",VLOOKUP(A83*10-9+2000,ｴﾝﾄﾘｰ票!C$15:AM$115,3,0))","v":""},{"$f":"IF(B83=\"\",\"\",CONCATENATE(VLOOKUP(B83,ｴﾝﾄﾘｰ票!$E$16:$N$115,2,0),\"　\",VLOOKUP(B83,ｴﾝﾄﾘｰ票!$E$16:$N$115,3,0)))","v":""},null,null,null,null,{"$f":"IF(B83=\"\",\"\",VLOOKUP(B83,ｴﾝﾄﾘｰ票!$E$16:$N$115,8,0))","v":""},null,{"$f":"IF(B83=\"\",\"\",IF(VLOOKUP(B83,ｴﾝﾄﾘｰ票!$E$16:$AA$115,12,0)=\"\",\"\",VLOOKUP(B83,ｴﾝﾄﾘｰ票!$E$16:$AA$115,12,0)))","v":""},{"$f":"IF(B83=\"\",\"\",IF(VLOOKUP(B83,ｴﾝﾄﾘｰ票!$E$16:$AA$115,16,0)=\"\",\"\",VLOOKUP(B83,ｴﾝﾄﾘｰ票!$E$16:$AA$115,16,0)))","v":""},{"$f":"IF(B83=\"\",\"\",IF(VLOOKUP(B83,ｴﾝﾄﾘｰ票!$E$16:$AA$115,20,0)=\"\",\"\",VLOOKUP(B83,ｴﾝﾄﾘｰ票!$E$16:$AA$115,20,0)))","v":""},{"$f":"IF(B83=\"\",\"\",IF(ISERROR(VLOOKUP(B83,ｴﾝﾄﾘｰ票!$AT$16:$AV$115,1,0)),\"\",VLOOKUP(B83,ｴﾝﾄﾘｰ票!$AT$16:$AV$115,2,0)))","v":""},null,{"$f":"IF(B83=\"\",\"\",IF(ISERROR(VLOOKUP(B83,ｴﾝﾄﾘｰ票!$AZ$16:$BB$115,1,0)),\"\",VLOOKUP(B83,ｴﾝﾄﾘｰ票!$AZ$16:$BB$115,2,0)))","v":""}]
[61,{"$f":"IF(ISERROR(VLOOKUP(A84*10-9+2000,ｴﾝﾄﾘｰ票!C$15:AM$115,3,0)),\"\",VLOOKUP(A84*10-9+2000,ｴﾝﾄﾘｰ票!C$15:AM$115,3,0))","v":""},{"$f":"IF(B84=\"\",\"\",CONCATENATE(VLOOKUP(B84,ｴﾝﾄﾘｰ票!$E$16:$N$115,2,0),\"　\",VLOOKUP(B84,ｴﾝﾄﾘｰ票!$E$16:$N$115,3,0)))","v":""},null,null,null,null,{"$f":"IF(B84=\"\",\"\",VLOOKUP(B84,ｴﾝﾄﾘｰ票!$E$16:$N$115,8,0))","v":""},null,{"$f":"IF(B84=\"\",\"\",IF(VLOOKUP(B84,ｴﾝﾄﾘｰ票!$E$16:$AA$115,12,0)=\"\",\"\",VLOOKUP(B84,ｴﾝﾄﾘｰ票!$E$16:$AA$115,12,0)))","v":""},{"$f":"IF(B84=\"\",\"\",IF(VLOOKUP(B84,ｴﾝﾄﾘｰ票!$E$16:$AA$115,16,0)=\"\",\"\",VLOOKUP(B84,ｴﾝﾄﾘｰ票!$E$16:$AA$115,16,0)))","v":""},{"$f":"IF(B84=\"\",\"\",IF(VLOOKUP(B84,ｴﾝﾄﾘｰ票!$E$16:$AA$115,20,0)=\"\",\"\",VLOOKUP(B84,ｴﾝﾄﾘｰ票!$E$16:$AA$115,20,0)))","v":""},{"$f":"IF(B84=\"\",\"\",IF(ISERROR(VLOOKUP(B84,ｴﾝﾄﾘｰ票!$AT$16:$AV$115,1,0)),\"\",VLOOKUP(B84,ｴﾝﾄﾘｰ票!$AT$16:$AV$115,2,0)))","v":""},null,{"$f":"IF(B84=\"\",\"\",IF(ISERROR(VLOOKUP(B84,ｴﾝﾄﾘｰ票!$AZ$16:$BB$115,1,0)),\"\",VLOOKUP(B84,ｴﾝﾄﾘｰ票!$AZ$16:$BB$115,2,0)))","v":""}]
[62,{"$f":"IF(ISERROR(VLOOKUP(A85*10-9+2000,ｴﾝﾄﾘｰ票!C$15:AM$115,3,0)),\"\",VLOOKUP(A85*10-9+2000,ｴﾝﾄﾘｰ票!C$15:AM$115,3,0))","v":""},{"$f":"IF(B85=\"\",\"\",CONCATENATE(VLOOKUP(B85,ｴﾝﾄﾘｰ票!$E$16:$N$115,2,0),\"　\",VLOOKUP(B85,ｴﾝﾄﾘｰ票!$E$16:$N$115,3,0)))","v":""},null,null,null,null,{"$f":"IF(B85=\"\",\"\",VLOOKUP(B85,ｴﾝﾄﾘｰ票!$E$16:$N$115,8,0))","v":""},null,{"$f":"IF(B85=\"\",\"\",IF(VLOOKUP(B85,ｴﾝﾄﾘｰ票!$E$16:$AA$115,12,0)=\"\",\"\",VLOOKUP(B85,ｴﾝﾄﾘｰ票!$E$16:$AA$115,12,0)))","v":""},{"$f":"IF(B85=\"\",\"\",IF(VLOOKUP(B85,ｴﾝﾄﾘｰ票!$E$16:$AA$115,16,0)=\"\",\"\",VLOOKUP(B85,ｴﾝﾄﾘｰ票!$E$16:$AA$115,16,0)))","v":""},{"$f":"IF(B85=\"\",\"\",IF(VLOOKUP(B85,ｴﾝﾄﾘｰ票!$E$16:$AA$115,20,0)=\"\",\"\",VLOOKUP(B85,ｴﾝﾄﾘｰ票!$E$16:$AA$115,20,0)))","v":""},{"$f":"IF(B85=\"\",\"\",IF(ISERROR(VLOOKUP(B85,ｴﾝﾄﾘｰ票!$AT$16:$AV$115,1,0)),\"\",VLOOKUP(B85,ｴﾝﾄﾘｰ票!$AT$16:$AV$115,2,0)))","v":""},null,{"$f":"IF(B85=\"\",\"\",IF(ISERROR(VLOOKUP(B85,ｴﾝﾄﾘｰ票!$AZ$16:$BB$115,1,0)),\"\",VLOOKUP(B85,ｴﾝﾄﾘｰ票!$AZ$16:$BB$115,2,0)))","v":""}]
[63,{"$f":"IF(ISERROR(VLOOKUP(A86*10-9+2000,ｴﾝﾄﾘｰ票!C$15:AM$115,3,0)),\"\",VLOOKUP(A86*10-9+2000,ｴﾝﾄﾘｰ票!C$15:AM$115,3,0))","v":""},{"$f":"IF(B86=\"\",\"\",CONCATENATE(VLOOKUP(B86,ｴﾝﾄﾘｰ票!$E$16:$N$115,2,0),\"　\",VLOOKUP(B86,ｴﾝﾄﾘｰ票!$E$16:$N$115,3,0)))","v":""},null,null,null,null,{"$f":"IF(B86=\"\",\"\",VLOOKUP(B86,ｴﾝﾄﾘｰ票!$E$16:$N$115,8,0))","v":""},null,{"$f":"IF(B86=\"\",\"\",IF(VLOOKUP(B86,ｴﾝﾄﾘｰ票!$E$16:$AA$115,12,0)=\"\",\"\",VLOOKUP(B86,ｴﾝﾄﾘｰ票!$E$16:$AA$115,12,0)))","v":""},{"$f":"IF(B86=\"\",\"\",IF(VLOOKUP(B86,ｴﾝﾄﾘｰ票!$E$16:$AA$115,16,0)=\"\",\"\",VLOOKUP(B86,ｴﾝﾄﾘｰ票!$E$16:$AA$115,16,0)))","v":""},{"$f":"IF(B86=\"\",\"\",IF(VLOOKUP(B86,ｴﾝﾄﾘｰ票!$E$16:$AA$115,20,0)=\"\",\"\",VLOOKUP(B86,ｴﾝﾄﾘｰ票!$E$16:$AA$115,20,0)))","v":""},{"$f":"IF(B86=\"\",\"\",IF(ISERROR(VLOOKUP(B86,ｴﾝﾄﾘｰ票!$AT$16:$AV$115,1,0)),\"\",VLOOKUP(B86,ｴﾝﾄﾘｰ票!$AT$16:$AV$115,2,0)))","v":""},null,{"$f":"IF(B86=\"\",\"\",IF(ISERROR(VLOOKUP(B86,ｴﾝﾄﾘｰ票!$AZ$16:$BB$115,1,0)),\"\",VLOOKUP(B86,ｴﾝﾄﾘｰ票!$AZ$16:$BB$115,2,0)))","v":""}]
[64,{"$f":"IF(ISERROR(VLOOKUP(A87*10-9+2000,ｴﾝﾄﾘｰ票!C$15:AM$115,3,0)),\"\",VLOOKUP(A87*10-9+2000,ｴﾝﾄﾘｰ票!C$15:AM$115,3,0))","v":""},{"$f":"IF(B87=\"\",\"\",CONCATENATE(VLOOKUP(B87,ｴﾝﾄﾘｰ票!$E$16:$N$115,2,0),\"　\",VLOOKUP(B87,ｴﾝﾄﾘｰ票!$E$16:$N$115,3,0)))","v":""},null,null,null,null,{"$f":"IF(B87=\"\",\"\",VLOOKUP(B87,ｴﾝﾄﾘｰ票!$E$16:$N$115,8,0))","v":""},null,{"$f":"IF(B87=\"\",\"\",IF(VLOOKUP(B87,ｴﾝﾄﾘｰ票!$E$16:$AA$115,12,0)=\"\",\"\",VLOOKUP(B87,ｴﾝﾄﾘｰ票!$E$16:$AA$115,12,0)))","v":""},{"$f":"IF(B87=\"\",\"\",IF(VLOOKUP(B87,ｴﾝﾄﾘｰ票!$E$16:$AA$115,16,0)=\"\",\"\",VLOOKUP(B87,ｴﾝﾄﾘｰ票!$E$16:$AA$115,16,0)))","v":""},{"$f":"IF(B87=\"\",\"\",IF(VLOOKUP(B87,ｴﾝﾄﾘｰ票!$E$16:$AA$115,20,0)=\"\",\"\",VLOOKUP(B87,ｴﾝﾄﾘｰ票!$E$16:$AA$115,20,0)))","v":""},{"$f":"IF(B87=\"\",\"\",IF(ISERROR(VLOOKUP(B87,ｴﾝﾄﾘｰ票!$AT$16:$AV$115,1,0)),\"\",VLOOKUP(B87,ｴﾝﾄﾘｰ票!$AT$16:$AV$115,2,0)))","v":""},null,{"$f":"IF(B87=\"\",\"\",IF(ISERROR(VLOOKUP(B87,ｴﾝﾄﾘｰ票!$AZ$16:$BB$115,1,0)),\"\",VLOOKUP(B87,ｴﾝﾄﾘｰ票!$AZ$16:$BB$115,2,0)))","v":""}]
[65,{"$f":"IF(ISERROR(VLOOKUP(A88*10-9+2000,ｴﾝﾄﾘｰ票!C$15:AM$115,3,0)),\"\",VLOOKUP(A88*10-9+2000,ｴﾝﾄﾘｰ票!C$15:AM$115,3,0))","v":""},{"$f":"IF(B88=\"\",\"\",CONCATENATE(VLOOKUP(B88,ｴﾝﾄﾘｰ票!$E$16:$N$115,2,0),\"　\",VLOOKUP(B88,ｴﾝﾄﾘｰ票!$E$16:$N$115,3,0)))","v":""},null,null,null,null,{"$f":"IF(B88=\"\",\"\",VLOOKUP(B88,ｴﾝﾄﾘｰ票!$E$16:$N$115,8,0))","v":""},null,{"$f":"IF(B88=\"\",\"\",IF(VLOOKUP(B88,ｴﾝﾄﾘｰ票!$E$16:$AA$115,12,0)=\"\",\"\",VLOOKUP(B88,ｴﾝﾄﾘｰ票!$E$16:$AA$115,12,0)))","v":""},{"$f":"IF(B88=\"\",\"\",IF(VLOOKUP(B88,ｴﾝﾄﾘｰ票!$E$16:$AA$115,16,0)=\"\",\"\",VLOOKUP(B88,ｴﾝﾄﾘｰ票!$E$16:$AA$115,16,0)))","v":""},{"$f":"IF(B88=\"\",\"\",IF(VLOOKUP(B88,ｴﾝﾄﾘｰ票!$E$16:$AA$115,20,0)=\"\",\"\",VLOOKUP(B88,ｴﾝﾄﾘｰ票!$E$16:$AA$115,20,0)))","v":""},{"$f":"IF(B88=\"\",\"\",IF(ISERROR(VLOOKUP(B88,ｴﾝﾄﾘｰ票!$AT$16:$AV$115,1,0)),\"\",VLOOKUP(B88,ｴﾝﾄﾘｰ票!$AT$16:$AV$115,2,0)))","v":""},null,{"$f":"IF(B88=\"\",\"\",IF(ISERROR(VLOOKUP(B88,ｴﾝﾄﾘｰ票!$AZ$16:$BB$115,1,0)),\"\",VLOOKUP(B88,ｴﾝﾄﾘｰ票!$AZ$16:$BB$115,2,0)))","v":""}]
[null,{"$f":"ｴﾝﾄﾘｰ票!$G$1","v":"東京高体連陸上第4支部春季競技会"},null,null,null,null,null,null,null,null,null,null,null,null,"申込用紙(A票）"]
[{"$f":"A2","v":"令和5年度"},null,null,null,null,null,null,null,null,null,null,null,"男子",null,"Ｎｏ．3"]
["学校名",null,{"$f":"ｴﾝﾄﾘｰ票!$G$2","v":0}]
["学校所在地",null,{"$f":"ｴﾝﾄﾘｰ票!$G$5","v":0}]
["学校長",null,{"$f":"ｴﾝﾄﾘｰ票!$G$4","v":0},null,null,null,null,null,null,"印","顧問氏名",{"$f":"ｴﾝﾄﾘｰ票!$G$8","v":0},null,null,"印"]
["電話",null,{"$f":"ｴﾝﾄﾘｰ票!$G$6","v":"00:00:00"},null,null,null,"ＦＡＸ",{"$f":"ｴﾝﾄﾘｰ票!$G$7","v":0},null,null,"連絡先",{"$f":"ｴﾝﾄﾘｰ票!$G$9","v":0}]
[]
[null,null,null,null,null,null,null,null,null,null,null,"種目"]
[null,"番号","出場者氏名",null,null,null,null,"学年",null,"個人","個人","個人","4×100",null,"4×400"]
[66,{"$f":"IF(ISERROR(VLOOKUP(A98*10-9+2000,ｴﾝﾄﾘｰ票!C$15:AM$115,3,0)),\"\",VLOOKUP(A98*10-9+2000,ｴﾝﾄﾘｰ票!C$15:AM$115,3,0))","v":""},{"$f":"IF(B98=\"\",\"\",CONCATENATE(VLOOKUP(B98,ｴﾝﾄﾘｰ票!$E$16:$N$115,2,0),\"　\",VLOOKUP(B98,ｴﾝﾄﾘｰ票!$E$16:$N$115,3,0)))","v":""},null,null,null,null,{"$f":"IF(B98=\"\",\"\",VLOOKUP(B98,ｴﾝﾄﾘｰ票!$E$16:$N$115,8,0))","v":""},null,{"$f":"IF(B98=\"\",\"\",IF(VLOOKUP(B98,ｴﾝﾄﾘｰ票!$E$16:$AA$115,12,0)=\"\",\"\",VLOOKUP(B98,ｴﾝﾄﾘｰ票!$E$16:$AA$115,12,0)))","v":""},{"$f":"IF(B98=\"\",\"\",IF(VLOOKUP(B98,ｴﾝﾄﾘｰ票!$E$16:$AA$115,16,0)=\"\",\"\",VLOOKUP(B98,ｴﾝﾄﾘｰ票!$E$16:$AA$115,16,0)))","v":""},{"$f":"IF(B98=\"\",\"\",IF(VLOOKUP(B98,ｴﾝﾄﾘｰ票!$E$16:$AA$115,20,0)=\"\",\"\",VLOOKUP(B98,ｴﾝﾄﾘｰ票!$E$16:$AA$115,20,0)))","v":""},{"$f":"IF(B98=\"\",\"\",IF(ISERROR(VLOOKUP(B98,ｴﾝﾄﾘｰ票!$AT$16:$AV$115,1,0)),\"\",VLOOKUP(B98,ｴﾝﾄﾘｰ票!$AT$16:$AV$115,2,0)))","v":""},null,{"$f":"IF(B98=\"\",\"\",IF(ISERROR(VLOOKUP(B98,ｴﾝﾄﾘｰ票!$AZ$16:$BB$115,1,0)),\"\",VLOOKUP(B98,ｴﾝﾄﾘｰ票!$AZ$16:$BB$115,2,0)))","v":""}]
[67,{"$f":"IF(ISERROR(VLOOKUP(A99*10-9+2000,ｴﾝﾄﾘｰ票!C$15:AM$115,3,0)),\"\",VLOOKUP(A99*10-9+2000,ｴﾝﾄﾘｰ票!C$15:AM$115,3,0))","v":""},{"$f":"IF(B99=\"\",\"\",CONCATENATE(VLOOKUP(B99,ｴﾝﾄﾘｰ票!$E$16:$N$115,2,0),\"　\",VLOOKUP(B99,ｴﾝﾄﾘｰ票!$E$16:$N$115,3,0)))","v":""},null,null,null,null,{"$f":"IF(B99=\"\",\"\",VLOOKUP(B99,ｴﾝﾄﾘｰ票!$E$16:$N$115,8,0))","v":""},null,{"$f":"IF(B99=\"\",\"\",IF(VLOOKUP(B99,ｴﾝﾄﾘｰ票!$E$16:$AA$115,12,0)=\"\",\"\",VLOOKUP(B99,ｴﾝﾄﾘｰ票!$E$16:$AA$115,12,0)))","v":""},{"$f":"IF(B99=\"\",\"\",IF(VLOOKUP(B99,ｴﾝﾄﾘｰ票!$E$16:$AA$115,16,0)=\"\",\"\",VLOOKUP(B99,ｴﾝﾄﾘｰ票!$E$16:$AA$115,16,0)))","v":""},{"$f":"IF(B99=\"\",\"\",IF(VLOOKUP(B99,ｴﾝﾄﾘｰ票!$E$16:$AA$115,20,0)=\"\",\"\",VLOOKUP(B99,ｴﾝﾄﾘｰ票!$E$16:$AA$115,20,0)))","v":""},{"$f":"IF(B99=\"\",\"\",IF(ISERROR(VLOOKUP(B99,ｴﾝﾄﾘｰ票!$AT$16:$AV$115,1,0)),\"\",VLOOKUP(B99,ｴﾝﾄﾘｰ票!$AT$16:$AV$115,2,0)))","v":""},null,{"$f":"IF(B99=\"\",\"\",IF(ISERROR(VLOOKUP(B99,ｴﾝﾄﾘｰ票!$AZ$16:$BB$115,1,0)),\"\",VLOOKUP(B99,ｴﾝﾄﾘｰ票!$AZ$16:$BB$115,2,0)))","v":""}]
[68,{"$f":"IF(ISERROR(VLOOKUP(A100*10-9+2000,ｴﾝﾄﾘｰ票!C$15:AM$115,3,0)),\"\",VLOOKUP(A100*10-9+2000,ｴﾝﾄﾘｰ票!C$15:AM$115,3,0))","v":""},{"$f":"IF(B100=\"\",\"\",CONCATENATE(VLOOKUP(B100,ｴﾝﾄﾘｰ票!$E$16:$N$115,2,0),\"　\",VLOOKUP(B100,ｴﾝﾄﾘｰ票!$E$16:$N$115,3,0)))","v":""},null,null,null,null,{"$f":"IF(B100=\"\",\"\",VLOOKUP(B100,ｴﾝﾄﾘｰ票!$E$16:$N$115,8,0))","v":""},null,{"$f":"IF(B100=\"\",\"\",IF(VLOOKUP(B100,ｴﾝﾄﾘｰ票!$E$16:$AA$115,12,0)=\"\",\"\",VLOOKUP(B100,ｴﾝﾄﾘｰ票!$E$16:$AA$115,12,0)))","v":""},{"$f":"IF(B100=\"\",\"\",IF(VLOOKUP(B100,ｴﾝﾄﾘｰ票!$E$16:$AA$115,16,0)=\"\",\"\",VLOOKUP(B100,ｴﾝﾄﾘｰ票!$E$16:$AA$115,16,0)))","v":""},{"$f":"IF(B100=\"\",\"\",IF(VLOOKUP(B100,ｴﾝﾄﾘｰ票!$E$16:$AA$115,20,0)=\"\",\"\",VLOOKUP(B100,ｴﾝﾄﾘｰ票!$E$16:$AA$115,20,0)))","v":""},{"$f":"IF(B100=\"\",\"\",IF(ISERROR(VLOOKUP(B100,ｴﾝﾄﾘｰ票!$AT$16:$AV$115,1,0)),\"\",VLOOKUP(B100,ｴﾝﾄﾘｰ票!$AT$16:$AV$115,2,0)))","v":""},null,{"$f":"IF(B100=\"\",\"\",IF(ISERROR(VLOOKUP(B100,ｴﾝﾄﾘｰ票!$AZ$16:$BB$115,1,0)),\"\",VLOOKUP(B100,ｴﾝﾄﾘｰ票!$AZ$16:$BB$115,2,0)))","v":""}]
[69,{"$f":"IF(ISERROR(VLOOKUP(A101*10-9+2000,ｴﾝﾄﾘｰ票!C$15:AM$115,3,0)),\"\",VLOOKUP(A101*10-9+2000,ｴﾝﾄﾘｰ票!C$15:AM$115,3,0))","v":""},{"$f":"IF(B101=\"\",\"\",CONCATENATE(VLOOKUP(B101,ｴﾝﾄﾘｰ票!$E$16:$N$115,2,0),\"　\",VLOOKUP(B101,ｴﾝﾄﾘｰ票!$E$16:$N$115,3,0)))","v":""},null,null,null,null,{"$f":"IF(B101=\"\",\"\",VLOOKUP(B101,ｴﾝﾄﾘｰ票!$E$16:$N$115,8,0))","v":""},null,{"$f":"IF(B101=\"\",\"\",IF(VLOOKUP(B101,ｴﾝﾄﾘｰ票!$E$16:$AA$115,12,0)=\"\",\"\",VLOOKUP(B101,ｴﾝﾄﾘｰ票!$E$16:$AA$115,12,0)))","v":""},{"$f":"IF(B101=\"\",\"\",IF(VLOOKUP(B101,ｴﾝﾄﾘｰ票!$E$16:$AA$115,16,0)=\"\",\"\",VLOOKUP(B101,ｴﾝﾄﾘｰ票!$E$16:$AA$115,16,0)))","v":""},{"$f":"IF(B101=\"\",\"\",IF(VLOOKUP(B101,ｴﾝﾄﾘｰ票!$E$16:$AA$115,20,0)=\"\",\"\",VLOOKUP(B101,ｴﾝﾄﾘｰ票!$E$16:$AA$115,20,0)))","v":""},{"$f":"IF(B101=\"\",\"\",IF(ISERROR(VLOOKUP(B101,ｴﾝﾄﾘｰ票!$AT$16:$AV$115,1,0)),\"\",VLOOKUP(B101,ｴﾝﾄﾘｰ票!$AT$16:$AV$115,2,0)))","v":""},null,{"$f":"IF(B101=\"\",\"\",IF(ISERROR(VLOOKUP(B101,ｴﾝﾄﾘｰ票!$AZ$16:$BB$115,1,0)),\"\",VLOOKUP(B101,ｴﾝﾄﾘｰ票!$AZ$16:$BB$115,2,0)))","v":""}]
[70,{"$f":"IF(ISERROR(VLOOKUP(A102*10-9+2000,ｴﾝﾄﾘｰ票!C$15:AM$115,3,0)),\"\",VLOOKUP(A102*10-9+2000,ｴﾝﾄﾘｰ票!C$15:AM$115,3,0))","v":""},{"$f":"IF(B102=\"\",\"\",CONCATENATE(VLOOKUP(B102,ｴﾝﾄﾘｰ票!$E$16:$N$115,2,0),\"　\",VLOOKUP(B102,ｴﾝﾄﾘｰ票!$E$16:$N$115,3,0)))","v":""},null,null,null,null,{"$f":"IF(B102=\"\",\"\",VLOOKUP(B102,ｴﾝﾄﾘｰ票!$E$16:$N$115,8,0))","v":""},null,{"$f":"IF(B102=\"\",\"\",IF(VLOOKUP(B102,ｴﾝﾄﾘｰ票!$E$16:$AA$115,12,0)=\"\",\"\",VLOOKUP(B102,ｴﾝﾄﾘｰ票!$E$16:$AA$115,12,0)))","v":""},{"$f":"IF(B102=\"\",\"\",IF(VLOOKUP(B102,ｴﾝﾄﾘｰ票!$E$16:$AA$115,16,0)=\"\",\"\",VLOOKUP(B102,ｴﾝﾄﾘｰ票!$E$16:$AA$115,16,0)))","v":""},{"$f":"IF(B102=\"\",\"\",IF(VLOOKUP(B102,ｴﾝﾄﾘｰ票!$E$16:$AA$115,20,0)=\"\",\"\",VLOOKUP(B102,ｴﾝﾄﾘｰ票!$E$16:$AA$115,20,0)))","v":""},{"$f":"IF(B102=\"\",\"\",IF(ISERROR(VLOOKUP(B102,ｴﾝﾄﾘｰ票!$AT$16:$AV$115,1,0)),\"\",VLOOKUP(B102,ｴﾝﾄﾘｰ票!$AT$16:$AV$115,2,0)))","v":""},null,{"$f":"IF(B102=\"\",\"\",IF(ISERROR(VLOOKUP(B102,ｴﾝﾄﾘｰ票!$AZ$16:$BB$115,1,0)),\"\",VLOOKUP(B102,ｴﾝﾄﾘｰ票!$AZ$16:$BB$115,2,0)))","v":""}]
[71,{"$f":"IF(ISERROR(VLOOKUP(A103*10-9+2000,ｴﾝﾄﾘｰ票!C$15:AM$115,3,0)),\"\",VLOOKUP(A103*10-9+2000,ｴﾝﾄﾘｰ票!C$15:AM$115,3,0))","v":""},{"$f":"IF(B103=\"\",\"\",CONCATENATE(VLOOKUP(B103,ｴﾝﾄﾘｰ票!$E$16:$N$115,2,0),\"　\",VLOOKUP(B103,ｴﾝﾄﾘｰ票!$E$16:$N$115,3,0)))","v":""},null,null,null,null,{"$f":"IF(B103=\"\",\"\",VLOOKUP(B103,ｴﾝﾄﾘｰ票!$E$16:$N$115,8,0))","v":""},null,{"$f":"IF(B103=\"\",\"\",IF(VLOOKUP(B103,ｴﾝﾄﾘｰ票!$E$16:$AA$115,12,0)=\"\",\"\",VLOOKUP(B103,ｴﾝﾄﾘｰ票!$E$16:$AA$115,12,0)))","v":""},{"$f":"IF(B103=\"\",\"\",IF(VLOOKUP(B103,ｴﾝﾄﾘｰ票!$E$16:$AA$115,16,0)=\"\",\"\",VLOOKUP(B103,ｴﾝﾄﾘｰ票!$E$16:$AA$115,16,0)))","v":""},{"$f":"IF(B103=\"\",\"\",IF(VLOOKUP(B103,ｴﾝﾄﾘｰ票!$E$16:$AA$115,20,0)=\"\",\"\",VLOOKUP(B103,ｴﾝﾄﾘｰ票!$E$16:$AA$115,20,0)))","v":""},{"$f":"IF(B103=\"\",\"\",IF(ISERROR(VLOOKUP(B103,ｴﾝﾄﾘｰ票!$AT$16:$AV$115,1,0)),\"\",VLOOKUP(B103,ｴﾝﾄﾘｰ票!$AT$16:$AV$115,2,0)))","v":""},null,{"$f":"IF(B103=\"\",\"\",IF(ISERROR(VLOOKUP(B103,ｴﾝﾄﾘｰ票!$AZ$16:$BB$115,1,0)),\"\",VLOOKUP(B103,ｴﾝﾄﾘｰ票!$AZ$16:$BB$115,2,0)))","v":""}]
[72,{"$f":"IF(ISERROR(VLOOKUP(A104*10-9+2000,ｴﾝﾄﾘｰ票!C$15:AM$115,3,0)),\"\",VLOOKUP(A104*10-9+2000,ｴﾝﾄﾘｰ票!C$15:AM$115,3,0))","v":""},{"$f":"IF(B104=\"\",\"\",CONCATENATE(VLOOKUP(B104,ｴﾝﾄﾘｰ票!$E$16:$N$115,2,0),\"　\",VLOOKUP(B104,ｴﾝﾄﾘｰ票!$E$16:$N$115,3,0)))","v":""},null,null,null,null,{"$f":"IF(B104=\"\",\"\",VLOOKUP(B104,ｴﾝﾄﾘｰ票!$E$16:$N$115,8,0))","v":""},null,{"$f":"IF(B104=\"\",\"\",IF(VLOOKUP(B104,ｴﾝﾄﾘｰ票!$E$16:$AA$115,12,0)=\"\",\"\",VLOOKUP(B104,ｴﾝﾄﾘｰ票!$E$16:$AA$115,12,0)))","v":""},{"$f":"IF(B104=\"\",\"\",IF(VLOOKUP(B104,ｴﾝﾄﾘｰ票!$E$16:$AA$115,16,0)=\"\",\"\",VLOOKUP(B104,ｴﾝﾄﾘｰ票!$E$16:$AA$115,16,0)))","v":""},{"$f":"IF(B104=\"\",\"\",IF(VLOOKUP(B104,ｴﾝﾄﾘｰ票!$E$16:$AA$115,20,0)=\"\",\"\",VLOOKUP(B104,ｴﾝﾄﾘｰ票!$E$16:$AA$115,20,0)))","v":""},{"$f":"IF(B104=\"\",\"\",IF(ISERROR(VLOOKUP(B104,ｴﾝﾄﾘｰ票!$AT$16:$AV$115,1,0)),\"\",VLOOKUP(B104,ｴﾝﾄﾘｰ票!$AT$16:$AV$115,2,0)))","v":""},null,{"$f":"IF(B104=\"\",\"\",IF(ISERROR(VLOOKUP(B104,ｴﾝﾄﾘｰ票!$AZ$16:$BB$115,1,0)),\"\",VLOOKUP(B104,ｴﾝﾄﾘｰ票!$AZ$16:$BB$115,2,0)))","v":""}]
[73,{"$f":"IF(ISERROR(VLOOKUP(A105*10-9+2000,ｴﾝﾄﾘｰ票!C$15:AM$115,3,0)),\"\",VLOOKUP(A105*10-9+2000,ｴﾝﾄﾘｰ票!C$15:AM$115,3,0))","v":""},{"$f":"IF(B105=\"\",\"\",CONCATENATE(VLOOKUP(B105,ｴﾝﾄﾘｰ票!$E$16:$N$115,2,0),\"　\",VLOOKUP(B105,ｴﾝﾄﾘｰ票!$E$16:$N$115,3,0)))","v":""},null,null,null,null,{"$f":"IF(B105=\"\",\"\",VLOOKUP(B105,ｴﾝﾄﾘｰ票!$E$16:$N$115,8,0))","v":""},null,{"$f":"IF(B105=\"\",\"\",IF(VLOOKUP(B105,ｴﾝﾄﾘｰ票!$E$16:$AA$115,12,0)=\"\",\"\",VLOOKUP(B105,ｴﾝﾄﾘｰ票!$E$16:$AA$115,12,0)))","v":""},{"$f":"IF(B105=\"\",\"\",IF(VLOOKUP(B105,ｴﾝﾄﾘｰ票!$E$16:$AA$115,16,0)=\"\",\"\",VLOOKUP(B105,ｴﾝﾄﾘｰ票!$E$16:$AA$115,16,0)))","v":""},{"$f":"IF(B105=\"\",\"\",IF(VLOOKUP(B105,ｴﾝﾄﾘｰ票!$E$16:$AA$115,20,0)=\"\",\"\",VLOOKUP(B105,ｴﾝﾄﾘｰ票!$E$16:$AA$115,20,0)))","v":""},{"$f":"IF(B105=\"\",\"\",IF(ISERROR(VLOOKUP(B105,ｴﾝﾄﾘｰ票!$AT$16:$AV$115,1,0)),\"\",VLOOKUP(B105,ｴﾝﾄﾘｰ票!$AT$16:$AV$115,2,0)))","v":""},null,{"$f":"IF(B105=\"\",\"\",IF(ISERROR(VLOOKUP(B105,ｴﾝﾄﾘｰ票!$AZ$16:$BB$115,1,0)),\"\",VLOOKUP(B105,ｴﾝﾄﾘｰ票!$AZ$16:$BB$115,2,0)))","v":""}]
[74,{"$f":"IF(ISERROR(VLOOKUP(A106*10-9+2000,ｴﾝﾄﾘｰ票!C$15:AM$115,3,0)),\"\",VLOOKUP(A106*10-9+2000,ｴﾝﾄﾘｰ票!C$15:AM$115,3,0))","v":""},{"$f":"IF(B106=\"\",\"\",CONCATENATE(VLOOKUP(B106,ｴﾝﾄﾘｰ票!$E$16:$N$115,2,0),\"　\",VLOOKUP(B106,ｴﾝﾄﾘｰ票!$E$16:$N$115,3,0)))","v":""},null,null,null,null,{"$f":"IF(B106=\"\",\"\",VLOOKUP(B106,ｴﾝﾄﾘｰ票!$E$16:$N$115,8,0))","v":""},null,{"$f":"IF(B106=\"\",\"\",IF(VLOOKUP(B106,ｴﾝﾄﾘｰ票!$E$16:$AA$115,12,0)=\"\",\"\",VLOOKUP(B106,ｴﾝﾄﾘｰ票!$E$16:$AA$115,12,0)))","v":""},{"$f":"IF(B106=\"\",\"\",IF(VLOOKUP(B106,ｴﾝﾄﾘｰ票!$E$16:$AA$115,16,0)=\"\",\"\",VLOOKUP(B106,ｴﾝﾄﾘｰ票!$E$16:$AA$115,16,0)))","v":""},{"$f":"IF(B106=\"\",\"\",IF(VLOOKUP(B106,ｴﾝﾄﾘｰ票!$E$16:$AA$115,20,0)=\"\",\"\",VLOOKUP(B106,ｴﾝﾄﾘｰ票!$E$16:$AA$115,20,0)))","v":""},{"$f":"IF(B106=\"\",\"\",IF(ISERROR(VLOOKUP(B106,ｴﾝﾄﾘｰ票!$AT$16:$AV$115,1,0)),\"\",VLOOKUP(B106,ｴﾝﾄﾘｰ票!$AT$16:$AV$115,2,0)))","v":""},null,{"$f":"IF(B106=\"\",\"\",IF(ISERROR(VLOOKUP(B106,ｴﾝﾄﾘｰ票!$AZ$16:$BB$115,1,0)),\"\",VLOOKUP(B106,ｴﾝﾄﾘｰ票!$AZ$16:$BB$115,2,0)))","v":""}]
[75,{"$f":"IF(ISERROR(VLOOKUP(A107*10-9+2000,ｴﾝﾄﾘｰ票!C$15:AM$115,3,0)),\"\",VLOOKUP(A107*10-9+2000,ｴﾝﾄﾘｰ票!C$15:AM$115,3,0))","v":""},{"$f":"IF(B107=\"\",\"\",CONCATENATE(VLOOKUP(B107,ｴﾝﾄﾘｰ票!$E$16:$N$115,2,0),\"　\",VLOOKUP(B107,ｴﾝﾄﾘｰ票!$E$16:$N$115,3,0)))","v":""},null,null,null,null,{"$f":"IF(B107=\"\",\"\",VLOOKUP(B107,ｴﾝﾄﾘｰ票!$E$16:$N$115,8,0))","v":""},null,{"$f":"IF(B107=\"\",\"\",IF(VLOOKUP(B107,ｴﾝﾄﾘｰ票!$E$16:$AA$115,12,0)=\"\",\"\",VLOOKUP(B107,ｴﾝﾄﾘｰ票!$E$16:$AA$115,12,0)))","v":""},{"$f":"IF(B107=\"\",\"\",IF(VLOOKUP(B107,ｴﾝﾄﾘｰ票!$E$16:$AA$115,16,0)=\"\",\"\",VLOOKUP(B107,ｴﾝﾄﾘｰ票!$E$16:$AA$115,16,0)))","v":""},{"$f":"IF(B107=\"\",\"\",IF(VLOOKUP(B107,ｴﾝﾄﾘｰ票!$E$16:$AA$115,20,0)=\"\",\"\",VLOOKUP(B107,ｴﾝﾄﾘｰ票!$E$16:$AA$115,20,0)))","v":""},{"$f":"IF(B107=\"\",\"\",IF(ISERROR(VLOOKUP(B107,ｴﾝﾄﾘｰ票!$AT$16:$AV$115,1,0)),\"\",VLOOKUP(B107,ｴﾝﾄﾘｰ票!$AT$16:$AV$115,2,0)))","v":""},null,{"$f":"IF(B107=\"\",\"\",IF(ISERROR(VLOOKUP(B107,ｴﾝﾄﾘｰ票!$AZ$16:$BB$115,1,0)),\"\",VLOOKUP(B107,ｴﾝﾄﾘｰ票!$AZ$16:$BB$115,2,0)))","v":""}]
[76,{"$f":"IF(ISERROR(VLOOKUP(A108*10-9+2000,ｴﾝﾄﾘｰ票!C$15:AM$115,3,0)),\"\",VLOOKUP(A108*10-9+2000,ｴﾝﾄﾘｰ票!C$15:AM$115,3,0))","v":""},{"$f":"IF(B108=\"\",\"\",CONCATENATE(VLOOKUP(B108,ｴﾝﾄﾘｰ票!$E$16:$N$115,2,0),\"　\",VLOOKUP(B108,ｴﾝﾄﾘｰ票!$E$16:$N$115,3,0)))","v":""},null,null,null,null,{"$f":"IF(B108=\"\",\"\",VLOOKUP(B108,ｴﾝﾄﾘｰ票!$E$16:$N$115,8,0))","v":""},null,{"$f":"IF(B108=\"\",\"\",IF(VLOOKUP(B108,ｴﾝﾄﾘｰ票!$E$16:$AA$115,12,0)=\"\",\"\",VLOOKUP(B108,ｴﾝﾄﾘｰ票!$E$16:$AA$115,12,0)))","v":""},{"$f":"IF(B108=\"\",\"\",IF(VLOOKUP(B108,ｴﾝﾄﾘｰ票!$E$16:$AA$115,16,0)=\"\",\"\",VLOOKUP(B108,ｴﾝﾄﾘｰ票!$E$16:$AA$115,16,0)))","v":""},{"$f":"IF(B108=\"\",\"\",IF(VLOOKUP(B108,ｴﾝﾄﾘｰ票!$E$16:$AA$115,20,0)=\"\",\"\",VLOOKUP(B108,ｴﾝﾄﾘｰ票!$E$16:$AA$115,20,0)))","v":""},{"$f":"IF(B108=\"\",\"\",IF(ISERROR(VLOOKUP(B108,ｴﾝﾄﾘｰ票!$AT$16:$AV$115,1,0)),\"\",VLOOKUP(B108,ｴﾝﾄﾘｰ票!$AT$16:$AV$115,2,0)))","v":""},null,{"$f":"IF(B108=\"\",\"\",IF(ISERROR(VLOOKUP(B108,ｴﾝﾄﾘｰ票!$AZ$16:$BB$115,1,0)),\"\",VLOOKUP(B108,ｴﾝﾄﾘｰ票!$AZ$16:$BB$115,2,0)))","v":""}]
[77,{"$f":"IF(ISERROR(VLOOKUP(A109*10-9+2000,ｴﾝﾄﾘｰ票!C$15:AM$115,3,0)),\"\",VLOOKUP(A109*10-9+2000,ｴﾝﾄﾘｰ票!C$15:AM$115,3,0))","v":""},{"$f":"IF(B109=\"\",\"\",CONCATENATE(VLOOKUP(B109,ｴﾝﾄﾘｰ票!$E$16:$N$115,2,0),\"　\",VLOOKUP(B109,ｴﾝﾄﾘｰ票!$E$16:$N$115,3,0)))","v":""},null,null,null,null,{"$f":"IF(B109=\"\",\"\",VLOOKUP(B109,ｴﾝﾄﾘｰ票!$E$16:$N$115,8,0))","v":""},null,{"$f":"IF(B109=\"\",\"\",IF(VLOOKUP(B109,ｴﾝﾄﾘｰ票!$E$16:$AA$115,12,0)=\"\",\"\",VLOOKUP(B109,ｴﾝﾄﾘｰ票!$E$16:$AA$115,12,0)))","v":""},{"$f":"IF(B109=\"\",\"\",IF(VLOOKUP(B109,ｴﾝﾄﾘｰ票!$E$16:$AA$115,16,0)=\"\",\"\",VLOOKUP(B109,ｴﾝﾄﾘｰ票!$E$16:$AA$115,16,0)))","v":""},{"$f":"IF(B109=\"\",\"\",IF(VLOOKUP(B109,ｴﾝﾄﾘｰ票!$E$16:$AA$115,20,0)=\"\",\"\",VLOOKUP(B109,ｴﾝﾄﾘｰ票!$E$16:$AA$115,20,0)))","v":""},{"$f":"IF(B109=\"\",\"\",IF(ISERROR(VLOOKUP(B109,ｴﾝﾄﾘｰ票!$AT$16:$AV$115,1,0)),\"\",VLOOKUP(B109,ｴﾝﾄﾘｰ票!$AT$16:$AV$115,2,0)))","v":""},null,{"$f":"IF(B109=\"\",\"\",IF(ISERROR(VLOOKUP(B109,ｴﾝﾄﾘｰ票!$AZ$16:$BB$115,1,0)),\"\",VLOOKUP(B109,ｴﾝﾄﾘｰ票!$AZ$16:$BB$115,2,0)))","v":""}]
[78,{"$f":"IF(ISERROR(VLOOKUP(A110*10-9+2000,ｴﾝﾄﾘｰ票!C$15:AM$115,3,0)),\"\",VLOOKUP(A110*10-9+2000,ｴﾝﾄﾘｰ票!C$15:AM$115,3,0))","v":""},{"$f":"IF(B110=\"\",\"\",CONCATENATE(VLOOKUP(B110,ｴﾝﾄﾘｰ票!$E$16:$N$115,2,0),\"　\",VLOOKUP(B110,ｴﾝﾄﾘｰ票!$E$16:$N$115,3,0)))","v":""},null,null,null,null,{"$f":"IF(B110=\"\",\"\",VLOOKUP(B110,ｴﾝﾄﾘｰ票!$E$16:$N$115,8,0))","v":""},null,{"$f":"IF(B110=\"\",\"\",IF(VLOOKUP(B110,ｴﾝﾄﾘｰ票!$E$16:$AA$115,12,0)=\"\",\"\",VLOOKUP(B110,ｴﾝﾄﾘｰ票!$E$16:$AA$115,12,0)))","v":""},{"$f":"IF(B110=\"\",\"\",IF(VLOOKUP(B110,ｴﾝﾄﾘｰ票!$E$16:$AA$115,16,0)=\"\",\"\",VLOOKUP(B110,ｴﾝﾄﾘｰ票!$E$16:$AA$115,16,0)))","v":""},{"$f":"IF(B110=\"\",\"\",IF(VLOOKUP(B110,ｴﾝﾄﾘｰ票!$E$16:$AA$115,20,0)=\"\",\"\",VLOOKUP(B110,ｴﾝﾄﾘｰ票!$E$16:$AA$115,20,0)))","v":""},{"$f":"IF(B110=\"\",\"\",IF(ISERROR(VLOOKUP(B110,ｴﾝﾄﾘｰ票!$AT$16:$AV$115,1,0)),\"\",VLOOKUP(B110,ｴﾝﾄﾘｰ票!$AT$16:$AV$115,2,0)))","v":""},null,{"$f":"IF(B110=\"\",\"\",IF(ISERROR(VLOOKUP(B110,ｴﾝﾄﾘｰ票!$AZ$16:$BB$115,1,0)),\"\",VLOOKUP(B110,ｴﾝﾄﾘｰ票!$AZ$16:$BB$115,2,0)))","v":""}]
[79,{"$f":"IF(ISERROR(VLOOKUP(A111*10-9+2000,ｴﾝﾄﾘｰ票!C$15:AM$115,3,0)),\"\",VLOOKUP(A111*10-9+2000,ｴﾝﾄﾘｰ票!C$15:AM$115,3,0))","v":""},{"$f":"IF(B111=\"\",\"\",CONCATENATE(VLOOKUP(B111,ｴﾝﾄﾘｰ票!$E$16:$N$115,2,0),\"　\",VLOOKUP(B111,ｴﾝﾄﾘｰ票!$E$16:$N$115,3,0)))","v":""},null,null,null,null,{"$f":"IF(B111=\"\",\"\",VLOOKUP(B111,ｴﾝﾄﾘｰ票!$E$16:$N$115,8,0))","v":""},null,{"$f":"IF(B111=\"\",\"\",IF(VLOOKUP(B111,ｴﾝﾄﾘｰ票!$E$16:$AA$115,12,0)=\"\",\"\",VLOOKUP(B111,ｴﾝﾄﾘｰ票!$E$16:$AA$115,12,0)))","v":""},{"$f":"IF(B111=\"\",\"\",IF(VLOOKUP(B111,ｴﾝﾄﾘｰ票!$E$16:$AA$115,16,0)=\"\",\"\",VLOOKUP(B111,ｴﾝﾄﾘｰ票!$E$16:$AA$115,16,0)))","v":""},{"$f":"IF(B111=\"\",\"\",IF(VLOOKUP(B111,ｴﾝﾄﾘｰ票!$E$16:$AA$115,20,0)=\"\",\"\",VLOOKUP(B111,ｴﾝﾄﾘｰ票!$E$16:$AA$115,20,0)))","v":""},{"$f":"IF(B111=\"\",\"\",IF(ISERROR(VLOOKUP(B111,ｴﾝﾄﾘｰ票!$AT$16:$AV$115,1,0)),\"\",VLOOKUP(B111,ｴﾝﾄﾘｰ票!$AT$16:$AV$115,2,0)))","v":""},null,{"$f":"IF(B111=\"\",\"\",IF(ISERROR(VLOOKUP(B111,ｴﾝﾄﾘｰ票!$AZ$16:$BB$115,1,0)),\"\",VLOOKUP(B111,ｴﾝﾄﾘｰ票!$AZ$16:$BB$115,2,0)))","v":""}]
[80,{"$f":"IF(ISERROR(VLOOKUP(A112*10-9+2000,ｴﾝﾄﾘｰ票!C$15:AM$115,3,0)),\"\",VLOOKUP(A112*10-9+2000,ｴﾝﾄﾘｰ票!C$15:AM$115,3,0))","v":""},{"$f":"IF(B112=\"\",\"\",CONCATENATE(VLOOKUP(B112,ｴﾝﾄﾘｰ票!$E$16:$N$115,2,0),\"　\",VLOOKUP(B112,ｴﾝﾄﾘｰ票!$E$16:$N$115,3,0)))","v":""},null,null,null,null,{"$f":"IF(B112=\"\",\"\",VLOOKUP(B112,ｴﾝﾄﾘｰ票!$E$16:$N$115,8,0))","v":""},null,{"$f":"IF(B112=\"\",\"\",IF(VLOOKUP(B112,ｴﾝﾄﾘｰ票!$E$16:$AA$115,12,0)=\"\",\"\",VLOOKUP(B112,ｴﾝﾄﾘｰ票!$E$16:$AA$115,12,0)))","v":""},{"$f":"IF(B112=\"\",\"\",IF(VLOOKUP(B112,ｴﾝﾄﾘｰ票!$E$16:$AA$115,16,0)=\"\",\"\",VLOOKUP(B112,ｴﾝﾄﾘｰ票!$E$16:$AA$115,16,0)))","v":""},{"$f":"IF(B112=\"\",\"\",IF(VLOOKUP(B112,ｴﾝﾄﾘｰ票!$E$16:$AA$115,20,0)=\"\",\"\",VLOOKUP(B112,ｴﾝﾄﾘｰ票!$E$16:$AA$115,20,0)))","v":""},{"$f":"IF(B112=\"\",\"\",IF(ISERROR(VLOOKUP(B112,ｴﾝﾄﾘｰ票!$AT$16:$AV$115,1,0)),\"\",VLOOKUP(B112,ｴﾝﾄﾘｰ票!$AT$16:$AV$115,2,0)))","v":""},null,{"$f":"IF(B112=\"\",\"\",IF(ISERROR(VLOOKUP(B112,ｴﾝﾄﾘｰ票!$AZ$16:$BB$115,1,0)),\"\",VLOOKUP(B112,ｴﾝﾄﾘｰ票!$AZ$16:$BB$115,2,0)))","v":""}]
[81,{"$f":"IF(ISERROR(VLOOKUP(A113*10-9+2000,ｴﾝﾄﾘｰ票!C$15:AM$115,3,0)),\"\",VLOOKUP(A113*10-9+2000,ｴﾝﾄﾘｰ票!C$15:AM$115,3,0))","v":""},{"$f":"IF(B113=\"\",\"\",CONCATENATE(VLOOKUP(B113,ｴﾝﾄﾘｰ票!$E$16:$N$115,2,0),\"　\",VLOOKUP(B113,ｴﾝﾄﾘｰ票!$E$16:$N$115,3,0)))","v":""},null,null,null,null,{"$f":"IF(B113=\"\",\"\",VLOOKUP(B113,ｴﾝﾄﾘｰ票!$E$16:$N$115,8,0))","v":""},null,{"$f":"IF(B113=\"\",\"\",IF(VLOOKUP(B113,ｴﾝﾄﾘｰ票!$E$16:$AA$115,12,0)=\"\",\"\",VLOOKUP(B113,ｴﾝﾄﾘｰ票!$E$16:$AA$115,12,0)))","v":""},{"$f":"IF(B113=\"\",\"\",IF(VLOOKUP(B113,ｴﾝﾄﾘｰ票!$E$16:$AA$115,16,0)=\"\",\"\",VLOOKUP(B113,ｴﾝﾄﾘｰ票!$E$16:$AA$115,16,0)))","v":""},{"$f":"IF(B113=\"\",\"\",IF(VLOOKUP(B113,ｴﾝﾄﾘｰ票!$E$16:$AA$115,20,0)=\"\",\"\",VLOOKUP(B113,ｴﾝﾄﾘｰ票!$E$16:$AA$115,20,0)))","v":""},{"$f":"IF(B113=\"\",\"\",IF(ISERROR(VLOOKUP(B113,ｴﾝﾄﾘｰ票!$AT$16:$AV$115,1,0)),\"\",VLOOKUP(B113,ｴﾝﾄﾘｰ票!$AT$16:$AV$115,2,0)))","v":""},null,{"$f":"IF(B113=\"\",\"\",IF(ISERROR(VLOOKUP(B113,ｴﾝﾄﾘｰ票!$AZ$16:$BB$115,1,0)),\"\",VLOOKUP(B113,ｴﾝﾄﾘｰ票!$AZ$16:$BB$115,2,0)))","v":""}]
[82,{"$f":"IF(ISERROR(VLOOKUP(A114*10-9+2000,ｴﾝﾄﾘｰ票!C$15:AM$115,3,0)),\"\",VLOOKUP(A114*10-9+2000,ｴﾝﾄﾘｰ票!C$15:AM$115,3,0))","v":""},{"$f":"IF(B114=\"\",\"\",CONCATENATE(VLOOKUP(B114,ｴﾝﾄﾘｰ票!$E$16:$N$115,2,0),\"　\",VLOOKUP(B114,ｴﾝﾄﾘｰ票!$E$16:$N$115,3,0)))","v":""},null,null,null,null,{"$f":"IF(B114=\"\",\"\",VLOOKUP(B114,ｴﾝﾄﾘｰ票!$E$16:$N$115,8,0))","v":""},null,{"$f":"IF(B114=\"\",\"\",IF(VLOOKUP(B114,ｴﾝﾄﾘｰ票!$E$16:$AA$115,12,0)=\"\",\"\",VLOOKUP(B114,ｴﾝﾄﾘｰ票!$E$16:$AA$115,12,0)))","v":""},{"$f":"IF(B114=\"\",\"\",IF(VLOOKUP(B114,ｴﾝﾄﾘｰ票!$E$16:$AA$115,16,0)=\"\",\"\",VLOOKUP(B114,ｴﾝﾄﾘｰ票!$E$16:$AA$115,16,0)))","v":""},{"$f":"IF(B114=\"\",\"\",IF(VLOOKUP(B114,ｴﾝﾄﾘｰ票!$E$16:$AA$115,20,0)=\"\",\"\",VLOOKUP(B114,ｴﾝﾄﾘｰ票!$E$16:$AA$115,20,0)))","v":""},{"$f":"IF(B114=\"\",\"\",IF(ISERROR(VLOOKUP(B114,ｴﾝﾄﾘｰ票!$AT$16:$AV$115,1,0)),\"\",VLOOKUP(B114,ｴﾝﾄﾘｰ票!$AT$16:$AV$115,2,0)))","v":""},null,{"$f":"IF(B114=\"\",\"\",IF(ISERROR(VLOOKUP(B114,ｴﾝﾄﾘｰ票!$AZ$16:$BB$115,1,0)),\"\",VLOOKUP(B114,ｴﾝﾄﾘｰ票!$AZ$16:$BB$115,2,0)))","v":""}]
[83,{"$f":"IF(ISERROR(VLOOKUP(A115*10-9+2000,ｴﾝﾄﾘｰ票!C$15:AM$115,3,0)),\"\",VLOOKUP(A115*10-9+2000,ｴﾝﾄﾘｰ票!C$15:AM$115,3,0))","v":""},{"$f":"IF(B115=\"\",\"\",CONCATENATE(VLOOKUP(B115,ｴﾝﾄﾘｰ票!$E$16:$N$115,2,0),\"　\",VLOOKUP(B115,ｴﾝﾄﾘｰ票!$E$16:$N$115,3,0)))","v":""},null,null,null,null,{"$f":"IF(B115=\"\",\"\",VLOOKUP(B115,ｴﾝﾄﾘｰ票!$E$16:$N$115,8,0))","v":""},null,{"$f":"IF(B115=\"\",\"\",IF(VLOOKUP(B115,ｴﾝﾄﾘｰ票!$E$16:$AA$115,12,0)=\"\",\"\",VLOOKUP(B115,ｴﾝﾄﾘｰ票!$E$16:$AA$115,12,0)))","v":""},{"$f":"IF(B115=\"\",\"\",IF(VLOOKUP(B115,ｴﾝﾄﾘｰ票!$E$16:$AA$115,16,0)=\"\",\"\",VLOOKUP(B115,ｴﾝﾄﾘｰ票!$E$16:$AA$115,16,0)))","v":""},{"$f":"IF(B115=\"\",\"\",IF(VLOOKUP(B115,ｴﾝﾄﾘｰ票!$E$16:$AA$115,20,0)=\"\",\"\",VLOOKUP(B115,ｴﾝﾄﾘｰ票!$E$16:$AA$115,20,0)))","v":""},{"$f":"IF(B115=\"\",\"\",IF(ISERROR(VLOOKUP(B115,ｴﾝﾄﾘｰ票!$AT$16:$AV$115,1,0)),\"\",VLOOKUP(B115,ｴﾝﾄﾘｰ票!$AT$16:$AV$115,2,0)))","v":""},null,{"$f":"IF(B115=\"\",\"\",IF(ISERROR(VLOOKUP(B115,ｴﾝﾄﾘｰ票!$AZ$16:$BB$115,1,0)),\"\",VLOOKUP(B115,ｴﾝﾄﾘｰ票!$AZ$16:$BB$115,2,0)))","v":""}]
[84,{"$f":"IF(ISERROR(VLOOKUP(A116*10-9+2000,ｴﾝﾄﾘｰ票!C$15:AM$115,3,0)),\"\",VLOOKUP(A116*10-9+2000,ｴﾝﾄﾘｰ票!C$15:AM$115,3,0))","v":""},{"$f":"IF(B116=\"\",\"\",CONCATENATE(VLOOKUP(B116,ｴﾝﾄﾘｰ票!$E$16:$N$115,2,0),\"　\",VLOOKUP(B116,ｴﾝﾄﾘｰ票!$E$16:$N$115,3,0)))","v":""},null,null,null,null,{"$f":"IF(B116=\"\",\"\",VLOOKUP(B116,ｴﾝﾄﾘｰ票!$E$16:$N$115,8,0))","v":""},null,{"$f":"IF(B116=\"\",\"\",IF(VLOOKUP(B116,ｴﾝﾄﾘｰ票!$E$16:$AA$115,12,0)=\"\",\"\",VLOOKUP(B116,ｴﾝﾄﾘｰ票!$E$16:$AA$115,12,0)))","v":""},{"$f":"IF(B116=\"\",\"\",IF(VLOOKUP(B116,ｴﾝﾄﾘｰ票!$E$16:$AA$115,16,0)=\"\",\"\",VLOOKUP(B116,ｴﾝﾄﾘｰ票!$E$16:$AA$115,16,0)))","v":""},{"$f":"IF(B116=\"\",\"\",IF(VLOOKUP(B116,ｴﾝﾄﾘｰ票!$E$16:$AA$115,20,0)=\"\",\"\",VLOOKUP(B116,ｴﾝﾄﾘｰ票!$E$16:$AA$115,20,0)))","v":""},{"$f":"IF(B116=\"\",\"\",IF(ISERROR(VLOOKUP(B116,ｴﾝﾄﾘｰ票!$AT$16:$AV$115,1,0)),\"\",VLOOKUP(B116,ｴﾝﾄﾘｰ票!$AT$16:$AV$115,2,0)))","v":""},null,{"$f":"IF(B116=\"\",\"\",IF(ISERROR(VLOOKUP(B116,ｴﾝﾄﾘｰ票!$AZ$16:$BB$115,1,0)),\"\",VLOOKUP(B116,ｴﾝﾄﾘｰ票!$AZ$16:$BB$115,2,0)))","v":""}]
[85,{"$f":"IF(ISERROR(VLOOKUP(A117*10-9+2000,ｴﾝﾄﾘｰ票!C$15:AM$115,3,0)),\"\",VLOOKUP(A117*10-9+2000,ｴﾝﾄﾘｰ票!C$15:AM$115,3,0))","v":""},{"$f":"IF(B117=\"\",\"\",CONCATENATE(VLOOKUP(B117,ｴﾝﾄﾘｰ票!$E$16:$N$115,2,0),\"　\",VLOOKUP(B117,ｴﾝﾄﾘｰ票!$E$16:$N$115,3,0)))","v":""},null,null,null,null,{"$f":"IF(B117=\"\",\"\",VLOOKUP(B117,ｴﾝﾄﾘｰ票!$E$16:$N$115,8,0))","v":""},null,{"$f":"IF(B117=\"\",\"\",IF(VLOOKUP(B117,ｴﾝﾄﾘｰ票!$E$16:$AA$115,12,0)=\"\",\"\",VLOOKUP(B117,ｴﾝﾄﾘｰ票!$E$16:$AA$115,12,0)))","v":""},{"$f":"IF(B117=\"\",\"\",IF(VLOOKUP(B117,ｴﾝﾄﾘｰ票!$E$16:$AA$115,16,0)=\"\",\"\",VLOOKUP(B117,ｴﾝﾄﾘｰ票!$E$16:$AA$115,16,0)))","v":""},{"$f":"IF(B117=\"\",\"\",IF(VLOOKUP(B117,ｴﾝﾄﾘｰ票!$E$16:$AA$115,20,0)=\"\",\"\",VLOOKUP(B117,ｴﾝﾄﾘｰ票!$E$16:$AA$115,20,0)))","v":""},{"$f":"IF(B117=\"\",\"\",IF(ISERROR(VLOOKUP(B117,ｴﾝﾄﾘｰ票!$AT$16:$AV$115,1,0)),\"\",VLOOKUP(B117,ｴﾝﾄﾘｰ票!$AT$16:$AV$115,2,0)))","v":""},null,{"$f":"IF(B117=\"\",\"\",IF(ISERROR(VLOOKUP(B117,ｴﾝﾄﾘｰ票!$AZ$16:$BB$115,1,0)),\"\",VLOOKUP(B117,ｴﾝﾄﾘｰ票!$AZ$16:$BB$115,2,0)))","v":""}]
[86,{"$f":"IF(ISERROR(VLOOKUP(A118*10-9+2000,ｴﾝﾄﾘｰ票!C$15:AM$115,3,0)),\"\",VLOOKUP(A118*10-9+2000,ｴﾝﾄﾘｰ票!C$15:AM$115,3,0))","v":""},{"$f":"IF(B118=\"\",\"\",CONCATENATE(VLOOKUP(B118,ｴﾝﾄﾘｰ票!$E$16:$N$115,2,0),\"　\",VLOOKUP(B118,ｴﾝﾄﾘｰ票!$E$16:$N$115,3,0)))","v":""},null,null,null,null,{"$f":"IF(B118=\"\",\"\",VLOOKUP(B118,ｴﾝﾄﾘｰ票!$E$16:$N$115,8,0))","v":""},null,{"$f":"IF(B118=\"\",\"\",IF(VLOOKUP(B118,ｴﾝﾄﾘｰ票!$E$16:$AA$115,12,0)=\"\",\"\",VLOOKUP(B118,ｴﾝﾄﾘｰ票!$E$16:$AA$115,12,0)))","v":""},{"$f":"IF(B118=\"\",\"\",IF(VLOOKUP(B118,ｴﾝﾄﾘｰ票!$E$16:$AA$115,16,0)=\"\",\"\",VLOOKUP(B118,ｴﾝﾄﾘｰ票!$E$16:$AA$115,16,0)))","v":""},{"$f":"IF(B118=\"\",\"\",IF(VLOOKUP(B118,ｴﾝﾄﾘｰ票!$E$16:$AA$115,20,0)=\"\",\"\",VLOOKUP(B118,ｴﾝﾄﾘｰ票!$E$16:$AA$115,20,0)))","v":""},{"$f":"IF(B118=\"\",\"\",IF(ISERROR(VLOOKUP(B118,ｴﾝﾄﾘｰ票!$AT$16:$AV$115,1,0)),\"\",VLOOKUP(B118,ｴﾝﾄﾘｰ票!$AT$16:$AV$115,2,0)))","v":""},null,{"$f":"IF(B118=\"\",\"\",IF(ISERROR(VLOOKUP(B118,ｴﾝﾄﾘｰ票!$AZ$16:$BB$115,1,0)),\"\",VLOOKUP(B118,ｴﾝﾄﾘｰ票!$AZ$16:$BB$115,2,0)))","v":""}]
[87,{"$f":"IF(ISERROR(VLOOKUP(A119*10-9+2000,ｴﾝﾄﾘｰ票!C$15:AM$115,3,0)),\"\",VLOOKUP(A119*10-9+2000,ｴﾝﾄﾘｰ票!C$15:AM$115,3,0))","v":""},{"$f":"IF(B119=\"\",\"\",CONCATENATE(VLOOKUP(B119,ｴﾝﾄﾘｰ票!$E$16:$N$115,2,0),\"　\",VLOOKUP(B119,ｴﾝﾄﾘｰ票!$E$16:$N$115,3,0)))","v":""},null,null,null,null,{"$f":"IF(B119=\"\",\"\",VLOOKUP(B119,ｴﾝﾄﾘｰ票!$E$16:$N$115,8,0))","v":""},null,{"$f":"IF(B119=\"\",\"\",IF(VLOOKUP(B119,ｴﾝﾄﾘｰ票!$E$16:$AA$115,12,0)=\"\",\"\",VLOOKUP(B119,ｴﾝﾄﾘｰ票!$E$16:$AA$115,12,0)))","v":""},{"$f":"IF(B119=\"\",\"\",IF(VLOOKUP(B119,ｴﾝﾄﾘｰ票!$E$16:$AA$115,16,0)=\"\",\"\",VLOOKUP(B119,ｴﾝﾄﾘｰ票!$E$16:$AA$115,16,0)))","v":""},{"$f":"IF(B119=\"\",\"\",IF(VLOOKUP(B119,ｴﾝﾄﾘｰ票!$E$16:$AA$115,20,0)=\"\",\"\",VLOOKUP(B119,ｴﾝﾄﾘｰ票!$E$16:$AA$115,20,0)))","v":""},{"$f":"IF(B119=\"\",\"\",IF(ISERROR(VLOOKUP(B119,ｴﾝﾄﾘｰ票!$AT$16:$AV$115,1,0)),\"\",VLOOKUP(B119,ｴﾝﾄﾘｰ票!$AT$16:$AV$115,2,0)))","v":""},null,{"$f":"IF(B119=\"\",\"\",IF(ISERROR(VLOOKUP(B119,ｴﾝﾄﾘｰ票!$AZ$16:$BB$115,1,0)),\"\",VLOOKUP(B119,ｴﾝﾄﾘｰ票!$AZ$16:$BB$115,2,0)))","v":""}]
[88,{"$f":"IF(ISERROR(VLOOKUP(A120*10-9+2000,ｴﾝﾄﾘｰ票!C$15:AM$115,3,0)),\"\",VLOOKUP(A120*10-9+2000,ｴﾝﾄﾘｰ票!C$15:AM$115,3,0))","v":""},{"$f":"IF(B120=\"\",\"\",CONCATENATE(VLOOKUP(B120,ｴﾝﾄﾘｰ票!$E$16:$N$115,2,0),\"　\",VLOOKUP(B120,ｴﾝﾄﾘｰ票!$E$16:$N$115,3,0)))","v":""},null,null,null,null,{"$f":"IF(B120=\"\",\"\",VLOOKUP(B120,ｴﾝﾄﾘｰ票!$E$16:$N$115,8,0))","v":""},null,{"$f":"IF(B120=\"\",\"\",IF(VLOOKUP(B120,ｴﾝﾄﾘｰ票!$E$16:$AA$115,12,0)=\"\",\"\",VLOOKUP(B120,ｴﾝﾄﾘｰ票!$E$16:$AA$115,12,0)))","v":""},{"$f":"IF(B120=\"\",\"\",IF(VLOOKUP(B120,ｴﾝﾄﾘｰ票!$E$16:$AA$115,16,0)=\"\",\"\",VLOOKUP(B120,ｴﾝﾄﾘｰ票!$E$16:$AA$115,16,0)))","v":""},{"$f":"IF(B120=\"\",\"\",IF(VLOOKUP(B120,ｴﾝﾄﾘｰ票!$E$16:$AA$115,20,0)=\"\",\"\",VLOOKUP(B120,ｴﾝﾄﾘｰ票!$E$16:$AA$115,20,0)))","v":""},{"$f":"IF(B120=\"\",\"\",IF(ISERROR(VLOOKUP(B120,ｴﾝﾄﾘｰ票!$AT$16:$AV$115,1,0)),\"\",VLOOKUP(B120,ｴﾝﾄﾘｰ票!$AT$16:$AV$115,2,0)))","v":""},null,{"$f":"IF(B120=\"\",\"\",IF(ISERROR(VLOOKUP(B120,ｴﾝﾄﾘｰ票!$AZ$16:$BB$115,1,0)),\"\",VLOOKUP(B120,ｴﾝﾄﾘｰ票!$AZ$16:$BB$115,2,0)))","v":""}]
[89,{"$f":"IF(ISERROR(VLOOKUP(A121*10-9+2000,ｴﾝﾄﾘｰ票!C$15:AM$115,3,0)),\"\",VLOOKUP(A121*10-9+2000,ｴﾝﾄﾘｰ票!C$15:AM$115,3,0))","v":""},{"$f":"IF(B121=\"\",\"\",CONCATENATE(VLOOKUP(B121,ｴﾝﾄﾘｰ票!$E$16:$N$115,2,0),\"　\",VLOOKUP(B121,ｴﾝﾄﾘｰ票!$E$16:$N$115,3,0)))","v":""},null,null,null,null,{"$f":"IF(B121=\"\",\"\",VLOOKUP(B121,ｴﾝﾄﾘｰ票!$E$16:$N$115,8,0))","v":""},null,{"$f":"IF(B121=\"\",\"\",IF(VLOOKUP(B121,ｴﾝﾄﾘｰ票!$E$16:$AA$115,12,0)=\"\",\"\",VLOOKUP(B121,ｴﾝﾄﾘｰ票!$E$16:$AA$115,12,0)))","v":""},{"$f":"IF(B121=\"\",\"\",IF(VLOOKUP(B121,ｴﾝﾄﾘｰ票!$E$16:$AA$115,16,0)=\"\",\"\",VLOOKUP(B121,ｴﾝﾄﾘｰ票!$E$16:$AA$115,16,0)))","v":""},{"$f":"IF(B121=\"\",\"\",IF(VLOOKUP(B121,ｴﾝﾄﾘｰ票!$E$16:$AA$115,20,0)=\"\",\"\",VLOOKUP(B121,ｴﾝﾄﾘｰ票!$E$16:$AA$115,20,0)))","v":""},{"$f":"IF(B121=\"\",\"\",IF(ISERROR(VLOOKUP(B121,ｴﾝﾄﾘｰ票!$AT$16:$AV$115,1,0)),\"\",VLOOKUP(B121,ｴﾝﾄﾘｰ票!$AT$16:$AV$115,2,0)))","v":""},null,{"$f":"IF(B121=\"\",\"\",IF(ISERROR(VLOOKUP(B121,ｴﾝﾄﾘｰ票!$AZ$16:$BB$115,1,0)),\"\",VLOOKUP(B121,ｴﾝﾄﾘｰ票!$AZ$16:$BB$115,2,0)))","v":""}]
[90,{"$f":"IF(ISERROR(VLOOKUP(A122*10-9+2000,ｴﾝﾄﾘｰ票!C$15:AM$115,3,0)),\"\",VLOOKUP(A122*10-9+2000,ｴﾝﾄﾘｰ票!C$15:AM$115,3,0))","v":""},{"$f":"IF(B122=\"\",\"\",CONCATENATE(VLOOKUP(B122,ｴﾝﾄﾘｰ票!$E$16:$N$115,2,0),\"　\",VLOOKUP(B122,ｴﾝﾄﾘｰ票!$E$16:$N$115,3,0)))","v":""},null,null,null,null,{"$f":"IF(B122=\"\",\"\",VLOOKUP(B122,ｴﾝﾄﾘｰ票!$E$16:$N$115,8,0))","v":""},null,{"$f":"IF(B122=\"\",\"\",IF(VLOOKUP(B122,ｴﾝﾄﾘｰ票!$E$16:$AA$115,12,0)=\"\",\"\",VLOOKUP(B122,ｴﾝﾄﾘｰ票!$E$16:$AA$115,12,0)))","v":""},{"$f":"IF(B122=\"\",\"\",IF(VLOOKUP(B122,ｴﾝﾄﾘｰ票!$E$16:$AA$115,16,0)=\"\",\"\",VLOOKUP(B122,ｴﾝﾄﾘｰ票!$E$16:$AA$115,16,0)))","v":""},{"$f":"IF(B122=\"\",\"\",IF(VLOOKUP(B122,ｴﾝﾄﾘｰ票!$E$16:$AA$115,20,0)=\"\",\"\",VLOOKUP(B122,ｴﾝﾄﾘｰ票!$E$16:$AA$115,20,0)))","v":""},{"$f":"IF(B122=\"\",\"\",IF(ISERROR(VLOOKUP(B122,ｴﾝﾄﾘｰ票!$AT$16:$AV$115,1,0)),\"\",VLOOKUP(B122,ｴﾝﾄﾘｰ票!$AT$16:$AV$115,2,0)))","v":""},null,{"$f":"IF(B122=\"\",\"\",IF(ISERROR(VLOOKUP(B122,ｴﾝﾄﾘｰ票!$AZ$16:$BB$115,1,0)),\"\",VLOOKUP(B122,ｴﾝﾄﾘｰ票!$AZ$16:$BB$115,2,0)))","v":""}]
[91,{"$f":"IF(ISERROR(VLOOKUP(A123*10-9+2000,ｴﾝﾄﾘｰ票!C$15:AM$115,3,0)),\"\",VLOOKUP(A123*10-9+2000,ｴﾝﾄﾘｰ票!C$15:AM$115,3,0))","v":""},{"$f":"IF(B123=\"\",\"\",CONCATENATE(VLOOKUP(B123,ｴﾝﾄﾘｰ票!$E$16:$N$115,2,0),\"　\",VLOOKUP(B123,ｴﾝﾄﾘｰ票!$E$16:$N$115,3,0)))","v":""},null,null,null,null,{"$f":"IF(B123=\"\",\"\",VLOOKUP(B123,ｴﾝﾄﾘｰ票!$E$16:$N$115,8,0))","v":""},null,{"$f":"IF(B123=\"\",\"\",IF(VLOOKUP(B123,ｴﾝﾄﾘｰ票!$E$16:$AA$115,12,0)=\"\",\"\",VLOOKUP(B123,ｴﾝﾄﾘｰ票!$E$16:$AA$115,12,0)))","v":""},{"$f":"IF(B123=\"\",\"\",IF(VLOOKUP(B123,ｴﾝﾄﾘｰ票!$E$16:$AA$115,16,0)=\"\",\"\",VLOOKUP(B123,ｴﾝﾄﾘｰ票!$E$16:$AA$115,16,0)))","v":""},{"$f":"IF(B123=\"\",\"\",IF(VLOOKUP(B123,ｴﾝﾄﾘｰ票!$E$16:$AA$115,20,0)=\"\",\"\",VLOOKUP(B123,ｴﾝﾄﾘｰ票!$E$16:$AA$115,20,0)))","v":""},{"$f":"IF(B123=\"\",\"\",IF(ISERROR(VLOOKUP(B123,ｴﾝﾄﾘｰ票!$AT$16:$AV$115,1,0)),\"\",VLOOKUP(B123,ｴﾝﾄﾘｰ票!$AT$16:$AV$115,2,0)))","v":""},null,{"$f":"IF(B123=\"\",\"\",IF(ISERROR(VLOOKUP(B123,ｴﾝﾄﾘｰ票!$AZ$16:$BB$115,1,0)),\"\",VLOOKUP(B123,ｴﾝﾄﾘｰ票!$AZ$16:$BB$115,2,0)))","v":""}]
[92,{"$f":"IF(ISERROR(VLOOKUP(A124*10-9+2000,ｴﾝﾄﾘｰ票!C$15:AM$115,3,0)),\"\",VLOOKUP(A124*10-9+2000,ｴﾝﾄﾘｰ票!C$15:AM$115,3,0))","v":""},{"$f":"IF(B124=\"\",\"\",CONCATENATE(VLOOKUP(B124,ｴﾝﾄﾘｰ票!$E$16:$N$115,2,0),\"　\",VLOOKUP(B124,ｴﾝﾄﾘｰ票!$E$16:$N$115,3,0)))","v":""},null,null,null,null,{"$f":"IF(B124=\"\",\"\",VLOOKUP(B124,ｴﾝﾄﾘｰ票!$E$16:$N$115,8,0))","v":""},null,{"$f":"IF(B124=\"\",\"\",IF(VLOOKUP(B124,ｴﾝﾄﾘｰ票!$E$16:$AA$115,12,0)=\"\",\"\",VLOOKUP(B124,ｴﾝﾄﾘｰ票!$E$16:$AA$115,12,0)))","v":""},{"$f":"IF(B124=\"\",\"\",IF(VLOOKUP(B124,ｴﾝﾄﾘｰ票!$E$16:$AA$115,16,0)=\"\",\"\",VLOOKUP(B124,ｴﾝﾄﾘｰ票!$E$16:$AA$115,16,0)))","v":""},{"$f":"IF(B124=\"\",\"\",IF(VLOOKUP(B124,ｴﾝﾄﾘｰ票!$E$16:$AA$115,20,0)=\"\",\"\",VLOOKUP(B124,ｴﾝﾄﾘｰ票!$E$16:$AA$115,20,0)))","v":""},{"$f":"IF(B124=\"\",\"\",IF(ISERROR(VLOOKUP(B124,ｴﾝﾄﾘｰ票!$AT$16:$AV$115,1,0)),\"\",VLOOKUP(B124,ｴﾝﾄﾘｰ票!$AT$16:$AV$115,2,0)))","v":""},null,{"$f":"IF(B124=\"\",\"\",IF(ISERROR(VLOOKUP(B124,ｴﾝﾄﾘｰ票!$AZ$16:$BB$115,1,0)),\"\",VLOOKUP(B124,ｴﾝﾄﾘｰ票!$AZ$16:$BB$115,2,0)))","v":""}]
[93,{"$f":"IF(ISERROR(VLOOKUP(A125*10-9+2000,ｴﾝﾄﾘｰ票!C$15:AM$115,3,0)),\"\",VLOOKUP(A125*10-9+2000,ｴﾝﾄﾘｰ票!C$15:AM$115,3,0))","v":""},{"$f":"IF(B125=\"\",\"\",CONCATENATE(VLOOKUP(B125,ｴﾝﾄﾘｰ票!$E$16:$N$115,2,0),\"　\",VLOOKUP(B125,ｴﾝﾄﾘｰ票!$E$16:$N$115,3,0)))","v":""},null,null,null,null,{"$f":"IF(B125=\"\",\"\",VLOOKUP(B125,ｴﾝﾄﾘｰ票!$E$16:$N$115,8,0))","v":""},null,{"$f":"IF(B125=\"\",\"\",IF(VLOOKUP(B125,ｴﾝﾄﾘｰ票!$E$16:$AA$115,12,0)=\"\",\"\",VLOOKUP(B125,ｴﾝﾄﾘｰ票!$E$16:$AA$115,12,0)))","v":""},{"$f":"IF(B125=\"\",\"\",IF(VLOOKUP(B125,ｴﾝﾄﾘｰ票!$E$16:$AA$115,16,0)=\"\",\"\",VLOOKUP(B125,ｴﾝﾄﾘｰ票!$E$16:$AA$115,16,0)))","v":""},{"$f":"IF(B125=\"\",\"\",IF(VLOOKUP(B125,ｴﾝﾄﾘｰ票!$E$16:$AA$115,20,0)=\"\",\"\",VLOOKUP(B125,ｴﾝﾄﾘｰ票!$E$16:$AA$115,20,0)))","v":""},{"$f":"IF(B125=\"\",\"\",IF(ISERROR(VLOOKUP(B125,ｴﾝﾄﾘｰ票!$AT$16:$AV$115,1,0)),\"\",VLOOKUP(B125,ｴﾝﾄﾘｰ票!$AT$16:$AV$115,2,0)))","v":""},null,{"$f":"IF(B125=\"\",\"\",IF(ISERROR(VLOOKUP(B125,ｴﾝﾄﾘｰ票!$AZ$16:$BB$115,1,0)),\"\",VLOOKUP(B125,ｴﾝﾄﾘｰ票!$AZ$16:$BB$115,2,0)))","v":""}]
[94,{"$f":"IF(ISERROR(VLOOKUP(A126*10-9+2000,ｴﾝﾄﾘｰ票!C$15:AM$115,3,0)),\"\",VLOOKUP(A126*10-9+2000,ｴﾝﾄﾘｰ票!C$15:AM$115,3,0))","v":""},{"$f":"IF(B126=\"\",\"\",CONCATENATE(VLOOKUP(B126,ｴﾝﾄﾘｰ票!$E$16:$N$115,2,0),\"　\",VLOOKUP(B126,ｴﾝﾄﾘｰ票!$E$16:$N$115,3,0)))","v":""},null,null,null,null,{"$f":"IF(B126=\"\",\"\",VLOOKUP(B126,ｴﾝﾄﾘｰ票!$E$16:$N$115,8,0))","v":""},null,{"$f":"IF(B126=\"\",\"\",IF(VLOOKUP(B126,ｴﾝﾄﾘｰ票!$E$16:$AA$115,12,0)=\"\",\"\",VLOOKUP(B126,ｴﾝﾄﾘｰ票!$E$16:$AA$115,12,0)))","v":""},{"$f":"IF(B126=\"\",\"\",IF(VLOOKUP(B126,ｴﾝﾄﾘｰ票!$E$16:$AA$115,16,0)=\"\",\"\",VLOOKUP(B126,ｴﾝﾄﾘｰ票!$E$16:$AA$115,16,0)))","v":""},{"$f":"IF(B126=\"\",\"\",IF(VLOOKUP(B126,ｴﾝﾄﾘｰ票!$E$16:$AA$115,20,0)=\"\",\"\",VLOOKUP(B126,ｴﾝﾄﾘｰ票!$E$16:$AA$115,20,0)))","v":""},{"$f":"IF(B126=\"\",\"\",IF(ISERROR(VLOOKUP(B126,ｴﾝﾄﾘｰ票!$AT$16:$AV$115,1,0)),\"\",VLOOKUP(B126,ｴﾝﾄﾘｰ票!$AT$16:$AV$115,2,0)))","v":""},null,{"$f":"IF(B126=\"\",\"\",IF(ISERROR(VLOOKUP(B126,ｴﾝﾄﾘｰ票!$AZ$16:$BB$115,1,0)),\"\",VLOOKUP(B126,ｴﾝﾄﾘｰ票!$AZ$16:$BB$115,2,0)))","v":""}]
[95,{"$f":"IF(ISERROR(VLOOKUP(A127*10-9+2000,ｴﾝﾄﾘｰ票!C$15:AM$115,3,0)),\"\",VLOOKUP(A127*10-9+2000,ｴﾝﾄﾘｰ票!C$15:AM$115,3,0))","v":""},{"$f":"IF(B127=\"\",\"\",CONCATENATE(VLOOKUP(B127,ｴﾝﾄﾘｰ票!$E$16:$N$115,2,0),\"　\",VLOOKUP(B127,ｴﾝﾄﾘｰ票!$E$16:$N$115,3,0)))","v":""},null,null,null,null,{"$f":"IF(B127=\"\",\"\",VLOOKUP(B127,ｴﾝﾄﾘｰ票!$E$16:$N$115,8,0))","v":""},null,{"$f":"IF(B127=\"\",\"\",IF(VLOOKUP(B127,ｴﾝﾄﾘｰ票!$E$16:$AA$115,12,0)=\"\",\"\",VLOOKUP(B127,ｴﾝﾄﾘｰ票!$E$16:$AA$115,12,0)))","v":""},{"$f":"IF(B127=\"\",\"\",IF(VLOOKUP(B127,ｴﾝﾄﾘｰ票!$E$16:$AA$115,16,0)=\"\",\"\",VLOOKUP(B127,ｴﾝﾄﾘｰ票!$E$16:$AA$115,16,0)))","v":""},{"$f":"IF(B127=\"\",\"\",IF(VLOOKUP(B127,ｴﾝﾄﾘｰ票!$E$16:$AA$115,20,0)=\"\",\"\",VLOOKUP(B127,ｴﾝﾄﾘｰ票!$E$16:$AA$115,20,0)))","v":""},{"$f":"IF(B127=\"\",\"\",IF(ISERROR(VLOOKUP(B127,ｴﾝﾄﾘｰ票!$AT$16:$AV$115,1,0)),\"\",VLOOKUP(B127,ｴﾝﾄﾘｰ票!$AT$16:$AV$115,2,0)))","v":""},null,{"$f":"IF(B127=\"\",\"\",IF(ISERROR(VLOOKUP(B127,ｴﾝﾄﾘｰ票!$AZ$16:$BB$115,1,0)),\"\",VLOOKUP(B127,ｴﾝﾄﾘｰ票!$AZ$16:$BB$115,2,0)))","v":""}]
[96,{"$f":"IF(ISERROR(VLOOKUP(A128*10-9+2000,ｴﾝﾄﾘｰ票!C$15:AM$115,3,0)),\"\",VLOOKUP(A128*10-9+2000,ｴﾝﾄﾘｰ票!C$15:AM$115,3,0))","v":""},{"$f":"IF(B128=\"\",\"\",CONCATENATE(VLOOKUP(B128,ｴﾝﾄﾘｰ票!$E$16:$N$115,2,0),\"　\",VLOOKUP(B128,ｴﾝﾄﾘｰ票!$E$16:$N$115,3,0)))","v":""},null,null,null,null,{"$f":"IF(B128=\"\",\"\",VLOOKUP(B128,ｴﾝﾄﾘｰ票!$E$16:$N$115,8,0))","v":""},null,{"$f":"IF(B128=\"\",\"\",IF(VLOOKUP(B128,ｴﾝﾄﾘｰ票!$E$16:$AA$115,12,0)=\"\",\"\",VLOOKUP(B128,ｴﾝﾄﾘｰ票!$E$16:$AA$115,12,0)))","v":""},{"$f":"IF(B128=\"\",\"\",IF(VLOOKUP(B128,ｴﾝﾄﾘｰ票!$E$16:$AA$115,16,0)=\"\",\"\",VLOOKUP(B128,ｴﾝﾄﾘｰ票!$E$16:$AA$115,16,0)))","v":""},{"$f":"IF(B128=\"\",\"\",IF(VLOOKUP(B128,ｴﾝﾄﾘｰ票!$E$16:$AA$115,20,0)=\"\",\"\",VLOOKUP(B128,ｴﾝﾄﾘｰ票!$E$16:$AA$115,20,0)))","v":""},{"$f":"IF(B128=\"\",\"\",IF(ISERROR(VLOOKUP(B128,ｴﾝﾄﾘｰ票!$AT$16:$AV$115,1,0)),\"\",VLOOKUP(B128,ｴﾝﾄﾘｰ票!$AT$16:$AV$115,2,0)))","v":""},null,{"$f":"IF(B128=\"\",\"\",IF(ISERROR(VLOOKUP(B128,ｴﾝﾄﾘｰ票!$AZ$16:$BB$115,1,0)),\"\",VLOOKUP(B128,ｴﾝﾄﾘｰ票!$AZ$16:$BB$115,2,0)))","v":""}]
[97,{"$f":"IF(ISERROR(VLOOKUP(A129*10-9+2000,ｴﾝﾄﾘｰ票!C$15:AM$115,3,0)),\"\",VLOOKUP(A129*10-9+2000,ｴﾝﾄﾘｰ票!C$15:AM$115,3,0))","v":""},{"$f":"IF(B129=\"\",\"\",CONCATENATE(VLOOKUP(B129,ｴﾝﾄﾘｰ票!$E$16:$N$115,2,0),\"　\",VLOOKUP(B129,ｴﾝﾄﾘｰ票!$E$16:$N$115,3,0)))","v":""},null,null,null,null,{"$f":"IF(B129=\"\",\"\",VLOOKUP(B129,ｴﾝﾄﾘｰ票!$E$16:$N$115,8,0))","v":""},null,{"$f":"IF(B129=\"\",\"\",IF(VLOOKUP(B129,ｴﾝﾄﾘｰ票!$E$16:$AA$115,12,0)=\"\",\"\",VLOOKUP(B129,ｴﾝﾄﾘｰ票!$E$16:$AA$115,12,0)))","v":""},{"$f":"IF(B129=\"\",\"\",IF(VLOOKUP(B129,ｴﾝﾄﾘｰ票!$E$16:$AA$115,16,0)=\"\",\"\",VLOOKUP(B129,ｴﾝﾄﾘｰ票!$E$16:$AA$115,16,0)))","v":""},{"$f":"IF(B129=\"\",\"\",IF(VLOOKUP(B129,ｴﾝﾄﾘｰ票!$E$16:$AA$115,20,0)=\"\",\"\",VLOOKUP(B129,ｴﾝﾄﾘｰ票!$E$16:$AA$115,20,0)))","v":""},{"$f":"IF(B129=\"\",\"\",IF(ISERROR(VLOOKUP(B129,ｴﾝﾄﾘｰ票!$AT$16:$AV$115,1,0)),\"\",VLOOKUP(B129,ｴﾝﾄﾘｰ票!$AT$16:$AV$115,2,0)))","v":""},null,{"$f":"IF(B129=\"\",\"\",IF(ISERROR(VLOOKUP(B129,ｴﾝﾄﾘｰ票!$AZ$16:$BB$115,1,0)),\"\",VLOOKUP(B129,ｴﾝﾄﾘｰ票!$AZ$16:$BB$115,2,0)))","v":""}]
[98,{"$f":"IF(ISERROR(VLOOKUP(A130*10-9+2000,ｴﾝﾄﾘｰ票!C$15:AM$115,3,0)),\"\",VLOOKUP(A130*10-9+2000,ｴﾝﾄﾘｰ票!C$15:AM$115,3,0))","v":""},{"$f":"IF(B130=\"\",\"\",CONCATENATE(VLOOKUP(B130,ｴﾝﾄﾘｰ票!$E$16:$N$115,2,0),\"　\",VLOOKUP(B130,ｴﾝﾄﾘｰ票!$E$16:$N$115,3,0)))","v":""},null,null,null,null,{"$f":"IF(B130=\"\",\"\",VLOOKUP(B130,ｴﾝﾄﾘｰ票!$E$16:$N$115,8,0))","v":""},null,{"$f":"IF(B130=\"\",\"\",IF(VLOOKUP(B130,ｴﾝﾄﾘｰ票!$E$16:$AA$115,12,0)=\"\",\"\",VLOOKUP(B130,ｴﾝﾄﾘｰ票!$E$16:$AA$115,12,0)))","v":""},{"$f":"IF(B130=\"\",\"\",IF(VLOOKUP(B130,ｴﾝﾄﾘｰ票!$E$16:$AA$115,16,0)=\"\",\"\",VLOOKUP(B130,ｴﾝﾄﾘｰ票!$E$16:$AA$115,16,0)))","v":""},{"$f":"IF(B130=\"\",\"\",IF(VLOOKUP(B130,ｴﾝﾄﾘｰ票!$E$16:$AA$115,20,0)=\"\",\"\",VLOOKUP(B130,ｴﾝﾄﾘｰ票!$E$16:$AA$115,20,0)))","v":""},{"$f":"IF(B130=\"\",\"\",IF(ISERROR(VLOOKUP(B130,ｴﾝﾄﾘｰ票!$AT$16:$AV$115,1,0)),\"\",VLOOKUP(B130,ｴﾝﾄﾘｰ票!$AT$16:$AV$115,2,0)))","v":""},null,{"$f":"IF(B130=\"\",\"\",IF(ISERROR(VLOOKUP(B130,ｴﾝﾄﾘｰ票!$AZ$16:$BB$115,1,0)),\"\",VLOOKUP(B130,ｴﾝﾄﾘｰ票!$AZ$16:$BB$115,2,0)))","v":""}]
[99,{"$f":"IF(ISERROR(VLOOKUP(A131*10-9+2000,ｴﾝﾄﾘｰ票!C$15:AM$115,3,0)),\"\",VLOOKUP(A131*10-9+2000,ｴﾝﾄﾘｰ票!C$15:AM$115,3,0))","v":""},{"$f":"IF(B131=\"\",\"\",CONCATENATE(VLOOKUP(B131,ｴﾝﾄﾘｰ票!$E$16:$N$115,2,0),\"　\",VLOOKUP(B131,ｴﾝﾄﾘｰ票!$E$16:$N$115,3,0)))","v":""},null,null,null,null,{"$f":"IF(B131=\"\",\"\",VLOOKUP(B131,ｴﾝﾄﾘｰ票!$E$16:$N$115,8,0))","v":""},null,{"$f":"IF(B131=\"\",\"\",IF(VLOOKUP(B131,ｴﾝﾄﾘｰ票!$E$16:$AA$115,12,0)=\"\",\"\",VLOOKUP(B131,ｴﾝﾄﾘｰ票!$E$16:$AA$115,12,0)))","v":""},{"$f":"IF(B131=\"\",\"\",IF(VLOOKUP(B131,ｴﾝﾄﾘｰ票!$E$16:$AA$115,16,0)=\"\",\"\",VLOOKUP(B131,ｴﾝﾄﾘｰ票!$E$16:$AA$115,16,0)))","v":""},{"$f":"IF(B131=\"\",\"\",IF(VLOOKUP(B131,ｴﾝﾄﾘｰ票!$E$16:$AA$115,20,0)=\"\",\"\",VLOOKUP(B131,ｴﾝﾄﾘｰ票!$E$16:$AA$115,20,0)))","v":""},{"$f":"IF(B131=\"\",\"\",IF(ISERROR(VLOOKUP(B131,ｴﾝﾄﾘｰ票!$AT$16:$AV$115,1,0)),\"\",VLOOKUP(B131,ｴﾝﾄﾘｰ票!$AT$16:$AV$115,2,0)))","v":""},null,{"$f":"IF(B131=\"\",\"\",IF(ISERROR(VLOOKUP(B131,ｴﾝﾄﾘｰ票!$AZ$16:$BB$115,1,0)),\"\",VLOOKUP(B131,ｴﾝﾄﾘｰ票!$AZ$16:$BB$115,2,0)))","v":""}]
[100,{"$f":"IF(ISERROR(VLOOKUP(A132*10-9+2000,ｴﾝﾄﾘｰ票!C$15:AM$115,3,0)),\"\",VLOOKUP(A132*10-9+2000,ｴﾝﾄﾘｰ票!C$15:AM$115,3,0))","v":""},{"$f":"IF(B132=\"\",\"\",CONCATENATE(VLOOKUP(B132,ｴﾝﾄﾘｰ票!$E$16:$N$115,2,0),\"　\",VLOOKUP(B132,ｴﾝﾄﾘｰ票!$E$16:$N$115,3,0)))","v":""},null,null,null,null,{"$f":"IF(B132=\"\",\"\",VLOOKUP(B132,ｴﾝﾄﾘｰ票!$E$16:$N$115,8,0))","v":""},null,{"$f":"IF(B132=\"\",\"\",IF(VLOOKUP(B132,ｴﾝﾄﾘｰ票!$E$16:$AA$115,12,0)=\"\",\"\",VLOOKUP(B132,ｴﾝﾄﾘｰ票!$E$16:$AA$115,12,0)))","v":""},{"$f":"IF(B132=\"\",\"\",IF(VLOOKUP(B132,ｴﾝﾄﾘｰ票!$E$16:$AA$115,16,0)=\"\",\"\",VLOOKUP(B132,ｴﾝﾄﾘｰ票!$E$16:$AA$115,16,0)))","v":""},{"$f":"IF(B132=\"\",\"\",IF(VLOOKUP(B132,ｴﾝﾄﾘｰ票!$E$16:$AA$115,20,0)=\"\",\"\",VLOOKUP(B132,ｴﾝﾄﾘｰ票!$E$16:$AA$115,20,0)))","v":""},{"$f":"IF(B132=\"\",\"\",IF(ISERROR(VLOOKUP(B132,ｴﾝﾄﾘｰ票!$AT$16:$AV$115,1,0)),\"\",VLOOKUP(B132,ｴﾝﾄﾘｰ票!$AT$16:$AV$115,2,0)))","v":""},null,{"$f":"IF(B132=\"\",\"\",IF(ISERROR(VLOOKUP(B132,ｴﾝﾄﾘｰ票!$AZ$16:$BB$115,1,0)),\"\",VLOOKUP(B132,ｴﾝﾄﾘｰ票!$AZ$16:$BB$115,2,0)))","v":""}]

{"sheet":"Ａ票女","index":6,"n_rows":132,"n_cols":15,"rows_kept":132,"cut":false,"hidden":false,"merged":[[8,20,8,21],[9,12,9,13],[14,12,14,13],[15,12,15,13],[10,12,10,13],[11,12,11,13],[12,12,12,13],[13,12,13,13],[18,12,18,13],[8,12,8,13],[16,12,16,13],[17,12,17,13],[24,12,24,13],[25,12,25,13],[23,12,23,13],[26,12,26,13],[19,12,19,13],[28,12,28,13],[22,12,22,13],[30,12,30,13],[20,12,20,13],[21,12,21,13],[27,12,27,13],[38,12,38,13],[40,13,40,14],[32,12,32,13],[33,12,33,13],[29,12,29,13],[34,12,34,13],[35,12,35,13],[36,12,36,13],[37,12,37,13],[31,12,31,13],[43,2,43,3],[43,5,43,6],[43,7,43,9],[40,2,40,3],[40,4,40,6],[40,7,40,9],[40,11,40,12],[41,17,41,18],[42,2,42,3],[42,4,42,6],[42,7,42,9],[41,2,41,3],[41,4,41,6],[41,7,41,9],[41,11,41,12],[41,13,41,14],[41,15,41,16],[40,15,40,16],[40,17,40,18],[96,20,96,21],[76,12,76,13],[72,12,72,13],[52,20,52,21],[69,12,69,13],[74,12,74,13],[71,12,71,13],[66,12,66,13],[67,12,67,13],[73,12,73,13],[70,12,70,13],[62,12,62,13],[87,12,87,13],[81,12,81,13],[86,12,86,13],[82,12,82,13],[85,12,85,13],[84,12,84,13],[52,12,52,13],[53,12,53,13],[54,12,54,13],[55,12,55,13],[78,12,78,13],[79,12,79,13],[56,12,56,13],[57,12,57,13],[75,12,75,13],[83,12,83,13],[77,12,77,13],[80,12,80,13],[58,12,58,13],[59,12,59,13],[60,12,60,13],[61,12,61,13],[63,12,63,13],[64,12,64,13],[65,12,65,13],[68,12,68,13],[118,12,118,13],[119,12,119,13],[113,12,113,13],[114,12,114,13],[117,12,117,13],[131,12,131,13],[129,12,129,13],[130,12,130,13],[128,12,128,13],[127,12,127,13],[120,12,120,13],[126,12,126,13],[123,12,123,13],[125,12,125,13],[121,12,121,13],[122,12,122,13],[124,12,124,13],[105,12,105,13],[106,12,106,13],[112,12,112,13],[116,12,116,13],[115,12,115,13],[96,12,96,13],[97,12,97,13],[98,12,98,13],[99,12,99,13],[103,12,103,13],[104,12,104,13],[102,12,102,13],[101,12,101,13],[107,12,107,13],[108,12,108,13],[110,12,110,13],[111,12,111,13],[109,12,109,13],[100,12,100,13]]}
[null,{"$f":"ｴﾝﾄﾘｰ票!$G$1","v":"東京高体連陸上第4支部春季競技会"},null,null,null,null,null,null,null,null,null,null,null,null,"申込用紙(A票）"]
[{"$f":"ｴﾝﾄﾘｰ票!T1","v":"令和5年度"},null,null,null,null,null,null,null,null,null,null,null,"女子",null,"Ｎｏ．１"]
["学校名",null,{"$f":"ｴﾝﾄﾘｰ票!$G$2","v":0}]
["学校所在地",null,{"$f":"ｴﾝﾄﾘｰ票!$G$5","v":0}]
["学校長",null,{"$f":"ｴﾝﾄﾘｰ票!$G$4","v":0},null,null,null,null,null,null,"印","顧問氏名",{"$f":"ｴﾝﾄﾘｰ票!$G$8","v":0},null,null,"印"]
["電話",null,{"$f":"ｴﾝﾄﾘｰ票!$G$6","v":"00:00:00"},null,null,null,"ＦＡＸ",{"$f":"ｴﾝﾄﾘｰ票!$G$7","v":0},null,null,"連絡先",{"$f":"ｴﾝﾄﾘｰ票!$G$9","v":0}]
[]
[null,null,null,null,null,null,null,null,null,null,null,"種目"]
[null,"番号","出場者氏名",null,null,null,null,"学年",null,"個人","個人","個人","4×100",null,"4×400"]
[1,{"$f":"IF(ISERROR(VLOOKUP(A10*10-9+6000,ｴﾝﾄﾘｰ票!C$15:AM$115,3,0)),\"\",VLOOKUP(A10*10-9+6000,ｴﾝﾄﾘｰ票!C$15:AM$115,3,0))","v":""},{"$f":"IF(B10=\"\",\"\",CONCATENATE(VLOOKUP(B10,ｴﾝﾄﾘｰ票!$E$16:$N$115,2,0),\"　\",VLOOKUP(B10,ｴﾝﾄﾘｰ票!$E$16:$N$115,3,0)))","v":""},null,null,null,null,{"$f":"IF(B10=\"\",\"\",VLOOKUP(B10,ｴﾝﾄﾘｰ票!$E$16:$N$115,8,0))","v":""},null,{"$f":"IF(B10=\"\",\"\",IF(VLOOKUP(B10,ｴﾝﾄﾘｰ票!$E$16:$AA$115,12,0)=\"\",\"\",VLOOKUP(B10,ｴﾝﾄﾘｰ票!$E$16:$AA$115,12,0)))","v":""},{"$f":"IF(B10=\"\",\"\",IF(VLOOKUP(B10,ｴﾝﾄﾘｰ票!$E$16:$AA$115,16,0)=\"\",\"\",VLOOKUP(B10,ｴﾝﾄﾘｰ票!$E$16:$AA$115,16,0)))","v":""},{"$f":"IF(B10=\"\",\"\",IF(VLOOKUP(B10,ｴﾝﾄﾘｰ票!$E$16:$AA$115,20,0)=\"\",\"\",VLOOKUP(B10,ｴﾝﾄﾘｰ票!$E$16:$AA$115,20,0)))","v":""},{"$f":"IF(B10=\"\",\"\",IF(ISERROR(VLOOKUP(B10,ｴﾝﾄﾘｰ票!$BF$16:$BG$115,1,0)),\"\",VLOOKUP(B10,ｴﾝﾄﾘｰ票!$BF$16:$BG$115,2,0)))","v":""},null,{"$f":"IF(B10=\"\",\"\",IF(ISERROR(VLOOKUP(B10,ｴﾝﾄﾘｰ票!$BL$16:$BM$115,1,0)),\"\",VLOOKUP(B10,ｴﾝﾄﾘｰ票!$BL$16:$BM$115,2,0)))","v":""}]
[2,{"$f":"IF(ISERROR(VLOOKUP(A11*10-9+6000,ｴﾝﾄﾘｰ票!C$15:AM$115,3,0)),\"\",VLOOKUP(A11*10-9+6000,ｴﾝﾄﾘｰ票!C$15:AM$115,3,0))","v":""},{"$f":"IF(B11=\"\",\"\",CONCATENATE(VLOOKUP(B11,ｴﾝﾄﾘｰ票!$E$16:$N$115,2,0),\"　\",VLOOKUP(B11,ｴﾝﾄﾘｰ票!$E$16:$N$115,3,0)))","v":""},null,null,null,null,{"$f":"IF(B11=\"\",\"\",VLOOKUP(B11,ｴﾝﾄﾘｰ票!$E$16:$N$115,8,0))","v":""},null,{"$f":"IF(B11=\"\",\"\",IF(VLOOKUP(B11,ｴﾝﾄﾘｰ票!$E$16:$AA$115,12,0)=\"\",\"\",VLOOKUP(B11,ｴﾝﾄﾘｰ票!$E$16:$AA$115,12,0)))","v":""},{"$f":"IF(B11=\"\",\"\",IF(VLOOKUP(B11,ｴﾝﾄﾘｰ票!$E$16:$AA$115,16,0)=\"\",\"\",VLOOKUP(B11,ｴﾝﾄﾘｰ票!$E$16:$AA$115,16,0)))","v":""},{"$f":"IF(B11=\"\",\"\",IF(VLOOKUP(B11,ｴﾝﾄﾘｰ票!$E$16:$AA$115,20,0)=\"\",\"\",VLOOKUP(B11,ｴﾝﾄﾘｰ票!$E$16:$AA$115,20,0)))","v":""},{"$f":"IF(B11=\"\",\"\",IF(ISERROR(VLOOKUP(B11,ｴﾝﾄﾘｰ票!$BF$16:$BG$115,1,0)),\"\",VLOOKUP(B11,ｴﾝﾄﾘｰ票!$BF$16:$BG$115,2,0)))","v":""},null,{"$f":"IF(B11=\"\",\"\",IF(ISERROR(VLOOKUP(B11,ｴﾝﾄﾘｰ票!$BL$16:$BM$115,1,0)),\"\",VLOOKUP(B11,ｴﾝﾄﾘｰ票!$BL$16:$BM$115,2,0)))","v":""}]
[3,{"$f":"IF(ISERROR(VLOOKUP(A12*10-9+6000,ｴﾝﾄﾘｰ票!C$15:AM$115,3,0)),\"\",VLOOKUP(A12*10-9+6000,ｴﾝﾄﾘｰ票!C$15:AM$115,3,0))","v":""},{"$f":"IF(B12=\"\",\"\",CONCATENATE(VLOOKUP(B12,ｴﾝﾄﾘｰ票!$E$16:$N$115,2,0),\"　\",VLOOKUP(B12,ｴﾝﾄﾘｰ票!$E$16:$N$115,3,0)))","v":""},null,null,null,null,{"$f":"IF(B12=\"\",\"\",VLOOKUP(B12,ｴﾝﾄﾘｰ票!$E$16:$N$115,8,0))","v":""},null,{"$f":"IF(B12=\"\",\"\",IF(VLOOKUP(B12,ｴﾝﾄﾘｰ票!$E$16:$AA$115,12,0)=\"\",\"\",VLOOKUP(B12,ｴﾝﾄﾘｰ票!$E$16:$AA$115,12,0)))","v":""},{"$f":"IF(B12=\"\",\"\",IF(VLOOKUP(B12,ｴﾝﾄﾘｰ票!$E$16:$AA$115,16,0)=\"\",\"\",VLOOKUP(B12,ｴﾝﾄﾘｰ票!$E$16:$AA$115,16,0)))","v":""},{"$f":"IF(B12=\"\",\"\",IF(VLOOKUP(B12,ｴﾝﾄﾘｰ票!$E$16:$AA$115,20,0)=\"\",\"\",VLOOKUP(B12,ｴﾝﾄﾘｰ票!$E$16:$AA$115,20,0)))","v":""},{"$f":"IF(B12=\"\",\"\",IF(ISERROR(VLOOKUP(B12,ｴﾝﾄﾘｰ票!$BF$16:$BG$115,1,0)),\"\",VLOOKUP(B12,ｴﾝﾄﾘｰ票!$BF$16:$BG$115,2,0)))","v":""},null,{"$f":"IF(B12=\"\",\"\",IF(ISERROR(VLOOKUP(B12,ｴﾝﾄﾘｰ票!$BL$16:$BM$115,1,0)),\"\",VLOOKUP(B12,ｴﾝﾄﾘｰ票!$BL$16:$BM$115,2,0)))","v":""}]
[4,{"$f":"IF(ISERROR(VLOOKUP(A13*10-9+6000,ｴﾝﾄﾘｰ票!C$15:AM$115,3,0)),\"\",VLOOKUP(A13*10-9+6000,ｴﾝﾄﾘｰ票!C$15:AM$115,3,0))","v":""},{"$f":"IF(B13=\"\",\"\",CONCATENATE(VLOOKUP(B13,ｴﾝﾄﾘｰ票!$E$16:$N$115,2,0),\"　\",VLOOKUP(B13,ｴﾝﾄﾘｰ票!$E$16:$N$115,3,0)))","v":""},null,null,null,null,{"$f":"IF(B13=\"\",\"\",VLOOKUP(B13,ｴﾝﾄﾘｰ票!$E$16:$N$115,8,0))","v":""},null,{"$f":"IF(B13=\"\",\"\",IF(VLOOKUP(B13,ｴﾝﾄﾘｰ票!$E$16:$AA$115,12,0)=\"\",\"\",VLOOKUP(B13,ｴﾝﾄﾘｰ票!$E$16:$AA$115,12,0)))","v":""},{"$f":"IF(B13=\"\",\"\",IF(VLOOKUP(B13,ｴﾝﾄﾘｰ票!$E$16:$AA$115,16,0)=\"\",\"\",VLOOKUP(B13,ｴﾝﾄﾘｰ票!$E$16:$AA$115,16,0)))","v":""},{"$f":"IF(B13=\"\",\"\",IF(VLOOKUP(B13,ｴﾝﾄﾘｰ票!$E$16:$AA$115,20,0)=\"\",\"\",VLOOKUP(B13,ｴﾝﾄﾘｰ票!$E$16:$AA$115,20,0)))","v":""},{"$f":"IF(B13=\"\",\"\",IF(ISERROR(VLOOKUP(B13,ｴﾝﾄﾘｰ票!$BF$16:$BG$115,1,0)),\"\",VLOOKUP(B13,ｴﾝﾄﾘｰ票!$BF$16:$BG$115,2,0)))","v":""},null,{"$f":"IF(B13=\"\",\"\",IF(ISERROR(VLOOKUP(B13,ｴﾝﾄﾘｰ票!$BL$16:$BM$115,1,0)),\"\",VLOOKUP(B13,ｴﾝﾄﾘｰ票!$BL$16:$BM$115,2,0)))","v":""}]
[5,{"$f":"IF(ISERROR(VLOOKUP(A14*10-9+6000,ｴﾝﾄﾘｰ票!C$15:AM$115,3,0)),\"\",VLOOKUP(A14*10-9+6000,ｴﾝﾄﾘｰ票!C$15:AM$115,3,0))","v":""},{"$f":"IF(B14=\"\",\"\",CONCATENATE(VLOOKUP(B14,ｴﾝﾄﾘｰ票!$E$16:$N$115,2,0),\"　\",VLOOKUP(B14,ｴﾝﾄﾘｰ票!$E$16:$N$115,3,0)))","v":""},null,null,null,null,{"$f":"IF(B14=\"\",\"\",VLOOKUP(B14,ｴﾝﾄﾘｰ票!$E$16:$N$115,8,0))","v":""},null,{"$f":"IF(B14=\"\",\"\",IF(VLOOKUP(B14,ｴﾝﾄﾘｰ票!$E$16:$AA$115,12,0)=\"\",\"\",VLOOKUP(B14,ｴﾝﾄﾘｰ票!$E$16:$AA$115,12,0)))","v":""},{"$f":"IF(B14=\"\",\"\",IF(VLOOKUP(B14,ｴﾝﾄﾘｰ票!$E$16:$AA$115,16,0)=\"\",\"\",VLOOKUP(B14,ｴﾝﾄﾘｰ票!$E$16:$AA$115,16,0)))","v":""},{"$f":"IF(B14=\"\",\"\",IF(VLOOKUP(B14,ｴﾝﾄﾘｰ票!$E$16:$AA$115,20,0)=\"\",\"\",VLOOKUP(B14,ｴﾝﾄﾘｰ票!$E$16:$AA$115,20,0)))","v":""},{"$f":"IF(B14=\"\",\"\",IF(ISERROR(VLOOKUP(B14,ｴﾝﾄﾘｰ票!$BF$16:$BG$115,1,0)),\"\",VLOOKUP(B14,ｴﾝﾄﾘｰ票!$BF$16:$BG$115,2,0)))","v":""},null,{"$f":"IF(B14=\"\",\"\",IF(ISERROR(VLOOKUP(B14,ｴﾝﾄﾘｰ票!$BL$16:$BM$115,1,0)),\"\",VLOOKUP(B14,ｴﾝﾄﾘｰ票!$BL$16:$BM$115,2,0)))","v":""}]
[6,{"$f":"IF(ISERROR(VLOOKUP(A15*10-9+6000,ｴﾝﾄﾘｰ票!C$15:AM$115,3,0)),\"\",VLOOKUP(A15*10-9+6000,ｴﾝﾄﾘｰ票!C$15:AM$115,3,0))","v":""},{"$f":"IF(B15=\"\",\"\",CONCATENATE(VLOOKUP(B15,ｴﾝﾄﾘｰ票!$E$16:$N$115,2,0),\"　\",VLOOKUP(B15,ｴﾝﾄﾘｰ票!$E$16:$N$115,3,0)))","v":""},null,null,null,null,{"$f":"IF(B15=\"\",\"\",VLOOKUP(B15,ｴﾝﾄﾘｰ票!$E$16:$N$115,8,0))","v":""},null,{"$f":"IF(B15=\"\",\"\",IF(VLOOKUP(B15,ｴﾝﾄﾘｰ票!$E$16:$AA$115,12,0)=\"\",\"\",VLOOKUP(B15,ｴﾝﾄﾘｰ票!$E$16:$AA$115,12,0)))","v":""},{"$f":"IF(B15=\"\",\"\",IF(VLOOKUP(B15,ｴﾝﾄﾘｰ票!$E$16:$AA$115,16,0)=\"\",\"\",VLOOKUP(B15,ｴﾝﾄﾘｰ票!$E$16:$AA$115,16,0)))","v":""},{"$f":"IF(B15=\"\",\"\",IF(VLOOKUP(B15,ｴﾝﾄﾘｰ票!$E$16:$AA$115,20,0)=\"\",\"\",VLOOKUP(B15,ｴﾝﾄﾘｰ票!$E$16:$AA$115,20,0)))","v":""},{"$f":"IF(B15=\"\",\"\",IF(ISERROR(VLOOKUP(B15,ｴﾝﾄﾘｰ票!$BF$16:$BG$115,1,0)),\"\",VLOOKUP(B15,ｴﾝﾄﾘｰ票!$BF$16:$BG$115,2,0)))","v":""},null,{"$f":"IF(B15=\"\",\"\",IF(ISERROR(VLOOKUP(B15,ｴﾝﾄﾘｰ票!$BL$16:$BM$115,1,0)),\"\",VLOOKUP(B15,ｴﾝﾄﾘｰ票!$BL$16:$BM$115,2,0)))","v":""}]
[7,{"$f":"IF(ISERROR(VLOOKUP(A16*10-9+6000,ｴﾝﾄﾘｰ票!C$15:AM$115,3,0)),\"\",VLOOKUP(A16*10-9+6000,ｴﾝﾄﾘｰ票!C$15:AM$115,3,0))","v":""},{"$f":"IF(B16=\"\",\"\",CONCATENATE(VLOOKUP(B16,ｴﾝﾄﾘｰ票!$E$16:$N$115,2,0),\"　\",VLOOKUP(B16,ｴﾝﾄﾘｰ票!$E$16:$N$115,3,0)))","v":""},null,null,null,null,{"$f":"IF(B16=\"\",\"\",VLOOKUP(B16,ｴﾝﾄﾘｰ票!$E$16:$N$115,8,0))","v":""},null,{"$f":"IF(B16=\"\",\"\",IF(VLOOKUP(B16,ｴﾝﾄﾘｰ票!$E$16:$AA$115,12,0)=\"\",\"\",VLOOKUP(B16,ｴﾝﾄﾘｰ票!$E$16:$AA$115,12,0)))","v":""},{"$f":"IF(B16=\"\",\"\",IF(VLOOKUP(B16,ｴﾝﾄﾘｰ票!$E$16:$AA$115,16,0)=\"\",\"\",VLOOKUP(B16,ｴﾝﾄﾘｰ票!$E$16:$AA$115,16,0)))","v":""},{"$f":"IF(B16=\"\",\"\",IF(VLOOKUP(B16,ｴﾝﾄﾘｰ票!$E$16:$AA$115,20,0)=\"\",\"\",VLOOKUP(B16,ｴﾝﾄﾘｰ票!$E$16:$AA$115,20,0)))","v":""},{"$f":"IF(B16=\"\",\"\",IF(ISERROR(VLOOKUP(B16,ｴﾝﾄﾘｰ票!$BF$16:$BG$115,1,0)),\"\",VLOOKUP(B16,ｴﾝﾄﾘｰ票!$BF$16:$BG$115,2,0)))","v":""},null,{"$f":"IF(B16=\"\",\"\",IF(ISERROR(VLOOKUP(B16,ｴﾝﾄﾘｰ票!$BL$16:$BM$115,1,0)),\"\",VLOOKUP(B16,ｴﾝﾄﾘｰ票!$BL$16:$BM$115,2,0)))","v":""}]
[8,{"$f":"IF(ISERROR(VLOOKUP(A17*10-9+6000,ｴﾝﾄﾘｰ票!C$15:AM$115,3,0)),\"\",VLOOKUP(A17*10-9+6000,ｴﾝﾄﾘｰ票!C$15:AM$115,3,0))","v":""},{"$f":"IF(B17=\"\",\"\",CONCATENATE(VLOOKUP(B17,ｴﾝﾄﾘｰ票!$E$16:$N$115,2,0),\"　\",VLOOKUP(B17,ｴﾝﾄﾘｰ票!$E$16:$N$115,3,0)))","v":""},null,null,null,null,{"$f":"IF(B17=\"\",\"\",VLOOKUP(B17,ｴﾝﾄﾘｰ票!$E$16:$N$115,8,0))","v":""},null,{"$f":"IF(B17=\"\",\"\",IF(VLOOKUP(B17,ｴﾝﾄﾘｰ票!$E$16:$AA$115,12,0)=\"\",\"\",VLOOKUP(B17,ｴﾝﾄﾘｰ票!$E$16:$AA$115,12,0)))","v":""},{"$f":"IF(B17=\"\",\"\",IF(VLOOKUP(B17,ｴﾝﾄﾘｰ票!$E$16:$AA$115,16,0)=\"\",\"\",VLOOKUP(B17,ｴﾝﾄﾘｰ票!$E$16:$AA$115,16,0)))","v":""},{"$f":"IF(B17=\"\",\"\",IF(VLOOKUP(B17,ｴﾝﾄﾘｰ票!$E$16:$AA$115,20,0)=\"\",\"\",VLOOKUP(B17,ｴﾝﾄﾘｰ票!$E$16:$AA$115,20,0)))","v":""},{"$f":"IF(B17=\"\",\"\",IF(ISERROR(VLOOKUP(B17,ｴﾝﾄﾘｰ票!$BF$16:$BG$115,1,0)),\"\",VLOOKUP(B17,ｴﾝﾄﾘｰ票!$BF$16:$BG$115,2,0)))","v":""},null,{"$f":"IF(B17=\"\",\"\",IF(ISERROR(VLOOKUP(B17,ｴﾝﾄﾘｰ票!$BL$16:$BM$115,1,0)),\"\",VLOOKUP(B17,ｴﾝﾄﾘｰ票!$BL$16:$BM$115,2,0)))","v":""}]
[9,{"$f":"IF(ISERROR(VLOOKUP(A18*10-9+6000,ｴﾝﾄﾘｰ票!C$15:AM$115,3,0)),\"\",VLOOKUP(A18*10-9+6000,ｴﾝﾄﾘｰ票!C$15:AM$115,3,0))","v":""},{"$f":"IF(B18=\"\",\"\",CONCATENATE(VLOOKUP(B18,ｴﾝﾄﾘｰ票!$E$16:$N$115,2,0),\"　\",VLOOKUP(B18,ｴﾝﾄﾘｰ票!$E$16:$N$115,3,0)))","v":""},null,null,null,null,{"$f":"IF(B18=\"\",\"\",VLOOKUP(B18,ｴﾝﾄﾘｰ票!$E$16:$N$115,8,0))","v":""},null,{"$f":"IF(B18=\"\",\"\",IF(VLOOKUP(B18,ｴﾝﾄﾘｰ票!$E$16:$AA$115,12,0)=\"\",\"\",VLOOKUP(B18,ｴﾝﾄﾘｰ票!$E$16:$AA$115,12,0)))","v":""},{"$f":"IF(B18=\"\",\"\",IF(VLOOKUP(B18,ｴﾝﾄﾘｰ票!$E$16:$AA$115,16,0)=\"\",\"\",VLOOKUP(B18,ｴﾝﾄﾘｰ票!$E$16:$AA$115,16,0)))","v":""},{"$f":"IF(B18=\"\",\"\",IF(VLOOKUP(B18,ｴﾝﾄﾘｰ票!$E$16:$AA$115,20,0)=\"\",\"\",VLOOKUP(B18,ｴﾝﾄﾘｰ票!$E$16:$AA$115,20,0)))","v":""},{"$f":"IF(B18=\"\",\"\",IF(ISERROR(VLOOKUP(B18,ｴﾝﾄﾘｰ票!$BF$16:$BG$115,1,0)),\"\",VLOOKUP(B18,ｴﾝﾄﾘｰ票!$BF$16:$BG$115,2,0)))","v":""},null,{"$f":"IF(B18=\"\",\"\",IF(ISERROR(VLOOKUP(B18,ｴﾝﾄﾘｰ票!$BL$16:$BM$115,1,0)),\"\",VLOOKUP(B18,ｴﾝﾄﾘｰ票!$BL$16:$BM$115,2,0)))","v":""}]
[10,{"$f":"IF(ISERROR(VLOOKUP(A19*10-9+6000,ｴﾝﾄﾘｰ票!C$15:AM$115,3,0)),\"\",VLOOKUP(A19*10-9+6000,ｴﾝﾄﾘｰ票!C$15:AM$115,3,0))","v":""},{"$f":"IF(B19=\"\",\"\",CONCATENATE(VLOOKUP(B19,ｴﾝﾄﾘｰ票!$E$16:$N$115,2,0),\"　\",VLOOKUP(B19,ｴﾝﾄﾘｰ票!$E$16:$N$115,3,0)))","v":""},null,null,null,null,{"$f":"IF(B19=\"\",\"\",VLOOKUP(B19,ｴﾝﾄﾘｰ票!$E$16:$N$115,8,0))","v":""},null,{"$f":"IF(B19=\"\",\"\",IF(VLOOKUP(B19,ｴﾝﾄﾘｰ票!$E$16:$AA$115,12,0)=\"\",\"\",VLOOKUP(B19,ｴﾝﾄﾘｰ票!$E$16:$AA$115,12,0)))","v":""},{"$f":"IF(B19=\"\",\"\",IF(VLOOKUP(B19,ｴﾝﾄﾘｰ票!$E$16:$AA$115,16,0)=\"\",\"\",VLOOKUP(B19,ｴﾝﾄﾘｰ票!$E$16:$AA$115,16,0)))","v":""},{"$f":"IF(B19=\"\",\"\",IF(VLOOKUP(B19,ｴﾝﾄﾘｰ票!$E$16:$AA$115,20,0)=\"\",\"\",VLOOKUP(B19,ｴﾝﾄﾘｰ票!$E$16:$AA$115,20,0)))","v":""},{"$f":"IF(B19=\"\",\"\",IF(ISERROR(VLOOKUP(B19,ｴﾝﾄﾘｰ票!$BF$16:$BG$115,1,0)),\"\",VLOOKUP(B19,ｴﾝﾄﾘｰ票!$BF$16:$BG$115,2,0)))","v":""},null,{"$f":"IF(B19=\"\",\"\",IF(ISERROR(VLOOKUP(B19,ｴﾝﾄﾘｰ票!$BL$16:$BM$115,1,0)),\"\",VLOOKUP(B19,ｴﾝﾄﾘｰ票!$BL$16:$BM$115,2,0)))","v":""}]
[11,{"$f":"IF(ISERROR(VLOOKUP(A20*10-9+6000,ｴﾝﾄﾘｰ票!C$15:AM$115,3,0)),\"\",VLOOKUP(A20*10-9+6000,ｴﾝﾄﾘｰ票!C$15:AM$115,3,0))","v":""},{"$f":"IF(B20=\"\",\"\",CONCATENATE(VLOOKUP(B20,ｴﾝﾄﾘｰ票!$E$16:$N$115,2,0),\"　\",VLOOKUP(B20,ｴﾝﾄﾘｰ票!$E$16:$N$115,3,0)))","v":""},null,null,null,null,{"$f":"IF(B20=\"\",\"\",VLOOKUP(B20,ｴﾝﾄﾘｰ票!$E$16:$N$115,8,0))","v":""},null,{"$f":"IF(B20=\"\",\"\",IF(VLOOKUP(B20,ｴﾝﾄﾘｰ票!$E$16:$AA$115,12,0)=\"\",\"\",VLOOKUP(B20,ｴﾝﾄﾘｰ票!$E$16:$AA$115,12,0)))","v":""},{"$f":"IF(B20=\"\",\"\",IF(VLOOKUP(B20,ｴﾝﾄﾘｰ票!$E$16:$AA$115,16,0)=\"\",\"\",VLOOKUP(B20,ｴﾝﾄﾘｰ票!$E$16:$AA$115,16,0)))","v":""},{"$f":"IF(B20=\"\",\"\",IF(VLOOKUP(B20,ｴﾝﾄﾘｰ票!$E$16:$AA$115,20,0)=\"\",\"\",VLOOKUP(B20,ｴﾝﾄﾘｰ票!$E$16:$AA$115,20,0)))","v":""},{"$f":"IF(B20=\"\",\"\",IF(ISERROR(VLOOKUP(B20,ｴﾝﾄﾘｰ票!$BF$16:$BG$115,1,0)),\"\",VLOOKUP(B20,ｴﾝﾄﾘｰ票!$BF$16:$BG$115,2,0)))","v":""},null,{"$f":"IF(B20=\"\",\"\",IF(ISERROR(VLOOKUP(B20,ｴﾝﾄﾘｰ票!$BL$16:$BM$115,1,0)),\"\",VLOOKUP(B20,ｴﾝﾄﾘｰ票!$BL$16:$BM$115,2,0)))","v":""}]
[12,{"$f":"IF(ISERROR(VLOOKUP(A21*10-9+6000,ｴﾝﾄﾘｰ票!C$15:AM$115,3,0)),\"\",VLOOKUP(A21*10-9+6000,ｴﾝﾄﾘｰ票!C$15:AM$115,3,0))","v":""},{"$f":"IF(B21=\"\",\"\",CONCATENATE(VLOOKUP(B21,ｴﾝﾄﾘｰ票!$E$16:$N$115,2,0),\"　\",VLOOKUP(B21,ｴﾝﾄﾘｰ票!$E$16:$N$115,3,0)))","v":""},null,null,null,null,{"$f":"IF(B21=\"\",\"\",VLOOKUP(B21,ｴﾝﾄﾘｰ票!$E$16:$N$115,8,0))","v":""},null,{"$f":"IF(B21=\"\",\"\",IF(VLOOKUP(B21,ｴﾝﾄﾘｰ票!$E$16:$AA$115,12,0)=\"\",\"\",VLOOKUP(B21,ｴﾝﾄﾘｰ票!$E$16:$AA$115,12,0)))","v":""},{"$f":"IF(B21=\"\",\"\",IF(VLOOKUP(B21,ｴﾝﾄﾘｰ票!$E$16:$AA$115,16,0)=\"\",\"\",VLOOKUP(B21,ｴﾝﾄﾘｰ票!$E$16:$AA$115,16,0)))","v":""},{"$f":"IF(B21=\"\",\"\",IF(VLOOKUP(B21,ｴﾝﾄﾘｰ票!$E$16:$AA$115,20,0)=\"\",\"\",VLOOKUP(B21,ｴﾝﾄﾘｰ票!$E$16:$AA$115,20,0)))","v":""},{"$f":"IF(B21=\"\",\"\",IF(ISERROR(VLOOKUP(B21,ｴﾝﾄﾘｰ票!$BF$16:$BG$115,1,0)),\"\",VLOOKUP(B21,ｴﾝﾄﾘｰ票!$BF$16:$BG$115,2,0)))","v":""},null,{"$f":"IF(B21=\"\",\"\",IF(ISERROR(VLOOKUP(B21,ｴﾝﾄﾘｰ票!$BL$16:$BM$115,1,0)),\"\",VLOOKUP(B21,ｴﾝﾄﾘｰ票!$BL$16:$BM$115,2,0)))","v":""}]
[13,{"$f":"IF(ISERROR(VLOOKUP(A22*10-9+6000,ｴﾝﾄﾘｰ票!C$15:AM$115,3,0)),\"\",VLOOKUP(A22*10-9+6000,ｴﾝﾄﾘｰ票!C$15:AM$115,3,0))","v":""},{"$f":"IF(B22=\"\",\"\",CONCATENATE(VLOOKUP(B22,ｴﾝﾄﾘｰ票!$E$16:$N$115,2,0),\"　\",VLOOKUP(B22,ｴﾝﾄﾘｰ票!$E$16:$N$115,3,0)))","v":""},null,null,null,null,{"$f":"IF(B22=\"\",\"\",VLOOKUP(B22,ｴﾝﾄﾘｰ票!$E$16:$N$115,8,0))","v":""},null,{"$f":"IF(B22=\"\",\"\",IF(VLOOKUP(B22,ｴﾝﾄﾘｰ票!$E$16:$AA$115,12,0)=\"\",\"\",VLOOKUP(B22,ｴﾝﾄﾘｰ票!$E$16:$AA$115,12,0)))","v":""},{"$f":"IF(B22=\"\",\"\",IF(VLOOKUP(B22,ｴﾝﾄﾘｰ票!$E$16:$AA$115,16,0)=\"\",\"\",VLOOKUP(B22,ｴﾝﾄﾘｰ票!$E$16:$AA$115,16,0)))","v":""},{"$f":"IF(B22=\"\",\"\",IF(VLOOKUP(B22,ｴﾝﾄﾘｰ票!$E$16:$AA$115,20,0)=\"\",\"\",VLOOKUP(B22,ｴﾝﾄﾘｰ票!$E$16:$AA$115,20,0)))","v":""},{"$f":"IF(B22=\"\",\"\",IF(ISERROR(VLOOKUP(B22,ｴﾝﾄﾘｰ票!$BF$16:$BG$115,1,0)),\"\",VLOOKUP(B22,ｴﾝﾄﾘｰ票!$BF$16:$BG$115,2,0)))","v":""},null,{"$f":"IF(B22=\"\",\"\",IF(ISERROR(VLOOKUP(B22,ｴﾝﾄﾘｰ票!$BL$16:$BM$115,1,0)),\"\",VLOOKUP(B22,ｴﾝﾄﾘｰ票!$BL$16:$BM$115,2,0)))","v":""}]
[14,{"$f":"IF(ISERROR(VLOOKUP(A23*10-9+6000,ｴﾝﾄﾘｰ票!C$15:AM$115,3,0)),\"\",VLOOKUP(A23*10-9+6000,ｴﾝﾄﾘｰ票!C$15:AM$115,3,0))","v":""},{"$f":"IF(B23=\"\",\"\",CONCATENATE(VLOOKUP(B23,ｴﾝﾄﾘｰ票!$E$16:$N$115,2,0),\"　\",VLOOKUP(B23,ｴﾝﾄﾘｰ票!$E$16:$N$115,3,0)))","v":""},null,null,null,null,{"$f":"IF(B23=\"\",\"\",VLOOKUP(B23,ｴﾝﾄﾘｰ票!$E$16:$N$115,8,0))","v":""},null,{"$f":"IF(B23=\"\",\"\",IF(VLOOKUP(B23,ｴﾝﾄﾘｰ票!$E$16:$AA$115,12,0)=\"\",\"\",VLOOKUP(B23,ｴﾝﾄﾘｰ票!$E$16:$AA$115,12,0)))","v":""},{"$f":"IF(B23=\"\",\"\",IF(VLOOKUP(B23,ｴﾝﾄﾘｰ票!$E$16:$AA$115,16,0)=\"\",\"\",VLOOKUP(B23,ｴﾝﾄﾘｰ票!$E$16:$AA$115,16,0)))","v":""},{"$f":"IF(B23=\"\",\"\",IF(VLOOKUP(B23,ｴﾝﾄﾘｰ票!$E$16:$AA$115,20,0)=\"\",\"\",VLOOKUP(B23,ｴﾝﾄﾘｰ票!$E$16:$AA$115,20,0)))","v":""},{"$f":"IF(B23=\"\",\"\",IF(ISERROR(VLOOKUP(B23,ｴﾝﾄﾘｰ票!$BF$16:$BG$115,1,0)),\"\",VLOOKUP(B23,ｴﾝﾄﾘｰ票!$BF$16:$BG$115,2,0)))","v":""},null,{"$f":"IF(B23=\"\",\"\",IF(ISERROR(VLOOKUP(B23,ｴﾝﾄﾘｰ票!$BL$16:$BM$115,1,0)),\"\",VLOOKUP(B23,ｴﾝﾄﾘｰ票!$BL$16:$BM$115,2,0)))","v":""}]
[15,{"$f":"IF(ISERROR(VLOOKUP(A24*10-9+6000,ｴﾝﾄﾘｰ票!C$15:AM$115,3,0)),\"\",VLOOKUP(A24*10-9+6000,ｴﾝﾄﾘｰ票!C$15:AM$115,3,0))","v":""},{"$f":"IF(B24=\"\",\"\",CONCATENATE(VLOOKUP(B24,ｴﾝﾄﾘｰ票!$E$16:$N$115,2,0),\"　\",VLOOKUP(B24,ｴﾝﾄﾘｰ票!$E$16:$N$115,3,0)))","v":""},null,null,null,null,{"$f":"IF(B24=\"\",\"\",VLOOKUP(B24,ｴﾝﾄﾘｰ票!$E$16:$N$115,8,0))","v":""},null,{"$f":"IF(B24=\"\",\"\",IF(VLOOKUP(B24,ｴﾝﾄﾘｰ票!$E$16:$AA$115,12,0)=\"\",\"\",VLOOKUP(B24,ｴﾝﾄﾘｰ票!$E$16:$AA$115,12,0)))","v":""},{"$f":"IF(B24=\"\",\"\",IF(VLOOKUP(B24,ｴﾝﾄﾘｰ票!$E$16:$AA$115,16,0)=\"\",\"\",VLOOKUP(B24,ｴﾝﾄﾘｰ票!$E$16:$AA$115,16,0)))","v":""},{"$f":"IF(B24=\"\",\"\",IF(VLOOKUP(B24,ｴﾝﾄﾘｰ票!$E$16:$AA$115,20,0)=\"\",\"\",VLOOKUP(B24,ｴﾝﾄﾘｰ票!$E$16:$AA$115,20,0)))","v":""},{"$f":"IF(B24=\"\",\"\",IF(ISERROR(VLOOKUP(B24,ｴﾝﾄﾘｰ票!$BF$16:$BG$115,1,0)),\"\",VLOOKUP(B24,ｴﾝﾄﾘｰ票!$BF$16:$BG$115,2,0)))","v":""},null,{"$f":"IF(B24=\"\",\"\",IF(ISERROR(VLOOKUP(B24,ｴﾝﾄﾘｰ票!$BL$16:$BM$115,1,0)),\"\",VLOOKUP(B24,ｴﾝﾄﾘｰ票!$BL$16:$BM$115,2,0)))","v":""}]
[16,{"$f":"IF(ISERROR(VLOOKUP(A25*10-9+6000,ｴﾝﾄﾘｰ票!C$15:AM$115,3,0)),\"\",VLOOKUP(A25*10-9+6000,ｴﾝﾄﾘｰ票!C$15:AM$115,3,0))","v":""},{"$f":"IF(B25=\"\",\"\",CONCATENATE(VLOOKUP(B25,ｴﾝﾄﾘｰ票!$E$16:$N$115,2,0),\"　\",VLOOKUP(B25,ｴﾝﾄﾘｰ票!$E$16:$N$115,3,0)))","v":""},null,null,null,null,{"$f":"IF(B25=\"\",\"\",VLOOKUP(B25,ｴﾝﾄﾘｰ票!$E$16:$N$115,8,0))","v":""},null,{"$f":"IF(B25=\"\",\"\",IF(VLOOKUP(B25,ｴﾝﾄﾘｰ票!$E$16:$AA$115,12,0)=\"\",\"\",VLOOKUP(B25,ｴﾝﾄﾘｰ票!$E$16:$AA$115,12,0)))","v":""},{"$f":"IF(B25=\"\",\"\",IF(VLOOKUP(B25,ｴﾝﾄﾘｰ票!$E$16:$AA$115,16,0)=\"\",\"\",VLOOKUP(B25,ｴﾝﾄﾘｰ票!$E$16:$AA$115,16,0)))","v":""},{"$f":"IF(B25=\"\",\"\",IF(VLOOKUP(B25,ｴﾝﾄﾘｰ票!$E$16:$AA$115,20,0)=\"\",\"\",VLOOKUP(B25,ｴﾝﾄﾘｰ票!$E$16:$AA$115,20,0)))","v":""},{"$f":"IF(B25=\"\",\"\",IF(ISERROR(VLOOKUP(B25,ｴﾝﾄﾘｰ票!$BF$16:$BG$115,1,0)),\"\",VLOOKUP(B25,ｴﾝﾄﾘｰ票!$BF$16:$BG$115,2,0)))","v":""},null,{"$f":"IF(B25=\"\",\"\",IF(ISERROR(VLOOKUP(B25,ｴﾝﾄﾘｰ票!$BL$16:$BM$115,1,0)),\"\",VLOOKUP(B25,ｴﾝﾄﾘｰ票!$BL$16:$BM$115,2,0)))","v":""}]
[17,{"$f":"IF(ISERROR(VLOOKUP(A26*10-9+6000,ｴﾝﾄﾘｰ票!C$15:AM$115,3,0)),\"\",VLOOKUP(A26*10-9+6000,ｴﾝﾄﾘｰ票!C$15:AM$115,3,0))","v":""},{"$f":"IF(B26=\"\",\"\",CONCATENATE(VLOOKUP(B26,ｴﾝﾄﾘｰ票!$E$16:$N$115,2,0),\"　\",VLOOKUP(B26,ｴﾝﾄﾘｰ票!$E$16:$N$115,3,0)))","v":""},null,null,null,null,{"$f":"IF(B26=\"\",\"\",VLOOKUP(B26,ｴﾝﾄﾘｰ票!$E$16:$N$115,8,0))","v":""},null,{"$f":"IF(B26=\"\",\"\",IF(VLOOKUP(B26,ｴﾝﾄﾘｰ票!$E$16:$AA$115,12,0)=\"\",\"\",VLOOKUP(B26,ｴﾝﾄﾘｰ票!$E$16:$AA$115,12,0)))","v":""},{"$f":"IF(B26=\"\",\"\",IF(VLOOKUP(B26,ｴﾝﾄﾘｰ票!$E$16:$AA$115,16,0)=\"\",\"\",VLOOKUP(B26,ｴﾝﾄﾘｰ票!$E$16:$AA$115,16,0)))","v":""},{"$f":"IF(B26=\"\",\"\",IF(VLOOKUP(B26,ｴﾝﾄﾘｰ票!$E$16:$AA$115,20,0)=\"\",\"\",VLOOKUP(B26,ｴﾝﾄﾘｰ票!$E$16:$AA$115,20,0)))","v":""},{"$f":"IF(B26=\"\",\"\",IF(ISERROR(VLOOKUP(B26,ｴﾝﾄﾘｰ票!$BF$16:$BG$115,1,0)),\"\",VLOOKUP(B26,ｴﾝﾄﾘｰ票!$BF$16:$BG$115,2,0)))","v":""},null,{"$f":"IF(B26=\"\",\"\",IF(ISERROR(VLOOKUP(B26,ｴﾝﾄﾘｰ票!$BL$16:$BM$115,1,0)),\"\",VLOOKUP(B26,ｴﾝﾄﾘｰ票!$BL$16:$BM$115,2,0)))","v":""}]
[18,{"$f":"IF(ISERROR(VLOOKUP(A27*10-9+6000,ｴﾝﾄﾘｰ票!C$15:AM$115,3,0)),\"\",VLOOKUP(A27*10-9+6000,ｴﾝﾄﾘｰ票!C$15:AM$115,3,0))","v":""},{"$f":"IF(B27=\"\",\"\",CONCATENATE(VLOOKUP(B27,ｴﾝﾄﾘｰ票!$E$16:$N$115,2,0),\"　\",VLOOKUP(B27,ｴﾝﾄﾘｰ票!$E$16:$N$115,3,0)))","v":""},null,null,null,null,{"$f":"IF(B27=\"\",\"\",VLOOKUP(B27,ｴﾝﾄﾘｰ票!$E$16:$N$115,8,0))","v":""},null,{"$f":"IF(B27=\"\",\"\",IF(VLOOKUP(B27,ｴﾝﾄﾘｰ票!$E$16:$AA$115,12,0)=\"\",\"\",VLOOKUP(B27,ｴﾝﾄﾘｰ票!$E$16:$AA$115,12,0)))","v":""},{"$f":"IF(B27=\"\",\"\",IF(VLOOKUP(B27,ｴﾝﾄﾘｰ票!$E$16:$AA$115,16,0)=\"\",\"\",VLOOKUP(B27,ｴﾝﾄﾘｰ票!$E$16:$AA$115,16,0)))","v":""},{"$f":"IF(B27=\"\",\"\",IF(VLOOKUP(B27,ｴﾝﾄﾘｰ票!$E$16:$AA$115,20,0)=\"\",\"\",VLOOKUP(B27,ｴﾝﾄﾘｰ票!$E$16:$AA$115,20,0)))","v":""},{"$f":"IF(B27=\"\",\"\",IF(ISERROR(VLOOKUP(B27,ｴﾝﾄﾘｰ票!$BF$16:$BG$115,1,0)),\"\",VLOOKUP(B27,ｴﾝﾄﾘｰ票!$BF$16:$BG$115,2,0)))","v":""},null,{"$f":"IF(B27=\"\",\"\",IF(ISERROR(VLOOKUP(B27,ｴﾝﾄﾘｰ票!$BL$16:$BM$115,1,0)),\"\",VLOOKUP(B27,ｴﾝﾄﾘｰ票!$BL$16:$BM$115,2,0)))","v":""}]
[19,{"$f":"IF(ISERROR(VLOOKUP(A28*10-9+6000,ｴﾝﾄﾘｰ票!C$15:AM$115,3,0)),\"\",VLOOKUP(A28*10-9+6000,ｴﾝﾄﾘｰ票!C$15:AM$115,3,0))","v":""},{"$f":"IF(B28=\"\",\"\",CONCATENATE(VLOOKUP(B28,ｴﾝﾄﾘｰ票!$E$16:$N$115,2,0),\"　\",VLOOKUP(B28,ｴﾝﾄﾘｰ票!$E$16:$N$115,3,0)))","v":""},null,null,null,null,{"$f":"IF(B28=\"\",\"\",VLOOKUP(B28,ｴﾝﾄﾘｰ票!$E$16:$N$115,8,0))","v":""},null,{"$f":"IF(B28=\"\",\"\",IF(VLOOKUP(B28,ｴﾝﾄﾘｰ票!$E$16:$AA$115,12,0)=\"\",\"\",VLOOKUP(B28,ｴﾝﾄﾘｰ票!$E$16:$AA$115,12,0)))","v":""},{"$f":"IF(B28=\"\",\"\",IF(VLOOKUP(B28,ｴﾝﾄﾘｰ票!$E$16:$AA$115,16,0)=\"\",\"\",VLOOKUP(B28,ｴﾝﾄﾘｰ票!$E$16:$AA$115,16,0)))","v":""},{"$f":"IF(B28=\"\",\"\",IF(VLOOKUP(B28,ｴﾝﾄﾘｰ票!$E$16:$AA$115,20,0)=\"\",\"\",VLOOKUP(B28,ｴﾝﾄﾘｰ票!$E$16:$AA$115,20,0)))","v":""},{"$f":"IF(B28=\"\",\"\",IF(ISERROR(VLOOKUP(B28,ｴﾝﾄﾘｰ票!$BF$16:$BG$115,1,0)),\"\",VLOOKUP(B28,ｴﾝﾄﾘｰ票!$BF$16:$BG$115,2,0)))","v":""},null,{"$f":"IF(B28=\"\",\"\",IF(ISERROR(VLOOKUP(B28,ｴﾝﾄﾘｰ票!$BL$16:$BM$115,1,0)),\"\",VLOOKUP(B28,ｴﾝﾄﾘｰ票!$BL$16:$BM$115,2,0)))","v":""}]
[20,{"$f":"IF(ISERROR(VLOOKUP(A29*10-9+6000,ｴﾝﾄﾘｰ票!C$15:AM$115,3,0)),\"\",VLOOKUP(A29*10-9+6000,ｴﾝﾄﾘｰ票!C$15:AM$115,3,0))","v":""},{"$f":"IF(B29=\"\",\"\",CONCATENATE(VLOOKUP(B29,ｴﾝﾄﾘｰ票!$E$16:$N$115,2,0),\"　\",VLOOKUP(B29,ｴﾝﾄﾘｰ票!$E$16:$N$115,3,0)))","v":""},null,null,null,null,{"$f":"IF(B29=\"\",\"\",VLOOKUP(B29,ｴﾝﾄﾘｰ票!$E$16:$N$115,8,0))","v":""},null,{"$f":"IF(B29=\"\",\"\",IF(VLOOKUP(B29,ｴﾝﾄﾘｰ票!$E$16:$AA$115,12,0)=\"\",\"\",VLOOKUP(B29,ｴﾝﾄﾘｰ票!$E$16:$AA$115,12,0)))","v":""},{"$f":"IF(B29=\"\",\"\",IF(VLOOKUP(B29,ｴﾝﾄﾘｰ票!$E$16:$AA$115,16,0)=\"\",\"\",VLOOKUP(B29,ｴﾝﾄﾘｰ票!$E$16:$AA$115,16,0)))","v":""},{"$f":"IF(B29=\"\",\"\",IF(VLOOKUP(B29,ｴﾝﾄﾘｰ票!$E$16:$AA$115,20,0)=\"\",\"\",VLOOKUP(B29,ｴﾝﾄﾘｰ票!$E$16:$AA$115,20,0)))","v":""},{"$f":"IF(B29=\"\",\"\",IF(ISERROR(VLOOKUP(B29,ｴﾝﾄﾘｰ票!$BF$16:$BG$115,1,0)),\"\",VLOOKUP(B29,ｴﾝﾄﾘｰ票!$BF$16:$BG$115,2,0)))","v":""},null,{"$f":"IF(B29=\"\",\"\",IF(ISERROR(VLOOKUP(B29,ｴﾝﾄﾘｰ票!$BL$16:$BM$115,1,0)),\"\",VLOOKUP(B29,ｴﾝﾄﾘｰ票!$BL$16:$BM$115,2,0)))","v":""}]
[21,{"$f":"IF(ISERROR(VLOOKUP(A30*10-9+6000,ｴﾝﾄﾘｰ票!C$15:AM$115,3,0)),\"\",VLOOKUP(A30*10-9+6000,ｴﾝﾄﾘｰ票!C$15:AM$115,3,0))","v":""},{"$f":"IF(B30=\"\",\"\",CONCATENATE(VLOOKUP(B30,ｴﾝﾄﾘｰ票!$E$16:$N$115,2,0),\"　\",VLOOKUP(B30,ｴﾝﾄﾘｰ票!$E$16:$N$115,3,0)))","v":""},null,null,null,null,{"$f":"IF(B30=\"\",\"\",VLOOKUP(B30,ｴﾝﾄﾘｰ票!$E$16:$N$115,8,0))","v":""},null,{"$f":"IF(B30=\"\",\"\",IF(VLOOKUP(B30,ｴﾝﾄﾘｰ票!$E$16:$AA$115,12,0)=\"\",\"\",VLOOKUP(B30,ｴﾝﾄﾘｰ票!$E$16:$AA$115,12,0)))","v":""},{"$f":"IF(B30=\"\",\"\",IF(VLOOKUP(B30,ｴﾝﾄﾘｰ票!$E$16:$AA$115,16,0)=\"\",\"\",VLOOKUP(B30,ｴﾝﾄﾘｰ票!$E$16:$AA$115,16,0)))","v":""},{"$f":"IF(B30=\"\",\"\",IF(VLOOKUP(B30,ｴﾝﾄﾘｰ票!$E$16:$AA$115,20,0)=\"\",\"\",VLOOKUP(B30,ｴﾝﾄﾘｰ票!$E$16:$AA$115,20,0)))","v":""},{"$f":"IF(B30=\"\",\"\",IF(ISERROR(VLOOKUP(B30,ｴﾝﾄﾘｰ票!$BF$16:$BG$115,1,0)),\"\",VLOOKUP(B30,ｴﾝﾄﾘｰ票!$BF$16:$BG$115,2,0)))","v":""},null,{"$f":"IF(B30=\"\",\"\",IF(ISERROR(VLOOKUP(B30,ｴﾝﾄﾘｰ票!$BL$16:$BM$115,1,0)),\"\",VLOOKUP(B30,ｴﾝﾄﾘｰ票!$BL$16:$BM$115,2,0)))","v":""}]
[22,{"$f":"IF(ISERROR(VLOOKUP(A31*10-9+6000,ｴﾝﾄﾘｰ票!C$15:AM$115,3,0)),\"\",VLOOKUP(A31*10-9+6000,ｴﾝﾄﾘｰ票!C$15:AM$115,3,0))","v":""},{"$f":"IF(B31=\"\",\"\",CONCATENATE(VLOOKUP(B31,ｴﾝﾄﾘｰ票!$E$16:$N$115,2,0),\"　\",VLOOKUP(B31,ｴﾝﾄﾘｰ票!$E$16:$N$115,3,0)))","v":""},null,null,null,null,{"$f":"IF(B31=\"\",\"\",VLOOKUP(B31,ｴﾝﾄﾘｰ票!$E$16:$N$115,8,0))","v":""},null,{"$f":"IF(B31=\"\",\"\",IF(VLOOKUP(B31,ｴﾝﾄﾘｰ票!$E$16:$AA$115,12,0)=\"\",\"\",VLOOKUP(B31,ｴﾝﾄﾘｰ票!$E$16:$AA$115,12,0)))","v":""},{"$f":"IF(B31=\"\",\"\",IF(VLOOKUP(B31,ｴﾝﾄﾘｰ票!$E$16:$AA$115,16,0)=\"\",\"\",VLOOKUP(B31,ｴﾝﾄﾘｰ票!$E$16:$AA$115,16,0)))","v":""},{"$f":"IF(B31=\"\",\"\",IF(VLOOKUP(B31,ｴﾝﾄﾘｰ票!$E$16:$AA$115,20,0)=\"\",\"\",VLOOKUP(B31,ｴﾝﾄﾘｰ票!$E$16:$AA$115,20,0)))","v":""},{"$f":"IF(B31=\"\",\"\",IF(ISERROR(VLOOKUP(B31,ｴﾝﾄﾘｰ票!$BF$16:$BG$115,1,0)),\"\",VLOOKUP(B31,ｴﾝﾄﾘｰ票!$BF$16:$BG$115,2,0)))","v":""},null,{"$f":"IF(B31=\"\",\"\",IF(ISERROR(VLOOKUP(B31,ｴﾝﾄﾘｰ票!$BL$16:$BM$115,1,0)),\"\",VLOOKUP(B31,ｴﾝﾄﾘｰ票!$BL$16:$BM$115,2,0)))","v":""}]
[23,{"$f":"IF(ISERROR(VLOOKUP(A32*10-9+6000,ｴﾝﾄﾘｰ票!C$15:AM$115,3,0)),\"\",VLOOKUP(A32*10-9+6000,ｴﾝﾄﾘｰ票!C$15:AM$115,3,0))","v":""},{"$f":"IF(B32=\"\",\"\",CONCATENATE(VLOOKUP(B32,ｴﾝﾄﾘｰ票!$E$16:$N$115,2,0),\"　\",VLOOKUP(B32,ｴﾝﾄﾘｰ票!$E$16:$N$115,3,0)))","v":""},null,null,null,null,{"$f":"IF(B32=\"\",\"\",VLOOKUP(B32,ｴﾝﾄﾘｰ票!$E$16:$N$115,8,0))","v":""},null,{"$f":"IF(B32=\"\",\"\",IF(VLOOKUP(B32,ｴﾝﾄﾘｰ票!$E$16:$AA$115,12,0)=\"\",\"\",VLOOKUP(B32,ｴﾝﾄﾘｰ票!$E$16:$AA$115,12,0)))","v":""},{"$f":"IF(B32=\"\",\"\",IF(VLOOKUP(B32,ｴﾝﾄﾘｰ票!$E$16:$AA$115,16,0)=\"\",\"\",VLOOKUP(B32,ｴﾝﾄﾘｰ票!$E$16:$AA$115,16,0)))","v":""},{"$f":"IF(B32=\"\",\"\",IF(VLOOKUP(B32,ｴﾝﾄﾘｰ票!$E$16:$AA$115,20,0)=\"\",\"\",VLOOKUP(B32,ｴﾝﾄﾘｰ票!$E$16:$AA$115,20,0)))","v":""},{"$f":"IF(B32=\"\",\"\",IF(ISERROR(VLOOKUP(B32,ｴﾝﾄﾘｰ票!$BF$16:$BG$115,1,0)),\"\",VLOOKUP(B32,ｴﾝﾄﾘｰ票!$BF$16:$BG$115,2,0)))","v":""},null,{"$f":"IF(B32=\"\",\"\",IF(ISERROR(VLOOKUP(B32,ｴﾝﾄﾘｰ票!$BL$16:$BM$115,1,0)),\"\",VLOOKUP(B32,ｴﾝﾄﾘｰ票!$BL$16:$BM$115,2,0)))","v":""}]
[24,{"$f":"IF(ISERROR(VLOOKUP(A33*10-9+6000,ｴﾝﾄﾘｰ票!C$15:AM$115,3,0)),\"\",VLOOKUP(A33*10-9+6000,ｴﾝﾄﾘｰ票!C$15:AM$115,3,0))","v":""},{"$f":"IF(B33=\"\",\"\",CONCATENATE(VLOOKUP(B33,ｴﾝﾄﾘｰ票!$E$16:$N$115,2,0),\"　\",VLOOKUP(B33,ｴﾝﾄﾘｰ票!$E$16:$N$115,3,0)))","v":""},null,null,null,null,{"$f":"IF(B33=\"\",\"\",VLOOKUP(B33,ｴﾝﾄﾘｰ票!$E$16:$N$115,8,0))","v":""},null,{"$f":"IF(B33=\"\",\"\",IF(VLOOKUP(B33,ｴﾝﾄﾘｰ票!$E$16:$AA$115,12,0)=\"\",\"\",VLOOKUP(B33,ｴﾝﾄﾘｰ票!$E$16:$AA$115,12,0)))","v":""},{"$f":"IF(B33=\"\",\"\",IF(VLOOKUP(B33,ｴﾝﾄﾘｰ票!$E$16:$AA$115,16,0)=\"\",\"\",VLOOKUP(B33,ｴﾝﾄﾘｰ票!$E$16:$AA$115,16,0)))","v":""},{"$f":"IF(B33=\"\",\"\",IF(VLOOKUP(B33,ｴﾝﾄﾘｰ票!$E$16:$AA$115,20,0)=\"\",\"\",VLOOKUP(B33,ｴﾝﾄﾘｰ票!$E$16:$AA$115,20,0)))","v":""},{"$f":"IF(B33=\"\",\"\",IF(ISERROR(VLOOKUP(B33,ｴﾝﾄﾘｰ票!$BF$16:$BG$115,1,0)),\"\",VLOOKUP(B33,ｴﾝﾄﾘｰ票!$BF$16:$BG$115,2,0)))","v":""},null,{"$f":"IF(B33=\"\",\"\",IF(ISERROR(VLOOKUP(B33,ｴﾝﾄﾘｰ票!$BL$16:$BM$115,1,0)),\"\",VLOOKUP(B33,ｴﾝﾄﾘｰ票!$BL$16:$BM$115,2,0)))","v":""}]
[25,{"$f":"IF(ISERROR(VLOOKUP(A34*10-9+6000,ｴﾝﾄﾘｰ票!C$15:AM$115,3,0)),\"\",VLOOKUP(A34*10-9+6000,ｴﾝﾄﾘｰ票!C$15:AM$115,3,0))","v":""},{"$f":"IF(B34=\"\",\"\",CONCATENATE(VLOOKUP(B34,ｴﾝﾄﾘｰ票!$E$16:$N$115,2,0),\"　\",VLOOKUP(B34,ｴﾝﾄﾘｰ票!$E$16:$N$115,3,0)))","v":""},null,null,null,null,{"$f":"IF(B34=\"\",\"\",VLOOKUP(B34,ｴﾝﾄﾘｰ票!$E$16:$N$115,8,0))","v":""},null,{"$f":"IF(B34=\"\",\"\",IF(VLOOKUP(B34,ｴﾝﾄﾘｰ票!$E$16:$AA$115,12,0)=\"\",\"\",VLOOKUP(B34,ｴﾝﾄﾘｰ票!$E$16:$AA$115,12,0)))","v":""},{"$f":"IF(B34=\"\",\"\",IF(VLOOKUP(B34,ｴﾝﾄﾘｰ票!$E$16:$AA$115,16,0)=\"\",\"\",VLOOKUP(B34,ｴﾝﾄﾘｰ票!$E$16:$AA$115,16,0)))","v":""},{"$f":"IF(B34=\"\",\"\",IF(VLOOKUP(B34,ｴﾝﾄﾘｰ票!$E$16:$AA$115,20,0)=\"\",\"\",VLOOKUP(B34,ｴﾝﾄﾘｰ票!$E$16:$AA$115,20,0)))","v":""},{"$f":"IF(B34=\"\",\"\",IF(ISERROR(VLOOKUP(B34,ｴﾝﾄﾘｰ票!$BF$16:$BG$115,1,0)),\"\",VLOOKUP(B34,ｴﾝﾄﾘｰ票!$BF$16:$BG$115,2,0)))","v":""},null,{"$f":"IF(B34=\"\",\"\",IF(ISERROR(VLOOKUP(B34,ｴﾝﾄﾘｰ票!$BL$16:$BM$115,1,0)),\"\",VLOOKUP(B34,ｴﾝﾄﾘｰ票!$BL$16:$BM$115,2,0)))","v":""}]
[26,{"$f":"IF(ISERROR(VLOOKUP(A35*10-9+6000,ｴﾝﾄﾘｰ票!C$15:AM$115,3,0)),\"\",VLOOKUP(A35*10-9+6000,ｴﾝﾄﾘｰ票!C$15:AM$115,3,0))","v":""},{"$f":"IF(B35=\"\",\"\",CONCATENATE(VLOOKUP(B35,ｴﾝﾄﾘｰ票!$E$16:$N$115,2,0),\"　\",VLOOKUP(B35,ｴﾝﾄﾘｰ票!$E$16:$N$115,3,0)))","v":""},null,null,null,null,{"$f":"IF(B35=\"\",\"\",VLOOKUP(B35,ｴﾝﾄﾘｰ票!$E$16:$N$115,8,0))","v":""},null,{"$f":"IF(B35=\"\",\"\",IF(VLOOKUP(B35,ｴﾝﾄﾘｰ票!$E$16:$AA$115,12,0)=\"\",\"\",VLOOKUP(B35,ｴﾝﾄﾘｰ票!$E$16:$AA$115,12,0)))","v":""},{"$f":"IF(B35=\"\",\"\",IF(VLOOKUP(B35,ｴﾝﾄﾘｰ票!$E$16:$AA$115,16,0)=\"\",\"\",VLOOKUP(B35,ｴﾝﾄﾘｰ票!$E$16:$AA$115,16,0)))","v":""},{"$f":"IF(B35=\"\",\"\",IF(VLOOKUP(B35,ｴﾝﾄﾘｰ票!$E$16:$AA$115,20,0)=\"\",\"\",VLOOKUP(B35,ｴﾝﾄﾘｰ票!$E$16:$AA$115,20,0)))","v":""},{"$f":"IF(B35=\"\",\"\",IF(ISERROR(VLOOKUP(B35,ｴﾝﾄﾘｰ票!$BF$16:$BG$115,1,0)),\"\",VLOOKUP(B35,ｴﾝﾄﾘｰ票!$BF$16:$BG$115,2,0)))","v":""},null,{"$f":"IF(B35=\"\",\"\",IF(ISERROR(VLOOKUP(B35,ｴﾝﾄﾘｰ票!$BL$16:$BM$115,1,0)),\"\",VLOOKUP(B35,ｴﾝﾄﾘｰ票!$BL$16:$BM$115,2,0)))","v":""}]
[27,{"$f":"IF(ISERROR(VLOOKUP(A36*10-9+6000,ｴﾝﾄﾘｰ票!C$15:AM$115,3,0)),\"\",VLOOKUP(A36*10-9+6000,ｴﾝﾄﾘｰ票!C$15:AM$115,3,0))","v":""},{"$f":"IF(B36=\"\",\"\",CONCATENATE(VLOOKUP(B36,ｴﾝﾄﾘｰ票!$E$16:$N$115,2,0),\"　\",VLOOKUP(B36,ｴﾝﾄﾘｰ票!$E$16:$N$115,3,0)))","v":""},null,null,null,null,{"$f":"IF(B36=\"\",\"\",VLOOKUP(B36,ｴﾝﾄﾘｰ票!$E$16:$N$115,8,0))","v":""},null,{"$f":"IF(B36=\"\",\"\",IF(VLOOKUP(B36,ｴﾝﾄﾘｰ票!$E$16:$AA$115,12,0)=\"\",\"\",VLOOKUP(B36,ｴﾝﾄﾘｰ票!$E$16:$AA$115,12,0)))","v":""},{"$f":"IF(B36=\"\",\"\",IF(VLOOKUP(B36,ｴﾝﾄﾘｰ票!$E$16:$AA$115,16,0)=\"\",\"\",VLOOKUP(B36,ｴﾝﾄﾘｰ票!$E$16:$AA$115,16,0)))","v":""},{"$f":"IF(B36=\"\",\"\",IF(VLOOKUP(B36,ｴﾝﾄﾘｰ票!$E$16:$AA$115,20,0)=\"\",\"\",VLOOKUP(B36,ｴﾝﾄﾘｰ票!$E$16:$AA$115,20,0)))","v":""},{"$f":"IF(B36=\"\",\"\",IF(ISERROR(VLOOKUP(B36,ｴﾝﾄﾘｰ票!$BF$16:$BG$115,1,0)),\"\",VLOOKUP(B36,ｴﾝﾄﾘｰ票!$BF$16:$BG$115,2,0)))","v":""},null,{"$f":"IF(B36=\"\",\"\",IF(ISERROR(VLOOKUP(B36,ｴﾝﾄﾘｰ票!$BL$16:$BM$115,1,0)),\"\",VLOOKUP(B36,ｴﾝﾄﾘｰ票!$BL$16:$BM$115,2,0)))","v":""}]
[28,{"$f":"IF(ISERROR(VLOOKUP(A37*10-9+6000,ｴﾝﾄﾘｰ票!C$15:AM$115,3,0)),\"\",VLOOKUP(A37*10-9+6000,ｴﾝﾄﾘｰ票!C$15:AM$115,3,0))","v":""},{"$f":"IF(B37=\"\",\"\",CONCATENATE(VLOOKUP(B37,ｴﾝﾄﾘｰ票!$E$16:$N$115,2,0),\"　\",VLOOKUP(B37,ｴﾝﾄﾘｰ票!$E$16:$N$115,3,0)))","v":""},null,null,null,null,{"$f":"IF(B37=\"\",\"\",VLOOKUP(B37,ｴﾝﾄﾘｰ票!$E$16:$N$115,8,0))","v":""},null,{"$f":"IF(B37=\"\",\"\",IF(VLOOKUP(B37,ｴﾝﾄﾘｰ票!$E$16:$AA$115,12,0)=\"\",\"\",VLOOKUP(B37,ｴﾝﾄﾘｰ票!$E$16:$AA$115,12,0)))","v":""},{"$f":"IF(B37=\"\",\"\",IF(VLOOKUP(B37,ｴﾝﾄﾘｰ票!$E$16:$AA$115,16,0)=\"\",\"\",VLOOKUP(B37,ｴﾝﾄﾘｰ票!$E$16:$AA$115,16,0)))","v":""},{"$f":"IF(B37=\"\",\"\",IF(VLOOKUP(B37,ｴﾝﾄﾘｰ票!$E$16:$AA$115,20,0)=\"\",\"\",VLOOKUP(B37,ｴﾝﾄﾘｰ票!$E$16:$AA$115,20,0)))","v":""},{"$f":"IF(B37=\"\",\"\",IF(ISERROR(VLOOKUP(B37,ｴﾝﾄﾘｰ票!$BF$16:$BG$115,1,0)),\"\",VLOOKUP(B37,ｴﾝﾄﾘｰ票!$BF$16:$BG$115,2,0)))","v":""},null,{"$f":"IF(B37=\"\",\"\",IF(ISERROR(VLOOKUP(B37,ｴﾝﾄﾘｰ票!$BL$16:$BM$115,1,0)),\"\",VLOOKUP(B37,ｴﾝﾄﾘｰ票!$BL$16:$BM$115,2,0)))","v":""}]
[29,{"$f":"IF(ISERROR(VLOOKUP(A38*10-9+6000,ｴﾝﾄﾘｰ票!C$15:AM$115,3,0)),\"\",VLOOKUP(A38*10-9+6000,ｴﾝﾄﾘｰ票!C$15:AM$115,3,0))","v":""},{"$f":"IF(B38=\"\",\"\",CONCATENATE(VLOOKUP(B38,ｴﾝﾄﾘｰ票!$E$16:$N$115,2,0),\"　\",VLOOKUP(B38,ｴﾝﾄﾘｰ票!$E$16:$N$115,3,0)))","v":""},null,null,null,null,{"$f":"IF(B38=\"\",\"\",VLOOKUP(B38,ｴﾝﾄﾘｰ票!$E$16:$N$115,8,0))","v":""},null,{"$f":"IF(B38=\"\",\"\",IF(VLOOKUP(B38,ｴﾝﾄﾘｰ票!$E$16:$AA$115,12,0)=\"\",\"\",VLOOKUP(B38,ｴﾝﾄﾘｰ票!$E$16:$AA$115,12,0)))","v":""},{"$f":"IF(B38=\"\",\"\",IF(VLOOKUP(B38,ｴﾝﾄﾘｰ票!$E$16:$AA$115,16,0)=\"\",\"\",VLOOKUP(B38,ｴﾝﾄﾘｰ票!$E$16:$AA$115,16,0)))","v":""},{"$f":"IF(B38=\"\",\"\",IF(VLOOKUP(B38,ｴﾝﾄﾘｰ票!$E$16:$AA$115,20,0)=\"\",\"\",VLOOKUP(B38,ｴﾝﾄﾘｰ票!$E$16:$AA$115,20,0)))","v":""},{"$f":"IF(B38=\"\",\"\",IF(ISERROR(VLOOKUP(B38,ｴﾝﾄﾘｰ票!$BF$16:$BG$115,1,0)),\"\",VLOOKUP(B38,ｴﾝﾄﾘｰ票!$BF$16:$BG$115,2,0)))","v":""},null,{"$f":"IF(B38=\"\",\"\",IF(ISERROR(VLOOKUP(B38,ｴﾝﾄﾘｰ票!$BL$16:$BM$115,1,0)),\"\",VLOOKUP(B38,ｴﾝﾄﾘｰ票!$BL$16:$BM$115,2,0)))","v":""}]
[30,{"$f":"IF(ISERROR(VLOOKUP(A39*10-9+6000,ｴﾝﾄﾘｰ票!C$15:AM$115,3,0)),\"\",VLOOKUP(A39*10-9+6000,ｴﾝﾄﾘｰ票!C$15:AM$115,3,0))","v":""},{"$f":"IF(B39=\"\",\"\",CONCATENATE(VLOOKUP(B39,ｴﾝﾄﾘｰ票!$E$16:$N$115,2,0),\"　\",VLOOKUP(B39,ｴﾝﾄﾘｰ票!$E$16:$N$115,3,0)))","v":""},null,null,null,null,{"$f":"IF(B39=\"\",\"\",VLOOKUP(B39,ｴﾝﾄﾘｰ票!$E$16:$N$115,8,0))","v":""},null,{"$f":"IF(B39=\"\",\"\",IF(VLOOKUP(B39,ｴﾝﾄﾘｰ票!$E$16:$AA$115,12,0)=\"\",\"\",VLOOKUP(B39,ｴﾝﾄﾘｰ票!$E$16:$AA$115,12,0)))","v":""},{"$f":"IF(B39=\"\",\"\",IF(VLOOKUP(B39,ｴﾝﾄﾘｰ票!$E$16:$AA$115,16,0)=\"\",\"\",VLOOKUP(B39,ｴﾝﾄﾘｰ票!$E$16:$AA$115,16,0)))","v":""},{"$f":"IF(B39=\"\",\"\",IF(VLOOKUP(B39,ｴﾝﾄﾘｰ票!$E$16:$AA$115,20,0)=\"\",\"\",VLOOKUP(B39,ｴﾝﾄﾘｰ票!$E$16:$AA$115,20,0)))","v":""},{"$f":"IF(B39=\"\",\"\",IF(ISERROR(VLOOKUP(B39,ｴﾝﾄﾘｰ票!$BF$16:$BG$115,1,0)),\"\",VLOOKUP(B39,ｴﾝﾄﾘｰ票!$BF$16:$BG$115,2,0)))","v":""},null,{"$f":"IF(B39=\"\",\"\",IF(ISERROR(VLOOKUP(B39,ｴﾝﾄﾘｰ票!$BL$16:$BM$115,1,0)),\"\",VLOOKUP(B39,ｴﾝﾄﾘｰ票!$BL$16:$BM$115,2,0)))","v":""}]
[]
[null,null,"個人",null,"ﾘﾚｰ",null,null,"プログラム"]
[null,null,"@600円",null,"＠1200円",null,null,"＠600円"]
[null,null,{"$f":"300-COUNTBLANK(J10:L39)-COUNTBLANK(J54:L88)-COUNTBLANK(J98:L132)","v":0},null,{"$f":"ｴﾝﾄﾘｰ票!AB12+ｴﾝﾄﾘｰ票!AC12","v":0},null,null,{"$f":"ｴﾝﾄﾘｰ票!AE12","v":1},null,null,"合計"]
[null,null,{"$f":"C43*600","v":0},null,null,{"$f":"E43*1200","v":0},null,{"$f":"H43*600","v":600},null,null,{"$f":"C44+F44+H44","v":600}]
[null,{"$f":"ｴﾝﾄﾘｰ票!$G$1","v":"東京高体連陸上第4支部春季競技会"},null,null,null,null,null,null,null,null,null,null,null,null,"申込用紙(A票）"]
[{"$f":"A2","v":"令和5年度"},null,null,null,null,null,null,null,null,null,null,null,"女子",null,"Ｎｏ．２"]
["学校名",null,{"$f":"ｴﾝﾄﾘｰ票!$G$2","v":0}]
["学校所在地",null,{"$f":"ｴﾝﾄﾘｰ票!$G$5","v":0}]
["学校長",null,{"$f":"ｴﾝﾄﾘｰ票!$G$4","v":0},null,null,null,null,null,null,"印","顧問氏名",{"$f":"ｴﾝﾄﾘｰ票!$G$8","v":0},null,null,"印"]
["電話",null,{"$f":"ｴﾝﾄﾘｰ票!$G$6","v":"00:00:00"},null,null,null,"ＦＡＸ",{"$f":"ｴﾝﾄﾘｰ票!$G$7","v":0},null,null,"連絡先",{"$f":"ｴﾝﾄﾘｰ票!$G$9","v":0}]
[]
[null,null,null,null,null,null,null,null,null,null,null,"種目"]
[null,"番号","出場者氏名",null,null,null,null,"学年",null,"個人","個人","個人","4×100",null,"4×400"]
[31,{"$f":"IF(ISERROR(VLOOKUP(A54*10-9+6000,ｴﾝﾄﾘｰ票!C$15:AM$115,3,0)),\"\",VLOOKUP(A54*10-9+6000,ｴﾝﾄﾘｰ票!C$15:AM$115,3,0))","v":""},{"$f":"IF(B54=\"\",\"\",CONCATENATE(VLOOKUP(B54,ｴﾝﾄﾘｰ票!$E$16:$N$115,2,0),\"　\",VLOOKUP(B54,ｴﾝﾄﾘｰ票!$E$16:$N$115,3,0)))","v":""},null,null,null,null,{"$f":"IF(B54=\"\",\"\",VLOOKUP(B54,ｴﾝﾄﾘｰ票!$E$16:$N$115,8,0))","v":""},null,{"$f":"IF(B54=\"\",\"\",IF(VLOOKUP(B54,ｴﾝﾄﾘｰ票!$E$16:$AA$115,12,0)=\"\",\"\",VLOOKUP(B54,ｴﾝﾄﾘｰ票!$E$16:$AA$115,12,0)))","v":""},{"$f":"IF(B54=\"\",\"\",IF(VLOOKUP(B54,ｴﾝﾄﾘｰ票!$E$16:$AA$115,16,0)=\"\",\"\",VLOOKUP(B54,ｴﾝﾄﾘｰ票!$E$16:$AA$115,16,0)))","v":""},{"$f":"IF(B54=\"\",\"\",IF(VLOOKUP(B54,ｴﾝﾄﾘｰ票!$E$16:$AA$115,20,0)=\"\",\"\",VLOOKUP(B54,ｴﾝﾄﾘｰ票!$E$16:$AA$115,20,0)))","v":""},{"$f":"IF(B54=\"\",\"\",IF(ISERROR(VLOOKUP(B54,ｴﾝﾄﾘｰ票!$BF$16:$BG$115,1,0)),\"\",VLOOKUP(B54,ｴﾝﾄﾘｰ票!$BF$16:$BG$115,2,0)))","v":""},null,{"$f":"IF(B54=\"\",\"\",IF(ISERROR(VLOOKUP(B54,ｴﾝﾄﾘｰ票!$BL$16:$BM$115,1,0)),\"\",VLOOKUP(B54,ｴﾝﾄﾘｰ票!$BL$16:$BM$115,2,0)))","v":""}]
[32,{"$f":"IF(ISERROR(VLOOKUP(A55*10-9+6000,ｴﾝﾄﾘｰ票!C$15:AM$115,3,0)),\"\",VLOOKUP(A55*10-9+6000,ｴﾝﾄﾘｰ票!C$15:AM$115,3,0))","v":""},{"$f":"IF(B55=\"\",\"\",CONCATENATE(VLOOKUP(B55,ｴﾝﾄﾘｰ票!$E$16:$N$115,2,0),\"　\",VLOOKUP(B55,ｴﾝﾄﾘｰ票!$E$16:$N$115,3,0)))","v":""},null,null,null,null,{"$f":"IF(B55=\"\",\"\",VLOOKUP(B55,ｴﾝﾄﾘｰ票!$E$16:$N$115,8,0))","v":""},null,{"$f":"IF(B55=\"\",\"\",IF(VLOOKUP(B55,ｴﾝﾄﾘｰ票!$E$16:$AA$115,12,0)=\"\",\"\",VLOOKUP(B55,ｴﾝﾄﾘｰ票!$E$16:$AA$115,12,0)))","v":""},{"$f":"IF(B55=\"\",\"\",IF(VLOOKUP(B55,ｴﾝﾄﾘｰ票!$E$16:$AA$115,16,0)=\"\",\"\",VLOOKUP(B55,ｴﾝﾄﾘｰ票!$E$16:$AA$115,16,0)))","v":""},{"$f":"IF(B55=\"\",\"\",IF(VLOOKUP(B55,ｴﾝﾄﾘｰ票!$E$16:$AA$115,20,0)=\"\",\"\",VLOOKUP(B55,ｴﾝﾄﾘｰ票!$E$16:$AA$115,20,0)))","v":""},{"$f":"IF(B55=\"\",\"\",IF(ISERROR(VLOOKUP(B55,ｴﾝﾄﾘｰ票!$BF$16:$BG$115,1,0)),\"\",VLOOKUP(B55,ｴﾝﾄﾘｰ票!$BF$16:$BG$115,2,0)))","v":""},null,{"$f":"IF(B55=\"\",\"\",IF(ISERROR(VLOOKUP(B55,ｴﾝﾄﾘｰ票!$BL$16:$BM$115,1,0)),\"\",VLOOKUP(B55,ｴﾝﾄﾘｰ票!$BL$16:$BM$115,2,0)))","v":""}]
[33,{"$f":"IF(ISERROR(VLOOKUP(A56*10-9+6000,ｴﾝﾄﾘｰ票!C$15:AM$115,3,0)),\"\",VLOOKUP(A56*10-9+6000,ｴﾝﾄﾘｰ票!C$15:AM$115,3,0))","v":""},{"$f":"IF(B56=\"\",\"\",CONCATENATE(VLOOKUP(B56,ｴﾝﾄﾘｰ票!$E$16:$N$115,2,0),\"　\",VLOOKUP(B56,ｴﾝﾄﾘｰ票!$E$16:$N$115,3,0)))","v":""},null,null,null,null,{"$f":"IF(B56=\"\",\"\",VLOOKUP(B56,ｴﾝﾄﾘｰ票!$E$16:$N$115,8,0))","v":""},null,{"$f":"IF(B56=\"\",\"\",IF(VLOOKUP(B56,ｴﾝﾄﾘｰ票!$E$16:$AA$115,12,0)=\"\",\"\",VLOOKUP(B56,ｴﾝﾄﾘｰ票!$E$16:$AA$115,12,0)))","v":""},{"$f":"IF(B56=\"\",\"\",IF(VLOOKUP(B56,ｴﾝﾄﾘｰ票!$E$16:$AA$115,16,0)=\"\",\"\",VLOOKUP(B56,ｴﾝﾄﾘｰ票!$E$16:$AA$115,16,0)))","v":""},{"$f":"IF(B56=\"\",\"\",IF(VLOOKUP(B56,ｴﾝﾄﾘｰ票!$E$16:$AA$115,20,0)=\"\",\"\",VLOOKUP(B56,ｴﾝﾄﾘｰ票!$E$16:$AA$115,20,0)))","v":""},{"$f":"IF(B56=\"\",\"\",IF(ISERROR(VLOOKUP(B56,ｴﾝﾄﾘｰ票!$BF$16:$BG$115,1,0)),\"\",VLOOKUP(B56,ｴﾝﾄﾘｰ票!$BF$16:$BG$115,2,0)))","v":""},null,{"$f":"IF(B56=\"\",\"\",IF(ISERROR(VLOOKUP(B56,ｴﾝﾄﾘｰ票!$BL$16:$BM$115,1,0)),\"\",VLOOKUP(B56,ｴﾝﾄﾘｰ票!$BL$16:$BM$115,2,0)))","v":""}]
[34,{"$f":"IF(ISERROR(VLOOKUP(A57*10-9+6000,ｴﾝﾄﾘｰ票!C$15:AM$115,3,0)),\"\",VLOOKUP(A57*10-9+6000,ｴﾝﾄﾘｰ票!C$15:AM$115,3,0))","v":""},{"$f":"IF(B57=\"\",\"\",CONCATENATE(VLOOKUP(B57,ｴﾝﾄﾘｰ票!$E$16:$N$115,2,0),\"　\",VLOOKUP(B57,ｴﾝﾄﾘｰ票!$E$16:$N$115,3,0)))","v":""},null,null,null,null,{"$f":"IF(B57=\"\",\"\",VLOOKUP(B57,ｴﾝﾄﾘｰ票!$E$16:$N$115,8,0))","v":""},null,{"$f":"IF(B57=\"\",\"\",IF(VLOOKUP(B57,ｴﾝﾄﾘｰ票!$E$16:$AA$115,12,0)=\"\",\"\",VLOOKUP(B57,ｴﾝﾄﾘｰ票!$E$16:$AA$115,12,0)))","v":""},{"$f":"IF(B57=\"\",\"\",IF(VLOOKUP(B57,ｴﾝﾄﾘｰ票!$E$16:$AA$115,16,0)=\"\",\"\",VLOOKUP(B57,ｴﾝﾄﾘｰ票!$E$16:$AA$115,16,0)))","v":""},{"$f":"IF(B57=\"\",\"\",IF(VLOOKUP(B57,ｴﾝﾄﾘｰ票!$E$16:$AA$115,20,0)=\"\",\"\",VLOOKUP(B57,ｴﾝﾄﾘｰ票!$E$16:$AA$115,20,0)))","v":""},{"$f":"IF(B57=\"\",\"\",IF(ISERROR(VLOOKUP(B57,ｴﾝﾄﾘｰ票!$BF$16:$BG$115,1,0)),\"\",VLOOKUP(B57,ｴﾝﾄﾘｰ票!$BF$16:$BG$115,2,0)))","v":""},null,{"$f":"IF(B57=\"\",\"\",IF(ISERROR(VLOOKUP(B57,ｴﾝﾄﾘｰ票!$BL$16:$BM$115,1,0)),\"\",VLOOKUP(B57,ｴﾝﾄﾘｰ票!$BL$16:$BM$115,2,0)))","v":""}]
[35,{"$f":"IF(ISERROR(VLOOKUP(A58*10-9+6000,ｴﾝﾄﾘｰ票!C$15:AM$115,3,0)),\"\",VLOOKUP(A58*10-9+6000,ｴﾝﾄﾘｰ票!C$15:AM$115,3,0))","v":""},{"$f":"IF(B58=\"\",\"\",CONCATENATE(VLOOKUP(B58,ｴﾝﾄﾘｰ票!$E$16:$N$115,2,0),\"　\",VLOOKUP(B58,ｴﾝﾄﾘｰ票!$E$16:$N$115,3,0)))","v":""},null,null,null,null,{"$f":"IF(B58=\"\",\"\",VLOOKUP(B58,ｴﾝﾄﾘｰ票!$E$16:$N$115,8,0))","v":""},null,{"$f":"IF(B58=\"\",\"\",IF(VLOOKUP(B58,ｴﾝﾄﾘｰ票!$E$16:$AA$115,12,0)=\"\",\"\",VLOOKUP(B58,ｴﾝﾄﾘｰ票!$E$16:$AA$115,12,0)))","v":""},{"$f":"IF(B58=\"\",\"\",IF(VLOOKUP(B58,ｴﾝﾄﾘｰ票!$E$16:$AA$115,16,0)=\"\",\"\",VLOOKUP(B58,ｴﾝﾄﾘｰ票!$E$16:$AA$115,16,0)))","v":""},{"$f":"IF(B58=\"\",\"\",IF(VLOOKUP(B58,ｴﾝﾄﾘｰ票!$E$16:$AA$115,20,0)=\"\",\"\",VLOOKUP(B58,ｴﾝﾄﾘｰ票!$E$16:$AA$115,20,0)))","v":""},{"$f":"IF(B58=\"\",\"\",IF(ISERROR(VLOOKUP(B58,ｴﾝﾄﾘｰ票!$BF$16:$BG$115,1,0)),\"\",VLOOKUP(B58,ｴﾝﾄﾘｰ票!$BF$16:$BG$115,2,0)))","v":""},null,{"$f":"IF(B58=\"\",\"\",IF(ISERROR(VLOOKUP(B58,ｴﾝﾄﾘｰ票!$BL$16:$BM$115,1,0)),\"\",VLOOKUP(B58,ｴﾝﾄﾘｰ票!$BL$16:$BM$115,2,0)))","v":""}]
[36,{"$f":"IF(ISERROR(VLOOKUP(A59*10-9+6000,ｴﾝﾄﾘｰ票!C$15:AM$115,3,0)),\"\",VLOOKUP(A59*10-9+6000,ｴﾝﾄﾘｰ票!C$15:AM$115,3,0))","v":""},{"$f":"IF(B59=\"\",\"\",CONCATENATE(VLOOKUP(B59,ｴﾝﾄﾘｰ票!$E$16:$N$115,2,0),\"　\",VLOOKUP(B59,ｴﾝﾄﾘｰ票!$E$16:$N$115,3,0)))","v":""},null,null,null,null,{"$f":"IF(B59=\"\",\"\",VLOOKUP(B59,ｴﾝﾄﾘｰ票!$E$16:$N$115,8,0))","v":""},null,{"$f":"IF(B59=\"\",\"\",IF(VLOOKUP(B59,ｴﾝﾄﾘｰ票!$E$16:$AA$115,12,0)=\"\",\"\",VLOOKUP(B59,ｴﾝﾄﾘｰ票!$E$16:$AA$115,12,0)))","v":""},{"$f":"IF(B59=\"\",\"\",IF(VLOOKUP(B59,ｴﾝﾄﾘｰ票!$E$16:$AA$115,16,0)=\"\",\"\",VLOOKUP(B59,ｴﾝﾄﾘｰ票!$E$16:$AA$115,16,0)))","v":""},{"$f":"IF(B59=\"\",\"\",IF(VLOOKUP(B59,ｴﾝﾄﾘｰ票!$E$16:$AA$115,20,0)=\"\",\"\",VLOOKUP(B59,ｴﾝﾄﾘｰ票!$E$16:$AA$115,20,0)))","v":""},{"$f":"IF(B59=\"\",\"\",IF(ISERROR(VLOOKUP(B59,ｴﾝﾄﾘｰ票!$BF$16:$BG$115,1,0)),\"\",VLOOKUP(B59,ｴﾝﾄﾘｰ票!$BF$16:$BG$115,2,0)))","v":""},null,{"$f":"IF(B59=\"\",\"\",IF(ISERROR(VLOOKUP(B59,ｴﾝﾄﾘｰ票!$BL$16:$BM$115,1,0)),\"\",VLOOKUP(B59,ｴﾝﾄﾘｰ票!$BL$16:$BM$115,2,0)))","v":""}]
[37,{"$f":"IF(ISERROR(VLOOKUP(A60*10-9+6000,ｴﾝﾄﾘｰ票!C$15:AM$115,3,0)),\"\",VLOOKUP(A60*10-9+6000,ｴﾝﾄﾘｰ票!C$15:AM$115,3,0))","v":""},{"$f":"IF(B60=\"\",\"\",CONCATENATE(VLOOKUP(B60,ｴﾝﾄﾘｰ票!$E$16:$N$115,2,0),\"　\",VLOOKUP(B60,ｴﾝﾄﾘｰ票!$E$16:$N$115,3,0)))","v":""},null,null,null,null,{"$f":"IF(B60=\"\",\"\",VLOOKUP(B60,ｴﾝﾄﾘｰ票!$E$16:$N$115,8,0))","v":""},null,{"$f":"IF(B60=\"\",\"\",IF(VLOOKUP(B60,ｴﾝﾄﾘｰ票!$E$16:$AA$115,12,0)=\"\",\"\",VLOOKUP(B60,ｴﾝﾄﾘｰ票!$E$16:$AA$115,12,0)))","v":""},{"$f":"IF(B60=\"\",\"\",IF(VLOOKUP(B60,ｴﾝﾄﾘｰ票!$E$16:$AA$115,16,0)=\"\",\"\",VLOOKUP(B60,ｴﾝﾄﾘｰ票!$E$16:$AA$115,16,0)))","v":""},{"$f":"IF(B60=\"\",\"\",IF(VLOOKUP(B60,ｴﾝﾄﾘｰ票!$E$16:$AA$115,20,0)=\"\",\"\",VLOOKUP(B60,ｴﾝﾄﾘｰ票!$E$16:$AA$115,20,0)))","v":""},{"$f":"IF(B60=\"\",\"\",IF(ISERROR(VLOOKUP(B60,ｴﾝﾄﾘｰ票!$BF$16:$BG$115,1,0)),\"\",VLOOKUP(B60,ｴﾝﾄﾘｰ票!$BF$16:$BG$115,2,0)))","v":""},null,{"$f":"IF(B60=\"\",\"\",IF(ISERROR(VLOOKUP(B60,ｴﾝﾄﾘｰ票!$BL$16:$BM$115,1,0)),\"\",VLOOKUP(B60,ｴﾝﾄﾘｰ票!$BL$16:$BM$115,2,0)))","v":""}]
[38,{"$f":"IF(ISERROR(VLOOKUP(A61*10-9+6000,ｴﾝﾄﾘｰ票!C$15:AM$115,3,0)),\"\",VLOOKUP(A61*10-9+6000,ｴﾝﾄﾘｰ票!C$15:AM$115,3,0))","v":""},{"$f":"IF(B61=\"\",\"\",CONCATENATE(VLOOKUP(B61,ｴﾝﾄﾘｰ票!$E$16:$N$115,2,0),\"　\",VLOOKUP(B61,ｴﾝﾄﾘｰ票!$E$16:$N$115,3,0)))","v":""},null,null,null,null,{"$f":"IF(B61=\"\",\"\",VLOOKUP(B61,ｴﾝﾄﾘｰ票!$E$16:$N$115,8,0))","v":""},null,{"$f":"IF(B61=\"\",\"\",IF(VLOOKUP(B61,ｴﾝﾄﾘｰ票!$E$16:$AA$115,12,0)=\"\",\"\",VLOOKUP(B61,ｴﾝﾄﾘｰ票!$E$16:$AA$115,12,0)))","v":""},{"$f":"IF(B61=\"\",\"\",IF(VLOOKUP(B61,ｴﾝﾄﾘｰ票!$E$16:$AA$115,16,0)=\"\",\"\",VLOOKUP(B61,ｴﾝﾄﾘｰ票!$E$16:$AA$115,16,0)))","v":""},{"$f":"IF(B61=\"\",\"\",IF(VLOOKUP(B61,ｴﾝﾄﾘｰ票!$E$16:$AA$115,20,0)=\"\",\"\",VLOOKUP(B61,ｴﾝﾄﾘｰ票!$E$16:$AA$115,20,0)))","v":""},{"$f":"IF(B61=\"\",\"\",IF(ISERROR(VLOOKUP(B61,ｴﾝﾄﾘｰ票!$BF$16:$BG$115,1,0)),\"\",VLOOKUP(B61,ｴﾝﾄﾘｰ票!$BF$16:$BG$115,2,0)))","v":""},null,{"$f":"IF(B61=\"\",\"\",IF(ISERROR(VLOOKUP(B61,ｴﾝﾄﾘｰ票!$BL$16:$BM$115,1,0)),\"\",VLOOKUP(B61,ｴﾝﾄﾘｰ票!$BL$16:$BM$115,2,0)))","v":""}]
[39,{"$f":"IF(ISERROR(VLOOKUP(A62*10-9+6000,ｴﾝﾄﾘｰ票!C$15:AM$115,3,0)),\"\",VLOOKUP(A62*10-9+6000,ｴﾝﾄﾘｰ票!C$15:AM$115,3,0))","v":""},{"$f":"IF(B62=\"\",\"\",CONCATENATE(VLOOKUP(B62,ｴﾝﾄﾘｰ票!$E$16:$N$115,2,0),\"　\",VLOOKUP(B62,ｴﾝﾄﾘｰ票!$E$16:$N$115,3,0)))","v":""},null,null,null,null,{"$f":"IF(B62=\"\",\"\",VLOOKUP(B62,ｴﾝﾄﾘｰ票!$E$16:$N$115,8,0))","v":""},null,{"$f":"IF(B62=\"\",\"\",IF(VLOOKUP(B62,ｴﾝﾄﾘｰ票!$E$16:$AA$115,12,0)=\"\",\"\",VLOOKUP(B62,ｴﾝﾄﾘｰ票!$E$16:$AA$115,12,0)))","v":""},{"$f":"IF(B62=\"\",\"\",IF(VLOOKUP(B62,ｴﾝﾄﾘｰ票!$E$16:$AA$115,16,0)=\"\",\"\",VLOOKUP(B62,ｴﾝﾄﾘｰ票!$E$16:$AA$115,16,0)))","v":""},{"$f":"IF(B62=\"\",\"\",IF(VLOOKUP(B62,ｴﾝﾄﾘｰ票!$E$16:$AA$115,20,0)=\"\",\"\",VLOOKUP(B62,ｴﾝﾄﾘｰ票!$E$16:$AA$115,20,0)))","v":""},{"$f":"IF(B62=\"\",\"\",IF(ISERROR(VLOOKUP(B62,ｴﾝﾄﾘｰ票!$BF$16:$BG$115,1,0)),\"\",VLOOKUP(B62,ｴﾝﾄﾘｰ票!$BF$16:$BG$115,2,0)))","v":""},null,{"$f":"IF(B62=\"\",\"\",IF(ISERROR(VLOOKUP(B62,ｴﾝﾄﾘｰ票!$BL$16:$BM$115,1,0)),\"\",VLOOKUP(B62,ｴﾝﾄﾘｰ票!$BL$16:$BM$115,2,0)))","v":""}]
[40,{"$f":"IF(ISERROR(VLOOKUP(A63*10-9+6000,ｴﾝﾄﾘｰ票!C$15:AM$115,3,0)),\"\",VLOOKUP(A63*10-9+6000,ｴﾝﾄﾘｰ票!C$15:AM$115,3,0))","v":""},{"$f":"IF(B63=\"\",\"\",CONCATENATE(VLOOKUP(B63,ｴﾝﾄﾘｰ票!$E$16:$N$115,2,0),\"　\",VLOOKUP(B63,ｴﾝﾄﾘｰ票!$E$16:$N$115,3,0)))","v":""},null,null,null,null,{"$f":"IF(B63=\"\",\"\",VLOOKUP(B63,ｴﾝﾄﾘｰ票!$E$16:$N$115,8,0))","v":""},null,{"$f":"IF(B63=\"\",\"\",IF(VLOOKUP(B63,ｴﾝﾄﾘｰ票!$E$16:$AA$115,12,0)=\"\",\"\",VLOOKUP(B63,ｴﾝﾄﾘｰ票!$E$16:$AA$115,12,0)))","v":""},{"$f":"IF(B63=\"\",\"\",IF(VLOOKUP(B63,ｴﾝﾄﾘｰ票!$E$16:$AA$115,16,0)=\"\",\"\",VLOOKUP(B63,ｴﾝﾄﾘｰ票!$E$16:$AA$115,16,0)))","v":""},{"$f":"IF(B63=\"\",\"\",IF(VLOOKUP(B63,ｴﾝﾄﾘｰ票!$E$16:$AA$115,20,0)=\"\",\"\",VLOOKUP(B63,ｴﾝﾄﾘｰ票!$E$16:$AA$115,20,0)))","v":""},{"$f":"IF(B63=\"\",\"\",IF(ISERROR(VLOOKUP(B63,ｴﾝﾄﾘｰ票!$BF$16:$BG$115,1,0)),\"\",VLOOKUP(B63,ｴﾝﾄﾘｰ票!$BF$16:$BG$115,2,0)))","v":""},null,{"$f":"IF(B63=\"\",\"\",IF(ISERROR(VLOOKUP(B63,ｴﾝﾄﾘｰ票!$BL$16:$BM$115,1,0)),\"\",VLOOKUP(B63,ｴﾝﾄﾘｰ票!$BL$16:$BM$115,2,0)))","v":""}]
[41,{"$f":"IF(ISERROR(VLOOKUP(A64*10-9+6000,ｴﾝﾄﾘｰ票!C$15:AM$115,3,0)),\"\",VLOOKUP(A64*10-9+6000,ｴﾝﾄﾘｰ票!C$15:AM$115,3,0))","v":""},{"$f":"IF(B64=\"\",\"\",CONCATENATE(VLOOKUP(B64,ｴﾝﾄﾘｰ票!$E$16:$N$115,2,0),\"　\",VLOOKUP(B64,ｴﾝﾄﾘｰ票!$E$16:$N$115,3,0)))","v":""},null,null,null,null,{"$f":"IF(B64=\"\",\"\",VLOOKUP(B64,ｴﾝﾄﾘｰ票!$E$16:$N$115,8,0))","v":""},null,{"$f":"IF(B64=\"\",\"\",IF(VLOOKUP(B64,ｴﾝﾄﾘｰ票!$E$16:$AA$115,12,0)=\"\",\"\",VLOOKUP(B64,ｴﾝﾄﾘｰ票!$E$16:$AA$115,12,0)))","v":""},{"$f":"IF(B64=\"\",\"\",IF(VLOOKUP(B64,ｴﾝﾄﾘｰ票!$E$16:$AA$115,16,0)=\"\",\"\",VLOOKUP(B64,ｴﾝﾄﾘｰ票!$E$16:$AA$115,16,0)))","v":""},{"$f":"IF(B64=\"\",\"\",IF(VLOOKUP(B64,ｴﾝﾄﾘｰ票!$E$16:$AA$115,20,0)=\"\",\"\",VLOOKUP(B64,ｴﾝﾄﾘｰ票!$E$16:$AA$115,20,0)))","v":""},{"$f":"IF(B64=\"\",\"\",IF(ISERROR(VLOOKUP(B64,ｴﾝﾄﾘｰ票!$BF$16:$BG$115,1,0)),\"\",VLOOKUP(B64,ｴﾝﾄﾘｰ票!$BF$16:$BG$115,2,0)))","v":""},null,{"$f":"IF(B64=\"\",\"\",IF(ISERROR(VLOOKUP(B64,ｴﾝﾄﾘｰ票!$BL$16:$BM$115,1,0)),\"\",VLOOKUP(B64,ｴﾝﾄﾘｰ票!$BL$16:$BM$115,2,0)))","v":""}]
[42,{"$f":"IF(ISERROR(VLOOKUP(A65*10-9+6000,ｴﾝﾄﾘｰ票!C$15:AM$115,3,0)),\"\",VLOOKUP(A65*10-9+6000,ｴﾝﾄﾘｰ票!C$15:AM$115,3,0))","v":""},{"$f":"IF(B65=\"\",\"\",CONCATENATE(VLOOKUP(B65,ｴﾝﾄﾘｰ票!$E$16:$N$115,2,0),\"　\",VLOOKUP(B65,ｴﾝﾄﾘｰ票!$E$16:$N$115,3,0)))","v":""},null,null,null,null,{"$f":"IF(B65=\"\",\"\",VLOOKUP(B65,ｴﾝﾄﾘｰ票!$E$16:$N$115,8,0))","v":""},null,{"$f":"IF(B65=\"\",\"\",IF(VLOOKUP(B65,ｴﾝﾄﾘｰ票!$E$16:$AA$115,12,0)=\"\",\"\",VLOOKUP(B65,ｴﾝﾄﾘｰ票!$E$16:$AA$115,12,0)))","v":""},{"$f":"IF(B65=\"\",\"\",IF(VLOOKUP(B65,ｴﾝﾄﾘｰ票!$E$16:$AA$115,16,0)=\"\",\"\",VLOOKUP(B65,ｴﾝﾄﾘｰ票!$E$16:$AA$115,16,0)))","v":""},{"$f":"IF(B65=\"\",\"\",IF(VLOOKUP(B65,ｴﾝﾄﾘｰ票!$E$16:$AA$115,20,0)=\"\",\"\",VLOOKUP(B65,ｴﾝﾄﾘｰ票!$E$16:$AA$115,20,0)))","v":""},{"$f":"IF(B65=\"\",\"\",IF(ISERROR(VLOOKUP(B65,ｴﾝﾄﾘｰ票!$BF$16:$BG$115,1,0)),\"\",VLOOKUP(B65,ｴﾝﾄﾘｰ票!$BF$16:$BG$115,2,0)))","v":""},null,{"$f":"IF(B65=\"\",\"\",IF(ISERROR(VLOOKUP(B65,ｴﾝﾄﾘｰ票!$BL$16:$BM$115,1,0)),\"\",VLOOKUP(B65,ｴﾝﾄﾘｰ票!$BL$16:$BM$115,2,0)))","v":""}]
[43,{"$f":"IF(ISERROR(VLOOKUP(A66*10-9+6000,ｴﾝﾄﾘｰ票!C$15:AM$115,3,0)),\"\",VLOOKUP(A66*10-9+6000,ｴﾝﾄﾘｰ票!C$15:AM$115,3,0))","v":""},{"$f":"IF(B66=\"\",\"\",CONCATENATE(VLOOKUP(B66,ｴﾝﾄﾘｰ票!$E$16:$N$115,2,0),\"　\",VLOOKUP(B66,ｴﾝﾄﾘｰ票!$E$16:$N$115,3,0)))","v":""},null,null,null,null,{"$f":"IF(B66=\"\",\"\",VLOOKUP(B66,ｴﾝﾄﾘｰ票!$E$16:$N$115,8,0))","v":""},null,{"$f":"IF(B66=\"\",\"\",IF(VLOOKUP(B66,ｴﾝﾄﾘｰ票!$E$16:$AA$115,12,0)=\"\",\"\",VLOOKUP(B66,ｴﾝﾄﾘｰ票!$E$16:$AA$115,12,0)))","v":""},{"$f":"IF(B66=\"\",\"\",IF(VLOOKUP(B66,ｴﾝﾄﾘｰ票!$E$16:$AA$115,16,0)=\"\",\"\",VLOOKUP(B66,ｴﾝﾄﾘｰ票!$E$16:$AA$115,16,0)))","v":""},{"$f":"IF(B66=\"\",\"\",IF(VLOOKUP(B66,ｴﾝﾄﾘｰ票!$E$16:$AA$115,20,0)=\"\",\"\",VLOOKUP(B66,ｴﾝﾄﾘｰ票!$E$16:$AA$115,20,0)))","v":""},{"$f":"IF(B66=\"\",\"\",IF(ISERROR(VLOOKUP(B66,ｴﾝﾄﾘｰ票!$BF$16:$BG$115,1,0)),\"\",VLOOKUP(B66,ｴﾝﾄﾘｰ票!$BF$16:$BG$115,2,0)))","v":""},null,{"$f":"IF(B66=\"\",\"\",IF(ISERROR(VLOOKUP(B66,ｴﾝﾄﾘｰ票!$BL$16:$BM$115,1,0)),\"\",VLOOKUP(B66,ｴﾝﾄﾘｰ票!$BL$16:$BM$115,2,0)))","v":""}]
[44,{"$f":"IF(ISERROR(VLOOKUP(A67*10-9+6000,ｴﾝﾄﾘｰ票!C$15:AM$115,3,0)),\"\",VLOOKUP(A67*10-9+6000,ｴﾝﾄﾘｰ票!C$15:AM$115,3,0))","v":""},{"$f":"IF(B67=\"\",\"\",CONCATENATE(VLOOKUP(B67,ｴﾝﾄﾘｰ票!$E$16:$N$115,2,0),\"　\",VLOOKUP(B67,ｴﾝﾄﾘｰ票!$E$16:$N$115,3,0)))","v":""},null,null,null,null,{"$f":"IF(B67=\"\",\"\",VLOOKUP(B67,ｴﾝﾄﾘｰ票!$E$16:$N$115,8,0))","v":""},null,{"$f":"IF(B67=\"\",\"\",IF(VLOOKUP(B67,ｴﾝﾄﾘｰ票!$E$16:$AA$115,12,0)=\"\",\"\",VLOOKUP(B67,ｴﾝﾄﾘｰ票!$E$16:$AA$115,12,0)))","v":""},{"$f":"IF(B67=\"\",\"\",IF(VLOOKUP(B67,ｴﾝﾄﾘｰ票!$E$16:$AA$115,16,0)=\"\",\"\",VLOOKUP(B67,ｴﾝﾄﾘｰ票!$E$16:$AA$115,16,0)))","v":""},{"$f":"IF(B67=\"\",\"\",IF(VLOOKUP(B67,ｴﾝﾄﾘｰ票!$E$16:$AA$115,20,0)=\"\",\"\",VLOOKUP(B67,ｴﾝﾄﾘｰ票!$E$16:$AA$115,20,0)))","v":""},{"$f":"IF(B67=\"\",\"\",IF(ISERROR(VLOOKUP(B67,ｴﾝﾄﾘｰ票!$BF$16:$BG$115,1,0)),\"\",VLOOKUP(B67,ｴﾝﾄﾘｰ票!$BF$16:$BG$115,2,0)))","v":""},null,{"$f":"IF(B67=\"\",\"\",IF(ISERROR(VLOOKUP(B67,ｴﾝﾄﾘｰ票!$BL$16:$BM$115,1,0)),\"\",VLOOKUP(B67,ｴﾝﾄﾘｰ票!$BL$16:$BM$115,2,0)))","v":""}]
[45,{"$f":"IF(ISERROR(VLOOKUP(A68*10-9+6000,ｴﾝﾄﾘｰ票!C$15:AM$115,3,0)),\"\",VLOOKUP(A68*10-9+6000,ｴﾝﾄﾘｰ票!C$15:AM$115,3,0))","v":""},{"$f":"IF(B68=\"\",\"\",CONCATENATE(VLOOKUP(B68,ｴﾝﾄﾘｰ票!$E$16:$N$115,2,0),\"　\",VLOOKUP(B68,ｴﾝﾄﾘｰ票!$E$16:$N$115,3,0)))","v":""},null,null,null,null,{"$f":"IF(B68=\"\",\"\",VLOOKUP(B68,ｴﾝﾄﾘｰ票!$E$16:$N$115,8,0))","v":""},null,{"$f":"IF(B68=\"\",\"\",IF(VLOOKUP(B68,ｴﾝﾄﾘｰ票!$E$16:$AA$115,12,0)=\"\",\"\",VLOOKUP(B68,ｴﾝﾄﾘｰ票!$E$16:$AA$115,12,0)))","v":""},{"$f":"IF(B68=\"\",\"\",IF(VLOOKUP(B68,ｴﾝﾄﾘｰ票!$E$16:$AA$115,16,0)=\"\",\"\",VLOOKUP(B68,ｴﾝﾄﾘｰ票!$E$16:$AA$115,16,0)))","v":""},{"$f":"IF(B68=\"\",\"\",IF(VLOOKUP(B68,ｴﾝﾄﾘｰ票!$E$16:$AA$115,20,0)=\"\",\"\",VLOOKUP(B68,ｴﾝﾄﾘｰ票!$E$16:$AA$115,20,0)))","v":""},{"$f":"IF(B68=\"\",\"\",IF(ISERROR(VLOOKUP(B68,ｴﾝﾄﾘｰ票!$BF$16:$BG$115,1,0)),\"\",VLOOKUP(B68,ｴﾝﾄﾘｰ票!$BF$16:$BG$115,2,0)))","v":""},null,{"$f":"IF(B68=\"\",\"\",IF(ISERROR(VLOOKUP(B68,ｴﾝﾄﾘｰ票!$BL$16:$BM$115,1,0)),\"\",VLOOKUP(B68,ｴﾝﾄﾘｰ票!$BL$16:$BM$115,2,0)))","v":""}]
[46,{"$f":"IF(ISERROR(VLOOKUP(A69*10-9+6000,ｴﾝﾄﾘｰ票!C$15:AM$115,3,0)),\"\",VLOOKUP(A69*10-9+6000,ｴﾝﾄﾘｰ票!C$15:AM$115,3,0))","v":""},{"$f":"IF(B69=\"\",\"\",CONCATENATE(VLOOKUP(B69,ｴﾝﾄﾘｰ票!$E$16:$N$115,2,0),\"　\",VLOOKUP(B69,ｴﾝﾄﾘｰ票!$E$16:$N$115,3,0)))","v":""},null,null,null,null,{"$f":"IF(B69=\"\",\"\",VLOOKUP(B69,ｴﾝﾄﾘｰ票!$E$16:$N$115,8,0))","v":""},null,{"$f":"IF(B69=\"\",\"\",IF(VLOOKUP(B69,ｴﾝﾄﾘｰ票!$E$16:$AA$115,12,0)=\"\",\"\",VLOOKUP(B69,ｴﾝﾄﾘｰ票!$E$16:$AA$115,12,0)))","v":""},{"$f":"IF(B69=\"\",\"\",IF(VLOOKUP(B69,ｴﾝﾄﾘｰ票!$E$16:$AA$115,16,0)=\"\",\"\",VLOOKUP(B69,ｴﾝﾄﾘｰ票!$E$16:$AA$115,16,0)))","v":""},{"$f":"IF(B69=\"\",\"\",IF(VLOOKUP(B69,ｴﾝﾄﾘｰ票!$E$16:$AA$115,20,0)=\"\",\"\",VLOOKUP(B69,ｴﾝﾄﾘｰ票!$E$16:$AA$115,20,0)))","v":""},{"$f":"IF(B69=\"\",\"\",IF(ISERROR(VLOOKUP(B69,ｴﾝﾄﾘｰ票!$BF$16:$BG$115,1,0)),\"\",VLOOKUP(B69,ｴﾝﾄﾘｰ票!$BF$16:$BG$115,2,0)))","v":""},null,{"$f":"IF(B69=\"\",\"\",IF(ISERROR(VLOOKUP(B69,ｴﾝﾄﾘｰ票!$BL$16:$BM$115,1,0)),\"\",VLOOKUP(B69,ｴﾝﾄﾘｰ票!$BL$16:$BM$115,2,0)))","v":""}]
[47,{"$f":"IF(ISERROR(VLOOKUP(A70*10-9+6000,ｴﾝﾄﾘｰ票!C$15:AM$115,3,0)),\"\",VLOOKUP(A70*10-9+6000,ｴﾝﾄﾘｰ票!C$15:AM$115,3,0))","v":""},{"$f":"IF(B70=\"\",\"\",CONCATENATE(VLOOKUP(B70,ｴﾝﾄﾘｰ票!$E$16:$N$115,2,0),\"　\",VLOOKUP(B70,ｴﾝﾄﾘｰ票!$E$16:$N$115,3,0)))","v":""},null,null,null,null,{"$f":"IF(B70=\"\",\"\",VLOOKUP(B70,ｴﾝﾄﾘｰ票!$E$16:$N$115,8,0))","v":""},null,{"$f":"IF(B70=\"\",\"\",IF(VLOOKUP(B70,ｴﾝﾄﾘｰ票!$E$16:$AA$115,12,0)=\"\",\"\",VLOOKUP(B70,ｴﾝﾄﾘｰ票!$E$16:$AA$115,12,0)))","v":""},{"$f":"IF(B70=\"\",\"\",IF(VLOOKUP(B70,ｴﾝﾄﾘｰ票!$E$16:$AA$115,16,0)=\"\",\"\",VLOOKUP(B70,ｴﾝﾄﾘｰ票!$E$16:$AA$115,16,0)))","v":""},{"$f":"IF(B70=\"\",\"\",IF(VLOOKUP(B70,ｴﾝﾄﾘｰ票!$E$16:$AA$115,20,0)=\"\",\"\",VLOOKUP(B70,ｴﾝﾄﾘｰ票!$E$16:$AA$115,20,0)))","v":""},{"$f":"IF(B70=\"\",\"\",IF(ISERROR(VLOOKUP(B70,ｴﾝﾄﾘｰ票!$BF$16:$BG$115,1,0)),\"\",VLOOKUP(B70,ｴﾝﾄﾘｰ票!$BF$16:$BG$115,2,0)))","v":""},null,{"$f":"IF(B70=\"\",\"\",IF(ISERROR(VLOOKUP(B70,ｴﾝﾄﾘｰ票!$BL$16:$BM$115,1,0)),\"\",VLOOKUP(B70,ｴﾝﾄﾘｰ票!$BL$16:$BM$115,2,0)))","v":""}]
[48,{"$f":"IF(ISERROR(VLOOKUP(A71*10-9+6000,ｴﾝﾄﾘｰ票!C$15:AM$115,3,0)),\"\",VLOOKUP(A71*10-9+6000,ｴﾝﾄﾘｰ票!C$15:AM$115,3,0))","v":""},{"$f":"IF(B71=\"\",\"\",CONCATENATE(VLOOKUP(B71,ｴﾝﾄﾘｰ票!$E$16:$N$115,2,0),\"　\",VLOOKUP(B71,ｴﾝﾄﾘｰ票!$E$16:$N$115,3,0)))","v":""},null,null,null,null,{"$f":"IF(B71=\"\",\"\",VLOOKUP(B71,ｴﾝﾄﾘｰ票!$E$16:$N$115,8,0))","v":""},null,{"$f":"IF(B71=\"\",\"\",IF(VLOOKUP(B71,ｴﾝﾄﾘｰ票!$E$16:$AA$115,12,0)=\"\",\"\",VLOOKUP(B71,ｴﾝﾄﾘｰ票!$E$16:$AA$115,12,0)))","v":""},{"$f":"IF(B71=\"\",\"\",IF(VLOOKUP(B71,ｴﾝﾄﾘｰ票!$E$16:$AA$115,16,0)=\"\",\"\",VLOOKUP(B71,ｴﾝﾄﾘｰ票!$E$16:$AA$115,16,0)))","v":""},{"$f":"IF(B71=\"\",\"\",IF(VLOOKUP(B71,ｴﾝﾄﾘｰ票!$E$16:$AA$115,20,0)=\"\",\"\",VLOOKUP(B71,ｴﾝﾄﾘｰ票!$E$16:$AA$115,20,0)))","v":""},{"$f":"IF(B71=\"\",\"\",IF(ISERROR(VLOOKUP(B71,ｴﾝﾄﾘｰ票!$BF$16:$BG$115,1,0)),\"\",VLOOKUP(B71,ｴﾝﾄﾘｰ票!$BF$16:$BG$115,2,0)))","v":""},null,{"$f":"IF(B71=\"\",\"\",IF(ISERROR(VLOOKUP(B71,ｴﾝﾄﾘｰ票!$BL$16:$BM$115,1,0)),\"\",VLOOKUP(B71,ｴﾝﾄﾘｰ票!$BL$16:$BM$115,2,0)))","v":""}]
[49,{"$f":"IF(ISERROR(VLOOKUP(A72*10-9+6000,ｴﾝﾄﾘｰ票!C$15:AM$115,3,0)),\"\",VLOOKUP(A72*10-9+6000,ｴﾝﾄﾘｰ票!C$15:AM$115,3,0))","v":""},{"$f":"IF(B72=\"\",\"\",CONCATENATE(VLOOKUP(B72,ｴﾝﾄﾘｰ票!$E$16:$N$115,2,0),\"　\",VLOOKUP(B72,ｴﾝﾄﾘｰ票!$E$16:$N$115,3,0)))","v":""},null,null,null,null,{"$f":"IF(B72=\"\",\"\",VLOOKUP(B72,ｴﾝﾄﾘｰ票!$E$16:$N$115,8,0))","v":""},null,{"$f":"IF(B72=\"\",\"\",IF(VLOOKUP(B72,ｴﾝﾄﾘｰ票!$E$16:$AA$115,12,0)=\"\",\"\",VLOOKUP(B72,ｴﾝﾄﾘｰ票!$E$16:$AA$115,12,0)))","v":""},{"$f":"IF(B72=\"\",\"\",IF(VLOOKUP(B72,ｴﾝﾄﾘｰ票!$E$16:$AA$115,16,0)=\"\",\"\",VLOOKUP(B72,ｴﾝﾄﾘｰ票!$E$16:$AA$115,16,0)))","v":""},{"$f":"IF(B72=\"\",\"\",IF(VLOOKUP(B72,ｴﾝﾄﾘｰ票!$E$16:$AA$115,20,0)=\"\",\"\",VLOOKUP(B72,ｴﾝﾄﾘｰ票!$E$16:$AA$115,20,0)))","v":""},{"$f":"IF(B72=\"\",\"\",IF(ISERROR(VLOOKUP(B72,ｴﾝﾄﾘｰ票!$BF$16:$BG$115,1,0)),\"\",VLOOKUP(B72,ｴﾝﾄﾘｰ票!$BF$16:$BG$115,2,0)))","v":""},null,{"$f":"IF(B72=\"\",\"\",IF(ISERROR(VLOOKUP(B72,ｴﾝﾄﾘｰ票!$BL$16:$BM$115,1,0)),\"\",VLOOKUP(B72,ｴﾝﾄﾘｰ票!$BL$16:$BM$115,2,0)))","v":""}]
[50,{"$f":"IF(ISERROR(VLOOKUP(A73*10-9+6000,ｴﾝﾄﾘｰ票!C$15:AM$115,3,0)),\"\",VLOOKUP(A73*10-9+6000,ｴﾝﾄﾘｰ票!C$15:AM$115,3,0))","v":""},{"$f":"IF(B73=\"\",\"\",CONCATENATE(VLOOKUP(B73,ｴﾝﾄﾘｰ票!$E$16:$N$115,2,0),\"　\",VLOOKUP(B73,ｴﾝﾄﾘｰ票!$E$16:$N$115,3,0)))","v":""},null,null,null,null,{"$f":"IF(B73=\"\",\"\",VLOOKUP(B73,ｴﾝﾄﾘｰ票!$E$16:$N$115,8,0))","v":""},null,{"$f":"IF(B73=\"\",\"\",IF(VLOOKUP(B73,ｴﾝﾄﾘｰ票!$E$16:$AA$115,12,0)=\"\",\"\",VLOOKUP(B73,ｴﾝﾄﾘｰ票!$E$16:$AA$115,12,0)))","v":""},{"$f":"IF(B73=\"\",\"\",IF(VLOOKUP(B73,ｴﾝﾄﾘｰ票!$E$16:$AA$115,16,0)=\"\",\"\",VLOOKUP(B73,ｴﾝﾄﾘｰ票!$E$16:$AA$115,16,0)))","v":""},{"$f":"IF(B73=\"\",\"\",IF(VLOOKUP(B73,ｴﾝﾄﾘｰ票!$E$16:$AA$115,20,0)=\"\",\"\",VLOOKUP(B73,ｴﾝﾄﾘｰ票!$E$16:$AA$115,20,0)))","v":""},{"$f":"IF(B73=\"\",\"\",IF(ISERROR(VLOOKUP(B73,ｴﾝﾄﾘｰ票!$BF$16:$BG$115,1,0)),\"\",VLOOKUP(B73,ｴﾝﾄﾘｰ票!$BF$16:$BG$115,2,0)))","v":""},null,{"$f":"IF(B73=\"\",\"\",IF(ISERROR(VLOOKUP(B73,ｴﾝﾄﾘｰ票!$BL$16:$BM$115,1,0)),\"\",VLOOKUP(B73,ｴﾝﾄﾘｰ票!$BL$16:$BM$115,2,0)))","v":""}]
[51,{"$f":"IF(ISERROR(VLOOKUP(A74*10-9+6000,ｴﾝﾄﾘｰ票!C$15:AM$115,3,0)),\"\",VLOOKUP(A74*10-9+6000,ｴﾝﾄﾘｰ票!C$15:AM$115,3,0))","v":""},{"$f":"IF(B74=\"\",\"\",CONCATENATE(VLOOKUP(B74,ｴﾝﾄﾘｰ票!$E$16:$N$115,2,0),\"　\",VLOOKUP(B74,ｴﾝﾄﾘｰ票!$E$16:$N$115,3,0)))","v":""},null,null,null,null,{"$f":"IF(B74=\"\",\"\",VLOOKUP(B74,ｴﾝﾄﾘｰ票!$E$16:$N$115,8,0))","v":""},null,{"$f":"IF(B74=\"\",\"\",IF(VLOOKUP(B74,ｴﾝﾄﾘｰ票!$E$16:$AA$115,12,0)=\"\",\"\",VLOOKUP(B74,ｴﾝﾄﾘｰ票!$E$16:$AA$115,12,0)))","v":""},{"$f":"IF(B74=\"\",\"\",IF(VLOOKUP(B74,ｴﾝﾄﾘｰ票!$E$16:$AA$115,16,0)=\"\",\"\",VLOOKUP(B74,ｴﾝﾄﾘｰ票!$E$16:$AA$115,16,0)))","v":""},{"$f":"IF(B74=\"\",\"\",IF(VLOOKUP(B74,ｴﾝﾄﾘｰ票!$E$16:$AA$115,20,0)=\"\",\"\",VLOOKUP(B74,ｴﾝﾄﾘｰ票!$E$16:$AA$115,20,0)))","v":""},{"$f":"IF(B74=\"\",\"\",IF(ISERROR(VLOOKUP(B74,ｴﾝﾄﾘｰ票!$BF$16:$BG$115,1,0)),\"\",VLOOKUP(B74,ｴﾝﾄﾘｰ票!$BF$16:$BG$115,2,0)))","v":""},null,{"$f":"IF(B74=\"\",\"\",IF(ISERROR(VLOOKUP(B74,ｴﾝﾄﾘｰ票!$BL$16:$BM$115,1,0)),\"\",VLOOKUP(B74,ｴﾝﾄﾘｰ票!$BL$16:$BM$115,2,0)))","v":""}]
[52,{"$f":"IF(ISERROR(VLOOKUP(A75*10-9+6000,ｴﾝﾄﾘｰ票!C$15:AM$115,3,0)),\"\",VLOOKUP(A75*10-9+6000,ｴﾝﾄﾘｰ票!C$15:AM$115,3,0))","v":""},{"$f":"IF(B75=\"\",\"\",CONCATENATE(VLOOKUP(B75,ｴﾝﾄﾘｰ票!$E$16:$N$115,2,0),\"　\",VLOOKUP(B75,ｴﾝﾄﾘｰ票!$E$16:$N$115,3,0)))","v":""},null,null,null,null,{"$f":"IF(B75=\"\",\"\",VLOOKUP(B75,ｴﾝﾄﾘｰ票!$E$16:$N$115,8,0))","v":""},null,{"$f":"IF(B75=\"\",\"\",IF(VLOOKUP(B75,ｴﾝﾄﾘｰ票!$E$16:$AA$115,12,0)=\"\",\"\",VLOOKUP(B75,ｴﾝﾄﾘｰ票!$E$16:$AA$115,12,0)))","v":""},{"$f":"IF(B75=\"\",\"\",IF(VLOOKUP(B75,ｴﾝﾄﾘｰ票!$E$16:$AA$115,16,0)=\"\",\"\",VLOOKUP(B75,ｴﾝﾄﾘｰ票!$E$16:$AA$115,16,0)))","v":""},{"$f":"IF(B75=\"\",\"\",IF(VLOOKUP(B75,ｴﾝﾄﾘｰ票!$E$16:$AA$115,20,0)=\"\",\"\",VLOOKUP(B75,ｴﾝﾄﾘｰ票!$E$16:$AA$115,20,0)))","v":""},{"$f":"IF(B75=\"\",\"\",IF(ISERROR(VLOOKUP(B75,ｴﾝﾄﾘｰ票!$BF$16:$BG$115,1,0)),\"\",VLOOKUP(B75,ｴﾝﾄﾘｰ票!$BF$16:$BG$115,2,0)))","v":""},null,{"$f":"IF(B75=\"\",\"\",IF(ISERROR(VLOOKUP(B75,ｴﾝﾄﾘｰ票!$BL$16:$BM$115,1,0)),\"\",VLOOKUP(B75,ｴﾝﾄﾘｰ票!$BL$16:$BM$115,2,0)))","v":""}]
[53,{"$f":"IF(ISERROR(VLOOKUP(A76*10-9+6000,ｴﾝﾄﾘｰ票!C$15:AM$115,3,0)),\"\",VLOOKUP(A76*10-9+6000,ｴﾝﾄﾘｰ票!C$15:AM$115,3,0))","v":""},{"$f":"IF(B76=\"\",\"\",CONCATENATE(VLOOKUP(B76,ｴﾝﾄﾘｰ票!$E$16:$N$115,2,0),\"　\",VLOOKUP(B76,ｴﾝﾄﾘｰ票!$E$16:$N$115,3,0)))","v":""},null,null,null,null,{"$f":"IF(B76=\"\",\"\",VLOOKUP(B76,ｴﾝﾄﾘｰ票!$E$16:$N$115,8,0))","v":""},null,{"$f":"IF(B76=\"\",\"\",IF(VLOOKUP(B76,ｴﾝﾄﾘｰ票!$E$16:$AA$115,12,0)=\"\",\"\",VLOOKUP(B76,ｴﾝﾄﾘｰ票!$E$16:$AA$115,12,0)))","v":""},{"$f":"IF(B76=\"\",\"\",IF(VLOOKUP(B76,ｴﾝﾄﾘｰ票!$E$16:$AA$115,16,0)=\"\",\"\",VLOOKUP(B76,ｴﾝﾄﾘｰ票!$E$16:$AA$115,16,0)))","v":""},{"$f":"IF(B76=\"\",\"\",IF(VLOOKUP(B76,ｴﾝﾄﾘｰ票!$E$16:$AA$115,20,0)=\"\",\"\",VLOOKUP(B76,ｴﾝﾄﾘｰ票!$E$16:$AA$115,20,0)))","v":""},{"$f":"IF(B76=\"\",\"\",IF(ISERROR(VLOOKUP(B76,ｴﾝﾄﾘｰ票!$BF$16:$BG$115,1,0)),\"\",VLOOKUP(B76,ｴﾝﾄﾘｰ票!$BF$16:$BG$115,2,0)))","v":""},null,{"$f":"IF(B76=\"\",\"\",IF(ISERROR(VLOOKUP(B76,ｴﾝﾄﾘｰ票!$BL$16:$BM$115,1,0)),\"\",VLOOKUP(B76,ｴﾝﾄﾘｰ票!$BL$16:$BM$115,2,0)))","v":""}]
[54,{"$f":"IF(ISERROR(VLOOKUP(A77*10-9+6000,ｴﾝﾄﾘｰ票!C$15:AM$115,3,0)),\"\",VLOOKUP(A77*10-9+6000,ｴﾝﾄﾘｰ票!C$15:AM$115,3,0))","v":""},{"$f":"IF(B77=\"\",\"\",CONCATENATE(VLOOKUP(B77,ｴﾝﾄﾘｰ票!$E$16:$N$115,2,0),\"　\",VLOOKUP(B77,ｴﾝﾄﾘｰ票!$E$16:$N$115,3,0)))","v":""},null,null,null,null,{"$f":"IF(B77=\"\",\"\",VLOOKUP(B77,ｴﾝﾄﾘｰ票!$E$16:$N$115,8,0))","v":""},null,{"$f":"IF(B77=\"\",\"\",IF(VLOOKUP(B77,ｴﾝﾄﾘｰ票!$E$16:$AA$115,12,0)=\"\",\"\",VLOOKUP(B77,ｴﾝﾄﾘｰ票!$E$16:$AA$115,12,0)))","v":""},{"$f":"IF(B77=\"\",\"\",IF(VLOOKUP(B77,ｴﾝﾄﾘｰ票!$E$16:$AA$115,16,0)=\"\",\"\",VLOOKUP(B77,ｴﾝﾄﾘｰ票!$E$16:$AA$115,16,0)))","v":""},{"$f":"IF(B77=\"\",\"\",IF(VLOOKUP(B77,ｴﾝﾄﾘｰ票!$E$16:$AA$115,20,0)=\"\",\"\",VLOOKUP(B77,ｴﾝﾄﾘｰ票!$E$16:$AA$115,20,0)))","v":""},{"$f":"IF(B77=\"\",\"\",IF(ISERROR(VLOOKUP(B77,ｴﾝﾄﾘｰ票!$BF$16:$BG$115,1,0)),\"\",VLOOKUP(B77,ｴﾝﾄﾘｰ票!$BF$16:$BG$115,2,0)))","v":""},null,{"$f":"IF(B77=\"\",\"\",IF(ISERROR(VLOOKUP(B77,ｴﾝﾄﾘｰ票!$BL$16:$BM$115,1,0)),\"\",VLOOKUP(B77,ｴﾝﾄﾘｰ票!$BL$16:$BM$115,2,0)))","v":""}]
[55,{"$f":"IF(ISERROR(VLOOKUP(A78*10-9+6000,ｴﾝﾄﾘｰ票!C$15:AM$115,3,0)),\"\",VLOOKUP(A78*10-9+6000,ｴﾝﾄﾘｰ票!C$15:AM$115,3,0))","v":""},{"$f":"IF(B78=\"\",\"\",CONCATENATE(VLOOKUP(B78,ｴﾝﾄﾘｰ票!$E$16:$N$115,2,0),\"　\",VLOOKUP(B78,ｴﾝﾄﾘｰ票!$E$16:$N$115,3,0)))","v":""},null,null,null,null,{"$f":"IF(B78=\"\",\"\",VLOOKUP(B78,ｴﾝﾄﾘｰ票!$E$16:$N$115,8,0))","v":""},null,{"$f":"IF(B78=\"\",\"\",IF(VLOOKUP(B78,ｴﾝﾄﾘｰ票!$E$16:$AA$115,12,0)=\"\",\"\",VLOOKUP(B78,ｴﾝﾄﾘｰ票!$E$16:$AA$115,12,0)))","v":""},{"$f":"IF(B78=\"\",\"\",IF(VLOOKUP(B78,ｴﾝﾄﾘｰ票!$E$16:$AA$115,16,0)=\"\",\"\",VLOOKUP(B78,ｴﾝﾄﾘｰ票!$E$16:$AA$115,16,0)))","v":""},{"$f":"IF(B78=\"\",\"\",IF(VLOOKUP(B78,ｴﾝﾄﾘｰ票!$E$16:$AA$115,20,0)=\"\",\"\",VLOOKUP(B78,ｴﾝﾄﾘｰ票!$E$16:$AA$115,20,0)))","v":""},{"$f":"IF(B78=\"\",\"\",IF(ISERROR(VLOOKUP(B78,ｴﾝﾄﾘｰ票!$BF$16:$BG$115,1,0)),\"\",VLOOKUP(B78,ｴﾝﾄﾘｰ票!$BF$16:$BG$115,2,0)))","v":""},null,{"$f":"IF(B78=\"\",\"\",IF(ISERROR(VLOOKUP(B78,ｴﾝﾄﾘｰ票!$BL$16:$BM$115,1,0)),\"\",VLOOKUP(B78,ｴﾝﾄﾘｰ票!$BL$16:$BM$115,2,0)))","v":""}]
[56,{"$f":"IF(ISERROR(VLOOKUP(A79*10-9+6000,ｴﾝﾄﾘｰ票!C$15:AM$115,3,0)),\"\",VLOOKUP(A79*10-9+6000,ｴﾝﾄﾘｰ票!C$15:AM$115,3,0))","v":""},{"$f":"IF(B79=\"\",\"\",CONCATENATE(VLOOKUP(B79,ｴﾝﾄﾘｰ票!$E$16:$N$115,2,0),\"　\",VLOOKUP(B79,ｴﾝﾄﾘｰ票!$E$16:$N$115,3,0)))","v":""},null,null,null,null,{"$f":"IF(B79=\"\",\"\",VLOOKUP(B79,ｴﾝﾄﾘｰ票!$E$16:$N$115,8,0))","v":""},null,{"$f":"IF(B79=\"\",\"\",IF(VLOOKUP(B79,ｴﾝﾄﾘｰ票!$E$16:$AA$115,12,0)=\"\",\"\",VLOOKUP(B79,ｴﾝﾄﾘｰ票!$E$16:$AA$115,12,0)))","v":""},{"$f":"IF(B79=\"\",\"\",IF(VLOOKUP(B79,ｴﾝﾄﾘｰ票!$E$16:$AA$115,16,0)=\"\",\"\",VLOOKUP(B79,ｴﾝﾄﾘｰ票!$E$16:$AA$115,16,0)))","v":""},{"$f":"IF(B79=\"\",\"\",IF(VLOOKUP(B79,ｴﾝﾄﾘｰ票!$E$16:$AA$115,20,0)=\"\",\"\",VLOOKUP(B79,ｴﾝﾄﾘｰ票!$E$16:$AA$115,20,0)))","v":""},{"$f":"IF(B79=\"\",\"\",IF(ISERROR(VLOOKUP(B79,ｴﾝﾄﾘｰ票!$BF$16:$BG$115,1,0)),\"\",VLOOKUP(B79,ｴﾝﾄﾘｰ票!$BF$16:$BG$115,2,0)))","v":""},null,{"$f":"IF(B79=\"\",\"\",IF(ISERROR(VLOOKUP(B79,ｴﾝﾄﾘｰ票!$BL$16:$BM$115,1,0)),\"\",VLOOKUP(B79,ｴﾝﾄﾘｰ票!$BL$16:$BM$115,2,0)))","v":""}]
[57,{"$f":"IF(ISERROR(VLOOKUP(A80*10-9+6000,ｴﾝﾄﾘｰ票!C$15:AM$115,3,0)),\"\",VLOOKUP(A80*10-9+6000,ｴﾝﾄﾘｰ票!C$15:AM$115,3,0))","v":""},{"$f":"IF(B80=\"\",\"\",CONCATENATE(VLOOKUP(B80,ｴﾝﾄﾘｰ票!$E$16:$N$115,2,0),\"　\",VLOOKUP(B80,ｴﾝﾄﾘｰ票!$E$16:$N$115,3,0)))","v":""},null,null,null,null,{"$f":"IF(B80=\"\",\"\",VLOOKUP(B80,ｴﾝﾄﾘｰ票!$E$16:$N$115,8,0))","v":""},null,{"$f":"IF(B80=\"\",\"\",IF(VLOOKUP(B80,ｴﾝﾄﾘｰ票!$E$16:$AA$115,12,0)=\"\",\"\",VLOOKUP(B80,ｴﾝﾄﾘｰ票!$E$16:$AA$115,12,0)))","v":""},{"$f":"IF(B80=\"\",\"\",IF(VLOOKUP(B80,ｴﾝﾄﾘｰ票!$E$16:$AA$115,16,0)=\"\",\"\",VLOOKUP(B80,ｴﾝﾄﾘｰ票!$E$16:$AA$115,16,0)))","v":""},{"$f":"IF(B80=\"\",\"\",IF(VLOOKUP(B80,ｴﾝﾄﾘｰ票!$E$16:$AA$115,20,0)=\"\",\"\",VLOOKUP(B80,ｴﾝﾄﾘｰ票!$E$16:$AA$115,20,0)))","v":""},{"$f":"IF(B80=\"\",\"\",IF(ISERROR(VLOOKUP(B80,ｴﾝﾄﾘｰ票!$BF$16:$BG$115,1,0)),\"\",VLOOKUP(B80,ｴﾝﾄﾘｰ票!$BF$16:$BG$115,2,0)))","v":""},null,{"$f":"IF(B80=\"\",\"\",IF(ISERROR(VLOOKUP(B80,ｴﾝﾄﾘｰ票!$BL$16:$BM$115,1,0)),\"\",VLOOKUP(B80,ｴﾝﾄﾘｰ票!$BL$16:$BM$115,2,0)))","v":""}]
[58,{"$f":"IF(ISERROR(VLOOKUP(A81*10-9+6000,ｴﾝﾄﾘｰ票!C$15:AM$115,3,0)),\"\",VLOOKUP(A81*10-9+6000,ｴﾝﾄﾘｰ票!C$15:AM$115,3,0))","v":""},{"$f":"IF(B81=\"\",\"\",CONCATENATE(VLOOKUP(B81,ｴﾝﾄﾘｰ票!$E$16:$N$115,2,0),\"　\",VLOOKUP(B81,ｴﾝﾄﾘｰ票!$E$16:$N$115,3,0)))","v":""},null,null,null,null,{"$f":"IF(B81=\"\",\"\",VLOOKUP(B81,ｴﾝﾄﾘｰ票!$E$16:$N$115,8,0))","v":""},null,{"$f":"IF(B81=\"\",\"\",IF(VLOOKUP(B81,ｴﾝﾄﾘｰ票!$E$16:$AA$115,12,0)=\"\",\"\",VLOOKUP(B81,ｴﾝﾄﾘｰ票!$E$16:$AA$115,12,0)))","v":""},{"$f":"IF(B81=\"\",\"\",IF(VLOOKUP(B81,ｴﾝﾄﾘｰ票!$E$16:$AA$115,16,0)=\"\",\"\",VLOOKUP(B81,ｴﾝﾄﾘｰ票!$E$16:$AA$115,16,0)))","v":""},{"$f":"IF(B81=\"\",\"\",IF(VLOOKUP(B81,ｴﾝﾄﾘｰ票!$E$16:$AA$115,20,0)=\"\",\"\",VLOOKUP(B81,ｴﾝﾄﾘｰ票!$E$16:$AA$115,20,0)))","v":""},{"$f":"IF(B81=\"\",\"\",IF(ISERROR(VLOOKUP(B81,ｴﾝﾄﾘｰ票!$BF$16:$BG$115,1,0)),\"\",VLOOKUP(B81,ｴﾝﾄﾘｰ票!$BF$16:$BG$115,2,0)))","v":""},null,{"$f":"IF(B81=\"\",\"\",IF(ISERROR(VLOOKUP(B81,ｴﾝﾄﾘｰ票!$BL$16:$BM$115,1,0)),\"\",VLOOKUP(B81,ｴﾝﾄﾘｰ票!$BL$16:$BM$115,2,0)))","v":""}]
[59,{"$f":"IF(ISERROR(VLOOKUP(A82*10-9+6000,ｴﾝﾄﾘｰ票!C$15:AM$115,3,0)),\"\",VLOOKUP(A82*10-9+6000,ｴﾝﾄﾘｰ票!C$15:AM$115,3,0))","v":""},{"$f":"IF(B82=\"\",\"\",CONCATENATE(VLOOKUP(B82,ｴﾝﾄﾘｰ票!$E$16:$N$115,2,0),\"　\",VLOOKUP(B82,ｴﾝﾄﾘｰ票!$E$16:$N$115,3,0)))","v":""},null,null,null,null,{"$f":"IF(B82=\"\",\"\",VLOOKUP(B82,ｴﾝﾄﾘｰ票!$E$16:$N$115,8,0))","v":""},null,{"$f":"IF(B82=\"\",\"\",IF(VLOOKUP(B82,ｴﾝﾄﾘｰ票!$E$16:$AA$115,12,0)=\"\",\"\",VLOOKUP(B82,ｴﾝﾄﾘｰ票!$E$16:$AA$115,12,0)))","v":""},{"$f":"IF(B82=\"\",\"\",IF(VLOOKUP(B82,ｴﾝﾄﾘｰ票!$E$16:$AA$115,16,0)=\"\",\"\",VLOOKUP(B82,ｴﾝﾄﾘｰ票!$E$16:$AA$115,16,0)))","v":""},{"$f":"IF(B82=\"\",\"\",IF(VLOOKUP(B82,ｴﾝﾄﾘｰ票!$E$16:$AA$115,20,0)=\"\",\"\",VLOOKUP(B82,ｴﾝﾄﾘｰ票!$E$16:$AA$115,20,0)))","v":""},{"$f":"IF(B82=\"\",\"\",IF(ISERROR(VLOOKUP(B82,ｴﾝﾄﾘｰ票!$BF$16:$BG$115,1,0)),\"\",VLOOKUP(B82,ｴﾝﾄﾘｰ票!$BF$16:$BG$115,2,0)))","v":""},null,{"$f":"IF(B82=\"\",\"\",IF(ISERROR(VLOOKUP(B82,ｴﾝﾄﾘｰ票!$BL$16:$BM$115,1,0)),\"\",VLOOKUP(B82,ｴﾝﾄﾘｰ票!$BL$16:$BM$115,2,0)))","v":""}]
[60,{"$f":"IF(ISERROR(VLOOKUP(A83*10-9+6000,ｴﾝﾄﾘｰ票!C$15:AM$115,3,0)),\"\",VLOOKUP(A83*10-9+6000,ｴﾝﾄﾘｰ票!C$15:AM$115,3,0))","v":""},{"$f":"IF(B83=\"\",\"\",CONCATENATE(VLOOKUP(B83,ｴﾝﾄﾘｰ票!$E$16:$N$115,2,0),\"　\",VLOOKUP(B83,ｴﾝﾄﾘｰ票!$E$16:$N$115,3,0)))","v":""},null,null,null,null,{"$f":"IF(B83=\"\",\"\",VLOOKUP(B83,ｴﾝﾄﾘｰ票!$E$16:$N$115,8,0))","v":""},null,{"$f":"IF(B83=\"\",\"\",IF(VLOOKUP(B83,ｴﾝﾄﾘｰ票!$E$16:$AA$115,12,0)=\"\",\"\",VLOOKUP(B83,ｴﾝﾄﾘｰ票!$E$16:$AA$115,12,0)))","v":""},{"$f":"IF(B83=\"\",\"\",IF(VLOOKUP(B83,ｴﾝﾄﾘｰ票!$E$16:$AA$115,16,0)=\"\",\"\",VLOOKUP(B83,ｴﾝﾄﾘｰ票!$E$16:$AA$115,16,0)))","v":""},{"$f":"IF(B83=\"\",\"\",IF(VLOOKUP(B83,ｴﾝﾄﾘｰ票!$E$16:$AA$115,20,0)=\"\",\"\",VLOOKUP(B83,ｴﾝﾄﾘｰ票!$E$16:$AA$115,20,0)))","v":""},{"$f":"IF(B83=\"\",\"\",IF(ISERROR(VLOOKUP(B83,ｴﾝﾄﾘｰ票!$BF$16:$BG$115,1,0)),\"\",VLOOKUP(B83,ｴﾝﾄﾘｰ票!$BF$16:$BG$115,2,0)))","v":""},null,{"$f":"IF(B83=\"\",\"\",IF(ISERROR(VLOOKUP(B83,ｴﾝﾄﾘｰ票!$BL$16:$BM$115,1,0)),\"\",VLOOKUP(B83,ｴﾝﾄﾘｰ票!$BL$16:$BM$115,2,0)))","v":""}]
[61,{"$f":"IF(ISERROR(VLOOKUP(A84*10-9+6000,ｴﾝﾄﾘｰ票!C$15:AM$115,3,0)),\"\",VLOOKUP(A84*10-9+6000,ｴﾝﾄﾘｰ票!C$15:AM$115,3,0))","v":""},{"$f":"IF(B84=\"\",\"\",CONCATENATE(VLOOKUP(B84,ｴﾝﾄﾘｰ票!$E$16:$N$115,2,0),\"　\",VLOOKUP(B84,ｴﾝﾄﾘｰ票!$E$16:$N$115,3,0)))","v":""},null,null,null,null,{"$f":"IF(B84=\"\",\"\",VLOOKUP(B84,ｴﾝﾄﾘｰ票!$E$16:$N$115,8,0))","v":""},null,{"$f":"IF(B84=\"\",\"\",IF(VLOOKUP(B84,ｴﾝﾄﾘｰ票!$E$16:$AA$115,12,0)=\"\",\"\",VLOOKUP(B84,ｴﾝﾄﾘｰ票!$E$16:$AA$115,12,0)))","v":""},{"$f":"IF(B84=\"\",\"\",IF(VLOOKUP(B84,ｴﾝﾄﾘｰ票!$E$16:$AA$115,16,0)=\"\",\"\",VLOOKUP(B84,ｴﾝﾄﾘｰ票!$E$16:$AA$115,16,0)))","v":""},{"$f":"IF(B84=\"\",\"\",IF(VLOOKUP(B84,ｴﾝﾄﾘｰ票!$E$16:$AA$115,20,0)=\"\",\"\",VLOOKUP(B84,ｴﾝﾄﾘｰ票!$E$16:$AA$115,20,0)))","v":""},{"$f":"IF(B84=\"\",\"\",IF(ISERROR(VLOOKUP(B84,ｴﾝﾄﾘｰ票!$BF$16:$BG$115,1,0)),\"\",VLOOKUP(B84,ｴﾝﾄﾘｰ票!$BF$16:$BG$115,2,0)))","v":""},null,{"$f":"IF(B84=\"\",\"\",IF(ISERROR(VLOOKUP(B84,ｴﾝﾄﾘｰ票!$BL$16:$BM$115,1,0)),\"\",VLOOKUP(B84,ｴﾝﾄﾘｰ票!$BL$16:$BM$115,2,0)))","v":""}]
[62,{"$f":"IF(ISERROR(VLOOKUP(A85*10-9+6000,ｴﾝﾄﾘｰ票!C$15:AM$115,3,0)),\"\",VLOOKUP(A85*10-9+6000,ｴﾝﾄﾘｰ票!C$15:AM$115,3,0))","v":""},{"$f":"IF(B85=\"\",\"\",CONCATENATE(VLOOKUP(B85,ｴﾝﾄﾘｰ票!$E$16:$N$115,2,0),\"　\",VLOOKUP(B85,ｴﾝﾄﾘｰ票!$E$16:$N$115,3,0)))","v":""},null,null,null,null,{"$f":"IF(B85=\"\",\"\",VLOOKUP(B85,ｴﾝﾄﾘｰ票!$E$16:$N$115,8,0))","v":""},null,{"$f":"IF(B85=\"\",\"\",IF(VLOOKUP(B85,ｴﾝﾄﾘｰ票!$E$16:$AA$115,12,0)=\"\",\"\",VLOOKUP(B85,ｴﾝﾄﾘｰ票!$E$16:$AA$115,12,0)))","v":""},{"$f":"IF(B85=\"\",\"\",IF(VLOOKUP(B85,ｴﾝﾄﾘｰ票!$E$16:$AA$115,16,0)=\"\",\"\",VLOOKUP(B85,ｴﾝﾄﾘｰ票!$E$16:$AA$115,16,0)))","v":""},{"$f":"IF(B85=\"\",\"\",IF(VLOOKUP(B85,ｴﾝﾄﾘｰ票!$E$16:$AA$115,20,0)=\"\",\"\",VLOOKUP(B85,ｴﾝﾄﾘｰ票!$E$16:$AA$115,20,0)))","v":""},{"$f":"IF(B85=\"\",\"\",IF(ISERROR(VLOOKUP(B85,ｴﾝﾄﾘｰ票!$BF$16:$BG$115,1,0)),\"\",VLOOKUP(B85,ｴﾝﾄﾘｰ票!$BF$16:$BG$115,2,0)))","v":""},null,{"$f":"IF(B85=\"\",\"\",IF(ISERROR(VLOOKUP(B85,ｴﾝﾄﾘｰ票!$BL$16:$BM$115,1,0)),\"\",VLOOKUP(B85,ｴﾝﾄﾘｰ票!$BL$16:$BM$115,2,0)))","v":""}]
[63,{"$f":"IF(ISERROR(VLOOKUP(A86*10-9+6000,ｴﾝﾄﾘｰ票!C$15:AM$115,3,0)),\"\",VLOOKUP(A86*10-9+6000,ｴﾝﾄﾘｰ票!C$15:AM$115,3,0))","v":""},{"$f":"IF(B86=\"\",\"\",CONCATENATE(VLOOKUP(B86,ｴﾝﾄﾘｰ票!$E$16:$N$115,2,0),\"　\",VLOOKUP(B86,ｴﾝﾄﾘｰ票!$E$16:$N$115,3,0)))","v":""},null,null,null,null,{"$f":"IF(B86=\"\",\"\",VLOOKUP(B86,ｴﾝﾄﾘｰ票!$E$16:$N$115,8,0))","v":""},null,{"$f":"IF(B86=\"\",\"\",IF(VLOOKUP(B86,ｴﾝﾄﾘｰ票!$E$16:$AA$115,12,0)=\"\",\"\",VLOOKUP(B86,ｴﾝﾄﾘｰ票!$E$16:$AA$115,12,0)))","v":""},{"$f":"IF(B86=\"\",\"\",IF(VLOOKUP(B86,ｴﾝﾄﾘｰ票!$E$16:$AA$115,16,0)=\"\",\"\",VLOOKUP(B86,ｴﾝﾄﾘｰ票!$E$16:$AA$115,16,0)))","v":""},{"$f":"IF(B86=\"\",\"\",IF(VLOOKUP(B86,ｴﾝﾄﾘｰ票!$E$16:$AA$115,20,0)=\"\",\"\",VLOOKUP(B86,ｴﾝﾄﾘｰ票!$E$16:$AA$115,20,0)))","v":""},{"$f":"IF(B86=\"\",\"\",IF(ISERROR(VLOOKUP(B86,ｴﾝﾄﾘｰ票!$BF$16:$BG$115,1,0)),\"\",VLOOKUP(B86,ｴﾝﾄﾘｰ票!$BF$16:$BG$115,2,0)))","v":""},null,{"$f":"IF(B86=\"\",\"\",IF(ISERROR(VLOOKUP(B86,ｴﾝﾄﾘｰ票!$BL$16:$BM$115,1,0)),\"\",VLOOKUP(B86,ｴﾝﾄﾘｰ票!$BL$16:$BM$115,2,0)))","v":""}]
[64,{"$f":"IF(ISERROR(VLOOKUP(A87*10-9+6000,ｴﾝﾄﾘｰ票!C$15:AM$115,3,0)),\"\",VLOOKUP(A87*10-9+6000,ｴﾝﾄﾘｰ票!C$15:AM$115,3,0))","v":""},{"$f":"IF(B87=\"\",\"\",CONCATENATE(VLOOKUP(B87,ｴﾝﾄﾘｰ票!$E$16:$N$115,2,0),\"　\",VLOOKUP(B87,ｴﾝﾄﾘｰ票!$E$16:$N$115,3,0)))","v":""},null,null,null,null,{"$f":"IF(B87=\"\",\"\",VLOOKUP(B87,ｴﾝﾄﾘｰ票!$E$16:$N$115,8,0))","v":""},null,{"$f":"IF(B87=\"\",\"\",IF(VLOOKUP(B87,ｴﾝﾄﾘｰ票!$E$16:$AA$115,12,0)=\"\",\"\",VLOOKUP(B87,ｴﾝﾄﾘｰ票!$E$16:$AA$115,12,0)))","v":""},{"$f":"IF(B87=\"\",\"\",IF(VLOOKUP(B87,ｴﾝﾄﾘｰ票!$E$16:$AA$115,16,0)=\"\",\"\",VLOOKUP(B87,ｴﾝﾄﾘｰ票!$E$16:$AA$115,16,0)))","v":""},{"$f":"IF(B87=\"\",\"\",IF(VLOOKUP(B87,ｴﾝﾄﾘｰ票!$E$16:$AA$115,20,0)=\"\",\"\",VLOOKUP(B87,ｴﾝﾄﾘｰ票!$E$16:$AA$115,20,0)))","v":""},{"$f":"IF(B87=\"\",\"\",IF(ISERROR(VLOOKUP(B87,ｴﾝﾄﾘｰ票!$BF$16:$BG$115,1,0)),\"\",VLOOKUP(B87,ｴﾝﾄﾘｰ票!$BF$16:$BG$115,2,0)))","v":""},null,{"$f":"IF(B87=\"\",\"\",IF(ISERROR(VLOOKUP(B87,ｴﾝﾄﾘｰ票!$BL$16:$BM$115,1,0)),\"\",VLOOKUP(B87,ｴﾝﾄﾘｰ票!$BL$16:$BM$115,2,0)))","v":""}]
[65,{"$f":"IF(ISERROR(VLOOKUP(A88*10-9+6000,ｴﾝﾄﾘｰ票!C$15:AM$115,3,0)),\"\",VLOOKUP(A88*10-9+6000,ｴﾝﾄﾘｰ票!C$15:AM$115,3,0))","v":""},{"$f":"IF(B88=\"\",\"\",CONCATENATE(VLOOKUP(B88,ｴﾝﾄﾘｰ票!$E$16:$N$115,2,0),\"　\",VLOOKUP(B88,ｴﾝﾄﾘｰ票!$E$16:$N$115,3,0)))","v":""},null,null,null,null,{"$f":"IF(B88=\"\",\"\",VLOOKUP(B88,ｴﾝﾄﾘｰ票!$E$16:$N$115,8,0))","v":""},null,{"$f":"IF(B88=\"\",\"\",IF(VLOOKUP(B88,ｴﾝﾄﾘｰ票!$E$16:$AA$115,12,0)=\"\",\"\",VLOOKUP(B88,ｴﾝﾄﾘｰ票!$E$16:$AA$115,12,0)))","v":""},{"$f":"IF(B88=\"\",\"\",IF(VLOOKUP(B88,ｴﾝﾄﾘｰ票!$E$16:$AA$115,16,0)=\"\",\"\",VLOOKUP(B88,ｴﾝﾄﾘｰ票!$E$16:$AA$115,16,0)))","v":""},{"$f":"IF(B88=\"\",\"\",IF(VLOOKUP(B88,ｴﾝﾄﾘｰ票!$E$16:$AA$115,20,0)=\"\",\"\",VLOOKUP(B88,ｴﾝﾄﾘｰ票!$E$16:$AA$115,20,0)))","v":""},{"$f":"IF(B88=\"\",\"\",IF(ISERROR(VLOOKUP(B88,ｴﾝﾄﾘｰ票!$BF$16:$BG$115,1,0)),\"\",VLOOKUP(B88,ｴﾝﾄﾘｰ票!$BF$16:$BG$115,2,0)))","v":""},null,{"$f":"IF(B88=\"\",\"\",IF(ISERROR(VLOOKUP(B88,ｴﾝﾄﾘｰ票!$BL$16:$BM$115,1,0)),\"\",VLOOKUP(B88,ｴﾝﾄﾘｰ票!$BL$16:$BM$115,2,0)))","v":""}]
[null,{"$f":"ｴﾝﾄﾘｰ票!$G$1","v":"東京高体連陸上第4支部春季競技会"},null,null,null,null,null,null,null,null,null,null,null,null,"申込用紙(A票）"]
[{"$f":"A2","v":"令和5年度"},null,null,null,null,null,null,null,null,null,null,null,"女子",null,"Ｎｏ．３"]
["学校名",null,{"$f":"ｴﾝﾄﾘｰ票!$G$2","v":0}]
["学校所在地",null,{"$f":"ｴﾝﾄﾘｰ票!$G$5","v":0}]
["学校長",null,{"$f":"ｴﾝﾄﾘｰ票!$G$4","v":0},null,null,null,null,null,null,"印","顧問氏名",{"$f":"ｴﾝﾄﾘｰ票!$G$8","v":0},null,null,"印"]
["電話",null,{"$f":"ｴﾝﾄﾘｰ票!$G$6","v":"00:00:00"},null,null,null,"ＦＡＸ",{"$f":"ｴﾝﾄﾘｰ票!$G$7","v":0},null,null,"連絡先",{"$f":"ｴﾝﾄﾘｰ票!$G$9","v":0}]
[]
[null,null,null,null,null,null,null,null,null,null,null,"種目"]
[null,"番号","出場者氏名",null,null,null,null,"学年",null,"個人","個人","個人","4×100",null,"4×400"]
[66,{"$f":"IF(ISERROR(VLOOKUP(A98*10-9+6000,ｴﾝﾄﾘｰ票!C$15:AM$115,3,0)),\"\",VLOOKUP(A98*10-9+6000,ｴﾝﾄﾘｰ票!C$15:AM$115,3,0))","v":""},{"$f":"IF(B98=\"\",\"\",CONCATENATE(VLOOKUP(B98,ｴﾝﾄﾘｰ票!$E$16:$N$115,2,0),\"　\",VLOOKUP(B98,ｴﾝﾄﾘｰ票!$E$16:$N$115,3,0)))","v":""},null,null,null,null,{"$f":"IF(B98=\"\",\"\",VLOOKUP(B98,ｴﾝﾄﾘｰ票!$E$16:$N$115,8,0))","v":""},null,{"$f":"IF(B98=\"\",\"\",IF(VLOOKUP(B98,ｴﾝﾄﾘｰ票!$E$16:$AA$115,12,0)=\"\",\"\",VLOOKUP(B98,ｴﾝﾄﾘｰ票!$E$16:$AA$115,12,0)))","v":""},{"$f":"IF(B98=\"\",\"\",IF(VLOOKUP(B98,ｴﾝﾄﾘｰ票!$E$16:$AA$115,16,0)=\"\",\"\",VLOOKUP(B98,ｴﾝﾄﾘｰ票!$E$16:$AA$115,16,0)))","v":""},{"$f":"IF(B98=\"\",\"\",IF(VLOOKUP(B98,ｴﾝﾄﾘｰ票!$E$16:$AA$115,20,0)=\"\",\"\",VLOOKUP(B98,ｴﾝﾄﾘｰ票!$E$16:$AA$115,20,0)))","v":""},{"$f":"IF(B98=\"\",\"\",IF(ISERROR(VLOOKUP(B98,ｴﾝﾄﾘｰ票!$BF$16:$BG$115,1,0)),\"\",VLOOKUP(B98,ｴﾝﾄﾘｰ票!$BF$16:$BG$115,2,0)))","v":""},null,{"$f":"IF(B98=\"\",\"\",IF(ISERROR(VLOOKUP(B98,ｴﾝﾄﾘｰ票!$BL$16:$BM$115,1,0)),\"\",VLOOKUP(B98,ｴﾝﾄﾘｰ票!$BL$16:$BM$115,2,0)))","v":""}]
[67,{"$f":"IF(ISERROR(VLOOKUP(A99*10-9+6000,ｴﾝﾄﾘｰ票!C$15:AM$115,3,0)),\"\",VLOOKUP(A99*10-9+6000,ｴﾝﾄﾘｰ票!C$15:AM$115,3,0))","v":""},{"$f":"IF(B99=\"\",\"\",CONCATENATE(VLOOKUP(B99,ｴﾝﾄﾘｰ票!$E$16:$N$115,2,0),\"　\",VLOOKUP(B99,ｴﾝﾄﾘｰ票!$E$16:$N$115,3,0)))","v":""},null,null,null,null,{"$f":"IF(B99=\"\",\"\",VLOOKUP(B99,ｴﾝﾄﾘｰ票!$E$16:$N$115,8,0))","v":""},null,{"$f":"IF(B99=\"\",\"\",IF(VLOOKUP(B99,ｴﾝﾄﾘｰ票!$E$16:$AA$115,12,0)=\"\",\"\",VLOOKUP(B99,ｴﾝﾄﾘｰ票!$E$16:$AA$115,12,0)))","v":""},{"$f":"IF(B99=\"\",\"\",IF(VLOOKUP(B99,ｴﾝﾄﾘｰ票!$E$16:$AA$115,16,0)=\"\",\"\",VLOOKUP(B99,ｴﾝﾄﾘｰ票!$E$16:$AA$115,16,0)))","v":""},{"$f":"IF(B99=\"\",\"\",IF(VLOOKUP(B99,ｴﾝﾄﾘｰ票!$E$16:$AA$115,20,0)=\"\",\"\",VLOOKUP(B99,ｴﾝﾄﾘｰ票!$E$16:$AA$115,20,0)))","v":""},{"$f":"IF(B99=\"\",\"\",IF(ISERROR(VLOOKUP(B99,ｴﾝﾄﾘｰ票!$BF$16:$BG$115,1,0)),\"\",VLOOKUP(B99,ｴﾝﾄﾘｰ票!$BF$16:$BG$115,2,0)))","v":""},null,{"$f":"IF(B99=\"\",\"\",IF(ISERROR(VLOOKUP(B99,ｴﾝﾄﾘｰ票!$BL$16:$BM$115,1,0)),\"\",VLOOKUP(B99,ｴﾝﾄﾘｰ票!$BL$16:$BM$115,2,0)))","v":""}]
[68,{"$f":"IF(ISERROR(VLOOKUP(A100*10-9+6000,ｴﾝﾄﾘｰ票!C$15:AM$115,3,0)),\"\",VLOOKUP(A100*10-9+6000,ｴﾝﾄﾘｰ票!C$15:AM$115,3,0))","v":""},{"$f":"IF(B100=\"\",\"\",CONCATENATE(VLOOKUP(B100,ｴﾝﾄﾘｰ票!$E$16:$N$115,2,0),\"　\",VLOOKUP(B100,ｴﾝﾄﾘｰ票!$E$16:$N$115,3,0)))","v":""},null,null,null,null,{"$f":"IF(B100=\"\",\"\",VLOOKUP(B100,ｴﾝﾄﾘｰ票!$E$16:$N$115,8,0))","v":""},null,{"$f":"IF(B100=\"\",\"\",IF(VLOOKUP(B100,ｴﾝﾄﾘｰ票!$E$16:$AA$115,12,0)=\"\",\"\",VLOOKUP(B100,ｴﾝﾄﾘｰ票!$E$16:$AA$115,12,0)))","v":""},{"$f":"IF(B100=\"\",\"\",IF(VLOOKUP(B100,ｴﾝﾄﾘｰ票!$E$16:$AA$115,16,0)=\"\",\"\",VLOOKUP(B100,ｴﾝﾄﾘｰ票!$E$16:$AA$115,16,0)))","v":""},{"$f":"IF(B100=\"\",\"\",IF(VLOOKUP(B100,ｴﾝﾄﾘｰ票!$E$16:$AA$115,20,0)=\"\",\"\",VLOOKUP(B100,ｴﾝﾄﾘｰ票!$E$16:$AA$115,20,0)))","v":""},{"$f":"IF(B100=\"\",\"\",IF(ISERROR(VLOOKUP(B100,ｴﾝﾄﾘｰ票!$BF$16:$BG$115,1,0)),\"\",VLOOKUP(B100,ｴﾝﾄﾘｰ票!$BF$16:$BG$115,2,0)))","v":""},null,{"$f":"IF(B100=\"\",\"\",IF(ISERROR(VLOOKUP(B100,ｴﾝﾄﾘｰ票!$BL$16:$BM$115,1,0)),\"\",VLOOKUP(B100,ｴﾝﾄﾘｰ票!$BL$16:$BM$115,2,0)))","v":""}]
[69,{"$f":"IF(ISERROR(VLOOKUP(A101*10-9+6000,ｴﾝﾄﾘｰ票!C$15:AM$115,3,0)),\"\",VLOOKUP(A101*10-9+6000,ｴﾝﾄﾘｰ票!C$15:AM$115,3,0))","v":""},{"$f":"IF(B101=\"\",\"\",CONCATENATE(VLOOKUP(B101,ｴﾝﾄﾘｰ票!$E$16:$N$115,2,0),\"　\",VLOOKUP(B101,ｴﾝﾄﾘｰ票!$E$16:$N$115,3,0)))","v":""},null,null,null,null,{"$f":"IF(B101=\"\",\"\",VLOOKUP(B101,ｴﾝﾄﾘｰ票!$E$16:$N$115,8,0))","v":""},null,{"$f":"IF(B101=\"\",\"\",IF(VLOOKUP(B101,ｴﾝﾄﾘｰ票!$E$16:$AA$115,12,0)=\"\",\"\",VLOOKUP(B101,ｴﾝﾄﾘｰ票!$E$16:$AA$115,12,0)))","v":""},{"$f":"IF(B101=\"\",\"\",IF(VLOOKUP(B101,ｴﾝﾄﾘｰ票!$E$16:$AA$115,16,0)=\"\",\"\",VLOOKUP(B101,ｴﾝﾄﾘｰ票!$E$16:$AA$115,16,0)))","v":""},{"$f":"IF(B101=\"\",\"\",IF(VLOOKUP(B101,ｴﾝﾄﾘｰ票!$E$16:$AA$115,20,0)=\"\",\"\",VLOOKUP(B101,ｴﾝﾄﾘｰ票!$E$16:$AA$115,20,0)))","v":""},{"$f":"IF(B101=\"\",\"\",IF(ISERROR(VLOOKUP(B101,ｴﾝﾄﾘｰ票!$BF$16:$BG$115,1,0)),\"\",VLOOKUP(B101,ｴﾝﾄﾘｰ票!$BF$16:$BG$115,2,0)))","v":""},null,{"$f":"IF(B101=\"\",\"\",IF(ISERROR(VLOOKUP(B101,ｴﾝﾄﾘｰ票!$BL$16:$BM$115,1,0)),\"\",VLOOKUP(B101,ｴﾝﾄﾘｰ票!$BL$16:$BM$115,2,0)))","v":""}]
[70,{"$f":"IF(ISERROR(VLOOKUP(A102*10-9+6000,ｴﾝﾄﾘｰ票!C$15:AM$115,3,0)),\"\",VLOOKUP(A102*10-9+6000,ｴﾝﾄﾘｰ票!C$15:AM$115,3,0))","v":""},{"$f":"IF(B102=\"\",\"\",CONCATENATE(VLOOKUP(B102,ｴﾝﾄﾘｰ票!$E$16:$N$115,2,0),\"　\",VLOOKUP(B102,ｴﾝﾄﾘｰ票!$E$16:$N$115,3,0)))","v":""},null,null,null,null,{"$f":"IF(B102=\"\",\"\",VLOOKUP(B102,ｴﾝﾄﾘｰ票!$E$16:$N$115,8,0))","v":""},null,{"$f":"IF(B102=\"\",\"\",IF(VLOOKUP(B102,ｴﾝﾄﾘｰ票!$E$16:$AA$115,12,0)=\"\",\"\",VLOOKUP(B102,ｴﾝﾄﾘｰ票!$E$16:$AA$115,12,0)))","v":""},{"$f":"IF(B102=\"\",\"\",IF(VLOOKUP(B102,ｴﾝﾄﾘｰ票!$E$16:$AA$115,16,0)=\"\",\"\",VLOOKUP(B102,ｴﾝﾄﾘｰ票!$E$16:$AA$115,16,0)))","v":""},{"$f":"IF(B102=\"\",\"\",IF(VLOOKUP(B102,ｴﾝﾄﾘｰ票!$E$16:$AA$115,20,0)=\"\",\"\",VLOOKUP(B102,ｴﾝﾄﾘｰ票!$E$16:$AA$115,20,0)))","v":""},{"$f":"IF(B102=\"\",\"\",IF(ISERROR(VLOOKUP(B102,ｴﾝﾄﾘｰ票!$BF$16:$BG$115,1,0)),\"\",VLOOKUP(B102,ｴﾝﾄﾘｰ票!$BF$16:$BG$115,2,0)))","v":""},null,{"$f":"IF(B102=\"\",\"\",IF(ISERROR(VLOOKUP(B102,ｴﾝﾄﾘｰ票!$BL$16:$BM$115,1,0)),\"\",VLOOKUP(B102,ｴﾝﾄﾘｰ票!$BL$16:$BM$115,2,0)))","v":""}]
[71,{"$f":"IF(ISERROR(VLOOKUP(A103*10-9+6000,ｴﾝﾄﾘｰ票!C$15:AM$115,3,0)),\"\",VLOOKUP(A103*10-9+6000,ｴﾝﾄﾘｰ票!C$15:AM$115,3,0))","v":""},{"$f":"IF(B103=\"\",\"\",CONCATENATE(VLOOKUP(B103,ｴﾝﾄﾘｰ票!$E$16:$N$115,2,0),\"　\",VLOOKUP(B103,ｴﾝﾄﾘｰ票!$E$16:$N$115,3,0)))","v":""},null,null,null,null,{"$f":"IF(B103=\"\",\"\",VLOOKUP(B103,ｴﾝﾄﾘｰ票!$E$16:$N$115,8,0))","v":""},null,{"$f":"IF(B103=\"\",\"\",IF(VLOOKUP(B103,ｴﾝﾄﾘｰ票!$E$16:$AA$115,12,0)=\"\",\"\",VLOOKUP(B103,ｴﾝﾄﾘｰ票!$E$16:$AA$115,12,0)))","v":""},{"$f":"IF(B103=\"\",\"\",IF(VLOOKUP(B103,ｴﾝﾄﾘｰ票!$E$16:$AA$115,16,0)=\"\",\"\",VLOOKUP(B103,ｴﾝﾄﾘｰ票!$E$16:$AA$115,16,0)))","v":""},{"$f":"IF(B103=\"\",\"\",IF(VLOOKUP(B103,ｴﾝﾄﾘｰ票!$E$16:$AA$115,20,0)=\"\",\"\",VLOOKUP(B103,ｴﾝﾄﾘｰ票!$E$16:$AA$115,20,0)))","v":""},{"$f":"IF(B103=\"\",\"\",IF(ISERROR(VLOOKUP(B103,ｴﾝﾄﾘｰ票!$BF$16:$BG$115,1,0)),\"\",VLOOKUP(B103,ｴﾝﾄﾘｰ票!$BF$16:$BG$115,2,0)))","v":""},null,{"$f":"IF(B103=\"\",\"\",IF(ISERROR(VLOOKUP(B103,ｴﾝﾄﾘｰ票!$BL$16:$BM$115,1,0)),\"\",VLOOKUP(B103,ｴﾝﾄﾘｰ票!$BL$16:$BM$115,2,0)))","v":""}]
[72,{"$f":"IF(ISERROR(VLOOKUP(A104*10-9+6000,ｴﾝﾄﾘｰ票!C$15:AM$115,3,0)),\"\",VLOOKUP(A104*10-9+6000,ｴﾝﾄﾘｰ票!C$15:AM$115,3,0))","v":""},{"$f":"IF(B104=\"\",\"\",CONCATENATE(VLOOKUP(B104,ｴﾝﾄﾘｰ票!$E$16:$N$115,2,0),\"　\",VLOOKUP(B104,ｴﾝﾄﾘｰ票!$E$16:$N$115,3,0)))","v":""},null,null,null,null,{"$f":"IF(B104=\"\",\"\",VLOOKUP(B104,ｴﾝﾄﾘｰ票!$E$16:$N$115,8,0))","v":""},null,{"$f":"IF(B104=\"\",\"\",IF(VLOOKUP(B104,ｴﾝﾄﾘｰ票!$E$16:$AA$115,12,0)=\"\",\"\",VLOOKUP(B104,ｴﾝﾄﾘｰ票!$E$16:$AA$115,12,0)))","v":""},{"$f":"IF(B104=\"\",\"\",IF(VLOOKUP(B104,ｴﾝﾄﾘｰ票!$E$16:$AA$115,16,0)=\"\",\"\",VLOOKUP(B104,ｴﾝﾄﾘｰ票!$E$16:$AA$115,16,0)))","v":""},{"$f":"IF(B104=\"\",\"\",IF(VLOOKUP(B104,ｴﾝﾄﾘｰ票!$E$16:$AA$115,20,0)=\"\",\"\",VLOOKUP(B104,ｴﾝﾄﾘｰ票!$E$16:$AA$115,20,0)))","v":""},{"$f":"IF(B104=\"\",\"\",IF(ISERROR(VLOOKUP(B104,ｴﾝﾄﾘｰ票!$BF$16:$BG$115,1,0)),\"\",VLOOKUP(B104,ｴﾝﾄﾘｰ票!$BF$16:$BG$115,2,0)))","v":""},null,{"$f":"IF(B104=\"\",\"\",IF(ISERROR(VLOOKUP(B104,ｴﾝﾄﾘｰ票!$BL$16:$BM$115,1,0)),\"\",VLOOKUP(B104,ｴﾝﾄﾘｰ票!$BL$16:$BM$115,2,0)))","v":""}]
[73,{"$f":"IF(ISERROR(VLOOKUP(A105*10-9+6000,ｴﾝﾄﾘｰ票!C$15:AM$115,3,0)),\"\",VLOOKUP(A105*10-9+6000,ｴﾝﾄﾘｰ票!C$15:AM$115,3,0))","v":""},{"$f":"IF(B105=\"\",\"\",CONCATENATE(VLOOKUP(B105,ｴﾝﾄﾘｰ票!$E$16:$N$115,2,0),\"　\",VLOOKUP(B105,ｴﾝﾄﾘｰ票!$E$16:$N$115,3,0)))","v":""},null,null,null,null,{"$f":"IF(B105=\"\",\"\",VLOOKUP(B105,ｴﾝﾄﾘｰ票!$E$16:$N$115,8,0))","v":""},null,{"$f":"IF(B105=\"\",\"\",IF(VLOOKUP(B105,ｴﾝﾄﾘｰ票!$E$16:$AA$115,12,0)=\"\",\"\",VLOOKUP(B105,ｴﾝﾄﾘｰ票!$E$16:$AA$115,12,0)))","v":""},{"$f":"IF(B105=\"\",\"\",IF(VLOOKUP(B105,ｴﾝﾄﾘｰ票!$E$16:$AA$115,16,0)=\"\",\"\",VLOOKUP(B105,ｴﾝﾄﾘｰ票!$E$16:$AA$115,16,0)))","v":""},{"$f":"IF(B105=\"\",\"\",IF(VLOOKUP(B105,ｴﾝﾄﾘｰ票!$E$16:$AA$115,20,0)=\"\",\"\",VLOOKUP(B105,ｴﾝﾄﾘｰ票!$E$16:$AA$115,20,0)))","v":""},{"$f":"IF(B105=\"\",\"\",IF(ISERROR(VLOOKUP(B105,ｴﾝﾄﾘｰ票!$BF$16:$BG$115,1,0)),\"\",VLOOKUP(B105,ｴﾝﾄﾘｰ票!$BF$16:$BG$115,2,0)))","v":""},null,{"$f":"IF(B105=\"\",\"\",IF(ISERROR(VLOOKUP(B105,ｴﾝﾄﾘｰ票!$BL$16:$BM$115,1,0)),\"\",VLOOKUP(B105,ｴﾝﾄﾘｰ票!$BL$16:$BM$115,2,0)))","v":""}]
[74,{"$f":"IF(ISERROR(VLOOKUP(A106*10-9+6000,ｴﾝﾄﾘｰ票!C$15:AM$115,3,0)),\"\",VLOOKUP(A106*10-9+6000,ｴﾝﾄﾘｰ票!C$15:AM$115,3,0))","v":""},{"$f":"IF(B106=\"\",\"\",CONCATENATE(VLOOKUP(B106,ｴﾝﾄﾘｰ票!$E$16:$N$115,2,0),\"　\",VLOOKUP(B106,ｴﾝﾄﾘｰ票!$E$16:$N$115,3,0)))","v":""},null,null,null,null,{"$f":"IF(B106=\"\",\"\",VLOOKUP(B106,ｴﾝﾄﾘｰ票!$E$16:$N$115,8,0))","v":""},null,{"$f":"IF(B106=\"\",\"\",IF(VLOOKUP(B106,ｴﾝﾄﾘｰ票!$E$16:$AA$115,12,0)=\"\",\"\",VLOOKUP(B106,ｴﾝﾄﾘｰ票!$E$16:$AA$115,12,0)))","v":""},{"$f":"IF(B106=\"\",\"\",IF(VLOOKUP(B106,ｴﾝﾄﾘｰ票!$E$16:$AA$115,16,0)=\"\",\"\",VLOOKUP(B106,ｴﾝﾄﾘｰ票!$E$16:$AA$115,16,0)))","v":""},{"$f":"IF(B106=\"\",\"\",IF(VLOOKUP(B106,ｴﾝﾄﾘｰ票!$E$16:$AA$115,20,0)=\"\",\"\",VLOOKUP(B106,ｴﾝﾄﾘｰ票!$E$16:$AA$115,20,0)))","v":""},{"$f":"IF(B106=\"\",\"\",IF(ISERROR(VLOOKUP(B106,ｴﾝﾄﾘｰ票!$BF$16:$BG$115,1,0)),\"\",VLOOKUP(B106,ｴﾝﾄﾘｰ票!$BF$16:$BG$115,2,0)))","v":""},null,{"$f":"IF(B106=\"\",\"\",IF(ISERROR(VLOOKUP(B106,ｴﾝﾄﾘｰ票!$BL$16:$BM$115,1,0)),\"\",VLOOKUP(B106,ｴﾝﾄﾘｰ票!$BL$16:$BM$115,2,0)))","v":""}]
[75,{"$f":"IF(ISERROR(VLOOKUP(A107*10-9+6000,ｴﾝﾄﾘｰ票!C$15:AM$115,3,0)),\"\",VLOOKUP(A107*10-9+6000,ｴﾝﾄﾘｰ票!C$15:AM$115,3,0))","v":""},{"$f":"IF(B107=\"\",\"\",CONCATENATE(VLOOKUP(B107,ｴﾝﾄﾘｰ票!$E$16:$N$115,2,0),\"　\",VLOOKUP(B107,ｴﾝﾄﾘｰ票!$E$16:$N$115,3,0)))","v":""},null,null,null,null,{"$f":"IF(B107=\"\",\"\",VLOOKUP(B107,ｴﾝﾄﾘｰ票!$E$16:$N$115,8,0))","v":""},null,{"$f":"IF(B107=\"\",\"\",IF(VLOOKUP(B107,ｴﾝﾄﾘｰ票!$E$16:$AA$115,12,0)=\"\",\"\",VLOOKUP(B107,ｴﾝﾄﾘｰ票!$E$16:$AA$115,12,0)))","v":""},{"$f":"IF(B107=\"\",\"\",IF(VLOOKUP(B107,ｴﾝﾄﾘｰ票!$E$16:$AA$115,16,0)=\"\",\"\",VLOOKUP(B107,ｴﾝﾄﾘｰ票!$E$16:$AA$115,16,0)))","v":""},{"$f":"IF(B107=\"\",\"\",IF(VLOOKUP(B107,ｴﾝﾄﾘｰ票!$E$16:$AA$115,20,0)=\"\",\"\",VLOOKUP(B107,ｴﾝﾄﾘｰ票!$E$16:$AA$115,20,0)))","v":""},{"$f":"IF(B107=\"\",\"\",IF(ISERROR(VLOOKUP(B107,ｴﾝﾄﾘｰ票!$BF$16:$BG$115,1,0)),\"\",VLOOKUP(B107,ｴﾝﾄﾘｰ票!$BF$16:$BG$115,2,0)))","v":""},null,{"$f":"IF(B107=\"\",\"\",IF(ISERROR(VLOOKUP(B107,ｴﾝﾄﾘｰ票!$BL$16:$BM$115,1,0)),\"\",VLOOKUP(B107,ｴﾝﾄﾘｰ票!$BL$16:$BM$115,2,0)))","v":""}]
[76,{"$f":"IF(ISERROR(VLOOKUP(A108*10-9+6000,ｴﾝﾄﾘｰ票!C$15:AM$115,3,0)),\"\",VLOOKUP(A108*10-9+6000,ｴﾝﾄﾘｰ票!C$15:AM$115,3,0))","v":""},{"$f":"IF(B108=\"\",\"\",CONCATENATE(VLOOKUP(B108,ｴﾝﾄﾘｰ票!$E$16:$N$115,2,0),\"　\",VLOOKUP(B108,ｴﾝﾄﾘｰ票!$E$16:$N$115,3,0)))","v":""},null,null,null,null,{"$f":"IF(B108=\"\",\"\",VLOOKUP(B108,ｴﾝﾄﾘｰ票!$E$16:$N$115,8,0))","v":""},null,{"$f":"IF(B108=\"\",\"\",IF(VLOOKUP(B108,ｴﾝﾄﾘｰ票!$E$16:$AA$115,12,0)=\"\",\"\",VLOOKUP(B108,ｴﾝﾄﾘｰ票!$E$16:$AA$115,12,0)))","v":""},{"$f":"IF(B108=\"\",\"\",IF(VLOOKUP(B108,ｴﾝﾄﾘｰ票!$E$16:$AA$115,16,0)=\"\",\"\",VLOOKUP(B108,ｴﾝﾄﾘｰ票!$E$16:$AA$115,16,0)))","v":""},{"$f":"IF(B108=\"\",\"\",IF(VLOOKUP(B108,ｴﾝﾄﾘｰ票!$E$16:$AA$115,20,0)=\"\",\"\",VLOOKUP(B108,ｴﾝﾄﾘｰ票!$E$16:$AA$115,20,0)))","v":""},{"$f":"IF(B108=\"\",\"\",IF(ISERROR(VLOOKUP(B108,ｴﾝﾄﾘｰ票!$BF$16:$BG$115,1,0)),\"\",VLOOKUP(B108,ｴﾝﾄﾘｰ票!$BF$16:$BG$115,2,0)))","v":""},null,{"$f":"IF(B108=\"\",\"\",IF(ISERROR(VLOOKUP(B108,ｴﾝﾄﾘｰ票!$BL$16:$BM$115,1,0)),\"\",VLOOKUP(B108,ｴﾝﾄﾘｰ票!$BL$16:$BM$115,2,0)))","v":""}]
[77,{"$f":"IF(ISERROR(VLOOKUP(A109*10-9+6000,ｴﾝﾄﾘｰ票!C$15:AM$115,3,0)),\"\",VLOOKUP(A109*10-9+6000,ｴﾝﾄﾘｰ票!C$15:AM$115,3,0))","v":""},{"$f":"IF(B109=\"\",\"\",CONCATENATE(VLOOKUP(B109,ｴﾝﾄﾘｰ票!$E$16:$N$115,2,0),\"　\",VLOOKUP(B109,ｴﾝﾄﾘｰ票!$E$16:$N$115,3,0)))","v":""},null,null,null,null,{"$f":"IF(B109=\"\",\"\",VLOOKUP(B109,ｴﾝﾄﾘｰ票!$E$16:$N$115,8,0))","v":""},null,{"$f":"IF(B109=\"\",\"\",IF(VLOOKUP(B109,ｴﾝﾄﾘｰ票!$E$16:$AA$115,12,0)=\"\",\"\",VLOOKUP(B109,ｴﾝﾄﾘｰ票!$E$16:$AA$115,12,0)))","v":""},{"$f":"IF(B109=\"\",\"\",IF(VLOOKUP(B109,ｴﾝﾄﾘｰ票!$E$16:$AA$115,16,0)=\"\",\"\",VLOOKUP(B109,ｴﾝﾄﾘｰ票!$E$16:$AA$115,16,0)))","v":""},{"$f":"IF(B109=\"\",\"\",IF(VLOOKUP(B109,ｴﾝﾄﾘｰ票!$E$16:$AA$115,20,0)=\"\",\"\",VLOOKUP(B109,ｴﾝﾄﾘｰ票!$E$16:$AA$115,20,0)))","v":""},{"$f":"IF(B109=\"\",\"\",IF(ISERROR(VLOOKUP(B109,ｴﾝﾄﾘｰ票!$BF$16:$BG$115,1,0)),\"\",VLOOKUP(B109,ｴﾝﾄﾘｰ票!$BF$16:$BG$115,2,0)))","v":""},null,{"$f":"IF(B109=\"\",\"\",IF(ISERROR(VLOOKUP(B109,ｴﾝﾄﾘｰ票!$BL$16:$BM$115,1,0)),\"\",VLOOKUP(B109,ｴﾝﾄﾘｰ票!$BL$16:$BM$115,2,0)))","v":""}]
[78,{"$f":"IF(ISERROR(VLOOKUP(A110*10-9+6000,ｴﾝﾄﾘｰ票!C$15:AM$115,3,0)),\"\",VLOOKUP(A110*10-9+6000,ｴﾝﾄﾘｰ票!C$15:AM$115,3,0))","v":""},{"$f":"IF(B110=\"\",\"\",CONCATENATE(VLOOKUP(B110,ｴﾝﾄﾘｰ票!$E$16:$N$115,2,0),\"　\",VLOOKUP(B110,ｴﾝﾄﾘｰ票!$E$16:$N$115,3,0)))","v":""},null,null,null,null,{"$f":"IF(B110=\"\",\"\",VLOOKUP(B110,ｴﾝﾄﾘｰ票!$E$16:$N$115,8,0))","v":""},null,{"$f":"IF(B110=\"\",\"\",IF(VLOOKUP(B110,ｴﾝﾄﾘｰ票!$E$16:$AA$115,12,0)=\"\",\"\",VLOOKUP(B110,ｴﾝﾄﾘｰ票!$E$16:$AA$115,12,0)))","v":""},{"$f":"IF(B110=\"\",\"\",IF(VLOOKUP(B110,ｴﾝﾄﾘｰ票!$E$16:$AA$115,16,0)=\"\",\"\",VLOOKUP(B110,ｴﾝﾄﾘｰ票!$E$16:$AA$115,16,0)))","v":""},{"$f":"IF(B110=\"\",\"\",IF(VLOOKUP(B110,ｴﾝﾄﾘｰ票!$E$16:$AA$115,20,0)=\"\",\"\",VLOOKUP(B110,ｴﾝﾄﾘｰ票!$E$16:$AA$115,20,0)))","v":""},{"$f":"IF(B110=\"\",\"\",IF(ISERROR(VLOOKUP(B110,ｴﾝﾄﾘｰ票!$BF$16:$BG$115,1,0)),\"\",VLOOKUP(B110,ｴﾝﾄﾘｰ票!$BF$16:$BG$115,2,0)))","v":""},null,{"$f":"IF(B110=\"\",\"\",IF(ISERROR(VLOOKUP(B110,ｴﾝﾄﾘｰ票!$BL$16:$BM$115,1,0)),\"\",VLOOKUP(B110,ｴﾝﾄﾘｰ票!$BL$16:$BM$115,2,0)))","v":""}]
[79,{"$f":"IF(ISERROR(VLOOKUP(A111*10-9+6000,ｴﾝﾄﾘｰ票!C$15:AM$115,3,0)),\"\",VLOOKUP(A111*10-9+6000,ｴﾝﾄﾘｰ票!C$15:AM$115,3,0))","v":""},{"$f":"IF(B111=\"\",\"\",CONCATENATE(VLOOKUP(B111,ｴﾝﾄﾘｰ票!$E$16:$N$115,2,0),\"　\",VLOOKUP(B111,ｴﾝﾄﾘｰ票!$E$16:$N$115,3,0)))","v":""},null,null,null,null,{"$f":"IF(B111=\"\",\"\",VLOOKUP(B111,ｴﾝﾄﾘｰ票!$E$16:$N$115,8,0))","v":""},null,{"$f":"IF(B111=\"\",\"\",IF(VLOOKUP(B111,ｴﾝﾄﾘｰ票!$E$16:$AA$115,12,0)=\"\",\"\",VLOOKUP(B111,ｴﾝﾄﾘｰ票!$E$16:$AA$115,12,0)))","v":""},{"$f":"IF(B111=\"\",\"\",IF(VLOOKUP(B111,ｴﾝﾄﾘｰ票!$E$16:$AA$115,16,0)=\"\",\"\",VLOOKUP(B111,ｴﾝﾄﾘｰ票!$E$16:$AA$115,16,0)))","v":""},{"$f":"IF(B111=\"\",\"\",IF(VLOOKUP(B111,ｴﾝﾄﾘｰ票!$E$16:$AA$115,20,0)=\"\",\"\",VLOOKUP(B111,ｴﾝﾄﾘｰ票!$E$16:$AA$115,20,0)))","v":""},{"$f":"IF(B111=\"\",\"\",IF(ISERROR(VLOOKUP(B111,ｴﾝﾄﾘｰ票!$BF$16:$BG$115,1,0)),\"\",VLOOKUP(B111,ｴﾝﾄﾘｰ票!$BF$16:$BG$115,2,0)))","v":""},null,{"$f":"IF(B111=\"\",\"\",IF(ISERROR(VLOOKUP(B111,ｴﾝﾄﾘｰ票!$BL$16:$BM$115,1,0)),\"\",VLOOKUP(B111,ｴﾝﾄﾘｰ票!$BL$16:$BM$115,2,0)))","v":""}]
[80,{"$f":"IF(ISERROR(VLOOKUP(A112*10-9+6000,ｴﾝﾄﾘｰ票!C$15:AM$115,3,0)),\"\",VLOOKUP(A112*10-9+6000,ｴﾝﾄﾘｰ票!C$15:AM$115,3,0))","v":""},{"$f":"IF(B112=\"\",\"\",CONCATENATE(VLOOKUP(B112,ｴﾝﾄﾘｰ票!$E$16:$N$115,2,0),\"　\",VLOOKUP(B112,ｴﾝﾄﾘｰ票!$E$16:$N$115,3,0)))","v":""},null,null,null,null,{"$f":"IF(B112=\"\",\"\",VLOOKUP(B112,ｴﾝﾄﾘｰ票!$E$16:$N$115,8,0))","v":""},null,{"$f":"IF(B112=\"\",\"\",IF(VLOOKUP(B112,ｴﾝﾄﾘｰ票!$E$16:$AA$115,12,0)=\"\",\"\",VLOOKUP(B112,ｴﾝﾄﾘｰ票!$E$16:$AA$115,12,0)))","v":""},{"$f":"IF(B112=\"\",\"\",IF(VLOOKUP(B112,ｴﾝﾄﾘｰ票!$E$16:$AA$115,16,0)=\"\",\"\",VLOOKUP(B112,ｴﾝﾄﾘｰ票!$E$16:$AA$115,16,0)))","v":""},{"$f":"IF(B112=\"\",\"\",IF(VLOOKUP(B112,ｴﾝﾄﾘｰ票!$E$16:$AA$115,20,0)=\"\",\"\",VLOOKUP(B112,ｴﾝﾄﾘｰ票!$E$16:$AA$115,20,0)))","v":""},{"$f":"IF(B112=\"\",\"\",IF(ISERROR(VLOOKUP(B112,ｴﾝﾄﾘｰ票!$BF$16:$BG$115,1,0)),\"\",VLOOKUP(B112,ｴﾝﾄﾘｰ票!$BF$16:$BG$115,2,0)))","v":""},null,{"$f":"IF(B112=\"\",\"\",IF(ISERROR(VLOOKUP(B112,ｴﾝﾄﾘｰ票!$BL$16:$BM$115,1,0)),\"\",VLOOKUP(B112,ｴﾝﾄﾘｰ票!$BL$16:$BM$115,2,0)))","v":""}]
[81,{"$f":"IF(ISERROR(VLOOKUP(A113*10-9+6000,ｴﾝﾄﾘｰ票!C$15:AM$115,3,0)),\"\",VLOOKUP(A113*10-9+6000,ｴﾝﾄﾘｰ票!C$15:AM$115,3,0))","v":""},{"$f":"IF(B113=\"\",\"\",CONCATENATE(VLOOKUP(B113,ｴﾝﾄﾘｰ票!$E$16:$N$115,2,0),\"　\",VLOOKUP(B113,ｴﾝﾄﾘｰ票!$E$16:$N$115,3,0)))","v":""},null,null,null,null,{"$f":"IF(B113=\"\",\"\",VLOOKUP(B113,ｴﾝﾄﾘｰ票!$E$16:$N$115,8,0))","v":""},null,{"$f":"IF(B113=\"\",\"\",IF(VLOOKUP(B113,ｴﾝﾄﾘｰ票!$E$16:$AA$115,12,0)=\"\",\"\",VLOOKUP(B113,ｴﾝﾄﾘｰ票!$E$16:$AA$115,12,0)))","v":""},{"$f":"IF(B113=\"\",\"\",IF(VLOOKUP(B113,ｴﾝﾄﾘｰ票!$E$16:$AA$115,16,0)=\"\",\"\",VLOOKUP(B113,ｴﾝﾄﾘｰ票!$E$16:$AA$115,16,0)))","v":""},{"$f":"IF(B113=\"\",\"\",IF(VLOOKUP(B113,ｴﾝﾄﾘｰ票!$E$16:$AA$115,20,0)=\"\",\"\",VLOOKUP(B113,ｴﾝﾄﾘｰ票!$E$16:$AA$115,20,0)))","v":""},{"$f":"IF(B113=\"\",\"\",IF(ISERROR(VLOOKUP(B113,ｴﾝﾄﾘｰ票!$BF$16:$BG$115,1,0)),\"\",VLOOKUP(B113,ｴﾝﾄﾘｰ票!$BF$16:$BG$115,2,0)))","v":""},null,{"$f":"IF(B113=\"\",\"\",IF(ISERROR(VLOOKUP(B113,ｴﾝﾄﾘｰ票!$BL$16:$BM$115,1,0)),\"\",VLOOKUP(B113,ｴﾝﾄﾘｰ票!$BL$16:$BM$115,2,0)))","v":""}]
[82,{"$f":"IF(ISERROR(VLOOKUP(A114*10-9+6000,ｴﾝﾄﾘｰ票!C$15:AM$115,3,0)),\"\",VLOOKUP(A114*10-9+6000,ｴﾝﾄﾘｰ票!C$15:AM$115,3,0))","v":""},{"$f":"IF(B114=\"\",\"\",CONCATENATE(VLOOKUP(B114,ｴﾝﾄﾘｰ票!$E$16:$N$115,2,0),\"　\",VLOOKUP(B114,ｴﾝﾄﾘｰ票!$E$16:$N$115,3,0)))","v":""},null,null,null,null,{"$f":"IF(B114=\"\",\"\",VLOOKUP(B114,ｴﾝﾄﾘｰ票!$E$16:$N$115,8,0))","v":""},null,{"$f":"IF(B114=\"\",\"\",IF(VLOOKUP(B114,ｴﾝﾄﾘｰ票!$E$16:$AA$115,12,0)=\"\",\"\",VLOOKUP(B114,ｴﾝﾄﾘｰ票!$E$16:$AA$115,12,0)))","v":""},{"$f":"IF(B114=\"\",\"\",IF(VLOOKUP(B114,ｴﾝﾄﾘｰ票!$E$16:$AA$115,16,0)=\"\",\"\",VLOOKUP(B114,ｴﾝﾄﾘｰ票!$E$16:$AA$115,16,0)))","v":""},{"$f":"IF(B114=\"\",\"\",IF(VLOOKUP(B114,ｴﾝﾄﾘｰ票!$E$16:$AA$115,20,0)=\"\",\"\",VLOOKUP(B114,ｴﾝﾄﾘｰ票!$E$16:$AA$115,20,0)))","v":""},{"$f":"IF(B114=\"\",\"\",IF(ISERROR(VLOOKUP(B114,ｴﾝﾄﾘｰ票!$BF$16:$BG$115,1,0)),\"\",VLOOKUP(B114,ｴﾝﾄﾘｰ票!$BF$16:$BG$115,2,0)))","v":""},null,{"$f":"IF(B114=\"\",\"\",IF(ISERROR(VLOOKUP(B114,ｴﾝﾄﾘｰ票!$BL$16:$BM$115,1,0)),\"\",VLOOKUP(B114,ｴﾝﾄﾘｰ票!$BL$16:$BM$115,2,0)))","v":""}]
[83,{"$f":"IF(ISERROR(VLOOKUP(A115*10-9+6000,ｴﾝﾄﾘｰ票!C$15:AM$115,3,0)),\"\",VLOOKUP(A115*10-9+6000,ｴﾝﾄﾘｰ票!C$15:AM$115,3,0))","v":""},{"$f":"IF(B115=\"\",\"\",CONCATENATE(VLOOKUP(B115,ｴﾝﾄﾘｰ票!$E$16:$N$115,2,0),\"　\",VLOOKUP(B115,ｴﾝﾄﾘｰ票!$E$16:$N$115,3,0)))","v":""},null,null,null,null,{"$f":"IF(B115=\"\",\"\",VLOOKUP(B115,ｴﾝﾄﾘｰ票!$E$16:$N$115,8,0))","v":""},null,{"$f":"IF(B115=\"\",\"\",IF(VLOOKUP(B115,ｴﾝﾄﾘｰ票!$E$16:$AA$115,12,0)=\"\",\"\",VLOOKUP(B115,ｴﾝﾄﾘｰ票!$E$16:$AA$115,12,0)))","v":""},{"$f":"IF(B115=\"\",\"\",IF(VLOOKUP(B115,ｴﾝﾄﾘｰ票!$E$16:$AA$115,16,0)=\"\",\"\",VLOOKUP(B115,ｴﾝﾄﾘｰ票!$E$16:$AA$115,16,0)))","v":""},{"$f":"IF(B115=\"\",\"\",IF(VLOOKUP(B115,ｴﾝﾄﾘｰ票!$E$16:$AA$115,20,0)=\"\",\"\",VLOOKUP(B115,ｴﾝﾄﾘｰ票!$E$16:$AA$115,20,0)))","v":""},{"$f":"IF(B115=\"\",\"\",IF(ISERROR(VLOOKUP(B115,ｴﾝﾄﾘｰ票!$BF$16:$BG$115,1,0)),\"\",VLOOKUP(B115,ｴﾝﾄﾘｰ票!$BF$16:$BG$115,2,0)))","v":""},null,{"$f":"IF(B115=\"\",\"\",IF(ISERROR(VLOOKUP(B115,ｴﾝﾄﾘｰ票!$BL$16:$BM$115,1,0)),\"\",VLOOKUP(B115,ｴﾝﾄﾘｰ票!$BL$16:$BM$115,2,0)))","v":""}]
[84,{"$f":"IF(ISERROR(VLOOKUP(A116*10-9+6000,ｴﾝﾄﾘｰ票!C$15:AM$115,3,0)),\"\",VLOOKUP(A116*10-9+6000,ｴﾝﾄﾘｰ票!C$15:AM$115,3,0))","v":""},{"$f":"IF(B116=\"\",\"\",CONCATENATE(VLOOKUP(B116,ｴﾝﾄﾘｰ票!$E$16:$N$115,2,0),\"　\",VLOOKUP(B116,ｴﾝﾄﾘｰ票!$E$16:$N$115,3,0)))","v":""},null,null,null,null,{"$f":"IF(B116=\"\",\"\",VLOOKUP(B116,ｴﾝﾄﾘｰ票!$E$16:$N$115,8,0))","v":""},null,{"$f":"IF(B116=\"\",\"\",IF(VLOOKUP(B116,ｴﾝﾄﾘｰ票!$E$16:$AA$115,12,0)=\"\",\"\",VLOOKUP(B116,ｴﾝﾄﾘｰ票!$E$16:$AA$115,12,0)))","v":""},{"$f":"IF(B116=\"\",\"\",IF(VLOOKUP(B116,ｴﾝﾄﾘｰ票!$E$16:$AA$115,16,0)=\"\",\"\",VLOOKUP(B116,ｴﾝﾄﾘｰ票!$E$16:$AA$115,16,0)))","v":""},{"$f":"IF(B116=\"\",\"\",IF(VLOOKUP(B116,ｴﾝﾄﾘｰ票!$E$16:$AA$115,20,0)=\"\",\"\",VLOOKUP(B116,ｴﾝﾄﾘｰ票!$E$16:$AA$115,20,0)))","v":""},{"$f":"IF(B116=\"\",\"\",IF(ISERROR(VLOOKUP(B116,ｴﾝﾄﾘｰ票!$BF$16:$BG$115,1,0)),\"\",VLOOKUP(B116,ｴﾝﾄﾘｰ票!$BF$16:$BG$115,2,0)))","v":""},null,{"$f":"IF(B116=\"\",\"\",IF(ISERROR(VLOOKUP(B116,ｴﾝﾄﾘｰ票!$BL$16:$BM$115,1,0)),\"\",VLOOKUP(B116,ｴﾝﾄﾘｰ票!$BL$16:$BM$115,2,0)))","v":""}]
[85,{"$f":"IF(ISERROR(VLOOKUP(A117*10-9+6000,ｴﾝﾄﾘｰ票!C$15:AM$115,3,0)),\"\",VLOOKUP(A117*10-9+6000,ｴﾝﾄﾘｰ票!C$15:AM$115,3,0))","v":""},{"$f":"IF(B117=\"\",\"\",CONCATENATE(VLOOKUP(B117,ｴﾝﾄﾘｰ票!$E$16:$N$115,2,0),\"　\",VLOOKUP(B117,ｴﾝﾄﾘｰ票!$E$16:$N$115,3,0)))","v":""},null,null,null,null,{"$f":"IF(B117=\"\",\"\",VLOOKUP(B117,ｴﾝﾄﾘｰ票!$E$16:$N$115,8,0))","v":""},null,{"$f":"IF(B117=\"\",\"\",IF(VLOOKUP(B117,ｴﾝﾄﾘｰ票!$E$16:$AA$115,12,0)=\"\",\"\",VLOOKUP(B117,ｴﾝﾄﾘｰ票!$E$16:$AA$115,12,0)))","v":""},{"$f":"IF(B117=\"\",\"\",IF(VLOOKUP(B117,ｴﾝﾄﾘｰ票!$E$16:$AA$115,16,0)=\"\",\"\",VLOOKUP(B117,ｴﾝﾄﾘｰ票!$E$16:$AA$115,16,0)))","v":""},{"$f":"IF(B117=\"\",\"\",IF(VLOOKUP(B117,ｴﾝﾄﾘｰ票!$E$16:$AA$115,20,0)=\"\",\"\",VLOOKUP(B117,ｴﾝﾄﾘｰ票!$E$16:$AA$115,20,0)))","v":""},{"$f":"IF(B117=\"\",\"\",IF(ISERROR(VLOOKUP(B117,ｴﾝﾄﾘｰ票!$BF$16:$BG$115,1,0)),\"\",VLOOKUP(B117,ｴﾝﾄﾘｰ票!$BF$16:$BG$115,2,0)))","v":""},null,{"$f":"IF(B117=\"\",\"\",IF(ISERROR(VLOOKUP(B117,ｴﾝﾄﾘｰ票!$BL$16:$BM$115,1,0)),\"\",VLOOKUP(B117,ｴﾝﾄﾘｰ票!$BL$16:$BM$115,2,0)))","v":""}]
[86,{"$f":"IF(ISERROR(VLOOKUP(A118*10-9+6000,ｴﾝﾄﾘｰ票!C$15:AM$115,3,0)),\"\",VLOOKUP(A118*10-9+6000,ｴﾝﾄﾘｰ票!C$15:AM$115,3,0))","v":""},{"$f":"IF(B118=\"\",\"\",CONCATENATE(VLOOKUP(B118,ｴﾝﾄﾘｰ票!$E$16:$N$115,2,0),\"　\",VLOOKUP(B118,ｴﾝﾄﾘｰ票!$E$16:$N$115,3,0)))","v":""},null,null,null,null,{"$f":"IF(B118=\"\",\"\",VLOOKUP(B118,ｴﾝﾄﾘｰ票!$E$16:$N$115,8,0))","v":""},null,{"$f":"IF(B118=\"\",\"\",IF(VLOOKUP(B118,ｴﾝﾄﾘｰ票!$E$16:$AA$115,12,0)=\"\",\"\",VLOOKUP(B118,ｴﾝﾄﾘｰ票!$E$16:$AA$115,12,0)))","v":""},{"$f":"IF(B118=\"\",\"\",IF(VLOOKUP(B118,ｴﾝﾄﾘｰ票!$E$16:$AA$115,16,0)=\"\",\"\",VLOOKUP(B118,ｴﾝﾄﾘｰ票!$E$16:$AA$115,16,0)))","v":""},{"$f":"IF(B118=\"\",\"\",IF(VLOOKUP(B118,ｴﾝﾄﾘｰ票!$E$16:$AA$115,20,0)=\"\",\"\",VLOOKUP(B118,ｴﾝﾄﾘｰ票!$E$16:$AA$115,20,0)))","v":""},{"$f":"IF(B118=\"\",\"\",IF(ISERROR(VLOOKUP(B118,ｴﾝﾄﾘｰ票!$BF$16:$BG$115,1,0)),\"\",VLOOKUP(B118,ｴﾝﾄﾘｰ票!$BF$16:$BG$115,2,0)))","v":""},null,{"$f":"IF(B118=\"\",\"\",IF(ISERROR(VLOOKUP(B118,ｴﾝﾄﾘｰ票!$BL$16:$BM$115,1,0)),\"\",VLOOKUP(B118,ｴﾝﾄﾘｰ票!$BL$16:$BM$115,2,0)))","v":""}]
[87,{"$f":"IF(ISERROR(VLOOKUP(A119*10-9+6000,ｴﾝﾄﾘｰ票!C$15:AM$115,3,0)),\"\",VLOOKUP(A119*10-9+6000,ｴﾝﾄﾘｰ票!C$15:AM$115,3,0))","v":""},{"$f":"IF(B119=\"\",\"\",CONCATENATE(VLOOKUP(B119,ｴﾝﾄﾘｰ票!$E$16:$N$115,2,0),\"　\",VLOOKUP(B119,ｴﾝﾄﾘｰ票!$E$16:$N$115,3,0)))","v":""},null,null,null,null,{"$f":"IF(B119=\"\",\"\",VLOOKUP(B119,ｴﾝﾄﾘｰ票!$E$16:$N$115,8,0))","v":""},null,{"$f":"IF(B119=\"\",\"\",IF(VLOOKUP(B119,ｴﾝﾄﾘｰ票!$E$16:$AA$115,12,0)=\"\",\"\",VLOOKUP(B119,ｴﾝﾄﾘｰ票!$E$16:$AA$115,12,0)))","v":""},{"$f":"IF(B119=\"\",\"\",IF(VLOOKUP(B119,ｴﾝﾄﾘｰ票!$E$16:$AA$115,16,0)=\"\",\"\",VLOOKUP(B119,ｴﾝﾄﾘｰ票!$E$16:$AA$115,16,0)))","v":""},{"$f":"IF(B119=\"\",\"\",IF(VLOOKUP(B119,ｴﾝﾄﾘｰ票!$E$16:$AA$115,20,0)=\"\",\"\",VLOOKUP(B119,ｴﾝﾄﾘｰ票!$E$16:$AA$115,20,0)))","v":""},{"$f":"IF(B119=\"\",\"\",IF(ISERROR(VLOOKUP(B119,ｴﾝﾄﾘｰ票!$BF$16:$BG$115,1,0)),\"\",VLOOKUP(B119,ｴﾝﾄﾘｰ票!$BF$16:$BG$115,2,0)))","v":""},null,{"$f":"IF(B119=\"\",\"\",IF(ISERROR(VLOOKUP(B119,ｴﾝﾄﾘｰ票!$BL$16:$BM$115,1,0)),\"\",VLOOKUP(B119,ｴﾝﾄﾘｰ票!$BL$16:$BM$115,2,0)))","v":""}]
[88,{"$f":"IF(ISERROR(VLOOKUP(A120*10-9+6000,ｴﾝﾄﾘｰ票!C$15:AM$115,3,0)),\"\",VLOOKUP(A120*10-9+6000,ｴﾝﾄﾘｰ票!C$15:AM$115,3,0))","v":""},{"$f":"IF(B120=\"\",\"\",CONCATENATE(VLOOKUP(B120,ｴﾝﾄﾘｰ票!$E$16:$N$115,2,0),\"　\",VLOOKUP(B120,ｴﾝﾄﾘｰ票!$E$16:$N$115,3,0)))","v":""},null,null,null,null,{"$f":"IF(B120=\"\",\"\",VLOOKUP(B120,ｴﾝﾄﾘｰ票!$E$16:$N$115,8,0))","v":""},null,{"$f":"IF(B120=\"\",\"\",IF(VLOOKUP(B120,ｴﾝﾄﾘｰ票!$E$16:$AA$115,12,0)=\"\",\"\",VLOOKUP(B120,ｴﾝﾄﾘｰ票!$E$16:$AA$115,12,0)))","v":""},{"$f":"IF(B120=\"\",\"\",IF(VLOOKUP(B120,ｴﾝﾄﾘｰ票!$E$16:$AA$115,16,0)=\"\",\"\",VLOOKUP(B120,ｴﾝﾄﾘｰ票!$E$16:$AA$115,16,0)))","v":""},{"$f":"IF(B120=\"\",\"\",IF(VLOOKUP(B120,ｴﾝﾄﾘｰ票!$E$16:$AA$115,20,0)=\"\",\"\",VLOOKUP(B120,ｴﾝﾄﾘｰ票!$E$16:$AA$115,20,0)))","v":""},{"$f":"IF(B120=\"\",\"\",IF(ISERROR(VLOOKUP(B120,ｴﾝﾄﾘｰ票!$BF$16:$BG$115,1,0)),\"\",VLOOKUP(B120,ｴﾝﾄﾘｰ票!$BF$16:$BG$115,2,0)))","v":""},null,{"$f":"IF(B120=\"\",\"\",IF(ISERROR(VLOOKUP(B120,ｴﾝﾄﾘｰ票!$BL$16:$BM$115,1,0)),\"\",VLOOKUP(B120,ｴﾝﾄﾘｰ票!$BL$16:$BM$115,2,0)))","v":""}]
[89,{"$f":"IF(ISERROR(VLOOKUP(A121*10-9+6000,ｴﾝﾄﾘｰ票!C$15:AM$115,3,0)),\"\",VLOOKUP(A121*10-9+6000,ｴﾝﾄﾘｰ票!C$15:AM$115,3,0))","v":""},{"$f":"IF(B121=\"\",\"\",CONCATENATE(VLOOKUP(B121,ｴﾝﾄﾘｰ票!$E$16:$N$115,2,0),\"　\",VLOOKUP(B121,ｴﾝﾄﾘｰ票!$E$16:$N$115,3,0)))","v":""},null,null,null,null,{"$f":"IF(B121=\"\",\"\",VLOOKUP(B121,ｴﾝﾄﾘｰ票!$E$16:$N$115,8,0))","v":""},null,{"$f":"IF(B121=\"\",\"\",IF(VLOOKUP(B121,ｴﾝﾄﾘｰ票!$E$16:$AA$115,12,0)=\"\",\"\",VLOOKUP(B121,ｴﾝﾄﾘｰ票!$E$16:$AA$115,12,0)))","v":""},{"$f":"IF(B121=\"\",\"\",IF(VLOOKUP(B121,ｴﾝﾄﾘｰ票!$E$16:$AA$115,16,0)=\"\",\"\",VLOOKUP(B121,ｴﾝﾄﾘｰ票!$E$16:$AA$115,16,0)))","v":""},{"$f":"IF(B121=\"\",\"\",IF(VLOOKUP(B121,ｴﾝﾄﾘｰ票!$E$16:$AA$115,20,0)=\"\",\"\",VLOOKUP(B121,ｴﾝﾄﾘｰ票!$E$16:$AA$115,20,0)))","v":""},{"$f":"IF(B121=\"\",\"\",IF(ISERROR(VLOOKUP(B121,ｴﾝﾄﾘｰ票!$BF$16:$BG$115,1,0)),\"\",VLOOKUP(B121,ｴﾝﾄﾘｰ票!$BF$16:$BG$115,2,0)))","v":""},null,{"$f":"IF(B121=\"\",\"\",IF(ISERROR(VLOOKUP(B121,ｴﾝﾄﾘｰ票!$BL$16:$BM$115,1,0)),\"\",VLOOKUP(B121,ｴﾝﾄﾘｰ票!$BL$16:$BM$115,2,0)))","v":""}]
[90,{"$f":"IF(ISERROR(VLOOKUP(A122*10-9+6000,ｴﾝﾄﾘｰ票!C$15:AM$115,3,0)),\"\",VLOOKUP(A122*10-9+6000,ｴﾝﾄﾘｰ票!C$15:AM$115,3,0))","v":""},{"$f":"IF(B122=\"\",\"\",CONCATENATE(VLOOKUP(B122,ｴﾝﾄﾘｰ票!$E$16:$N$115,2,0),\"　\",VLOOKUP(B122,ｴﾝﾄﾘｰ票!$E$16:$N$115,3,0)))","v":""},null,null,null,null,{"$f":"IF(B122=\"\",\"\",VLOOKUP(B122,ｴﾝﾄﾘｰ票!$E$16:$N$115,8,0))","v":""},null,{"$f":"IF(B122=\"\",\"\",IF(VLOOKUP(B122,ｴﾝﾄﾘｰ票!$E$16:$AA$115,12,0)=\"\",\"\",VLOOKUP(B122,ｴﾝﾄﾘｰ票!$E$16:$AA$115,12,0)))","v":""},{"$f":"IF(B122=\"\",\"\",IF(VLOOKUP(B122,ｴﾝﾄﾘｰ票!$E$16:$AA$115,16,0)=\"\",\"\",VLOOKUP(B122,ｴﾝﾄﾘｰ票!$E$16:$AA$115,16,0)))","v":""},{"$f":"IF(B122=\"\",\"\",IF(VLOOKUP(B122,ｴﾝﾄﾘｰ票!$E$16:$AA$115,20,0)=\"\",\"\",VLOOKUP(B122,ｴﾝﾄﾘｰ票!$E$16:$AA$115,20,0)))","v":""},{"$f":"IF(B122=\"\",\"\",IF(ISERROR(VLOOKUP(B122,ｴﾝﾄﾘｰ票!$BF$16:$BG$115,1,0)),\"\",VLOOKUP(B122,ｴﾝﾄﾘｰ票!$BF$16:$BG$115,2,0)))","v":""},null,{"$f":"IF(B122=\"\",\"\",IF(ISERROR(VLOOKUP(B122,ｴﾝﾄﾘｰ票!$BL$16:$BM$115,1,0)),\"\",VLOOKUP(B122,ｴﾝﾄﾘｰ票!$BL$16:$BM$115,2,0)))","v":""}]
[91,{"$f":"IF(ISERROR(VLOOKUP(A123*10-9+6000,ｴﾝﾄﾘｰ票!C$15:AM$115,3,0)),\"\",VLOOKUP(A123*10-9+6000,ｴﾝﾄﾘｰ票!C$15:AM$115,3,0))","v":""},{"$f":"IF(B123=\"\",\"\",CONCATENATE(VLOOKUP(B123,ｴﾝﾄﾘｰ票!$E$16:$N$115,2,0),\"　\",VLOOKUP(B123,ｴﾝﾄﾘｰ票!$E$16:$N$115,3,0)))","v":""},null,null,null,null,{"$f":"IF(B123=\"\",\"\",VLOOKUP(B123,ｴﾝﾄﾘｰ票!$E$16:$N$115,8,0))","v":""},null,{"$f":"IF(B123=\"\",\"\",IF(VLOOKUP(B123,ｴﾝﾄﾘｰ票!$E$16:$AA$115,12,0)=\"\",\"\",VLOOKUP(B123,ｴﾝﾄﾘｰ票!$E$16:$AA$115,12,0)))","v":""},{"$f":"IF(B123=\"\",\"\",IF(VLOOKUP(B123,ｴﾝﾄﾘｰ票!$E$16:$AA$115,16,0)=\"\",\"\",VLOOKUP(B123,ｴﾝﾄﾘｰ票!$E$16:$AA$115,16,0)))","v":""},{"$f":"IF(B123=\"\",\"\",IF(VLOOKUP(B123,ｴﾝﾄﾘｰ票!$E$16:$AA$115,20,0)=\"\",\"\",VLOOKUP(B123,ｴﾝﾄﾘｰ票!$E$16:$AA$115,20,0)))","v":""},{"$f":"IF(B123=\"\",\"\",IF(ISERROR(VLOOKUP(B123,ｴﾝﾄﾘｰ票!$BF$16:$BG$115,1,0)),\"\",VLOOKUP(B123,ｴﾝﾄﾘｰ票!$BF$16:$BG$115,2,0)))","v":""},null,{"$f":"IF(B123=\"\",\"\",IF(ISERROR(VLOOKUP(B123,ｴﾝﾄﾘｰ票!$BL$16:$BM$115,1,0)),\"\",VLOOKUP(B123,ｴﾝﾄﾘｰ票!$BL$16:$BM$115,2,0)))","v":""}]
[92,{"$f":"IF(ISERROR(VLOOKUP(A124*10-9+6000,ｴﾝﾄﾘｰ票!C$15:AM$115,3,0)),\"\",VLOOKUP(A124*10-9+6000,ｴﾝﾄﾘｰ票!C$15:AM$115,3,0))","v":""},{"$f":"IF(B124=\"\",\"\",CONCATENATE(VLOOKUP(B124,ｴﾝﾄﾘｰ票!$E$16:$N$115,2,0),\"　\",VLOOKUP(B124,ｴﾝﾄﾘｰ票!$E$16:$N$115,3,0)))","v":""},null,null,null,null,{"$f":"IF(B124=\"\",\"\",VLOOKUP(B124,ｴﾝﾄﾘｰ票!$E$16:$N$115,8,0))","v":""},null,{"$f":"IF(B124=\"\",\"\",IF(VLOOKUP(B124,ｴﾝﾄﾘｰ票!$E$16:$AA$115,12,0)=\"\",\"\",VLOOKUP(B124,ｴﾝﾄﾘｰ票!$E$16:$AA$115,12,0)))","v":""},{"$f":"IF(B124=\"\",\"\",IF(VLOOKUP(B124,ｴﾝﾄﾘｰ票!$E$16:$AA$115,16,0)=\"\",\"\",VLOOKUP(B124,ｴﾝﾄﾘｰ票!$E$16:$AA$115,16,0)))","v":""},{"$f":"IF(B124=\"\",\"\",IF(VLOOKUP(B124,ｴﾝﾄﾘｰ票!$E$16:$AA$115,20,0)=\"\",\"\",VLOOKUP(B124,ｴﾝﾄﾘｰ票!$E$16:$AA$115,20,0)))","v":""},{"$f":"IF(B124=\"\",\"\",IF(ISERROR(VLOOKUP(B124,ｴﾝﾄﾘｰ票!$BF$16:$BG$115,1,0)),\"\",VLOOKUP(B124,ｴﾝﾄﾘｰ票!$BF$16:$BG$115,2,0)))","v":""},null,{"$f":"IF(B124=\"\",\"\",IF(ISERROR(VLOOKUP(B124,ｴﾝﾄﾘｰ票!$BL$16:$BM$115,1,0)),\"\",VLOOKUP(B124,ｴﾝﾄﾘｰ票!$BL$16:$BM$115,2,0)))","v":""}]
[93,{"$f":"IF(ISERROR(VLOOKUP(A125*10-9+6000,ｴﾝﾄﾘｰ票!C$15:AM$115,3,0)),\"\",VLOOKUP(A125*10-9+6000,ｴﾝﾄﾘｰ票!C$15:AM$115,3,0))","v":""},{"$f":"IF(B125=\"\",\"\",CONCATENATE(VLOOKUP(B125,ｴﾝﾄﾘｰ票!$E$16:$N$115,2,0),\"　\",VLOOKUP(B125,ｴﾝﾄﾘｰ票!$E$16:$N$115,3,0)))","v":""},null,null,null,null,{"$f":"IF(B125=\"\",\"\",VLOOKUP(B125,ｴﾝﾄﾘｰ票!$E$16:$N$115,8,0))","v":""},null,{"$f":"IF(B125=\"\",\"\",IF(VLOOKUP(B125,ｴﾝﾄﾘｰ票!$E$16:$AA$115,12,0)=\"\",\"\",VLOOKUP(B125,ｴﾝﾄﾘｰ票!$E$16:$AA$115,12,0)))","v":""},{"$f":"IF(B125=\"\",\"\",IF(VLOOKUP(B125,ｴﾝﾄﾘｰ票!$E$16:$AA$115,16,0)=\"\",\"\",VLOOKUP(B125,ｴﾝﾄﾘｰ票!$E$16:$AA$115,16,0)))","v":""},{"$f":"IF(B125=\"\",\"\",IF(VLOOKUP(B125,ｴﾝﾄﾘｰ票!$E$16:$AA$115,20,0)=\"\",\"\",VLOOKUP(B125,ｴﾝﾄﾘｰ票!$E$16:$AA$115,20,0)))","v":""},{"$f":"IF(B125=\"\",\"\",IF(ISERROR(VLOOKUP(B125,ｴﾝﾄﾘｰ票!$BF$16:$BG$115,1,0)),\"\",VLOOKUP(B125,ｴﾝﾄﾘｰ票!$BF$16:$BG$115,2,0)))","v":""},null,{"$f":"IF(B125=\"\",\"\",IF(ISERROR(VLOOKUP(B125,ｴﾝﾄﾘｰ票!$BL$16:$BM$115,1,0)),\"\",VLOOKUP(B125,ｴﾝﾄﾘｰ票!$BL$16:$BM$115,2,0)))","v":""}]
[94,{"$f":"IF(ISERROR(VLOOKUP(A126*10-9+6000,ｴﾝﾄﾘｰ票!C$15:AM$115,3,0)),\"\",VLOOKUP(A126*10-9+6000,ｴﾝﾄﾘｰ票!C$15:AM$115,3,0))","v":""},{"$f":"IF(B126=\"\",\"\",CONCATENATE(VLOOKUP(B126,ｴﾝﾄﾘｰ票!$E$16:$N$115,2,0),\"　\",VLOOKUP(B126,ｴﾝﾄﾘｰ票!$E$16:$N$115,3,0)))","v":""},null,null,null,null,{"$f":"IF(B126=\"\",\"\",VLOOKUP(B126,ｴﾝﾄﾘｰ票!$E$16:$N$115,8,0))","v":""},null,{"$f":"IF(B126=\"\",\"\",IF(VLOOKUP(B126,ｴﾝﾄﾘｰ票!$E$16:$AA$115,12,0)=\"\",\"\",VLOOKUP(B126,ｴﾝﾄﾘｰ票!$E$16:$AA$115,12,0)))","v":""},{"$f":"IF(B126=\"\",\"\",IF(VLOOKUP(B126,ｴﾝﾄﾘｰ票!$E$16:$AA$115,16,0)=\"\",\"\",VLOOKUP(B126,ｴﾝﾄﾘｰ票!$E$16:$AA$115,16,0)))","v":""},{"$f":"IF(B126=\"\",\"\",IF(VLOOKUP(B126,ｴﾝﾄﾘｰ票!$E$16:$AA$115,20,0)=\"\",\"\",VLOOKUP(B126,ｴﾝﾄﾘｰ票!$E$16:$AA$115,20,0)))","v":""},{"$f":"IF(B126=\"\",\"\",IF(ISERROR(VLOOKUP(B126,ｴﾝﾄﾘｰ票!$BF$16:$BG$115,1,0)),\"\",VLOOKUP(B126,ｴﾝﾄﾘｰ票!$BF$16:$BG$115,2,0)))","v":""},null,{"$f":"IF(B126=\"\",\"\",IF(ISERROR(VLOOKUP(B126,ｴﾝﾄﾘｰ票!$BL$16:$BM$115,1,0)),\"\",VLOOKUP(B126,ｴﾝﾄﾘｰ票!$BL$16:$BM$115,2,0)))","v":""}]
[95,{"$f":"IF(ISERROR(VLOOKUP(A127*10-9+6000,ｴﾝﾄﾘｰ票!C$15:AM$115,3,0)),\"\",VLOOKUP(A127*10-9+6000,ｴﾝﾄﾘｰ票!C$15:AM$115,3,0))","v":""},{"$f":"IF(B127=\"\",\"\",CONCATENATE(VLOOKUP(B127,ｴﾝﾄﾘｰ票!$E$16:$N$115,2,0),\"　\",VLOOKUP(B127,ｴﾝﾄﾘｰ票!$E$16:$N$115,3,0)))","v":""},null,null,null,null,{"$f":"IF(B127=\"\",\"\",VLOOKUP(B127,ｴﾝﾄﾘｰ票!$E$16:$N$115,8,0))","v":""},null,{"$f":"IF(B127=\"\",\"\",IF(VLOOKUP(B127,ｴﾝﾄﾘｰ票!$E$16:$AA$115,12,0)=\"\",\"\",VLOOKUP(B127,ｴﾝﾄﾘｰ票!$E$16:$AA$115,12,0)))","v":""},{"$f":"IF(B127=\"\",\"\",IF(VLOOKUP(B127,ｴﾝﾄﾘｰ票!$E$16:$AA$115,16,0)=\"\",\"\",VLOOKUP(B127,ｴﾝﾄﾘｰ票!$E$16:$AA$115,16,0)))","v":""},{"$f":"IF(B127=\"\",\"\",IF(VLOOKUP(B127,ｴﾝﾄﾘｰ票!$E$16:$AA$115,20,0)=\"\",\"\",VLOOKUP(B127,ｴﾝﾄﾘｰ票!$E$16:$AA$115,20,0)))","v":""},{"$f":"IF(B127=\"\",\"\",IF(ISERROR(VLOOKUP(B127,ｴﾝﾄﾘｰ票!$BF$16:$BG$115,1,0)),\"\",VLOOKUP(B127,ｴﾝﾄﾘｰ票!$BF$16:$BG$115,2,0)))","v":""},null,{"$f":"IF(B127=\"\",\"\",IF(ISERROR(VLOOKUP(B127,ｴﾝﾄﾘｰ票!$BL$16:$BM$115,1,0)),\"\",VLOOKUP(B127,ｴﾝﾄﾘｰ票!$BL$16:$BM$115,2,0)))","v":""}]
[96,{"$f":"IF(ISERROR(VLOOKUP(A128*10-9+6000,ｴﾝﾄﾘｰ票!C$15:AM$115,3,0)),\"\",VLOOKUP(A128*10-9+6000,ｴﾝﾄﾘｰ票!C$15:AM$115,3,0))","v":""},{"$f":"IF(B128=\"\",\"\",CONCATENATE(VLOOKUP(B128,ｴﾝﾄﾘｰ票!$E$16:$N$115,2,0),\"　\",VLOOKUP(B128,ｴﾝﾄﾘｰ票!$E$16:$N$115,3,0)))","v":""},null,null,null,null,{"$f":"IF(B128=\"\",\"\",VLOOKUP(B128,ｴﾝﾄﾘｰ票!$E$16:$N$115,8,0))","v":""},null,{"$f":"IF(B128=\"\",\"\",IF(VLOOKUP(B128,ｴﾝﾄﾘｰ票!$E$16:$AA$115,12,0)=\"\",\"\",VLOOKUP(B128,ｴﾝﾄﾘｰ票!$E$16:$AA$115,12,0)))","v":""},{"$f":"IF(B128=\"\",\"\",IF(VLOOKUP(B128,ｴﾝﾄﾘｰ票!$E$16:$AA$115,16,0)=\"\",\"\",VLOOKUP(B128,ｴﾝﾄﾘｰ票!$E$16:$AA$115,16,0)))","v":""},{"$f":"IF(B128=\"\",\"\",IF(VLOOKUP(B128,ｴﾝﾄﾘｰ票!$E$16:$AA$115,20,0)=\"\",\"\",VLOOKUP(B128,ｴﾝﾄﾘｰ票!$E$16:$AA$115,20,0)))","v":""},{"$f":"IF(B128=\"\",\"\",IF(ISERROR(VLOOKUP(B128,ｴﾝﾄﾘｰ票!$BF$16:$BG$115,1,0)),\"\",VLOOKUP(B128,ｴﾝﾄﾘｰ票!$BF$16:$BG$115,2,0)))","v":""},null,{"$f":"IF(B128=\"\",\"\",IF(ISERROR(VLOOKUP(B128,ｴﾝﾄﾘｰ票!$BL$16:$BM$115,1,0)),\"\",VLOOKUP(B128,ｴﾝﾄﾘｰ票!$BL$16:$BM$115,2,0)))","v":""}]
[97,{"$f":"IF(ISERROR(VLOOKUP(A129*10-9+6000,ｴﾝﾄﾘｰ票!C$15:AM$115,3,0)),\"\",VLOOKUP(A129*10-9+6000,ｴﾝﾄﾘｰ票!C$15:AM$115,3,0))","v":""},{"$f":"IF(B129=\"\",\"\",CONCATENATE(VLOOKUP(B129,ｴﾝﾄﾘｰ票!$E$16:$N$115,2,0),\"　\",VLOOKUP(B129,ｴﾝﾄﾘｰ票!$E$16:$N$115,3,0)))","v":""},null,null,null,null,{"$f":"IF(B129=\"\",\"\",VLOOKUP(B129,ｴﾝﾄﾘｰ票!$E$16:$N$115,8,0))","v":""},null,{"$f":"IF(B129=\"\",\"\",IF(VLOOKUP(B129,ｴﾝﾄﾘｰ票!$E$16:$AA$115,12,0)=\"\",\"\",VLOOKUP(B129,ｴﾝﾄﾘｰ票!$E$16:$AA$115,12,0)))","v":""},{"$f":"IF(B129=\"\",\"\",IF(VLOOKUP(B129,ｴﾝﾄﾘｰ票!$E$16:$AA$115,16,0)=\"\",\"\",VLOOKUP(B129,ｴﾝﾄﾘｰ票!$E$16:$AA$115,16,0)))","v":""},{"$f":"IF(B129=\"\",\"\",IF(VLOOKUP(B129,ｴﾝﾄﾘｰ票!$E$16:$AA$115,20,0)=\"\",\"\",VLOOKUP(B129,ｴﾝﾄﾘｰ票!$E$16:$AA$115,20,0)))","v":""},{"$f":"IF(B129=\"\",\"\",IF(ISERROR(VLOOKUP(B129,ｴﾝﾄﾘｰ票!$BF$16:$BG$115,1,0)),\"\",VLOOKUP(B129,ｴﾝﾄﾘｰ票!$BF$16:$BG$115,2,0)))","v":""},null,{"$f":"IF(B129=\"\",\"\",IF(ISERROR(VLOOKUP(B129,ｴﾝﾄﾘｰ票!$BL$16:$BM$115,1,0)),\"\",VLOOKUP(B129,ｴﾝﾄﾘｰ票!$BL$16:$BM$115,2,0)))","v":""}]
[98,{"$f":"IF(ISERROR(VLOOKUP(A130*10-9+6000,ｴﾝﾄﾘｰ票!C$15:AM$115,3,0)),\"\",VLOOKUP(A130*10-9+6000,ｴﾝﾄﾘｰ票!C$15:AM$115,3,0))","v":""},{"$f":"IF(B130=\"\",\"\",CONCATENATE(VLOOKUP(B130,ｴﾝﾄﾘｰ票!$E$16:$N$115,2,0),\"　\",VLOOKUP(B130,ｴﾝﾄﾘｰ票!$E$16:$N$115,3,0)))","v":""},null,null,null,null,{"$f":"IF(B130=\"\",\"\",VLOOKUP(B130,ｴﾝﾄﾘｰ票!$E$16:$N$115,8,0))","v":""},null,{"$f":"IF(B130=\"\",\"\",IF(VLOOKUP(B130,ｴﾝﾄﾘｰ票!$E$16:$AA$115,12,0)=\"\",\"\",VLOOKUP(B130,ｴﾝﾄﾘｰ票!$E$16:$AA$115,12,0)))","v":""},{"$f":"IF(B130=\"\",\"\",IF(VLOOKUP(B130,ｴﾝﾄﾘｰ票!$E$16:$AA$115,16,0)=\"\",\"\",VLOOKUP(B130,ｴﾝﾄﾘｰ票!$E$16:$AA$115,16,0)))","v":""},{"$f":"IF(B130=\"\",\"\",IF(VLOOKUP(B130,ｴﾝﾄﾘｰ票!$E$16:$AA$115,20,0)=\"\",\"\",VLOOKUP(B130,ｴﾝﾄﾘｰ票!$E$16:$AA$115,20,0)))","v":""},{"$f":"IF(B130=\"\",\"\",IF(ISERROR(VLOOKUP(B130,ｴﾝﾄﾘｰ票!$BF$16:$BG$115,1,0)),\"\",VLOOKUP(B130,ｴﾝﾄﾘｰ票!$BF$16:$BG$115,2,0)))","v":""},null,{"$f":"IF(B130=\"\",\"\",IF(ISERROR(VLOOKUP(B130,ｴﾝﾄﾘｰ票!$BL$16:$BM$115,1,0)),\"\",VLOOKUP(B130,ｴﾝﾄﾘｰ票!$BL$16:$BM$115,2,0)))","v":""}]
[99,{"$f":"IF(ISERROR(VLOOKUP(A131*10-9+6000,ｴﾝﾄﾘｰ票!C$15:AM$115,3,0)),\"\",VLOOKUP(A131*10-9+6000,ｴﾝﾄﾘｰ票!C$15:AM$115,3,0))","v":""},{"$f":"IF(B131=\"\",\"\",CONCATENATE(VLOOKUP(B131,ｴﾝﾄﾘｰ票!$E$16:$N$115,2,0),\"　\",VLOOKUP(B131,ｴﾝﾄﾘｰ票!$E$16:$N$115,3,0)))","v":""},null,null,null,null,{"$f":"IF(B131=\"\",\"\",VLOOKUP(B131,ｴﾝﾄﾘｰ票!$E$16:$N$115,8,0))","v":""},null,{"$f":"IF(B131=\"\",\"\",IF(VLOOKUP(B131,ｴﾝﾄﾘｰ票!$E$16:$AA$115,12,0)=\"\",\"\",VLOOKUP(B131,ｴﾝﾄﾘｰ票!$E$16:$AA$115,12,0)))","v":""},{"$f":"IF(B131=\"\",\"\",IF(VLOOKUP(B131,ｴﾝﾄﾘｰ票!$E$16:$AA$115,16,0)=\"\",\"\",VLOOKUP(B131,ｴﾝﾄﾘｰ票!$E$16:$AA$115,16,0)))","v":""},{"$f":"IF(B131=\"\",\"\",IF(VLOOKUP(B131,ｴﾝﾄﾘｰ票!$E$16:$AA$115,20,0)=\"\",\"\",VLOOKUP(B131,ｴﾝﾄﾘｰ票!$E$16:$AA$115,20,0)))","v":""},{"$f":"IF(B131=\"\",\"\",IF(ISERROR(VLOOKUP(B131,ｴﾝﾄﾘｰ票!$BF$16:$BG$115,1,0)),\"\",VLOOKUP(B131,ｴﾝﾄﾘｰ票!$BF$16:$BG$115,2,0)))","v":""},null,{"$f":"IF(B131=\"\",\"\",IF(ISERROR(VLOOKUP(B131,ｴﾝﾄﾘｰ票!$BL$16:$BM$115,1,0)),\"\",VLOOKUP(B131,ｴﾝﾄﾘｰ票!$BL$16:$BM$115,2,0)))","v":""}]
[100,{"$f":"IF(ISERROR(VLOOKUP(A132*10-9+6000,ｴﾝﾄﾘｰ票!C$15:AM$115,3,0)),\"\",VLOOKUP(A132*10-9+6000,ｴﾝﾄﾘｰ票!C$15:AM$115,3,0))","v":""},{"$f":"IF(B132=\"\",\"\",CONCATENATE(VLOOKUP(B132,ｴﾝﾄﾘｰ票!$E$16:$N$115,2,0),\"　\",VLOOKUP(B132,ｴﾝﾄﾘｰ票!$E$16:$N$115,3,0)))","v":""},null,null,null,null,{"$f":"IF(B132=\"\",\"\",VLOOKUP(B132,ｴﾝﾄﾘｰ票!$E$16:$N$115,8,0))","v":""},null,{"$f":"IF(B132=\"\",\"\",IF(VLOOKUP(B132,ｴﾝﾄﾘｰ票!$E$16:$AA$115,12,0)=\"\",\"\",VLOOKUP(B132,ｴﾝﾄﾘｰ票!$E$16:$AA$115,12,0)))","v":""},{"$f":"IF(B132=\"\",\"\",IF(VLOOKUP(B132,ｴﾝﾄﾘｰ票!$E$16:$AA$115,16,0)=\"\",\"\",VLOOKUP(B132,ｴﾝﾄﾘｰ票!$E$16:$AA$115,16,0)))","v":""},{"$f":"IF(B132=\"\",\"\",IF(VLOOKUP(B132,ｴﾝﾄﾘｰ票!$E$16:$AA$115,20,0)=\"\",\"\",VLOOKUP(B132,ｴﾝﾄﾘｰ票!$E$16:$AA$115,20,0)))","v":""},{"$f":"IF(B132=\"\",\"\",IF(ISERROR(VLOOKUP(B132,ｴﾝﾄﾘｰ票!$BF$16:$BG$115,1,0)),\"\",VLOOKUP(B132,ｴﾝﾄﾘｰ票!$BF$16:$BG$115,2,0)))","v":""},null,{"$f":"IF(B132=\"\",\"\",IF(ISERROR(VLOOKUP(B132,ｴﾝﾄﾘｰ票!$BL$16:$BM$115,1,0)),\"\",VLOOKUP(B132,ｴﾝﾄﾘｰ票!$BL$16:$BM$115,2,0)))","v":""}]

{"sheet":"氏名ﾃﾞｰﾀ","index":7,"n_rows":835,"n_cols":14,"rows_kept":835,"cut":false,"hidden":true,"merged":[]}
[0,"氏名データ_2022_10_10"]
[0,null,null,null,null,null,"英字","英字"]
[0,"５桁","姓","名","ﾌﾘｶﾞﾅ（姓）","ﾌﾘｶﾞﾅ（名）","姓","名","性別","生年4桁","学年",null,"生年下2桁"]
[1,40102,"武田","知己","ﾀｹﾀﾞ","ﾊﾙｷ","TAKEDA","Haruki","男",20050716,3,null,"2005","第４支部"]
[2,40103,"田村","岳","ﾀﾑﾗ","ｶﾞｸ","TAMURA","Gaku","男",20050528,3,null,"2005","第４支部"]
[3,40105,"巻島","快世","ﾏｷｼﾏ","ｶｲｾｲ","MAKISHIMA","Kaisei","男",20051004,3,null,"2005","第４支部"]
[4,40106,"林","周作","ﾊﾔｼ","ｼｭｳｻｸ","HAYASHI","Shusaku","男",20050528,3,null,"2005","第４支部"]
[5,40107,"岩﨑","滉","ｲﾜｻｷ","ｺｳ","IWASAKI","Koh","男",20060317,3,null,"2006","第４支部"]
[6,40110,"高林","遼","ﾀｶﾊﾞﾔｼ","ﾊﾙｶ","TAKABAYASHI","Haruka","男",20060502,2,null,"2006","第４支部"]
[7,40111,"保坂","優貴","ﾎｻｶ","ﾕｳｷ","HOSAKA","Yuki","男",20061207,2,null,"2006","第４支部"]
[8,40112,"中堀","多聞","ﾅｶﾎﾘ","ﾀﾓﾝ","NAKAHORI","Tamon","男",20060722,2,null,"2006","第４支部"]
[9,40113,"西本","温博","ﾆｼﾓﾄ","ｱﾂﾋﾛ","NISHIMOTO","Atsuhiro","男",20060923,2,null,"2006","第４支部"]
[10,40114,"中嶋","慧","ﾅｶｼﾞﾏ","ｹｲ","NAKAJIMA","Kei","男",20060716,2,null,"2006","第４支部"]
[11,40201,"市川","天聖","ｲﾁｶﾜ","ﾃﾝｾｲ","ICHIKAWA","Tensei","男",20061103,2,null,"2006","第４支部"]
[12,40202,"羽根田","盛","ﾊﾈﾀﾞ","ｼﾞｮｳ","HANEDA","Jo","男",20070207,2,null,"2007","第４支部"]
[13,40203,"牧田","和也","ﾏｷﾀ","ｶｽﾞﾔ","MAKITA","Kazuya","男",20060813,2,null,"2006","第４支部"]
[14,40204,"山添","与","ﾔﾏｿﾞｴ","ｱﾄｳ","YAMAZOE","Ato","男",20070223,2,null,"2007","第４支部"]
[15,40221,"青山","和広","ｱｵﾔﾏ","ｶｽﾞﾋﾛ","AOYAMA","Kazuhiro","男",20050727,3,null,"2005","第４支部"]
[16,40222,"川口","玲於","ｶﾜｸﾞﾁ","ﾚｵ","KAWAGUCHI","Reo","男",20050614,3,null,"2005","第４支部"]
[17,40223,"小林","秀太朗","ｺﾊﾞﾔｼ","ｼｭｳﾀﾛｳ","KOBAYASHI","Shutaro","男",20060202,3,null,"2006","第４支部"]
[18,40225,"保坂","俊乃介","ﾎｻｶ","ｼｭﾝﾉｽｹ","HOSAKA","Shunnosuke","男",20050907,3,null,"2005","第４支部"]
[19,40226,"溝端","樹","ﾐｿﾞﾊﾞﾀ","ｲﾂｷ","MIZOBATA","Itsuki","男",20051011,3,null,"2005","第４支部"]
[20,40227,"一ノ瀬","悠人","ｲﾁﾉｾ","ﾕｳﾄ","ICHINOSE","Yuto","男",20051115,3,null,"2005","第４支部"]
[21,40228,"柏倉","大輝","ｶｼﾜｸﾗ","ﾀﾞｲｷ","KASHIWAKURA","Daiki","男",20050813,3,null,"2005","第４支部"]
[22,40253,"菅原","文香","ｽｶﾞﾜﾗ","ﾌﾐｶ","SUGAWARA","Fumika","女",20060320,3,null,"2006","第４支部"]
[23,40254,"鈴木","琳子","ｽｽﾞｷ","ﾘﾝｺ","SUZUKI","Rinko","女",20051107,3,null,"2005","第４支部"]
[24,40255,"髙木","陽菜","ﾀｶｷﾞ","ﾊﾙﾅ","TAKAGI","Haruna","女",20060303,3,null,"2006","第４支部"]
[25,40256,"小泉","椛凛","ｺｲｽﾞﾐ","ｶﾘﾝ","KOIZUMI","Karin","女",20070313,2,null,"2007","第４支部"]
[26,40257,"小嶋","諒子","ｺｼﾞﾏ","ﾘｮｳｺ","KOJIMA","Ryoko","女",20070111,2,null,"2007","第４支部"]
[27,40501,"藤田","尚希","ﾌｼﾞﾀ","ﾅｵｷ","FUJITA","Naoki","男",20070115,2,null,"2007","第４支部"]
[28,40617,"齋藤","悠斗","ｻｲﾄｳ","ﾕｳﾄ","SAITOU","Yuuto","男",20050818,3,null,"2005","第４支部"]
[29,40618,"束田","英燦","ﾂｶﾀﾞ","ﾋﾃﾞｱｷ","TUKADA","Hideaki","男",20050715,3,null,"2005","第４支部"]
[30,40619,"千田","直佑","ﾁﾀﾞ","ﾅｵｽｹ","CHIDA","Naosuke","男",20050517,3,null,"2005","第４支部"]
[31,40620,"藤田","想来","ﾌｼﾞﾀ","ｿﾗ","HUJITA","Sora","男",20050903,3,null,"2005","第４支部"]
[32,40621,"松本","龍星","ﾏﾂﾓﾄ","ﾘｭｳｾｲ","MATUMOTO","Ryusei","男",20051108,3,null,"2005","第４支部"]
[33,40622,"福田","瑛太郎","ﾌｸﾀﾞ","ｴｲﾀﾛｳ","FUKUDA","Eitaro","男",20050516,3,null,"2005","第４支部"]
[34,40625,"桑原","孝徳","ｸﾜﾊﾞﾗ","ﾀｶﾉﾘ","KUWABARA","Takanori","男",20061017,2,null,"2006","第４支部"]
[35,40626,"長尾","豊","ﾅｶﾞｵ","ﾕﾀｶ","NAGAO","Yutaka","男",20061016,2,null,"2006","第４支部"]
[36,40627,"渡部","良吾","ﾜﾀﾅﾍﾞ","ｴｲｺﾞ","WATANABE","Eigo","男",20061011,2,null,"2006","第４支部"]
[37,40628,"赤荻","亘紀","ｱｶｵｷﾞ","ｺｳｷ","AKAOGI","Kouki","男",20061227,2,null,"2006","第４支部"]
[38,40629,"中川","瑛太","ﾅｶｶﾞﾜ","ｴｲﾀ","NKAGAWA","Eita","男",20060702,2,null,"2006","第４支部"]
[39,40630,"中澤","舵希","ﾅｶｻﾞﾜ","ﾀｷ","NKAZAWA","Taki","男",20061121,2,null,"2006","第４支部"]
[40,40631,"鈴木","陽大","ｽｽﾞｷ","ｱｷﾋﾛ","SUZUKI","Akihiro","男",20061009,2,null,"2006","第４支部"]
[41,40659,"北田","ななみ","ｷﾀﾀﾞ","ﾅﾅﾐ","KITADA","Nanami","女",20060308,3,null,"2006","第４支部"]
[42,40660,"熊谷","星来","ｸﾏｶﾞｲ","ｾｲﾗ","KUMAGAI","Seira","女",20050910,3,null,"2005","第４支部"]
[43,40939,"金子","愛生","ｶﾈｺ","ｱｷ","KANEKO","Aki","男",20070220,2,null,"2007","第４支部"]
[44,40948,"髙田","涼","ﾀｶﾀ","ﾘｮｳ","TAKATA","Ryo","男",20060202,3,null,"2006","第４支部"]
[45,40949,"鶴田","瑠偉","ﾂﾙﾀ","ﾙｲ","TSURUTA","Rui","男",20051210,3,null,"2005","第４支部"]
[46,40958,"内田","璃沙","ｳﾁﾀﾞ","ﾘｻ","UCHIDA","Risa","女",20061206,2,null,"2006","第４支部"]
[47,40959,"松本","琴","ﾏﾂﾓﾄ","ｺﾄ","MATSUMOTO","Koto","女",20060422,2,null,"2006","第４支部"]
[48,40960,"青山","凛","ｱｵﾔﾏ","ﾘﾝ","AOYAMA","Rin","女",20060906,2,null,"2006","第４支部"]
[49,41046,"江田","一暁","ｴﾀﾞ","ｶｽﾞｱｷ","EDA","Kazuaki","男",20070117,2,null,"2007","第４支部"]
[50,41047,"横山","然","ﾖｺﾔﾏ","ｾﾞﾝ","YOKOYAMA","Zen","男",20060423,2,null,"2006","第４支部"]
[51,41048,"益子","統","ﾏｼｺ","ｽﾊﾞﾙ","MASHIKO","Subaru","男",20060502,2,null,"2006","第４支部"]
[52,41051,"菅野","凪紗","ｶﾝﾉ","ﾅｷﾞｻ","KANNO","Nagisa","女",20060306,3,null,"2006","第４支部"]
[53,41056,"トレウバエフ","ミレーナ","ﾄﾚｳﾊﾞｴﾌ","ﾐﾚｰﾅ","TLEUBAEVA","Milena","女",20070312,2,null,"2007","第４支部"]
[54,41057,"落合","優羽","ｵﾁｱｲ","ﾕｳ","OCHIAI","Yuu","女",20070301,2,null,"2007","第４支部"]
[55,41058,"戸敷","菜乃蓮","ﾄｼﾞｷ","ﾅﾉﾊ","TOJIKI","Nanoha","女",20061027,2,null,"2006","第４支部"]
[56,41059,"江﨑","こころ","ｴｻﾞｷ","ｺｺﾛ","EZAKI","Kokoro","女",20060726,2,null,"2006","第４支部"]
[57,41095,"初鹿","恵里","ﾊｼﾞｶ","ｴﾘ","HAJIKA","Eri","女",20050912,3,null,"2005","第４支部"]
[58,41096,"柴田","珠里","ｼﾊﾞﾀ","ｼﾞｭﾘ","SHIBATA","Juri","女",20050623,3,null,"2005","第４支部"]
[59,41097,"松岡","志穏","ﾏﾂｵｶ","ｼｵﾝ","MATSUOKA","Shion","女",20050817,3,null,"2005","第４支部"]
[60,41098,"長島","美月","ﾅｶﾞｼﾏ","ﾐﾂﾞｷ","NAGASHIMA","Mizuki","女",20051030,3,null,"2005","第４支部"]
[61,41133,"須知","幸大","ｽﾁ","ｺｳﾀﾞｲ","SUCHI","Kodai","男",20050831,3,null,"2005","第４支部"]
[62,41134,"高島","遙輝","ﾀｶｼﾏ","ﾊﾙｷ","TAKASHIMA","Haruki","男",20051101,3,null,"2005","第４支部"]
[63,41135,"土屋","すぎ丸","ﾂﾁﾔ","ｽｷﾞﾏﾙ","TSUCHIYA","Sugimaru","男",20051209,3,null,"2005","第４支部"]
[64,41136,"石井","竣之介","ｲｼｲ","ｼｭﾝﾉｽｹ","ISHII","Syunnosuke","男",20070127,2,null,"2007","第４支部"]
[65,41137,"岩谷","凜太","ｲﾜﾔ","ﾘﾝﾀ","IWAYA","Rinta","男",20070127,2,null,"2007","第４支部"]
[66,41138,"奥山","春輝","ｵｸﾔﾏ","ﾊﾙｷ","OKUYAMA","Haruki","男",20060531,2,null,"2006","第４支部"]
[67,41139,"都筑","大輔","ﾂﾂﾞｷ","ﾀﾞｲｽｹ","TUDUKI","Daisuke","男",20060726,2,null,"2006","第４支部"]
[68,41140,"與久田","真登","ﾖｸﾀﾞ","ﾏｺﾄ","YOKUDA","Makoto","男",20061227,2,null,"2006","第４支部"]
[69,41141,"武田","脩明","ﾀｹﾀﾞ","ｼｭｳﾒｲ","TAKEDA","Shumei","男",20070213,2,null,"2007","第４支部"]
[70,41172,"叶内","咲希","ｶﾅｳﾁ","ｻｷ","KANAUCHI","Saki","女",20050903,3,null,"2005","第４支部"]
[71,41451,"木本","瑚都葉","ｷﾓﾄ","ｺﾄﾊ","KIMOTO","Kotoha","女",20061117,2,null,"2006","第４支部"]
[72,41452,"熊澤","帆奈","ｸﾏｻﾞﾜ","ﾊﾝﾅ","KUMAZAWA","Hanna","女",20060927,2,null,"2006","第４支部"]
[73,41453,"河野","葵","ｺｳﾉ","ｱｵｲ","KOUNO","Aoi","女",20060504,2,null,"2006","第４支部"]
[74,41454,"辻","真衣","ﾂｼﾞ","ﾏｲ","TSUZI","Mai","女",20070128,2,null,"2007","第４支部"]
[75,41455,"藤井","南月子","ﾌｼﾞｲ","ﾅﾂｺ","FUJII","Natsuko","女",20060804,2,null,"2006","第４支部"]
[76,41456,"松尾","はるか","ﾏﾂｵ","ﾊﾙｶ","MATSUO","Haruka","女",20060507,2,null,"2006","第４支部"]
[77,41457,"井上","真緒","ｲﾉｳｴ","ﾏｵ","INOUE","Mao","女",20061221,2,null,"2006","第４支部"]
[78,41458,"雨宮","悠奈","ｱﾒﾐﾔ","ﾕｳﾅ","AMEMIYA","Yuna","女",20070219,2,null,"2007","第４支部"]
[79,41459,"上田","沙楽","ｳｴﾀﾞ","ｻﾗ","UEDA","Sara","女",20060708,2,null,"2006","第４支部"]
[80,41481,"青木","玲佳","ｱｵｷ","ﾚｲｶ","AOKI","Reika","女",20051013,3,null,"2005","第４支部"]
[81,41482,"片岡","莉彩","ｶﾀｵｶ","ﾘｻ","KATAOKA","Risa","女",20050618,3,null,"2005","第４支部"]
[82,41483,"川口","璃々花","ｶﾜｸﾞﾁ","ﾘﾘｶ","KAWAGUCHI","Ririka","女",20050918,3,null,"2005","第４支部"]
[83,41484,"鈴木","希実","ｽｽﾞｷ","ﾉｿﾞﾐ","SUZUKI","Nozomi","女",20050427,3,null,"2005","第４支部"]
[84,41486,"林","禎子","ﾊﾔｼ","ﾄﾓｺ","HAYASHI","Tomoko","女",20051213,3,null,"2005","第４支部"]
[85,41529,"石和田","謙志","ｲｼﾜﾀﾞ","ｹﾝｼ","ISHIWADA","Kenshi","男",20050610,3,null,"2005","第４支部"]
[86,41532,"林","和輝","ﾊﾔｼ","ｶｽﾞｷ","HAYASHI","Kazuki","男",20060108,3,null,"2006","第４支部"]
[87,41533,"半田","桜心","ﾊﾝﾀﾞ","ｺｺﾛ","HANDA","Kokoro","男",20060307,3,null,"2006","第４支部"]
[88,41534,"向井","裕希","ﾑｶｲ","ﾕｳｷ","MUKAI","Yuki","男",20060304,3,null,"2006","第４支部"]
[89,41535,"栁田","陽大","ﾔﾅｷﾞﾀﾞ","ﾊﾙﾄ","YANAGIDA","Haruto","男",20050513,3,null,"2005","第４支部"]
[90,41536,"澤畠","亘輝","ｻﾜﾊﾀ","ｺｳｷ","SAWAHATA","Koki","男",20070326,2,null,"2007","第４支部"]
[91,41537,"染谷","遥斗","ｿﾒﾔ","ﾊﾙﾄ","SOMEYA","Haruto","男",20060726,2,null,"2006","第４支部"]
[92,41538,"高橋","寿光","ﾀｶﾊｼ","ﾋｻｱｷ","TAKAHASHI","Hisaaki","男",20060831,2,null,"2006","第４支部"]
[93,41539,"東原","慶光","ﾄｳﾊﾞﾗ","ﾖｼﾐﾂ","TOBARA","Yoshimitsu","男",20070106,2,null,"2007","第４支部"]
[94,41540,"新井田","一光","ﾆｲﾀﾞ","ｶｽﾞﾐ","NIIDA","Kazumi","男",20060626,2,null,"2006","第４支部"]
[95,41541,"米山","遼人","ﾖﾈﾔﾏ","ﾊﾙﾄ","YONEYAMA","Haruto","男",20050803,3,null,"2005","第４支部"]
[96,41760,"松本","紗和","ﾏﾂﾓﾄ","ｻﾜ","MATSUMOTO","Sawa","女",20060301,3,null,"2006","第４支部"]
[97,41761,"米田","歩","ﾖﾈﾀ","ｱﾕﾐ","YONETA","Ayumi","女",20060112,3,null,"2006","第４支部"]
[98,41762,"井田","千尋","ｲﾀﾞ","ﾁﾋﾛ","IDA","Chihiro","女",20060925,2,null,"2006","第４支部"]
[99,41763,"川見","百合愛","ｶﾜﾐ","ﾕﾘｱ","KAWAMI","Yuria","女",20061128,2,null,"2006","第４支部"]
[100,41764,"木村","美里","ｷﾑﾗ","ﾐｻﾄ","KIMURA","Misato","女",20060727,2,null,"2006","第４支部"]
[101,41765,"鈴木","花音","ｽｽﾞｷ","ｶｵﾝ","SUZUKI","Kaon","女",20061008,2,null,"2006","第４支部"]
[102,41766,"瀧口","佳菜","ﾀｷｸﾞﾁ","ｶﾅ","TAKIGUCHI","Kana","女",20060918,2,null,"2006","第４支部"]
[103,41767,"立山","めい","ﾀﾃﾔﾏ","ﾒｲ","TATEYAMA","Mei","女",20060811,2,null,"2006","第４支部"]
[104,41951,"物部","杏月","ﾓﾉﾍﾞ","ｱﾂﾞｷ","MONOBE","Aduki","女",20061119,2,null,"2006","第４支部"]
[105,41952,"横井","瑚子","ﾖｺｲ","ｺｺ","YOKOI","Koko","女",20060809,2,null,"2006","第４支部"]
[106,41953,"近藤","叶夢","ｺﾝﾄﾞｳ","ｶﾉﾝ","KONDOU","Kanon","女",20060405,2,null,"2006","第４支部"]
[107,42101,"風間","康矢","ｶｻﾞﾏ","ｺｳﾔ","KAZAMA","Kouya","男",20060130,3,null,"2006","第４支部"]
[108,42103,"國井","優斗","ｸﾆｲ","ﾕｳﾄ","KUNII","Yuto","男",20051110,3,null,"2005","第４支部"]
[109,42104,"稲垣","隆太","ｲﾅｶﾞｷ","ﾘｭｳﾀ","INAGAKI","Ryuta","男",20060720,2,null,"2006","第４支部"]
[110,42105,"大坪","来翔","ｵｵﾂﾎﾞ","ﾗｲﾄ","OTSUBO","Raito","男",20070303,2,null,"2007","第４支部"]
[111,42106,"橋本","悠希","ﾊｼﾓﾄ","ﾊﾙｷ","HASHIMOTO","Haruki","男",20070223,2,null,"2007","第４支部"]
[112,42111,"鈴木","惺也","ｽｽﾞｷ","ｾｲﾔ","SUZUKI","Seiya","男",20061227,2,null,"2006","第４支部"]
[113,42115,"大城","優翔","ｵｵｼﾛ","ﾕｳﾄ","OSHIRO","Yuto","男",20050816,3,null,"2005","第４支部"]
[114,42116,"藤森","煌水","ﾌｼﾞﾓﾘ","ｺｳﾐ","FUJIMORI","Komi","男",20060309,3,null,"2006","第４支部"]
[115,42117,"吉岡","逸平","ﾖｼｵｶ","ｲｯﾍﾟｲ","YOSHIOKA","Ippei","男",20050607,3,null,"2005","第４支部"]
[116,42118,"轟","智崇","ﾄﾄﾞﾛｸ","ﾄﾓﾀｶ","TODOROKU","Tomotaka","男",20061029,2,null,"2006","第４支部"]
[117,42119,"遠山","熙人","ﾄｵﾔﾏ","ﾋﾛﾄ","TOYAMA","Hiroto","男",20060824,2,null,"2006","第４支部"]
[118,42120,"一色","優","ｲｯｼｷ","ﾕｳ","ISSHIKI","Yu","男",20070305,2,null,"2007","第４支部"]
[119,42121,"原","優一朗","ﾊﾗ","ﾕｳｲﾁﾛｳ","HARA","Yuichiro","男",20061213,2,null,"2006","第４支部"]
[120,42151,"清水","夏奈","ｼﾐｽﾞ","ｶﾅ","SHIMIZU","Kana","女",20060806,2,null,"2006","第４支部"]
[121,42152,"和田","菜月","ﾜﾀﾞ","ﾅﾂｷ","WADA","Natski","女",20060430,2,null,"2006","第４支部"]
[122,42157,"三田","菜々子","ﾐﾀ","ﾅﾅｺ","MITA","Nanako","女",20050713,3,null,"2005","第４支部"]
[123,42158,"森","楓香","ﾓﾘ","ﾌｳｶ","MORI","Fuka","女",20051121,3,null,"2005","第４支部"]
[124,42159,"髙木","真帆","ﾀｶｷﾞ","ﾏﾎ","TAKAGI","Maho","女",20060315,3,null,"2006","第４支部"]
[125,42160,"富永","智子","ﾄﾐﾅｶﾞ","ｻﾄｺ","TOMINAGA","Satoko","女",20050603,3,null,"2005","第４支部"]
[126,42161,"佐田","香澄","ｻﾀﾞ","ｶｽﾐ","SADA","Kasumi","女",20050430,3,null,"2005","第４支部"]
[127,42212,"岩崎","紘樹","ｲﾜｻｷ","ｺｳｷ","IWASAKI","Koyuki","男",20050414,3,null,"2005","第４支部"]
[128,42213,"大野","雄悟","ｵｵﾉ","ﾕｳｺﾞ","OONO","Yugo","男",20051106,3,null,"2005","第４支部"]
[129,42214,"桂島","悠","ｶﾂﾗｼﾏ","ﾊﾙｶ","KATURASHIMA","Haruka","男",20051223,3,null,"2005","第４支部"]
[130,42215,"北村","駿太","ｷﾀﾑﾗ","ｼｭﾝﾀ","KITAMURA","Syunta","男",20050807,3,null,"2005","第４支部"]
[131,42216,"下西","海里","ｼﾓﾆｼ","ｶｲﾘ","SHIMONISHI","Kairi","男",20050701,3,null,"2005","第４支部"]
[132,42217,"高橋","覚","ﾀｶﾊｼ","ｶｸ","TAKAHASHI","Kaku","男",20051021,3,null,"2005","第４支部"]
[133,42218,"髙橋","恭","ﾀｶﾊｼ","ｷｮｳ","TAKAHASHI","Kyou","男",20050415,3,null,"2005","第４支部"]
[134,42220,"新本","航平","ﾆｲﾓﾄ","ｺｳﾍｲ","NIIMOTO","Kohei","男",20050504,3,null,"2005","第４支部"]
[135,42221,"東山","将悟","ﾋｶﾞｼﾔﾏ","ｼｮｳｺﾞ","HIGASHIYAMA","Shogo","男",20050505,3,null,"2005","第４支部"]
[136,42222,"福島","奏","ﾌｸｼﾏ","ｿｳ","HUKUSHIMA","Sou","男",20050831,3,null,"2005","第４支部"]
[137,42223,"堀","匠太朗","ﾎﾘ","ｼｮｳﾀﾛｳ","HORI","Syotaro","男",20050707,3,null,"2005","第４支部"]
[138,42224,"平松","直賢","ﾋﾗﾏﾂ","ﾅｵﾀｶ","HIRAMATSU","Naotaka","男",20050421,3,null,"2005","第４支部"]
[139,42225,"森脇","勇成","ﾓﾘﾜｷ","ﾕｳｾｲ","MORIWAKI","Yusei","男",20050413,3,null,"2005","第４支部"]
[140,42226,"山口","暖","ﾔﾏｸﾞﾁ","ﾊﾙ","YAMAGUCHI","Haru","男",20050722,3,null,"2005","第４支部"]
[141,42229,"三谷","竜ノ介","ﾐﾀﾆ","ﾘｭｳﾉｽｹ","MITANI","Ryunosuke","男",20051221,3,null,"2005","第４支部"]
[142,42230,"石田","稜","ｲｼﾀﾞ","ﾘｮｳ","ISHIDA","Ryo","男",20070129,2,null,"2007","第４支部"]
[143,42231,"梅本","泰希","ｳﾒﾓﾄ","ﾀｲｷ","UMEMOTO","Taiki","男",20070130,2,null,"2007","第４支部"]
[144,42232,"北島","祐樹","ｷﾀｼﾞﾏ","ﾕｳｷ","KITAZIMA","Yuki","男",20070222,2,null,"2007","第４支部"]
[145,42233,"島崎","幸彦","ｼﾏｻﾞｷ","ﾕｷﾋｺ","SHIMAZAKI","Yukihiko","男",20060427,2,null,"2006","第４支部"]
[146,42234,"田中","喜丈","ﾀﾅｶ","ﾖｼﾋﾛ","TANAKA","Yoshihiro","男",20060917,2,null,"2006","第４支部"]
[147,42235,"融","総太","ﾄｵﾙ","ｿｳﾀ","TORU","Sota","男",20060826,2,null,"2006","第４支部"]
[148,42236,"奈部","浩希","ﾅﾍﾞ","ｺｳｷ","NABE","Koki","男",20060810,2,null,"2006","第４支部"]
[149,42237,"根本","大馳","ﾈﾓﾄ","ﾀﾞｲﾁ","NEMOTO","Daiti","男",20061120,2,null,"2006","第４支部"]
[150,42238,"林","瑶一郎","ﾊﾔｼ","ﾖｳｲﾁﾛｳ","HAYASHI","Youitirou","男",20061105,2,null,"2006","第４支部"]
[151,42239,"福田","智康","ﾌｸﾀﾞ","ﾄﾓﾔｽ","HUKUDA","Tomoyasu","男",20060410,2,null,"2006","第４支部"]
[152,42240,"藤下","俊也","ﾌｼﾞｼﾀ","ﾄｼﾔ","FUZISHITA","Toshiya","男",20061109,2,null,"2006","第４支部"]
[153,42241,"宮川","豪","ﾐﾔｶﾜ","ｺﾞｳ","MIYAKAWA","Go","男",20060920,2,null,"2006","第４支部"]
[154,42242,"山梨","浩大","ﾔﾏﾅｼ","ｺｳﾀﾞｲ","YAMANASHI","Kodai","男",20060728,2,null,"2006","第４支部"]
[155,42243,"吉徳","詩音","ﾖｼﾄｸ","ｼｵﾝ","YOSHITOKU","Shionn","男",20060611,2,null,"2006","第４支部"]
[156,42244,"渡邊","珠生","ﾜﾀﾅﾍﾞ","ﾀﾏｷ","WATANABE","Tamaki","男",20060908,2,null,"2006","第４支部"]
[157,42245,"佐々木","亮","ｻｻｷ","ﾘｮｳ","SASAKI","Ryo","男",20050620,2,null,"2005","第４支部"]
[158,42246,"江角","雄太郎","ｴｽﾐ","ﾕｳﾀﾛｳ","ESUMI","Yutaro","男",20060804,2,null,"2006","第４支部"]
[159,42247,"奥","悠成","ｵｸ","ﾕｳｾｲ","OKU","Yusei","男",20060910,2,null,"2006","第４支部"]
[160,42248,"任","賢","ｲﾑ","ﾋｮﾝ","IM","Hyeon","男",20060623,2,null,"2006","第４支部"]
[161,42462,"小笠原","彩乃","ｵｶﾞｻﾜﾗ","ｱﾔﾉ","OGASAWARA","Ayano","女",20051007,3,null,"2005","第４支部"]
[162,42463,"末松","乙女","ｽｴﾏﾂ","ｵﾄﾒ","SUEMATSU","Otome","女",20050407,3,null,"2005","第４支部"]
[163,42464,"田中","藍璃","ﾀﾅｶ","ｱｲﾘ","TANAKA","Airi","女",20050522,3,null,"2005","第４支部"]
[164,42465,"黒川","優音","ｸﾛｶﾜ","ﾕﾉ","KUROKAWA","Yuno","女",20060405,2,null,"2006","第４支部"]
[165,42466,"多田","陽葵","ﾀﾀﾞ","ﾋﾅﾀ","TADA","Hinata","女",20070201,2,null,"2007","第４支部"]
[166,42511,"青木","想","ｱｵｷ","ｺｺﾛ","AOKI","Kokoro","男",20050920,3,null,"2005","第４支部"]
[167,42512,"岩垂","築","ｲﾜﾀﾞﾚ","ｷｽﾞｷ","IWADARE","Kizuki","男",20050719,3,null,"2005","第４支部"]
[168,42513,"大海渡","拓哉","ｵｵｶｲﾄﾞ","ﾀｸﾔ","OKAIDO","Takuya","男",20051209,3,null,"2005","第４支部"]
[169,42514,"太田","景也","ｵｵﾀ","ｹｲﾔ","OTA","Keiya","男",20060213,3,null,"2006","第４支部"]
[170,42515,"神田","宙門","ｶﾝﾀﾞ","ﾋﾛﾄ","KANDA","Hiroto","男",20050904,3,null,"2005","第４支部"]
[171,42516,"高橋","康輔","ﾀｶﾊｼ","ｺｳｽｹ","TAKAHASHI","Kosuke","男",20050512,3,null,"2005","第４支部"]
[172,42517,"樋口","友隆","ﾋｸﾞﾁ","ﾄﾓﾀｶ","HIGUCHI","Tomotaka","男",20050728,3,null,"2005","第４支部"]
[173,42518,"三橋","亮太","ﾐﾂﾊｼ","ﾘｮｳﾀ","MITUHASHI","Ryota","男",20050414,3,null,"2005","第４支部"]
[174,42521,"住谷","茂海","ｽﾐﾔ","ｼｹﾞﾐ","SUMIYA","Shigemi","男",20050420,3,null,"2005","第４支部"]
[175,42522,"川島","寛貴","ｶﾜｼﾏ","ﾋﾛｷ","KAWASHIMA","Hiroki","男",20051201,3,null,"2005","第４支部"]
[176,42523,"滝沢","郁弥","ﾀｷｻﾞﾜ","ｲｸﾐ","TAKIZAWA","Ikumi","男",20051118,3,null,"2005","第４支部"]
[177,42525,"八木","マナ","ﾔｷﾞ","ﾏﾅ","YAGI","Mana","男",20051116,3,null,"2005","第４支部"]
[178,42526,"春日","飛輝","ｶｽｶﾞ","ﾋｶﾙ","KASUGA","Hikaru","男",20050702,3,null,"2005","第４支部"]
[179,42530,"直江","城太朗","ﾅｵｴ","ｼﾞｮｳﾀﾛｳ","NAOE","Jotaro","男",20061201,2,null,"2006","第４支部"]
[180,42531,"荏原","琉仁","ｴﾊﾗ","ﾘｭｳｼﾞ","EHARA","Ryuji","男",20060920,2,null,"2006","第４支部"]
[181,42532,"瀧本","岬輝","ﾀｷﾓﾄ","ﾐｻｷ","TAKIMOTO","Misaki","男",20060828,2,null,"2006","第４支部"]
[182,42533,"田倉","快","ﾀｸﾗ","ｶｲ","TAKURA","Kai","男",20060525,2,null,"2006","第４支部"]
[183,42534,"富田","剛","ﾄﾐﾀ","ｺﾞｳ","TOMITA","Go","男",20070117,2,null,"2007","第４支部"]
[184,42535,"本田","大洋","ﾎﾝﾀﾞ","ﾀｲﾖｳ","HONDA","Taiyo","男",20060405,2,null,"2006","第４支部"]
[185,42536,"脇阪","大督","ﾜｷｻｶ","ﾀﾞｲｽｹ","WAKISAKA","Daisuke","男",20060525,2,null,"2006","第４支部"]
[186,42537,"吉澤","晟","ﾖｼｻﾞﾜ","ｼﾞｮｳ","YOSHIZAWA","Jo","男",20070401,2,null,"2007","第４支部"]
[187,42538,"池田","薫","ｲｹﾀﾞ","ｶｵﾙ","IKEDA","Kaoru","男",20060428,2,null,"2006","第４支部"]
[188,42563,"角田","蘭","ﾂﾉﾀﾞ","ﾗﾝ","TSUNODA","Ran","女",20050620,3,null,"2005","第４支部"]
[189,42564,"長富","翔子","ﾅｶﾞﾄﾐ","ｼｮｳｺ","NAGATOMI","Syoko","女",20050919,3,null,"2005","第４支部"]
[190,42567,"石本","桜子","ｲｼﾓﾄ","ｻｸﾗｺ","ISHIMOTO","Sakurako","女",20050419,3,null,"2005","第４支部"]
[191,42568,"高田","紗和子","ﾀｶﾀ","ｻﾜｺ","TAKATA","Sawako","女",20050914,3,null,"2005","第４支部"]
[192,42569,"中正","夕愛","ﾅｶｼｮｳ","ﾕﾒ","NAKASHO","Yume","女",20050804,3,null,"2005","第４支部"]
[193,42570,"伊藤","光俐","ｲﾄｳ","ﾋｶﾘ","ITO","Hikari","女",20051102,3,null,"2005","第４支部"]
[194,42571,"焼田","ゆめの","ﾔｷﾀ","ﾕﾒﾉ","YAKITA","Yumeno","女",20070304,2,null,"2007","第４支部"]
[195,42602,"新井","和人","ｱﾗｲ","ｶｽﾞﾄ","ARAI","Kazuto","男",20051218,3,null,"2005","第４支部"]
[196,42603,"井口","隼斗","ｲｸﾞﾁ","ﾊﾔﾄ","IGUCHI","Hayato","男",20061023,2,null,"2006","第４支部"]
[197,42611,"谷","大智","ﾀﾆ","ﾀﾞｲﾁ","TANI","Daichi","男",20060510,2,null,"2006","第４支部"]
[198,42613,"太田","直希","ｵｵﾀ","ﾅｵｷ","OTA","Naoki","男",20050602,3,null,"2005","第４支部"]
[199,42615,"及川","栄志","ｵｲｶﾜ","ｴｲｼ","OIKAWA","Eishi","男",20060516,2,null,"2006","第４支部"]
[200,42616,"吉田","剛琉","ﾖｼﾀﾞ","ﾀｹﾙ","YOSHIDA","Takeru","男",20061011,2,null,"2006","第４支部"]
[201,42618,"河部","舜矢","ｶﾜﾍﾞ","ｼｭﾝﾔ","KAWABE","Syunya","男",20060623,2,null,"2006","第４支部"]
[202,42619,"菅谷","希弥","ｽｶﾞﾔ","ﾉｿﾞﾐ","SUGAYA","Nozomi","男",20051109,3,null,"2005","第４支部"]
[203,42620,"穂坂","聖士","ﾎｻｶ","ﾏｻﾄ","HOSAKA","Masato","男",20060111,3,null,"2006","第４支部"]
[204,42621,"高橋","叶夢","ﾀｶﾊｼ","ﾄﾑ","TAKAHASHI","Tomu","男",20050403,3,null,"2005","第４支部"]
[205,42622,"久保","遥斗","ｸﾎﾞ","ﾊﾙﾄ","KUBO","Haruto","男",20051016,3,null,"2005","第４支部"]
[206,42623,"相川","隼吾","ｱｲｶﾜ","ｼｭﾝｺﾞ","AIKAWA","Syungo","男",20050505,3,null,"2005","第４支部"]
[207,42624,"黒川","温琉","ｸﾛｶﾜ","ﾊﾙ","KUROKAWA","Haru","男",20060429,2,null,"2006","第４支部"]
[208,42625,"小林","慶太","ｺﾊﾞﾔｼ","ｹｲﾀ","KOBAYASHI","Keita","男",20050522,3,null,"2005","第４支部"]
[209,42626,"佐藤","大心","ｻﾄｳ","ﾀｲｼﾝ","SATO","Taishin","男",20050804,3,null,"2005","第４支部"]
[210,42627,"樋口","陸","ﾋｸﾞﾁ","ﾘｸ","HIGUCHI","Riku","男",20051014,3,null,"2005","第４支部"]
[211,42629,"鈴木","陸斗","ｽｽﾞｷ","ﾘｸﾄ","SUZUKI","Rikuto","男",20051017,3,null,"2005","第４支部"]
[212,42630,"川田","晟龍","ｶﾜﾀﾞ","ｾｲﾘｭｳ","KAWADA","Seiryu","男",20060514,2,null,"2006","第４支部"]
[213,42631,"神先","強志","ｶﾝｻﾞｷ","ﾂﾖｼ","KANZAKI","Tsuyoshi","男",20070116,2,null,"2007","第４支部"]
[214,42632,"古田","丈耀","ﾌﾙﾀ","ﾀｹﾃﾙ","FURUTA","Taketeru","男",20050711,3,null,"2005","第４支部"]
[215,42633,"平田","航介","ﾋﾗﾀ","ｺｳｽｹ","HIRATA","Kosuke","男",20061219,2,null,"2006","第４支部"]
[216,42634,"小越","俊太郎","ｵｺﾞｼ","ｼｭﾝﾀﾛｳ","OGOSHI","Syuntaro","男",20061204,2,null,"2006","第４支部"]
[217,42637,"髙橋","柊","ﾀｶﾊｼ","ｼｭｳ","TAKAHASHI","Syu","男",20050916,3,null,"2005","第４支部"]
[218,42642,"山内","虎次郎","ﾔﾏｳﾁ","ｺｼﾞﾛｳ","YAMAUCHI","Kojiro","男",20050422,3,null,"2005","第４支部"]
[219,42645,"中里","隆真","ﾅｶｻﾞﾄ","ﾘｭｳﾏ","NAKAZATO","Ryuma","男",20060213,3,null,"2006","第４支部"]
[220,42646,"田野倉","宗弥","ﾀﾉｸﾗ","ｿｳﾔ","TANOKURA","Soya","男",20051201,3,null,"2005","第４支部"]
[221,42647,"山口","丈翔","ﾔﾏｸﾞﾁ","ﾀｹﾙ","YAMAGUCHI","Takeru","男",20051110,3,null,"2005","第４支部"]
[222,42648,"大髙","道三","ｵｵﾀｶ","ﾄﾞｳｻﾝ","OTAKA","Dosan","男",20050502,3,null,"2005","第４支部"]
[223,42649,"遠藤","秀真","ｴﾝﾄﾞｳ","ｼｭｳﾏ","ENDO","Shuma","男",20050410,3,null,"2005","第４支部"]
[224,42656,"池田","虎太朗","ｲｹﾀﾞ","ｺﾀﾛｳ","IKEDA","Kotaro","男",20050603,3,null,"2005","第４支部"]
[225,42657,"萩原","大知","ﾊｷﾞﾜﾗ","ﾀﾞｲﾁ","HAGIWARA","Daichi","男",20050613,3,null,"2005","第４支部"]
[226,42658,"堤","陸透","ﾂﾂﾐ","ﾘｸﾄ","TSUTSUMI","Rikuto","男",20061230,2,null,"2006","第４支部"]
[227,42659,"名城","和輝","ﾅｼﾛ","ｶｽﾞｷ","NASHIRO","Kazuki","男",20050826,3,null,"2005","第４支部"]
[228,42660,"田村","光聖","ﾀﾑﾗ","ｺｳｾｲ","TAMURA","Kosei","男",20061031,2,null,"2006","第４支部"]
[229,42661,"津久井","悠馬","ﾂｸｲ","ﾕｳﾏ","TSUKUI","Yuma","男",20050511,3,null,"2005","第４支部"]
[230,42662,"仙石","健","ｾﾝｺﾞｸ","ｹﾝ","SENGOKU","Ken","男",20060412,2,null,"2006","第４支部"]
[231,42663,"酒井","涼太郎","ｻｶｲ","ﾘｮｳﾀﾛｳ","SAKAI","Ryotaro","男",20060908,2,null,"2006","第４支部"]
[232,42664,"和田","蒼史","ﾜﾀﾞ","ｿｳｼ","WADA","Soshi","男",20060825,2,null,"2006","第４支部"]
[233,42665,"山岸","亮太","ﾔﾏｷﾞｼ","ﾘｮｳﾀ","YAMAGISHI","Ryota","男",20060612,2,null,"2006","第４支部"]
[234,42666,"加藤","心","ｶﾄｳ","ｼﾝ","KATO","Shin","男",20070104,2,null,"2007","第４支部"]
[235,42667,"川上","翔太","ｶﾜｶﾐ","ｼｮｳﾀ","KAWAKAMI","Shota","男",20060601,2,null,"2006","第４支部"]
[236,42701,"野口","麻衣子","ﾉｸﾞﾁ","ﾏｲｺ","NOGUCHI","Maiko","女",20060829,2,null,"2006","第４支部"]
[237,42702,"中尾","夕菜","ﾅｶｵ","ﾕﾅ","NAKAO","Yuna","女",20060825,2,null,"2006","第４支部"]
[238,42703,"依田","理愛","ﾖﾀﾞ","ﾘｴ","YODA","Rie","女",20061019,2,null,"2006","第４支部"]
[239,42704,"堀","一彩","ﾎﾘ","ﾋｲﾛ","HORI","Hiiro","女",20061228,2,null,"2006","第４支部"]
[240,42705,"松井","優那","ﾏﾂｲ","ﾕﾅ","MATSUI","Yuna","女",20060704,2,null,"2006","第４支部"]
[241,42763,"上田","玲奈","ｳｴﾀﾞ","ﾚﾅ","UEDA","Rena","女",20060103,3,null,"2006","第４支部"]
[242,42764,"土師","さくら","ﾊｼﾞ","ｻｸﾗ","HAJI","Sakura","女",20050413,3,null,"2005","第４支部"]
[243,42768,"佐藤","葉月","ｻﾄｳ","ﾊﾂﾞｷ","SATOH","Haduki","女",20060814,2,null,"2006","第４支部"]
[244,42772,"瀧本","有杏","ﾀｷﾓﾄ","ﾕｳﾅ","TAKIMOTO","Yuna","女",20050607,3,null,"2005","第４支部"]
[245,42773,"錦織","真央","ﾆｼｷｵﾘ","ﾏｵ","NISHIKIORI","Mao","女",20050616,3,null,"2005","第４支部"]
[246,42774,"石垣","万莉","ｲｼｶﾞｷ","ﾏﾘ","ISHIGAKI","Mari","女",20051127,3,null,"2005","第４支部"]
[247,42775,"佐藤","結望","ｻﾄｳ","ﾕﾉ","SATO","Yuno","女",20051202,3,null,"2005","第４支部"]
[248,42776,"栁","愛莉","ﾔﾅｷﾞ","ｱｲﾘ","YANAGI","Airi","女",20050805,3,null,"2005","第４支部"]
[249,42777,"吉岡","礼葉","ﾖｼｵｶ","ｱﾔﾊ","YOSHIOKA","Ayaha","女",20060310,3,null,"2006","第４支部"]
[250,42778,"川上","莉央","ｶﾜｶﾐ","ﾘｵ","KAWAKAMI","Rio","女",20051231,3,null,"2005","第４支部"]
[251,42779,"小柳","もも","ｺﾔﾅｷﾞ","ﾓﾓ","KOYANAGI","Momo","女",20060227,3,null,"2006","第４支部"]
[252,42780,"伊藤","実生","ｲﾄｳ","ﾐｳ","ITO","Miu","女",20051023,3,null,"2005","第４支部"]
[253,42781,"五十嵐","緩奈","ｲｶﾞﾗｼ","ｶﾝﾅ","IGARASHI","Kanna","女",20051028,3,null,"2005","第４支部"]
[254,42782,"門石","更紗","ｶﾄﾞｲｼ","ｻﾗｻ","KADOISHI","Sarasa","女",20060213,3,null,"2006","第４支部"]
[255,42783,"小川","華央","ｵｶﾞﾜ","ﾊｵ","OGAWA","Hao","女",20060204,3,null,"2006","第４支部"]
[256,42784,"新田","蒼依","ﾆｯﾀ","ｱｵｲ","NITTA","Aoi","女",20050608,3,null,"2005","第４支部"]
[257,42785,"山南","江里香","ﾔﾏﾅﾐ","ｴﾘｶ","YAMANAMI","Erika","女",20060317,3,null,"2006","第４支部"]
[258,42786,"入ヶ町","莉子","ｲﾘｶﾞﾏﾁ","ﾘｺ","IRIGAMACHI","Riko","女",20050619,3,null,"2005","第４支部"]
[259,42789,"松岡","莉央","ﾏﾂｵｶ","ﾘｵ","MATSUOKA","Rio","女",20061230,2,null,"2006","第４支部"]
[260,42790,"古里","優芽","ﾌﾙｻﾄ","ﾕｳﾒ","FURUSATO","Yume","女",20061025,2,null,"2006","第４支部"]
[261,42791,"稲田","朋夏","ｲﾅﾀﾞ","ﾄﾓｶ","INADA","Tomoka","女",20060726,2,null,"2006","第４支部"]
[262,42792,"栗原","茜","ｸﾘﾊﾗ","ｱｶﾈ","KURIHARA","Akane","女",20060727,2,null,"2006","第４支部"]
[263,42793,"嶋根","菜々実","ｼﾏﾈ","ﾅﾅﾐ","SHIMANE","Nanami","女",20060626,2,null,"2006","第４支部"]
[264,42794,"小穴","真衣","ｵｱﾅ","ﾏｲ","OANA","Mai","女",20070316,2,null,"2007","第４支部"]
[265,42795,"田中","美優","ﾀﾅｶ","ﾐｳ","TANAKA","Miu","女",20060621,2,null,"2006","第４支部"]
[266,42796,"豊島","妃菜","ﾄﾖｼﾏ","ﾋﾅ","TOYOSHIMA","Hina","女",20061012,2,null,"2006","第４支部"]
[267,42797,"長谷川","彩乃","ﾊｾｶﾞﾜ","ｱﾔﾉ","HASEGAWA","Ayano","女",20051013,3,null,"2005","第４支部"]
[268,42799,"川代","歩楓","ｶﾜﾀﾞｲ","ｱﾕｶ","KAWADAI","Ayuka","女",20050927,3,null,"2005","第４支部"]
[269,42810,"東","靖悟","ｱｽﾞﾏ","ｾｲｺﾞ","AZUMA","Seigo","男",20050629,3,null,"2005","第４支部"]
[270,42811,"梶井","駿","ｶｼﾞｲ","ｼｭﾝ","KAJII","Syun","男",20060212,3,null,"2006","第４支部"]
[271,42812,"野村","康介","ﾉﾑﾗ","ｺｳｽｹ","NOMURA","Kosuke","男",20050630,3,null,"2005","第４支部"]
[272,42813,"小野田","佑","ｵﾉﾀﾞ","ﾕｳ","ONODA","Yu","男",20051203,3,null,"2005","第４支部"]
[273,42814,"阿部","晃大","ｱﾍﾞ","ｺｳﾀﾞｲ","ABE","Kodai","男",20050622,3,null,"2005","第４支部"]
[274,42815,"野村","健介","ﾉﾑﾗ","ｹﾝｽｹ","NOMURA","Kensuke","男",20050630,3,null,"2005","第４支部"]
[275,42816,"馬上","幸征","ﾓｳｴ","ｺｳｾｲ","MOUE","Kosei","男",20070212,2,null,"2007","第４支部"]
[276,42817,"岡野","冬嗣","ｵｶﾉ","ﾄｳｼﾞ","OKANO","Toji","男",20061224,2,null,"2006","第４支部"]
[277,42818,"五味渕","晴斗","ｺﾞﾐﾌﾞﾁ","ﾊﾙﾄ","GOMIBUCHI","Haruto","男",20070119,2,null,"2007","第４支部"]
[278,42819,"浦野","清志","ｳﾗﾉ","ｷﾖｼ","URANO","Kiyoshi","男",20060816,2,null,"2006","第４支部"]
[279,42820,"越後","遼大","ｴﾁｺﾞ","ﾘｮｳﾀ","ECHIGO","Ryota","男",20070220,2,null,"2007","第４支部"]
[280,42821,"南淵","鼓太朗","ﾐﾅﾐﾌﾁ","ｺﾀﾛｳ","MINAMIFUCHI","Kotaro","男",20070223,2,null,"2007","第４支部"]
[281,42822,"福岡","黎","ﾌｸｵｶ","ﾚｲ","FUKUOKA","Rei","男",20051002,3,null,"2005","第４支部"]
[282,42823,"藤原","凛生","ﾌｼﾞﾜﾗ","ﾘｵ","FUJIWARA","Rio","男",20070225,2,null,"2007","第４支部"]
[283,43202,"北條","友葵","ﾎｳｼﾞｮｳ","ﾕｳｷ","HOJO","Yuki","男",20051213,3,null,"2005","第４支部"]
[284,43204,"菊池","羚","ｷｸﾁ","ﾚｲ","KIKUCHI","Rei","男",20050611,3,null,"2005","第４支部"]
[285,43205,"松川","凛","ﾏﾂｶﾜ","ﾘﾝ","MATSUKAWA","Rin","男",20070226,2,null,"2007","第４支部"]
[286,43252,"川田","愛花","ｶﾜﾀﾞ","ｱｲｶ","KAWADA","Aika","女",20060708,2,null,"2006","第４支部"]
[287,43253,"黛","香帆","ﾏﾕｽﾞﾐ","ｶﾎ","MAYUZUMI","Kaho","女",20060804,2,null,"2006","第４支部"]
[288,43256,"高橋","温","ﾀｶﾊｼ","ｵﾝ","TAKAHASHI","On","女",20060410,2,null,"2006","第４支部"]
[289,43258,"重","亜沙美","ｼｹﾞ","ｱｻﾐ","SHIGE","Asami","女",20061110,2,null,"2006","第４支部"]
[290,43261,"田村","恵美莉","ﾀﾑﾗ","ｴﾐﾘ","TAMURA","Emily","女",20060609,2,null,"2006","第４支部"]
[291,43270,"中井","さとよ","ﾅｶｲ","ｻﾄﾖ","NAKAI","Satoyo","女",20050708,3,null,"2005","第４支部"]
[292,43271,"堀内","理緒","ﾎﾘｳﾁ","ﾘｵ","HORIUCHI","Rio","女",20060131,3,null,"2006","第４支部"]
[293,43272,"児玉","夏海","ｺﾀﾞﾏ","ﾅﾂﾐ","KODAMA","Natsumi","女",20050729,3,null,"2005","第４支部"]
[294,43273,"宮田","絹江","ﾐﾔﾀ","ｷﾇｴ","MIYATA","Kinue","女",20051026,3,null,"2005","第４支部"]
[295,43274,"日置","茉緒","ﾋｵｷ","ﾏｵ","HIOKI","Mao","女",20050511,3,null,"2005","第４支部"]
[296,43306,"平野","湊太","ﾋﾗﾉ","ｿｳﾀ","HIRANO","Souta","男",20070105,2,null,"2007","第４支部"]
[297,43307,"宮浦","智樹","ﾐﾔｳﾗ","ﾄﾓｷ","MIYAURA","Tomoki","男",20060414,2,null,"2006","第４支部"]
[298,43308,"武田","英俊","ﾀｹﾀﾞ","ﾋﾃﾞﾄｼ","TAKEDA","Hidetoshi","男",20060803,2,null,"2006","第４支部"]
[299,43309,"濱田","和玖","ﾊﾏﾀﾞ","ﾜｸ","HAMADA","Waku","男",20070215,2,null,"2007","第４支部"]
[300,43310,"松本","和己","ﾏﾂﾓﾄ","ｶｽﾞｷ","MATSUMOTO","Kazuki","男",20060929,2,null,"2006","第４支部"]
[301,43311,"品田","純征","ｼﾅﾀﾞ","ｼﾞｭﾝｾｲ","SHINADA","Junsei","男",20060811,2,null,"2006","第４支部"]
[302,43312,"大西","蒼汰","ｵｵﾆｼ","ｿｳﾀ","OHNISHI","Sota","男",20070104,2,null,"2007","第４支部"]
[303,43313,"曽我","真之介","ｿｶﾞ","ｼﾝﾉｽｹ","SOGA","Shinnosuke","男",20060407,2,null,"2006","第４支部"]
[304,43314,"三橋","俊介","ﾐﾂﾊｼ","ｼｭﾝｽｹ","MITUHASHI","Shunsuke","男",20070120,2,null,"2007","第４支部"]
[305,43315,"髙木","律","ﾀｶｷﾞ","ﾘﾂ","TAKAGI","Ritu","男",20060609,2,null,"2006","第４支部"]
[306,43316,"三掘","優人","ﾐﾂﾎﾞﾘ","ﾕｳﾄ","MITUBORI","Yuto","男",20070228,2,null,"2007","第４支部"]
[307,43317,"佐藤","凛空","ｻﾄｳ","ﾘｸ","SATO","Riku","男",20051011,3,null,"2005","第４支部"]
[308,43318,"佐田","悠斗","ｻﾀﾞ","ﾕｳﾄ","SADA","Yuto","男",20050512,3,null,"2005","第４支部"]
[309,43319,"伊東","昂哉","ｲﾄｳ","ﾀｶﾔ","ITO","Takaya","男",20051107,3,null,"2005","第４支部"]
[310,43320,"伊藤","響達","ｲﾄｳ","ｷｮｳﾀﾂ","ITO","Kyoutatu","男",20050720,3,null,"2005","第４支部"]
[311,43321,"尾上","佳亮","ｵﾉｳｴ","ｹｲｽｹ","ONOUE","Keisuke","男",20050909,3,null,"2005","第４支部"]
[312,43322,"宮本","遥多","ﾐﾔﾓﾄ","ｶﾅﾀ","MIYAMOTO","Kanata","男",20051125,3,null,"2005","第４支部"]
[313,43323,"松田","成生","ﾏﾂﾀﾞ","ﾅﾙｷ","MATSUDA","Naruki","男",20061206,2,null,"2006","第４支部"]
[314,43324,"山中","佑剛","ﾔﾏﾅｶ","ﾕｳｺﾞｳ","YAMANAKA","Yugou","男",20061013,2,null,"2006","第４支部"]
[315,43325,"東","快飛","ｱｽﾞﾏ","ｶｲﾄ","AZUMA","Kaito","男",20061110,2,null,"2006","第４支部"]
[316,43326,"高木","杖","ﾀｶｷ","ｼﾞｮｳ","TAKAKI","Jyo","男",20060929,2,null,"2006","第４支部"]
[317,43327,"三又","一究","ﾐﾂﾏﾀ","ｲｯｷｭｳ","MITUMATA","Ikyu","男",20060601,2,null,"2006","第４支部"]
[318,43328,"隅谷","俊介","ｽﾐﾔ","ｼｭﾝｽｹ","SUMIYA","Shunsuke","男",20060506,2,null,"2006","第４支部"]
[319,43329,"伊藤","陽希","ｲﾄｳ","ﾊﾙｷ","ITO","Haruki","男",20060421,2,null,"2006","第４支部"]
[320,43330,"三嶋","悠人","ﾐｼﾏ","ﾕｳﾄ","MISHIMA","Yuuto","男",20061021,2,null,"2006","第４支部"]
[321,43331,"鈴木","一喜","ｽｽﾞｷ","ﾓﾄﾊﾙ","SUZUKI","Motoharu","男",20070205,2,null,"2007","第４支部"]
[322,43332,"山本","郁弥","ﾔﾏﾓﾄ","ﾌﾐﾔ","YAMAMOTO","Fumiya","男",20060821,2,null,"2006","第４支部"]
[323,43333,"木村","洸","ｷﾑﾗ","ｺｳ","KIMURA","Kou","男",20060616,2,null,"2006","第４支部"]
[324,43334,"大熊","展幸","ｵｵｸﾏ","ﾋﾛﾀｶ","OHKUMA","Hirotaka","男",20060415,2,null,"2006","第４支部"]
[325,43335,"大久保","陽","ｵｵｸﾎﾞ","ﾋﾅﾀ","OKUBU","Hinata","男",20060522,2,null,"2006","第４支部"]
[326,43383,"磯部","衣里","ｲｿﾍﾞ","ｴﾘ","ISOBE","Eri","女",20051012,3,null,"2005","第４支部"]
[327,43384,"穴吹","朱佳梨","ｱﾅﾌﾞｷ","ｱｶﾘ","ANABUKI","Akari","女",20050624,3,null,"2005","第４支部"]
[328,43385,"山本","沙也加","ﾔﾏﾓﾄ","ｻﾔｶ","YAMAMOTO","Sayaka","女",20051010,3,null,"2005","第４支部"]
[329,43386,"西川","蒼生","ﾆｼｶﾜ","ｱｵｲ","NISHIKAWA","Aoi","女",20050919,3,null,"2005","第４支部"]
[330,43387,"千田","奈々","ｾﾝﾀﾞ","ﾅﾅ","SENDA","Nana","女",20050724,3,null,"2005","第４支部"]
[331,43388,"川口","七海","ｶﾜｸﾞﾁ","ﾅﾅﾐ","KAWAGUCHI","Nanami","女",20050507,3,null,"2005","第４支部"]
[332,43389,"中村","優心","ﾅｶﾑﾗ","ﾕｳﾐ","NAKAMURA","Yuumi","女",20050625,3,null,"2005","第４支部"]
[333,43390,"田島","青佳","ﾀｼﾞﾏ","ﾊﾙｶ","TAJIMA","Haruka","女",20050504,3,null,"2005","第４支部"]
[334,43391,"遠藤","にこ","ｴﾝﾄﾞｳ","ﾆｺ","ENDO","Nico","女",20060227,3,null,"2006","第４支部"]
[335,43393,"棟方","心結","ﾑﾅｶﾀ","ﾐﾕｳ","MUNAKATA","Miyuu","女",20061205,2,null,"2006","第４支部"]
[336,43394,"渡邊","みゆ","ﾜﾀﾅﾍﾞ","ﾐﾕ","WATANABE","Miyu","女",20060513,2,null,"2006","第４支部"]
[337,43395,"中水流","梨央","ﾅｶｽﾞﾙ","ﾘｵ","NAKAZURU","Rio","女",20060714,2,null,"2006","第４支部"]
[338,43396,"北尾","純鈴","ｷﾀｵ","ｽﾐﾚ","KITAO","Sumire","女",20060610,2,null,"2006","第４支部"]
[339,43397,"森","奏","ﾓﾘ","ｶﾅﾃﾞ","MORI","Kanade","女",20060508,2,null,"2006","第４支部"]
[340,43398,"太田","琴実","ｵｵﾀ","ｺﾄﾐ","OTA","Kotomi","女",20050804,3,null,"2005","第４支部"]
[341,43411,"西川","悠斗","ﾆｼｶﾜ","ﾕｳﾄ","NISHIKAWA","Yuto","男",20051110,3,null,"2005","第４支部"]
[342,43412,"平畑","佑樹","ﾋﾗﾊﾀ","ﾕｳｷ","HIRAHATA","Yuki","男",20050615,3,null,"2005","第４支部"]
[343,43413,"佐々木","佑都","ｻｻｷ","ﾕｳﾄ","SASAKI","Yuto","男",20050927,3,null,"2005","第４支部"]
[344,43414,"出家","空知","ﾃﾞｲｴ","ｿﾗﾁ","DEIE","Sorachi","男",20050408,3,null,"2005","第４支部"]
[345,43415,"武藤","聡一朗","ﾑﾄｳ","ｿｳｲﾁﾛｳ","MUTO","Soichiro","男",20050808,3,null,"2005","第４支部"]
[346,43416,"尾本","陽","ｵﾓﾄ","ﾊﾙ","OMOTO","Haru","男",20050417,3,null,"2005","第４支部"]
[347,43417,"三浦","稜生","ﾐｳﾗ","ｲｽﾞｷ","MIURA","Izuki","男",20060215,3,null,"2006","第４支部"]
[348,43418,"橋本","康太","ﾊｼﾓﾄ","ｺｳﾀ","HASHIMOTO","Kota","男",20050811,3,null,"2005","第４支部"]
[349,43419,"山本","翔央","ﾔﾏﾓﾄ","ｼｮｳ","YAMAMOTO","Syo","男",20050917,3,null,"2005","第４支部"]
[350,43420,"宮本","昇","ﾐﾔﾓﾄ","ｼｮｳ","MIYAMOTO","Syo","男",20060213,3,null,"2006","第４支部"]
[351,43421,"柴田","隼成","ｼﾊﾞﾀ","ｼﾞｭﾝｾｲ","SHIBATA","Junsei","男",20060101,3,null,"2006","第４支部"]
[352,43422,"渡邉","紘基","ﾜﾀﾅﾍﾞ","ﾋﾛｷ","WATANABE","Hiroki","男",20050527,3,null,"2005","第４支部"]
[353,43424,"澁谷","要","ｼﾌﾞﾔ","ｶﾅﾒ","SHIBUYA","Kaname","男",20050819,3,null,"2005","第４支部"]
[354,43425,"岡","健太郎","ｵｶ","ｹﾝﾀﾛｳ","OKA","Kentaro","男",20050517,3,null,"2005","第４支部"]
[355,43426,"宮川","拓真","ﾐﾔｶﾜ","ﾀｸﾏ","MIYAKAWA","Takuma","男",20060310,3,null,"2006","第４支部"]
[356,43427,"甲斐","壮吾","ｶｲ","ｿｳｺﾞ","KAI","Sougo","男",20060721,2,null,"2006","第４支部"]
[357,43428,"嶋田","滉大","ｼﾏﾀﾞ","ｺｳﾀ","SHIMADA","Kota","男",20070113,2,null,"2007","第４支部"]
[358,43429,"溝口","瑛士","ﾐｿﾞｸﾞﾁ","ｴｲｼﾞ","MIZOGUCHI","Eiji","男",20060427,2,null,"2006","第４支部"]
[359,43456,"鹿島","愛縫","ｶｼﾏ","ｱﾝﾇ","KASHIMA","Annu","女",20051231,3,null,"2005","第４支部"]
[360,43460,"服部","茉佑子","ﾊｯﾄﾘ","ﾏﾕｺ","HATTORI","Mayuko","女",20060616,2,null,"2006","第４支部"]
[361,43461,"廣畑","里穂","ﾋﾛﾊﾀ","ﾘﾎ","HIROHATA","Riho","女",20060914,2,null,"2006","第４支部"]
[362,43462,"渡邉","奏帆","ﾜﾀﾅﾍﾞ","ｶﾅﾎ","WATANABE","Kanaho","女",20070112,2,null,"2007","第４支部"]
[363,43569,"遠藤","美結","ｴﾝﾄﾞｳ","ﾐﾕ","ENDO","Miyu","女",20050619,3,null,"2005","第４支部"]
[364,43570,"小澤","茉央","ｵｻﾞﾜ","ﾏｵ","OZAWA","Mao","女",20060129,3,null,"2006","第４支部"]
[365,43571,"高木","涼香","ﾀｶｷ","ｽｽﾞｶ","TAKAKI","Suzuka","女",20060107,3,null,"2006","第４支部"]
[366,43572,"半沢","優奈","ﾊﾝｻﾞﾜ","ﾕｳﾅ","HANZAWA","Yuna","女",20050422,3,null,"2005","第４支部"]
[367,43573,"山形","優花","ﾔﾏｶﾞﾀ","ﾕｳｶ","YAMAGATA","Yuka","女",20050616,3,null,"2005","第４支部"]
[368,43574,"山下","陽菜","ﾔﾏｼﾀ","ﾋﾅ","YAMASHITA","Hina","女",20050929,3,null,"2005","第４支部"]
[369,43575,"寺西","はるか","ﾃﾗﾆｼ","ﾊﾙｶ","TERANISHI","Haruka","女",20060503,2,null,"2006","第４支部"]
[370,43576,"山影","果穂","ﾔﾏｶｹﾞ","ｶﾎ","YAMAKAGE","Kaho","女",20061102,2,null,"2006","第４支部"]
[371,43672,"照井","あぽろ","ﾃﾙｲ","ｱﾎﾟﾛ","TERUI","Aporo","女",20060303,3,null,"2006","第４支部"]
[372,43730,"奥垣内","浩太郎","ｵｸｶﾞｷｳﾁ","ｺｳﾀﾛｳ","OKUGAKIUCHI","Kotaro","男",20051203,3,null,"2005","第４支部"]
[373,43731,"大日向","和真","ｵｵﾋﾅﾀ","ｶｽﾞﾏ","OHINATA","Kazuma","男",20050709,3,null,"2005","第４支部"]
[374,43733,"松野","海南人","ﾏﾂﾉ","ﾐﾅﾄ","MATSUNO","Minato","男",20050808,3,null,"2005","第４支部"]
[375,43735,"齋藤","久遠","ｻｲﾄｳ","ｸｵﾝ","SAITO","Kuon","男",20060715,2,null,"2006","第４支部"]
[376,43736,"西部","稜平","ﾆｼﾍﾞ","ﾘｮｳﾍｲ","NISHIBE","Ryohei","男",20060615,2,null,"2006","第４支部"]
[377,43737,"小林","大洋","ｺﾊﾞﾔｼ","ﾋﾛﾐ","KOBAYASHI","Hiromi","男",20061028,2,null,"2006","第４支部"]
[378,43801,"篠原","一寿","ｼﾉﾊﾗ","ｶｽﾞﾄｼ","SHINOHARA","Kazutoshi","男",20070206,2,null,"2007","第４支部"]
[379,43802,"西","惟来","ﾆｼ","ｱﾘｸ","NISHI","Ariku","男",20061109,2,null,"2006","第４支部"]
[380,43826,"藤原","世名","ﾌｼﾞﾜﾗ","ｾﾅ","FUJIWARA","Sena","男",20060212,3,null,"2006","第４支部"]
[381,43827,"平中","暖樹","ﾋﾗﾅｶ","ﾊﾙｷ","HIRANAKA","Haruki","男",20050403,3,null,"2005","第４支部"]
[382,43829,"髙橋","海翔","ﾀｶﾊｼ","ｶｲﾄ","TAKAHASHI","Kaito","男",20050409,3,null,"2005","第４支部"]
[383,43830,"古田","伶慈","ﾌﾙﾀ","ﾚｲｼﾞ","FURUTA","Reiji","男",20051125,3,null,"2005","第４支部"]
[384,43831,"今川","寛太","ｲﾏｶﾞﾜ","ｶﾝﾀ","IMAGAWA","Kanta","男",20050827,3,null,"2005","第４支部"]
[385,43832,"木下","富美之","ｷﾉｼﾀ","ﾌﾐﾕｷ","KINOSHITA","Fumiyuki","男",20050503,3,null,"2005","第４支部"]
[386,43833,"福永","竜也","ﾌｸﾅｶﾞ","ﾀﾂﾔ","FUKUNAGA","Tatsuya","男",20051031,3,null,"2005","第４支部"]
[387,43835,"三澤","武留","ﾐｻﾜ","ﾀｹﾙ","MISAWA","Takeru","男",20051012,3,null,"2005","第４支部"]
[388,43840,"新沼","裕己","ﾆｲﾇﾏ","ﾕｳｷ","NINUMA","Yuki","男",20060406,2,null,"2006","第４支部"]
[389,43841,"松田","晃希","ﾏﾂﾀﾞ","ｺｳｷ","MATSUDA","Koki","男",20060607,2,null,"2006","第４支部"]
[390,43842,"横須賀","力斗","ﾖｺｽｶ","ﾘｷﾄ","YOKOSUKA","Rikito","男",20061010,2,null,"2006","第４支部"]
[391,43843,"稲毛","梨玖","ｲﾅｹﾞ","ﾘｸ","INAGE","Riku","男",20060530,2,null,"2006","第４支部"]
[392,43844,"小泉","渚","ｺｲｽﾞﾐ","ﾅｷﾞｻ","KOIZUMI","Nagisa","男",20061023,2,null,"2006","第４支部"]
[393,43845,"小西","湧太郎","ｺﾆｼ","ﾜｸﾀﾛｳ","KONISHI","Wakutaro","男",20061205,2,null,"2006","第４支部"]
[394,43846,"田澤","虎太郎","ﾀｻﾞﾜ","ｺﾀﾛｳ","TAZAWA","Kotaro","男",20060802,2,null,"2006","第４支部"]
[395,43847,"髙島","乾一","ﾀｶｼﾏ","ｹﾝｲﾁ","TAKASHIMA","Kenichi","男",20060524,2,null,"2006","第４支部"]
[396,43848,"木村","航大","ｷﾑﾗ","ｺｳﾀﾞｲ","KIMURA","Kodai","男",20060519,2,null,"2006","第４支部"]
[397,43849,"小林","誓吾","ｺﾊﾞﾔｼ","ｾｲｺﾞ","KOBAYASHI","Seigo","男",20061215,2,null,"2006","第４支部"]
[398,43850,"宮田","一寿","ﾐﾔﾀ","ｶｽﾞﾄｼ","MIYATA","Kazutoshi","男",20060617,2,null,"2006","第４支部"]
[399,43855,"田中","南帆","ﾀﾅｶ","ﾅﾎ","TANAKA","Naho","女",20060204,3,null,"2006","第４支部"]
[400,43860,"岡田","彩花","ｵｶﾀﾞ","ｱﾔｶ","OKADA","Ayaka","女",20050807,3,null,"2005","第４支部"]
[401,43861,"清水","春日","ｼﾐｽﾞ","ﾊﾙｶ","SHIMIZU","Haruka","女",20060505,2,null,"2006","第４支部"]
[402,43862,"森","明歩","ﾓﾘ","ｱｷﾎ","MORI","Akiho","女",20060925,2,null,"2006","第４支部"]
[403,43863,"手坂","緑里","ﾃｻｶ","ﾐﾄﾞﾘ","TESAKA","Midori","女",20060630,2,null,"2006","第４支部"]
[404,43925,"矢吹","新","ﾔﾌﾞｷ","ｱﾗﾀ","YABUKI","Arata","男",20050425,3,null,"2005","第４支部"]
[405,43926,"樋口","修也","ﾋｸﾞﾁ","ｼｭｳﾔ","HIGUCHI","Shuuya","男",20051025,3,null,"2005","第４支部"]
[406,43928,"今野","敬太","ｺﾝﾉ","ｹｲﾀ","KONNO","Keita","男",20050921,3,null,"2005","第４支部"]
[407,43930,"塚本","琢磨","ﾂｶﾓﾄ","ﾀｸﾏ","TSUKAMOTO","Takuma","男",20060323,3,null,"2006","第４支部"]
[408,43931,"水野","雄翔","ﾐｽﾞﾉ","ﾕｳﾄ","MIZUNO","Yuuto","男",20051008,3,null,"2005","第４支部"]
[409,43932,"松岡","隆太郎","ﾏﾂｵｶ","ﾘｭｳﾀﾛｳ","MATSUOKA","Ryutaro","男",20050628,3,null,"2005","第４支部"]
[410,43934,"江頭","昂城","ｴｶﾞｼﾗ","ｺｳｷ","EGASHIRA","Kouki","男",20060911,2,null,"2006","第４支部"]
[411,43935,"大野","英太郎","ｵｵﾉ","ｴｲﾀﾛｳ","ONO","Eitarou","男",20060419,2,null,"2006","第４支部"]
[412,43936,"佐藤","碧泉","ｻﾄｳ","ｱｵｲ","SATO","Aoi","男",20060426,2,null,"2006","第４支部"]
[413,43937,"野口","友稜","ﾉｸﾞﾁ","ﾄﾓﾀｶ","NOGUCHI","Tomotaka","男",20060911,2,null,"2006","第４支部"]
[414,43938,"吉澤","康太","ﾖｼｻﾞﾜ","ｺｳﾀ","YOSHIZAWA","Kouta","男",20060423,2,null,"2006","第４支部"]
[415,43939,"青木","陽汰","ｱｵｷ","ﾊﾙﾀ","AOKI","Haruta","男",20060224,3,null,"2006","第４支部"]
[416,43940,"佐々木","優太","ｻｻｷ","ﾕｳﾀ","SASAKI","Yuta","男",20051204,3,null,"2005","第４支部"]
[417,44138,"青松","凌里","ｱｵﾏﾂ","ﾘｮｳｻ","AOMATSU","Ryosa","男",20060124,3,null,"2006","第４支部"]
[418,44139,"齋藤","凛玖","ｻｲﾄｳ","ﾘｸ","SAITO","Riku","男",20050609,3,null,"2005","第４支部"]
[419,44140,"鈴木","歩庵","ｽｽﾞｷ","ﾎｱﾝ","SUZUKI","Hoan","男",20050814,3,null,"2005","第４支部"]
[420,44141,"関澤","情","ｾｷｻﾞﾜ","ｼﾞｮｳ","SEKIZAWA","Jo","男",20050527,3,null,"2005","第４支部"]
[421,44142,"森","崇幸","ﾓﾘ","ﾑﾈﾕｷ","MORI","Muneyuki","男",20060806,2,null,"2006","第４支部"]
[422,44143,"角田","一樹","ﾂﾉﾀﾞ","ｶｽﾞｷ","TSUNODA","Kazuki","男",20060530,2,null,"2006","第４支部"]
[423,44144,"福島","瑞希","ﾌｸｼﾏ","ﾐｽﾞｷ","FUKUSHIMA","Mizuki","男",20061106,2,null,"2006","第４支部"]
[424,44168,"佐藤","史絵菜","ｻﾄｳ","ｼｴﾅ","SATO","Shiena","女",20060118,3,null,"2006","第４支部"]
[425,44169,"鈴木","杏咲美","ｽｽﾞｷ","ｱｻﾐ","SUZUKI","Asami","女",20060206,3,null,"2006","第４支部"]
[426,44170,"棚部","さわ","ﾀﾅﾍﾞ","ｻﾜ","TANABE","Sawa","女",20051119,3,null,"2005","第４支部"]
[427,44171,"藤浪","彩羽","ﾌｼﾞﾅﾐ","ｲﾛﾊ","FUZINAMI","Iroha","女",20060310,3,null,"2006","第４支部"]
[428,44172,"吉越","心玲","ﾖｼｺｼ","ﾐﾚｲ","YOSHIKOSHI","Mirei","女",20050808,3,null,"2005","第４支部"]
[429,44173,"恒川","絢羽","ﾂﾈｶﾜ","ｱﾔﾊ","TSUNEKAWA","Ayaha","女",20050707,3,null,"2005","第４支部"]
[430,44174,"大峰","ラファエルはな","ｵｵﾐﾈ","ﾗﾌｧｴﾙﾊﾅ","OMINE","Raphaellehana","女",20050829,3,null,"2005","第４支部"]
[431,44175,"大峰","イネスそら","ｵｵﾐﾈ","ｲﾈｽｿﾗ","OMINE","Inessora","女",20050829,3,null,"2005","第４支部"]
[432,44176,"池澤","摩耶","ｲｹｻﾞﾜ","ﾏﾔ","IKEZAWA","Maya","女",20060629,2,null,"2006","第４支部"]
[433,44177,"石川","いち華","ｲｼｶﾜ","ｲﾁｶ","ISHIKAWA","Ichika","女",20060407,2,null,"2006","第４支部"]
[434,44178,"岡本","藍","ｵｶﾓﾄ","ｱｲ","OKAMOTO","Ai","女",20061231,2,null,"2006","第４支部"]
[435,44179,"小川","真菜","ｵｶﾞﾜ","ﾏﾅ","OGAWA","Mana","女",20070106,2,null,"2007","第４支部"]
[436,44424,"福田","玄太郎","ﾌｸﾀﾞ","ｹﾞﾝﾀﾛｳ","FUKUDA","Gentaro","男",20050502,3,null,"2005","第４支部"]
[437,44425,"藤村","俊太朗","ﾌｼﾞﾑﾗ","ｼｭﾝﾀﾛｳ","FUJIMURA","Syuntaro","男",20050713,3,null,"2005","第４支部"]
[438,44426,"新海","悠太","ｼﾝｶｲ","ﾕｳﾀ","SINKAI","Yuuta","男",20050521,3,null,"2005","第４支部"]
[439,44427,"宮原","光輝","ﾐﾔﾊﾗ","ﾋｶﾘ","MIYAHARA","Hikari","男",20050612,3,null,"2005","第４支部"]
[440,44428,"出村","純","ﾃﾞﾑﾗ","ｼﾞｭﾝ","DEMURA","Jun","男",20050930,3,null,"2005","第４支部"]
[441,44430,"野間","隼人","ﾉﾏ","ﾊﾔﾄ","NOMA","Hayato","男",20061114,2,null,"2006","第４支部"]
[442,44431,"福山","航大朗","ﾌｸﾔﾏ","ｺｳﾀﾛｳ","FUKUYAMA","Kotaro","男",20070228,2,null,"2007","第４支部"]
[443,44432,"宮森","涼介","ﾐｬﾓﾘ","ﾘｮｳｽｹ","MIYAMORI","Ryosuke","男",20070330,2,null,"2007","第４支部"]
[444,44433,"鈴木","琉ノ介","ｽｽﾞｷ","ﾘｭｳﾉｽｹ","SUZUKI","Ryunosuke","男",20061015,2,null,"2006","第４支部"]
[445,44434,"冨田","優大","ﾄﾐﾀ","ﾕｳﾀﾞｲ","TOMITA","Yudai","男",20060703,2,null,"2006","第４支部"]
[446,44475,"遠藤","芽衣","ｴﾝﾄﾞｳ","ﾒｲ","ENDOU","Mei","女",20050430,3,null,"2005","第４支部"]
[447,44477,"河野","愛璃華","ｺｳﾉ","ｴﾘｶ","KOUNO","Erika","女",20050615,3,null,"2005","第４支部"]
[448,44478,"小林","紗綾","ｺﾊﾞﾔｼ","ｻﾔ","KOBAYASHI","Saya","女",20051002,3,null,"2005","第４支部"]
[449,44479,"糸川","栞名","ｲﾄｶﾞﾜ","ｶﾝﾅ","ITOGAWA","Kanna","女",20060730,2,null,"2006","第４支部"]
[450,44480,"岡","美実歌","ｵｶ","ﾐﾐｶ","OKA","Mimika","女",20060913,2,null,"2006","第４支部"]
[451,44481,"鈴木","舞香","ｽｽﾞｷ","ﾏｲｶ","SUZUKI","Maika","女",20060516,2,null,"2006","第４支部"]
[452,44482,"森","愛実","ﾓﾘ","ﾏﾅﾐ","MORI","Manami","女",20061226,2,null,"2006","第４支部"]
[453,44483,"片山","かれん","ｶﾀﾔﾏ","ｶﾚﾝ","KATAYAMA","Karen","女",20061228,2,null,"2006","第４支部"]
[454,44484,"米岡","百愛","ﾖﾈｵｶ","ﾓｴ","YONEOKA","Moe","女",20060922,2,null,"2006","第４支部"]
[455,44501,"浅沼","友来","ｱｻﾇﾏ","ﾕｳﾗ","ASANUMA","Yura","男",20061012,2,null,"2006","第４支部"]
[456,44502,"浅野","遼介","ｱｻﾉ","ﾘｮｳｽｹ","ASANO","Ryosuke","男",20060425,2,null,"2006","第４支部"]
[457,44503,"一條","竜輝","ｲﾁｼﾞｮｳ","ﾘｭｳｷ","ICHIJO","Ryuki","男",20061024,2,null,"2006","第４支部"]
[458,44504,"久原","遥","ｸﾊﾗ","ﾊﾙ","KUHARA","Haru","男",20061003,2,null,"2006","第４支部"]
[459,44505,"小牧","駿人","ｺﾏｷ","ﾊﾔﾄ","KOMAKI","Hayato","男",20070106,2,null,"2007","第４支部"]
[460,44506,"城地","伸昂","ｼﾞｮｳﾁ","ﾉﾌﾞﾀｶ","JOCHI","Nobutaka","男",20060613,2,null,"2006","第４支部"]
[461,44507,"鈴木","皓大","ｽｽﾞｷ","ｺｳﾀﾞｲ","SUZUKI","Kodai","男",20070221,2,null,"2007","第４支部"]
[462,44508,"髙嶋","叶馬","ﾀｶｼﾏ","ﾄｳﾏ","TAKASHIMA","Toma","男",20060917,2,null,"2006","第４支部"]
[463,44509,"髙辻","拓海","ﾀｶﾂｼﾞ","ﾀｸﾐ","TAKATUZI","Takumi","男",20070221,2,null,"2007","第４支部"]
[464,44510,"三浦","丈法","ﾐｳﾗ","ﾀｹﾉﾘ","MIURA","Takenori","男",20060925,2,null,"2006","第４支部"]
[465,44511,"宮國","漣久","ﾐﾔｸﾆ","ﾚｸ","MIYAKUNI","Reku","男",20070305,2,null,"2007","第４支部"]
[466,44531,"新妻","勇輝","ﾆｲﾂﾞﾏ","ﾕｳｷ","NIIZUMA","Yuuki","男",20051014,3,null,"2005","第４支部"]
[467,44551,"朝賀","柚月","ｱｻｶ","ﾕｽﾞｷ","ASAKA","Yuzuki","女",20060826,2,null,"2006","第４支部"]
[468,44552,"内山","理莉","ｳﾁﾔﾏ","ﾘﾘ","UCHIYAMA","Riri","女",20050409,2,null,"2005","第４支部"]
[469,44553,"太田","唯香","ｵｵﾀ","ﾕｲｶ","OHTA","Yuika","女",20070301,2,null,"2007","第４支部"]
[470,44554,"小泉","あずさ","ｺｲｽﾞﾐ","ｱｽﾞｻ","KOIZUMI","Azusa","女",20070330,2,null,"2007","第４支部"]
[471,44555,"酒巻","さくらこ","ｻｶﾏｷ","ｻｸﾗｺ","SAKAMAKI","Sakurako","女",20070401,2,null,"2007","第４支部"]
[472,44556,"笹岡","詩","ｻｻｵｶ","ｳﾀ","SASAOKA","Uta","女",20070114,2,null,"2007","第４支部"]
[473,44557,"皆川","想空","ﾐﾅｶﾞﾜ","ｿｱ","MINAGAWA","Soa","女",20060804,2,null,"2006","第４支部"]
[474,44582,"古田","礼奈","ﾌﾙﾀ","ﾚｲﾅ","FURUTA","Reina","女",20050716,3,null,"2005","第４支部"]
[475,44821,"井岡","尚貴","ｲｵｶ","ﾅｵｷ","IOKA","Naoki","男",20050629,3,null,"2005","第４支部"]
[476,44822,"高橋","賢嗣","ﾀｶﾊｼ","ｹﾝｼﾞ","TAKAHASHI","Kenji","男",20050827,3,null,"2005","第４支部"]
[477,44823,"田中","裕人","ﾀﾅｶ","ﾕｳｼﾞﾝ","TANAKA","Yujin","男",20050715,3,null,"2005","第４支部"]
[478,44824,"村上","広醍","ﾑﾗｶﾐ","ｺｳﾀﾞｲ","MURAKAMI","Koudai","男",20051202,3,null,"2005","第４支部"]
[479,44825,"作山","友基","ｻｸﾔﾏ","ﾕｳｷ","SAKUYAMA","Yuki","男",20050726,3,null,"2005","第４支部"]
[480,44828,"大和","心","ﾔﾏﾄ","ｺｺﾛ","YAMATO","Kokoro","男",20050916,3,null,"2005","第４支部"]
[481,44831,"橋本","拓実","ﾊｼﾓﾄ","ﾀｸﾐ","HASHIMOTO","Takumi","男",20050719,3,null,"2005","第４支部"]
[482,44832,"吉川","聡一","ﾖｼｶﾜ","ｿｳｲﾁ","YOSHIKAWA","Soichi","男",20050506,3,null,"2005","第４支部"]
[483,44833,"青柳","柊蔵","ｱｵﾔｷﾞ","ｼｭｳｿﾞｳ","AOYAGI","Syuzo","男",20060113,3,null,"2006","第４支部"]
[484,44834,"小豆澤","竜次","ｱｽﾞｷｻﾞﾜ","ﾘｭｳｼﾞ","AZUKIZAWA","Ryuji","男",20060210,3,null,"2006","第４支部"]
[485,44838,"石野","温大","ｲｼﾉ","ﾊﾙﾄ","ISHINO","Haruto","男",20060630,2,null,"2006","第４支部"]
[486,44839,"木村","俊太","ｷﾑﾗ","ｼｭﾝﾀ","KIMURA","Shunta","男",20060613,2,null,"2006","第４支部"]
[487,44840,"武山","侑聖","ﾀｹﾔﾏ","ﾕｳｾｲ","TAKEYAMA","Yusei","男",20070326,2,null,"2007","第４支部"]
[488,44841,"臼井","剛","ｳｽｲ","ﾂﾖｼ","USUI","Tsuyoshi","男",20070207,2,null,"2007","第４支部"]
[489,44842,"宇野","匠生","ｳﾉ","ｼｮｳｾｲ","UNO","Shosei","男",20060912,2,null,"2006","第４支部"]
[490,44843,"國師","鷹晶","ｸﾆｼ","ﾀｶｱｷ","KUNISHI","Takaaki","男",20060522,2,null,"2006","第４支部"]
[491,44844,"秋野","博紀","ｱｷﾉ","ﾋﾛﾉﾘ","AKINO","Hironori","男",20060426,2,null,"2006","第４支部"]
[492,44845,"永木","湊","ﾅｶﾞｷ","ﾐﾅﾄ","NAGAKI","Minato","男",20070308,2,null,"2007","第４支部"]
[493,44846,"室井","海音","ﾑﾛｲ","ｶｲﾄ","MUROI","Kaito","男",20060702,2,null,"2006","第４支部"]
[494,44847,"平井","温暉","ﾋﾗｲ","ﾊﾙｷ","HIRAI","Haruki","男",20070224,2,null,"2007","第４支部"]
[495,44848,"湊","直嗣","ﾐﾅﾄ","ﾅｵﾂｸﾞ","MINATO","Naotsugu","男",20061218,2,null,"2006","第４支部"]
[496,44849,"戸兵","勇仁","ﾄﾍﾞ","ﾊﾔﾄ","TOBE","Hayato","男",20060504,2,null,"2006","第４支部"]
[497,44861,"髙橋","奈央","ﾀｶﾊｼ","ﾅｵ","TAKAHASHI","Nao","女",20060501,2,null,"2006","第４支部"]
[498,44862,"桐ケ谷","友里","ｷﾘｶﾞﾔ","ﾕﾘ","KIRIGAYA","Yuri","女",20070218,2,null,"2007","第４支部"]
[499,44863,"間藤","怜","ﾏﾄｳ","ﾚｲ","MATO","Rei","女",20060711,2,null,"2006","第４支部"]
[500,44864,"加藤","璃乃","ｶﾄｳ","ﾘﾉ","KATO","Rino","女",20050807,3,null,"2005","第４支部"]
[501,44901,"時津","開","ﾄｷﾂ","ｶｲ","TOKITSU","Kai","男",20070325,2,null,"2007","第４支部"]
[502,44902,"藤岡","佑斗","ﾌｼﾞｵｶ","ﾕｳﾄ","FUJIOKA","Yuto","男",20060524,2,null,"2006","第４支部"]
[503,44945,"安齋","拓真","ｱﾝｻﾞｲ","ﾀｸﾏ","ANZAI","Takuma","男",20051207,3,null,"2005","第４支部"]
[504,44946,"小田","遼太郎","ｵﾀﾞ","ﾘｮｳﾀﾛｳ","ODA","Ryotaro","男",20050722,3,null,"2005","第４支部"]
[505,44947,"石﨑","朔生","ｲｼｻﾞｷ","ｻｸｾｲ","ISHIZAKI","Sakusei","男",20050921,3,null,"2005","第４支部"]
[506,44950,"堺","一将","ｻｶｲ","ﾋﾋﾞｷ","SAKAI","Hibiki","男",20050607,3,null,"2005","第４支部"]
[507,44957,"永野","美咲","ﾅｶﾞﾉ","ﾐｻｷ","NAGANO","Misaki","女",20050912,3,null,"2005","第４支部"]
[508,44958,"山村","紗都美","ﾔﾏﾑﾗ","ｻﾄﾐ","YAMAMURA","Satomi","女",20060109,3,null,"2006","第４支部"]
[509,44959,"柿沼","叶夢","ｶｷﾇﾏ","ｶﾅﾒ","KAKINUMA","Kaname","女",20060523,2,null,"2006","第４支部"]
[510,45110,"菅野","圭祐","ｶﾝﾉ","ｹｲｽｹ","KANNO","Keisuke","男",20050511,3,null,"2005","第４支部"]
[511,45111,"伊東","柚磨","ｲﾄｳ","ﾕｳﾏ","ITO","Yuma","男",20050831,3,null,"2005","第４支部"]
[512,45112,"吹谷","天優","ﾌｷﾔ","ﾀｶﾋﾛ","FUKIYA","Takahiro","男",20051111,3,null,"2005","第４支部"]
[513,45113,"細谷","駿","ﾎｿﾔ","ｼｭﾝ","HOSOYA","Shun","男",20051104,3,null,"2005","第４支部"]
[514,45114,"阿部","将太","ｱﾍﾞ","ｼｮｳﾀ","ABE","Shota","男",20050531,3,null,"2005","第４支部"]
[515,45115,"小山","夕涼也","ｵﾔﾏ","ﾕｽﾞﾅﾘ","OYAMA","Yuzunari","男",20070123,2,null,"2007","第４支部"]
[516,45116,"小澤","伶音","ｵｻﾞﾜ","ﾚﾉﾝ","OZAWA","Renon","男",20050627,3,null,"2005","第４支部"]
[517,45117,"松下","卓巧","ﾏﾂｼﾀ","ﾀｸﾐ","MATSUSHITA","Takumi","男",20060627,2,null,"2006","第４支部"]
[518,45118,"藤川","裕矢","ﾌｼﾞｶﾜ","ﾋﾛﾔ","FUJIKAWA","Hiroya","男",20060605,2,null,"2006","第４支部"]
[519,45119,"神田","想太","ｶﾝﾀﾞ","ｿｳﾀ","KANDA","Souta","男",20070309,2,null,"2007","第４支部"]
[520,45120,"藤村","悠陽","ﾌｼﾞﾑﾗ","ﾊﾙﾋ","FUJIMURA","Haruhi","男",20070125,2,null,"2007","第４支部"]
[521,45121,"久保田","光星","ｸﾎﾞﾀ","ｺｳｾｲ","KUBOTA","Kohsei","男",20060815,2,null,"2006","第４支部"]
[522,45122,"木村","勇太","ｷﾑﾗ","ﾕｳﾀ","KIMURA","Yuta","男",20070129,2,null,"2007","第４支部"]
[523,45123,"日下部","優汰","ｸｻｶﾍﾞ","ﾕｳﾀ","KUSAKABE","Yuta","男",20060720,2,null,"2006","第４支部"]
[524,45124,"月原","寧音","ﾂｷﾊﾗ","ﾈｵ","TSUKIHARA","Neo","男",20070318,2,null,"2007","第４支部"]
[525,45157,"和田","なお","ﾜﾀﾞ","ﾅｵ","WADA","Nao","女",20050529,3,null,"2005","第４支部"]
[526,45158,"西","美乃里","ﾆｼ","ﾐﾉﾘ","NISHI","Minori","女",20051104,3,null,"2005","第４支部"]
[527,45159,"池田","彩芽","ｲｹﾀﾞ","ｱﾔﾒ","IKEDA","Ayame","女",20050626,3,null,"2005","第４支部"]
[528,45160,"杉野","未宙","ｽｷﾞﾉ","ﾐﾋﾛ","SUGINO","Mihiro","女",20060404,2,null,"2006","第４支部"]
[529,45161,"岩井","凜夏","ｲﾜｲ","ﾘﾝｶ","IWAI","Rinka","女",20050925,3,null,"2005","第４支部"]
[530,45162,"牧野","葵音","ﾏｷﾉ","ｱｵｲ","MAKINO","Aoi","女",20060901,2,null,"2006","第４支部"]
[531,45163,"石塚","理奈","ｲｼﾂﾞｶ","ﾘﾅ","ISHIZUKA","Rina","女",20051020,3,null,"2005","第４支部"]
[532,45210,"石田","操","ｲｼﾀﾞ","ﾐｻｵ","ISHIDA","Misao","男",20051010,3,null,"2005","第４支部"]
[533,45211,"黒坂","文弥","ｸﾛｻｶ","ﾌﾐﾔ","KUROSAKA","Fumiya","男",20050726,3,null,"2005","第４支部"]
[534,45212,"篠原","健志","ｼﾉﾊﾗ","ﾂﾖｼ","SHINOHARA","Tuyoshi","男",20050524,3,null,"2005","第４支部"]
[535,45213,"清水","健太","ｼﾐｽﾞ","ｹﾝﾀ","SHIMIZU","Kennta","男",20050525,3,null,"2005","第４支部"]
[536,45214,"千葉","智之","ﾁﾊﾞ","ﾄﾓﾕｷ","CHIBA","Tomoyuki","男",20050912,3,null,"2005","第４支部"]
[537,45215,"古家","徳真","ﾌﾙﾔ","ﾄｸﾏ","FURUYA","Tokuma","男",20060128,3,null,"2006","第４支部"]
[538,45216,"野口","幸聖","ﾉｸﾞﾁ","ｺｳｾｲ","NOGUCHI","Kousei","男",20050719,3,null,"2005","第４支部"]
[539,45217,"吉田","輝","ﾖｼﾀﾞ","ﾋｶﾙ","YOSHIDA","Hikaru","男",20050629,3,null,"2005","第４支部"]
[540,45221,"石井","宗次郎","ｲｼｲ","ｿｳｼﾞﾛｳ","ISHII","Soujirou","男",20060418,2,null,"2006","第４支部"]
[541,45222,"大和田","魁","ｵｵﾜﾀﾞ","ｶｲ","OOWADA","Kai","男",20061027,2,null,"2006","第４支部"]
[542,45223,"志村","伊武季","ｼﾑﾗ","ｲﾌﾞｷ","SHIMURA","Ibuki","男",20070213,2,null,"2007","第４支部"]
[543,45224,"首藤","蓮太郎","ｼｭﾄﾞｳ","ﾚﾝﾀﾛｳ","SYUDOU","Renntarou","男",20060810,2,null,"2006","第４支部"]
[544,45225,"豊田","翼","ﾄﾖﾀﾞ","ﾂﾊﾞｻ","TOYODA","Tubasa","男",20070305,2,null,"2007","第４支部"]
[545,45251,"濵中","茉緒","ﾊﾏﾅｶ","ﾏｵ","HAMANAKA","Mao","女",20060815,2,null,"2006","第４支部"]
[546,45301,"小出","秀政","ｺｲﾃﾞ","ﾋﾃﾞﾏｻ","KOIDE","Hidemasa","男",20060621,2,null,"2006","第４支部"]
[547,45302,"河田","凌","ｶﾜﾀ","ﾘｮｳ","KAWATA","Ryo","男",20060718,2,null,"2006","第４支部"]
[548,45303,"山下","悠斗","ﾔﾏｼﾀ","ﾊﾙﾄ","YAMASHITA","Haruto","男",20060412,2,null,"2006","第４支部"]
[549,45304,"大野","隆盛","ｵｵﾉ","ﾘｭｳｾｲ","ONO","Ryusei","男",20060617,2,null,"2006","第４支部"]
[550,45305,"溝口","新大","ﾐｿﾞｸﾞﾁ","ｱﾗﾀ","MIZOGUCHI","Arata","男",20060925,2,null,"2006","第４支部"]
[551,45306,"藤原","多文","ﾌｼﾞﾜﾗ","ﾀﾓﾝ","FUJIWARA","Tamon","男",20061011,2,null,"2006","第４支部"]
[552,45307,"森本","恒正","ﾓﾘﾓﾄ","ｺｳｾｲ","MORIMOTO","Kosei","男",20060530,2,null,"2006","第４支部"]
[553,45308,"小宮","快都","ｺﾐﾔ","ｶｲﾄ","KOMIYA","Kaito","男",20061026,2,null,"2006","第４支部"]
[554,45309,"佐々木","大雅","ｻｻｷ","ﾀｲｶﾞ","SASAKI","Taiga","男",20060907,2,null,"2006","第４支部"]
[555,45319,"北川","直樹","ｷﾀｶﾞﾜ","ﾅｵｷ","KITAGAWA","Naoki","男",20061205,2,null,"2006","第４支部"]
[556,45322,"山崎","優虎","ﾔﾏｻﾞｷ","ﾏｻﾄﾗ","YAMAZAKI","Masatora","男",20061012,2,null,"2006","第４支部"]
[557,45323,"園田","誠一郎","ｿﾉﾀﾞ","ｾｲｲﾁﾛｳ","SONODA","Seiichiro","男",20060513,2,null,"2006","第４支部"]
[558,45325,"上條","弘雅","ｶﾐｼﾞｮｳ","ｺｳｶﾞ","KAMIJYO","Koga","男",20060502,2,null,"2006","第４支部"]
[559,45328,"玉田","修雅","ﾀﾏﾀﾞ","ｼｭｳｶﾞ","TAMADA","Shuga","男",20070228,2,null,"2007","第４支部"]
[560,45329,"西地","欧輔","ﾆｼﾁﾞ","ｵｳｽｹ","NISHIDI","Osuke","男",20070101,2,null,"2007","第４支部"]
[561,45330,"玉木","康介","ﾀﾏｷ","ｺｳｽｹ","TAMAKI","Kosuke","男",20051201,3,null,"2005","第４支部"]
[562,45331,"藤井","隼矢","ﾌｼﾞｲ","ﾄｼﾔ","FUJII","Toshiya","男",20050711,3,null,"2005","第４支部"]
[563,45332,"成田","倭","ﾅﾘﾀ","ﾔﾏﾄ","NARITA","Yamato","男",20050921,3,null,"2005","第４支部"]
[564,45333,"中村","祥成","ﾅｶﾑﾗ","ｼｮｳﾅ","NAKAMURA","Shona","男",20050515,3,null,"2005","第４支部"]
[565,45334,"遠山","魁","ﾄｵﾔﾏ","ｶｲ","TOYAMA","Kai","男",20050913,3,null,"2005","第４支部"]
[566,45335,"森田","一優","ﾓﾘﾀ","ｶｽﾞﾏ","MORITA","Kazuma","男",20050718,3,null,"2005","第４支部"]
[567,45336,"神﨑","琥太郎","ｶﾝｻﾞｷ","ｺﾀﾛｳ","KANZAKI","Kotaro","男",20070315,2,null,"2007","第４支部"]
[568,45337,"金子","休太郎","ｶﾈｺ","ｷｭｳﾀﾛｳ","KANEKO","Kyutaro","男",20070303,2,null,"2007","第４支部"]
[569,45338,"中尾","篤喜","ﾅｶｵ","ｱﾂｷ","NAKAO","Atsuki","男",20070303,2,null,"2007","第４支部"]
[570,45339,"藤本","颯人","ﾌｼﾞﾓﾄ","ﾊﾔﾄ","FUJIMOTO","Hayato","男",20061115,2,null,"2006","第４支部"]
[571,45340,"工藤","優太","ｸﾄﾞｳ","ﾕｳﾀ","KUDO","Yuta","男",20061008,2,null,"2006","第４支部"]
[572,45341,"高久","耀大","ﾀｶｸ","ﾖｳﾀﾞｲ","TAKAKU","Yodai","男",20061005,2,null,"2006","第４支部"]
[573,45342,"中村","聡宏","ﾅｶﾑﾗ","ｱｷﾋﾛ","NAKAMURA","Akihiro","男",20061227,2,null,"2006","第４支部"]
[574,45343,"廣田","大葵","ﾋﾛﾀ","ﾀﾞｲｷ","HIROTA","Daiki","男",20061117,2,null,"2006","第４支部"]
[575,45344,"吉村","和哉","ﾖｼﾑﾗ","ｶｽﾞﾔ","YOSHIMURA","Kazuya","男",20060818,2,null,"2006","第４支部"]
[576,45345,"坂本","昂大","ｻｶﾓﾄ","ｺｳﾀ","SAKAMOTO","Kota","男",20061220,2,null,"2006","第４支部"]
[577,45346,"伊藤","小太朗","ｲﾄｳ","ｺﾀﾛｳ","ITO","Kotaro","男",20070121,2,null,"2007","第４支部"]
[578,45347,"吉田","裕","ﾖｼﾀﾞ","ﾕｳ","YOSHIDA","Yu","男",20060804,2,null,"2006","第４支部"]
[579,45348,"橋本","東吾","ﾊｼﾓﾄ","ﾄｳｺﾞ","HASHIMOTO","Togo","男",20060807,2,null,"2006","第４支部"]
[580,45349,"伊藤","蒼平","ｲﾄｳ","ｿｳﾍｲ","ITO","Sohei","男",20070226,2,null,"2007","第４支部"]
[581,45350,"川端","元喜","ｶﾜﾊﾞﾀ","ｹﾞﾝｷ","KAWABATA","Genki","男",20070302,2,null,"2007","第４支部"]
[582,45351,"佐々木","正豪","ｻｻｷ","ｾｲｺﾞｳ","SASAKI","Seigo","男",20060601,2,null,"2006","第４支部"]
[583,45402,"渡邉","優太","ﾜﾀﾅﾍﾞ","ﾕｳﾀ","WATANABE","Yuta","男",20050417,3,null,"2005","第４支部"]
[584,45633,"佐藤","有真","ｻﾄｳ","ﾕｳｼﾝ","SATO","Yushin","男",20060909,2,null,"2006","第４支部"]
[585,45634,"千田","歩","ｾﾝﾀﾞ","ｱﾕﾑ","SENDA","Ayumu","男",20061125,2,null,"2006","第４支部"]
[586,45635,"田中","颯人","ﾀﾅｶ","ﾊﾔﾄ","TANAKA","Hayato","男",20061210,2,null,"2006","第４支部"]
[587,45636,"並木","碧覇","ﾅﾐｷ","ｱｵﾊﾞ","NAMIKI","Aoba","男",20070110,2,null,"2007","第４支部"]
[588,45637,"福田","隼颯","ﾌｸﾀﾞ","ﾊﾔﾃ","FUKUDA","Hayate","男",20060808,2,null,"2006","第４支部"]
[589,45638,"吉井","陽太郎","ﾖｼｲ","ﾖｳﾀﾛｳ","YOSHII","Yotaro","男",20061228,2,null,"2006","第４支部"]
[590,45701,"内海","友希","ｳﾂﾐ","ﾕｳｷ","UTSUMI","Yuki","男",20060606,2,null,"2006","第４支部"]
[591,45702,"田中","琢海","ﾀﾅｶ","ﾀｸﾐ","TANAKA","Takumi","男",20061004,2,null,"2006","第４支部"]
[592,45703,"保坂","健太郎","ﾎｻｶ","ｹﾝﾀﾛｳ","HOSAKA","Kentaro","男",20060906,2,null,"2006","第４支部"]
[593,45747,"新","大輝","ｱﾀﾗｼ","ﾀｲｷ","ATARASHI","Taiki","男",20050718,3,null,"2005","第４支部"]
[594,45749,"鈴木","涼大","ｽｽﾞｷ","ﾘｮｳﾀ","SUZUKI","Ryota","男",20050615,3,null,"2005","第４支部"]
[595,45750,"福王","勘太","ﾌｸｵｳ","ｶﾝﾀ","FUKUO","Kanta","男",20060205,3,null,"2006","第４支部"]
[596,45751,"濵田","啓那","ﾊﾏﾀﾞ","ｹｲﾅ","HAMADA","Keina","男",20050919,3,null,"2005","第４支部"]
[597,45766,"耕野","瑠杏","ｺｳﾉ","ﾙｱﾝ","KONO","Ruan","女",20051206,3,null,"2005","第４支部"]
[598,45767,"中村","莉乃","ﾅｶﾑﾗ","ﾘﾉ","NAKAMURA","Rino","女",20051004,3,null,"2005","第４支部"]
[599,45768,"川原","りえ","ｶﾜﾊﾗ","ﾘｴ","KAWAHARA","Rie","女",20070221,2,null,"2007","第４支部"]
[600,45923,"今井","龍伍","ｲﾏｲ","ﾘｭｳｺﾞ","IMAI","Ryugo","男",20050630,3,null,"2005","第４支部"]
[601,45924,"松本","昂大","ﾏﾂﾓﾄ","ｺｳﾀﾞｲ","MATSUMOTO","Kodai","男",20050510,3,null,"2005","第４支部"]
[602,45925,"石井","侑汰","ｲｼｲ","ﾕｳﾀ","ISHII","Yuta","男",20060907,2,null,"2006","第４支部"]
[603,45926,"小泉","広海","ｺｲｽﾞﾐ","ﾋﾛﾐ","KOIZUMI","Hiromi","男",20060718,2,null,"2006","第４支部"]
[604,45927,"西原","蒼真","ﾆｼﾊﾗ","ｿｳﾏ","NISHIHARA","Soma","男",20061023,2,null,"2006","第４支部"]
[605,45928,"目代","煌瑛","ﾒﾀﾞｲ","ｺｳｴｲ","MEDAI","Kouei","男",20060611,2,null,"2006","第４支部"]
[606,45929,"和山","喬史","ﾜﾔﾏ","ﾀｶｼ","WAYAMA","Takashi","男",20070128,2,null,"2007","第４支部"]
[607,45930,"大河原","颯","ｵｵｶﾜﾗ","ﾘｭｳ","OKAWARA","Ryu","男",20050516,2,null,"2005","第４支部"]
[608,45951,"山田","真子","ﾔﾏﾀﾞ","ﾏｺ","YAMADA","Mako","女",20060719,2,null,"2006","第４支部"]
[609,45952,"窪田","光夏","ｸﾎﾞﾀ","ﾐｶ","KUBOTA","Mika","女",20060706,2,null,"2006","第４支部"]
[610,45953,"須藤","千空","ｽﾄﾞｳ","ﾁﾋﾛ","SUDO","Chihiro","女",20070221,2,null,"2007","第４支部"]
[611,45954,"屋","なつ","ｵｸ","ﾅﾂ","OKU","Natsu","女",20060516,2,null,"2006","第４支部"]
[612,45955,"笹室","生路","ｻｻﾑﾛ","ﾓﾐｼﾞ","SASAMURO","Momiji","女",20070201,2,null,"2007","第４支部"]
[613,45996,"瀧井","柚希","ﾀｷｲ","ﾕｽﾞｷ","TAKII","Yuzuki","女",20060129,3,null,"2006","第４支部"]
[614,45997,"松井","南慧","ﾏﾂｲ","ﾐｻﾄ","MATSUI","Misato","女",20060126,3,null,"2006","第４支部"]
[615,45998,"三ノ上","奏愛","ﾐﾉｶﾐ","ｶﾅｴ","MINOKAMI","Kanae","女",20060215,3,null,"2006","第４支部"]
[616,46018,"片山","空乃助","ｶﾀﾔﾏ","ｿﾗﾉｽｹ","KATAYAMA","Soranosuke","男",20050604,3,null,"2005","第４支部"]
[617,46019,"金澤","侑生","ｶﾅｻﾞﾜ","ﾕｳｾｲ","KANAZAWA","Yusei","男",20060105,3,null,"2006","第４支部"]
[618,46020,"宮原","生明","ﾐﾔﾊﾗ","ｼｮｳﾒｲ","MIYAHARA","Shomei","男",20051212,3,null,"2005","第４支部"]
[619,46021,"吉本","尚之","ﾖｼﾓﾄ","ﾅｵﾕｷ","YOSHIMOTO","Naoyuki","男",20051117,3,null,"2005","第４支部"]
[620,46022,"小林","真心","ｺﾊﾞﾔｼ","ﾏｻﾑﾈ","KOBAYASHI","Masamune","男",20051208,3,null,"2005","第４支部"]
[621,46023,"今吉","悠登","ｲﾏﾖｼ","ﾕｳﾄ","IMAYOSHI","Yuto","男",20051107,3,null,"2005","第４支部"]
[622,46024,"大堀","豊","ｵｵﾎﾘ","ﾕﾀｶ","OHORI","Yutaka","男",20050502,3,null,"2005","第４支部"]
[623,46025,"川崎","晃平","ｶﾜｻｷ","ｺｳﾍｲ","KAWASAKI","Kohei","男",20060425,2,null,"2006","第４支部"]
[624,46026,"吉岡","典馬","ﾖｼｵｶ","ﾃﾝﾏ","YOSHIOKA","Temma","男",20060603,2,null,"2006","第４支部"]
[625,46027,"加藤","心","ｶﾄｳ","ｼﾝ","KATO","Shin","男",20061212,2,null,"2006","第４支部"]
[626,46028,"水野","智弥","ﾐｽﾞﾉ","ﾄﾓﾔ","MIZUNO","Tomoya","男",20060524,2,null,"2006","第４支部"]
[627,46029,"木村","昇太郎","ｷﾑﾗ","ｼｮｳﾀﾛｳ","KIMURA","Shotaro","男",20061029,2,null,"2006","第４支部"]
[628,46030,"阿部","蓮太郎","ｱﾍﾞ","ﾚﾝﾀﾛｳ","ABE","Rentarou","男",20060904,2,null,"2006","第４支部"]
[629,46031,"笠井","皓太","ｶｻｲ","ｺｳﾀ","KASAI","Kota","男",20060527,2,null,"2006","第４支部"]
[630,46032,"西森","葵翔","ﾆｼﾓﾘ","ｱｵﾄ","NISHIMORI","Aoto","男",20060801,2,null,"2006","第４支部"]
[631,46033,"浅野","優太","ｱｻﾉ","ﾕｳﾀ","ASANO","Yuta","男",20061101,2,null,"2006","第４支部"]
[632,46034,"佐々木","快","ｻｻｷ","ｶｲ","SASAKI","Kai","男",20070308,2,null,"2007","第４支部"]
[633,46035,"小渕","亮太朗","ｺﾌﾞﾁ","ﾘｮｳﾀﾛｳ","KOBUCHI","Ryotaro","男",20050831,3,null,"2005","第４支部"]
[634,46036,"久保","拓人","ｸﾎﾞ","ﾀｸﾄ","KUBO","Takuto","男",20050617,3,null,"2005","第４支部"]
[635,46055,"中山","えみ","ﾅｶﾔﾏ","ｴﾐ","NAKAYAMA","Emi","女",20051212,3,null,"2005","第４支部"]
[636,46056,"寺川","奈那","ﾃﾗｶﾜ","ﾅﾅ","TERAKAWA","Nana","女",20050601,3,null,"2005","第４支部"]
[637,46057,"木保","心花","ｷﾔｽ","ｺﾉｶ","KIYASU","Konoka","女",20050407,3,null,"2005","第４支部"]
[638,46058,"古川","恵","ﾌﾙｶﾜ","ﾒｸﾞﾐ","FURUKAWA","Megumi","女",20050903,3,null,"2005","第４支部"]
[639,46059,"太田","真緒","ｵｵﾀ","ﾏｵ","OTA","Mao","女",20050715,3,null,"2005","第４支部"]
[640,46060,"佐伯","日向子","ｻｴｷ","ﾋﾅｺ","SAEKI","Hinako","女",20050921,3,null,"2005","第４支部"]
[641,46061,"臼居","歩実","ｳｽｲ","ｱﾕﾐ","USUI","Ayumi","女",20060531,2,null,"2006","第４支部"]
[642,46062,"澤田","理佳","ｻﾜﾀﾞ","ﾘｶ","SAWADA","Rika","女",20061226,2,null,"2006","第４支部"]
[643,46063,"谷浦","花怜","ﾀﾆｳﾗ","ｶﾘﾝ","TANIURA","Karin","女",20061108,2,null,"2006","第４支部"]
[644,46064,"篠澤","舞子","ｼﾉｻﾞﾜ","ﾏｲｺ","SHINOZAWA","Maiko","女",20061217,2,null,"2006","第４支部"]
[645,46065,"鈴木","美桜","ｽｽﾞｷ","ﾐｵ","SUZUKI","Mio","女",20070223,2,null,"2007","第４支部"]
[646,46066,"岡田","華奈","ｵｶﾀﾞ","ﾊﾅ","OKADA","Hana","女",20060807,2,null,"2006","第４支部"]
[647,46067,"駒井","彩花","ｺﾏｲ","ｱﾔｶ","KOMAI","Ayaka","女",20060603,2,null,"2006","第４支部"]
[648,46068,"村上","仁美","ﾑﾗｶﾐ","ﾋﾄﾐ","MURAKAMI","Hitomi","女",20070327,2,null,"2007","第４支部"]
[649,46069,"小宮","紬","ｺﾐﾔ","ﾂﾑｷﾞ","KOMIYA","Tsumugi","女",20060402,2,null,"2006","第４支部"]
[650,46070,"本間","樹乃","ﾎﾝﾏ","ｷﾉ","HOMMA","Kino","女",20060703,2,null,"2006","第４支部"]
[651,46071,"山村","穂波","ﾔﾏﾑﾗ","ﾎﾅﾐ","YAMAMURA","Honami","女",20061029,2,null,"2006","第４支部"]
[652,46072,"礒根","葵","ｲｿﾈ","ｱｵｲ","ISONE","Aoi","女",20061011,2,null,"2006","第４支部"]
[653,46073,"古市","蒼","ﾌﾙｲﾁ","ｱｵｲ","FURUICHI","Aoi","女",20060418,2,null,"2006","第４支部"]
[654,46074,"宮﨑","すみれ","ﾐﾔｻﾞｷ","ｽﾐﾚ","MIYAZAKI","Sumire","女",20070125,2,null,"2007","第４支部"]
[655,46416,"佐藤","優心","ｻﾄｳ","ﾕｳｽｹ","SATOU","Yusuke","男",20050628,3,null,"2005","第４支部"]
[656,46417,"谷口","洸人","ﾀﾆｸﾞﾁ","ﾐﾂﾄ","TANIGUTI","Mituto","男",20050826,3,null,"2005","第４支部"]
[657,46418,"市川","拓斗","ｲﾁｶﾜ","ﾀｸﾄ","ITIKAWA","Takuto","男",20050408,3,null,"2005","第４支部"]
[658,46419,"上田","慶","ｳｴﾀﾞ","ｹｲ","UEDA","Kei","男",20050624,3,null,"2005","第４支部"]
[659,46420,"加藤","聡一郎","ｶﾄｳ","ｿｳｲﾁﾛｳ","KATO","Souichirou","男",20051211,3,null,"2005","第４支部"]
[660,46421,"白澤","正和","ｼﾗｻﾜ","ﾏｻﾖｼ","SHIRASAWA","Masayoshi","男",20061201,2,null,"2006","第４支部"]
[661,46422,"中川","大和","ﾅｶｶﾞﾜ","ﾔﾏﾄ","NAKAGAWA","Yamato","男",20060424,2,null,"2006","第４支部"]
[662,46423,"二瓶","巧麿","ﾆﾍｲ","ﾀｸﾏ","NIHEI","Takuma","男",20060717,2,null,"2006","第４支部"]
[663,46424,"山﨑","聡三郎","ﾔﾏｻﾞｷ","ｿｳｻﾌﾞﾛｳ","YAMAZAKI","Sousaburou","男",20070115,2,null,"2007","第４支部"]
[664,46502,"桑原","大地","ｸﾜﾊﾞﾗ","ﾀﾞｲﾁ","KUWABARA","Daichi","男",20061031,2,null,"2006","第４支部"]
[665,46503,"澤石","青波","ｻﾜｲｼ","ｱｵﾊﾞ","SAWAISHI","Aoba","男",20070120,2,null,"2007","第４支部"]
[666,46507,"熊崎","陸","ｸﾏｻﾞｷ","ﾘｸ","KUMAZAKI","Riku","男",20061003,2,null,"2006","第４支部"]
[667,46510,"松永","貫太郎","ﾏﾂﾅｶﾞ","ｶﾝﾀﾛｳ","MATSUNAGA","Kantaro","男",20061105,2,null,"2006","第４支部"]
[668,46511,"齊藤","陽翔","ｻｲﾄｳ","ﾊﾙﾄ","SAITO","Haruto","男",20060912,2,null,"2006","第４支部"]
[669,46512,"清水","星斗","ｼﾐｽﾞ","ｾｲﾄ","SHIMIZU","Seito","男",20060509,2,null,"2006","第４支部"]
[670,46514,"堀江","悠太","ﾎﾘｴ","ﾕｳﾀ","HORIE","Yuta","男",20070318,2,null,"2007","第４支部"]
[671,46515,"髙林","菱","ﾀｶﾊﾞﾔｼ","ﾘｮｳ","TAKABAYASHI","Ryo","男",20060413,2,null,"2006","第４支部"]
[672,46516,"寺田","直人","ﾃﾗﾀﾞ","ﾅｵﾄ","TEADA","Naoto","男",20061205,2,null,"2006","第４支部"]
[673,46517,"後藤","隆徳","ｺﾞﾄｳ","ﾀｶﾉﾘ","GOTO","Takanori","男",20061208,2,null,"2006","第４支部"]
[674,46518,"中村","亘佑","ﾅｶﾑﾗ","ｺｳｽｹ","NAKAMURA","Kosuke","男",20070216,2,null,"2007","第４支部"]
[675,46520,"飯國","新太","ｲｲｸﾞﾆ","ｱﾗﾀ","IIGUNI","Arata","男",20050924,3,null,"2005","第４支部"]
[676,46521,"及川","雄翔","ｵｲｶﾜ","ﾕｳﾄ","OIKAWA","Yuto","男",20051226,3,null,"2005","第４支部"]
[677,46522,"添田","陽大","ｿｴﾀ","ﾋﾅﾀ","SOETA","Hinata","男",20050531,3,null,"2005","第４支部"]
[678,46523,"土屋","昊大","ﾂﾁﾔ","ｺｳﾀ","TSUCHIYA","Kouta","男",20051017,3,null,"2005","第４支部"]
[679,46524,"寺田","向希","ﾃﾗﾀﾞ","ｺｳｷ","TERADA","Koki","男",20050922,3,null,"2005","第４支部"]
[680,46526,"藤尾","岳穂","ﾌｼﾞｵ","ﾀｹﾎ","FUJIO","Takeho","男",20051014,3,null,"2005","第４支部"]
[681,46527,"松﨑","陽","ﾏﾂｻﾞｷ","ﾊﾙ","MATUZAKI","Haru","男",20051118,3,null,"2005","第４支部"]
[682,46530,"山下","翔吾","ﾔﾏｼﾀ","ｼｮｳｺﾞ","YAMASHITA","Shogo","男",20060303,3,null,"2006","第４支部"]
[683,46531,"山本","晄太郎","ﾔﾏﾓﾄ","ｺｳﾀﾛｳ","YAMAMOTO","Kotaro","男",20050907,3,null,"2005","第４支部"]
[684,46535,"中津","将真","ﾅｶﾂ","ｼｮｳﾏ","NAKATSU","Shoma","男",20050916,3,null,"2005","第４支部"]
[685,46536,"蓼沼","瑛史","ﾀﾃﾞﾇﾏ","ｴｲｼﾞ","TADENUMA","Eiji","男",20050412,3,null,"2005","第４支部"]
[686,46537,"橋本","健汰","ﾊｼﾓﾄ","ｹﾝﾀ","HASHIMOTO","Kenta","男",20051212,3,null,"2005","第４支部"]
[687,46538,"山口","雄太郎","ﾔﾏｸﾞﾁ","ﾕｳﾀﾛｳ","YAMAGUCHI","Yutaro","男",20050519,3,null,"2005","第４支部"]
[688,46539,"竹内","克彰","ﾀｹｳﾁ","ｶﾂｱｷ","TAKEUCHI","Katsuaki","男",20050709,3,null,"2005","第４支部"]
[689,46540,"前山","智彦","ﾏｴﾔﾏ","ﾄﾓﾋｺ","MAEYAMA","Tomohiko","男",20050513,3,null,"2005","第４支部"]
[690,46541,"石山","知貴","ｲｼﾔﾏ","ﾄﾓｷ","ISHIYAMA","Tomoki","男",20051005,3,null,"2005","第４支部"]
[691,46542,"田中","雅大","ﾀﾅｶ","ﾏｻﾄ","TANAKA","Masato","男",20050826,3,null,"2005","第４支部"]
[692,46543,"横山","雄太","ﾖｺﾔﾏ","ﾕｳﾀ","YOKOYAMA","Yuta","男",20051219,3,null,"2005","第４支部"]
[693,46544,"阿部","晃大","ｱﾍﾞ","ｺｳﾀﾞｲ","ABE","Kodai","男",20061025,2,null,"2006","第４支部"]
[694,46545,"大朝","智也","ｵｵｱｻ","ﾄﾓﾔ","OASA","Tomoya","男",20060424,2,null,"2006","第４支部"]
[695,46546,"那須","遼司","ﾅｽ","ﾘｮｳｼﾞ","NASU","Ryoji","男",20061103,2,null,"2006","第４支部"]
[696,46547,"平田","結将","ﾋﾗﾀ","ﾕｳｼｮｳ","HIRATA","Yusho","男",20061214,2,null,"2006","第４支部"]
[697,46554,"大川","心愛","ｵｵｶﾜ","ｺｺｱ","OKAWA","Kokoa","女",20050616,3,null,"2005","第４支部"]
[698,46556,"髙山","陽華","ﾀｶﾔﾏ","ﾊﾙｶ","TAKAYAMA","Haruka","女",20060905,2,null,"2006","第４支部"]
[699,46557,"髙橋","遙佳","ﾀｶﾊｼ","ﾊﾙｶ","TAKAHASHI","Haruka","女",20070204,2,null,"2007","第４支部"]
[700,46558,"羽田","美桜","ﾊﾀ","ﾐｵ","HATA","Mio","女",20060412,2,null,"2006","第４支部"]
[701,46559,"嶺元","心響","ﾐﾈﾓﾄ","ｺｺﾅ","MINEMOTO","Kokona","女",20050804,3,null,"2005","第４支部"]
[702,46563,"中島","凛佳","ﾅｶｼﾞﾏ","ﾘﾝｶ","NAKAJIMA","Rinka","女",20050422,3,null,"2005","第４支部"]
[703,46564,"畠山","咲陽子","ﾊﾀｹﾔﾏ","ｻﾖｺ","HATAKEYAMA","Sayoko","女",20050927,3,null,"2005","第４支部"]
[704,46728,"加光","智哉","ｶｺｳ","ﾄﾓﾔ","KAKO","Tomoya","男",20061020,2,null,"2006","第４支部"]
[705,46729,"加納","名流","ｶﾉｳ","ﾅﾙ","KANOH","Naru","男",20060619,2,null,"2006","第４支部"]
[706,46730,"小林","創太","ｺﾊﾞﾔｼ","ｿｳﾀ","KOBAYASHI","Sota","男",20060529,2,null,"2006","第４支部"]
[707,46731,"篠原","一詞","ｼﾉﾊﾗ","ｶｽﾞｼ","SHINOHARA","Kazushi","男",20060505,2,null,"2006","第４支部"]
[708,46772,"遠藤","実友","ｴﾝﾄﾞｳ","ﾏｺﾄ","ENDOU","Makoto","女",20060107,3,null,"2006","第４支部"]
[709,46773,"遠藤","望央","ｴﾝﾄﾞｳ","ﾐｵ","ENDOU","Mio","女",20050911,3,null,"2005","第４支部"]
[710,46774,"川合","穂花","ｶﾜｲ","ﾎﾉｶ","KAWAI","Honoka","女",20060328,3,null,"2006","第４支部"]
[711,46775,"窪田","安純","ｸﾎﾞﾀ","ｱｽﾞﾐ","KUBOTA","Azumi","女",20050919,3,null,"2005","第４支部"]
[712,46776,"鈴木","心乃","ｽｽﾞｷ","ｺｺﾉ","SUZUKI","Kokono","女",20060214,3,null,"2006","第４支部"]
[713,46777,"竹内","海音","ﾀｹｳﾁ","ﾐﾄ","TAKEUCHI","Mito","女",20060113,3,null,"2006","第４支部"]
[714,46778,"橋本","真依","ﾊｼﾓﾄ","ﾏｲ","HASHIMOTO","Mai","女",20050607,3,null,"2005","第４支部"]
[715,46779,"原","優花","ﾊﾗ","ﾕｳｶ","HARA","Yuuka","女",20050612,3,null,"2005","第４支部"]
[716,46780,"平岩","栞","ﾋﾗｲﾜ","ｼｵﾘ","HIRAIWA","Shiori","女",20050703,3,null,"2005","第４支部"]
[717,46781,"茂木","美蕾","ﾓﾃｷﾞ","ﾐﾗｲ","MOTEGI","Mirai","女",20050422,3,null,"2005","第４支部"]
[718,46782,"渡邊","環菜","ﾜﾀﾅﾍﾞ","ｶﾝﾅ","WATANABE","Kanna","女",20051207,3,null,"2005","第４支部"]
[719,46783,"上新","望月","ｳｴｼﾝ","ﾐﾂｷ","UESHIN","Mitsuki","女",20060509,2,null,"2006","第４支部"]
[720,46784,"長内","花歩","ｵｻﾅｲ","ｶﾎ","OSANAI","Kaho","女",20060509,2,null,"2006","第４支部"]
[721,46786,"鈴木","心美","ｽｽﾞｷ","ｺｺﾐ","SUZUKI","Kokomi","女",20060828,2,null,"2006","第４支部"]
[722,46787,"西澤","絢梨","ﾆｼｻﾞﾜ","ｱﾔﾘ","NISHIZAWA","Ayari","女",20060410,2,null,"2006","第４支部"]
[723,46788,"藤原","菜緒","ﾌｼﾞﾜﾗ","ﾅｵ","FUJIWARA","Nao","女",20060407,2,null,"2006","第４支部"]
[724,46789,"八島","心結子","ﾔｼﾏ","ﾐﾕｺ","YASHIMA","Miyuko","女",20061031,2,null,"2006","第４支部"]
[725,46801,"安田","颯太","ﾔｽﾀﾞ","ｿｳﾀ","YASUDA","Sota","男",20050806,3,null,"2005","第４支部"]
[726,46802,"石附","柊太","ｲｼﾂﾞｷ","ｼｭｳﾀ","ISHIZUKI","Shuta","男",20061030,2,null,"2006","第４支部"]
[727,46803,"小澤","麟太郎","ｵｻﾞﾜ","ﾘﾝﾀﾛｳ","OZAWA","Rintaro","男",20060427,2,null,"2006","第４支部"]
[728,46804,"竹井","文紀","ﾀｹｲ","ﾌﾐﾉﾘ","TAKEI","Fuminori","男",20060521,2,null,"2006","第４支部"]
[729,46805,"鳥居","祥太","ﾄﾘｲ","ｼｮｳﾀ","TORII","Shota","男",20061203,2,null,"2006","第４支部"]
[730,46806,"安野","颯悟","ﾔｽﾉ","ｿｳｺﾞ","YASUNO","Sogo","男",20060410,2,null,"2006","第４支部"]
[731,46846,"大住","悠","ｵｵｽﾐ","ﾕｳ","OHSUMI","Yu","男",20050529,3,null,"2005","第４支部"]
[732,46847,"久保田","大翔","ｸﾎﾞﾀ","ﾋﾛﾄ","KUBOTA","Hiroto","男",20060209,3,null,"2006","第４支部"]
[733,46848,"中川","雄太","ﾅｶｶﾞﾜ","ﾕｳﾀ","NAKAGAWA","Yuta","男",20050430,3,null,"2005","第４支部"]
[734,46849,"増田","光希","ﾏｽﾀﾞ","ﾐﾂｷ","MASUDA","Mitsuki","男",20051202,3,null,"2005","第４支部"]
[735,46850,"室田","亮輔","ﾑﾛﾀ","ﾘｮｳｽｹ","MUROTA","Ryosuke","男",20060209,3,null,"2006","第４支部"]
[736,46851,"大村","仁美","ｵｵﾑﾗ","ﾋﾄﾐ","OMURA","Hitomi","女",20070112,2,null,"2007","第４支部"]
[737,46852,"千足","春花","ﾁｱｼ","ﾊﾙｶ","CHIASHI","Haruka","女",20061231,2,null,"2006","第４支部"]
[738,46894,"高田","茉奈","ﾀｶﾀﾞ","ﾏﾅ","TAKADA","Mana","女",20050430,3,null,"2005","第４支部"]
[739,46895,"富沢","佑華梨","ﾄﾐｻﾞﾜ","ﾕｶﾘ","TOMIZAWA","Yukari","女",20050628,3,null,"2005","第４支部"]
[740,46896,"中川","咲世","ﾅｶｶﾞﾜ","ｻﾖ","NAKAGAWA","Sayo","女",20050807,3,null,"2005","第４支部"]
[741,46897,"中野","舞子","ﾅｶﾉ","ﾏｲｺ","NAKANO","Maiko","女",20050522,3,null,"2005","第４支部"]
[742,46898,"加藤","綾萌","ｶﾄｳ","ｱﾔﾒ","KATO","Ayame","女",20060720,2,null,"2006","第４支部"]
[743,46899,"木村","日結","ｷﾑﾗ","ﾋﾕ","KIMURA","Hiyu","女",20070115,2,null,"2007","第４支部"]
[744,46919,"柏","優希","ｶｼﾜ","ﾕｳｷ","KASHIWA","Yuuki","男",20060508,2,null,"2006","第４支部"]
[745,46920,"髙橋","琉真","ﾀｶﾊｼ","ﾘｭｳﾏ","TAKAHASHI","Ryuma","男",20061210,2,null,"2006","第４支部"]
[746,46921,"野林","紫朗","ﾉﾊﾞﾔｼ","ｼﾛｳ","NOBAYASHI","Shiro","男",20060813,2,null,"2006","第４支部"]
[747,46922,"山口","大樹","ﾔﾏｸﾞﾁ","ﾀｲｷ","YAMAGUCHI","Taiki","男",20070123,2,null,"2007","第４支部"]
[748,46923,"冨本","晄玄","ﾄﾐﾓﾄ","ｱｷﾋﾛ","TOMIMOTO","Akihiro","男",20070122,2,null,"2007","第４支部"]
[749,46924,"服部","香春","ﾊｯﾄﾘ","ｶﾜﾗ","HATTORI","Kawara","男",20061120,2,null,"2006","第４支部"]
[750,46975,"田宮","美優","ﾀﾐﾔ","ﾐﾕｳ","TAMIYA","Miyuu","女",20060204,3,null,"2006","第４支部"]
[751,46976,"辻","七海","ﾂｼﾞ","ﾅﾅﾐ","TSUJI","Nanami","女",20051122,3,null,"2005","第４支部"]
[752,47020,"上野","優太","ｱｶﾞﾉ","ﾕｳﾀ","AGANO","Yuta","男",20051106,3,null,"2005","第４支部"]
[753,47021,"渥美","陽仁","ｱﾂﾐ","ﾊﾙﾄ","ATSUMI","Haruto","男",20050722,3,null,"2005","第４支部"]
[754,47022,"岩崎","陵央","ｲﾜｻｷ","ﾘｮｳ","IWASAKI","Ryo","男",20060110,3,null,"2006","第４支部"]
[755,47023,"小倉","陵太郎","ｵｸﾞﾗ","ﾘｮｳﾀﾛｳ","OGURA","Ryotaro","男",20050927,3,null,"2005","第４支部"]
[756,47024,"曽我","和弘","ｿｶﾞ","ｶｽﾞﾋﾛ","SOGA","Kazuhiro","男",20051130,3,null,"2005","第４支部"]
[757,47025,"俵","京平","ﾀﾜﾗ","ｷｮｳﾍｲ","TAWARA","Kyohei","男",20051027,3,null,"2005","第４支部"]
[758,47026,"中原","琉樹","ﾅｶﾊﾗ","ﾘｭｳｷ","NAKAHARA","Ryuki","男",20060326,3,null,"2006","第４支部"]
[759,47027,"黒田","湊","ｸﾛﾀﾞ","ﾐﾅﾄ","KURODA","Minato","男",20050923,3,null,"2005","第４支部"]
[760,47028,"本多","倫太郎","ﾎﾝﾀﾞ","ﾘﾝﾀﾛｳ","HONDA","Rintaro","男",20050518,3,null,"2005","第４支部"]
[761,47029,"石坂","月斗","ｲｼｻﾞｶ","ﾂｷﾄ","ISHIZAKA","Tsukito","男",20060306,3,null,"2006","第４支部"]
[762,47030,"橋本","結次郎","ﾊｼﾓﾄ","ﾕｳｼﾞﾛｳ","HASHIMOTO","Yujiro","男",20050930,3,null,"2005","第４支部"]
[763,47031,"塚原","琉資","ﾂｶﾊﾗ","ﾘｭｳｽｹ","TSUKAHARA","Ryusuke","男",20050629,3,null,"2005","第４支部"]
[764,47032,"佐野","玄武","ｻﾉ","ﾊﾙﾀｹ","SANO","Harutake","男",20060219,3,null,"2006","第４支部"]
[765,47033,"大村","歩夢","ｵｵﾑﾗ","ｱﾕﾑ","OMURA","Ayumu","男",20060219,3,null,"2006","第４支部"]
[766,47034,"中野","康生","ﾅｶﾉ","ｺｳｾｲ","NAKANO","Kosei","男",20070221,2,null,"2007","第４支部"]
[767,47035,"関戸","陽琉","ｾｷﾄﾞ","ｱﾀﾙ","SEKIDO","Ataru","男",20070210,2,null,"2007","第４支部"]
[768,47036,"穐山","和斗","ｱｷﾔﾏ","ｶｽﾞﾄ","AKIYAMA","Kazuto","男",20050812,3,null,"2005","第４支部"]
[769,47037,"高橋","政伎","ﾀｶﾊｼ","ﾏｻｷ","TAKAHASHI","Masaki","男",20050925,3,null,"2005","第４支部"]
[770,47038,"安尾","駿","ﾔｽｵ","ｼｭﾝ","YASUO","Shun","男",20060619,2,null,"2006","第４支部"]
[771,47060,"中田","帆香","ﾅｶﾀﾞ","ﾎﾉｶ","NAKADA","Honoka","女",20060119,3,null,"2006","第４支部"]
[772,47062,"笹木","心晴","ｻｻｷ","ｺﾊﾙ","SASAKI","Koharu","女",20051214,3,null,"2005","第４支部"]
[773,47063,"河本","賀帆","ｶﾜﾓﾄ","ｶﾎ","KAWAMOTO","Kaho","女",20050502,3,null,"2005","第４支部"]
[774,47064,"坂口","遥菜","ｻｶｸﾞﾁ","ﾊﾙﾅ","SAKAGUCHI","Haruna","女",20060517,2,null,"2006","第４支部"]
[775,47065,"今泉","彩希","ｲﾏｲｽﾞﾐ","ｻｷ","IMAIZUMI","Saki","女",20060321,3,null,"2006","第４支部"]
[776,47066,"伊藤","未樹","ｲﾄｳ","ﾐｷ","ITO","Miki","女",20060718,2,null,"2006","第４支部"]
[777,47067,"髙橋","冴良","ﾀｶﾊｼ","ｻﾗ","TAKAHASHI","Sara","女",20070218,2,null,"2007","第４支部"]
[778,47068,"佐藤","愛","ｻﾄｳ","ｱｲ","SATO","Ai","女",20061108,2,null,"2006","第４支部"]
[779,47069,"加藤","乃愛","ｶﾄｳ","ﾉｱ","KATO","Noa","女",20061221,2,null,"2006","第４支部"]
[780,47070,"大熊","花怜","ｵｵｸﾏ","ｶﾚﾝ","OKUMA","Karen","女",20061002,2,null,"2006","第４支部"]
[781,47071,"三宅","菜月","ﾐﾔｹ","ﾅﾂｷ","MIYAKE","Natsuki","女",20051014,3,null,"2005","第４支部"]
[782,47101,"荒井","勇介","ｱﾗｲ","ﾕｳｽｹ","ARAI","Yusuke","男",20060422,2,null,"2006","第４支部"]
[783,47102,"近藤","雅哉","ｺﾝﾄﾞｳ","ﾏｻﾔ","KONDO","Masaya","男",20060808,2,null,"2006","第４支部"]
[784,47103,"北島","侑空","ｷﾀｼﾞﾏ","ﾕｳｸ","KITAJIMA","Yuku","男",20061121,2,null,"2006","第４支部"]
[785,47146,"羽鳥","魁","ﾊﾄﾘ","ｶｲ","HATORI","Kai","男",20051018,3,null,"2005","第４支部"]
[786,47147,"水流","慎平","ﾂﾙ","ｼﾝﾍﾟｲ","TSURU","Shimpei","男",20060316,3,null,"2006","第４支部"]
[787,47148,"樋口","裕太","ﾋｸﾞﾁ","ﾕｳﾀ","HIGUCHI","Yuta","男",20050728,3,null,"2005","第４支部"]
[788,47149,"國井","翔太","ｸﾆｲ","ｼｮｳﾀ","KUNII","Shota","男",20050421,3,null,"2005","第４支部"]
[789,47150,"近藤","優太","ｺﾝﾄﾞｳ","ﾕｳﾀ","KONDO","Yuta","男",20050424,3,null,"2005","第４支部"]
[790,47178,"村田","帆風","ﾑﾗﾀ","ﾎﾉｶ","MURATA","Honoka","女",20050517,3,null,"2005","第４支部"]
[791,47179,"加瀬","悠菜","ｶｾ","ﾊﾙﾅ","KASE","Haruna","女",20050819,3,null,"2005","第４支部"]
[792,47180,"高瀬","理恵","ﾀｶｾ","ﾘｴ","TAKASE","Rie","女",20051223,3,null,"2005","第４支部"]
[793,47181,"染谷","優寿香","ｿﾒﾔ","ﾕｽﾞｶ","SOMEYA","Yuzuka","女",20050530,3,null,"2005","第４支部"]
[794,47182,"山田","みなみ","ﾔﾏﾀﾞ","ﾐﾅﾐ","YAMADA","Minami","女",20051119,3,null,"2005","第４支部"]
[795,47183,"菅原","真緒","ｽｶﾞﾜﾗ","ﾏｵ","SUGAWARA","Mao","女",20060228,3,null,"2006","第４支部"]
[796,47184,"吉川","由珠","ｷｯｶﾜ","ﾕｽﾞ","KIKKAWA","Yuzu","女",20060131,3,null,"2006","第４支部"]
[797,47185,"菊地","海帆","ｷｸﾁ","ﾐﾎ","KIKUCHI","Miho","女",20050808,3,null,"2005","第４支部"]
[798,47186,"伊藤","美咲","ｲﾄｳ","ﾐｻｷ","ITO","Misaki","女",20051230,3,null,"2005","第４支部"]
[799,47187,"土佐","和音","ﾄｻ","ｶｽﾞﾈ","TOSA","Kazune","女",20050909,3,null,"2005","第４支部"]
[800,47188,"中嶌","美羽","ﾅｶｼﾏ","ﾐｳ","NAKASHIMA","Miu","女",20060312,3,null,"2006","第４支部"]
[801,47189,"広瀬","永奈","ﾋﾛｾ","ｴﾅ","HIROSE","Ena","女",20060114,3,null,"2006","第４支部"]
[802,47190,"山根","千明","ﾔﾏﾈ","ﾁｱｷ","YAMANE","Chiaki","女",20070314,2,null,"2007","第４支部"]
[803,47191,"安野","ひより","ﾔｽﾉ","ﾋﾖﾘ","YASUNO","Hiyori","女",20061119,2,null,"2006","第４支部"]
[804,47192,"馬場","理桜","ﾊﾞﾊﾞ","ﾘｵ","BABA","Rio","女",20070328,2,null,"2007","第４支部"]
[805,47193,"古山","春奈","ﾌﾙﾔﾏ","ﾊﾙﾅ","FURUYAMA","Haruna","女",20070228,2,null,"2007","第４支部"]
[806,47194,"佐野","理奈","ｻﾉ","ﾘﾅ","SANO","Rina","女",20060128,3,null,"2006","第４支部"]
[807,47195,"三隅","朱莉","ﾐｽﾐ","ｱｶﾘ","MISUMI","Akari","女",20050715,3,null,"2005","第４支部"]
[808,47211,"西田","優介","ﾆｼﾀﾞ","ﾕｳｽｹ","NISHIDA","Yusuke","男",20050908,3,null,"2005","第４支部"]
[809,47212,"大谷","裕暉","ｵｵﾀﾆ","ﾕｳｷ","OUTANI","Yuki","男",20060111,3,null,"2006","第４支部"]
[810,47213,"内藤","蓮王","ﾅｲﾄｳ","ﾚｵ","NAITO","Leo","男",20060814,2,null,"2006","第４支部"]
[811,47214,"石川","真乃介","ｲｼｶﾜ","ｼﾝﾉｽｹ","ISHIKAWA","Shinnosuke","男",20070305,2,null,"2007","第４支部"]
[812,47215,"成澤","真魚","ﾅﾙｻﾜ","ﾏｵ","NARUSAWA","Mao","男",20060609,2,null,"2006","第４支部"]
[813,47216,"長坂","梁武","ﾅｶﾞｻｶ","ﾊｼﾑ","NAGASAKA","Hashimu","男",20061211,2,null,"2006","第４支部"]
[814,47217,"渡邉","竹琉","ﾜﾀﾅﾍﾞ","ﾀｹﾙ","WATANABE","Takeru","男",20060616,2,null,"2006","第４支部"]
[815,47351,"井上","菜悠","ｲﾉｳｴ","ﾅﾕｳ","INOUE","Nayu","女",20050526,3,null,"2005","第４支部"]
[816,47353,"塙","あかり","ﾊﾅﾜ","ｱｶﾘ","HANAWA","Akari","女",20050917,3,null,"2005","第４支部"]
[817,47354,"山根","夢可","ﾔﾏﾈ","ﾕﾒｶ","YAMANE","Yumeka","女",20050816,3,null,"2005","第４支部"]
[818,47355,"米谷","実優","ﾖﾈﾔ","ﾐﾕｳ","YONEYA","Miyu","女",20050629,3,null,"2005","第４支部"]
[819,47357,"村松","南音","ﾑﾗﾏﾂ","ﾐﾅﾄ","MURAMATSU","Minato","女",20060713,2,null,"2006","第４支部"]
[820,47358,"御旅屋","佳乃","ｵﾀﾔ","ｶﾉ","OTAYA","Kano","女",20060613,2,null,"2006","第４支部"]
[821,47359,"門間","咲和","ﾓﾝﾏ","ｻﾜ","MOMMA","Sawa","女",20060621,2,null,"2006","第４支部"]
[822,47524,"新井","海斗","ｱﾗｲ","ｶｲﾄ","ARAI","Kaito","男",20050804,3,null,"2005","第４支部"]
[823,47525,"岡田","優人","ｵｶﾀﾞ","ﾕｳﾄ","OKADA","Yuuto","男",20050503,3,null,"2005","第４支部"]
[824,47526,"水谷","晃太","ﾐｽﾞﾀﾆ","ｺｳﾀ","MIZUTANI","Kouta","男",20050926,3,null,"2005","第４支部"]
[825,47527,"易","康城","ｲ","ﾔｽｷ","I","Yasuki","男",20050707,3,null,"2005","第４支部"]
[826,47528,"黒須","健太","ｸﾛｽ","ｹﾝﾀ","KUROSU","Kenta","男",20051107,3,null,"2005","第４支部"]
[827,47529,"北村","友樹","ｷﾀﾑﾗ","ﾄﾓｷ","KITAMURA","Tomoki","男",20050706,3,null,"2005","第４支部"]
[828,47531,"黒須","慶祐","ｸﾛｽ","ｹｲｽｹ","KUROSU","Keisuke","男",20070222,2,null,"2007","第４支部"]
[829,47532,"野﨑","剛","ﾉｻﾞｷ","ﾂﾖｼ","NOZAKI","Tuyosi","男",20070124,2,null,"2007","第４支部"]
[830,47533,"奥脇","恭司","ｵｸﾜｷ","ｷｮｳｼﾞ","OKUWAKI","Kyouji","男",20060831,2,null,"2006","第４支部"]
[831,47534,"尾城","晴兜","ｵｼﾛ","ｶﾌﾞﾄ","OSIRO","Kabuto","男",20060530,2,null,"2006","第４支部"]
[832,47555,"都丸","颯椛","ﾄﾏﾙ","ﾊﾔｶ","TOMARU","Hayaka","女",20060623,2,null,"2006","第４支部"]

{"sheet":"ﾃﾞｰﾀ","index":8,"n_rows":129,"n_cols":24,"rows_kept":129,"cut":false,"hidden":true,"merged":[]}
[null,"ｺｰﾄﾞ",null,null,null,"ﾘﾚｰ","男",null,null,"女",null,null,null,null,"元",null,null,null,null,null,null,"略称学校名"]
["種目","男","女",null,null,null,"4×100","4×400",null,"4×100","4×400",null,null,"種目","男","女",null,null,null,"DB","N1","N2"]
["100m",1001,2001,1,null,"男A1",11,111,"女A1",211,311,null,null,"100m",1001,2001,1,null,401,540401,"筑波大学附属駒場高等学校","筑波大駒場",54,"4支部"]
["200m",1002,2002,2,null,"男A2",12,112,"女A2",212,312,null,null,"200m",1002,2002,2,null,402,540402,"東京学芸大学附属高等学校","学大附",54,"4支部"]
["400m",1004,2004,3,null,"男A3",13,113,"女A3",213,313,null,null,"400m",1004,2004,3,null,403,540403,"東京都立園芸高等学校","都園芸",54,"4支部"]
["800m",1008,2008,4,null,"男A4",14,114,"女A4",214,314,null,null,"800m",1008,2008,4,null,404,540404,"東京都立世田谷泉高等学校","都世田谷泉",54,"4支部"]
["1500m",1015,2015,5,null,"男A5",15,115,"女A5",215,315,null,null,"1500m",1015,2015,5,null,405,540405,"東京都立世田谷総合高等学校","都世田谷総合",54,"4支部"]
["3000m",1030,2030,6,null,"男A6",16,116,"女A6",216,316,null,null,"3000m",1030,2030,6,null,406,540406,"東京都立桜町高等学校","都桜町",54,"4支部"]
["5000m",1050,2050,7,null,"男B1",21,121,"女B1",221,321,null,null,"5000m",1050,2050,7,null,409,540409,"東京都立千歳丘高等学校","都千歳丘",54,"4支部"]
["110mH",1201,null,9,null,"男B2",22,122,"女B2",222,322,null,null,"100mH",null,2201,8,null,410,540410,"東京都立芦花高等学校","都芦花",54,"4支部"]
["400mH",1204,2204,10,null,"男B3",23,123,"女B3",223,323,null,null,"110mH",1201,null,9,null,411,540411,"東京都立松原高等学校","都松原",54,"4支部"]
["3000mSC",1230,null,11,null,"男B4",24,124,"女B4",224,324,null,null,"400mH",1204,2204,10,null,413,540413,"東京都立深沢高等学校","都深沢",54,"4支部"]
["5000mW",1250,1250,12,null,"男B5",25,125,"女B5",225,325,null,null,"3000mSC",1230,null,11,null,414,540414,"友学園女子高等学校","鴎友学園女",54,"4支部"]
["走高跳",1801,2801,13,null,"男B6",26,126,"女B6",226,326,null,null,"5000mW",1250,1250,12,null,415,540415,"科学技術学園","科学技術学園",54,"4支部"]
["棒高跳",1802,2802,14,null,"男C1",31,131,"女C1",231,331,null,null,"走高跳",1801,2801,13,null,417,540417,"恵泉女学園高等学校","恵泉女学園",54,"4支部"]
["走幅跳",1803,2803,15,null,"男C2",32,132,"女C2",232,332,null,null,"棒高跳",1802,2802,14,null,418,540418,"佼成学園女子高等学校","佼成女",54,"4支部"]
["三段跳",1804,2804,16,null,"男C3",33,133,"女C3",233,333,null,null,"走幅跳",1803,2803,15,null,419,540419,"国士舘高等学校","国士舘",54,"4支部"]
["砲丸投",1901,2901,17,null,"男C4",34,134,"女C4",234,334,null,null,"三段跳",1804,2804,16,null,421,540421,"駒場学園高等学校","駒場学園",54,"4支部"]
["男中学砲丸投",5901,5902,18,null,"男C5",35,135,"女C5",235,335,null,null,"砲丸投",1901,2901,17,null,422,540422,"駒場東邦高等学校","駒場東邦",54,"4支部"]
["円盤投",1902,2902,19,null,"男C6",36,136,"女C6",236,336,null,null,"円盤投",1902,2902,19,null,423,540423,"松蔭高等学校","松陰",54,"4支部"]
["男中学円盤投",5903,5904,20,null,"男D1",41,141,"女D1",241,341,null,null,"ﾊﾝﾏｰ投",1903,2903,21,null,424,540424,"昭和女子大学附属昭和高等学校","昭和女大附",54,"4支部"]
["ﾊﾝﾏｰ投",1903,2903,21,null,"男D2",42,142,"女D2",242,342,null,null,"やり投",1904,2904,22,null,425,540425,"成城学園高等学校","成城学園",54,"4支部"]
["やり投",1904,2904,22,null,"男D3",43,143,"女D3",243,343,null,null,"男4×100",1400,null,23,null,426,540426,"駒澤大学高等学校","駒大高",54,"4支部"]
["100m",1001,2001,1,null,"男D4",44,144,"女D4",244,344,null,null,"男4×400",1600,null,24,null,427,540427,"駒澤大学高等学校","駒大高",54,"4支部"]
["200m",1002,2002,2,null,"男D5",45,145,"女D5",245,345,null,null,"100m",1001,2001,1,null,428,540428,"世田谷学園高等学校","世田谷学園",54,"4支部"]
["400m",1004,2004,3,null,"男D6",46,146,"女D6",246,346,null,null,"200m",1002,2002,2,null,430,540430,"大東学園高等学校","大東学園",54,"4支部"]
["800m",1008,2008,4,null,"男E1",51,151,"女E1",251,351,null,null,"400m",1004,2004,3,null,432,540432,"三田国際学園高等学校","三田国際学園",54,"4支部"]
["1500m",1015,2015,5,null,"男E2",52,152,"女E2",252,352,null,null,"800m",1008,2008,4,null,433,540433,"東京農業大学第一高等学校","東農大一",54,"4支部"]
["3000m",1030,2030,6,null,"男E3",53,153,"女E3",253,353,null,null,"1500m",1015,2015,5,null,434,540434,"東京都市大学等々力高等学校","都市大等々力",54,"4支部"]
["5000m",1050,2050,7,null,"男E4",54,154,"女E4",254,354,null,null,"3000m",1030,2030,6,null,435,540435,"田園調布学園高等学校","田園調布学園",54,"4支部"]
["100mH",null,2201,8,null,"男E5",55,155,"女E5",255,355,null,null,"5000m",1050,2050,7,null,436,540436,"日本女子体育大学附属二階堂高等","日女体二階堂",54,"4支部"]
["400mH",1204,2204,10,null,"男E6",56,156,"女E6",256,356,null,null,"100mH",null,2201,8,null,437,540437,"日本学園高等学校","日本学園",54,"4支部"]
["5000mW",1250,1250,12,null,"男F1",61,161,"女F1",261,361,null,null,"110mH",1201,null,9,null,438,540438,"日本大学櫻丘高等学校","日大櫻丘",54,"4支部"]
["走高跳",1801,2801,13,null,"男F2",62,162,"女F2",262,362,null,null,"400mH",1204,2204,10,null,439,540439,"東京都市大学付属高等学校","都市大付",54,"4支部"]
["棒高跳",1802,2802,14,null,"男F3",63,163,"女F3",263,363,null,null,"3000mSC",1230,null,11,null,440,540440,"目黒星美学園高等学校","目黒星美学園",54,"4支部"]
["走幅跳",1803,2803,15,null,"男F4",64,164,"女F4",264,364,null,null,"5000mW",1250,1250,12,null,441,540441,"東京大学教育学部附属中等教育学","東大附",54,"4支部"]
["三段跳",1804,2804,16,null,"男F5",65,165,"女F5",265,365,null,null,"走高跳",1801,2801,13,null,442,540442,"都鷺宮","都鷺宮",54,"4支部"]
["砲丸投",1901,2901,17,null,"男F6",66,166,"女F6",266,366,null,null,"棒高跳",1802,2802,14,null,443,540443,"都中野工業高等学校","都中野工",54,"4支部"]
["女中学砲丸投",5902,5902,18,null,"男G1",71,171,"女G1",271,371,null,null,"走幅跳",1803,2803,15,null,444,540444,"東京都立富士高等学校","都富士",54,"4支部"]
["円盤投",1902,2902,19,null,"男G2",72,172,"女G2",272,372,null,null,"三段跳",1804,2804,16,null,445,540445,"東京都立武蔵丘高等学校","都武蔵丘",54,"4支部"]
["女中学円盤投",5904,5904,20,null,"男G3",73,173,"女G3",273,373,null,null,"砲丸投",1901,2901,17,null,448,540448,"実践学園高等学校","実践学園",54,"4支部"]
["ﾊﾝﾏｰ投",1903,2903,21,null,"男G4",74,174,"女G4",274,374,null,null,"円盤投",1902,2902,19,null,449,540449,"東亜学園高等学校","東亜学園",54,"4支部"]
["やり投",1904,2904,22,null,"男G5",75,175,"女G5",275,375,null,null,"ﾊﾝﾏｰ投",1903,2903,21,null,451,540451,"宝仙学園高等学校","宝仙学園",54,"4支部"]
[null,null,null,null,null,"男G6",76,176,"女G6",276,376,null,null,"やり投",1904,2904,22,null,452,540452,"堀越高等学校","堀越",54,"4支部"]
[null,null,null,null,null,"男H1",81,181,"女H1",281,381,null,null,"女4×100",null,2400,23,null,453,540453,"明治大学付属中野高等学校","明大中野",54,"4支部"]
[null,null,null,null,null,"男H2",82,182,"女H2",282,382,null,null,"女4×400",null,2600,24,null,454,540454,"東京都立永福学園","都永福学園",54,"4支部"]
[null,null,null,null,null,"男H3",83,183,"女H3",283,383,null,null,"男中学砲丸投",5901,5902,18,null,456,540456,"東京都立杉並総合高校","都杉並総合",54,"4支部"]
[null,null,null,null,null,"男H4",84,184,"女H4",284,384,null,null,"男中学円盤投",5903,null,20,null,457,540457,"東京都立杉並高等学校","都杉並",54,"4支部"]
[null,null,null,null,null,"男H5",85,185,"女H5",285,385,null,null,"女中学砲丸投",5902,5902,18,null,458,540458,"東京都立杉並工業高等学校","都杉並工",54,"4支部"]
[null,null,null,null,null,"男H6",86,186,"女H6",286,386,null,null,"女中学円盤投",5904,null,20,null,459,540459,"東京都立豊多摩高等学校","都豊多摩",54,"4支部"]
[null,null,null,null,null,"男I1",91,191,"女I1",291,391,null,null,null,null,null,null,null,460,540460,"東京都立西高等学校","都西",54,"4支部"]
[null,null,null,null,null,"男I2",92,192,"女I2",292,392,null,null,null,null,null,null,null,461,540461,"東京都立農芸高等学校","都農芸",54,"4支部"]
[null,null,null,null,null,"男I3",93,193,"女I3",293,393,null,null,null,null,null,null,null,464,540464,"佼成学園高等学校","佼成学園",54,"4支部"]
[null,null,null,null,null,"男I4",94,194,"女I4",294,394,null,null,null,null,null,null,null,465,540465,"國學院大學久我山高等学校","國學院久我山",54,"4支部"]
[null,null,null,null,null,"男I5",95,195,"女I5",295,395,null,null,null,null,null,null,null,467,540467,"専修大学附属高等学校","専大附",54,"4支部"]
[null,null,null,null,null,"男I6",96,196,"女I6",296,396,null,null,null,null,null,null,null,468,540468,"中央大学杉並高等学校","中大杉並",54,"4支部"]
[null,null,null,null,null,"男J1",101,201,"女J1",301,401,null,null,null,null,null,null,null,469,540469,"東京立正高等学校","東京立正",54,"4支部"]
[null,null,null,null,null,"男J2",102,202,"女J2",302,402,null,null,null,null,null,null,null,470,540470,"日本大学第二高等学校","日大二",54,"4支部"]
[null,null,null,null,null,"男J3",103,203,"女J3",303,403,null,null,null,null,null,null,null,471,540471,"日本大学鶴ヶ丘高等学校","日大鶴ヶ丘",54,"4支部"]
[null,null,null,null,null,"男J4",104,204,"女J4",304,404,null,null,null,null,null,null,null,472,540472,"文化学園大学杉並高等学校","文大杉並",54,"4支部"]
[null,null,null,null,null,"男J5",105,205,"女J5",305,405,null,null,null,null,null,null,null,473,540473,"立教女学院高等学校","立教女学院",54,"4支部"]
[null,null,null,null,null,"男J6",106,206,"女J6",306,406,null,null,null,null,null,null,null,475,540475,"東京都立中央ろう学校","都中央ろう",54,"4支部"]
[null,null,null,null,null,null,null,null,null,null,null,null,null,null,null,null,null,null,1201,571201,"太子堂中学校","太子堂",57,"中学"]
[null,null,null,null,null,null,null,null,null,null,null,null,null,null,null,null,null,null,1203,571203,"桜丘中学校","桜丘",57,"中学"]
[null,null,null,null,null,null,null,null,null,null,null,null,null,null,null,null,null,null,1205,571205,"松沢中学校","松沢",57,"中学"]
[null,null,null,null,null,null,null,null,null,null,null,null,null,null,null,null,null,null,1207,571207,"駒沢中学校","駒沢",57,"中学"]
[null,null,null,null,null,null,null,null,null,null,null,null,null,null,null,null,null,null,1209,571209,"北沢中学校","北沢",57,"中学"]
[null,null,null,null,null,null,null,null,null,null,null,null,null,null,null,null,null,null,1211,571211,"緑丘中学校","緑丘",57,"中学"]
[null,null,null,null,null,null,null,null,null,null,null,null,null,null,null,null,null,null,1213,571213,"駒留中学校","駒留",57,"中学"]
[null,null,null,null,null,null,null,null,null,null,null,null,null,null,null,null,null,null,1215,571215,"梅丘中学校","梅丘",57,"中学"]
[null,null,null,null,null,null,null,null,null,null,null,null,null,null,null,null,null,null,1217,571217,"桜木中学校","桜木",57,"中学"]
[null,null,null,null,null,null,null,null,null,null,null,null,null,null,null,null,null,null,1219,571219,"富士中学校","富士",57,"中学"]
[null,null,null,null,null,null,null,null,null,null,null,null,null,null,null,null,null,null,1221,571221,"弦巻中学校","弦巻",57,"中学"]
[null,null,null,null,null,null,null,null,null,null,null,null,null,null,null,null,null,null,1223,571223,"奥沢中学校","奥沢",57,"中学"]
[null,null,null,null,null,null,null,null,null,null,null,null,null,null,null,null,null,null,1225,571225,"八幡中学校","八幡",57,"中学"]
[null,null,null,null,null,null,null,null,null,null,null,null,null,null,null,null,null,null,1227,571227,"玉川中学校","玉川",57,"中学"]
[null,null,null,null,null,null,null,null,null,null,null,null,null,null,null,null,null,null,1229,571229,"瀬田中学校","瀬田",57,"中学"]
[null,null,null,null,null,null,null,null,null,null,null,null,null,null,null,null,null,null,1231,571231,"深沢中学校","深沢",57,"中学"]
[null,null,null,null,null,null,null,null,null,null,null,null,null,null,null,null,null,null,1233,571233,"尾山台中学校","尾山台",57,"中学"]
[null,null,null,null,null,null,null,null,null,null,null,null,null,null,null,null,null,null,1235,571235,"用賀中学校","用賀",57,"中学"]
[null,null,null,null,null,null,null,null,null,null,null,null,null,null,null,null,null,null,1237,571237,"東深沢中学校","東深沢",57,"中学"]
[null,null,null,null,null,null,null,null,null,null,null,null,null,null,null,null,null,null,1239,571239,"砧中学校","砧",57,"中学"]
[null,null,null,null,null,null,null,null,null,null,null,null,null,null,null,null,null,null,1241,571241,"烏山中学校","烏山",57,"中学"]
[null,null,null,null,null,null,null,null,null,null,null,null,null,null,null,null,null,null,1243,571243,"千歳中学校","千歳",57,"中学"]
[null,null,null,null,null,null,null,null,null,null,null,null,null,null,null,null,null,null,1245,571245,"芦花中学校","芦花",57,"中学"]
[null,null,null,null,null,null,null,null,null,null,null,null,null,null,null,null,null,null,1247,571247,"上祖師谷中学校","上祖師谷",57,"中学"]
[null,null,null,null,null,null,null,null,null,null,null,null,null,null,null,null,null,null,1249,571249,"砧南中学校","砧南",57,"中学"]
[null,null,null,null,null,null,null,null,null,null,null,null,null,null,null,null,null,null,1251,571251,"喜多見中学校","喜多見",57,"中学"]
[null,null,null,null,null,null,null,null,null,null,null,null,null,null,null,null,null,null,1253,571253,"三宿中学校","三宿",57,"中学"]
[null,null,null,null,null,null,null,null,null,null,null,null,null,null,null,null,null,null,1255,571255,"世田谷中学校","世田谷",57,"中学"]
[null,null,null,null,null,null,null,null,null,null,null,null,null,null,null,null,null,null,1257,571257,"船橋希望中学校","船橋希望",57,"中学"]
[null,null,null,null,null,null,null,null,null,null,null,null,null,null,null,null,null,null,1259,571259,"東京学芸大学附属世田谷中学校","学大附世田谷",57,"中学"]
[null,null,null,null,null,null,null,null,null,null,null,null,null,null,null,null,null,null,1261,571261,"筑波大学附属駒場中学校","筑波大駒場中",57,"中学"]
[null,null,null,null,null,null,null,null,null,null,null,null,null,null,null,null,null,null,1263,571263,"駒場東邦中学校","駒場東邦中",57,"中学"]
[null,null,null,null,null,null,null,null,null,null,null,null,null,null,null,null,null,null,1266,571266,"昭和女子大学附属昭和中学校","昭和女大附中",57,"中学"]
[null,null,null,null,null,null,null,null,null,null,null,null,null,null,null,null,null,null,1267,571267,"成城学園中学校","成城学園中",57,"中学"]
[null,null,null,null,null,null,null,null,null,null,null,null,null,null,null,null,null,null,1269,571269,"東京都市大学付属中学校","都市大付中",57,"中学"]
[null,null,null,null,null,null,null,null,null,null,null,null,null,null,null,null,null,null,1272,571272,"佼成学園女子中学校","佼成女中",57,"中学"]
[null,null,null,null,null,null,null,null,null,null,null,null,null,null,null,null,null,null,1274,571274,"田園調布学園中等部","田園調布学園中",57,"中学"]
[null,null,null,null,null,null,null,null,null,null,null,null,null,null,null,null,null,null,1275,571275,"世田谷学園中学校","世田谷学園中",57,"中学"]
[null,null,null,null,null,null,null,null,null,null,null,null,null,null,null,null,null,null,1277,571277,"東京都市大学等々力中学校","都市大等々力中",57,"中学"]
[null,null,null,null,null,null,null,null,null,null,null,null,null,null,null,null,null,null,1280,571280,"鴎友学園女子中学校","鴎友女中",57,"中学"]
[null,null,null,null,null,null,null,null,null,null,null,null,null,null,null,null,null,null,1281,571281,"松蔭中学校","松蔭中",57,"中学"]
[null,null,null,null,null,null,null,null,null,null,null,null,null,null,null,null,null,null,1283,571283,"玉川聖学院中等部","玉川聖学院中",57,"中学"]
[null,null,null,null,null,null,null,null,null,null,null,null,null,null,null,null,null,null,1285,571285,"国士舘中学校","国士舘中",57,"中学"]
[null,null,null,null,null,null,null,null,null,null,null,null,null,null,null,null,null,null,1288,571288,"恵泉女学園中学校","恵泉女学園中",57,"中学"]
[null,null,null,null,null,null,null,null,null,null,null,null,null,null,null,null,null,null,1289,571289,"国本女子中学校","国本女中",57,"中学"]
[null,null,null,null,null,null,null,null,null,null,null,null,null,null,null,null,null,null,1291,571291,"聖ドミニコ学園中学校","聖ドミニコ中",57,"中学"]
[null,null,null,null,null,null,null,null,null,null,null,null,null,null,null,null,null,null,1293,571293,"日本学園中学校","日本学園中",57,"中学"]
[null,null,null,null,null,null,null,null,null,null,null,null,null,null,null,null,null,null,1295,571295,"三田国際学園中学校","三田国際中",57,"中学"]
[null,null,null,null,null,null,null,null,null,null,null,null,null,null,null,null,null,null,1297,571297,"東京農業大学第一高等学校中等部","東農大一中",57,"中学"]
[null,null,null,null,null,null,null,null,null,null,null,null,null,null,null,null,null,null,1299,571299,"目黒星美学園中学校","目黒星美中",57,"中学"]
[null,null,null,null,null,null,null,null,null,null,null,null,null,null,null,null,null,null,1423,571423,"東京都立富士高等学校附属中学校","都立富士中",57,"中学"]
[null,null,null,null,null,null,null,null,null,null,null,null,null,null,null,null,null,null,1425,571425,"東京大学教育学部附属中等教育学校","東大附中",57,"中学"]
[null,null,null,null,null,null,null,null,null,null,null,null,null,null,null,null,null,null,1427,571427,"明治大学付属中野中学校","明大中野中",57,"中学"]
[null,null,null,null,null,null,null,null,null,null,null,null,null,null,null,null,null,null,1429,571429,"宝仙学園中学校","宝仙学園中",57,"中学"]
[null,null,null,null,null,null,null,null,null,null,null,null,null,null,null,null,null,null,1431,571431,"新渡戸文化中学校","新渡戸文化中",57,"中学"]
[null,null,null,null,null,null,null,null,null,null,null,null,null,null,null,null,null,null,1433,571433,"大妻中野中学校","大妻中野中",57,"中学"]
[null,null,null,null,null,null,null,null,null,null,null,null,null,null,null,null,null,null,1435,571435,"実践学園中学校","実践学園中",57,"中学"]
[null,null,null,null,null,null,null,null,null,null,null,null,null,null,null,null,null,null,1547,571547,"東京都立中央聾学校","中央ろう中",57,"中学"]
[null,null,null,null,null,null,null,null,null,null,null,null,null,null,null,null,null,null,1550,571550,"立教女学院中学校","立教女学院中",57,"中学"]
[null,null,null,null,null,null,null,null,null,null,null,null,null,null,null,null,null,null,1551,571551,"日本大学第二中学校","日大二中",57,"中学"]
[null,null,null,null,null,null,null,null,null,null,null,null,null,null,null,null,null,null,1553,571553,"佼成学園中学校","佼成学園中",57,"中学"]
[null,null,null,null,null,null,null,null,null,null,null,null,null,null,null,null,null,null,1555,571555,"文化学園大学杉並中学校","文大杉並中",57,"中学"]
[null,null,null,null,null,null,null,null,null,null,null,null,null,null,null,null,null,null,1557,571557,"國學院大学久我山中学校","國學院久我山中",57,"中学"]
[null,null,null,null,null,null,null,null,null,null,null,null,null,null,null,null,null,null,1559,571559,"光塩女子学院中等科","光塩女学院中",57,"中学"]
[null,null,null,null,null,null,null,null,null,null,null,null,null,null,null,null,null,null,1561,571561,"女子美術大学付属中学校","女子美大付中",57,"中学"]
[null,null,null,null,null,null,null,null,null,null,null,null,null,null,null,null,null,null,1563,571563,"杉並学院中学校","杉並学院中",57,"中学"]
[null,null,null,null,null,null,null,null,null,null,null,null,null,null,null,null,null,null,1565,571565,"東京立正中学校","東京立正中",57,"中学"]