{"text_format":"1","workbook":"xlsx","n_sheets":10,"sheets":["入力方法","中学番号","新規登録","ｴﾝﾄﾘｰ票","会計シート","リレー確認","Ａ票男","Ａ票女","氏名ﾃﾞｰﾀ","ﾃﾞｰﾀ"],"not_rendered":{"charts":0,"images":0,"macros":1,"external_links":1,"defined_names":12,"comments":0,"pivot_tables":0},"unopened":[],"bounds":{"document_bytes":16777216,"sheet_cells":100000,"rows_first":2000,"rows_last":500,"rows_between":2000,"halvings":0,"cell_chars":16384,"cell_head_chars":4096},"cells_cut":0,"cells_raw":0,"read":"whole","date_system":"1900"}

{"sheet":"入力方法","index":0,"n_rows":71,"n_cols":28,"rows_kept":71,"cut":false,"hidden":false,"merged":[]}
[null,null,"手順"]
["C:\\Users\\TK5\\Desktop"]
[]
[]
[null,null,null,null,null,null,null,null,null,null,null,null,null,null,null,null,null,null,null,null,null,null,null,null,null,null,null,"こ"]
[null,null,null,null,null,null,null,null,null,null,null,null,null,null,null,null,null,null,null,null,null,null,null,null,null,null,null,"こ"]
[null,null,"①新規登録",null,null,null,null,null,null,null,null,null,null,null,null,null,null,null,null,null,null,null,null,null,null,null,null,"ま"]
[null,null,null,null,"↓色つきの部分に数値や文字を入力をしてくだい。A票、B票にリンクしています。",null,null,null,null,null,null,null,null,null,null,null,null,null,null,null,null,null,null,null,null,null,null,"で"]
[null,null,"5桁","氏名","全角","ﾌﾘｶﾞﾅ",null,"半角",null,"学年",null,"省略校名",null,null,"性別"]
[null,null,"半角","姓","名","姓",null,"名",null,"半角",null,"６文字　全角",null,null,"全角"]
[null,null,41001,"秋本","嘉一","ｱｷﾓﾄ",null,"ﾖｼｶｽﾞ",null,2,null,"都芦花",null,null,"男"]
[null,null,40201,"高野","淳子","ﾀｶﾉ",null,"ｼﾞｭﾝｺ",null,2,null,"学大附",null,null,"女"]
[null,null,48135,"今村","量子","ｲﾏﾑﾗ",null,"ﾘｮｳｺ",null,"Ｊ1",null,"昭和女子中",null,null,"女"]
[]
[]
[null,null,"②ｴﾝﾄﾘｰB票"]
[]
[null,null,"競技会名",null,"東京高体連陸上第４支部春季競技会"]
[null,null,"学校名（正式名称）",null,"東京都阿佐ヶ谷南高等学校",null,null,null,null,null,null,null,null,null,null,null,null,null,null,null,null,null,null,null,null,null,null,"こ"]
[null,null,"略称学校名",null,"都阿佐ヶ谷南",null,null,null,null,null,null,null,null,null,null,null,null,null,null,null,null,null,null,null,null,null,null,"こ"]
[null,null,"学校長名",null,"陸上　駅伝",null,null,null,null,null,null,null,null,null,null,null,null,null,null,null,null,null,null,null,null,null,null,"ま"]
[null,null,"学校所在地",null,"東京都杉並区南阿佐ヶ谷１－２３－４５",null,null,null,null,null,null,null,null,null,null,null,null,null,null,null,null,null,null,null,null,null,null,"で"]
[null,null,null,"電話番号","０３－３３９２－１２３４",null,null,null,null,null,null,null,null,null,null,null,null,null,"支部","学校番号"]
[null,null,null,"ＦＡＸ番号","０３－３３９２－１２３４",null,null,null,null,null,null,null,null,null,null,null,null,null,4,72]
[null,null,"顧問氏名",null,"陸上　投擲",null,null,null,null,null,null,null,null,null,null,null,null,null,"↑半角で入力します↓"]
[null,null,"連絡先",null,"０９０－００００－００００",null,null,null,null,null,null,null,null,null,null,null,null,null,"ﾘﾚｰ出場ﾁｰﾑ数",null,null,"ﾌﾟﾛｸﾞﾗﾑ"]
[null,null,null,null,null,null,null,null,null,null,null,null,null,null,null,null,null,null,"4×100","4×400"]
[null,null,null,null,null,null,null,null,null,null,null,null,null,null,null,null,null,"男子",1,1,"ﾁｰﾑ",0,"冊",null,null,null,null,"こ"]
[null,null,null,null,null,null,null,null,null,null,null,null,null,null,null,null,null,"女子",0,2,"ﾁｰﾑ",0,"冊",null,null,null,null,"こ"]
[null,null,"番号","氏名",null,"性別","種目１","最高記録　半角",null,null,"種目２","最高記録　半角",null,null,"種目３","最高記録　半角",null,null,"4×100","最高記録　半角",null,null,"4×400","最高記録　半角",null,null,null,"ま"]
[null,null,"半角","姓","名","全角",null,"分","秒",null,null,"分","秒",null,null,"分","秒",null,"走順","分","秒",null,"走順","分","秒",null,null,"で"]
[null,null,"5桁","全角","全角",null,"ﾘｽﾄから入力",null,"ｍ","ｃｍ","ﾘｽﾄから入力",null,"ｍ","ｃｍ","ﾘｽﾄから入力",null,"ｍ","ｃｍ","リストから入力",null,"ｍ","ｃｍ","リストから入力",null,"ｍ","ｃｍ"]
["",1,47201,"宇野","走一郎","男","100m",null,"12","34","砲丸投",null,"12","43","400mH","1","23","45","A1",null,"45","67","A3","3","45","67"]
["",2,47202,"加藤","走次郎","男","走幅跳",null,"5","43","走高跳",null,"00","00",null,null,null,null,"A2",null,"45","67"]
["",3,47203,"金田","走太","男","5000m","17","23","89",null,null,null,null,null,null,null,null,null,null,null,null,"A1","3","45","67"]
["",4,47204,"佐藤","投太","男"]
["",5,47205,"鈴木","跳太","男"]
["",6,47251,"駒沢","文子","女","100m",null,"14","32",null,null,null,null,null,null,null,null,null,null,null,null,"A1","00","00","00"]
["",7,47252,"大井","大子","女","400mH","1","23","45"]
["",8,47253,"世田谷","杉子","女","砲丸投",null,"6","78",null,null,null,null,null,null,null,null,null,null,null,null,"B1",null,"56","78"]
["",9,47254,"上柚木","並子","女","3000m","10","23","45","円盤投",null,"00","00",null,null,null,null,null,null,null,null,"A2","00","00","00"]
["",10,47255,"夢島","高子","女",null,null,null,null,null,null,null,null,null,null,null,null,null,null,null,null,"A3","00","00","00"]
[null,11,47256,"江戸川","中子","女",null,null,null,null,null,null,null,null,null,null,null,null,null,null,null,null,"A4","00","00","00"]
[null,12,null,null,null,null,null,null,null,null,null,null,null,null,null,null,null,null,null,null,null,null,null,null,null,null,null,"こ"]
[null,13,null,null,null,null,null,null,null,null,null,null,null,null,null,null,null,null,null,null,null,null,null,null,null,null,null,"こ"]
[null,14,null,"","","",null,null,null,null,null,null,null,null,null,null,null,null,null,null,null,null,null,null,null,null,null,"ま"]
[null,null,null,null,null,null,null,null,null,null,null,null,null,null,null,null,null,null,null,null,null,null,null,null,null,null,null,"で"]
[]
[]
[]
[]
[]
[null,null,null,null,null,null,"100m",null,null,null,null,null,null,null,null,null,null,null,null,null,null,null,null,null,null,null,null,"こ"]
[null,null,null,null,null,null,"200m",null,null,null,null,null,null,null,null,null,null,null,null,null,null,null,null,null,null,null,null,"こ"]
[null,null,null,null,null,null,"400m",null,null,null,null,null,null,null,null,null,null,null,null,null,null,null,null,null,null,null,null,"ま"]
[null,null,null,null,null,null,"800m","←例です",null,null,null,null,null,null,null,null,null,null,null,null,null,null,null,null,null,null,null,"で"]
[null,null,null,null,null,null,"1500m"]
[null,null,null,null,null,null,"3000m"]
[null,null,null,null,null,null,"5000m"]
[null,null,null,null,null,null,"100mH"]
[null,null,null,null,null,null,"110mH"]
[null,null,null,null,null,null,"400mH"]
[null,null,null,null,null,null,"走高跳",null,null,null,null,null,null,null,null,null,null,null,null,null,null,null,null,null,null,null,null,"こ"]
[null,null,null,null,null,null,"走幅跳",null,null,null,null,null,null,null,null,null,null,null,null,null,null,null,null,null,null,null,null,"こ"]
[null,null,null,null,null,null,"三段跳",null,null,null,null,null,null,null,null,null,null,null,null,null,null,null,null,null,null,null,null,"ま"]
[null,null,null,null,null,null,"砲丸投",null,null,null,null,null,null,null,null,null,null,null,null,null,null,null,null,null,null,null,null,"で"]
[null,null,null,null,null,null,"円盤投"]
[null,null,null,null,null,null,"やり投"]
[]
[]
[null,null,"以上ここまで",null,null,null,"以上ここまで",null,null,"以上ここまで",null,null,null,"以上ここまで",null,null,"以上ここまで"]

{"sheet":"中学番号","index":1,"n_rows":63,"n_cols":5,"rows_kept":63,"cut":false,"hidden":false,"merged":[]}
["中学","学校",null,"高校","学校"]
["団体名","番号",null,"団体名","番号"]
["世田谷",10,null,"筑波大駒場","401"]
["太子堂",11,null,"学大附","402"]
["北沢",12,null,"都世田谷泉","404"]
["喜多見",13,null,"都世田谷総合","405"]
["松沢",14,null,"都桜町","406"]
["弦巻",15,null,"都千歳丘","409"]
["駒沢",16,null,"都芦花","410"]
["八幡",17,null,"都松原","411"]
["玉川",18,null,"都荻窪","412"]
["駒留",19,null,"都深沢","413"]
["桜木",20,null,"鴎友学園女","414"]
["区立富士",21,"都富士中は７１","恵泉女学園","417"]
["用賀",22,null,"佼成学園女","418"]
["三宿",23,null,"国士舘","419"]
["砧",24,null,"駒大高","420"]
["烏山",25,null,"駒場学園","421"]
["千歳",26,null,"駒場東邦","422"]
["瀬田",27,null,"松陰","423"]
["深沢",28,null,"昭和女子大附","424"]
["東深沢",29,null,"成城学園","425"]
["砧南",30,null,"世田谷学園","428"]
["桜丘",31,null,"大東学園","430"]
["芦花",32,null,"三田国際","432"]
["梅丘",33,null,"東農大一","433"]
["奥沢",34,null,"都市大等々力","434"]
["船橋希望",35,null,"田園調布学園","435"]
["尾山台",58,null,"日女体二階堂","436"]
["上祖師谷",59,null,"日本学園","437"]
["緑丘",62,null,"日大櫻丘","438"]
["学大世田谷",40,null,"都市大付属","439"]
["駒場東邦",41,null,"目黒星美学園","440"]
["昭和女子大",42,null,"東大附属","441"]
["成城学園",43,null,"都鷺宮","442"]
["都市大付属",44,null,"都中野工","443"]
["筑波大駒場",45,null,"都富士","444"]
["佼成女子",46,null,"都武蔵丘","445"]
["田園調布学園",47,null,"実践学園","448"]
["世田谷学園",48,null,"東亜学園","449"]
["下北沢成徳",49,null,"宝仙学園","451"]
["都市大等々力",50,null,"堀越","452"]
["鴎友学園女子",51,null,"明大中野","453"]
["恵泉女子",52,null,"都永福学園","454"]
["国士舘",53,null,"都杉並総合","456"]
["日本学園",54,null,"都杉並","457"]
["三田国際",55,null,"都杉並工","458"]
["東京農大一",56,null,"都豊多摩","459"]
["聖ドミニコ学園",57,null,"都西","460"]
["目黒星美",60,null,"都農芸","461"]
["玉川聖学院",61,null,"佼成学園","464"]
["実践学園中",70,null,"國學院久我山","465"]
["都富士附属中",71,null,"専大附","467"]
["明大中野中",72,null,"中大杉並","468"]
["立教女学院中",73,null,"東京立正","469"]
["東大附属中",74,null,"日大二","470"]
["久我山中",75,null,"日大鶴ヶ丘","471"]
["佼成学園中",76,null,"文大杉並","472"]
["佼成学園女中",77,null,"立教女学院","473"]
["日大二中",78,null,"都中央ろう","475"]
["都中央ろう中",79]
["宝仙学園中",80]
["文大杉並中",81]

{"sheet":"新規登録","index":2,"n_rows":105,"n_cols":10,"rows_kept":105,"cut":false,"hidden":false,"merged":[]}
[0,"↓色つきの部分だけに数値や文字を入力をしてくだい。A票、B票にリンクしています。"]
[0.1,"5桁","氏名","全角","ﾌﾘｶﾞﾅ","半角","学年","省略校名","性別"]
[0.2,"半角","姓","名","姓","名","半角","６文字　全角","全角"]
[null,71202,"陸","走子","ﾘｸ","ｿｳｺ","J2","世田谷中","女","←例 中学"]
[0.3,47201,"陸上","走太","ﾘｸｼﾞｮｳ","ｿｳﾀ",1,"都阿佐ヶ谷南","男","←例 高校"]
[1]
[2]
[3]
[4]
[5]
[6]
[7]
[8]
[9]
[10]
[11]
[12]
[13]
[14]
[15]
[16]
[17]
[18]
[19]
[20]
[21]
[22]
[23]
[24]
[25]
[26]
[27]
[28]
[29]
[30]
[31]
[32]
[33]
[34]
[35]
[36]
[37]
[38]
[39]
[40]
[41]
[42]
[43]
[44]
[45]
[46]
[47]
[48]
[49]
[50]
[51]
[52]
[53]
[54]
[55]
[56]
[57]
[58]
[59]
[60]
[61]
[62]
[63]
[64]
[65]
[66]
[67]
[68]
[69]
[70]
[71]
[72]
[73]
[74]
[75]
[76]
[77]
[78]
[79]
[80]
[81]
[82]
[83]
[84]
[85]
[86]
[87]
[88]
[89]
[90]
[91]
[92]
[93]
[94]
[95]
[96]
[97]
[98]
[99]
[100]

{"sheet":"ｴﾝﾄﾘｰ票","index":3,"n_rows":215,"n_cols":64,"rows_kept":215,"cut":false,"hidden":false,"merged":[]}
[{"$f":"CONCATENATE(A2,\"\\\",A3)","v":"C:\\Users\\y-nezu\\Desktop\\400秋季競技会2109"},null,null,null,"競技会名",null,"東京高体連陸上第4支部秋季競技会1",null,null,null,null,null,null,null,null,null,null,"平成30年度","秋季競技会2"]
["C:\\Users\\y-nezu\\Desktop",null,null,null,"学校名（正式名称）"]
[{"$f":"CONCATENATE(VALUE(Z7*100+AA7),G3,S1,A5)","v":"400秋季競技会2109"},null,null,null,"略称学校名"]
[{"$f":"NOW()","v":"2018-10-09T09:21:52.250"},null,null,null,"学校長名"]
[{"$f":"TEXT(A4,\"md\")","v":"109"},null,null,null,"学校所在地"]
[null,null,null,null,null,"電話番号",null,null,null,null,null,null,null,null,null,null,null,null,null,null,null,null,null,null,null,"支部","学校番号"]
[null,null,null,null,null,"ＦＡＸ番号",null,null,null,null,null,null,null,null,null,null,null,null,null,null,null,null,null,null,null,4]
[null,null,null,null,"顧問氏名",null,null,null,null,null,null,null,null,null,null,null,null,null,null,null,null,null,null,null,null,"↑半角で入力します↓"]
[null,null,null,null,"連絡先",null,null,null,null,null,null,null,null,null,null,null,null,null,null,null,null,null,null,null,null,"ﾘﾚｰ出場ﾁｰﾑ数",null,null,"ﾌﾟﾛｸﾞﾗﾑ"]
[null,null,null,null,null,null,null,null,null,null,null,null,null,null,null,null,null,null,null,null,null,null,null,null,null,"4×100","4×400"]
[null,null,null,null,null,null,null,null,null,null,null,null,null,null,null,null,null,null,null,null,"男子",null,null,null,"男子",0,null,"ﾁｰﾑ",null,"冊"]
[null,null,null,null,null,null,null,null,null,null,null,null,null,null,null,null,null,null,null,null,"女子",null,null,null,"女子",0,null,"ﾁｰﾑ",null,"冊"]
[null,null,null,null,"番号","氏名",null,"ﾌﾘｶﾞﾅ",null,"学年","校名","性別","生年月日","種目１","最高記録　　半角",null,null,"種目２","最高記録　　半角",null,null,"種目３","最高記録　　半角",null,null,"4×100","最高記録　　半角",null,null,"4×400","最高記録　　半角",null,null,null,null,null,null,null,null,null,null,null,"男","4×100",null,"ﾘﾚｰ",null,null,"男","4×400",null,null,null,null,"女","4×100",null,"ﾘﾚｰ",null,null,"女","4×400"]
[null,null,null,null,"半角","姓","名","姓","名","半角","全角","全角","半角",null,"分","秒",null,null,"分","秒",null,null,"分","秒",null,"走順","分","秒",null,"走順","分","秒",null,null,null,"4×100","4×400"]
["4×100","4×400",0,null,"5桁","全角","全角","半角","半角",null,null,null,null,"ﾘｽﾄから入力",null,"ｍ","ｃｍ","ﾘｽﾄから入力",null,"ｍ","ｃｍ","ﾘｽﾄから入力",null,"ｍ","ｃｍ","リストから入力",null,"ｍ","ｃｍ","リストから入力",null,"ｍ","ｃｍ","男女","種目","記録","記録",null,null,null,{"$f":"IF(RIGHT(N15,4)=\"×100\",IF(L15=\"男\",VLOOKUP(Z15,ﾘﾚｰｺｰﾄﾞ,2,0),VLOOKUP(Z15,ﾘﾚｰｺｰﾄﾞ,4,0)),\"\")","v":""},null,"学校","５桁No","走順","記録",{"$f":"IF(RIGHT(N15,4)=\"×400\",IF(L15=\"男\",VLOOKUP(Z15,ﾘﾚｰｺｰﾄﾞ,3,0),VLOOKUP(Z15,ﾘﾚｰｺｰﾄﾞ,5,0)),\"\")","v":""},null,"学校","５桁No","走順","記録",{"$f":"IF(RIGHT(AR15,4)=\"×100\",IF(AO15=\"男\",VLOOKUP(AT15,ﾘﾚｰｺｰﾄﾞ,2,0),VLOOKUP(AT15,ﾘﾚｰｺｰﾄﾞ,4,0)),\"\")","v":""},null,"学校","５桁No","走順","記録",{"$f":"IF(RIGHT(AR15,4)=\"×400\",IF(AO15=\"男\",VLOOKUP(AT15,ﾘﾚｰｺｰﾄﾞ,3,0),VLOOKUP(AT15,ﾘﾚｰｺｰﾄﾞ,5,0)),\"\")","v":""},null,"学校","５桁No","走順","記録"]
[{"$f":"IF(Z16=\"\",\"\",IF(L16=\"男\",VLOOKUP(Z16,ﾘﾚｰｺｰﾄﾞ,2,0),VLOOKUP(Z16,ﾘﾚｰｺｰﾄﾞ,4,0)))","v":""},{"$f":"IF(AD16=\"\",\"\",IF(L16=\"男\",VLOOKUP(AD16,ﾘﾚｰｺｰﾄﾞ,3,0),VLOOKUP(AD16,ﾘﾚｰｺｰﾄﾞ,5,0)))","v":""},{"$f":"IF(E16=\"\",\"\",IF(AH16=1,COUNTIF(AH$16:AH16,1)*10+2001-10,COUNTIF(AH$16:AH16,2)*10+6001-10))","v":""},1,null,{"$f":"IF($E16=\"\",\"\",IF(ISERROR(VLOOKUP($E16,氏名ﾃﾞｰﾀ!$B:$J,2,0)),IF(ISERROR(VLOOKUP($E16,新規登録!$B:$I,2,0)),\"未登録\",VLOOKUP($E16,新規登録!$B:$I,2,0)),(VLOOKUP($E16,氏名ﾃﾞｰﾀ!$B:$J,2,0))))","v":""},{"$f":"IF($E16=\"\",\"\",IF(ISERROR(VLOOKUP($E16,氏名ﾃﾞｰﾀ!$B:$J,3,0)),IF(ISERROR(VLOOKUP($E16,新規登録!$B:$I,3,0)),\"未登録\",VLOOKUP($E16,新規登録!$B:$I,3,0)),(VLOOKUP($E16,氏名ﾃﾞｰﾀ!$B:$J,3,0))))","v":""},{"$f":"IF($E16=\"\",\"\",IF(ISERROR(VLOOKUP($E16,氏名ﾃﾞｰﾀ!$B:$J,4,0)),IF(ISERROR(VLOOKUP($E16,新規登録!$B:$I,4,0)),\"未登録\",VLOOKUP($E16,新規登録!$B:$I,4,0)),(VLOOKUP($E16,氏名ﾃﾞｰﾀ!$B:$J,4,0))))","v":""},{"$f":"IF($E16=\"\",\"\",IF(ISERROR(VLOOKUP($E16,氏名ﾃﾞｰﾀ!$B:$J,5,0)),IF(ISERROR(VLOOKUP($E16,新規登録!$B:$I,5,0)),\"未登録\",VLOOKUP($E16,新規登録!$B:$I,5,0)),(VLOOKUP($E16,氏名ﾃﾞｰﾀ!$B:$J,5,0))))","v":""},{"$f":"IF($E16=\"\",\"\",IF(ISERROR(VLOOKUP($E16,氏名ﾃﾞｰﾀ!$B:$J,8,0)),IF(ISERROR(VLOOKUP($E16,新規登録!$B:$I,6,0)),\"未登録\",VLOOKUP($E16,新規登録!$B:$I,6,0)),(VLOOKUP($E16,氏名ﾃﾞｰﾀ!$B:$J,8,0))))","v":""},{"$f":"IF($E16=\"\",\"\",IF(ISERROR(VLOOKUP($E16,氏名ﾃﾞｰﾀ!$B:$J,7,0)),IF(ISERROR(VLOOKUP($E16,新規登録!$B:$I,7,0)),\"未登録\",VLOOKUP($E16,新規登録!$B:$I,7,0)),$G$3))","v":""},{"$f":"IF($E16=\"\",\"\",IF(ISERROR(VLOOKUP($E16,氏名ﾃﾞｰﾀ!$B:$J,6,0)),IF(ISERROR(VLOOKUP($E16,新規登録!$B:$I,8,0)),\"ﾅｼ\",VLOOKUP($E16,新規登録!$B:$I,8,0)),(VLOOKUP($E16,氏名ﾃﾞｰﾀ!$B:$J,6,0))))","v":""},0,null,null,null,null,null,null,null,null,null,null,null,null,null,null,null,null,null,null,null,null,{"$f":"IF(L16=\"男\",1,2)","v":2},{"$f":"IF(N16=\"\",\"\",VLOOKUP(N16,ﾃﾞｰﾀ!A:D,4,0))","v":""},{"$f":"IF(AA16=\"\",CONCATENATE(AB16,\"秒\",AC16),CONCATENATE(IF(LEN(AA16)=1,CONCATENATE(\"0\",AA16),AA16),\"分\",IF(LEN(AB16)=1,CONCATENATE(\"0\",AB16),AB16),\"秒\",IF(LEN(AC16)=1,CONCATENATE(AC16,\"0\"),AC16)))","v":"秒"},{"$f":"IF(AE16=\"\",CONCATENATE(AF16,\"秒\",AG16),CONCATENATE(IF(LEN(AE16)=1,CONCATENATE(\"0\",AE16),AE16),\"分\",IF(LEN(AF16)=1,CONCATENATE(\"0\",AF16),AF16),\"秒\",IF(LEN(AG16)=1,CONCATENATE(AG16,\"0\"),AG16)))","v":"秒"},null,null,null,{"$f":"IF(AH16=1,IF(Z16=\"\",1000,VLOOKUP(Z16,ﾃﾞｰﾀ!F$3:G$62,2,FALSE)),1000)","v":1000},{"$f":"IF(AR16=\"\",\"\",LEFT(AR16,3))","v":""},{"$f":"IF(AR16=\"\",\"\",LEFT(AR16,3))","v":""},{"$f":"IF(ISERROR(VLOOKUP(AO16,$A$16:$AH$215,5,0)),\"\",VLOOKUP(AO16,$A$16:$AH$215,5,0))","v":""},{"$f":"IF(AR16=\"\",\"\",VLOOKUP(AR16,$E$16:$AG$215,22,0))","v":""},{"$f":"IF(AR16=\"\",\"\",VLOOKUP(AR16,$E$16:$AK$215,32,0))","v":""},{"$f":"IF(AH16=1,IF(AD16=\"\",1000,VLOOKUP(AD16,ﾃﾞｰﾀ!F$3:H$62,3,FALSE)),1000)","v":1000},{"$f":"IF(AX16=\"\",\"\",LEFT(AX16,3))","v":""},{"$f":"IF(AX16=\"\",\"\",LEFT(AX16,3))","v":""},{"$f":"IF(ISERROR(VLOOKUP(AU16,$B$16:$AH$215,4,0)),\"\",VLOOKUP(AU16,$B$16:$AH$21545,4,0))","v":""},{"$f":"IF(AX16=\"\",\"\",VLOOKUP(AX16,$E$16:$AG$215,26,0))","v":""},{"$f":"IF(AX16=\"\",\"\",VLOOKUP(AX16,$E$16:$AK$215,33,0))","v":""},{"$f":"IF(AH16=2,IF(Z16=\"\",1000,VLOOKUP(Z16,ﾃﾞｰﾀ!F$3:I$62,4,FALSE)),1000)","v":1000},{"$f":"IF(BD16=\"\",\"\",LEFT(BD16,3))","v":""},{"$f":"IF(BD16=\"\",\"\",LEFT(BD16,3))","v":""},{"$f":"IF(ISERROR(VLOOKUP(BA16,$A$16:$AH$215,5,0)),\"\",VLOOKUP(BA16,$A$16:$AH$215,5,0))","v":""},{"$f":"IF(BD16=\"\",\"\",VLOOKUP(BD16,$E$16:$AG$215,22,0))","v":""},{"$f":"IF(BD16=\"\",\"\",VLOOKUP(BD16,$E$16:$AK$215,32,0))","v":""},{"$f":"IF(AH16=2,IF(AD16=\"\",1000,VLOOKUP(AD16,ﾃﾞｰﾀ!F$3:J$62,5,FALSE)),1000)","v":1000},{"$f":"IF(BJ16=\"\",\"\",LEFT(BJ16,3))","v":""},{"$f":"IF(BJ16=\"\",\"\",LEFT(BJ16,3))","v":""},{"$f":"IF(ISERROR(VLOOKUP(BG16,$B$16:$AH$215,4,0)),\"\",VLOOKUP(BG16,$B$16:$AH$21545,4,0))","v":""},{"$f":"IF(BJ16=\"\",\"\",VLOOKUP(BJ16,$E$16:$AG$215,26,0))","v":""},{"$f":"IF(BJ16=\"\",\"\",VLOOKUP(BJ16,$E$16:$AK$215,33,0))","v":""}]
["","",{"$f":"IF(E17=\"\",\"\",IF(AH17=1,COUNTIF(AH$16:AH17,1)*10+2001-10,COUNTIF(AH$16:AH17,2)*10+6001-10))","v":""},2,null,{"$f":"IF($E17=\"\",\"\",IF(ISERROR(VLOOKUP($E17,氏名ﾃﾞｰﾀ!$B:$J,2,0)),IF(ISERROR(VLOOKUP($E17,新規登録!$B:$I,2,0)),\"未登録\",VLOOKUP($E17,新規登録!$B:$I,2,0)),(VLOOKUP($E17,氏名ﾃﾞｰﾀ!$B:$J,2,0))))","v":""},{"$f":"IF($E17=\"\",\"\",IF(ISERROR(VLOOKUP($E17,氏名ﾃﾞｰﾀ!$B:$J,3,0)),IF(ISERROR(VLOOKUP($E17,新規登録!$B:$I,3,0)),\"未登録\",VLOOKUP($E17,新規登録!$B:$I,3,0)),(VLOOKUP($E17,氏名ﾃﾞｰﾀ!$B:$J,3,0))))","v":""},{"$f":"IF($E17=\"\",\"\",IF(ISERROR(VLOOKUP($E17,氏名ﾃﾞｰﾀ!$B:$J,4,0)),IF(ISERROR(VLOOKUP($E17,新規登録!$B:$I,4,0)),\"未登録\",VLOOKUP($E17,新規登録!$B:$I,4,0)),(VLOOKUP($E17,氏名ﾃﾞｰﾀ!$B:$J,4,0))))","v":""},{"$f":"IF($E17=\"\",\"\",IF(ISERROR(VLOOKUP($E17,氏名ﾃﾞｰﾀ!$B:$J,5,0)),IF(ISERROR(VLOOKUP($E17,新規登録!$B:$I,5,0)),\"未登録\",VLOOKUP($E17,新規登録!$B:$I,5,0)),(VLOOKUP($E17,氏名ﾃﾞｰﾀ!$B:$J,5,0))))","v":""},{"$f":"IF($E17=\"\",\"\",IF(ISERROR(VLOOKUP($E17,氏名ﾃﾞｰﾀ!$B:$J,8,0)),IF(ISERROR(VLOOKUP($E17,新規登録!$B:$I,6,0)),\"未登録\",VLOOKUP($E17,新規登録!$B:$I,6,0)),(VLOOKUP($E17,氏名ﾃﾞｰﾀ!$B:$J,8,0))))","v":""},{"$f":"IF($E17=\"\",\"\",IF(ISERROR(VLOOKUP($E17,氏名ﾃﾞｰﾀ!$B:$J,7,0)),IF(ISERROR(VLOOKUP($E17,新規登録!$B:$I,7,0)),\"未登録\",VLOOKUP($E17,新規登録!$B:$I,7,0)),$G$3))","v":""},{"$f":"IF($E17=\"\",\"\",IF(ISERROR(VLOOKUP($E17,氏名ﾃﾞｰﾀ!$B:$J,6,0)),IF(ISERROR(VLOOKUP($E17,新規登録!$B:$I,8,0)),\"ﾅｼ\",VLOOKUP($E17,新規登録!$B:$I,8,0)),(VLOOKUP($E17,氏名ﾃﾞｰﾀ!$B:$J,6,0))))","v":""},0,null,null,null,null,null,null,null,null,null,null,null,null,null,null,null,null,null,null,null,null,2,{"$f":"IF(N17=\"\",\"\",VLOOKUP(N17,ﾃﾞｰﾀ!A:D,4,0))","v":""},{"$f":"IF(AA17=\"\",CONCATENATE(AB17,\"秒\",AC17),CONCATENATE(IF(LEN(AA17)=1,CONCATENATE(\"0\",AA17),AA17),\"分\",IF(LEN(AB17)=1,CONCATENATE(\"0\",AB17),AB17),\"秒\",IF(LEN(AC17)=1,CONCATENATE(AC17,\"0\"),AC17)))","v":"秒"},"秒",null,null,null,{"$f":"IF(AH17=1,IF(Z17=\"\",1000,VLOOKUP(Z17,ﾃﾞｰﾀ!F$3:G$62,2,FALSE)),1000)","v":1000},{"$f":"IF(AR17=\"\",\"\",LEFT(AR17,3))","v":""},{"$f":"IF(AR17=\"\",\"\",LEFT(AR17,3))","v":""},{"$f":"IF(ISERROR(VLOOKUP(AO17,$A$16:$AH$215,5,0)),\"\",VLOOKUP(AO17,$A$16:$AH$215,5,0))","v":""},"",{"$f":"IF(AR17=\"\",\"\",VLOOKUP(AR17,$E$16:$AK$215,32,0))","v":""},{"$f":"IF(AH17=1,IF(AD17=\"\",1000,VLOOKUP(AD17,ﾃﾞｰﾀ!F$3:H$62,3,FALSE)),1000)","v":1000},{"$f":"IF(AX17=\"\",\"\",LEFT(AX17,3))","v":""},{"$f":"IF(AX17=\"\",\"\",LEFT(AX17,3))","v":""},"",{"$f":"IF(AX17=\"\",\"\",VLOOKUP(AX17,$E$16:$AG$215,26,0))","v":""},{"$f":"IF(AX17=\"\",\"\",VLOOKUP(AX17,$E$16:$AK$215,33,0))","v":""},{"$f":"IF(AH17=2,IF(Z17=\"\",1000,VLOOKUP(Z17,ﾃﾞｰﾀ!F$3:I$62,4,FALSE)),1000)","v":1000},{"$f":"IF(BD17=\"\",\"\",LEFT(BD17,3))","v":""},{"$f":"IF(BD17=\"\",\"\",LEFT(BD17,3))","v":""},{"$f":"IF(ISERROR(VLOOKUP(BA17,$A$16:$AH$215,5,0)),\"\",VLOOKUP(BA17,$A$16:$AH$215,5,0))","v":""},"",{"$f":"IF(BD17=\"\",\"\",VLOOKUP(BD17,$E$16:$AK$215,32,0))","v":""},{"$f":"IF(AH17=2,IF(AD17=\"\",1000,VLOOKUP(AD17,ﾃﾞｰﾀ!F$3:J$62,5,FALSE)),1000)","v":1000},{"$f":"IF(BJ17=\"\",\"\",LEFT(BJ17,3))","v":""},{"$f":"IF(BJ17=\"\",\"\",LEFT(BJ17,3))","v":""},"","",{"$f":"IF(BJ17=\"\",\"\",VLOOKUP(BJ17,$E$16:$AK$215,33,0))","v":""}]
["","",{"$f":"IF(E18=\"\",\"\",IF(AH18=1,COUNTIF(AH$16:AH18,1)*10+2001-10,COUNTIF(AH$16:AH18,2)*10+6001-10))","v":""},3,null,{"$f":"IF($E18=\"\",\"\",IF(ISERROR(VLOOKUP($E18,氏名ﾃﾞｰﾀ!$B:$J,2,0)),IF(ISERROR(VLOOKUP($E18,新規登録!$B:$I,2,0)),\"未登録\",VLOOKUP($E18,新規登録!$B:$I,2,0)),(VLOOKUP($E18,氏名ﾃﾞｰﾀ!$B:$J,2,0))))","v":""},{"$f":"IF($E18=\"\",\"\",IF(ISERROR(VLOOKUP($E18,氏名ﾃﾞｰﾀ!$B:$J,3,0)),IF(ISERROR(VLOOKUP($E18,新規登録!$B:$I,3,0)),\"未登録\",VLOOKUP($E18,新規登録!$B:$I,3,0)),(VLOOKUP($E18,氏名ﾃﾞｰﾀ!$B:$J,3,0))))","v":""},{"$f":"IF($E18=\"\",\"\",IF(ISERROR(VLOOKUP($E18,氏名ﾃﾞｰﾀ!$B:$J,4,0)),IF(ISERROR(VLOOKUP($E18,新規登録!$B:$I,4,0)),\"未登録\",VLOOKUP($E18,新規登録!$B:$I,4,0)),(VLOOKUP($E18,氏名ﾃﾞｰﾀ!$B:$J,4,0))))","v":""},{"$f":"IF($E18=\"\",\"\",IF(ISERROR(VLOOKUP($E18,氏名ﾃﾞｰﾀ!$B:$J,5,0)),IF(ISERROR(VLOOKUP($E18,新規登録!$B:$I,5,0)),\"未登録\",VLOOKUP($E18,新規登録!$B:$I,5,0)),(VLOOKUP($E18,氏名ﾃﾞｰﾀ!$B:$J,5,0))))","v":""},{"$f":"IF($E18=\"\",\"\",IF(ISERROR(VLOOKUP($E18,氏名ﾃﾞｰﾀ!$B:$J,8,0)),IF(ISERROR(VLOOKUP($E18,新規登録!$B:$I,6,0)),\"未登録\",VLOOKUP($E18,新規登録!$B:$I,6,0)),(VLOOKUP($E18,氏名ﾃﾞｰﾀ!$B:$J,8,0))))","v":""},{"$f":"IF($E18=\"\",\"\",IF(ISERROR(VLOOKUP($E18,氏名ﾃﾞｰﾀ!$B:$J,7,0)),IF(ISERROR(VLOOKUP($E18,新規登録!$B:$I,7,0)),\"未登録\",VLOOKUP($E18,新規登録!$B:$I,7,0)),$G$3))","v":""},{"$f":"IF($E18=\"\",\"\",IF(ISERROR(VLOOKUP($E18,氏名ﾃﾞｰﾀ!$B:$J,6,0)),IF(ISERROR(VLOOKUP($E18,新規登録!$B:$I,8,0)),\"ﾅｼ\",VLOOKUP($E18,新規登録!$B:$I,8,0)),(VLOOKUP($E18,氏名ﾃﾞｰﾀ!$B:$J,6,0))))","v":""},0,null,null,null,null,null,null,null,null,null,null,null,null,null,null,null,null,null,null,null,null,2,{"$f":"IF(N18=\"\",\"\",VLOOKUP(N18,ﾃﾞｰﾀ!A:D,4,0))","v":""},"秒","秒",null,null,null,{"$f":"IF(AH18=1,IF(Z18=\"\",1000,VLOOKUP(Z18,ﾃﾞｰﾀ!F$3:G$62,2,FALSE)),1000)","v":1000},"","","","","",{"$f":"IF(AH18=1,IF(AD18=\"\",1000,VLOOKUP(AD18,ﾃﾞｰﾀ!F$3:H$62,3,FALSE)),1000)","v":1000},"","","","","",{"$f":"IF(AH18=2,IF(Z18=\"\",1000,VLOOKUP(Z18,ﾃﾞｰﾀ!F$3:I$62,4,FALSE)),1000)","v":1000},"","","","","",{"$f":"IF(AH18=2,IF(AD18=\"\",1000,VLOOKUP(AD18,ﾃﾞｰﾀ!F$3:J$62,5,FALSE)),1000)","v":1000},"","","","",""]
["",{"$f":"IF(AD19=\"\",\"\",IF(L19=\"男\",VLOOKUP(AD19,ﾘﾚｰｺｰﾄﾞ,3,0),VLOOKUP(AD19,ﾘﾚｰｺｰﾄﾞ,5,0)))","v":""},{"$f":"IF(E19=\"\",\"\",IF(AH19=1,COUNTIF(AH$16:AH19,1)*10+2001-10,COUNTIF(AH$16:AH19,2)*10+6001-10))","v":""},4,null,{"$f":"IF($E19=\"\",\"\",IF(ISERROR(VLOOKUP($E19,氏名ﾃﾞｰﾀ!$B:$J,2,0)),IF(ISERROR(VLOOKUP($E19,新規登録!$B:$I,2,0)),\"未登録\",VLOOKUP($E19,新規登録!$B:$I,2,0)),(VLOOKUP($E19,氏名ﾃﾞｰﾀ!$B:$J,2,0))))","v":""},{"$f":"IF($E19=\"\",\"\",IF(ISERROR(VLOOKUP($E19,氏名ﾃﾞｰﾀ!$B:$J,3,0)),IF(ISERROR(VLOOKUP($E19,新規登録!$B:$I,3,0)),\"未登録\",VLOOKUP($E19,新規登録!$B:$I,3,0)),(VLOOKUP($E19,氏名ﾃﾞｰﾀ!$B:$J,3,0))))","v":""},{"$f":"IF($E19=\"\",\"\",IF(ISERROR(VLOOKUP($E19,氏名ﾃﾞｰﾀ!$B:$J,4,0)),IF(ISERROR(VLOOKUP($E19,新規登録!$B:$I,4,0)),\"未登録\",VLOOKUP($E19,新規登録!$B:$I,4,0)),(VLOOKUP($E19,氏名ﾃﾞｰﾀ!$B:$J,4,0))))","v":""},{"$f":"IF($E19=\"\",\"\",IF(ISERROR(VLOOKUP($E19,氏名ﾃﾞｰﾀ!$B:$J,5,0)),IF(ISERROR(VLOOKUP($E19,新規登録!$B:$I,5,0)),\"未登録\",VLOOKUP($E19,新規登録!$B:$I,5,0)),(VLOOKUP($E19,氏名ﾃﾞｰﾀ!$B:$J,5,0))))","v":""},{"$f":"IF($E19=\"\",\"\",IF(ISERROR(VLOOKUP($E19,氏名ﾃﾞｰﾀ!$B:$J,8,0)),IF(ISERROR(VLOOKUP($E19,新規登録!$B:$I,6,0)),\"未登録\",VLOOKUP($E19,新規登録!$B:$I,6,0)),(VLOOKUP($E19,氏名ﾃﾞｰﾀ!$B:$J,8,0))))","v":""},{"$f":"IF($E19=\"\",\"\",IF(ISERROR(VLOOKUP($E19,氏名ﾃﾞｰﾀ!$B:$J,7,0)),IF(ISERROR(VLOOKUP($E19,新規登録!$B:$I,7,0)),\"未登録\",VLOOKUP($E19,新規登録!$B:$I,7,0)),$G$3))","v":""},{"$f":"IF($E19=\"\",\"\",IF(ISERROR(VLOOKUP($E19,氏名ﾃﾞｰﾀ!$B:$J,6,0)),IF(ISERROR(VLOOKUP($E19,新規登録!$B:$I,8,0)),\"ﾅｼ\",VLOOKUP($E19,新規登録!$B:$I,8,0)),(VLOOKUP($E19,氏名ﾃﾞｰﾀ!$B:$J,6,0))))","v":""},0,null,null,null,null,null,null,null,null,null,null,null,null,null,null,null,null,null,null,null,null,2,{"$f":"IF(N19=\"\",\"\",VLOOKUP(N19,ﾃﾞｰﾀ!A:D,4,0))","v":""},"秒","秒",null,null,null,{"$f":"IF(AH19=1,IF(Z19=\"\",1000,VLOOKUP(Z19,ﾃﾞｰﾀ!F$3:G$62,2,FALSE)),1000)","v":1000},"","","","","",{"$f":"IF(AH19=1,IF(AD19=\"\",1000,VLOOKUP(AD19,ﾃﾞｰﾀ!F$3:H$62,3,FALSE)),1000)","v":1000},"","","","","",{"$f":"IF(AH19=2,IF(Z19=\"\",1000,VLOOKUP(Z19,ﾃﾞｰﾀ!F$3:I$62,4,FALSE)),1000)","v":1000},"","","","","",{"$f":"IF(AH19=2,IF(AD19=\"\",1000,VLOOKUP(AD19,ﾃﾞｰﾀ!F$3:J$62,5,FALSE)),1000)","v":1000},"","",{"$f":"IF(ISERROR(VLOOKUP(BG19,$B$16:$AH$215,4,0)),\"\",VLOOKUP(BG19,$B$16:$AH$21545,4,0))","v":""},"",""]
["","",{"$f":"IF(E20=\"\",\"\",IF(AH20=1,COUNTIF(AH$16:AH20,1)*10+2001-10,COUNTIF(AH$16:AH20,2)*10+6001-10))","v":""},5,null,{"$f":"IF($E20=\"\",\"\",IF(ISERROR(VLOOKUP($E20,氏名ﾃﾞｰﾀ!$B:$J,2,0)),IF(ISERROR(VLOOKUP($E20,新規登録!$B:$I,2,0)),\"未登録\",VLOOKUP($E20,新規登録!$B:$I,2,0)),(VLOOKUP($E20,氏名ﾃﾞｰﾀ!$B:$J,2,0))))","v":""},{"$f":"IF($E20=\"\",\"\",IF(ISERROR(VLOOKUP($E20,氏名ﾃﾞｰﾀ!$B:$J,3,0)),IF(ISERROR(VLOOKUP($E20,新規登録!$B:$I,3,0)),\"未登録\",VLOOKUP($E20,新規登録!$B:$I,3,0)),(VLOOKUP($E20,氏名ﾃﾞｰﾀ!$B:$J,3,0))))","v":""},{"$f":"IF($E20=\"\",\"\",IF(ISERROR(VLOOKUP($E20,氏名ﾃﾞｰﾀ!$B:$J,4,0)),IF(ISERROR(VLOOKUP($E20,新規登録!$B:$I,4,0)),\"未登録\",VLOOKUP($E20,新規登録!$B:$I,4,0)),(VLOOKUP($E20,氏名ﾃﾞｰﾀ!$B:$J,4,0))))","v":""},{"$f":"IF($E20=\"\",\"\",IF(ISERROR(VLOOKUP($E20,氏名ﾃﾞｰﾀ!$B:$J,5,0)),IF(ISERROR(VLOOKUP($E20,新規登録!$B:$I,5,0)),\"未登録\",VLOOKUP($E20,新規登録!$B:$I,5,0)),(VLOOKUP($E20,氏名ﾃﾞｰﾀ!$B:$J,5,0))))","v":""},{"$f":"IF($E20=\"\",\"\",IF(ISERROR(VLOOKUP($E20,氏名ﾃﾞｰﾀ!$B:$J,8,0)),IF(ISERROR(VLOOKUP($E20,新規登録!$B:$I,6,0)),\"未登録\",VLOOKUP($E20,新規登録!$B:$I,6,0)),(VLOOKUP($E20,氏名ﾃﾞｰﾀ!$B:$J,8,0))))","v":""},{"$f":"IF($E20=\"\",\"\",IF(ISERROR(VLOOKUP($E20,氏名ﾃﾞｰﾀ!$B:$J,7,0)),IF(ISERROR(VLOOKUP($E20,新規登録!$B:$I,7,0)),\"未登録\",VLOOKUP($E20,新規登録!$B:$I,7,0)),$G$3))","v":""},{"$f":"IF($E20=\"\",\"\",IF(ISERROR(VLOOKUP($E20,氏名ﾃﾞｰﾀ!$B:$J,6,0)),IF(ISERROR(VLOOKUP($E20,新規登録!$B:$I,8,0)),\"ﾅｼ\",VLOOKUP($E20,新規登録!$B:$I,8,0)),(VLOOKUP($E20,氏名ﾃﾞｰﾀ!$B:$J,6,0))))","v":""},0,null,null,null,null,null,null,null,null,null,null,null,null,null,null,null,null,null,null,null,null,2,{"$f":"IF(N20=\"\",\"\",VLOOKUP(N20,ﾃﾞｰﾀ!A:D,4,0))","v":""},"秒","秒",null,null,null,{"$f":"IF(AH20=1,IF(Z20=\"\",1000,VLOOKUP(Z20,ﾃﾞｰﾀ!F$3:G$62,2,FALSE)),1000)","v":1000},"","","","",{"$f":"IF(AR20=\"\",\"\",VLOOKUP(AR20,$E$16:$AK$215,32,0))","v":""},{"$f":"IF(AH20=1,IF(AD20=\"\",1000,VLOOKUP(AD20,ﾃﾞｰﾀ!F$3:H$62,3,FALSE)),1000)","v":1000},"","","","","",{"$f":"IF(AH20=2,IF(Z20=\"\",1000,VLOOKUP(Z20,ﾃﾞｰﾀ!F$3:I$62,4,FALSE)),1000)","v":1000},"","","","","",{"$f":"IF(AH20=2,IF(AD20=\"\",1000,VLOOKUP(AD20,ﾃﾞｰﾀ!F$3:J$62,5,FALSE)),1000)","v":1000},"","","","",""]
["","",{"$f":"IF(E21=\"\",\"\",IF(AH21=1,COUNTIF(AH$16:AH21,1)*10+2001-10,COUNTIF(AH$16:AH21,2)*10+6001-10))","v":""},6,null,{"$f":"IF($E21=\"\",\"\",IF(ISERROR(VLOOKUP($E21,氏名ﾃﾞｰﾀ!$B:$J,2,0)),IF(ISERROR(VLOOKUP($E21,新規登録!$B:$I,2,0)),\"未登録\",VLOOKUP($E21,新規登録!$B:$I,2,0)),(VLOOKUP($E21,氏名ﾃﾞｰﾀ!$B:$J,2,0))))","v":""},{"$f":"IF($E21=\"\",\"\",IF(ISERROR(VLOOKUP($E21,氏名ﾃﾞｰﾀ!$B:$J,3,0)),IF(ISERROR(VLOOKUP($E21,新規登録!$B:$I,3,0)),\"未登録\",VLOOKUP($E21,新規登録!$B:$I,3,0)),(VLOOKUP($E21,氏名ﾃﾞｰﾀ!$B:$J,3,0))))","v":""},{"$f":"IF($E21=\"\",\"\",IF(ISERROR(VLOOKUP($E21,氏名ﾃﾞｰﾀ!$B:$J,4,0)),IF(ISERROR(VLOOKUP($E21,新規登録!$B:$I,4,0)),\"未登録\",VLOOKUP($E21,新規登録!$B:$I,4,0)),(VLOOKUP($E21,氏名ﾃﾞｰﾀ!$B:$J,4,0))))","v":""},{"$f":"IF($E21=\"\",\"\",IF(ISERROR(VLOOKUP($E21,氏名ﾃﾞｰﾀ!$B:$J,5,0)),IF(ISERROR(VLOOKUP($E21,新規登録!$B:$I,5,0)),\"未登録\",VLOOKUP($E21,新規登録!$B:$I,5,0)),(VLOOKUP($E21,氏名ﾃﾞｰﾀ!$B:$J,5,0))))","v":""},{"$f":"IF($E21=\"\",\"\",IF(ISERROR(VLOOKUP($E21,氏名ﾃﾞｰﾀ!$B:$J,8,0)),IF(ISERROR(VLOOKUP($E21,新規登録!$B:$I,6,0)),\"未登録\",VLOOKUP($E21,新規登録!$B:$I,6,0)),(VLOOKUP($E21,氏名ﾃﾞｰﾀ!$B:$J,8,0))))","v":""},{"$f":"IF($E21=\"\",\"\",IF(ISERROR(VLOOKUP($E21,氏名ﾃﾞｰﾀ!$B:$J,7,0)),IF(ISERROR(VLOOKUP($E21,新規登録!$B:$I,7,0)),\"未登録\",VLOOKUP($E21,新規登録!$B:$I,7,0)),$G$3))","v":""},{"$f":"IF($E21=\"\",\"\",IF(ISERROR(VLOOKUP($E21,氏名ﾃﾞｰﾀ!$B:$J,6,0)),IF(ISERROR(VLOOKUP($E21,新規登録!$B:$I,8,0)),\"ﾅｼ\",VLOOKUP($E21,新規登録!$B:$I,8,0)),(VLOOKUP($E21,氏名ﾃﾞｰﾀ!$B:$J,6,0))))","v":""},0,null,null,null,null,null,null,null,null,null,null,null,null,null,null,null,null,null,null,null,null,2,{"$f":"IF(N21=\"\",\"\",VLOOKUP(N21,ﾃﾞｰﾀ!A:D,4,0))","v":""},"秒","秒",null,null,null,{"$f":"IF(AH21=1,IF(Z21=\"\",1000,VLOOKUP(Z21,ﾃﾞｰﾀ!F$3:G$62,2,FALSE)),1000)","v":1000},"","","","","",{"$f":"IF(AH21=1,IF(AD21=\"\",1000,VLOOKUP(AD21,ﾃﾞｰﾀ!F$3:H$62,3,FALSE)),1000)","v":1000},"","","","","",{"$f":"IF(AH21=2,IF(Z21=\"\",1000,VLOOKUP(Z21,ﾃﾞｰﾀ!F$3:I$62,4,FALSE)),1000)","v":1000},"","","","","",{"$f":"IF(AH21=2,IF(AD21=\"\",1000,VLOOKUP(AD21,ﾃﾞｰﾀ!F$3:J$62,5,FALSE)),1000)","v":1000},"","","","",""]
["","",{"$f":"IF(E22=\"\",\"\",IF(AH22=1,COUNTIF(AH$16:AH22,1)*10+2001-10,COUNTIF(AH$16:AH22,2)*10+6001-10))","v":""},7,null,{"$f":"IF($E22=\"\",\"\",IF(ISERROR(VLOOKUP($E22,氏名ﾃﾞｰﾀ!$B:$J,2,0)),IF(ISERROR(VLOOKUP($E22,新規登録!$B:$I,2,0)),\"未登録\",VLOOKUP($E22,新規登録!$B:$I,2,0)),(VLOOKUP($E22,氏名ﾃﾞｰﾀ!$B:$J,2,0))))","v":""},{"$f":"IF($E22=\"\",\"\",IF(ISERROR(VLOOKUP($E22,氏名ﾃﾞｰﾀ!$B:$J,3,0)),IF(ISERROR(VLOOKUP($E22,新規登録!$B:$I,3,0)),\"未登録\",VLOOKUP($E22,新規登録!$B:$I,3,0)),(VLOOKUP($E22,氏名ﾃﾞｰﾀ!$B:$J,3,0))))","v":""},{"$f":"IF($E22=\"\",\"\",IF(ISERROR(VLOOKUP($E22,氏名ﾃﾞｰﾀ!$B:$J,4,0)),IF(ISERROR(VLOOKUP($E22,新規登録!$B:$I,4,0)),\"未登録\",VLOOKUP($E22,新規登録!$B:$I,4,0)),(VLOOKUP($E22,氏名ﾃﾞｰﾀ!$B:$J,4,0))))","v":""},{"$f":"IF($E22=\"\",\"\",IF(ISERROR(VLOOKUP($E22,氏名ﾃﾞｰﾀ!$B:$J,5,0)),IF(ISERROR(VLOOKUP($E22,新規登録!$B:$I,5,0)),\"未登録\",VLOOKUP($E22,新規登録!$B:$I,5,0)),(VLOOKUP($E22,氏名ﾃﾞｰﾀ!$B:$J,5,0))))","v":""},{"$f":"IF($E22=\"\",\"\",IF(ISERROR(VLOOKUP($E22,氏名ﾃﾞｰﾀ!$B:$J,8,0)),IF(ISERROR(VLOOKUP($E22,新規登録!$B:$I,6,0)),\"未登録\",VLOOKUP($E22,新規登録!$B:$I,6,0)),(VLOOKUP($E22,氏名ﾃﾞｰﾀ!$B:$J,8,0))))","v":""},{"$f":"IF($E22=\"\",\"\",IF(ISERROR(VLOOKUP($E22,氏名ﾃﾞｰﾀ!$B:$J,7,0)),IF(ISERROR(VLOOKUP($E22,新規登録!$B:$I,7,0)),\"未登録\",VLOOKUP($E22,新規登録!$B:$I,7,0)),$G$3))","v":""},{"$f":"IF($E22=\"\",\"\",IF(ISERROR(VLOOKUP($E22,氏名ﾃﾞｰﾀ!$B:$J,6,0)),IF(ISERROR(VLOOKUP($E22,新規登録!$B:$I,8,0)),\"ﾅｼ\",VLOOKUP($E22,新規登録!$B:$I,8,0)),(VLOOKUP($E22,氏名ﾃﾞｰﾀ!$B:$J,6,0))))","v":""},0,null,null,null,null,null,null,null,null,null,null,null,null,null,null,null,null,null,null,null,null,2,{"$f":"IF(N22=\"\",\"\",VLOOKUP(N22,ﾃﾞｰﾀ!A:D,4,0))","v":""},"秒","秒",null,null,null,{"$f":"IF(AH22=1,IF(Z22=\"\",1000,VLOOKUP(Z22,ﾃﾞｰﾀ!F$3:G$62,2,FALSE)),1000)","v":1000},{"$f":"IF(AR22=\"\",\"\",LEFT(AR22,3))","v":""},{"$f":"IF(AR22=\"\",\"\",LEFT(AR22,3))","v":""},{"$f":"IF(ISERROR(VLOOKUP(AO22,$A$16:$AH$215,5,0)),\"\",VLOOKUP(AO22,$A$16:$AH$215,5,0))","v":""},"",{"$f":"IF(AR22=\"\",\"\",VLOOKUP(AR22,$E$16:$AK$215,32,0))","v":""},{"$f":"IF(AH22=1,IF(AD22=\"\",1000,VLOOKUP(AD22,ﾃﾞｰﾀ!F$3:H$62,3,FALSE)),1000)","v":1000},{"$f":"IF(AX22=\"\",\"\",LEFT(AX22,3))","v":""},{"$f":"IF(AX22=\"\",\"\",LEFT(AX22,3))","v":""},{"$f":"IF(ISERROR(VLOOKUP(AU22,$B$16:$AH$215,4,0)),\"\",VLOOKUP(AU22,$B$16:$AH$21545,4,0))","v":""},{"$f":"IF(AX22=\"\",\"\",VLOOKUP(AX22,$E$16:$AG$215,26,0))","v":""},{"$f":"IF(AX22=\"\",\"\",VLOOKUP(AX22,$E$16:$AK$215,33,0))","v":""},{"$f":"IF(AH22=2,IF(Z22=\"\",1000,VLOOKUP(Z22,ﾃﾞｰﾀ!F$3:I$62,4,FALSE)),1000)","v":1000},{"$f":"IF(BD22=\"\",\"\",LEFT(BD22,3))","v":""},{"$f":"IF(BD22=\"\",\"\",LEFT(BD22,3))","v":""},{"$f":"IF(ISERROR(VLOOKUP(BA22,$A$16:$AH$215,5,0)),\"\",VLOOKUP(BA22,$A$16:$AH$215,5,0))","v":""},{"$f":"IF(BD22=\"\",\"\",VLOOKUP(BD22,$E$16:$AG$215,22,0))","v":""},{"$f":"IF(BD22=\"\",\"\",VLOOKUP(BD22,$E$16:$AK$215,32,0))","v":""},{"$f":"IF(AH22=2,IF(AD22=\"\",1000,VLOOKUP(AD22,ﾃﾞｰﾀ!F$3:J$62,5,FALSE)),1000)","v":1000},{"$f":"IF(BJ22=\"\",\"\",LEFT(BJ22,3))","v":""},{"$f":"IF(BJ22=\"\",\"\",LEFT(BJ22,3))","v":""},{"$f":"IF(ISERROR(VLOOKUP(BG22,$B$16:$AH$215,4,0)),\"\",VLOOKUP(BG22,$B$16:$AH$21545,4,0))","v":""},{"$f":"IF(BJ22=\"\",\"\",VLOOKUP(BJ22,$E$16:$AG$215,26,0))","v":""},{"$f":"IF(BJ22=\"\",\"\",VLOOKUP(BJ22,$E$16:$AK$215,33,0))","v":""}]
["","",{"$f":"IF(E23=\"\",\"\",IF(AH23=1,COUNTIF(AH$16:AH23,1)*10+2001-10,COUNTIF(AH$16:AH23,2)*10+6001-10))","v":""},8,null,{"$f":"IF($E23=\"\",\"\",IF(ISERROR(VLOOKUP($E23,氏名ﾃﾞｰﾀ!$B:$J,2,0)),IF(ISERROR(VLOOKUP($E23,新規登録!$B:$I,2,0)),\"未登録\",VLOOKUP($E23,新規登録!$B:$I,2,0)),(VLOOKUP($E23,氏名ﾃﾞｰﾀ!$B:$J,2,0))))","v":""},{"$f":"IF($E23=\"\",\"\",IF(ISERROR(VLOOKUP($E23,氏名ﾃﾞｰﾀ!$B:$J,3,0)),IF(ISERROR(VLOOKUP($E23,新規登録!$B:$I,3,0)),\"未登録\",VLOOKUP($E23,新規登録!$B:$I,3,0)),(VLOOKUP($E23,氏名ﾃﾞｰﾀ!$B:$J,3,0))))","v":""},{"$f":"IF($E23=\"\",\"\",IF(ISERROR(VLOOKUP($E23,氏名ﾃﾞｰﾀ!$B:$J,4,0)),IF(ISERROR(VLOOKUP($E23,新規登録!$B:$I,4,0)),\"未登録\",VLOOKUP($E23,新規登録!$B:$I,4,0)),(VLOOKUP($E23,氏名ﾃﾞｰﾀ!$B:$J,4,0))))","v":""},{"$f":"IF($E23=\"\",\"\",IF(ISERROR(VLOOKUP($E23,氏名ﾃﾞｰﾀ!$B:$J,5,0)),IF(ISERROR(VLOOKUP($E23,新規登録!$B:$I,5,0)),\"未登録\",VLOOKUP($E23,新規登録!$B:$I,5,0)),(VLOOKUP($E23,氏名ﾃﾞｰﾀ!$B:$J,5,0))))","v":""},{"$f":"IF($E23=\"\",\"\",IF(ISERROR(VLOOKUP($E23,氏名ﾃﾞｰﾀ!$B:$J,8,0)),IF(ISERROR(VLOOKUP($E23,新規登録!$B:$I,6,0)),\"未登録\",VLOOKUP($E23,新規登録!$B:$I,6,0)),(VLOOKUP($E23,氏名ﾃﾞｰﾀ!$B:$J,8,0))))","v":""},{"$f":"IF($E23=\"\",\"\",IF(ISERROR(VLOOKUP($E23,氏名ﾃﾞｰﾀ!$B:$J,7,0)),IF(ISERROR(VLOOKUP($E23,新規登録!$B:$I,7,0)),\"未登録\",VLOOKUP($E23,新規登録!$B:$I,7,0)),$G$3))","v":""},{"$f":"IF($E23=\"\",\"\",IF(ISERROR(VLOOKUP($E23,氏名ﾃﾞｰﾀ!$B:$J,6,0)),IF(ISERROR(VLOOKUP($E23,新規登録!$B:$I,8,0)),\"ﾅｼ\",VLOOKUP($E23,新規登録!$B:$I,8,0)),(VLOOKUP($E23,氏名ﾃﾞｰﾀ!$B:$J,6,0))))","v":""},0,null,null,null,null,null,null,null,null,null,null,null,null,null,null,null,null,null,null,null,null,2,{"$f":"IF(N23=\"\",\"\",VLOOKUP(N23,ﾃﾞｰﾀ!A:D,4,0))","v":""},"秒","秒",null,null,null,{"$f":"IF(AH23=1,IF(Z23=\"\",1000,VLOOKUP(Z23,ﾃﾞｰﾀ!F$3:G$62,2,FALSE)),1000)","v":1000},{"$f":"IF(AR23=\"\",\"\",LEFT(AR23,3))","v":""},{"$f":"IF(AR23=\"\",\"\",LEFT(AR23,3))","v":""},"","",{"$f":"IF(AR23=\"\",\"\",VLOOKUP(AR23,$E$16:$AK$215,32,0))","v":""},{"$f":"IF(AH23=1,IF(AD23=\"\",1000,VLOOKUP(AD23,ﾃﾞｰﾀ!F$3:H$62,3,FALSE)),1000)","v":1000},{"$f":"IF(AX23=\"\",\"\",LEFT(AX23,3))","v":""},{"$f":"IF(AX23=\"\",\"\",LEFT(AX23,3))","v":""},"","",{"$f":"IF(AX23=\"\",\"\",VLOOKUP(AX23,$E$16:$AK$215,33,0))","v":""},{"$f":"IF(AH23=2,IF(Z23=\"\",1000,VLOOKUP(Z23,ﾃﾞｰﾀ!F$3:I$62,4,FALSE)),1000)","v":1000},{"$f":"IF(BD23=\"\",\"\",LEFT(BD23,3))","v":""},{"$f":"IF(BD23=\"\",\"\",LEFT(BD23,3))","v":""},"","",{"$f":"IF(BD23=\"\",\"\",VLOOKUP(BD23,$E$16:$AK$215,32,0))","v":""},{"$f":"IF(AH23=2,IF(AD23=\"\",1000,VLOOKUP(AD23,ﾃﾞｰﾀ!F$3:J$62,5,FALSE)),1000)","v":1000},{"$f":"IF(BJ23=\"\",\"\",LEFT(BJ23,3))","v":""},{"$f":"IF(BJ23=\"\",\"\",LEFT(BJ23,3))","v":""},"","",{"$f":"IF(BJ23=\"\",\"\",VLOOKUP(BJ23,$E$16:$AK$215,33,0))","v":""}]
["","",{"$f":"IF(E24=\"\",\"\",IF(AH24=1,COUNTIF(AH$16:AH24,1)*10+2001-10,COUNTIF(AH$16:AH24,2)*10+6001-10))","v":""},9,null,{"$f":"IF($E24=\"\",\"\",IF(ISERROR(VLOOKUP($E24,氏名ﾃﾞｰﾀ!$B:$J,2,0)),IF(ISERROR(VLOOKUP($E24,新規登録!$B:$I,2,0)),\"未登録\",VLOOKUP($E24,新規登録!$B:$I,2,0)),(VLOOKUP($E24,氏名ﾃﾞｰﾀ!$B:$J,2,0))))","v":""},{"$f":"IF($E24=\"\",\"\",IF(ISERROR(VLOOKUP($E24,氏名ﾃﾞｰﾀ!$B:$J,3,0)),IF(ISERROR(VLOOKUP($E24,新規登録!$B:$I,3,0)),\"未登録\",VLOOKUP($E24,新規登録!$B:$I,3,0)),(VLOOKUP($E24,氏名ﾃﾞｰﾀ!$B:$J,3,0))))","v":""},{"$f":"IF($E24=\"\",\"\",IF(ISERROR(VLOOKUP($E24,氏名ﾃﾞｰﾀ!$B:$J,4,0)),IF(ISERROR(VLOOKUP($E24,新規登録!$B:$I,4,0)),\"未登録\",VLOOKUP($E24,新規登録!$B:$I,4,0)),(VLOOKUP($E24,氏名ﾃﾞｰﾀ!$B:$J,4,0))))","v":""},{"$f":"IF($E24=\"\",\"\",IF(ISERROR(VLOOKUP($E24,氏名ﾃﾞｰﾀ!$B:$J,5,0)),IF(ISERROR(VLOOKUP($E24,新規登録!$B:$I,5,0)),\"未登録\",VLOOKUP($E24,新規登録!$B:$I,5,0)),(VLOOKUP($E24,氏名ﾃﾞｰﾀ!$B:$J,5,0))))","v":""},{"$f":"IF($E24=\"\",\"\",IF(ISERROR(VLOOKUP($E24,氏名ﾃﾞｰﾀ!$B:$J,8,0)),IF(ISERROR(VLOOKUP($E24,新規登録!$B:$I,6,0)),\"未登録\",VLOOKUP($E24,新規登録!$B:$I,6,0)),(VLOOKUP($E24,氏名ﾃﾞｰﾀ!$B:$J,8,0))))","v":""},{"$f":"IF($E24=\"\",\"\",IF(ISERROR(VLOOKUP($E24,氏名ﾃﾞｰﾀ!$B:$J,7,0)),IF(ISERROR(VLOOKUP($E24,新規登録!$B:$I,7,0)),\"未登録\",VLOOKUP($E24,新規登録!$B:$I,7,0)),$G$3))","v":""},{"$f":"IF($E24=\"\",\"\",IF(ISERROR(VLOOKUP($E24,氏名ﾃﾞｰﾀ!$B:$J,6,0)),IF(ISERROR(VLOOKUP($E24,新規登録!$B:$I,8,0)),\"ﾅｼ\",VLOOKUP($E24,新規登録!$B:$I,8,0)),(VLOOKUP($E24,氏名ﾃﾞｰﾀ!$B:$J,6,0))))","v":""},0,null,null,null,null,null,null,null,null,null,null,null,null,null,null,null,null,null,null,null,null,2,{"$f":"IF(N24=\"\",\"\",VLOOKUP(N24,ﾃﾞｰﾀ!A:D,4,0))","v":""},"秒","秒",null,null,null,{"$f":"IF(AH24=1,IF(Z24=\"\",1000,VLOOKUP(Z24,ﾃﾞｰﾀ!F$3:G$62,2,FALSE)),1000)","v":1000},"","","","","",{"$f":"IF(AH24=1,IF(AD24=\"\",1000,VLOOKUP(AD24,ﾃﾞｰﾀ!F$3:H$62,3,FALSE)),1000)","v":1000},"","","","","",{"$f":"IF(AH24=2,IF(Z24=\"\",1000,VLOOKUP(Z24,ﾃﾞｰﾀ!F$3:I$62,4,FALSE)),1000)","v":1000},"","","","","",{"$f":"IF(AH24=2,IF(AD24=\"\",1000,VLOOKUP(AD24,ﾃﾞｰﾀ!F$3:J$62,5,FALSE)),1000)","v":1000},"","","","",""]
["","",{"$f":"IF(E25=\"\",\"\",IF(AH25=1,COUNTIF(AH$16:AH25,1)*10+2001-10,COUNTIF(AH$16:AH25,2)*10+6001-10))","v":""},10,null,{"$f":"IF($E25=\"\",\"\",IF(ISERROR(VLOOKUP($E25,氏名ﾃﾞｰﾀ!$B:$J,2,0)),IF(ISERROR(VLOOKUP($E25,新規登録!$B:$I,2,0)),\"未登録\",VLOOKUP($E25,新規登録!$B:$I,2,0)),(VLOOKUP($E25,氏名ﾃﾞｰﾀ!$B:$J,2,0))))","v":""},{"$f":"IF($E25=\"\",\"\",IF(ISERROR(VLOOKUP($E25,氏名ﾃﾞｰﾀ!$B:$J,3,0)),IF(ISERROR(VLOOKUP($E25,新規登録!$B:$I,3,0)),\"未登録\",VLOOKUP($E25,新規登録!$B:$I,3,0)),(VLOOKUP($E25,氏名ﾃﾞｰﾀ!$B:$J,3,0))))","v":""},{"$f":"IF($E25=\"\",\"\",IF(ISERROR(VLOOKUP($E25,氏名ﾃﾞｰﾀ!$B:$J,4,0)),IF(ISERROR(VLOOKUP($E25,新規登録!$B:$I,4,0)),\"未登録\",VLOOKUP($E25,新規登録!$B:$I,4,0)),(VLOOKUP($E25,氏名ﾃﾞｰﾀ!$B:$J,4,0))))","v":""},{"$f":"IF($E25=\"\",\"\",IF(ISERROR(VLOOKUP($E25,氏名ﾃﾞｰﾀ!$B:$J,5,0)),IF(ISERROR(VLOOKUP($E25,新規登録!$B:$I,5,0)),\"未登録\",VLOOKUP($E25,新規登録!$B:$I,5,0)),(VLOOKUP($E25,氏名ﾃﾞｰﾀ!$B:$J,5,0))))","v":""},{"$f":"IF($E25=\"\",\"\",IF(ISERROR(VLOOKUP($E25,氏名ﾃﾞｰﾀ!$B:$J,8,0)),IF(ISERROR(VLOOKUP($E25,新規登録!$B:$I,6,0)),\"未登録\",VLOOKUP($E25,新規登録!$B:$I,6,0)),(VLOOKUP($E25,氏名ﾃﾞｰﾀ!$B:$J,8,0))))","v":""},{"$f":"IF($E25=\"\",\"\",IF(ISERROR(VLOOKUP($E25,氏名ﾃﾞｰﾀ!$B:$J,7,0)),IF(ISERROR(VLOOKUP($E25,新規登録!$B:$I,7,0)),\"未登録\",VLOOKUP($E25,新規登録!$B:$I,7,0)),$G$3))","v":""},{"$f":"IF($E25=\"\",\"\",IF(ISERROR(VLOOKUP($E25,氏名ﾃﾞｰﾀ!$B:$J,6,0)),IF(ISERROR(VLOOKUP($E25,新規登録!$B:$I,8,0)),\"ﾅｼ\",VLOOKUP($E25,新規登録!$B:$I,8,0)),(VLOOKUP($E25,氏名ﾃﾞｰﾀ!$B:$J,6,0))))","v":""},0,null,null,null,null,null,null,null,null,null,null,null,null,null,null,null,null,null,null,null,null,2,{"$f":"IF(N25=\"\",\"\",VLOOKUP(N25,ﾃﾞｰﾀ!A:D,4,0))","v":""},"秒","秒",null,null,null,{"$f":"IF(AH25=1,IF(Z25=\"\",1000,VLOOKUP(Z25,ﾃﾞｰﾀ!F$3:G$62,2,FALSE)),1000)","v":1000},"","","","","",{"$f":"IF(AH25=1,IF(AD25=\"\",1000,VLOOKUP(AD25,ﾃﾞｰﾀ!F$3:H$62,3,FALSE)),1000)","v":1000},"","","","","",{"$f":"IF(AH25=2,IF(Z25=\"\",1000,VLOOKUP(Z25,ﾃﾞｰﾀ!F$3:I$62,4,FALSE)),1000)","v":1000},{"$f":"IF(BD25=\"\",\"\",LEFT(BD25,3))","v":""},"",{"$f":"IF(ISERROR(VLOOKUP(BA25,$A$16:$AH$215,5,0)),\"\",VLOOKUP(BA25,$A$16:$AH$215,5,0))","v":""},"","",{"$f":"IF(AH25=2,IF(AD25=\"\",1000,VLOOKUP(AD25,ﾃﾞｰﾀ!F$3:J$62,5,FALSE)),1000)","v":1000},"","","","",""]
["","",{"$f":"IF(E26=\"\",\"\",IF(AH26=1,COUNTIF(AH$16:AH26,1)*10+2001-10,COUNTIF(AH$16:AH26,2)*10+6001-10))","v":""},11,null,{"$f":"IF($E26=\"\",\"\",IF(ISERROR(VLOOKUP($E26,氏名ﾃﾞｰﾀ!$B:$J,2,0)),IF(ISERROR(VLOOKUP($E26,新規登録!$B:$I,2,0)),\"未登録\",VLOOKUP($E26,新規登録!$B:$I,2,0)),(VLOOKUP($E26,氏名ﾃﾞｰﾀ!$B:$J,2,0))))","v":""},{"$f":"IF($E26=\"\",\"\",IF(ISERROR(VLOOKUP($E26,氏名ﾃﾞｰﾀ!$B:$J,3,0)),IF(ISERROR(VLOOKUP($E26,新規登録!$B:$I,3,0)),\"未登録\",VLOOKUP($E26,新規登録!$B:$I,3,0)),(VLOOKUP($E26,氏名ﾃﾞｰﾀ!$B:$J,3,0))))","v":""},{"$f":"IF($E26=\"\",\"\",IF(ISERROR(VLOOKUP($E26,氏名ﾃﾞｰﾀ!$B:$J,4,0)),IF(ISERROR(VLOOKUP($E26,新規登録!$B:$I,4,0)),\"未登録\",VLOOKUP($E26,新規登録!$B:$I,4,0)),(VLOOKUP($E26,氏名ﾃﾞｰﾀ!$B:$J,4,0))))","v":""},{"$f":"IF($E26=\"\",\"\",IF(ISERROR(VLOOKUP($E26,氏名ﾃﾞｰﾀ!$B:$J,5,0)),IF(ISERROR(VLOOKUP($E26,新規登録!$B:$I,5,0)),\"未登録\",VLOOKUP($E26,新規登録!$B:$I,5,0)),(VLOOKUP($E26,氏名ﾃﾞｰﾀ!$B:$J,5,0))))","v":""},{"$f":"IF($E26=\"\",\"\",IF(ISERROR(VLOOKUP($E26,氏名ﾃﾞｰﾀ!$B:$J,8,0)),IF(ISERROR(VLOOKUP($E26,新規登録!$B:$I,6,0)),\"未登録\",VLOOKUP($E26,新規登録!$B:$I,6,0)),(VLOOKUP($E26,氏名ﾃﾞｰﾀ!$B:$J,8,0))))","v":""},{"$f":"IF($E26=\"\",\"\",IF(ISERROR(VLOOKUP($E26,氏名ﾃﾞｰﾀ!$B:$J,7,0)),IF(ISERROR(VLOOKUP($E26,新規登録!$B:$I,7,0)),\"未登録\",VLOOKUP($E26,新規登録!$B:$I,7,0)),$G$3))","v":""},{"$f":"IF($E26=\"\",\"\",IF(ISERROR(VLOOKUP($E26,氏名ﾃﾞｰﾀ!$B:$J,6,0)),IF(ISERROR(VLOOKUP($E26,新規登録!$B:$I,8,0)),\"ﾅｼ\",VLOOKUP($E26,新規登録!$B:$I,8,0)),(VLOOKUP($E26,氏名ﾃﾞｰﾀ!$B:$J,6,0))))","v":""},0,null,null,null,null,null,null,null,null,null,null,null,null,null,null,null,null,null,null,null,null,2,{"$f":"IF(N26=\"\",\"\",VLOOKUP(N26,ﾃﾞｰﾀ!A:D,4,0))","v":""},"秒","秒",null,null,null,{"$f":"IF(AH26=1,IF(Z26=\"\",1000,VLOOKUP(Z26,ﾃﾞｰﾀ!F$3:G$62,2,FALSE)),1000)","v":1000},"","","","","",{"$f":"IF(AH26=1,IF(AD26=\"\",1000,VLOOKUP(AD26,ﾃﾞｰﾀ!F$3:H$62,3,FALSE)),1000)","v":1000},"","","","","",{"$f":"IF(AH26=2,IF(Z26=\"\",1000,VLOOKUP(Z26,ﾃﾞｰﾀ!F$3:I$62,4,FALSE)),1000)","v":1000},"","","","","",{"$f":"IF(AH26=2,IF(AD26=\"\",1000,VLOOKUP(AD26,ﾃﾞｰﾀ!F$3:J$62,5,FALSE)),1000)","v":1000},{"$f":"IF(BJ26=\"\",\"\",LEFT(BJ26,3))","v":""},"",{"$f":"IF(ISERROR(VLOOKUP(BG26,$B$16:$AH$215,4,0)),\"\",VLOOKUP(BG26,$B$16:$AH$21545,4,0))","v":""},"",""]
["","",{"$f":"IF(E27=\"\",\"\",IF(AH27=1,COUNTIF(AH$16:AH27,1)*10+2001-10,COUNTIF(AH$16:AH27,2)*10+6001-10))","v":""},12,null,{"$f":"IF($E27=\"\",\"\",IF(ISERROR(VLOOKUP($E27,氏名ﾃﾞｰﾀ!$B:$J,2,0)),IF(ISERROR(VLOOKUP($E27,新規登録!$B:$I,2,0)),\"未登録\",VLOOKUP($E27,新規登録!$B:$I,2,0)),(VLOOKUP($E27,氏名ﾃﾞｰﾀ!$B:$J,2,0))))","v":""},{"$f":"IF($E27=\"\",\"\",IF(ISERROR(VLOOKUP($E27,氏名ﾃﾞｰﾀ!$B:$J,3,0)),IF(ISERROR(VLOOKUP($E27,新規登録!$B:$I,3,0)),\"未登録\",VLOOKUP($E27,新規登録!$B:$I,3,0)),(VLOOKUP($E27,氏名ﾃﾞｰﾀ!$B:$J,3,0))))","v":""},{"$f":"IF($E27=\"\",\"\",IF(ISERROR(VLOOKUP($E27,氏名ﾃﾞｰﾀ!$B:$J,4,0)),IF(ISERROR(VLOOKUP($E27,新規登録!$B:$I,4,0)),\"未登録\",VLOOKUP($E27,新規登録!$B:$I,4,0)),(VLOOKUP($E27,氏名ﾃﾞｰﾀ!$B:$J,4,0))))","v":""},{"$f":"IF($E27=\"\",\"\",IF(ISERROR(VLOOKUP($E27,氏名ﾃﾞｰﾀ!$B:$J,5,0)),IF(ISERROR(VLOOKUP($E27,新規登録!$B:$I,5,0)),\"未登録\",VLOOKUP($E27,新規登録!$B:$I,5,0)),(VLOOKUP($E27,氏名ﾃﾞｰﾀ!$B:$J,5,0))))","v":""},{"$f":"IF($E27=\"\",\"\",IF(ISERROR(VLOOKUP($E27,氏名ﾃﾞｰﾀ!$B:$J,8,0)),IF(ISERROR(VLOOKUP($E27,新規登録!$B:$I,6,0)),\"未登録\",VLOOKUP($E27,新規登録!$B:$I,6,0)),(VLOOKUP($E27,氏名ﾃﾞｰﾀ!$B:$J,8,0))))","v":""},{"$f":"IF($E27=\"\",\"\",IF(ISERROR(VLOOKUP($E27,氏名ﾃﾞｰﾀ!$B:$J,7,0)),IF(ISERROR(VLOOKUP($E27,新規登録!$B:$I,7,0)),\"未登録\",VLOOKUP($E27,新規登録!$B:$I,7,0)),$G$3))","v":""},{"$f":"IF($E27=\"\",\"\",IF(ISERROR(VLOOKUP($E27,氏名ﾃﾞｰﾀ!$B:$J,6,0)),IF(ISERROR(VLOOKUP($E27,新規登録!$B:$I,8,0)),\"ﾅｼ\",VLOOKUP($E27,新規登録!$B:$I,8,0)),(VLOOKUP($E27,氏名ﾃﾞｰﾀ!$B:$J,6,0))))","v":""},0,null,null,null,null,null,null,null,null,null,null,null,null,null,null,null,null,null,null,null,null,2,{"$f":"IF(N27=\"\",\"\",VLOOKUP(N27,ﾃﾞｰﾀ!A:D,4,0))","v":""},"秒","秒",null,null,null,{"$f":"IF(AH27=1,IF(Z27=\"\",1000,VLOOKUP(Z27,ﾃﾞｰﾀ!F$3:G$62,2,FALSE)),1000)","v":1000},"","","","","",{"$f":"IF(AH27=1,IF(AD27=\"\",1000,VLOOKUP(AD27,ﾃﾞｰﾀ!F$3:H$62,3,FALSE)),1000)","v":1000},"","","","","",{"$f":"IF(AH27=2,IF(Z27=\"\",1000,VLOOKUP(Z27,ﾃﾞｰﾀ!F$3:I$62,4,FALSE)),1000)","v":1000},"","","","","",{"$f":"IF(AH27=2,IF(AD27=\"\",1000,VLOOKUP(AD27,ﾃﾞｰﾀ!F$3:J$62,5,FALSE)),1000)","v":1000},"","","","",""]
["","",{"$f":"IF(E28=\"\",\"\",IF(AH28=1,COUNTIF(AH$16:AH28,1)*10+2001-10,COUNTIF(AH$16:AH28,2)*10+6001-10))","v":""},13,null,{"$f":"IF($E28=\"\",\"\",IF(ISERROR(VLOOKUP($E28,氏名ﾃﾞｰﾀ!$B:$J,2,0)),IF(ISERROR(VLOOKUP($E28,新規登録!$B:$I,2,0)),\"未登録\",VLOOKUP($E28,新規登録!$B:$I,2,0)),(VLOOKUP($E28,氏名ﾃﾞｰﾀ!$B:$J,2,0))))","v":""},{"$f":"IF($E28=\"\",\"\",IF(ISERROR(VLOOKUP($E28,氏名ﾃﾞｰﾀ!$B:$J,3,0)),IF(ISERROR(VLOOKUP($E28,新規登録!$B:$I,3,0)),\"未登録\",VLOOKUP($E28,新規登録!$B:$I,3,0)),(VLOOKUP($E28,氏名ﾃﾞｰﾀ!$B:$J,3,0))))","v":""},{"$f":"IF($E28=\"\",\"\",IF(ISERROR(VLOOKUP($E28,氏名ﾃﾞｰﾀ!$B:$J,4,0)),IF(ISERROR(VLOOKUP($E28,新規登録!$B:$I,4,0)),\"未登録\",VLOOKUP($E28,新規登録!$B:$I,4,0)),(VLOOKUP($E28,氏名ﾃﾞｰﾀ!$B:$J,4,0))))","v":""},{"$f":"IF($E28=\"\",\"\",IF(ISERROR(VLOOKUP($E28,氏名ﾃﾞｰﾀ!$B:$J,5,0)),IF(ISERROR(VLOOKUP($E28,新規登録!$B:$I,5,0)),\"未登録\",VLOOKUP($E28,新規登録!$B:$I,5,0)),(VLOOKUP($E28,氏名ﾃﾞｰﾀ!$B:$J,5,0))))","v":""},{"$f":"IF($E28=\"\",\"\",IF(ISERROR(VLOOKUP($E28,氏名ﾃﾞｰﾀ!$B:$J,8,0)),IF(ISERROR(VLOOKUP($E28,新規登録!$B:$I,6,0)),\"未登録\",VLOOKUP($E28,新規登録!$B:$I,6,0)),(VLOOKUP($E28,氏名ﾃﾞｰﾀ!$B:$J,8,0))))","v":""},{"$f":"IF($E28=\"\",\"\",IF(ISERROR(VLOOKUP($E28,氏名ﾃﾞｰﾀ!$B:$J,7,0)),IF(ISERROR(VLOOKUP($E28,新規登録!$B:$I,7,0)),\"未登録\",VLOOKUP($E28,新規登録!$B:$I,7,0)),$G$3))","v":""},{"$f":"IF($E28=\"\",\"\",IF(ISERROR(VLOOKUP($E28,氏名ﾃﾞｰﾀ!$B:$J,6,0)),IF(ISERROR(VLOOKUP($E28,新規登録!$B:$I,8,0)),\"ﾅｼ\",VLOOKUP($E28,新規登録!$B:$I,8,0)),(VLOOKUP($E28,氏名ﾃﾞｰﾀ!$B:$J,6,0))))","v":""},0,null,null,null,null,null,null,null,null,null,null,null,null,null,null,null,null,null,null,null,null,2,{"$f":"IF(N28=\"\",\"\",VLOOKUP(N28,ﾃﾞｰﾀ!A:D,4,0))","v":""},"秒","秒",null,null,null,{"$f":"IF(AH28=1,IF(Z28=\"\",1000,VLOOKUP(Z28,ﾃﾞｰﾀ!F$3:G$62,2,FALSE)),1000)","v":1000},{"$f":"IF(AR28=\"\",\"\",LEFT(AR28,3))","v":""},{"$f":"IF(AR28=\"\",\"\",LEFT(AR28,3))","v":""},"",{"$f":"IF(AR28=\"\",\"\",VLOOKUP(AR28,$E$16:$AG$215,22,0))","v":""},{"$f":"IF(AR28=\"\",\"\",VLOOKUP(AR28,$E$16:$AK$215,32,0))","v":""},{"$f":"IF(AH28=1,IF(AD28=\"\",1000,VLOOKUP(AD28,ﾃﾞｰﾀ!F$3:H$62,3,FALSE)),1000)","v":1000},{"$f":"IF(AX28=\"\",\"\",LEFT(AX28,3))","v":""},{"$f":"IF(AX28=\"\",\"\",LEFT(AX28,3))","v":""},{"$f":"IF(ISERROR(VLOOKUP(AU28,$B$16:$AH$215,4,0)),\"\",VLOOKUP(AU28,$B$16:$AH$21545,4,0))","v":""},{"$f":"IF(AX28=\"\",\"\",VLOOKUP(AX28,$E$16:$AG$215,26,0))","v":""},{"$f":"IF(AX28=\"\",\"\",VLOOKUP(AX28,$E$16:$AK$215,33,0))","v":""},{"$f":"IF(AH28=2,IF(Z28=\"\",1000,VLOOKUP(Z28,ﾃﾞｰﾀ!F$3:I$62,4,FALSE)),1000)","v":1000},{"$f":"IF(BD28=\"\",\"\",LEFT(BD28,3))","v":""},{"$f":"IF(BD28=\"\",\"\",LEFT(BD28,3))","v":""},{"$f":"IF(ISERROR(VLOOKUP(BA28,$A$16:$AH$215,5,0)),\"\",VLOOKUP(BA28,$A$16:$AH$215,5,0))","v":""},{"$f":"IF(BD28=\"\",\"\",VLOOKUP(BD28,$E$16:$AG$215,22,0))","v":""},{"$f":"IF(BD28=\"\",\"\",VLOOKUP(BD28,$E$16:$AK$215,32,0))","v":""},{"$f":"IF(AH28=2,IF(AD28=\"\",1000,VLOOKUP(AD28,ﾃﾞｰﾀ!F$3:J$62,5,FALSE)),1000)","v":1000},{"$f":"IF(BJ28=\"\",\"\",LEFT(BJ28,3))","v":""},{"$f":"IF(BJ28=\"\",\"\",LEFT(BJ28,3))","v":""},{"$f":"IF(ISERROR(VLOOKUP(BG28,$B$16:$AH$215,4,0)),\"\",VLOOKUP(BG28,$B$16:$AH$21545,4,0))","v":""},{"$f":"IF(BJ28=\"\",\"\",VLOOKUP(BJ28,$E$16:$AG$215,26,0))","v":""},{"$f":"IF(BJ28=\"\",\"\",VLOOKUP(BJ28,$E$16:$AK$215,33,0))","v":""}]
["","",{"$f":"IF(E29=\"\",\"\",IF(AH29=1,COUNTIF(AH$16:AH29,1)*10+2001-10,COUNTIF(AH$16:AH29,2)*10+6001-10))","v":""},14,null,{"$f":"IF($E29=\"\",\"\",IF(ISERROR(VLOOKUP($E29,氏名ﾃﾞｰﾀ!$B:$J,2,0)),IF(ISERROR(VLOOKUP($E29,新規登録!$B:$I,2,0)),\"未登録\",VLOOKUP($E29,新規登録!$B:$I,2,0)),(VLOOKUP($E29,氏名ﾃﾞｰﾀ!$B:$J,2,0))))","v":""},{"$f":"IF($E29=\"\",\"\",IF(ISERROR(VLOOKUP($E29,氏名ﾃﾞｰﾀ!$B:$J,3,0)),IF(ISERROR(VLOOKUP($E29,新規登録!$B:$I,3,0)),\"未登録\",VLOOKUP($E29,新規登録!$B:$I,3,0)),(VLOOKUP($E29,氏名ﾃﾞｰﾀ!$B:$J,3,0))))","v":""},{"$f":"IF($E29=\"\",\"\",IF(ISERROR(VLOOKUP($E29,氏名ﾃﾞｰﾀ!$B:$J,4,0)),IF(ISERROR(VLOOKUP($E29,新規登録!$B:$I,4,0)),\"未登録\",VLOOKUP($E29,新規登録!$B:$I,4,0)),(VLOOKUP($E29,氏名ﾃﾞｰﾀ!$B:$J,4,0))))","v":""},{"$f":"IF($E29=\"\",\"\",IF(ISERROR(VLOOKUP($E29,氏名ﾃﾞｰﾀ!$B:$J,5,0)),IF(ISERROR(VLOOKUP($E29,新規登録!$B:$I,5,0)),\"未登録\",VLOOKUP($E29,新規登録!$B:$I,5,0)),(VLOOKUP($E29,氏名ﾃﾞｰﾀ!$B:$J,5,0))))","v":""},{"$f":"IF($E29=\"\",\"\",IF(ISERROR(VLOOKUP($E29,氏名ﾃﾞｰﾀ!$B:$J,8,0)),IF(ISERROR(VLOOKUP($E29,新規登録!$B:$I,6,0)),\"未登録\",VLOOKUP($E29,新規登録!$B:$I,6,0)),(VLOOKUP($E29,氏名ﾃﾞｰﾀ!$B:$J,8,0))))","v":""},{"$f":"IF($E29=\"\",\"\",IF(ISERROR(VLOOKUP($E29,氏名ﾃﾞｰﾀ!$B:$J,7,0)),IF(ISERROR(VLOOKUP($E29,新規登録!$B:$I,7,0)),\"未登録\",VLOOKUP($E29,新規登録!$B:$I,7,0)),$G$3))","v":""},{"$f":"IF($E29=\"\",\"\",IF(ISERROR(VLOOKUP($E29,氏名ﾃﾞｰﾀ!$B:$J,6,0)),IF(ISERROR(VLOOKUP($E29,新規登録!$B:$I,8,0)),\"ﾅｼ\",VLOOKUP($E29,新規登録!$B:$I,8,0)),(VLOOKUP($E29,氏名ﾃﾞｰﾀ!$B:$J,6,0))))","v":""},0,null,null,null,null,null,null,null,null,null,null,null,null,null,null,null,null,null,null,null,null,2,{"$f":"IF(N29=\"\",\"\",VLOOKUP(N29,ﾃﾞｰﾀ!A:D,4,0))","v":""},"秒","秒",null,null,null,{"$f":"IF(AH29=1,IF(Z29=\"\",1000,VLOOKUP(Z29,ﾃﾞｰﾀ!F$3:G$62,2,FALSE)),1000)","v":1000},{"$f":"IF(AR29=\"\",\"\",LEFT(AR29,3))","v":""},{"$f":"IF(AR29=\"\",\"\",LEFT(AR29,3))","v":""},{"$f":"IF(ISERROR(VLOOKUP(AO29,$A$16:$AH$215,5,0)),\"\",VLOOKUP(AO29,$A$16:$AH$215,5,0))","v":""},{"$f":"IF(AR29=\"\",\"\",VLOOKUP(AR29,$E$16:$AG$215,22,0))","v":""},{"$f":"IF(AR29=\"\",\"\",VLOOKUP(AR29,$E$16:$AK$215,32,0))","v":""},{"$f":"IF(AH29=1,IF(AD29=\"\",1000,VLOOKUP(AD29,ﾃﾞｰﾀ!F$3:H$62,3,FALSE)),1000)","v":1000},{"$f":"IF(AX29=\"\",\"\",LEFT(AX29,3))","v":""},{"$f":"IF(AX29=\"\",\"\",LEFT(AX29,3))","v":""},"","",{"$f":"IF(AX29=\"\",\"\",VLOOKUP(AX29,$E$16:$AK$215,33,0))","v":""},{"$f":"IF(AH29=2,IF(Z29=\"\",1000,VLOOKUP(Z29,ﾃﾞｰﾀ!F$3:I$62,4,FALSE)),1000)","v":1000},{"$f":"IF(BD29=\"\",\"\",LEFT(BD29,3))","v":""},{"$f":"IF(BD29=\"\",\"\",LEFT(BD29,3))","v":""},"","",{"$f":"IF(BD29=\"\",\"\",VLOOKUP(BD29,$E$16:$AK$215,32,0))","v":""},{"$f":"IF(AH29=2,IF(AD29=\"\",1000,VLOOKUP(AD29,ﾃﾞｰﾀ!F$3:J$62,5,FALSE)),1000)","v":1000},{"$f":"IF(BJ29=\"\",\"\",LEFT(BJ29,3))","v":""},{"$f":"IF(BJ29=\"\",\"\",LEFT(BJ29,3))","v":""},"","",{"$f":"IF(BJ29=\"\",\"\",VLOOKUP(BJ29,$E$16:$AK$215,33,0))","v":""}]
["","",{"$f":"IF(E30=\"\",\"\",IF(AH30=1,COUNTIF(AH$16:AH30,1)*10+2001-10,COUNTIF(AH$16:AH30,2)*10+6001-10))","v":""},15,null,{"$f":"IF($E30=\"\",\"\",IF(ISERROR(VLOOKUP($E30,氏名ﾃﾞｰﾀ!$B:$J,2,0)),IF(ISERROR(VLOOKUP($E30,新規登録!$B:$I,2,0)),\"未登録\",VLOOKUP($E30,新規登録!$B:$I,2,0)),(VLOOKUP($E30,氏名ﾃﾞｰﾀ!$B:$J,2,0))))","v":""},{"$f":"IF($E30=\"\",\"\",IF(ISERROR(VLOOKUP($E30,氏名ﾃﾞｰﾀ!$B:$J,3,0)),IF(ISERROR(VLOOKUP($E30,新規登録!$B:$I,3,0)),\"未登録\",VLOOKUP($E30,新規登録!$B:$I,3,0)),(VLOOKUP($E30,氏名ﾃﾞｰﾀ!$B:$J,3,0))))","v":""},{"$f":"IF($E30=\"\",\"\",IF(ISERROR(VLOOKUP($E30,氏名ﾃﾞｰﾀ!$B:$J,4,0)),IF(ISERROR(VLOOKUP($E30,新規登録!$B:$I,4,0)),\"未登録\",VLOOKUP($E30,新規登録!$B:$I,4,0)),(VLOOKUP($E30,氏名ﾃﾞｰﾀ!$B:$J,4,0))))","v":""},{"$f":"IF($E30=\"\",\"\",IF(ISERROR(VLOOKUP($E30,氏名ﾃﾞｰﾀ!$B:$J,5,0)),IF(ISERROR(VLOOKUP($E30,新規登録!$B:$I,5,0)),\"未登録\",VLOOKUP($E30,新規登録!$B:$I,5,0)),(VLOOKUP($E30,氏名ﾃﾞｰﾀ!$B:$J,5,0))))","v":""},{"$f":"IF($E30=\"\",\"\",IF(ISERROR(VLOOKUP($E30,氏名ﾃﾞｰﾀ!$B:$J,8,0)),IF(ISERROR(VLOOKUP($E30,新規登録!$B:$I,6,0)),\"未登録\",VLOOKUP($E30,新規登録!$B:$I,6,0)),(VLOOKUP($E30,氏名ﾃﾞｰﾀ!$B:$J,8,0))))","v":""},{"$f":"IF($E30=\"\",\"\",IF(ISERROR(VLOOKUP($E30,氏名ﾃﾞｰﾀ!$B:$J,7,0)),IF(ISERROR(VLOOKUP($E30,新規登録!$B:$I,7,0)),\"未登録\",VLOOKUP($E30,新規登録!$B:$I,7,0)),$G$3))","v":""},{"$f":"IF($E30=\"\",\"\",IF(ISERROR(VLOOKUP($E30,氏名ﾃﾞｰﾀ!$B:$J,6,0)),IF(ISERROR(VLOOKUP($E30,新規登録!$B:$I,8,0)),\"ﾅｼ\",VLOOKUP($E30,新規登録!$B:$I,8,0)),(VLOOKUP($E30,氏名ﾃﾞｰﾀ!$B:$J,6,0))))","v":""},0,null,null,null,null,null,null,null,null,null,null,null,null,null,null,null,null,null,null,null,null,2,{"$f":"IF(N30=\"\",\"\",VLOOKUP(N30,ﾃﾞｰﾀ!A:D,4,0))","v":""},"秒","秒",null,null,null,{"$f":"IF(AH30=1,IF(Z30=\"\",1000,VLOOKUP(Z30,ﾃﾞｰﾀ!F$3:G$62,2,FALSE)),1000)","v":1000},"","","","","",{"$f":"IF(AH30=1,IF(AD30=\"\",1000,VLOOKUP(AD30,ﾃﾞｰﾀ!F$3:H$62,3,FALSE)),1000)","v":1000},"","","","","",{"$f":"IF(AH30=2,IF(Z30=\"\",1000,VLOOKUP(Z30,ﾃﾞｰﾀ!F$3:I$62,4,FALSE)),1000)","v":1000},"","","","","",{"$f":"IF(AH30=2,IF(AD30=\"\",1000,VLOOKUP(AD30,ﾃﾞｰﾀ!F$3:J$62,5,FALSE)),1000)","v":1000},"","","","",""]
["","",{"$f":"IF(E31=\"\",\"\",IF(AH31=1,COUNTIF(AH$16:AH31,1)*10+2001-10,COUNTIF(AH$16:AH31,2)*10+6001-10))","v":""},16,null,{"$f":"IF($E31=\"\",\"\",IF(ISERROR(VLOOKUP($E31,氏名ﾃﾞｰﾀ!$B:$J,2,0)),IF(ISERROR(VLOOKUP($E31,新規登録!$B:$I,2,0)),\"未登録\",VLOOKUP($E31,新規登録!$B:$I,2,0)),(VLOOKUP($E31,氏名ﾃﾞｰﾀ!$B:$J,2,0))))","v":""},{"$f":"IF($E31=\"\",\"\",IF(ISERROR(VLOOKUP($E31,氏名ﾃﾞｰﾀ!$B:$J,3,0)),IF(ISERROR(VLOOKUP($E31,新規登録!$B:$I,3,0)),\"未登録\",VLOOKUP($E31,新規登録!$B:$I,3,0)),(VLOOKUP($E31,氏名ﾃﾞｰﾀ!$B:$J,3,0))))","v":""},{"$f":"IF($E31=\"\",\"\",IF(ISERROR(VLOOKUP($E31,氏名ﾃﾞｰﾀ!$B:$J,4,0)),IF(ISERROR(VLOOKUP($E31,新規登録!$B:$I,4,0)),\"未登録\",VLOOKUP($E31,新規登録!$B:$I,4,0)),(VLOOKUP($E31,氏名ﾃﾞｰﾀ!$B:$J,4,0))))","v":""},{"$f":"IF($E31=\"\",\"\",IF(ISERROR(VLOOKUP($E31,氏名ﾃﾞｰﾀ!$B:$J,5,0)),IF(ISERROR(VLOOKUP($E31,新規登録!$B:$I,5,0)),\"未登録\",VLOOKUP($E31,新規登録!$B:$I,5,0)),(VLOOKUP($E31,氏名ﾃﾞｰﾀ!$B:$J,5,0))))","v":""},{"$f":"IF($E31=\"\",\"\",IF(ISERROR(VLOOKUP($E31,氏名ﾃﾞｰﾀ!$B:$J,8,0)),IF(ISERROR(VLOOKUP($E31,新規登録!$B:$I,6,0)),\"未登録\",VLOOKUP($E31,新規登録!$B:$I,6,0)),(VLOOKUP($E31,氏名ﾃﾞｰﾀ!$B:$J,8,0))))","v":""},{"$f":"IF($E31=\"\",\"\",IF(ISERROR(VLOOKUP($E31,氏名ﾃﾞｰﾀ!$B:$J,7,0)),IF(ISERROR(VLOOKUP($E31,新規登録!$B:$I,7,0)),\"未登録\",VLOOKUP($E31,新規登録!$B:$I,7,0)),$G$3))","v":""},{"$f":"IF($E31=\"\",\"\",IF(ISERROR(VLOOKUP($E31,氏名ﾃﾞｰﾀ!$B:$J,6,0)),IF(ISERROR(VLOOKUP($E31,新規登録!$B:$I,8,0)),\"ﾅｼ\",VLOOKUP($E31,新規登録!$B:$I,8,0)),(VLOOKUP($E31,氏名ﾃﾞｰﾀ!$B:$J,6,0))))","v":""},0,null,null,null,null,null,null,null,null,null,null,null,null,null,null,null,null,null,null,null,null,2,{"$f":"IF(N31=\"\",\"\",VLOOKUP(N31,ﾃﾞｰﾀ!A:D,4,0))","v":""},"秒","秒",null,null,null,{"$f":"IF(AH31=1,IF(Z31=\"\",1000,VLOOKUP(Z31,ﾃﾞｰﾀ!F$3:G$62,2,FALSE)),1000)","v":1000},"","","","","",{"$f":"IF(AH31=1,IF(AD31=\"\",1000,VLOOKUP(AD31,ﾃﾞｰﾀ!F$3:H$62,3,FALSE)),1000)","v":1000},"","","","","",{"$f":"IF(AH31=2,IF(Z31=\"\",1000,VLOOKUP(Z31,ﾃﾞｰﾀ!F$3:I$62,4,FALSE)),1000)","v":1000},"","","","","",{"$f":"IF(AH31=2,IF(AD31=\"\",1000,VLOOKUP(AD31,ﾃﾞｰﾀ!F$3:J$62,5,FALSE)),1000)","v":1000},"","","","",""]
["","",{"$f":"IF(E32=\"\",\"\",IF(AH32=1,COUNTIF(AH$16:AH32,1)*10+2001-10,COUNTIF(AH$16:AH32,2)*10+6001-10))","v":""},17,null,{"$f":"IF($E32=\"\",\"\",IF(ISERROR(VLOOKUP($E32,氏名ﾃﾞｰﾀ!$B:$J,2,0)),IF(ISERROR(VLOOKUP($E32,新規登録!$B:$I,2,0)),\"未登録\",VLOOKUP($E32,新規登録!$B:$I,2,0)),(VLOOKUP($E32,氏名ﾃﾞｰﾀ!$B:$J,2,0))))","v":""},{"$f":"IF($E32=\"\",\"\",IF(ISERROR(VLOOKUP($E32,氏名ﾃﾞｰﾀ!$B:$J,3,0)),IF(ISERROR(VLOOKUP($E32,新規登録!$B:$I,3,0)),\"未登録\",VLOOKUP($E32,新規登録!$B:$I,3,0)),(VLOOKUP($E32,氏名ﾃﾞｰﾀ!$B:$J,3,0))))","v":""},{"$f":"IF($E32=\"\",\"\",IF(ISERROR(VLOOKUP($E32,氏名ﾃﾞｰﾀ!$B:$J,4,0)),IF(ISERROR(VLOOKUP($E32,新規登録!$B:$I,4,0)),\"未登録\",VLOOKUP($E32,新規登録!$B:$I,4,0)),(VLOOKUP($E32,氏名ﾃﾞｰﾀ!$B:$J,4,0))))","v":""},{"$f":"IF($E32=\"\",\"\",IF(ISERROR(VLOOKUP($E32,氏名ﾃﾞｰﾀ!$B:$J,5,0)),IF(ISERROR(VLOOKUP($E32,新規登録!$B:$I,5,0)),\"未登録\",VLOOKUP($E32,新規登録!$B:$I,5,0)),(VLOOKUP($E32,氏名ﾃﾞｰﾀ!$B:$J,5,0))))","v":""},{"$f":"IF($E32=\"\",\"\",IF(ISERROR(VLOOKUP($E32,氏名ﾃﾞｰﾀ!$B:$J,8,0)),IF(ISERROR(VLOOKUP($E32,新規登録!$B:$I,6,0)),\"未登録\",VLOOKUP($E32,新規登録!$B:$I,6,0)),(VLOOKUP($E32,氏名ﾃﾞｰﾀ!$B:$J,8,0))))","v":""},{"$f":"IF($E32=\"\",\"\",IF(ISERROR(VLOOKUP($E32,氏名ﾃﾞｰﾀ!$B:$J,7,0)),IF(ISERROR(VLOOKUP($E32,新規登録!$B:$I,7,0)),\"未登録\",VLOOKUP($E32,新規登録!$B:$I,7,0)),$G$3))","v":""},{"$f":"IF($E32=\"\",\"\",IF(ISERROR(VLOOKUP($E32,氏名ﾃﾞｰﾀ!$B:$J,6,0)),IF(ISERROR(VLOOKUP($E32,新規登録!$B:$I,8,0)),\"ﾅｼ\",VLOOKUP($E32,新規登録!$B:$I,8,0)),(VLOOKUP($E32,氏名ﾃﾞｰﾀ!$B:$J,6,0))))","v":""},0,null,null,null,null,null,null,null,null,null,null,null,null,null,null,null,null,null,null,null,null,2,{"$f":"IF(N32=\"\",\"\",VLOOKUP(N32,ﾃﾞｰﾀ!A:D,4,0))","v":""},"秒","秒",null,null,null,{"$f":"IF(AH32=1,IF(Z32=\"\",1000,VLOOKUP(Z32,ﾃﾞｰﾀ!F$3:G$62,2,FALSE)),1000)","v":1000},"","","","","",{"$f":"IF(AH32=1,IF(AD32=\"\",1000,VLOOKUP(AD32,ﾃﾞｰﾀ!F$3:H$62,3,FALSE)),1000)","v":1000},"","","","","",{"$f":"IF(AH32=2,IF(Z32=\"\",1000,VLOOKUP(Z32,ﾃﾞｰﾀ!F$3:I$62,4,FALSE)),1000)","v":1000},"","","","","",{"$f":"IF(AH32=2,IF(AD32=\"\",1000,VLOOKUP(AD32,ﾃﾞｰﾀ!F$3:J$62,5,FALSE)),1000)","v":1000},"","","","",""]
["","",{"$f":"IF(E33=\"\",\"\",IF(AH33=1,COUNTIF(AH$16:AH33,1)*10+2001-10,COUNTIF(AH$16:AH33,2)*10+6001-10))","v":""},18,null,{"$f":"IF($E33=\"\",\"\",IF(ISERROR(VLOOKUP($E33,氏名ﾃﾞｰﾀ!$B:$J,2,0)),IF(ISERROR(VLOOKUP($E33,新規登録!$B:$I,2,0)),\"未登録\",VLOOKUP($E33,新規登録!$B:$I,2,0)),(VLOOKUP($E33,氏名ﾃﾞｰﾀ!$B:$J,2,0))))","v":""},{"$f":"IF($E33=\"\",\"\",IF(ISERROR(VLOOKUP($E33,氏名ﾃﾞｰﾀ!$B:$J,3,0)),IF(ISERROR(VLOOKUP($E33,新規登録!$B:$I,3,0)),\"未登録\",VLOOKUP($E33,新規登録!$B:$I,3,0)),(VLOOKUP($E33,氏名ﾃﾞｰﾀ!$B:$J,3,0))))","v":""},{"$f":"IF($E33=\"\",\"\",IF(ISERROR(VLOOKUP($E33,氏名ﾃﾞｰﾀ!$B:$J,4,0)),IF(ISERROR(VLOOKUP($E33,新規登録!$B:$I,4,0)),\"未登録\",VLOOKUP($E33,新規登録!$B:$I,4,0)),(VLOOKUP($E33,氏名ﾃﾞｰﾀ!$B:$J,4,0))))","v":""},{"$f":"IF($E33=\"\",\"\",IF(ISERROR(VLOOKUP($E33,氏名ﾃﾞｰﾀ!$B:$J,5,0)),IF(ISERROR(VLOOKUP($E33,新規登録!$B:$I,5,0)),\"未登録\",VLOOKUP($E33,新規登録!$B:$I,5,0)),(VLOOKUP($E33,氏名ﾃﾞｰﾀ!$B:$J,5,0))))","v":""},{"$f":"IF($E33=\"\",\"\",IF(ISERROR(VLOOKUP($E33,氏名ﾃﾞｰﾀ!$B:$J,8,0)),IF(ISERROR(VLOOKUP($E33,新規登録!$B:$I,6,0)),\"未登録\",VLOOKUP($E33,新規登録!$B:$I,6,0)),(VLOOKUP($E33,氏名ﾃﾞｰﾀ!$B:$J,8,0))))","v":""},{"$f":"IF($E33=\"\",\"\",IF(ISERROR(VLOOKUP($E33,氏名ﾃﾞｰﾀ!$B:$J,7,0)),IF(ISERROR(VLOOKUP($E33,新規登録!$B:$I,7,0)),\"未登録\",VLOOKUP($E33,新規登録!$B:$I,7,0)),$G$3))","v":""},{"$f":"IF($E33=\"\",\"\",IF(ISERROR(VLOOKUP($E33,氏名ﾃﾞｰﾀ!$B:$J,6,0)),IF(ISERROR(VLOOKUP($E33,新規登録!$B:$I,8,0)),\"ﾅｼ\",VLOOKUP($E33,新規登録!$B:$I,8,0)),(VLOOKUP($E33,氏名ﾃﾞｰﾀ!$B:$J,6,0))))","v":""},0,null,null,null,null,null,null,null,null,null,null,null,null,null,null,null,null,null,null,null,null,2,{"$f":"IF(N33=\"\",\"\",VLOOKUP(N33,ﾃﾞｰﾀ!A:D,4,0))","v":""},"秒","秒",null,null,null,{"$f":"IF(AH33=1,IF(Z33=\"\",1000,VLOOKUP(Z33,ﾃﾞｰﾀ!F$3:G$62,2,FALSE)),1000)","v":1000},"","","","","",{"$f":"IF(AH33=1,IF(AD33=\"\",1000,VLOOKUP(AD33,ﾃﾞｰﾀ!F$3:H$62,3,FALSE)),1000)","v":1000},"","","","","",{"$f":"IF(AH33=2,IF(Z33=\"\",1000,VLOOKUP(Z33,ﾃﾞｰﾀ!F$3:I$62,4,FALSE)),1000)","v":1000},"","","","","",{"$f":"IF(AH33=2,IF(AD33=\"\",1000,VLOOKUP(AD33,ﾃﾞｰﾀ!F$3:J$62,5,FALSE)),1000)","v":1000},"","","","",""]
["","",{"$f":"IF(E34=\"\",\"\",IF(AH34=1,COUNTIF(AH$16:AH34,1)*10+2001-10,COUNTIF(AH$16:AH34,2)*10+6001-10))","v":""},19,null,{"$f":"IF($E34=\"\",\"\",IF(ISERROR(VLOOKUP($E34,氏名ﾃﾞｰﾀ!$B:$J,2,0)),IF(ISERROR(VLOOKUP($E34,新規登録!$B:$I,2,0)),\"未登録\",VLOOKUP($E34,新規登録!$B:$I,2,0)),(VLOOKUP($E34,氏名ﾃﾞｰﾀ!$B:$J,2,0))))","v":""},{"$f":"IF($E34=\"\",\"\",IF(ISERROR(VLOOKUP($E34,氏名ﾃﾞｰﾀ!$B:$J,3,0)),IF(ISERROR(VLOOKUP($E34,新規登録!$B:$I,3,0)),\"未登録\",VLOOKUP($E34,新規登録!$B:$I,3,0)),(VLOOKUP($E34,氏名ﾃﾞｰﾀ!$B:$J,3,0))))","v":""},{"$f":"IF($E34=\"\",\"\",IF(ISERROR(VLOOKUP($E34,氏名ﾃﾞｰﾀ!$B:$J,4,0)),IF(ISERROR(VLOOKUP($E34,新規登録!$B:$I,4,0)),\"未登録\",VLOOKUP($E34,新規登録!$B:$I,4,0)),(VLOOKUP($E34,氏名ﾃﾞｰﾀ!$B:$J,4,0))))","v":""},{"$f":"IF($E34=\"\",\"\",IF(ISERROR(VLOOKUP($E34,氏名ﾃﾞｰﾀ!$B:$J,5,0)),IF(ISERROR(VLOOKUP($E34,新規登録!$B:$I,5,0)),\"未登録\",VLOOKUP($E34,新規登録!$B:$I,5,0)),(VLOOKUP($E34,氏名ﾃﾞｰﾀ!$B:$J,5,0))))","v":""},{"$f":"IF($E34=\"\",\"\",IF(ISERROR(VLOOKUP($E34,氏名ﾃﾞｰﾀ!$B:$J,8,0)),IF(ISERROR(VLOOKUP($E34,新規登録!$B:$I,6,0)),\"未登録\",VLOOKUP($E34,新規登録!$B:$I,6,0)),(VLOOKUP($E34,氏名ﾃﾞｰﾀ!$B:$J,8,0))))","v":""},{"$f":"IF($E34=\"\",\"\",IF(ISERROR(VLOOKUP($E34,氏名ﾃﾞｰﾀ!$B:$J,7,0)),IF(ISERROR(VLOOKUP($E34,新規登録!$B:$I,7,0)),\"未登録\",VLOOKUP($E34,新規登録!$B:$I,7,0)),$G$3))","v":""},{"$f":"IF($E34=\"\",\"\",IF(ISERROR(VLOOKUP($E34,氏名ﾃﾞｰﾀ!$B:$J,6,0)),IF(ISERROR(VLOOKUP($E34,新規登録!$B:$I,8,0)),\"ﾅｼ\",VLOOKUP($E34,新規登録!$B:$I,8,0)),(VLOOKUP($E34,氏名ﾃﾞｰﾀ!$B:$J,6,0))))","v":""},0,null,null,null,null,null,null,null,null,null,null,null,null,null,null,null,null,null,null,null,null,2,{"$f":"IF(N34=\"\",\"\",VLOOKUP(N34,ﾃﾞｰﾀ!A:D,4,0))","v":""},"秒","秒",null,null,null,{"$f":"IF(AH34=1,IF(Z34=\"\",1000,VLOOKUP(Z34,ﾃﾞｰﾀ!F$3:G$62,2,FALSE)),1000)","v":1000},{"$f":"IF(AR34=\"\",\"\",LEFT(AR34,3))","v":""},{"$f":"IF(AR34=\"\",\"\",LEFT(AR34,3))","v":""},{"$f":"IF(ISERROR(VLOOKUP(AO34,$A$16:$AH$215,5,0)),\"\",VLOOKUP(AO34,$A$16:$AH$215,5,0))","v":""},"",{"$f":"IF(AR34=\"\",\"\",VLOOKUP(AR34,$E$16:$AK$215,32,0))","v":""},{"$f":"IF(AH34=1,IF(AD34=\"\",1000,VLOOKUP(AD34,ﾃﾞｰﾀ!F$3:H$62,3,FALSE)),1000)","v":1000},{"$f":"IF(AX34=\"\",\"\",LEFT(AX34,3))","v":""},{"$f":"IF(AX34=\"\",\"\",LEFT(AX34,3))","v":""},{"$f":"IF(ISERROR(VLOOKUP(AU34,$B$16:$AH$215,4,0)),\"\",VLOOKUP(AU34,$B$16:$AH$21545,4,0))","v":""},{"$f":"IF(AX34=\"\",\"\",VLOOKUP(AX34,$E$16:$AG$215,26,0))","v":""},{"$f":"IF(AX34=\"\",\"\",VLOOKUP(AX34,$E$16:$AK$215,33,0))","v":""},{"$f":"IF(AH34=2,IF(Z34=\"\",1000,VLOOKUP(Z34,ﾃﾞｰﾀ!F$3:I$62,4,FALSE)),1000)","v":1000},{"$f":"IF(BD34=\"\",\"\",LEFT(BD34,3))","v":""},{"$f":"IF(BD34=\"\",\"\",LEFT(BD34,3))","v":""},{"$f":"IF(ISERROR(VLOOKUP(BA34,$A$16:$AH$215,5,0)),\"\",VLOOKUP(BA34,$A$16:$AH$215,5,0))","v":""},{"$f":"IF(BD34=\"\",\"\",VLOOKUP(BD34,$E$16:$AG$215,22,0))","v":""},{"$f":"IF(BD34=\"\",\"\",VLOOKUP(BD34,$E$16:$AK$215,32,0))","v":""},{"$f":"IF(AH34=2,IF(AD34=\"\",1000,VLOOKUP(AD34,ﾃﾞｰﾀ!F$3:J$62,5,FALSE)),1000)","v":1000},{"$f":"IF(BJ34=\"\",\"\",LEFT(BJ34,3))","v":""},{"$f":"IF(BJ34=\"\",\"\",LEFT(BJ34,3))","v":""},{"$f":"IF(ISERROR(VLOOKUP(BG34,$B$16:$AH$215,4,0)),\"\",VLOOKUP(BG34,$B$16:$AH$21545,4,0))","v":""},{"$f":"IF(BJ34=\"\",\"\",VLOOKUP(BJ34,$E$16:$AG$215,26,0))","v":""},{"$f":"IF(BJ34=\"\",\"\",VLOOKUP(BJ34,$E$16:$AK$215,33,0))","v":""}]
["","",{"$f":"IF(E35=\"\",\"\",IF(AH35=1,COUNTIF(AH$16:AH35,1)*10+2001-10,COUNTIF(AH$16:AH35,2)*10+6001-10))","v":""},20,null,{"$f":"IF($E35=\"\",\"\",IF(ISERROR(VLOOKUP($E35,氏名ﾃﾞｰﾀ!$B:$J,2,0)),IF(ISERROR(VLOOKUP($E35,新規登録!$B:$I,2,0)),\"未登録\",VLOOKUP($E35,新規登録!$B:$I,2,0)),(VLOOKUP($E35,氏名ﾃﾞｰﾀ!$B:$J,2,0))))","v":""},{"$f":"IF($E35=\"\",\"\",IF(ISERROR(VLOOKUP($E35,氏名ﾃﾞｰﾀ!$B:$J,3,0)),IF(ISERROR(VLOOKUP($E35,新規登録!$B:$I,3,0)),\"未登録\",VLOOKUP($E35,新規登録!$B:$I,3,0)),(VLOOKUP($E35,氏名ﾃﾞｰﾀ!$B:$J,3,0))))","v":""},{"$f":"IF($E35=\"\",\"\",IF(ISERROR(VLOOKUP($E35,氏名ﾃﾞｰﾀ!$B:$J,4,0)),IF(ISERROR(VLOOKUP($E35,新規登録!$B:$I,4,0)),\"未登録\",VLOOKUP($E35,新規登録!$B:$I,4,0)),(VLOOKUP($E35,氏名ﾃﾞｰﾀ!$B:$J,4,0))))","v":""},{"$f":"IF($E35=\"\",\"\",IF(ISERROR(VLOOKUP($E35,氏名ﾃﾞｰﾀ!$B:$J,5,0)),IF(ISERROR(VLOOKUP($E35,新規登録!$B:$I,5,0)),\"未登録\",VLOOKUP($E35,新規登録!$B:$I,5,0)),(VLOOKUP($E35,氏名ﾃﾞｰﾀ!$B:$J,5,0))))","v":""},{"$f":"IF($E35=\"\",\"\",IF(ISERROR(VLOOKUP($E35,氏名ﾃﾞｰﾀ!$B:$J,8,0)),IF(ISERROR(VLOOKUP($E35,新規登録!$B:$I,6,0)),\"未登録\",VLOOKUP($E35,新規登録!$B:$I,6,0)),(VLOOKUP($E35,氏名ﾃﾞｰﾀ!$B:$J,8,0))))","v":""},{"$f":"IF($E35=\"\",\"\",IF(ISERROR(VLOOKUP($E35,氏名ﾃﾞｰﾀ!$B:$J,7,0)),IF(ISERROR(VLOOKUP($E35,新規登録!$B:$I,7,0)),\"未登録\",VLOOKUP($E35,新規登録!$B:$I,7,0)),$G$3))","v":""},{"$f":"IF($E35=\"\",\"\",IF(ISERROR(VLOOKUP($E35,氏名ﾃﾞｰﾀ!$B:$J,6,0)),IF(ISERROR(VLOOKUP($E35,新規登録!$B:$I,8,0)),\"ﾅｼ\",VLOOKUP($E35,新規登録!$B:$I,8,0)),(VLOOKUP($E35,氏名ﾃﾞｰﾀ!$B:$J,6,0))))","v":""},0,null,null,null,null,null,null,null,null,null,null,null,null,null,null,null,null,null,null,null,null,2,{"$f":"IF(N35=\"\",\"\",VLOOKUP(N35,ﾃﾞｰﾀ!A:D,4,0))","v":""},"秒","秒",null,null,null,{"$f":"IF(AH35=1,IF(Z35=\"\",1000,VLOOKUP(Z35,ﾃﾞｰﾀ!F$3:G$62,2,FALSE)),1000)","v":1000},{"$f":"IF(AR35=\"\",\"\",LEFT(AR35,3))","v":""},{"$f":"IF(AR35=\"\",\"\",LEFT(AR35,3))","v":""},"","",{"$f":"IF(AR35=\"\",\"\",VLOOKUP(AR35,$E$16:$AK$215,32,0))","v":""},{"$f":"IF(AH35=1,IF(AD35=\"\",1000,VLOOKUP(AD35,ﾃﾞｰﾀ!F$3:H$62,3,FALSE)),1000)","v":1000},{"$f":"IF(AX35=\"\",\"\",LEFT(AX35,3))","v":""},{"$f":"IF(AX35=\"\",\"\",LEFT(AX35,3))","v":""},"","",{"$f":"IF(AX35=\"\",\"\",VLOOKUP(AX35,$E$16:$AK$215,33,0))","v":""},{"$f":"IF(AH35=2,IF(Z35=\"\",1000,VLOOKUP(Z35,ﾃﾞｰﾀ!F$3:I$62,4,FALSE)),1000)","v":1000},{"$f":"IF(BD35=\"\",\"\",LEFT(BD35,3))","v":""},{"$f":"IF(BD35=\"\",\"\",LEFT(BD35,3))","v":""},"","",{"$f":"IF(BD35=\"\",\"\",VLOOKUP(BD35,$E$16:$AK$215,32,0))","v":""},{"$f":"IF(AH35=2,IF(AD35=\"\",1000,VLOOKUP(AD35,ﾃﾞｰﾀ!F$3:J$62,5,FALSE)),1000)","v":1000},{"$f":"IF(BJ35=\"\",\"\",LEFT(BJ35,3))","v":""},{"$f":"IF(BJ35=\"\",\"\",LEFT(BJ35,3))","v":""},"","",{"$f":"IF(BJ35=\"\",\"\",VLOOKUP(BJ35,$E$16:$AK$215,33,0))","v":""}]
["","",{"$f":"IF(E36=\"\",\"\",IF(AH36=1,COUNTIF(AH$16:AH36,1)*10+2001-10,COUNTIF(AH$16:AH36,2)*10+6001-10))","v":""},21,null,{"$f":"IF($E36=\"\",\"\",IF(ISERROR(VLOOKUP($E36,氏名ﾃﾞｰﾀ!$B:$J,2,0)),IF(ISERROR(VLOOKUP($E36,新規登録!$B:$I,2,0)),\"未登録\",VLOOKUP($E36,新規登録!$B:$I,2,0)),(VLOOKUP($E36,氏名ﾃﾞｰﾀ!$B:$J,2,0))))","v":""},{"$f":"IF($E36=\"\",\"\",IF(ISERROR(VLOOKUP($E36,氏名ﾃﾞｰﾀ!$B:$J,3,0)),IF(ISERROR(VLOOKUP($E36,新規登録!$B:$I,3,0)),\"未登録\",VLOOKUP($E36,新規登録!$B:$I,3,0)),(VLOOKUP($E36,氏名ﾃﾞｰﾀ!$B:$J,3,0))))","v":""},{"$f":"IF($E36=\"\",\"\",IF(ISERROR(VLOOKUP($E36,氏名ﾃﾞｰﾀ!$B:$J,4,0)),IF(ISERROR(VLOOKUP($E36,新規登録!$B:$I,4,0)),\"未登録\",VLOOKUP($E36,新規登録!$B:$I,4,0)),(VLOOKUP($E36,氏名ﾃﾞｰﾀ!$B:$J,4,0))))","v":""},{"$f":"IF($E36=\"\",\"\",IF(ISERROR(VLOOKUP($E36,氏名ﾃﾞｰﾀ!$B:$J,5,0)),IF(ISERROR(VLOOKUP($E36,新規登録!$B:$I,5,0)),\"未登録\",VLOOKUP($E36,新規登録!$B:$I,5,0)),(VLOOKUP($E36,氏名ﾃﾞｰﾀ!$B:$J,5,0))))","v":""},{"$f":"IF($E36=\"\",\"\",IF(ISERROR(VLOOKUP($E36,氏名ﾃﾞｰﾀ!$B:$J,8,0)),IF(ISERROR(VLOOKUP($E36,新規登録!$B:$I,6,0)),\"未登録\",VLOOKUP($E36,新規登録!$B:$I,6,0)),(VLOOKUP($E36,氏名ﾃﾞｰﾀ!$B:$J,8,0))))","v":""},{"$f":"IF($E36=\"\",\"\",IF(ISERROR(VLOOKUP($E36,氏名ﾃﾞｰﾀ!$B:$J,7,0)),IF(ISERROR(VLOOKUP($E36,新規登録!$B:$I,7,0)),\"未登録\",VLOOKUP($E36,新規登録!$B:$I,7,0)),$G$3))","v":""},{"$f":"IF($E36=\"\",\"\",IF(ISERROR(VLOOKUP($E36,氏名ﾃﾞｰﾀ!$B:$J,6,0)),IF(ISERROR(VLOOKUP($E36,新規登録!$B:$I,8,0)),\"ﾅｼ\",VLOOKUP($E36,新規登録!$B:$I,8,0)),(VLOOKUP($E36,氏名ﾃﾞｰﾀ!$B:$J,6,0))))","v":""},0,null,null,null,null,null,null,null,null,null,null,null,null,null,null,null,null,null,null,null,null,2,{"$f":"IF(N36=\"\",\"\",VLOOKUP(N36,ﾃﾞｰﾀ!A:D,4,0))","v":""},"秒","秒",null,null,null,{"$f":"IF(AH36=1,IF(Z36=\"\",1000,VLOOKUP(Z36,ﾃﾞｰﾀ!F$3:G$62,2,FALSE)),1000)","v":1000},"","","","","",{"$f":"IF(AH36=1,IF(AD36=\"\",1000,VLOOKUP(AD36,ﾃﾞｰﾀ!F$3:H$62,3,FALSE)),1000)","v":1000},"","","","","",{"$f":"IF(AH36=2,IF(Z36=\"\",1000,VLOOKUP(Z36,ﾃﾞｰﾀ!F$3:I$62,4,FALSE)),1000)","v":1000},"","","","","",{"$f":"IF(AH36=2,IF(AD36=\"\",1000,VLOOKUP(AD36,ﾃﾞｰﾀ!F$3:J$62,5,FALSE)),1000)","v":1000},"","","","",""]
["","",{"$f":"IF(E37=\"\",\"\",IF(AH37=1,COUNTIF(AH$16:AH37,1)*10+2001-10,COUNTIF(AH$16:AH37,2)*10+6001-10))","v":""},22,null,{"$f":"IF($E37=\"\",\"\",IF(ISERROR(VLOOKUP($E37,氏名ﾃﾞｰﾀ!$B:$J,2,0)),IF(ISERROR(VLOOKUP($E37,新規登録!$B:$I,2,0)),\"未登録\",VLOOKUP($E37,新規登録!$B:$I,2,0)),(VLOOKUP($E37,氏名ﾃﾞｰﾀ!$B:$J,2,0))))","v":""},{"$f":"IF($E37=\"\",\"\",IF(ISERROR(VLOOKUP($E37,氏名ﾃﾞｰﾀ!$B:$J,3,0)),IF(ISERROR(VLOOKUP($E37,新規登録!$B:$I,3,0)),\"未登録\",VLOOKUP($E37,新規登録!$B:$I,3,0)),(VLOOKUP($E37,氏名ﾃﾞｰﾀ!$B:$J,3,0))))","v":""},{"$f":"IF($E37=\"\",\"\",IF(ISERROR(VLOOKUP($E37,氏名ﾃﾞｰﾀ!$B:$J,4,0)),IF(ISERROR(VLOOKUP($E37,新規登録!$B:$I,4,0)),\"未登録\",VLOOKUP($E37,新規登録!$B:$I,4,0)),(VLOOKUP($E37,氏名ﾃﾞｰﾀ!$B:$J,4,0))))","v":""},{"$f":"IF($E37=\"\",\"\",IF(ISERROR(VLOOKUP($E37,氏名ﾃﾞｰﾀ!$B:$J,5,0)),IF(ISERROR(VLOOKUP($E37,新規登録!$B:$I,5,0)),\"未登録\",VLOOKUP($E37,新規登録!$B:$I,5,0)),(VLOOKUP($E37,氏名ﾃﾞｰﾀ!$B:$J,5,0))))","v":""},{"$f":"IF($E37=\"\",\"\",IF(ISERROR(VLOOKUP($E37,氏名ﾃﾞｰﾀ!$B:$J,8,0)),IF(ISERROR(VLOOKUP($E37,新規登録!$B:$I,6,0)),\"未登録\",VLOOKUP($E37,新規登録!$B:$I,6,0)),(VLOOKUP($E37,氏名ﾃﾞｰﾀ!$B:$J,8,0))))","v":""},{"$f":"IF($E37=\"\",\"\",IF(ISERROR(VLOOKUP($E37,氏名ﾃﾞｰﾀ!$B:$J,7,0)),IF(ISERROR(VLOOKUP($E37,新規登録!$B:$I,7,0)),\"未登録\",VLOOKUP($E37,新規登録!$B:$I,7,0)),$G$3))","v":""},{"$f":"IF($E37=\"\",\"\",IF(ISERROR(VLOOKUP($E37,氏名ﾃﾞｰﾀ!$B:$J,6,0)),IF(ISERROR(VLOOKUP($E37,新規登録!$B:$I,8,0)),\"ﾅｼ\",VLOOKUP($E37,新規登録!$B:$I,8,0)),(VLOOKUP($E37,氏名ﾃﾞｰﾀ!$B:$J,6,0))))","v":""},0,null,null,null,null,null,null,null,null,null,null,null,null,null,null,null,null,null,null,null,null,2,{"$f":"IF(N37=\"\",\"\",VLOOKUP(N37,ﾃﾞｰﾀ!A:D,4,0))","v":""},"秒","秒",null,null,null,{"$f":"IF(AH37=1,IF(Z37=\"\",1000,VLOOKUP(Z37,ﾃﾞｰﾀ!F$3:G$62,2,FALSE)),1000)","v":1000},"","","","","",{"$f":"IF(AH37=1,IF(AD37=\"\",1000,VLOOKUP(AD37,ﾃﾞｰﾀ!F$3:H$62,3,FALSE)),1000)","v":1000},"","","","","",{"$f":"IF(AH37=2,IF(Z37=\"\",1000,VLOOKUP(Z37,ﾃﾞｰﾀ!F$3:I$62,4,FALSE)),1000)","v":1000},"","","","","",{"$f":"IF(AH37=2,IF(AD37=\"\",1000,VLOOKUP(AD37,ﾃﾞｰﾀ!F$3:J$62,5,FALSE)),1000)","v":1000},"","","","",""]
["","",{"$f":"IF(E38=\"\",\"\",IF(AH38=1,COUNTIF(AH$16:AH38,1)*10+2001-10,COUNTIF(AH$16:AH38,2)*10+6001-10))","v":""},23,null,{"$f":"IF($E38=\"\",\"\",IF(ISERROR(VLOOKUP($E38,氏名ﾃﾞｰﾀ!$B:$J,2,0)),IF(ISERROR(VLOOKUP($E38,新規登録!$B:$I,2,0)),\"未登録\",VLOOKUP($E38,新規登録!$B:$I,2,0)),(VLOOKUP($E38,氏名ﾃﾞｰﾀ!$B:$J,2,0))))","v":""},{"$f":"IF($E38=\"\",\"\",IF(ISERROR(VLOOKUP($E38,氏名ﾃﾞｰﾀ!$B:$J,3,0)),IF(ISERROR(VLOOKUP($E38,新規登録!$B:$I,3,0)),\"未登録\",VLOOKUP($E38,新規登録!$B:$I,3,0)),(VLOOKUP($E38,氏名ﾃﾞｰﾀ!$B:$J,3,0))))","v":""},{"$f":"IF($E38=\"\",\"\",IF(ISERROR(VLOOKUP($E38,氏名ﾃﾞｰﾀ!$B:$J,4,0)),IF(ISERROR(VLOOKUP($E38,新規登録!$B:$I,4,0)),\"未登録\",VLOOKUP($E38,新規登録!$B:$I,4,0)),(VLOOKUP($E38,氏名ﾃﾞｰﾀ!$B:$J,4,0))))","v":""},{"$f":"IF($E38=\"\",\"\",IF(ISERROR(VLOOKUP($E38,氏名ﾃﾞｰﾀ!$B:$J,5,0)),IF(ISERROR(VLOOKUP($E38,新規登録!$B:$I,5,0)),\"未登録\",VLOOKUP($E38,新規登録!$B:$I,5,0)),(VLOOKUP($E38,氏名ﾃﾞｰﾀ!$B:$J,5,0))))","v":""},{"$f":"IF($E38=\"\",\"\",IF(ISERROR(VLOOKUP($E38,氏名ﾃﾞｰﾀ!$B:$J,8,0)),IF(ISERROR(VLOOKUP($E38,新規登録!$B:$I,6,0)),\"未登録\",VLOOKUP($E38,新規登録!$B:$I,6,0)),(VLOOKUP($E38,氏名ﾃﾞｰﾀ!$B:$J,8,0))))","v":""},{"$f":"IF($E38=\"\",\"\",IF(ISERROR(VLOOKUP($E38,氏名ﾃﾞｰﾀ!$B:$J,7,0)),IF(ISERROR(VLOOKUP($E38,新規登録!$B:$I,7,0)),\"未登録\",VLOOKUP($E38,新規登録!$B:$I,7,0)),$G$3))","v":""},{"$f":"IF($E38=\"\",\"\",IF(ISERROR(VLOOKUP($E38,氏名ﾃﾞｰﾀ!$B:$J,6,0)),IF(ISERROR(VLOOKUP($E38,新規登録!$B:$I,8,0)),\"ﾅｼ\",VLOOKUP($E38,新規登録!$B:$I,8,0)),(VLOOKUP($E38,氏名ﾃﾞｰﾀ!$B:$J,6,0))))","v":""},0,null,null,null,null,null,null,null,null,null,null,null,null,null,null,null,null,null,null,null,null,2,{"$f":"IF(N38=\"\",\"\",VLOOKUP(N38,ﾃﾞｰﾀ!A:D,4,0))","v":""},"秒","秒",null,null,null,{"$f":"IF(AH38=1,IF(Z38=\"\",1000,VLOOKUP(Z38,ﾃﾞｰﾀ!F$3:G$62,2,FALSE)),1000)","v":1000},"","","","","",{"$f":"IF(AH38=1,IF(AD38=\"\",1000,VLOOKUP(AD38,ﾃﾞｰﾀ!F$3:H$62,3,FALSE)),1000)","v":1000},"","","","","",{"$f":"IF(AH38=2,IF(Z38=\"\",1000,VLOOKUP(Z38,ﾃﾞｰﾀ!F$3:I$62,4,FALSE)),1000)","v":1000},"","","","","",{"$f":"IF(AH38=2,IF(AD38=\"\",1000,VLOOKUP(AD38,ﾃﾞｰﾀ!F$3:J$62,5,FALSE)),1000)","v":1000},"","","","",""]
["","",{"$f":"IF(E39=\"\",\"\",IF(AH39=1,COUNTIF(AH$16:AH39,1)*10+2001-10,COUNTIF(AH$16:AH39,2)*10+6001-10))","v":""},24,null,{"$f":"IF($E39=\"\",\"\",IF(ISERROR(VLOOKUP($E39,氏名ﾃﾞｰﾀ!$B:$J,2,0)),IF(ISERROR(VLOOKUP($E39,新規登録!$B:$I,2,0)),\"未登録\",VLOOKUP($E39,新規登録!$B:$I,2,0)),(VLOOKUP($E39,氏名ﾃﾞｰﾀ!$B:$J,2,0))))","v":""},{"$f":"IF($E39=\"\",\"\",IF(ISERROR(VLOOKUP($E39,氏名ﾃﾞｰﾀ!$B:$J,3,0)),IF(ISERROR(VLOOKUP($E39,新規登録!$B:$I,3,0)),\"未登録\",VLOOKUP($E39,新規登録!$B:$I,3,0)),(VLOOKUP($E39,氏名ﾃﾞｰﾀ!$B:$J,3,0))))","v":""},{"$f":"IF($E39=\"\",\"\",IF(ISERROR(VLOOKUP($E39,氏名ﾃﾞｰﾀ!$B:$J,4,0)),IF(ISERROR(VLOOKUP($E39,新規登録!$B:$I,4,0)),\"未登録\",VLOOKUP($E39,新規登録!$B:$I,4,0)),(VLOOKUP($E39,氏名ﾃﾞｰﾀ!$B:$J,4,0))))","v":""},{"$f":"IF($E39=\"\",\"\",IF(ISERROR(VLOOKUP($E39,氏名ﾃﾞｰﾀ!$B:$J,5,0)),IF(ISERROR(VLOOKUP($E39,新規登録!$B:$I,5,0)),\"未登録\",VLOOKUP($E39,新規登録!$B:$I,5,0)),(VLOOKUP($E39,氏名ﾃﾞｰﾀ!$B:$J,5,0))))","v":""},{"$f":"IF($E39=\"\",\"\",IF(ISERROR(VLOOKUP($E39,氏名ﾃﾞｰﾀ!$B:$J,8,0)),IF(ISERROR(VLOOKUP($E39,新規登録!$B:$I,6,0)),\"未登録\",VLOOKUP($E39,新規登録!$B:$I,6,0)),(VLOOKUP($E39,氏名ﾃﾞｰﾀ!$B:$J,8,0))))","v":""},{"$f":"IF($E39=\"\",\"\",IF(ISERROR(VLOOKUP($E39,氏名ﾃﾞｰﾀ!$B:$J,7,0)),IF(ISERROR(VLOOKUP($E39,新規登録!$B:$I,7,0)),\"未登録\",VLOOKUP($E39,新規登録!$B:$I,7,0)),$G$3))","v":""},{"$f":"IF($E39=\"\",\"\",IF(ISERROR(VLOOKUP($E39,氏名ﾃﾞｰﾀ!$B:$J,6,0)),IF(ISERROR(VLOOKUP($E39,新規登録!$B:$I,8,0)),\"ﾅｼ\",VLOOKUP($E39,新規登録!$B:$I,8,0)),(VLOOKUP($E39,氏名ﾃﾞｰﾀ!$B:$J,6,0))))","v":""},{"$f":"IF($E39=\"\",\"\",IF(ISERROR(VLOOKUP($E39,氏名ﾃﾞｰﾀ!$B:$J,9,0)),IF(ISERROR(VLOOKUP($E39,新規登録!$B:$I,9,0)),\"未登録\",VLOOKUP($E39,新規登録!$B:$I,9,0)),(VLOOKUP($E39,氏名ﾃﾞｰﾀ!$B:$J,9,0))))","v":""},null,null,null,null,null,null,null,null,null,null,null,null,null,null,null,null,null,null,null,null,2,{"$f":"IF(N39=\"\",\"\",VLOOKUP(N39,ﾃﾞｰﾀ!A:D,4,0))","v":""},"秒","秒",null,null,null,{"$f":"IF(AH39=1,IF(Z39=\"\",1000,VLOOKUP(Z39,ﾃﾞｰﾀ!F$3:G$62,2,FALSE)),1000)","v":1000},"","","","","",{"$f":"IF(AH39=1,IF(AD39=\"\",1000,VLOOKUP(AD39,ﾃﾞｰﾀ!F$3:H$62,3,FALSE)),1000)","v":1000},"","","","","",{"$f":"IF(AH39=2,IF(Z39=\"\",1000,VLOOKUP(Z39,ﾃﾞｰﾀ!F$3:I$62,4,FALSE)),1000)","v":1000},"","","","","",{"$f":"IF(AH39=2,IF(AD39=\"\",1000,VLOOKUP(AD39,ﾃﾞｰﾀ!F$3:J$62,5,FALSE)),1000)","v":1000},"","","","",""]
["","",{"$f":"IF(E40=\"\",\"\",IF(AH40=1,COUNTIF(AH$16:AH40,1)*10+2001-10,COUNTIF(AH$16:AH40,2)*10+6001-10))","v":""},25,null,{"$f":"IF($E40=\"\",\"\",IF(ISERROR(VLOOKUP($E40,氏名ﾃﾞｰﾀ!$B:$J,2,0)),IF(ISERROR(VLOOKUP($E40,新規登録!$B:$I,2,0)),\"未登録\",VLOOKUP($E40,新規登録!$B:$I,2,0)),(VLOOKUP($E40,氏名ﾃﾞｰﾀ!$B:$J,2,0))))","v":""},{"$f":"IF($E40=\"\",\"\",IF(ISERROR(VLOOKUP($E40,氏名ﾃﾞｰﾀ!$B:$J,3,0)),IF(ISERROR(VLOOKUP($E40,新規登録!$B:$I,3,0)),\"未登録\",VLOOKUP($E40,新規登録!$B:$I,3,0)),(VLOOKUP($E40,氏名ﾃﾞｰﾀ!$B:$J,3,0))))","v":""},{"$f":"IF($E40=\"\",\"\",IF(ISERROR(VLOOKUP($E40,氏名ﾃﾞｰﾀ!$B:$J,4,0)),IF(ISERROR(VLOOKUP($E40,新規登録!$B:$I,4,0)),\"未登録\",VLOOKUP($E40,新規登録!$B:$I,4,0)),(VLOOKUP($E40,氏名ﾃﾞｰﾀ!$B:$J,4,0))))","v":""},{"$f":"IF($E40=\"\",\"\",IF(ISERROR(VLOOKUP($E40,氏名ﾃﾞｰﾀ!$B:$J,5,0)),IF(ISERROR(VLOOKUP($E40,新規登録!$B:$I,5,0)),\"未登録\",VLOOKUP($E40,新規登録!$B:$I,5,0)),(VLOOKUP($E40,氏名ﾃﾞｰﾀ!$B:$J,5,0))))","v":""},{"$f":"IF($E40=\"\",\"\",IF(ISERROR(VLOOKUP($E40,氏名ﾃﾞｰﾀ!$B:$J,8,0)),IF(ISERROR(VLOOKUP($E40,新規登録!$B:$I,6,0)),\"未登録\",VLOOKUP($E40,新規登録!$B:$I,6,0)),(VLOOKUP($E40,氏名ﾃﾞｰﾀ!$B:$J,8,0))))","v":""},{"$f":"IF($E40=\"\",\"\",IF(ISERROR(VLOOKUP($E40,氏名ﾃﾞｰﾀ!$B:$J,7,0)),IF(ISERROR(VLOOKUP($E40,新規登録!$B:$I,7,0)),\"未登録\",VLOOKUP($E40,新規登録!$B:$I,7,0)),$G$3))","v":""},{"$f":"IF($E40=\"\",\"\",IF(ISERROR(VLOOKUP($E40,氏名ﾃﾞｰﾀ!$B:$J,6,0)),IF(ISERROR(VLOOKUP($E40,新規登録!$B:$I,8,0)),\"ﾅｼ\",VLOOKUP($E40,新規登録!$B:$I,8,0)),(VLOOKUP($E40,氏名ﾃﾞｰﾀ!$B:$J,6,0))))","v":""},{"$f":"IF($E40=\"\",\"\",IF(ISERROR(VLOOKUP($E40,氏名ﾃﾞｰﾀ!$B:$J,9,0)),IF(ISERROR(VLOOKUP($E40,新規登録!$B:$I,9,0)),\"未登録\",VLOOKUP($E40,新規登録!$B:$I,9,0)),(VLOOKUP($E40,氏名ﾃﾞｰﾀ!$B:$J,9,0))))","v":""},null,null,null,null,null,null,null,null,null,null,null,null,null,null,null,null,null,null,null,null,2,{"$f":"IF(N40=\"\",\"\",VLOOKUP(N40,ﾃﾞｰﾀ!A:D,4,0))","v":""},"秒","秒",null,null,null,{"$f":"IF(AH40=1,IF(Z40=\"\",1000,VLOOKUP(Z40,ﾃﾞｰﾀ!F$3:G$62,2,FALSE)),1000)","v":1000},{"$f":"IF(AR40=\"\",\"\",LEFT(AR40,3))","v":""},{"$f":"IF(AR40=\"\",\"\",LEFT(AR40,3))","v":""},{"$f":"IF(ISERROR(VLOOKUP(AO40,$A$16:$AH$215,5,0)),\"\",VLOOKUP(AO40,$A$16:$AH$215,5,0))","v":""},"",{"$f":"IF(AR40=\"\",\"\",VLOOKUP(AR40,$E$16:$AK$215,32,0))","v":""},{"$f":"IF(AH40=1,IF(AD40=\"\",1000,VLOOKUP(AD40,ﾃﾞｰﾀ!F$3:H$62,3,FALSE)),1000)","v":1000},{"$f":"IF(AX40=\"\",\"\",LEFT(AX40,3))","v":""},{"$f":"IF(AX40=\"\",\"\",LEFT(AX40,3))","v":""},{"$f":"IF(ISERROR(VLOOKUP(AU40,$B$16:$AH$215,4,0)),\"\",VLOOKUP(AU40,$B$16:$AH$21545,4,0))","v":""},{"$f":"IF(AX40=\"\",\"\",VLOOKUP(AX40,$E$16:$AG$215,26,0))","v":""},{"$f":"IF(AX40=\"\",\"\",VLOOKUP(AX40,$E$16:$AK$215,33,0))","v":""},{"$f":"IF(AH40=2,IF(Z40=\"\",1000,VLOOKUP(Z40,ﾃﾞｰﾀ!F$3:I$62,4,FALSE)),1000)","v":1000},{"$f":"IF(BD40=\"\",\"\",LEFT(BD40,3))","v":""},{"$f":"IF(BD40=\"\",\"\",LEFT(BD40,3))","v":""},{"$f":"IF(ISERROR(VLOOKUP(BA40,$A$16:$AH$215,5,0)),\"\",VLOOKUP(BA40,$A$16:$AH$215,5,0))","v":""},{"$f":"IF(BD40=\"\",\"\",VLOOKUP(BD40,$E$16:$AG$215,22,0))","v":""},{"$f":"IF(BD40=\"\",\"\",VLOOKUP(BD40,$E$16:$AK$215,32,0))","v":""},{"$f":"IF(AH40=2,IF(AD40=\"\",1000,VLOOKUP(AD40,ﾃﾞｰﾀ!F$3:J$62,5,FALSE)),1000)","v":1000},{"$f":"IF(BJ40=\"\",\"\",LEFT(BJ40,3))","v":""},{"$f":"IF(BJ40=\"\",\"\",LEFT(BJ40,3))","v":""},{"$f":"IF(ISERROR(VLOOKUP(BG40,$B$16:$AH$215,4,0)),\"\",VLOOKUP(BG40,$B$16:$AH$21545,4,0))","v":""},{"$f":"IF(BJ40=\"\",\"\",VLOOKUP(BJ40,$E$16:$AG$215,26,0))","v":""},{"$f":"IF(BJ40=\"\",\"\",VLOOKUP(BJ40,$E$16:$AK$215,33,0))","v":""}]
["","",{"$f":"IF(E41=\"\",\"\",IF(AH41=1,COUNTIF(AH$16:AH41,1)*10+2001-10,COUNTIF(AH$16:AH41,2)*10+6001-10))","v":""},26,null,{"$f":"IF($E41=\"\",\"\",IF(ISERROR(VLOOKUP($E41,氏名ﾃﾞｰﾀ!$B:$J,2,0)),IF(ISERROR(VLOOKUP($E41,新規登録!$B:$I,2,0)),\"未登録\",VLOOKUP($E41,新規登録!$B:$I,2,0)),(VLOOKUP($E41,氏名ﾃﾞｰﾀ!$B:$J,2,0))))","v":""},{"$f":"IF($E41=\"\",\"\",IF(ISERROR(VLOOKUP($E41,氏名ﾃﾞｰﾀ!$B:$J,3,0)),IF(ISERROR(VLOOKUP($E41,新規登録!$B:$I,3,0)),\"未登録\",VLOOKUP($E41,新規登録!$B:$I,3,0)),(VLOOKUP($E41,氏名ﾃﾞｰﾀ!$B:$J,3,0))))","v":""},{"$f":"IF($E41=\"\",\"\",IF(ISERROR(VLOOKUP($E41,氏名ﾃﾞｰﾀ!$B:$J,4,0)),IF(ISERROR(VLOOKUP($E41,新規登録!$B:$I,4,0)),\"未登録\",VLOOKUP($E41,新規登録!$B:$I,4,0)),(VLOOKUP($E41,氏名ﾃﾞｰﾀ!$B:$J,4,0))))","v":""},{"$f":"IF($E41=\"\",\"\",IF(ISERROR(VLOOKUP($E41,氏名ﾃﾞｰﾀ!$B:$J,5,0)),IF(ISERROR(VLOOKUP($E41,新規登録!$B:$I,5,0)),\"未登録\",VLOOKUP($E41,新規登録!$B:$I,5,0)),(VLOOKUP($E41,氏名ﾃﾞｰﾀ!$B:$J,5,0))))","v":""},{"$f":"IF($E41=\"\",\"\",IF(ISERROR(VLOOKUP($E41,氏名ﾃﾞｰﾀ!$B:$J,8,0)),IF(ISERROR(VLOOKUP($E41,新規登録!$B:$I,6,0)),\"未登録\",VLOOKUP($E41,新規登録!$B:$I,6,0)),(VLOOKUP($E41,氏名ﾃﾞｰﾀ!$B:$J,8,0))))","v":""},{"$f":"IF($E41=\"\",\"\",IF(ISERROR(VLOOKUP($E41,氏名ﾃﾞｰﾀ!$B:$J,7,0)),IF(ISERROR(VLOOKUP($E41,新規登録!$B:$I,7,0)),\"未登録\",VLOOKUP($E41,新規登録!$B:$I,7,0)),$G$3))","v":""},{"$f":"IF($E41=\"\",\"\",IF(ISERROR(VLOOKUP($E41,氏名ﾃﾞｰﾀ!$B:$J,6,0)),IF(ISERROR(VLOOKUP($E41,新規登録!$B:$I,8,0)),\"ﾅｼ\",VLOOKUP($E41,新規登録!$B:$I,8,0)),(VLOOKUP($E41,氏名ﾃﾞｰﾀ!$B:$J,6,0))))","v":""},{"$f":"IF($E41=\"\",\"\",IF(ISERROR(VLOOKUP($E41,氏名ﾃﾞｰﾀ!$B:$J,9,0)),IF(ISERROR(VLOOKUP($E41,新規登録!$B:$I,9,0)),\"未登録\",VLOOKUP($E41,新規登録!$B:$I,9,0)),(VLOOKUP($E41,氏名ﾃﾞｰﾀ!$B:$J,9,0))))","v":""},null,null,null,null,null,null,null,null,null,null,null,null,null,null,null,null,null,null,null,null,2,{"$f":"IF(N41=\"\",\"\",VLOOKUP(N41,ﾃﾞｰﾀ!A:D,4,0))","v":""},"秒","秒",null,null,null,{"$f":"IF(AH41=1,IF(Z41=\"\",1000,VLOOKUP(Z41,ﾃﾞｰﾀ!F$3:G$62,2,FALSE)),1000)","v":1000},{"$f":"IF(AR41=\"\",\"\",LEFT(AR41,3))","v":""},{"$f":"IF(AR41=\"\",\"\",LEFT(AR41,3))","v":""},"","",{"$f":"IF(AR41=\"\",\"\",VLOOKUP(AR41,$E$16:$AK$215,32,0))","v":""},{"$f":"IF(AH41=1,IF(AD41=\"\",1000,VLOOKUP(AD41,ﾃﾞｰﾀ!F$3:H$62,3,FALSE)),1000)","v":1000},{"$f":"IF(AX41=\"\",\"\",LEFT(AX41,3))","v":""},{"$f":"IF(AX41=\"\",\"\",LEFT(AX41,3))","v":""},"","",{"$f":"IF(AX41=\"\",\"\",VLOOKUP(AX41,$E$16:$AK$215,33,0))","v":""},{"$f":"IF(AH41=2,IF(Z41=\"\",1000,VLOOKUP(Z41,ﾃﾞｰﾀ!F$3:I$62,4,FALSE)),1000)","v":1000},{"$f":"IF(BD41=\"\",\"\",LEFT(BD41,3))","v":""},{"$f":"IF(BD41=\"\",\"\",LEFT(BD41,3))","v":""},"","",{"$f":"IF(BD41=\"\",\"\",VLOOKUP(BD41,$E$16:$AK$215,32,0))","v":""},{"$f":"IF(AH41=2,IF(AD41=\"\",1000,VLOOKUP(AD41,ﾃﾞｰﾀ!F$3:J$62,5,FALSE)),1000)","v":1000},{"$f":"IF(BJ41=\"\",\"\",LEFT(BJ41,3))","v":""},{"$f":"IF(BJ41=\"\",\"\",LEFT(BJ41,3))","v":""},"","",{"$f":"IF(BJ41=\"\",\"\",VLOOKUP(BJ41,$E$16:$AK$215,33,0))","v":""}]
["","",{"$f":"IF(E42=\"\",\"\",IF(AH42=1,COUNTIF(AH$16:AH42,1)*10+2001-10,COUNTIF(AH$16:AH42,2)*10+6001-10))","v":""},27,null,{"$f":"IF($E42=\"\",\"\",IF(ISERROR(VLOOKUP($E42,氏名ﾃﾞｰﾀ!$B:$J,2,0)),IF(ISERROR(VLOOKUP($E42,新規登録!$B:$I,2,0)),\"未登録\",VLOOKUP($E42,新規登録!$B:$I,2,0)),(VLOOKUP($E42,氏名ﾃﾞｰﾀ!$B:$J,2,0))))","v":""},{"$f":"IF($E42=\"\",\"\",IF(ISERROR(VLOOKUP($E42,氏名ﾃﾞｰﾀ!$B:$J,3,0)),IF(ISERROR(VLOOKUP($E42,新規登録!$B:$I,3,0)),\"未登録\",VLOOKUP($E42,新規登録!$B:$I,3,0)),(VLOOKUP($E42,氏名ﾃﾞｰﾀ!$B:$J,3,0))))","v":""},{"$f":"IF($E42=\"\",\"\",IF(ISERROR(VLOOKUP($E42,氏名ﾃﾞｰﾀ!$B:$J,4,0)),IF(ISERROR(VLOOKUP($E42,新規登録!$B:$I,4,0)),\"未登録\",VLOOKUP($E42,新規登録!$B:$I,4,0)),(VLOOKUP($E42,氏名ﾃﾞｰﾀ!$B:$J,4,0))))","v":""},{"$f":"IF($E42=\"\",\"\",IF(ISERROR(VLOOKUP($E42,氏名ﾃﾞｰﾀ!$B:$J,5,0)),IF(ISERROR(VLOOKUP($E42,新規登録!$B:$I,5,0)),\"未登録\",VLOOKUP($E42,新規登録!$B:$I,5,0)),(VLOOKUP($E42,氏名ﾃﾞｰﾀ!$B:$J,5,0))))","v":""},{"$f":"IF($E42=\"\",\"\",IF(ISERROR(VLOOKUP($E42,氏名ﾃﾞｰﾀ!$B:$J,8,0)),IF(ISERROR(VLOOKUP($E42,新規登録!$B:$I,6,0)),\"未登録\",VLOOKUP($E42,新規登録!$B:$I,6,0)),(VLOOKUP($E42,氏名ﾃﾞｰﾀ!$B:$J,8,0))))","v":""},{"$f":"IF($E42=\"\",\"\",IF(ISERROR(VLOOKUP($E42,氏名ﾃﾞｰﾀ!$B:$J,7,0)),IF(ISERROR(VLOOKUP($E42,新規登録!$B:$I,7,0)),\"未登録\",VLOOKUP($E42,新規登録!$B:$I,7,0)),$G$3))","v":""},{"$f":"IF($E42=\"\",\"\",IF(ISERROR(VLOOKUP($E42,氏名ﾃﾞｰﾀ!$B:$J,6,0)),IF(ISERROR(VLOOKUP($E42,新規登録!$B:$I,8,0)),\"ﾅｼ\",VLOOKUP($E42,新規登録!$B:$I,8,0)),(VLOOKUP($E42,氏名ﾃﾞｰﾀ!$B:$J,6,0))))","v":""},{"$f":"IF($E42=\"\",\"\",IF(ISERROR(VLOOKUP($E42,氏名ﾃﾞｰﾀ!$B:$J,9,0)),IF(ISERROR(VLOOKUP($E42,新規登録!$B:$I,9,0)),\"未登録\",VLOOKUP($E42,新規登録!$B:$I,9,0)),(VLOOKUP($E42,氏名ﾃﾞｰﾀ!$B:$J,9,0))))","v":""},null,null,null,null,null,null,null,null,null,null,null,null,null,null,null,null,null,null,null,null,2,{"$f":"IF(N42=\"\",\"\",VLOOKUP(N42,ﾃﾞｰﾀ!A:D,4,0))","v":""},"秒","秒",null,null,null,{"$f":"IF(AH42=1,IF(Z42=\"\",1000,VLOOKUP(Z42,ﾃﾞｰﾀ!F$3:G$62,2,FALSE)),1000)","v":1000},"","","","","",{"$f":"IF(AH42=1,IF(AD42=\"\",1000,VLOOKUP(AD42,ﾃﾞｰﾀ!F$3:H$62,3,FALSE)),1000)","v":1000},"","","","","",{"$f":"IF(AH42=2,IF(Z42=\"\",1000,VLOOKUP(Z42,ﾃﾞｰﾀ!F$3:I$62,4,FALSE)),1000)","v":1000},"","","","","",{"$f":"IF(AH42=2,IF(AD42=\"\",1000,VLOOKUP(AD42,ﾃﾞｰﾀ!F$3:J$62,5,FALSE)),1000)","v":1000},"","","","",""]
["","",{"$f":"IF(E43=\"\",\"\",IF(AH43=1,COUNTIF(AH$16:AH43,1)*10+2001-10,COUNTIF(AH$16:AH43,2)*10+6001-10))","v":""},28,null,{"$f":"IF($E43=\"\",\"\",IF(ISERROR(VLOOKUP($E43,氏名ﾃﾞｰﾀ!$B:$J,2,0)),IF(ISERROR(VLOOKUP($E43,新規登録!$B:$I,2,0)),\"未登録\",VLOOKUP($E43,新規登録!$B:$I,2,0)),(VLOOKUP($E43,氏名ﾃﾞｰﾀ!$B:$J,2,0))))","v":""},{"$f":"IF($E43=\"\",\"\",IF(ISERROR(VLOOKUP($E43,氏名ﾃﾞｰﾀ!$B:$J,3,0)),IF(ISERROR(VLOOKUP($E43,新規登録!$B:$I,3,0)),\"未登録\",VLOOKUP($E43,新規登録!$B:$I,3,0)),(VLOOKUP($E43,氏名ﾃﾞｰﾀ!$B:$J,3,0))))","v":""},{"$f":"IF($E43=\"\",\"\",IF(ISERROR(VLOOKUP($E43,氏名ﾃﾞｰﾀ!$B:$J,4,0)),IF(ISERROR(VLOOKUP($E43,新規登録!$B:$I,4,0)),\"未登録\",VLOOKUP($E43,新規登録!$B:$I,4,0)),(VLOOKUP($E43,氏名ﾃﾞｰﾀ!$B:$J,4,0))))","v":""},{"$f":"IF($E43=\"\",\"\",IF(ISERROR(VLOOKUP($E43,氏名ﾃﾞｰﾀ!$B:$J,5,0)),IF(ISERROR(VLOOKUP($E43,新規登録!$B:$I,5,0)),\"未登録\",VLOOKUP($E43,新規登録!$B:$I,5,0)),(VLOOKUP($E43,氏名ﾃﾞｰﾀ!$B:$J,5,0))))","v":""},{"$f":"IF($E43=\"\",\"\",IF(ISERROR(VLOOKUP($E43,氏名ﾃﾞｰﾀ!$B:$J,8,0)),IF(ISERROR(VLOOKUP($E43,新規登録!$B:$I,6,0)),\"未登録\",VLOOKUP($E43,新規登録!$B:$I,6,0)),(VLOOKUP($E43,氏名ﾃﾞｰﾀ!$B:$J,8,0))))","v":""},{"$f":"IF($E43=\"\",\"\",IF(ISERROR(VLOOKUP($E43,氏名ﾃﾞｰﾀ!$B:$J,7,0)),IF(ISERROR(VLOOKUP($E43,新規登録!$B:$I,7,0)),\"未登録\",VLOOKUP($E43,新規登録!$B:$I,7,0)),$G$3))","v":""},{"$f":"IF($E43=\"\",\"\",IF(ISERROR(VLOOKUP($E43,氏名ﾃﾞｰﾀ!$B:$J,6,0)),IF(ISERROR(VLOOKUP($E43,新規登録!$B:$I,8,0)),\"ﾅｼ\",VLOOKUP($E43,新規登録!$B:$I,8,0)),(VLOOKUP($E43,氏名ﾃﾞｰﾀ!$B:$J,6,0))))","v":""},{"$f":"IF($E43=\"\",\"\",IF(ISERROR(VLOOKUP($E43,氏名ﾃﾞｰﾀ!$B:$J,9,0)),IF(ISERROR(VLOOKUP($E43,新規登録!$B:$I,9,0)),\"未登録\",VLOOKUP($E43,新規登録!$B:$I,9,0)),(VLOOKUP($E43,氏名ﾃﾞｰﾀ!$B:$J,9,0))))","v":""},null,null,null,null,null,null,null,null,null,null,null,null,null,null,null,null,null,null,null,null,2,{"$f":"IF(N43=\"\",\"\",VLOOKUP(N43,ﾃﾞｰﾀ!A:D,4,0))","v":""},"秒","秒",null,null,null,{"$f":"IF(AH43=1,IF(Z43=\"\",1000,VLOOKUP(Z43,ﾃﾞｰﾀ!F$3:G$62,2,FALSE)),1000)","v":1000},"","","","","",{"$f":"IF(AH43=1,IF(AD43=\"\",1000,VLOOKUP(AD43,ﾃﾞｰﾀ!F$3:H$62,3,FALSE)),1000)","v":1000},"","","","","",{"$f":"IF(AH43=2,IF(Z43=\"\",1000,VLOOKUP(Z43,ﾃﾞｰﾀ!F$3:I$62,4,FALSE)),1000)","v":1000},"","","","","",{"$f":"IF(AH43=2,IF(AD43=\"\",1000,VLOOKUP(AD43,ﾃﾞｰﾀ!F$3:J$62,5,FALSE)),1000)","v":1000},"","","","",""]
["","",{"$f":"IF(E44=\"\",\"\",IF(AH44=1,COUNTIF(AH$16:AH44,1)*10+2001-10,COUNTIF(AH$16:AH44,2)*10+6001-10))","v":""},29,null,{"$f":"IF($E44=\"\",\"\",IF(ISERROR(VLOOKUP($E44,氏名ﾃﾞｰﾀ!$B:$J,2,0)),IF(ISERROR(VLOOKUP($E44,新規登録!$B:$I,2,0)),\"未登録\",VLOOKUP($E44,新規登録!$B:$I,2,0)),(VLOOKUP($E44,氏名ﾃﾞｰﾀ!$B:$J,2,0))))","v":""},{"$f":"IF($E44=\"\",\"\",IF(ISERROR(VLOOKUP($E44,氏名ﾃﾞｰﾀ!$B:$J,3,0)),IF(ISERROR(VLOOKUP($E44,新規登録!$B:$I,3,0)),\"未登録\",VLOOKUP($E44,新規登録!$B:$I,3,0)),(VLOOKUP($E44,氏名ﾃﾞｰﾀ!$B:$J,3,0))))","v":""},{"$f":"IF($E44=\"\",\"\",IF(ISERROR(VLOOKUP($E44,氏名ﾃﾞｰﾀ!$B:$J,4,0)),IF(ISERROR(VLOOKUP($E44,新規登録!$B:$I,4,0)),\"未登録\",VLOOKUP($E44,新規登録!$B:$I,4,0)),(VLOOKUP($E44,氏名ﾃﾞｰﾀ!$B:$J,4,0))))","v":""},{"$f":"IF($E44=\"\",\"\",IF(ISERROR(VLOOKUP($E44,氏名ﾃﾞｰﾀ!$B:$J,5,0)),IF(ISERROR(VLOOKUP($E44,新規登録!$B:$I,5,0)),\"未登録\",VLOOKUP($E44,新規登録!$B:$I,5,0)),(VLOOKUP($E44,氏名ﾃﾞｰﾀ!$B:$J,5,0))))","v":""},{"$f":"IF($E44=\"\",\"\",IF(ISERROR(VLOOKUP($E44,氏名ﾃﾞｰﾀ!$B:$J,8,0)),IF(ISERROR(VLOOKUP($E44,新規登録!$B:$I,6,0)),\"未登録\",VLOOKUP($E44,新規登録!$B:$I,6,0)),(VLOOKUP($E44,氏名ﾃﾞｰﾀ!$B:$J,8,0))))","v":""},{"$f":"IF($E44=\"\",\"\",IF(ISERROR(VLOOKUP($E44,氏名ﾃﾞｰﾀ!$B:$J,7,0)),IF(ISERROR(VLOOKUP($E44,新規登録!$B:$I,7,0)),\"未登録\",VLOOKUP($E44,新規登録!$B:$I,7,0)),$G$3))","v":""},{"$f":"IF($E44=\"\",\"\",IF(ISERROR(VLOOKUP($E44,氏名ﾃﾞｰﾀ!$B:$J,6,0)),IF(ISERROR(VLOOKUP($E44,新規登録!$B:$I,8,0)),\"ﾅｼ\",VLOOKUP($E44,新規登録!$B:$I,8,0)),(VLOOKUP($E44,氏名ﾃﾞｰﾀ!$B:$J,6,0))))","v":""},{"$f":"IF($E44=\"\",\"\",IF(ISERROR(VLOOKUP($E44,氏名ﾃﾞｰﾀ!$B:$J,9,0)),IF(ISERROR(VLOOKUP($E44,新規登録!$B:$I,9,0)),\"未登録\",VLOOKUP($E44,新規登録!$B:$I,9,0)),(VLOOKUP($E44,氏名ﾃﾞｰﾀ!$B:$J,9,0))))","v":""},null,null,null,null,null,null,null,null,null,null,null,null,null,null,null,null,null,null,null,null,2,{"$f":"IF(N44=\"\",\"\",VLOOKUP(N44,ﾃﾞｰﾀ!A:D,4,0))","v":""},"秒","秒",null,null,null,{"$f":"IF(AH44=1,IF(Z44=\"\",1000,VLOOKUP(Z44,ﾃﾞｰﾀ!F$3:G$62,2,FALSE)),1000)","v":1000},"","","","","",{"$f":"IF(AH44=1,IF(AD44=\"\",1000,VLOOKUP(AD44,ﾃﾞｰﾀ!F$3:H$62,3,FALSE)),1000)","v":1000},"","","","","",{"$f":"IF(AH44=2,IF(Z44=\"\",1000,VLOOKUP(Z44,ﾃﾞｰﾀ!F$3:I$62,4,FALSE)),1000)","v":1000},"","","","","",{"$f":"IF(AH44=2,IF(AD44=\"\",1000,VLOOKUP(AD44,ﾃﾞｰﾀ!F$3:J$62,5,FALSE)),1000)","v":1000},"","","","",""]
["","",{"$f":"IF(E45=\"\",\"\",IF(AH45=1,COUNTIF(AH$16:AH45,1)*10+2001-10,COUNTIF(AH$16:AH45,2)*10+6001-10))","v":""},30,null,{"$f":"IF($E45=\"\",\"\",IF(ISERROR(VLOOKUP($E45,氏名ﾃﾞｰﾀ!$B:$J,2,0)),IF(ISERROR(VLOOKUP($E45,新規登録!$B:$I,2,0)),\"未登録\",VLOOKUP($E45,新規登録!$B:$I,2,0)),(VLOOKUP($E45,氏名ﾃﾞｰﾀ!$B:$J,2,0))))","v":""},{"$f":"IF($E45=\"\",\"\",IF(ISERROR(VLOOKUP($E45,氏名ﾃﾞｰﾀ!$B:$J,3,0)),IF(ISERROR(VLOOKUP($E45,新規登録!$B:$I,3,0)),\"未登録\",VLOOKUP($E45,新規登録!$B:$I,3,0)),(VLOOKUP($E45,氏名ﾃﾞｰﾀ!$B:$J,3,0))))","v":""},{"$f":"IF($E45=\"\",\"\",IF(ISERROR(VLOOKUP($E45,氏名ﾃﾞｰﾀ!$B:$J,4,0)),IF(ISERROR(VLOOKUP($E45,新規登録!$B:$I,4,0)),\"未登録\",VLOOKUP($E45,新規登録!$B:$I,4,0)),(VLOOKUP($E45,氏名ﾃﾞｰﾀ!$B:$J,4,0))))","v":""},{"$f":"IF($E45=\"\",\"\",IF(ISERROR(VLOOKUP($E45,氏名ﾃﾞｰﾀ!$B:$J,5,0)),IF(ISERROR(VLOOKUP($E45,新規登録!$B:$I,5,0)),\"未登録\",VLOOKUP($E45,新規登録!$B:$I,5,0)),(VLOOKUP($E45,氏名ﾃﾞｰﾀ!$B:$J,5,0))))","v":""},{"$f":"IF($E45=\"\",\"\",IF(ISERROR(VLOOKUP($E45,氏名ﾃﾞｰﾀ!$B:$J,8,0)),IF(ISERROR(VLOOKUP($E45,新規登録!$B:$I,6,0)),\"未登録\",VLOOKUP($E45,新規登録!$B:$I,6,0)),(VLOOKUP($E45,氏名ﾃﾞｰﾀ!$B:$J,8,0))))","v":""},{"$f":"IF($E45=\"\",\"\",IF(ISERROR(VLOOKUP($E45,氏名ﾃﾞｰﾀ!$B:$J,7,0)),IF(ISERROR(VLOOKUP($E45,新規登録!$B:$I,7,0)),\"未登録\",VLOOKUP($E45,新規登録!$B:$I,7,0)),$G$3))","v":""},{"$f":"IF($E45=\"\",\"\",IF(ISERROR(VLOOKUP($E45,氏名ﾃﾞｰﾀ!$B:$J,6,0)),IF(ISERROR(VLOOKUP($E45,新規登録!$B:$I,8,0)),\"ﾅｼ\",VLOOKUP($E45,新規登録!$B:$I,8,0)),(VLOOKUP($E45,氏名ﾃﾞｰﾀ!$B:$J,6,0))))","v":""},{"$f":"IF($E45=\"\",\"\",IF(ISERROR(VLOOKUP($E45,氏名ﾃﾞｰﾀ!$B:$J,9,0)),IF(ISERROR(VLOOKUP($E45,新規登録!$B:$I,9,0)),\"未登録\",VLOOKUP($E45,新規登録!$B:$I,9,0)),(VLOOKUP($E45,氏名ﾃﾞｰﾀ!$B:$J,9,0))))","v":""},null,null,null,null,null,null,null,null,null,null,null,null,null,null,null,null,null,null,null,null,2,{"$f":"IF(N45=\"\",\"\",VLOOKUP(N45,ﾃﾞｰﾀ!A:D,4,0))","v":""},"秒","秒",null,null,null,{"$f":"IF(AH45=1,IF(Z45=\"\",1000,VLOOKUP(Z45,ﾃﾞｰﾀ!F$3:G$62,2,FALSE)),1000)","v":1000},"","","","","",{"$f":"IF(AH45=1,IF(AD45=\"\",1000,VLOOKUP(AD45,ﾃﾞｰﾀ!F$3:H$62,3,FALSE)),1000)","v":1000},"","","","","",{"$f":"IF(AH45=2,IF(Z45=\"\",1000,VLOOKUP(Z45,ﾃﾞｰﾀ!F$3:I$62,4,FALSE)),1000)","v":1000},"","","","","",{"$f":"IF(AH45=2,IF(AD45=\"\",1000,VLOOKUP(AD45,ﾃﾞｰﾀ!F$3:J$62,5,FALSE)),1000)","v":1000},"","","","",""]
["","",{"$f":"IF(E46=\"\",\"\",IF(AH46=1,COUNTIF(AH$16:AH46,1)*10+2001-10,COUNTIF(AH$16:AH46,2)*10+6001-10))","v":""},31,null,{"$f":"IF($E46=\"\",\"\",IF(ISERROR(VLOOKUP($E46,氏名ﾃﾞｰﾀ!$B:$J,2,0)),IF(ISERROR(VLOOKUP($E46,新規登録!$B:$I,2,0)),\"未登録\",VLOOKUP($E46,新規登録!$B:$I,2,0)),(VLOOKUP($E46,氏名ﾃﾞｰﾀ!$B:$J,2,0))))","v":""},{"$f":"IF($E46=\"\",\"\",IF(ISERROR(VLOOKUP($E46,氏名ﾃﾞｰﾀ!$B:$J,3,0)),IF(ISERROR(VLOOKUP($E46,新規登録!$B:$I,3,0)),\"未登録\",VLOOKUP($E46,新規登録!$B:$I,3,0)),(VLOOKUP($E46,氏名ﾃﾞｰﾀ!$B:$J,3,0))))","v":""},{"$f":"IF($E46=\"\",\"\",IF(ISERROR(VLOOKUP($E46,氏名ﾃﾞｰﾀ!$B:$J,4,0)),IF(ISERROR(VLOOKUP($E46,新規登録!$B:$I,4,0)),\"未登録\",VLOOKUP($E46,新規登録!$B:$I,4,0)),(VLOOKUP($E46,氏名ﾃﾞｰﾀ!$B:$J,4,0))))","v":""},{"$f":"IF($E46=\"\",\"\",IF(ISERROR(VLOOKUP($E46,氏名ﾃﾞｰﾀ!$B:$J,5,0)),IF(ISERROR(VLOOKUP($E46,新規登録!$B:$I,5,0)),\"未登録\",VLOOKUP($E46,新規登録!$B:$I,5,0)),(VLOOKUP($E46,氏名ﾃﾞｰﾀ!$B:$J,5,0))))","v":""},{"$f":"IF($E46=\"\",\"\",IF(ISERROR(VLOOKUP($E46,氏名ﾃﾞｰﾀ!$B:$J,8,0)),IF(ISERROR(VLOOKUP($E46,新規登録!$B:$I,6,0)),\"未登録\",VLOOKUP($E46,新規登録!$B:$I,6,0)),(VLOOKUP($E46,氏名ﾃﾞｰﾀ!$B:$J,8,0))))","v":""},{"$f":"IF($E46=\"\",\"\",IF(ISERROR(VLOOKUP($E46,氏名ﾃﾞｰﾀ!$B:$J,7,0)),IF(ISERROR(VLOOKUP($E46,新規登録!$B:$I,7,0)),\"未登録\",VLOOKUP($E46,新規登録!$B:$I,7,0)),$G$3))","v":""},{"$f":"IF($E46=\"\",\"\",IF(ISERROR(VLOOKUP($E46,氏名ﾃﾞｰﾀ!$B:$J,6,0)),IF(ISERROR(VLOOKUP($E46,新規登録!$B:$I,8,0)),\"ﾅｼ\",VLOOKUP($E46,新規登録!$B:$I,8,0)),(VLOOKUP($E46,氏名ﾃﾞｰﾀ!$B:$J,6,0))))","v":""},{"$f":"IF($E46=\"\",\"\",IF(ISERROR(VLOOKUP($E46,氏名ﾃﾞｰﾀ!$B:$J,9,0)),IF(ISERROR(VLOOKUP($E46,新規登録!$B:$I,9,0)),\"未登録\",VLOOKUP($E46,新規登録!$B:$I,9,0)),(VLOOKUP($E46,氏名ﾃﾞｰﾀ!$B:$J,9,0))))","v":""},null,null,null,null,null,null,null,null,null,null,null,null,null,null,null,null,null,null,null,null,2,{"$f":"IF(N46=\"\",\"\",VLOOKUP(N46,ﾃﾞｰﾀ!A:D,4,0))","v":""},"秒","秒",null,null,null,{"$f":"IF(AH46=1,IF(Z46=\"\",1000,VLOOKUP(Z46,ﾃﾞｰﾀ!F$3:G$62,2,FALSE)),1000)","v":1000},{"$f":"IF(AR46=\"\",\"\",LEFT(AR46,3))","v":""},{"$f":"IF(AR46=\"\",\"\",LEFT(AR46,3))","v":""},{"$f":"IF(ISERROR(VLOOKUP(AO46,$A$16:$AH$215,5,0)),\"\",VLOOKUP(AO46,$A$16:$AH$215,5,0))","v":""},"",{"$f":"IF(AR46=\"\",\"\",VLOOKUP(AR46,$E$16:$AK$215,32,0))","v":""},{"$f":"IF(AH46=1,IF(AD46=\"\",1000,VLOOKUP(AD46,ﾃﾞｰﾀ!F$3:H$62,3,FALSE)),1000)","v":1000},{"$f":"IF(AX46=\"\",\"\",LEFT(AX46,3))","v":""},{"$f":"IF(AX46=\"\",\"\",LEFT(AX46,3))","v":""},{"$f":"IF(ISERROR(VLOOKUP(AU46,$B$16:$AH$215,4,0)),\"\",VLOOKUP(AU46,$B$16:$AH$21545,4,0))","v":""},{"$f":"IF(AX46=\"\",\"\",VLOOKUP(AX46,$E$16:$AG$215,26,0))","v":""},{"$f":"IF(AX46=\"\",\"\",VLOOKUP(AX46,$E$16:$AK$215,33,0))","v":""},{"$f":"IF(AH46=2,IF(Z46=\"\",1000,VLOOKUP(Z46,ﾃﾞｰﾀ!F$3:I$62,4,FALSE)),1000)","v":1000},{"$f":"IF(BD46=\"\",\"\",LEFT(BD46,3))","v":""},{"$f":"IF(BD46=\"\",\"\",LEFT(BD46,3))","v":""},{"$f":"IF(ISERROR(VLOOKUP(BA46,$A$16:$AH$215,5,0)),\"\",VLOOKUP(BA46,$A$16:$AH$215,5,0))","v":""},{"$f":"IF(BD46=\"\",\"\",VLOOKUP(BD46,$E$16:$AG$215,22,0))","v":""},{"$f":"IF(BD46=\"\",\"\",VLOOKUP(BD46,$E$16:$AK$215,32,0))","v":""},{"$f":"IF(AH46=2,IF(AD46=\"\",1000,VLOOKUP(AD46,ﾃﾞｰﾀ!F$3:J$62,5,FALSE)),1000)","v":1000},{"$f":"IF(BJ46=\"\",\"\",LEFT(BJ46,3))","v":""},{"$f":"IF(BJ46=\"\",\"\",LEFT(BJ46,3))","v":""},{"$f":"IF(ISERROR(VLOOKUP(BG46,$B$16:$AH$215,4,0)),\"\",VLOOKUP(BG46,$B$16:$AH$21545,4,0))","v":""},{"$f":"IF(BJ46=\"\",\"\",VLOOKUP(BJ46,$E$16:$AG$215,26,0))","v":""},{"$f":"IF(BJ46=\"\",\"\",VLOOKUP(BJ46,$E$16:$AK$215,33,0))","v":""}]
["","",{"$f":"IF(E47=\"\",\"\",IF(AH47=1,COUNTIF(AH$16:AH47,1)*10+2001-10,COUNTIF(AH$16:AH47,2)*10+6001-10))","v":""},32,null,{"$f":"IF($E47=\"\",\"\",IF(ISERROR(VLOOKUP($E47,氏名ﾃﾞｰﾀ!$B:$J,2,0)),IF(ISERROR(VLOOKUP($E47,新規登録!$B:$I,2,0)),\"未登録\",VLOOKUP($E47,新規登録!$B:$I,2,0)),(VLOOKUP($E47,氏名ﾃﾞｰﾀ!$B:$J,2,0))))","v":""},{"$f":"IF($E47=\"\",\"\",IF(ISERROR(VLOOKUP($E47,氏名ﾃﾞｰﾀ!$B:$J,3,0)),IF(ISERROR(VLOOKUP($E47,新規登録!$B:$I,3,0)),\"未登録\",VLOOKUP($E47,新規登録!$B:$I,3,0)),(VLOOKUP($E47,氏名ﾃﾞｰﾀ!$B:$J,3,0))))","v":""},{"$f":"IF($E47=\"\",\"\",IF(ISERROR(VLOOKUP($E47,氏名ﾃﾞｰﾀ!$B:$J,4,0)),IF(ISERROR(VLOOKUP($E47,新規登録!$B:$I,4,0)),\"未登録\",VLOOKUP($E47,新規登録!$B:$I,4,0)),(VLOOKUP($E47,氏名ﾃﾞｰﾀ!$B:$J,4,0))))","v":""},{"$f":"IF($E47=\"\",\"\",IF(ISERROR(VLOOKUP($E47,氏名ﾃﾞｰﾀ!$B:$J,5,0)),IF(ISERROR(VLOOKUP($E47,新規登録!$B:$I,5,0)),\"未登録\",VLOOKUP($E47,新規登録!$B:$I,5,0)),(VLOOKUP($E47,氏名ﾃﾞｰﾀ!$B:$J,5,0))))","v":""},{"$f":"IF($E47=\"\",\"\",IF(ISERROR(VLOOKUP($E47,氏名ﾃﾞｰﾀ!$B:$J,8,0)),IF(ISERROR(VLOOKUP($E47,新規登録!$B:$I,6,0)),\"未登録\",VLOOKUP($E47,新規登録!$B:$I,6,0)),(VLOOKUP($E47,氏名ﾃﾞｰﾀ!$B:$J,8,0))))","v":""},{"$f":"IF($E47=\"\",\"\",IF(ISERROR(VLOOKUP($E47,氏名ﾃﾞｰﾀ!$B:$J,7,0)),IF(ISERROR(VLOOKUP($E47,新規登録!$B:$I,7,0)),\"未登録\",VLOOKUP($E47,新規登録!$B:$I,7,0)),$G$3))","v":""},{"$f":"IF($E47=\"\",\"\",IF(ISERROR(VLOOKUP($E47,氏名ﾃﾞｰﾀ!$B:$J,6,0)),IF(ISERROR(VLOOKUP($E47,新規登録!$B:$I,8,0)),\"ﾅｼ\",VLOOKUP($E47,新規登録!$B:$I,8,0)),(VLOOKUP($E47,氏名ﾃﾞｰﾀ!$B:$J,6,0))))","v":""},{"$f":"IF($E47=\"\",\"\",IF(ISERROR(VLOOKUP($E47,氏名ﾃﾞｰﾀ!$B:$J,9,0)),IF(ISERROR(VLOOKUP($E47,新規登録!$B:$I,9,0)),\"未登録\",VLOOKUP($E47,新規登録!$B:$I,9,0)),(VLOOKUP($E47,氏名ﾃﾞｰﾀ!$B:$J,9,0))))","v":""},null,null,null,null,null,null,null,null,null,null,null,null,null,null,null,null,null,null,null,null,2,{"$f":"IF(N47=\"\",\"\",VLOOKUP(N47,ﾃﾞｰﾀ!A:D,4,0))","v":""},"秒","秒",null,null,null,{"$f":"IF(AH47=1,IF(Z47=\"\",1000,VLOOKUP(Z47,ﾃﾞｰﾀ!F$3:G$62,2,FALSE)),1000)","v":1000},{"$f":"IF(AR47=\"\",\"\",LEFT(AR47,3))","v":""},{"$f":"IF(AR47=\"\",\"\",LEFT(AR47,3))","v":""},"","",{"$f":"IF(AR47=\"\",\"\",VLOOKUP(AR47,$E$16:$AK$215,32,0))","v":""},{"$f":"IF(AH47=1,IF(AD47=\"\",1000,VLOOKUP(AD47,ﾃﾞｰﾀ!F$3:H$62,3,FALSE)),1000)","v":1000},{"$f":"IF(AX47=\"\",\"\",LEFT(AX47,3))","v":""},{"$f":"IF(AX47=\"\",\"\",LEFT(AX47,3))","v":""},"","",{"$f":"IF(AX47=\"\",\"\",VLOOKUP(AX47,$E$16:$AK$215,33,0))","v":""},{"$f":"IF(AH47=2,IF(Z47=\"\",1000,VLOOKUP(Z47,ﾃﾞｰﾀ!F$3:I$62,4,FALSE)),1000)","v":1000},{"$f":"IF(BD47=\"\",\"\",LEFT(BD47,3))","v":""},{"$f":"IF(BD47=\"\",\"\",LEFT(BD47,3))","v":""},"","",{"$f":"IF(BD47=\"\",\"\",VLOOKUP(BD47,$E$16:$AK$215,32,0))","v":""},{"$f":"IF(AH47=2,IF(AD47=\"\",1000,VLOOKUP(AD47,ﾃﾞｰﾀ!F$3:J$62,5,FALSE)),1000)","v":1000},{"$f":"IF(BJ47=\"\",\"\",LEFT(BJ47,3))","v":""},{"$f":"IF(BJ47=\"\",\"\",LEFT(BJ47,3))","v":""},"","",{"$f":"IF(BJ47=\"\",\"\",VLOOKUP(BJ47,$E$16:$AK$215,33,0))","v":""}]
[{"$f":"IF(Z48=\"\",\"\",IF(L48=\"男\",VLOOKUP(Z48,ﾘﾚｰｺｰﾄﾞ,2,0),VLOOKUP(Z48,ﾘﾚｰｺｰﾄﾞ,4,0)))","v":""},{"$f":"IF(AD48=\"\",\"\",IF(L48=\"男\",VLOOKUP(AD48,ﾘﾚｰｺｰﾄﾞ,3,0),VLOOKUP(AD48,ﾘﾚｰｺｰﾄﾞ,5,0)))","v":""},{"$f":"IF(E48=\"\",\"\",IF(AH48=1,COUNTIF(AH$16:AH48,1)*10+2001-10,COUNTIF(AH$16:AH48,2)*10+6001-10))","v":""},33,null,{"$f":"IF($E48=\"\",\"\",IF(ISERROR(VLOOKUP($E48,氏名ﾃﾞｰﾀ!$B:$J,2,0)),IF(ISERROR(VLOOKUP($E48,新規登録!$B:$I,2,0)),\"未登録\",VLOOKUP($E48,新規登録!$B:$I,2,0)),(VLOOKUP($E48,氏名ﾃﾞｰﾀ!$B:$J,2,0))))","v":""},{"$f":"IF($E48=\"\",\"\",IF(ISERROR(VLOOKUP($E48,氏名ﾃﾞｰﾀ!$B:$J,3,0)),IF(ISERROR(VLOOKUP($E48,新規登録!$B:$I,3,0)),\"未登録\",VLOOKUP($E48,新規登録!$B:$I,3,0)),(VLOOKUP($E48,氏名ﾃﾞｰﾀ!$B:$J,3,0))))","v":""},{"$f":"IF($E48=\"\",\"\",IF(ISERROR(VLOOKUP($E48,氏名ﾃﾞｰﾀ!$B:$J,4,0)),IF(ISERROR(VLOOKUP($E48,新規登録!$B:$I,4,0)),\"未登録\",VLOOKUP($E48,新規登録!$B:$I,4,0)),(VLOOKUP($E48,氏名ﾃﾞｰﾀ!$B:$J,4,0))))","v":""},{"$f":"IF($E48=\"\",\"\",IF(ISERROR(VLOOKUP($E48,氏名ﾃﾞｰﾀ!$B:$J,5,0)),IF(ISERROR(VLOOKUP($E48,新規登録!$B:$I,5,0)),\"未登録\",VLOOKUP($E48,新規登録!$B:$I,5,0)),(VLOOKUP($E48,氏名ﾃﾞｰﾀ!$B:$J,5,0))))","v":""},{"$f":"IF($E48=\"\",\"\",IF(ISERROR(VLOOKUP($E48,氏名ﾃﾞｰﾀ!$B:$J,8,0)),IF(ISERROR(VLOOKUP($E48,新規登録!$B:$I,6,0)),\"未登録\",VLOOKUP($E48,新規登録!$B:$I,6,0)),(VLOOKUP($E48,氏名ﾃﾞｰﾀ!$B:$J,8,0))))","v":""},{"$f":"IF($E48=\"\",\"\",IF(ISERROR(VLOOKUP($E48,氏名ﾃﾞｰﾀ!$B:$J,7,0)),IF(ISERROR(VLOOKUP($E48,新規登録!$B:$I,7,0)),\"未登録\",VLOOKUP($E48,新規登録!$B:$I,7,0)),$G$3))","v":""},{"$f":"IF($E48=\"\",\"\",IF(ISERROR(VLOOKUP($E48,氏名ﾃﾞｰﾀ!$B:$J,6,0)),IF(ISERROR(VLOOKUP($E48,新規登録!$B:$I,8,0)),\"ﾅｼ\",VLOOKUP($E48,新規登録!$B:$I,8,0)),(VLOOKUP($E48,氏名ﾃﾞｰﾀ!$B:$J,6,0))))","v":""},{"$f":"IF($E48=\"\",\"\",IF(ISERROR(VLOOKUP($E48,氏名ﾃﾞｰﾀ!$B:$J,9,0)),IF(ISERROR(VLOOKUP($E48,新規登録!$B:$I,9,0)),\"未登録\",VLOOKUP($E48,新規登録!$B:$I,9,0)),(VLOOKUP($E48,氏名ﾃﾞｰﾀ!$B:$J,9,0))))","v":""},null,null,null,null,null,null,null,null,null,null,null,null,null,null,null,null,null,null,null,null,{"$f":"IF(L48=\"男\",1,2)","v":2},{"$f":"IF(N48=\"\",\"\",VLOOKUP(N48,ﾃﾞｰﾀ!A:D,4,0))","v":""},"秒","秒",null,null,null,{"$f":"IF(AH48=1,IF(Z48=\"\",1000,VLOOKUP(Z48,ﾃﾞｰﾀ!F$3:G$62,2,FALSE)),1000)","v":1000},"","","","","",{"$f":"IF(AH48=1,IF(AD48=\"\",1000,VLOOKUP(AD48,ﾃﾞｰﾀ!F$3:H$62,3,FALSE)),1000)","v":1000},"","","","","",{"$f":"IF(AH48=2,IF(Z48=\"\",1000,VLOOKUP(Z48,ﾃﾞｰﾀ!F$3:I$62,4,FALSE)),1000)","v":1000},"","","","","",{"$f":"IF(AH48=2,IF(AD48=\"\",1000,VLOOKUP(AD48,ﾃﾞｰﾀ!F$3:J$62,5,FALSE)),1000)","v":1000},"","","","",""]
["","",{"$f":"IF(E49=\"\",\"\",IF(AH49=1,COUNTIF(AH$16:AH49,1)*10+2001-10,COUNTIF(AH$16:AH49,2)*10+6001-10))","v":""},34,null,{"$f":"IF($E49=\"\",\"\",IF(ISERROR(VLOOKUP($E49,氏名ﾃﾞｰﾀ!$B:$J,2,0)),IF(ISERROR(VLOOKUP($E49,新規登録!$B:$I,2,0)),\"未登録\",VLOOKUP($E49,新規登録!$B:$I,2,0)),(VLOOKUP($E49,氏名ﾃﾞｰﾀ!$B:$J,2,0))))","v":""},{"$f":"IF($E49=\"\",\"\",IF(ISERROR(VLOOKUP($E49,氏名ﾃﾞｰﾀ!$B:$J,3,0)),IF(ISERROR(VLOOKUP($E49,新規登録!$B:$I,3,0)),\"未登録\",VLOOKUP($E49,新規登録!$B:$I,3,0)),(VLOOKUP($E49,氏名ﾃﾞｰﾀ!$B:$J,3,0))))","v":""},{"$f":"IF($E49=\"\",\"\",IF(ISERROR(VLOOKUP($E49,氏名ﾃﾞｰﾀ!$B:$J,4,0)),IF(ISERROR(VLOOKUP($E49,新規登録!$B:$I,4,0)),\"未登録\",VLOOKUP($E49,新規登録!$B:$I,4,0)),(VLOOKUP($E49,氏名ﾃﾞｰﾀ!$B:$J,4,0))))","v":""},{"$f":"IF($E49=\"\",\"\",IF(ISERROR(VLOOKUP($E49,氏名ﾃﾞｰﾀ!$B:$J,5,0)),IF(ISERROR(VLOOKUP($E49,新規登録!$B:$I,5,0)),\"未登録\",VLOOKUP($E49,新規登録!$B:$I,5,0)),(VLOOKUP($E49,氏名ﾃﾞｰﾀ!$B:$J,5,0))))","v":""},{"$f":"IF($E49=\"\",\"\",IF(ISERROR(VLOOKUP($E49,氏名ﾃﾞｰﾀ!$B:$J,8,0)),IF(ISERROR(VLOOKUP($E49,新規登録!$B:$I,6,0)),\"未登録\",VLOOKUP($E49,新規登録!$B:$I,6,0)),(VLOOKUP($E49,氏名ﾃﾞｰﾀ!$B:$J,8,0))))","v":""},{"$f":"IF($E49=\"\",\"\",IF(ISERROR(VLOOKUP($E49,氏名ﾃﾞｰﾀ!$B:$J,7,0)),IF(ISERROR(VLOOKUP($E49,新規登録!$B:$I,7,0)),\"未登録\",VLOOKUP($E49,新規登録!$B:$I,7,0)),$G$3))","v":""},{"$f":"IF($E49=\"\",\"\",IF(ISERROR(VLOOKUP($E49,氏名ﾃﾞｰﾀ!$B:$J,6,0)),IF(ISERROR(VLOOKUP($E49,新規登録!$B:$I,8,0)),\"ﾅｼ\",VLOOKUP($E49,新規登録!$B:$I,8,0)),(VLOOKUP($E49,氏名ﾃﾞｰﾀ!$B:$J,6,0))))","v":""},{"$f":"IF($E49=\"\",\"\",IF(ISERROR(VLOOKUP($E49,氏名ﾃﾞｰﾀ!$B:$J,9,0)),IF(ISERROR(VLOOKUP($E49,新規登録!$B:$I,9,0)),\"未登録\",VLOOKUP($E49,新規登録!$B:$I,9,0)),(VLOOKUP($E49,氏名ﾃﾞｰﾀ!$B:$J,9,0))))","v":""},null,null,null,null,null,null,null,null,null,null,null,null,null,null,null,null,null,null,null,null,2,{"$f":"IF(N49=\"\",\"\",VLOOKUP(N49,ﾃﾞｰﾀ!A:D,4,0))","v":""},"秒","秒",null,null,null,{"$f":"IF(AH49=1,IF(Z49=\"\",1000,VLOOKUP(Z49,ﾃﾞｰﾀ!F$3:G$62,2,FALSE)),1000)","v":1000},"","","","","",{"$f":"IF(AH49=1,IF(AD49=\"\",1000,VLOOKUP(AD49,ﾃﾞｰﾀ!F$3:H$62,3,FALSE)),1000)","v":1000},"","","","","",{"$f":"IF(AH49=2,IF(Z49=\"\",1000,VLOOKUP(Z49,ﾃﾞｰﾀ!F$3:I$62,4,FALSE)),1000)","v":1000},"","","","","",{"$f":"IF(AH49=2,IF(AD49=\"\",1000,VLOOKUP(AD49,ﾃﾞｰﾀ!F$3:J$62,5,FALSE)),1000)","v":1000},"","","","",""]
["","",{"$f":"IF(E50=\"\",\"\",IF(AH50=1,COUNTIF(AH$16:AH50,1)*10+2001-10,COUNTIF(AH$16:AH50,2)*10+6001-10))","v":""},35,null,{"$f":"IF($E50=\"\",\"\",IF(ISERROR(VLOOKUP($E50,氏名ﾃﾞｰﾀ!$B:$J,2,0)),IF(ISERROR(VLOOKUP($E50,新規登録!$B:$I,2,0)),\"未登録\",VLOOKUP($E50,新規登録!$B:$I,2,0)),(VLOOKUP($E50,氏名ﾃﾞｰﾀ!$B:$J,2,0))))","v":""},{"$f":"IF($E50=\"\",\"\",IF(ISERROR(VLOOKUP($E50,氏名ﾃﾞｰﾀ!$B:$J,3,0)),IF(ISERROR(VLOOKUP($E50,新規登録!$B:$I,3,0)),\"未登録\",VLOOKUP($E50,新規登録!$B:$I,3,0)),(VLOOKUP($E50,氏名ﾃﾞｰﾀ!$B:$J,3,0))))","v":""},{"$f":"IF($E50=\"\",\"\",IF(ISERROR(VLOOKUP($E50,氏名ﾃﾞｰﾀ!$B:$J,4,0)),IF(ISERROR(VLOOKUP($E50,新規登録!$B:$I,4,0)),\"未登録\",VLOOKUP($E50,新規登録!$B:$I,4,0)),(VLOOKUP($E50,氏名ﾃﾞｰﾀ!$B:$J,4,0))))","v":""},{"$f":"IF($E50=\"\",\"\",IF(ISERROR(VLOOKUP($E50,氏名ﾃﾞｰﾀ!$B:$J,5,0)),IF(ISERROR(VLOOKUP($E50,新規登録!$B:$I,5,0)),\"未登録\",VLOOKUP($E50,新規登録!$B:$I,5,0)),(VLOOKUP($E50,氏名ﾃﾞｰﾀ!$B:$J,5,0))))","v":""},{"$f":"IF($E50=\"\",\"\",IF(ISERROR(VLOOKUP($E50,氏名ﾃﾞｰﾀ!$B:$J,8,0)),IF(ISERROR(VLOOKUP($E50,新規登録!$B:$I,6,0)),\"未登録\",VLOOKUP($E50,新規登録!$B:$I,6,0)),(VLOOKUP($E50,氏名ﾃﾞｰﾀ!$B:$J,8,0))))","v":""},{"$f":"IF($E50=\"\",\"\",IF(ISERROR(VLOOKUP($E50,氏名ﾃﾞｰﾀ!$B:$J,7,0)),IF(ISERROR(VLOOKUP($E50,新規登録!$B:$I,7,0)),\"未登録\",VLOOKUP($E50,新規登録!$B:$I,7,0)),$G$3))","v":""},{"$f":"IF($E50=\"\",\"\",IF(ISERROR(VLOOKUP($E50,氏名ﾃﾞｰﾀ!$B:$J,6,0)),IF(ISERROR(VLOOKUP($E50,新規登録!$B:$I,8,0)),\"ﾅｼ\",VLOOKUP($E50,新規登録!$B:$I,8,0)),(VLOOKUP($E50,氏名ﾃﾞｰﾀ!$B:$J,6,0))))","v":""},{"$f":"IF($E50=\"\",\"\",IF(ISERROR(VLOOKUP($E50,氏名ﾃﾞｰﾀ!$B:$J,9,0)),IF(ISERROR(VLOOKUP($E50,新規登録!$B:$I,9,0)),\"未登録\",VLOOKUP($E50,新規登録!$B:$I,9,0)),(VLOOKUP($E50,氏名ﾃﾞｰﾀ!$B:$J,9,0))))","v":""},null,null,null,null,null,null,null,null,null,null,null,null,null,null,null,null,null,null,null,null,2,{"$f":"IF(N50=\"\",\"\",VLOOKUP(N50,ﾃﾞｰﾀ!A:D,4,0))","v":""},"秒","秒",null,null,null,{"$f":"IF(AH50=1,IF(Z50=\"\",1000,VLOOKUP(Z50,ﾃﾞｰﾀ!F$3:G$62,2,FALSE)),1000)","v":1000},"","","","","",{"$f":"IF(AH50=1,IF(AD50=\"\",1000,VLOOKUP(AD50,ﾃﾞｰﾀ!F$3:H$62,3,FALSE)),1000)","v":1000},"","","","","",{"$f":"IF(AH50=2,IF(Z50=\"\",1000,VLOOKUP(Z50,ﾃﾞｰﾀ!F$3:I$62,4,FALSE)),1000)","v":1000},"","","","","",{"$f":"IF(AH50=2,IF(AD50=\"\",1000,VLOOKUP(AD50,ﾃﾞｰﾀ!F$3:J$62,5,FALSE)),1000)","v":1000},"","","","",""]
["","",{"$f":"IF(E51=\"\",\"\",IF(AH51=1,COUNTIF(AH$16:AH51,1)*10+2001-10,COUNTIF(AH$16:AH51,2)*10+6001-10))","v":""},36,null,{"$f":"IF($E51=\"\",\"\",IF(ISERROR(VLOOKUP($E51,氏名ﾃﾞｰﾀ!$B:$J,2,0)),IF(ISERROR(VLOOKUP($E51,新規登録!$B:$I,2,0)),\"未登録\",VLOOKUP($E51,新規登録!$B:$I,2,0)),(VLOOKUP($E51,氏名ﾃﾞｰﾀ!$B:$J,2,0))))","v":""},{"$f":"IF($E51=\"\",\"\",IF(ISERROR(VLOOKUP($E51,氏名ﾃﾞｰﾀ!$B:$J,3,0)),IF(ISERROR(VLOOKUP($E51,新規登録!$B:$I,3,0)),\"未登録\",VLOOKUP($E51,新規登録!$B:$I,3,0)),(VLOOKUP($E51,氏名ﾃﾞｰﾀ!$B:$J,3,0))))","v":""},{"$f":"IF($E51=\"\",\"\",IF(ISERROR(VLOOKUP($E51,氏名ﾃﾞｰﾀ!$B:$J,4,0)),IF(ISERROR(VLOOKUP($E51,新規登録!$B:$I,4,0)),\"未登録\",VLOOKUP($E51,新規登録!$B:$I,4,0)),(VLOOKUP($E51,氏名ﾃﾞｰﾀ!$B:$J,4,0))))","v":""},{"$f":"IF($E51=\"\",\"\",IF(ISERROR(VLOOKUP($E51,氏名ﾃﾞｰﾀ!$B:$J,5,0)),IF(ISERROR(VLOOKUP($E51,新規登録!$B:$I,5,0)),\"未登録\",VLOOKUP($E51,新規登録!$B:$I,5,0)),(VLOOKUP($E51,氏名ﾃﾞｰﾀ!$B:$J,5,0))))","v":""},{"$f":"IF($E51=\"\",\"\",IF(ISERROR(VLOOKUP($E51,氏名ﾃﾞｰﾀ!$B:$J,8,0)),IF(ISERROR(VLOOKUP($E51,新規登録!$B:$I,6,0)),\"未登録\",VLOOKUP($E51,新規登録!$B:$I,6,0)),(VLOOKUP($E51,氏名ﾃﾞｰﾀ!$B:$J,8,0))))","v":""},{"$f":"IF($E51=\"\",\"\",IF(ISERROR(VLOOKUP($E51,氏名ﾃﾞｰﾀ!$B:$J,7,0)),IF(ISERROR(VLOOKUP($E51,新規登録!$B:$I,7,0)),\"未登録\",VLOOKUP($E51,新規登録!$B:$I,7,0)),$G$3))","v":""},{"$f":"IF($E51=\"\",\"\",IF(ISERROR(VLOOKUP($E51,氏名ﾃﾞｰﾀ!$B:$J,6,0)),IF(ISERROR(VLOOKUP($E51,新規登録!$B:$I,8,0)),\"ﾅｼ\",VLOOKUP($E51,新規登録!$B:$I,8,0)),(VLOOKUP($E51,氏名ﾃﾞｰﾀ!$B:$J,6,0))))","v":""},{"$f":"IF($E51=\"\",\"\",IF(ISERROR(VLOOKUP($E51,氏名ﾃﾞｰﾀ!$B:$J,9,0)),IF(ISERROR(VLOOKUP($E51,新規登録!$B:$I,9,0)),\"未登録\",VLOOKUP($E51,新規登録!$B:$I,9,0)),(VLOOKUP($E51,氏名ﾃﾞｰﾀ!$B:$J,9,0))))","v":""},null,null,null,null,null,null,null,null,null,null,null,null,null,null,null,null,null,null,null,null,2,{"$f":"IF(N51=\"\",\"\",VLOOKUP(N51,ﾃﾞｰﾀ!A:D,4,0))","v":""},"秒","秒",null,null,null,{"$f":"IF(AH51=1,IF(Z51=\"\",1000,VLOOKUP(Z51,ﾃﾞｰﾀ!F$3:G$62,2,FALSE)),1000)","v":1000},"","","","","",{"$f":"IF(AH51=1,IF(AD51=\"\",1000,VLOOKUP(AD51,ﾃﾞｰﾀ!F$3:H$62,3,FALSE)),1000)","v":1000},"","","","","",{"$f":"IF(AH51=2,IF(Z51=\"\",1000,VLOOKUP(Z51,ﾃﾞｰﾀ!F$3:I$62,4,FALSE)),1000)","v":1000},"","","","","",{"$f":"IF(AH51=2,IF(AD51=\"\",1000,VLOOKUP(AD51,ﾃﾞｰﾀ!F$3:J$62,5,FALSE)),1000)","v":1000},"","","","",""]
["","",{"$f":"IF(E52=\"\",\"\",IF(AH52=1,COUNTIF(AH$16:AH52,1)*10+2001-10,COUNTIF(AH$16:AH52,2)*10+6001-10))","v":""},37,null,{"$f":"IF($E52=\"\",\"\",IF(ISERROR(VLOOKUP($E52,氏名ﾃﾞｰﾀ!$B:$J,2,0)),IF(ISERROR(VLOOKUP($E52,新規登録!$B:$I,2,0)),\"未登録\",VLOOKUP($E52,新規登録!$B:$I,2,0)),(VLOOKUP($E52,氏名ﾃﾞｰﾀ!$B:$J,2,0))))","v":""},{"$f":"IF($E52=\"\",\"\",IF(ISERROR(VLOOKUP($E52,氏名ﾃﾞｰﾀ!$B:$J,3,0)),IF(ISERROR(VLOOKUP($E52,新規登録!$B:$I,3,0)),\"未登録\",VLOOKUP($E52,新規登録!$B:$I,3,0)),(VLOOKUP($E52,氏名ﾃﾞｰﾀ!$B:$J,3,0))))","v":""},{"$f":"IF($E52=\"\",\"\",IF(ISERROR(VLOOKUP($E52,氏名ﾃﾞｰﾀ!$B:$J,4,0)),IF(ISERROR(VLOOKUP($E52,新規登録!$B:$I,4,0)),\"未登録\",VLOOKUP($E52,新規登録!$B:$I,4,0)),(VLOOKUP($E52,氏名ﾃﾞｰﾀ!$B:$J,4,0))))","v":""},{"$f":"IF($E52=\"\",\"\",IF(ISERROR(VLOOKUP($E52,氏名ﾃﾞｰﾀ!$B:$J,5,0)),IF(ISERROR(VLOOKUP($E52,新規登録!$B:$I,5,0)),\"未登録\",VLOOKUP($E52,新規登録!$B:$I,5,0)),(VLOOKUP($E52,氏名ﾃﾞｰﾀ!$B:$J,5,0))))","v":""},{"$f":"IF($E52=\"\",\"\",IF(ISERROR(VLOOKUP($E52,氏名ﾃﾞｰﾀ!$B:$J,8,0)),IF(ISERROR(VLOOKUP($E52,新規登録!$B:$I,6,0)),\"未登録\",VLOOKUP($E52,新規登録!$B:$I,6,0)),(VLOOKUP($E52,氏名ﾃﾞｰﾀ!$B:$J,8,0))))","v":""},{"$f":"IF($E52=\"\",\"\",IF(ISERROR(VLOOKUP($E52,氏名ﾃﾞｰﾀ!$B:$J,7,0)),IF(ISERROR(VLOOKUP($E52,新規登録!$B:$I,7,0)),\"未登録\",VLOOKUP($E52,新規登録!$B:$I,7,0)),$G$3))","v":""},{"$f":"IF($E52=\"\",\"\",IF(ISERROR(VLOOKUP($E52,氏名ﾃﾞｰﾀ!$B:$J,6,0)),IF(ISERROR(VLOOKUP($E52,新規登録!$B:$I,8,0)),\"ﾅｼ\",VLOOKUP($E52,新規登録!$B:$I,8,0)),(VLOOKUP($E52,氏名ﾃﾞｰﾀ!$B:$J,6,0))))","v":""},{"$f":"IF($E52=\"\",\"\",IF(ISERROR(VLOOKUP($E52,氏名ﾃﾞｰﾀ!$B:$J,9,0)),IF(ISERROR(VLOOKUP($E52,新規登録!$B:$I,9,0)),\"未登録\",VLOOKUP($E52,新規登録!$B:$I,9,0)),(VLOOKUP($E52,氏名ﾃﾞｰﾀ!$B:$J,9,0))))","v":""},null,null,null,null,null,null,null,null,null,null,null,null,null,null,null,null,null,null,null,null,2,{"$f":"IF(N52=\"\",\"\",VLOOKUP(N52,ﾃﾞｰﾀ!A:D,4,0))","v":""},"秒","秒",null,null,null,{"$f":"IF(AH52=1,IF(Z52=\"\",1000,VLOOKUP(Z52,ﾃﾞｰﾀ!F$3:G$62,2,FALSE)),1000)","v":1000},{"$f":"IF(AR52=\"\",\"\",LEFT(AR52,3))","v":""},{"$f":"IF(AR52=\"\",\"\",LEFT(AR52,3))","v":""},{"$f":"IF(ISERROR(VLOOKUP(AO52,$A$16:$AH$215,5,0)),\"\",VLOOKUP(AO52,$A$16:$AH$215,5,0))","v":""},"",{"$f":"IF(AR52=\"\",\"\",VLOOKUP(AR52,$E$16:$AK$215,32,0))","v":""},{"$f":"IF(AH52=1,IF(AD52=\"\",1000,VLOOKUP(AD52,ﾃﾞｰﾀ!F$3:H$62,3,FALSE)),1000)","v":1000},{"$f":"IF(AX52=\"\",\"\",LEFT(AX52,3))","v":""},{"$f":"IF(AX52=\"\",\"\",LEFT(AX52,3))","v":""},{"$f":"IF(ISERROR(VLOOKUP(AU52,$B$16:$AH$215,4,0)),\"\",VLOOKUP(AU52,$B$16:$AH$21545,4,0))","v":""},{"$f":"IF(AX52=\"\",\"\",VLOOKUP(AX52,$E$16:$AG$215,26,0))","v":""},{"$f":"IF(AX52=\"\",\"\",VLOOKUP(AX52,$E$16:$AK$215,33,0))","v":""},{"$f":"IF(AH52=2,IF(Z52=\"\",1000,VLOOKUP(Z52,ﾃﾞｰﾀ!F$3:I$62,4,FALSE)),1000)","v":1000},{"$f":"IF(BD52=\"\",\"\",LEFT(BD52,3))","v":""},{"$f":"IF(BD52=\"\",\"\",LEFT(BD52,3))","v":""},{"$f":"IF(ISERROR(VLOOKUP(BA52,$A$16:$AH$215,5,0)),\"\",VLOOKUP(BA52,$A$16:$AH$215,5,0))","v":""},{"$f":"IF(BD52=\"\",\"\",VLOOKUP(BD52,$E$16:$AG$215,22,0))","v":""},{"$f":"IF(BD52=\"\",\"\",VLOOKUP(BD52,$E$16:$AK$215,32,0))","v":""},{"$f":"IF(AH52=2,IF(AD52=\"\",1000,VLOOKUP(AD52,ﾃﾞｰﾀ!F$3:J$62,5,FALSE)),1000)","v":1000},{"$f":"IF(BJ52=\"\",\"\",LEFT(BJ52,3))","v":""},{"$f":"IF(BJ52=\"\",\"\",LEFT(BJ52,3))","v":""},{"$f":"IF(ISERROR(VLOOKUP(BG52,$B$16:$AH$215,4,0)),\"\",VLOOKUP(BG52,$B$16:$AH$21545,4,0))","v":""},{"$f":"IF(BJ52=\"\",\"\",VLOOKUP(BJ52,$E$16:$AG$215,26,0))","v":""},{"$f":"IF(BJ52=\"\",\"\",VLOOKUP(BJ52,$E$16:$AK$215,33,0))","v":""}]
["","",{"$f":"IF(E53=\"\",\"\",IF(AH53=1,COUNTIF(AH$16:AH53,1)*10+2001-10,COUNTIF(AH$16:AH53,2)*10+6001-10))","v":""},38,null,{"$f":"IF($E53=\"\",\"\",IF(ISERROR(VLOOKUP($E53,氏名ﾃﾞｰﾀ!$B:$J,2,0)),IF(ISERROR(VLOOKUP($E53,新規登録!$B:$I,2,0)),\"未登録\",VLOOKUP($E53,新規登録!$B:$I,2,0)),(VLOOKUP($E53,氏名ﾃﾞｰﾀ!$B:$J,2,0))))","v":""},{"$f":"IF($E53=\"\",\"\",IF(ISERROR(VLOOKUP($E53,氏名ﾃﾞｰﾀ!$B:$J,3,0)),IF(ISERROR(VLOOKUP($E53,新規登録!$B:$I,3,0)),\"未登録\",VLOOKUP($E53,新規登録!$B:$I,3,0)),(VLOOKUP($E53,氏名ﾃﾞｰﾀ!$B:$J,3,0))))","v":""},{"$f":"IF($E53=\"\",\"\",IF(ISERROR(VLOOKUP($E53,氏名ﾃﾞｰﾀ!$B:$J,4,0)),IF(ISERROR(VLOOKUP($E53,新規登録!$B:$I,4,0)),\"未登録\",VLOOKUP($E53,新規登録!$B:$I,4,0)),(VLOOKUP($E53,氏名ﾃﾞｰﾀ!$B:$J,4,0))))","v":""},{"$f":"IF($E53=\"\",\"\",IF(ISERROR(VLOOKUP($E53,氏名ﾃﾞｰﾀ!$B:$J,5,0)),IF(ISERROR(VLOOKUP($E53,新規登録!$B:$I,5,0)),\"未登録\",VLOOKUP($E53,新規登録!$B:$I,5,0)),(VLOOKUP($E53,氏名ﾃﾞｰﾀ!$B:$J,5,0))))","v":""},{"$f":"IF($E53=\"\",\"\",IF(ISERROR(VLOOKUP($E53,氏名ﾃﾞｰﾀ!$B:$J,8,0)),IF(ISERROR(VLOOKUP($E53,新規登録!$B:$I,6,0)),\"未登録\",VLOOKUP($E53,新規登録!$B:$I,6,0)),(VLOOKUP($E53,氏名ﾃﾞｰﾀ!$B:$J,8,0))))","v":""},{"$f":"IF($E53=\"\",\"\",IF(ISERROR(VLOOKUP($E53,氏名ﾃﾞｰﾀ!$B:$J,7,0)),IF(ISERROR(VLOOKUP($E53,新規登録!$B:$I,7,0)),\"未登録\",VLOOKUP($E53,新規登録!$B:$I,7,0)),$G$3))","v":""},{"$f":"IF($E53=\"\",\"\",IF(ISERROR(VLOOKUP($E53,氏名ﾃﾞｰﾀ!$B:$J,6,0)),IF(ISERROR(VLOOKUP($E53,新規登録!$B:$I,8,0)),\"ﾅｼ\",VLOOKUP($E53,新規登録!$B:$I,8,0)),(VLOOKUP($E53,氏名ﾃﾞｰﾀ!$B:$J,6,0))))","v":""},{"$f":"IF($E53=\"\",\"\",IF(ISERROR(VLOOKUP($E53,氏名ﾃﾞｰﾀ!$B:$J,9,0)),IF(ISERROR(VLOOKUP($E53,新規登録!$B:$I,9,0)),\"未登録\",VLOOKUP($E53,新規登録!$B:$I,9,0)),(VLOOKUP($E53,氏名ﾃﾞｰﾀ!$B:$J,9,0))))","v":""},null,null,null,null,null,null,null,null,null,null,null,null,null,null,null,null,null,null,null,null,2,{"$f":"IF(N53=\"\",\"\",VLOOKUP(N53,ﾃﾞｰﾀ!A:D,4,0))","v":""},"秒","秒",null,null,null,{"$f":"IF(AH53=1,IF(Z53=\"\",1000,VLOOKUP(Z53,ﾃﾞｰﾀ!F$3:G$62,2,FALSE)),1000)","v":1000},{"$f":"IF(AR53=\"\",\"\",LEFT(AR53,3))","v":""},{"$f":"IF(AR53=\"\",\"\",LEFT(AR53,3))","v":""},"","",{"$f":"IF(AR53=\"\",\"\",VLOOKUP(AR53,$E$16:$AK$215,32,0))","v":""},{"$f":"IF(AH53=1,IF(AD53=\"\",1000,VLOOKUP(AD53,ﾃﾞｰﾀ!F$3:H$62,3,FALSE)),1000)","v":1000},{"$f":"IF(AX53=\"\",\"\",LEFT(AX53,3))","v":""},{"$f":"IF(AX53=\"\",\"\",LEFT(AX53,3))","v":""},"","",{"$f":"IF(AX53=\"\",\"\",VLOOKUP(AX53,$E$16:$AK$215,33,0))","v":""},{"$f":"IF(AH53=2,IF(Z53=\"\",1000,VLOOKUP(Z53,ﾃﾞｰﾀ!F$3:I$62,4,FALSE)),1000)","v":1000},{"$f":"IF(BD53=\"\",\"\",LEFT(BD53,3))","v":""},{"$f":"IF(BD53=\"\",\"\",LEFT(BD53,3))","v":""},"","",{"$f":"IF(BD53=\"\",\"\",VLOOKUP(BD53,$E$16:$AK$215,32,0))","v":""},{"$f":"IF(AH53=2,IF(AD53=\"\",1000,VLOOKUP(AD53,ﾃﾞｰﾀ!F$3:J$62,5,FALSE)),1000)","v":1000},{"$f":"IF(BJ53=\"\",\"\",LEFT(BJ53,3))","v":""},{"$f":"IF(BJ53=\"\",\"\",LEFT(BJ53,3))","v":""},"","",{"$f":"IF(BJ53=\"\",\"\",VLOOKUP(BJ53,$E$16:$AK$215,33,0))","v":""}]
["","",{"$f":"IF(E54=\"\",\"\",IF(AH54=1,COUNTIF(AH$16:AH54,1)*10+2001-10,COUNTIF(AH$16:AH54,2)*10+6001-10))","v":""},39,null,{"$f":"IF($E54=\"\",\"\",IF(ISERROR(VLOOKUP($E54,氏名ﾃﾞｰﾀ!$B:$J,2,0)),IF(ISERROR(VLOOKUP($E54,新規登録!$B:$I,2,0)),\"未登録\",VLOOKUP($E54,新規登録!$B:$I,2,0)),(VLOOKUP($E54,氏名ﾃﾞｰﾀ!$B:$J,2,0))))","v":""},{"$f":"IF($E54=\"\",\"\",IF(ISERROR(VLOOKUP($E54,氏名ﾃﾞｰﾀ!$B:$J,3,0)),IF(ISERROR(VLOOKUP($E54,新規登録!$B:$I,3,0)),\"未登録\",VLOOKUP($E54,新規登録!$B:$I,3,0)),(VLOOKUP($E54,氏名ﾃﾞｰﾀ!$B:$J,3,0))))","v":""},{"$f":"IF($E54=\"\",\"\",IF(ISERROR(VLOOKUP($E54,氏名ﾃﾞｰﾀ!$B:$J,4,0)),IF(ISERROR(VLOOKUP($E54,新規登録!$B:$I,4,0)),\"未登録\",VLOOKUP($E54,新規登録!$B:$I,4,0)),(VLOOKUP($E54,氏名ﾃﾞｰﾀ!$B:$J,4,0))))","v":""},{"$f":"IF($E54=\"\",\"\",IF(ISERROR(VLOOKUP($E54,氏名ﾃﾞｰﾀ!$B:$J,5,0)),IF(ISERROR(VLOOKUP($E54,新規登録!$B:$I,5,0)),\"未登録\",VLOOKUP($E54,新規登録!$B:$I,5,0)),(VLOOKUP($E54,氏名ﾃﾞｰﾀ!$B:$J,5,0))))","v":""},{"$f":"IF($E54=\"\",\"\",IF(ISERROR(VLOOKUP($E54,氏名ﾃﾞｰﾀ!$B:$J,8,0)),IF(ISERROR(VLOOKUP($E54,新規登録!$B:$I,6,0)),\"未登録\",VLOOKUP($E54,新規登録!$B:$I,6,0)),(VLOOKUP($E54,氏名ﾃﾞｰﾀ!$B:$J,8,0))))","v":""},{"$f":"IF($E54=\"\",\"\",IF(ISERROR(VLOOKUP($E54,氏名ﾃﾞｰﾀ!$B:$J,7,0)),IF(ISERROR(VLOOKUP($E54,新規登録!$B:$I,7,0)),\"未登録\",VLOOKUP($E54,新規登録!$B:$I,7,0)),$G$3))","v":""},{"$f":"IF($E54=\"\",\"\",IF(ISERROR(VLOOKUP($E54,氏名ﾃﾞｰﾀ!$B:$J,6,0)),IF(ISERROR(VLOOKUP($E54,新規登録!$B:$I,8,0)),\"ﾅｼ\",VLOOKUP($E54,新規登録!$B:$I,8,0)),(VLOOKUP($E54,氏名ﾃﾞｰﾀ!$B:$J,6,0))))","v":""},{"$f":"IF($E54=\"\",\"\",IF(ISERROR(VLOOKUP($E54,氏名ﾃﾞｰﾀ!$B:$J,9,0)),IF(ISERROR(VLOOKUP($E54,新規登録!$B:$I,9,0)),\"未登録\",VLOOKUP($E54,新規登録!$B:$I,9,0)),(VLOOKUP($E54,氏名ﾃﾞｰﾀ!$B:$J,9,0))))","v":""},null,null,null,null,null,null,null,null,null,null,null,null,null,null,null,null,null,null,null,null,2,{"$f":"IF(N54=\"\",\"\",VLOOKUP(N54,ﾃﾞｰﾀ!A:D,4,0))","v":""},"秒","秒",null,null,null,{"$f":"IF(AH54=1,IF(Z54=\"\",1000,VLOOKUP(Z54,ﾃﾞｰﾀ!F$3:G$62,2,FALSE)),1000)","v":1000},"","","","","",{"$f":"IF(AH54=1,IF(AD54=\"\",1000,VLOOKUP(AD54,ﾃﾞｰﾀ!F$3:H$62,3,FALSE)),1000)","v":1000},"","","","","",{"$f":"IF(AH54=2,IF(Z54=\"\",1000,VLOOKUP(Z54,ﾃﾞｰﾀ!F$3:I$62,4,FALSE)),1000)","v":1000},"","","","","",{"$f":"IF(AH54=2,IF(AD54=\"\",1000,VLOOKUP(AD54,ﾃﾞｰﾀ!F$3:J$62,5,FALSE)),1000)","v":1000},"","","","",""]
["","",{"$f":"IF(E55=\"\",\"\",IF(AH55=1,COUNTIF(AH$16:AH55,1)*10+2001-10,COUNTIF(AH$16:AH55,2)*10+6001-10))","v":""},40,null,{"$f":"IF($E55=\"\",\"\",IF(ISERROR(VLOOKUP($E55,氏名ﾃﾞｰﾀ!$B:$J,2,0)),IF(ISERROR(VLOOKUP($E55,新規登録!$B:$I,2,0)),\"未登録\",VLOOKUP($E55,新規登録!$B:$I,2,0)),(VLOOKUP($E55,氏名ﾃﾞｰﾀ!$B:$J,2,0))))","v":""},{"$f":"IF($E55=\"\",\"\",IF(ISERROR(VLOOKUP($E55,氏名ﾃﾞｰﾀ!$B:$J,3,0)),IF(ISERROR(VLOOKUP($E55,新規登録!$B:$I,3,0)),\"未登録\",VLOOKUP($E55,新規登録!$B:$I,3,0)),(VLOOKUP($E55,氏名ﾃﾞｰﾀ!$B:$J,3,0))))","v":""},{"$f":"IF($E55=\"\",\"\",IF(ISERROR(VLOOKUP($E55,氏名ﾃﾞｰﾀ!$B:$J,4,0)),IF(ISERROR(VLOOKUP($E55,新規登録!$B:$I,4,0)),\"未登録\",VLOOKUP($E55,新規登録!$B:$I,4,0)),(VLOOKUP($E55,氏名ﾃﾞｰﾀ!$B:$J,4,0))))","v":""},{"$f":"IF($E55=\"\",\"\",IF(ISERROR(VLOOKUP($E55,氏名ﾃﾞｰﾀ!$B:$J,5,0)),IF(ISERROR(VLOOKUP($E55,新規登録!$B:$I,5,0)),\"未登録\",VLOOKUP($E55,新規登録!$B:$I,5,0)),(VLOOKUP($E55,氏名ﾃﾞｰﾀ!$B:$J,5,0))))","v":""},{"$f":"IF($E55=\"\",\"\",IF(ISERROR(VLOOKUP($E55,氏名ﾃﾞｰﾀ!$B:$J,8,0)),IF(ISERROR(VLOOKUP($E55,新規登録!$B:$I,6,0)),\"未登録\",VLOOKUP($E55,新規登録!$B:$I,6,0)),(VLOOKUP($E55,氏名ﾃﾞｰﾀ!$B:$J,8,0))))","v":""},{"$f":"IF($E55=\"\",\"\",IF(ISERROR(VLOOKUP($E55,氏名ﾃﾞｰﾀ!$B:$J,7,0)),IF(ISERROR(VLOOKUP($E55,新規登録!$B:$I,7,0)),\"未登録\",VLOOKUP($E55,新規登録!$B:$I,7,0)),$G$3))","v":""},{"$f":"IF($E55=\"\",\"\",IF(ISERROR(VLOOKUP($E55,氏名ﾃﾞｰﾀ!$B:$J,6,0)),IF(ISERROR(VLOOKUP($E55,新規登録!$B:$I,8,0)),\"ﾅｼ\",VLOOKUP($E55,新規登録!$B:$I,8,0)),(VLOOKUP($E55,氏名ﾃﾞｰﾀ!$B:$J,6,0))))","v":""},{"$f":"IF($E55=\"\",\"\",IF(ISERROR(VLOOKUP($E55,氏名ﾃﾞｰﾀ!$B:$J,9,0)),IF(ISERROR(VLOOKUP($E55,新規登録!$B:$I,9,0)),\"未登録\",VLOOKUP($E55,新規登録!$B:$I,9,0)),(VLOOKUP($E55,氏名ﾃﾞｰﾀ!$B:$J,9,0))))","v":""},null,null,null,null,null,null,null,null,null,null,null,null,null,null,null,null,null,null,null,null,2,{"$f":"IF(N55=\"\",\"\",VLOOKUP(N55,ﾃﾞｰﾀ!A:D,4,0))","v":""},"秒","秒",null,null,null,{"$f":"IF(AH55=1,IF(Z55=\"\",1000,VLOOKUP(Z55,ﾃﾞｰﾀ!F$3:G$62,2,FALSE)),1000)","v":1000},"","","","","",{"$f":"IF(AH55=1,IF(AD55=\"\",1000,VLOOKUP(AD55,ﾃﾞｰﾀ!F$3:H$62,3,FALSE)),1000)","v":1000},"","","","","",{"$f":"IF(AH55=2,IF(Z55=\"\",1000,VLOOKUP(Z55,ﾃﾞｰﾀ!F$3:I$62,4,FALSE)),1000)","v":1000},"","","","","",{"$f":"IF(AH55=2,IF(AD55=\"\",1000,VLOOKUP(AD55,ﾃﾞｰﾀ!F$3:J$62,5,FALSE)),1000)","v":1000},"","","","",""]
["","",{"$f":"IF(E56=\"\",\"\",IF(AH56=1,COUNTIF(AH$16:AH56,1)*10+2001-10,COUNTIF(AH$16:AH56,2)*10+6001-10))","v":""},41,null,{"$f":"IF($E56=\"\",\"\",IF(ISERROR(VLOOKUP($E56,氏名ﾃﾞｰﾀ!$B:$J,2,0)),IF(ISERROR(VLOOKUP($E56,新規登録!$B:$I,2,0)),\"未登録\",VLOOKUP($E56,新規登録!$B:$I,2,0)),(VLOOKUP($E56,氏名ﾃﾞｰﾀ!$B:$J,2,0))))","v":""},{"$f":"IF($E56=\"\",\"\",IF(ISERROR(VLOOKUP($E56,氏名ﾃﾞｰﾀ!$B:$J,3,0)),IF(ISERROR(VLOOKUP($E56,新規登録!$B:$I,3,0)),\"未登録\",VLOOKUP($E56,新規登録!$B:$I,3,0)),(VLOOKUP($E56,氏名ﾃﾞｰﾀ!$B:$J,3,0))))","v":""},{"$f":"IF($E56=\"\",\"\",IF(ISERROR(VLOOKUP($E56,氏名ﾃﾞｰﾀ!$B:$J,4,0)),IF(ISERROR(VLOOKUP($E56,新規登録!$B:$I,4,0)),\"未登録\",VLOOKUP($E56,新規登録!$B:$I,4,0)),(VLOOKUP($E56,氏名ﾃﾞｰﾀ!$B:$J,4,0))))","v":""},{"$f":"IF($E56=\"\",\"\",IF(ISERROR(VLOOKUP($E56,氏名ﾃﾞｰﾀ!$B:$J,5,0)),IF(ISERROR(VLOOKUP($E56,新規登録!$B:$I,5,0)),\"未登録\",VLOOKUP($E56,新規登録!$B:$I,5,0)),(VLOOKUP($E56,氏名ﾃﾞｰﾀ!$B:$J,5,0))))","v":""},{"$f":"IF($E56=\"\",\"\",IF(ISERROR(VLOOKUP($E56,氏名ﾃﾞｰﾀ!$B:$J,8,0)),IF(ISERROR(VLOOKUP($E56,新規登録!$B:$I,6,0)),\"未登録\",VLOOKUP($E56,新規登録!$B:$I,6,0)),(VLOOKUP($E56,氏名ﾃﾞｰﾀ!$B:$J,8,0))))","v":""},{"$f":"IF($E56=\"\",\"\",IF(ISERROR(VLOOKUP($E56,氏名ﾃﾞｰﾀ!$B:$J,7,0)),IF(ISERROR(VLOOKUP($E56,新規登録!$B:$I,7,0)),\"未登録\",VLOOKUP($E56,新規登録!$B:$I,7,0)),$G$3))","v":""},{"$f":"IF($E56=\"\",\"\",IF(ISERROR(VLOOKUP($E56,氏名ﾃﾞｰﾀ!$B:$J,6,0)),IF(ISERROR(VLOOKUP($E56,新規登録!$B:$I,8,0)),\"ﾅｼ\",VLOOKUP($E56,新規登録!$B:$I,8,0)),(VLOOKUP($E56,氏名ﾃﾞｰﾀ!$B:$J,6,0))))","v":""},{"$f":"IF($E56=\"\",\"\",IF(ISERROR(VLOOKUP($E56,氏名ﾃﾞｰﾀ!$B:$J,9,0)),IF(ISERROR(VLOOKUP($E56,新規登録!$B:$I,9,0)),\"未登録\",VLOOKUP($E56,新規登録!$B:$I,9,0)),(VLOOKUP($E56,氏名ﾃﾞｰﾀ!$B:$J,9,0))))","v":""},null,null,null,null,null,null,null,null,null,null,null,null,null,null,null,null,null,null,null,null,2,{"$f":"IF(N56=\"\",\"\",VLOOKUP(N56,ﾃﾞｰﾀ!A:D,4,0))","v":""},"秒","秒",null,null,null,{"$f":"IF(AH56=1,IF(Z56=\"\",1000,VLOOKUP(Z56,ﾃﾞｰﾀ!F$3:G$62,2,FALSE)),1000)","v":1000},"","","","","",{"$f":"IF(AH56=1,IF(AD56=\"\",1000,VLOOKUP(AD56,ﾃﾞｰﾀ!F$3:H$62,3,FALSE)),1000)","v":1000},"","","","","",{"$f":"IF(AH56=2,IF(Z56=\"\",1000,VLOOKUP(Z56,ﾃﾞｰﾀ!F$3:I$62,4,FALSE)),1000)","v":1000},"","","","","",{"$f":"IF(AH56=2,IF(AD56=\"\",1000,VLOOKUP(AD56,ﾃﾞｰﾀ!F$3:J$62,5,FALSE)),1000)","v":1000},"","","","",""]
["","",{"$f":"IF(E57=\"\",\"\",IF(AH57=1,COUNTIF(AH$16:AH57,1)*10+2001-10,COUNTIF(AH$16:AH57,2)*10+6001-10))","v":""},42,null,{"$f":"IF($E57=\"\",\"\",IF(ISERROR(VLOOKUP($E57,氏名ﾃﾞｰﾀ!$B:$J,2,0)),IF(ISERROR(VLOOKUP($E57,新規登録!$B:$I,2,0)),\"未登録\",VLOOKUP($E57,新規登録!$B:$I,2,0)),(VLOOKUP($E57,氏名ﾃﾞｰﾀ!$B:$J,2,0))))","v":""},{"$f":"IF($E57=\"\",\"\",IF(ISERROR(VLOOKUP($E57,氏名ﾃﾞｰﾀ!$B:$J,3,0)),IF(ISERROR(VLOOKUP($E57,新規登録!$B:$I,3,0)),\"未登録\",VLOOKUP($E57,新規登録!$B:$I,3,0)),(VLOOKUP($E57,氏名ﾃﾞｰﾀ!$B:$J,3,0))))","v":""},{"$f":"IF($E57=\"\",\"\",IF(ISERROR(VLOOKUP($E57,氏名ﾃﾞｰﾀ!$B:$J,4,0)),IF(ISERROR(VLOOKUP($E57,新規登録!$B:$I,4,0)),\"未登録\",VLOOKUP($E57,新規登録!$B:$I,4,0)),(VLOOKUP($E57,氏名ﾃﾞｰﾀ!$B:$J,4,0))))","v":""},{"$f":"IF($E57=\"\",\"\",IF(ISERROR(VLOOKUP($E57,氏名ﾃﾞｰﾀ!$B:$J,5,0)),IF(ISERROR(VLOOKUP($E57,新規登録!$B:$I,5,0)),\"未登録\",VLOOKUP($E57,新規登録!$B:$I,5,0)),(VLOOKUP($E57,氏名ﾃﾞｰﾀ!$B:$J,5,0))))","v":""},{"$f":"IF($E57=\"\",\"\",IF(ISERROR(VLOOKUP($E57,氏名ﾃﾞｰﾀ!$B:$J,8,0)),IF(ISERROR(VLOOKUP($E57,新規登録!$B:$I,6,0)),\"未登録\",VLOOKUP($E57,新規登録!$B:$I,6,0)),(VLOOKUP($E57,氏名ﾃﾞｰﾀ!$B:$J,8,0))))","v":""},{"$f":"IF($E57=\"\",\"\",IF(ISERROR(VLOOKUP($E57,氏名ﾃﾞｰﾀ!$B:$J,7,0)),IF(ISERROR(VLOOKUP($E57,新規登録!$B:$I,7,0)),\"未登録\",VLOOKUP($E57,新規登録!$B:$I,7,0)),$G$3))","v":""},{"$f":"IF($E57=\"\",\"\",IF(ISERROR(VLOOKUP($E57,氏名ﾃﾞｰﾀ!$B:$J,6,0)),IF(ISERROR(VLOOKUP($E57,新規登録!$B:$I,8,0)),\"ﾅｼ\",VLOOKUP($E57,新規登録!$B:$I,8,0)),(VLOOKUP($E57,氏名ﾃﾞｰﾀ!$B:$J,6,0))))","v":""},{"$f":"IF($E57=\"\",\"\",IF(ISERROR(VLOOKUP($E57,氏名ﾃﾞｰﾀ!$B:$J,9,0)),IF(ISERROR(VLOOKUP($E57,新規登録!$B:$I,9,0)),\"未登録\",VLOOKUP($E57,新規登録!$B:$I,9,0)),(VLOOKUP($E57,氏名ﾃﾞｰﾀ!$B:$J,9,0))))","v":""},null,null,null,null,null,null,null,null,null,null,null,null,null,null,null,null,null,null,null,null,2,{"$f":"IF(N57=\"\",\"\",VLOOKUP(N57,ﾃﾞｰﾀ!A:D,4,0))","v":""},"秒","秒",null,null,null,{"$f":"IF(AH57=1,IF(Z57=\"\",1000,VLOOKUP(Z57,ﾃﾞｰﾀ!F$3:G$62,2,FALSE)),1000)","v":1000},"","","","","",{"$f":"IF(AH57=1,IF(AD57=\"\",1000,VLOOKUP(AD57,ﾃﾞｰﾀ!F$3:H$62,3,FALSE)),1000)","v":1000},"","","","","",{"$f":"IF(AH57=2,IF(Z57=\"\",1000,VLOOKUP(Z57,ﾃﾞｰﾀ!F$3:I$62,4,FALSE)),1000)","v":1000},"","","","","",{"$f":"IF(AH57=2,IF(AD57=\"\",1000,VLOOKUP(AD57,ﾃﾞｰﾀ!F$3:J$62,5,FALSE)),1000)","v":1000},"","","","",""]
["","",{"$f":"IF(E58=\"\",\"\",IF(AH58=1,COUNTIF(AH$16:AH58,1)*10+2001-10,COUNTIF(AH$16:AH58,2)*10+6001-10))","v":""},43,null,{"$f":"IF($E58=\"\",\"\",IF(ISERROR(VLOOKUP($E58,氏名ﾃﾞｰﾀ!$B:$J,2,0)),IF(ISERROR(VLOOKUP($E58,新規登録!$B:$I,2,0)),\"未登録\",VLOOKUP($E58,新規登録!$B:$I,2,0)),(VLOOKUP($E58,氏名ﾃﾞｰﾀ!$B:$J,2,0))))","v":""},{"$f":"IF($E58=\"\",\"\",IF(ISERROR(VLOOKUP($E58,氏名ﾃﾞｰﾀ!$B:$J,3,0)),IF(ISERROR(VLOOKUP($E58,新規登録!$B:$I,3,0)),\"未登録\",VLOOKUP($E58,新規登録!$B:$I,3,0)),(VLOOKUP($E58,氏名ﾃﾞｰﾀ!$B:$J,3,0))))","v":""},{"$f":"IF($E58=\"\",\"\",IF(ISERROR(VLOOKUP($E58,氏名ﾃﾞｰﾀ!$B:$J,4,0)),IF(ISERROR(VLOOKUP($E58,新規登録!$B:$I,4,0)),\"未登録\",VLOOKUP($E58,新規登録!$B:$I,4,0)),(VLOOKUP($E58,氏名ﾃﾞｰﾀ!$B:$J,4,0))))","v":""},{"$f":"IF($E58=\"\",\"\",IF(ISERROR(VLOOKUP($E58,氏名ﾃﾞｰﾀ!$B:$J,5,0)),IF(ISERROR(VLOOKUP($E58,新規登録!$B:$I,5,0)),\"未登録\",VLOOKUP($E58,新規登録!$B:$I,5,0)),(VLOOKUP($E58,氏名ﾃﾞｰﾀ!$B:$J,5,0))))","v":""},{"$f":"IF($E58=\"\",\"\",IF(ISERROR(VLOOKUP($E58,氏名ﾃﾞｰﾀ!$B:$J,8,0)),IF(ISERROR(VLOOKUP($E58,新規登録!$B:$I,6,0)),\"未登録\",VLOOKUP($E58,新規登録!$B:$I,6,0)),(VLOOKUP($E58,氏名ﾃﾞｰﾀ!$B:$J,8,0))))","v":""},{"$f":"IF($E58=\"\",\"\",IF(ISERROR(VLOOKUP($E58,氏名ﾃﾞｰﾀ!$B:$J,7,0)),IF(ISERROR(VLOOKUP($E58,新規登録!$B:$I,7,0)),\"未登録\",VLOOKUP($E58,新規登録!$B:$I,7,0)),$G$3))","v":""},{"$f":"IF($E58=\"\",\"\",IF(ISERROR(VLOOKUP($E58,氏名ﾃﾞｰﾀ!$B:$J,6,0)),IF(ISERROR(VLOOKUP($E58,新規登録!$B:$I,8,0)),\"ﾅｼ\",VLOOKUP($E58,新規登録!$B:$I,8,0)),(VLOOKUP($E58,氏名ﾃﾞｰﾀ!$B:$J,6,0))))","v":""},{"$f":"IF($E58=\"\",\"\",IF(ISERROR(VLOOKUP($E58,氏名ﾃﾞｰﾀ!$B:$J,9,0)),IF(ISERROR(VLOOKUP($E58,新規登録!$B:$I,9,0)),\"未登録\",VLOOKUP($E58,新規登録!$B:$I,9,0)),(VLOOKUP($E58,氏名ﾃﾞｰﾀ!$B:$J,9,0))))","v":""},null,null,null,null,null,null,null,null,null,null,null,null,null,null,null,null,null,null,null,null,2,{"$f":"IF(N58=\"\",\"\",VLOOKUP(N58,ﾃﾞｰﾀ!A:D,4,0))","v":""},"秒","秒",null,null,null,{"$f":"IF(AH58=1,IF(Z58=\"\",1000,VLOOKUP(Z58,ﾃﾞｰﾀ!F$3:G$62,2,FALSE)),1000)","v":1000},{"$f":"IF(AR58=\"\",\"\",LEFT(AR58,3))","v":""},{"$f":"IF(AR58=\"\",\"\",LEFT(AR58,3))","v":""},{"$f":"IF(ISERROR(VLOOKUP(AO58,$A$16:$AH$215,5,0)),\"\",VLOOKUP(AO58,$A$16:$AH$215,5,0))","v":""},"",{"$f":"IF(AR58=\"\",\"\",VLOOKUP(AR58,$E$16:$AK$215,32,0))","v":""},{"$f":"IF(AH58=1,IF(AD58=\"\",1000,VLOOKUP(AD58,ﾃﾞｰﾀ!F$3:H$62,3,FALSE)),1000)","v":1000},{"$f":"IF(AX58=\"\",\"\",LEFT(AX58,3))","v":""},{"$f":"IF(AX58=\"\",\"\",LEFT(AX58,3))","v":""},{"$f":"IF(ISERROR(VLOOKUP(AU58,$B$16:$AH$215,4,0)),\"\",VLOOKUP(AU58,$B$16:$AH$21545,4,0))","v":""},{"$f":"IF(AX58=\"\",\"\",VLOOKUP(AX58,$E$16:$AG$215,26,0))","v":""},{"$f":"IF(AX58=\"\",\"\",VLOOKUP(AX58,$E$16:$AK$215,33,0))","v":""},{"$f":"IF(AH58=2,IF(Z58=\"\",1000,VLOOKUP(Z58,ﾃﾞｰﾀ!F$3:I$62,4,FALSE)),1000)","v":1000},{"$f":"IF(BD58=\"\",\"\",LEFT(BD58,3))","v":""},{"$f":"IF(BD58=\"\",\"\",LEFT(BD58,3))","v":""},{"$f":"IF(ISERROR(VLOOKUP(BA58,$A$16:$AH$215,5,0)),\"\",VLOOKUP(BA58,$A$16:$AH$215,5,0))","v":""},{"$f":"IF(BD58=\"\",\"\",VLOOKUP(BD58,$E$16:$AG$215,22,0))","v":""},{"$f":"IF(BD58=\"\",\"\",VLOOKUP(BD58,$E$16:$AK$215,32,0))","v":""},{"$f":"IF(AH58=2,IF(AD58=\"\",1000,VLOOKUP(AD58,ﾃﾞｰﾀ!F$3:J$62,5,FALSE)),1000)","v":1000},{"$f":"IF(BJ58=\"\",\"\",LEFT(BJ58,3))","v":""},{"$f":"IF(BJ58=\"\",\"\",LEFT(BJ58,3))","v":""},{"$f":"IF(ISERROR(VLOOKUP(BG58,$B$16:$AH$215,4,0)),\"\",VLOOKUP(BG58,$B$16:$AH$21545,4,0))","v":""},{"$f":"IF(BJ58=\"\",\"\",VLOOKUP(BJ58,$E$16:$AG$215,26,0))","v":""},{"$f":"IF(BJ58=\"\",\"\",VLOOKUP(BJ58,$E$16:$AK$215,33,0))","v":""}]
["","",{"$f":"IF(E59=\"\",\"\",IF(AH59=1,COUNTIF(AH$16:AH59,1)*10+2001-10,COUNTIF(AH$16:AH59,2)*10+6001-10))","v":""},44,null,{"$f":"IF($E59=\"\",\"\",IF(ISERROR(VLOOKUP($E59,氏名ﾃﾞｰﾀ!$B:$J,2,0)),IF(ISERROR(VLOOKUP($E59,新規登録!$B:$I,2,0)),\"未登録\",VLOOKUP($E59,新規登録!$B:$I,2,0)),(VLOOKUP($E59,氏名ﾃﾞｰﾀ!$B:$J,2,0))))","v":""},{"$f":"IF($E59=\"\",\"\",IF(ISERROR(VLOOKUP($E59,氏名ﾃﾞｰﾀ!$B:$J,3,0)),IF(ISERROR(VLOOKUP($E59,新規登録!$B:$I,3,0)),\"未登録\",VLOOKUP($E59,新規登録!$B:$I,3,0)),(VLOOKUP($E59,氏名ﾃﾞｰﾀ!$B:$J,3,0))))","v":""},{"$f":"IF($E59=\"\",\"\",IF(ISERROR(VLOOKUP($E59,氏名ﾃﾞｰﾀ!$B:$J,4,0)),IF(ISERROR(VLOOKUP($E59,新規登録!$B:$I,4,0)),\"未登録\",VLOOKUP($E59,新規登録!$B:$I,4,0)),(VLOOKUP($E59,氏名ﾃﾞｰﾀ!$B:$J,4,0))))","v":""},{"$f":"IF($E59=\"\",\"\",IF(ISERROR(VLOOKUP($E59,氏名ﾃﾞｰﾀ!$B:$J,5,0)),IF(ISERROR(VLOOKUP($E59,新規登録!$B:$I,5,0)),\"未登録\",VLOOKUP($E59,新規登録!$B:$I,5,0)),(VLOOKUP($E59,氏名ﾃﾞｰﾀ!$B:$J,5,0))))","v":""},{"$f":"IF($E59=\"\",\"\",IF(ISERROR(VLOOKUP($E59,氏名ﾃﾞｰﾀ!$B:$J,8,0)),IF(ISERROR(VLOOKUP($E59,新規登録!$B:$I,6,0)),\"未登録\",VLOOKUP($E59,新規登録!$B:$I,6,0)),(VLOOKUP($E59,氏名ﾃﾞｰﾀ!$B:$J,8,0))))","v":""},{"$f":"IF($E59=\"\",\"\",IF(ISERROR(VLOOKUP($E59,氏名ﾃﾞｰﾀ!$B:$J,7,0)),IF(ISERROR(VLOOKUP($E59,新規登録!$B:$I,7,0)),\"未登録\",VLOOKUP($E59,新規登録!$B:$I,7,0)),$G$3))","v":""},{"$f":"IF($E59=\"\",\"\",IF(ISERROR(VLOOKUP($E59,氏名ﾃﾞｰﾀ!$B:$J,6,0)),IF(ISERROR(VLOOKUP($E59,新規登録!$B:$I,8,0)),\"ﾅｼ\",VLOOKUP($E59,新規登録!$B:$I,8,0)),(VLOOKUP($E59,氏名ﾃﾞｰﾀ!$B:$J,6,0))))","v":""},{"$f":"IF($E59=\"\",\"\",IF(ISERROR(VLOOKUP($E59,氏名ﾃﾞｰﾀ!$B:$J,9,0)),IF(ISERROR(VLOOKUP($E59,新規登録!$B:$I,9,0)),\"未登録\",VLOOKUP($E59,新規登録!$B:$I,9,0)),(VLOOKUP($E59,氏名ﾃﾞｰﾀ!$B:$J,9,0))))","v":""},null,null,null,null,null,null,null,null,null,null,null,null,null,null,null,null,null,null,null,null,2,{"$f":"IF(N59=\"\",\"\",VLOOKUP(N59,ﾃﾞｰﾀ!A:D,4,0))","v":""},"秒","秒",null,null,null,{"$f":"IF(AH59=1,IF(Z59=\"\",1000,VLOOKUP(Z59,ﾃﾞｰﾀ!F$3:G$62,2,FALSE)),1000)","v":1000},{"$f":"IF(AR59=\"\",\"\",LEFT(AR59,3))","v":""},{"$f":"IF(AR59=\"\",\"\",LEFT(AR59,3))","v":""},"","",{"$f":"IF(AR59=\"\",\"\",VLOOKUP(AR59,$E$16:$AK$215,32,0))","v":""},{"$f":"IF(AH59=1,IF(AD59=\"\",1000,VLOOKUP(AD59,ﾃﾞｰﾀ!F$3:H$62,3,FALSE)),1000)","v":1000},{"$f":"IF(AX59=\"\",\"\",LEFT(AX59,3))","v":""},{"$f":"IF(AX59=\"\",\"\",LEFT(AX59,3))","v":""},"","",{"$f":"IF(AX59=\"\",\"\",VLOOKUP(AX59,$E$16:$AK$215,33,0))","v":""},{"$f":"IF(AH59=2,IF(Z59=\"\",1000,VLOOKUP(Z59,ﾃﾞｰﾀ!F$3:I$62,4,FALSE)),1000)","v":1000},{"$f":"IF(BD59=\"\",\"\",LEFT(BD59,3))","v":""},{"$f":"IF(BD59=\"\",\"\",LEFT(BD59,3))","v":""},"","",{"$f":"IF(BD59=\"\",\"\",VLOOKUP(BD59,$E$16:$AK$215,32,0))","v":""},{"$f":"IF(AH59=2,IF(AD59=\"\",1000,VLOOKUP(AD59,ﾃﾞｰﾀ!F$3:J$62,5,FALSE)),1000)","v":1000},{"$f":"IF(BJ59=\"\",\"\",LEFT(BJ59,3))","v":""},{"$f":"IF(BJ59=\"\",\"\",LEFT(BJ59,3))","v":""},"","",{"$f":"IF(BJ59=\"\",\"\",VLOOKUP(BJ59,$E$16:$AK$215,33,0))","v":""}]
["","",{"$f":"IF(E60=\"\",\"\",IF(AH60=1,COUNTIF(AH$16:AH60,1)*10+2001-10,COUNTIF(AH$16:AH60,2)*10+6001-10))","v":""},45,null,{"$f":"IF($E60=\"\",\"\",IF(ISERROR(VLOOKUP($E60,氏名ﾃﾞｰﾀ!$B:$J,2,0)),IF(ISERROR(VLOOKUP($E60,新規登録!$B:$I,2,0)),\"未登録\",VLOOKUP($E60,新規登録!$B:$I,2,0)),(VLOOKUP($E60,氏名ﾃﾞｰﾀ!$B:$J,2,0))))","v":""},{"$f":"IF($E60=\"\",\"\",IF(ISERROR(VLOOKUP($E60,氏名ﾃﾞｰﾀ!$B:$J,3,0)),IF(ISERROR(VLOOKUP($E60,新規登録!$B:$I,3,0)),\"未登録\",VLOOKUP($E60,新規登録!$B:$I,3,0)),(VLOOKUP($E60,氏名ﾃﾞｰﾀ!$B:$J,3,0))))","v":""},{"$f":"IF($E60=\"\",\"\",IF(ISERROR(VLOOKUP($E60,氏名ﾃﾞｰﾀ!$B:$J,4,0)),IF(ISERROR(VLOOKUP($E60,新規登録!$B:$I,4,0)),\"未登録\",VLOOKUP($E60,新規登録!$B:$I,4,0)),(VLOOKUP($E60,氏名ﾃﾞｰﾀ!$B:$J,4,0))))","v":""},{"$f":"IF($E60=\"\",\"\",IF(ISERROR(VLOOKUP($E60,氏名ﾃﾞｰﾀ!$B:$J,5,0)),IF(ISERROR(VLOOKUP($E60,新規登録!$B:$I,5,0)),\"未登録\",VLOOKUP($E60,新規登録!$B:$I,5,0)),(VLOOKUP($E60,氏名ﾃﾞｰﾀ!$B:$J,5,0))))","v":""},{"$f":"IF($E60=\"\",\"\",IF(ISERROR(VLOOKUP($E60,氏名ﾃﾞｰﾀ!$B:$J,8,0)),IF(ISERROR(VLOOKUP($E60,新規登録!$B:$I,6,0)),\"未登録\",VLOOKUP($E60,新規登録!$B:$I,6,0)),(VLOOKUP($E60,氏名ﾃﾞｰﾀ!$B:$J,8,0))))","v":""},{"$f":"IF($E60=\"\",\"\",IF(ISERROR(VLOOKUP($E60,氏名ﾃﾞｰﾀ!$B:$J,7,0)),IF(ISERROR(VLOOKUP($E60,新規登録!$B:$I,7,0)),\"未登録\",VLOOKUP($E60,新規登録!$B:$I,7,0)),$G$3))","v":""},{"$f":"IF($E60=\"\",\"\",IF(ISERROR(VLOOKUP($E60,氏名ﾃﾞｰﾀ!$B:$J,6,0)),IF(ISERROR(VLOOKUP($E60,新規登録!$B:$I,8,0)),\"ﾅｼ\",VLOOKUP($E60,新規登録!$B:$I,8,0)),(VLOOKUP($E60,氏名ﾃﾞｰﾀ!$B:$J,6,0))))","v":""},{"$f":"IF($E60=\"\",\"\",IF(ISERROR(VLOOKUP($E60,氏名ﾃﾞｰﾀ!$B:$J,9,0)),IF(ISERROR(VLOOKUP($E60,新規登録!$B:$I,9,0)),\"未登録\",VLOOKUP($E60,新規登録!$B:$I,9,0)),(VLOOKUP($E60,氏名ﾃﾞｰﾀ!$B:$J,9,0))))","v":""},null,null,null,null,null,null,null,null,null,null,null,null,null,null,null,null,null,null,null,null,2,{"$f":"IF(N60=\"\",\"\",VLOOKUP(N60,ﾃﾞｰﾀ!A:D,4,0))","v":""},"秒","秒",null,null,null,{"$f":"IF(AH60=1,IF(Z60=\"\",1000,VLOOKUP(Z60,ﾃﾞｰﾀ!F$3:G$62,2,FALSE)),1000)","v":1000},"","","","","",{"$f":"IF(AH60=1,IF(AD60=\"\",1000,VLOOKUP(AD60,ﾃﾞｰﾀ!F$3:H$62,3,FALSE)),1000)","v":1000},"","","","","",{"$f":"IF(AH60=2,IF(Z60=\"\",1000,VLOOKUP(Z60,ﾃﾞｰﾀ!F$3:I$62,4,FALSE)),1000)","v":1000},"","","","","",{"$f":"IF(AH60=2,IF(AD60=\"\",1000,VLOOKUP(AD60,ﾃﾞｰﾀ!F$3:J$62,5,FALSE)),1000)","v":1000},"","","","",""]
["","",{"$f":"IF(E61=\"\",\"\",IF(AH61=1,COUNTIF(AH$16:AH61,1)*10+2001-10,COUNTIF(AH$16:AH61,2)*10+6001-10))","v":""},46,null,{"$f":"IF($E61=\"\",\"\",IF(ISERROR(VLOOKUP($E61,氏名ﾃﾞｰﾀ!$B:$J,2,0)),IF(ISERROR(VLOOKUP($E61,新規登録!$B:$I,2,0)),\"未登録\",VLOOKUP($E61,新規登録!$B:$I,2,0)),(VLOOKUP($E61,氏名ﾃﾞｰﾀ!$B:$J,2,0))))","v":""},{"$f":"IF($E61=\"\",\"\",IF(ISERROR(VLOOKUP($E61,氏名ﾃﾞｰﾀ!$B:$J,3,0)),IF(ISERROR(VLOOKUP($E61,新規登録!$B:$I,3,0)),\"未登録\",VLOOKUP($E61,新規登録!$B:$I,3,0)),(VLOOKUP($E61,氏名ﾃﾞｰﾀ!$B:$J,3,0))))","v":""},{"$f":"IF($E61=\"\",\"\",IF(ISERROR(VLOOKUP($E61,氏名ﾃﾞｰﾀ!$B:$J,4,0)),IF(ISERROR(VLOOKUP($E61,新規登録!$B:$I,4,0)),\"未登録\",VLOOKUP($E61,新規登録!$B:$I,4,0)),(VLOOKUP($E61,氏名ﾃﾞｰﾀ!$B:$J,4,0))))","v":""},{"$f":"IF($E61=\"\",\"\",IF(ISERROR(VLOOKUP($E61,氏名ﾃﾞｰﾀ!$B:$J,5,0)),IF(ISERROR(VLOOKUP($E61,新規登録!$B:$I,5,0)),\"未登録\",VLOOKUP($E61,新規登録!$B:$I,5,0)),(VLOOKUP($E61,氏名ﾃﾞｰﾀ!$B:$J,5,0))))","v":""},{"$f":"IF($E61=\"\",\"\",IF(ISERROR(VLOOKUP($E61,氏名ﾃﾞｰﾀ!$B:$J,8,0)),IF(ISERROR(VLOOKUP($E61,新規登録!$B:$I,6,0)),\"未登録\",VLOOKUP($E61,新規登録!$B:$I,6,0)),(VLOOKUP($E61,氏名ﾃﾞｰﾀ!$B:$J,8,0))))","v":""},{"$f":"IF($E61=\"\",\"\",IF(ISERROR(VLOOKUP($E61,氏名ﾃﾞｰﾀ!$B:$J,7,0)),IF(ISERROR(VLOOKUP($E61,新規登録!$B:$I,7,0)),\"未登録\",VLOOKUP($E61,新規登録!$B:$I,7,0)),$G$3))","v":""},{"$f":"IF($E61=\"\",\"\",IF(ISERROR(VLOOKUP($E61,氏名ﾃﾞｰﾀ!$B:$J,6,0)),IF(ISERROR(VLOOKUP($E61,新規登録!$B:$I,8,0)),\"ﾅｼ\",VLOOKUP($E61,新規登録!$B:$I,8,0)),(VLOOKUP($E61,氏名ﾃﾞｰﾀ!$B:$J,6,0))))","v":""},{"$f":"IF($E61=\"\",\"\",IF(ISERROR(VLOOKUP($E61,氏名ﾃﾞｰﾀ!$B:$J,9,0)),IF(ISERROR(VLOOKUP($E61,新規登録!$B:$I,9,0)),\"未登録\",VLOOKUP($E61,新規登録!$B:$I,9,0)),(VLOOKUP($E61,氏名ﾃﾞｰﾀ!$B:$J,9,0))))","v":""},null,null,null,null,null,null,null,null,null,null,null,null,null,null,null,null,null,null,null,null,2,{"$f":"IF(N61=\"\",\"\",VLOOKUP(N61,ﾃﾞｰﾀ!A:D,4,0))","v":""},"秒","秒",null,null,null,{"$f":"IF(AH61=1,IF(Z61=\"\",1000,VLOOKUP(Z61,ﾃﾞｰﾀ!F$3:G$62,2,FALSE)),1000)","v":1000},"","","","","",{"$f":"IF(AH61=1,IF(AD61=\"\",1000,VLOOKUP(AD61,ﾃﾞｰﾀ!F$3:H$62,3,FALSE)),1000)","v":1000},"","","","","",{"$f":"IF(AH61=2,IF(Z61=\"\",1000,VLOOKUP(Z61,ﾃﾞｰﾀ!F$3:I$62,4,FALSE)),1000)","v":1000},"","","","","",{"$f":"IF(AH61=2,IF(AD61=\"\",1000,VLOOKUP(AD61,ﾃﾞｰﾀ!F$3:J$62,5,FALSE)),1000)","v":1000},"","","","",""]
["","",{"$f":"IF(E62=\"\",\"\",IF(AH62=1,COUNTIF(AH$16:AH62,1)*10+2001-10,COUNTIF(AH$16:AH62,2)*10+6001-10))","v":""},47,null,{"$f":"IF($E62=\"\",\"\",IF(ISERROR(VLOOKUP($E62,氏名ﾃﾞｰﾀ!$B:$J,2,0)),IF(ISERROR(VLOOKUP($E62,新規登録!$B:$I,2,0)),\"未登録\",VLOOKUP($E62,新規登録!$B:$I,2,0)),(VLOOKUP($E62,氏名ﾃﾞｰﾀ!$B:$J,2,0))))","v":""},{"$f":"IF($E62=\"\",\"\",IF(ISERROR(VLOOKUP($E62,氏名ﾃﾞｰﾀ!$B:$J,3,0)),IF(ISERROR(VLOOKUP($E62,新規登録!$B:$I,3,0)),\"未登録\",VLOOKUP($E62,新規登録!$B:$I,3,0)),(VLOOKUP($E62,氏名ﾃﾞｰﾀ!$B:$J,3,0))))","v":""},{"$f":"IF($E62=\"\",\"\",IF(ISERROR(VLOOKUP($E62,氏名ﾃﾞｰﾀ!$B:$J,4,0)),IF(ISERROR(VLOOKUP($E62,新規登録!$B:$I,4,0)),\"未登録\",VLOOKUP($E62,新規登録!$B:$I,4,0)),(VLOOKUP($E62,氏名ﾃﾞｰﾀ!$B:$J,4,0))))","v":""},{"$f":"IF($E62=\"\",\"\",IF(ISERROR(VLOOKUP($E62,氏名ﾃﾞｰﾀ!$B:$J,5,0)),IF(ISERROR(VLOOKUP($E62,新規登録!$B:$I,5,0)),\"未登録\",VLOOKUP($E62,新規登録!$B:$I,5,0)),(VLOOKUP($E62,氏名ﾃﾞｰﾀ!$B:$J,5,0))))","v":""},{"$f":"IF($E62=\"\",\"\",IF(ISERROR(VLOOKUP($E62,氏名ﾃﾞｰﾀ!$B:$J,8,0)),IF(ISERROR(VLOOKUP($E62,新規登録!$B:$I,6,0)),\"未登録\",VLOOKUP($E62,新規登録!$B:$I,6,0)),(VLOOKUP($E62,氏名ﾃﾞｰﾀ!$B:$J,8,0))))","v":""},{"$f":"IF($E62=\"\",\"\",IF(ISERROR(VLOOKUP($E62,氏名ﾃﾞｰﾀ!$B:$J,7,0)),IF(ISERROR(VLOOKUP($E62,新規登録!$B:$I,7,0)),\"未登録\",VLOOKUP($E62,新規登録!$B:$I,7,0)),$G$3))","v":""},{"$f":"IF($E62=\"\",\"\",IF(ISERROR(VLOOKUP($E62,氏名ﾃﾞｰﾀ!$B:$J,6,0)),IF(ISERROR(VLOOKUP($E62,新規登録!$B:$I,8,0)),\"ﾅｼ\",VLOOKUP($E62,新規登録!$B:$I,8,0)),(VLOOKUP($E62,氏名ﾃﾞｰﾀ!$B:$J,6,0))))","v":""},{"$f":"IF($E62=\"\",\"\",IF(ISERROR(VLOOKUP($E62,氏名ﾃﾞｰﾀ!$B:$J,9,0)),IF(ISERROR(VLOOKUP($E62,新規登録!$B:$I,9,0)),\"未登録\",VLOOKUP($E62,新規登録!$B:$I,9,0)),(VLOOKUP($E62,氏名ﾃﾞｰﾀ!$B:$J,9,0))))","v":""},null,null,null,null,null,null,null,null,null,null,null,null,null,null,null,null,null,null,null,null,2,{"$f":"IF(N62=\"\",\"\",VLOOKUP(N62,ﾃﾞｰﾀ!A:D,4,0))","v":""},"秒","秒",null,null,null,{"$f":"IF(AH62=1,IF(Z62=\"\",1000,VLOOKUP(Z62,ﾃﾞｰﾀ!F$3:G$62,2,FALSE)),1000)","v":1000},"","","","","",{"$f":"IF(AH62=1,IF(AD62=\"\",1000,VLOOKUP(AD62,ﾃﾞｰﾀ!F$3:H$62,3,FALSE)),1000)","v":1000},"","","","","",{"$f":"IF(AH62=2,IF(Z62=\"\",1000,VLOOKUP(Z62,ﾃﾞｰﾀ!F$3:I$62,4,FALSE)),1000)","v":1000},"","","","","",{"$f":"IF(AH62=2,IF(AD62=\"\",1000,VLOOKUP(AD62,ﾃﾞｰﾀ!F$3:J$62,5,FALSE)),1000)","v":1000},"","","","",""]
["","",{"$f":"IF(E63=\"\",\"\",IF(AH63=1,COUNTIF(AH$16:AH63,1)*10+2001-10,COUNTIF(AH$16:AH63,2)*10+6001-10))","v":""},48,null,{"$f":"IF($E63=\"\",\"\",IF(ISERROR(VLOOKUP($E63,氏名ﾃﾞｰﾀ!$B:$J,2,0)),IF(ISERROR(VLOOKUP($E63,新規登録!$B:$I,2,0)),\"未登録\",VLOOKUP($E63,新規登録!$B:$I,2,0)),(VLOOKUP($E63,氏名ﾃﾞｰﾀ!$B:$J,2,0))))","v":""},{"$f":"IF($E63=\"\",\"\",IF(ISERROR(VLOOKUP($E63,氏名ﾃﾞｰﾀ!$B:$J,3,0)),IF(ISERROR(VLOOKUP($E63,新規登録!$B:$I,3,0)),\"未登録\",VLOOKUP($E63,新規登録!$B:$I,3,0)),(VLOOKUP($E63,氏名ﾃﾞｰﾀ!$B:$J,3,0))))","v":""},{"$f":"IF($E63=\"\",\"\",IF(ISERROR(VLOOKUP($E63,氏名ﾃﾞｰﾀ!$B:$J,4,0)),IF(ISERROR(VLOOKUP($E63,新規登録!$B:$I,4,0)),\"未登録\",VLOOKUP($E63,新規登録!$B:$I,4,0)),(VLOOKUP($E63,氏名ﾃﾞｰﾀ!$B:$J,4,0))))","v":""},{"$f":"IF($E63=\"\",\"\",IF(ISERROR(VLOOKUP($E63,氏名ﾃﾞｰﾀ!$B:$J,5,0)),IF(ISERROR(VLOOKUP($E63,新規登録!$B:$I,5,0)),\"未登録\",VLOOKUP($E63,新規登録!$B:$I,5,0)),(VLOOKUP($E63,氏名ﾃﾞｰﾀ!$B:$J,5,0))))","v":""},{"$f":"IF($E63=\"\",\"\",IF(ISERROR(VLOOKUP($E63,氏名ﾃﾞｰﾀ!$B:$J,8,0)),IF(ISERROR(VLOOKUP($E63,新規登録!$B:$I,6,0)),\"未登録\",VLOOKUP($E63,新規登録!$B:$I,6,0)),(VLOOKUP($E63,氏名ﾃﾞｰﾀ!$B:$J,8,0))))","v":""},{"$f":"IF($E63=\"\",\"\",IF(ISERROR(VLOOKUP($E63,氏名ﾃﾞｰﾀ!$B:$J,7,0)),IF(ISERROR(VLOOKUP($E63,新規登録!$B:$I,7,0)),\"未登録\",VLOOKUP($E63,新規登録!$B:$I,7,0)),$G$3))","v":""},{"$f":"IF($E63=\"\",\"\",IF(ISERROR(VLOOKUP($E63,氏名ﾃﾞｰﾀ!$B:$J,6,0)),IF(ISERROR(VLOOKUP($E63,新規登録!$B:$I,8,0)),\"ﾅｼ\",VLOOKUP($E63,新規登録!$B:$I,8,0)),(VLOOKUP($E63,氏名ﾃﾞｰﾀ!$B:$J,6,0))))","v":""},{"$f":"IF($E63=\"\",\"\",IF(ISERROR(VLOOKUP($E63,氏名ﾃﾞｰﾀ!$B:$J,9,0)),IF(ISERROR(VLOOKUP($E63,新規登録!$B:$I,9,0)),\"未登録\",VLOOKUP($E63,新規登録!$B:$I,9,0)),(VLOOKUP($E63,氏名ﾃﾞｰﾀ!$B:$J,9,0))))","v":""},null,null,null,null,null,null,null,null,null,null,null,null,null,null,null,null,null,null,null,null,2,{"$f":"IF(N63=\"\",\"\",VLOOKUP(N63,ﾃﾞｰﾀ!A:D,4,0))","v":""},"秒","秒",null,null,null,{"$f":"IF(AH63=1,IF(Z63=\"\",1000,VLOOKUP(Z63,ﾃﾞｰﾀ!F$3:G$62,2,FALSE)),1000)","v":1000},"","","","","",{"$f":"IF(AH63=1,IF(AD63=\"\",1000,VLOOKUP(AD63,ﾃﾞｰﾀ!F$3:H$62,3,FALSE)),1000)","v":1000},"","","","","",{"$f":"IF(AH63=2,IF(Z63=\"\",1000,VLOOKUP(Z63,ﾃﾞｰﾀ!F$3:I$62,4,FALSE)),1000)","v":1000},"","","","","",{"$f":"IF(AH63=2,IF(AD63=\"\",1000,VLOOKUP(AD63,ﾃﾞｰﾀ!F$3:J$62,5,FALSE)),1000)","v":1000},"","","","",""]
["","",{"$f":"IF(E64=\"\",\"\",IF(AH64=1,COUNTIF(AH$16:AH64,1)*10+2001-10,COUNTIF(AH$16:AH64,2)*10+6001-10))","v":""},49,null,{"$f":"IF($E64=\"\",\"\",IF(ISERROR(VLOOKUP($E64,氏名ﾃﾞｰﾀ!$B:$J,2,0)),IF(ISERROR(VLOOKUP($E64,新規登録!$B:$I,2,0)),\"未登録\",VLOOKUP($E64,新規登録!$B:$I,2,0)),(VLOOKUP($E64,氏名ﾃﾞｰﾀ!$B:$J,2,0))))","v":""},{"$f":"IF($E64=\"\",\"\",IF(ISERROR(VLOOKUP($E64,氏名ﾃﾞｰﾀ!$B:$J,3,0)),IF(ISERROR(VLOOKUP($E64,新規登録!$B:$I,3,0)),\"未登録\",VLOOKUP($E64,新規登録!$B:$I,3,0)),(VLOOKUP($E64,氏名ﾃﾞｰﾀ!$B:$J,3,0))))","v":""},{"$f":"IF($E64=\"\",\"\",IF(ISERROR(VLOOKUP($E64,氏名ﾃﾞｰﾀ!$B:$J,4,0)),IF(ISERROR(VLOOKUP($E64,新規登録!$B:$I,4,0)),\"未登録\",VLOOKUP($E64,新規登録!$B:$I,4,0)),(VLOOKUP($E64,氏名ﾃﾞｰﾀ!$B:$J,4,0))))","v":""},{"$f":"IF($E64=\"\",\"\",IF(ISERROR(VLOOKUP($E64,氏名ﾃﾞｰﾀ!$B:$J,5,0)),IF(ISERROR(VLOOKUP($E64,新規登録!$B:$I,5,0)),\"未登録\",VLOOKUP($E64,新規登録!$B:$I,5,0)),(VLOOKUP($E64,氏名ﾃﾞｰﾀ!$B:$J,5,0))))","v":""},{"$f":"IF($E64=\"\",\"\",IF(ISERROR(VLOOKUP($E64,氏名ﾃﾞｰﾀ!$B:$J,8,0)),IF(ISERROR(VLOOKUP($E64,新規登録!$B:$I,6,0)),\"未登録\",VLOOKUP($E64,新規登録!$B:$I,6,0)),(VLOOKUP($E64,氏名ﾃﾞｰﾀ!$B:$J,8,0))))","v":""},{"$f":"IF($E64=\"\",\"\",IF(ISERROR(VLOOKUP($E64,氏名ﾃﾞｰﾀ!$B:$J,7,0)),IF(ISERROR(VLOOKUP($E64,新規登録!$B:$I,7,0)),\"未登録\",VLOOKUP($E64,新規登録!$B:$I,7,0)),$G$3))","v":""},{"$f":"IF($E64=\"\",\"\",IF(ISERROR(VLOOKUP($E64,氏名ﾃﾞｰﾀ!$B:$J,6,0)),IF(ISERROR(VLOOKUP($E64,新規登録!$B:$I,8,0)),\"ﾅｼ\",VLOOKUP($E64,新規登録!$B:$I,8,0)),(VLOOKUP($E64,氏名ﾃﾞｰﾀ!$B:$J,6,0))))","v":""},{"$f":"IF($E64=\"\",\"\",IF(ISERROR(VLOOKUP($E64,氏名ﾃﾞｰﾀ!$B:$J,9,0)),IF(ISERROR(VLOOKUP($E64,新規登録!$B:$I,9,0)),\"未登録\",VLOOKUP($E64,新規登録!$B:$I,9,0)),(VLOOKUP($E64,氏名ﾃﾞｰﾀ!$B:$J,9,0))))","v":""},null,null,null,null,null,null,null,null,null,null,null,null,null,null,null,null,null,null,null,null,2,{"$f":"IF(N64=\"\",\"\",VLOOKUP(N64,ﾃﾞｰﾀ!A:D,4,0))","v":""},"秒","秒",null,null,null,{"$f":"IF(AH64=1,IF(Z64=\"\",1000,VLOOKUP(Z64,ﾃﾞｰﾀ!F$3:G$62,2,FALSE)),1000)","v":1000},{"$f":"IF(AR64=\"\",\"\",LEFT(AR64,3))","v":""},{"$f":"IF(AR64=\"\",\"\",LEFT(AR64,3))","v":""},{"$f":"IF(ISERROR(VLOOKUP(AO64,$A$16:$AH$215,5,0)),\"\",VLOOKUP(AO64,$A$16:$AH$215,5,0))","v":""},"",{"$f":"IF(AR64=\"\",\"\",VLOOKUP(AR64,$E$16:$AK$215,32,0))","v":""},{"$f":"IF(AH64=1,IF(AD64=\"\",1000,VLOOKUP(AD64,ﾃﾞｰﾀ!F$3:H$62,3,FALSE)),1000)","v":1000},{"$f":"IF(AX64=\"\",\"\",LEFT(AX64,3))","v":""},{"$f":"IF(AX64=\"\",\"\",LEFT(AX64,3))","v":""},{"$f":"IF(ISERROR(VLOOKUP(AU64,$B$16:$AH$215,4,0)),\"\",VLOOKUP(AU64,$B$16:$AH$21545,4,0))","v":""},{"$f":"IF(AX64=\"\",\"\",VLOOKUP(AX64,$E$16:$AG$215,26,0))","v":""},{"$f":"IF(AX64=\"\",\"\",VLOOKUP(AX64,$E$16:$AK$215,33,0))","v":""},{"$f":"IF(AH64=2,IF(Z64=\"\",1000,VLOOKUP(Z64,ﾃﾞｰﾀ!F$3:I$62,4,FALSE)),1000)","v":1000},{"$f":"IF(BD64=\"\",\"\",LEFT(BD64,3))","v":""},{"$f":"IF(BD64=\"\",\"\",LEFT(BD64,3))","v":""},{"$f":"IF(ISERROR(VLOOKUP(BA64,$A$16:$AH$215,5,0)),\"\",VLOOKUP(BA64,$A$16:$AH$215,5,0))","v":""},{"$f":"IF(BD64=\"\",\"\",VLOOKUP(BD64,$E$16:$AG$215,22,0))","v":""},{"$f":"IF(BD64=\"\",\"\",VLOOKUP(BD64,$E$16:$AK$215,32,0))","v":""},{"$f":"IF(AH64=2,IF(AD64=\"\",1000,VLOOKUP(AD64,ﾃﾞｰﾀ!F$3:J$62,5,FALSE)),1000)","v":1000},{"$f":"IF(BJ64=\"\",\"\",LEFT(BJ64,3))","v":""},{"$f":"IF(BJ64=\"\",\"\",LEFT(BJ64,3))","v":""},{"$f":"IF(ISERROR(VLOOKUP(BG64,$B$16:$AH$215,4,0)),\"\",VLOOKUP(BG64,$B$16:$AH$21545,4,0))","v":""},{"$f":"IF(BJ64=\"\",\"\",VLOOKUP(BJ64,$E$16:$AG$215,26,0))","v":""},{"$f":"IF(BJ64=\"\",\"\",VLOOKUP(BJ64,$E$16:$AK$215,33,0))","v":""}]
["","",{"$f":"IF(E65=\"\",\"\",IF(AH65=1,COUNTIF(AH$16:AH65,1)*10+2001-10,COUNTIF(AH$16:AH65,2)*10+6001-10))","v":""},50,null,{"$f":"IF($E65=\"\",\"\",IF(ISERROR(VLOOKUP($E65,氏名ﾃﾞｰﾀ!$B:$J,2,0)),IF(ISERROR(VLOOKUP($E65,新規登録!$B:$I,2,0)),\"未登録\",VLOOKUP($E65,新規登録!$B:$I,2,0)),(VLOOKUP($E65,氏名ﾃﾞｰﾀ!$B:$J,2,0))))","v":""},{"$f":"IF($E65=\"\",\"\",IF(ISERROR(VLOOKUP($E65,氏名ﾃﾞｰﾀ!$B:$J,3,0)),IF(ISERROR(VLOOKUP($E65,新規登録!$B:$I,3,0)),\"未登録\",VLOOKUP($E65,新規登録!$B:$I,3,0)),(VLOOKUP($E65,氏名ﾃﾞｰﾀ!$B:$J,3,0))))","v":""},{"$f":"IF($E65=\"\",\"\",IF(ISERROR(VLOOKUP($E65,氏名ﾃﾞｰﾀ!$B:$J,4,0)),IF(ISERROR(VLOOKUP($E65,新規登録!$B:$I,4,0)),\"未登録\",VLOOKUP($E65,新規登録!$B:$I,4,0)),(VLOOKUP($E65,氏名ﾃﾞｰﾀ!$B:$J,4,0))))","v":""},{"$f":"IF($E65=\"\",\"\",IF(ISERROR(VLOOKUP($E65,氏名ﾃﾞｰﾀ!$B:$J,5,0)),IF(ISERROR(VLOOKUP($E65,新規登録!$B:$I,5,0)),\"未登録\",VLOOKUP($E65,新規登録!$B:$I,5,0)),(VLOOKUP($E65,氏名ﾃﾞｰﾀ!$B:$J,5,0))))","v":""},{"$f":"IF($E65=\"\",\"\",IF(ISERROR(VLOOKUP($E65,氏名ﾃﾞｰﾀ!$B:$J,8,0)),IF(ISERROR(VLOOKUP($E65,新規登録!$B:$I,6,0)),\"未登録\",VLOOKUP($E65,新規登録!$B:$I,6,0)),(VLOOKUP($E65,氏名ﾃﾞｰﾀ!$B:$J,8,0))))","v":""},{"$f":"IF($E65=\"\",\"\",IF(ISERROR(VLOOKUP($E65,氏名ﾃﾞｰﾀ!$B:$J,7,0)),IF(ISERROR(VLOOKUP($E65,新規登録!$B:$I,7,0)),\"未登録\",VLOOKUP($E65,新規登録!$B:$I,7,0)),$G$3))","v":""},{"$f":"IF($E65=\"\",\"\",IF(ISERROR(VLOOKUP($E65,氏名ﾃﾞｰﾀ!$B:$J,6,0)),IF(ISERROR(VLOOKUP($E65,新規登録!$B:$I,8,0)),\"ﾅｼ\",VLOOKUP($E65,新規登録!$B:$I,8,0)),(VLOOKUP($E65,氏名ﾃﾞｰﾀ!$B:$J,6,0))))","v":""},{"$f":"IF($E65=\"\",\"\",IF(ISERROR(VLOOKUP($E65,氏名ﾃﾞｰﾀ!$B:$J,9,0)),IF(ISERROR(VLOOKUP($E65,新規登録!$B:$I,9,0)),\"未登録\",VLOOKUP($E65,新規登録!$B:$I,9,0)),(VLOOKUP($E65,氏名ﾃﾞｰﾀ!$B:$J,9,0))))","v":""},null,null,null,null,null,null,null,null,null,null,null,null,null,null,null,null,null,null,null,null,2,{"$f":"IF(N65=\"\",\"\",VLOOKUP(N65,ﾃﾞｰﾀ!A:D,4,0))","v":""},"秒","秒",null,null,null,{"$f":"IF(AH65=1,IF(Z65=\"\",1000,VLOOKUP(Z65,ﾃﾞｰﾀ!F$3:G$62,2,FALSE)),1000)","v":1000},{"$f":"IF(AR65=\"\",\"\",LEFT(AR65,3))","v":""},{"$f":"IF(AR65=\"\",\"\",LEFT(AR65,3))","v":""},"","",{"$f":"IF(AR65=\"\",\"\",VLOOKUP(AR65,$E$16:$AK$215,32,0))","v":""},{"$f":"IF(AH65=1,IF(AD65=\"\",1000,VLOOKUP(AD65,ﾃﾞｰﾀ!F$3:H$62,3,FALSE)),1000)","v":1000},{"$f":"IF(AX65=\"\",\"\",LEFT(AX65,3))","v":""},{"$f":"IF(AX65=\"\",\"\",LEFT(AX65,3))","v":""},"","",{"$f":"IF(AX65=\"\",\"\",VLOOKUP(AX65,$E$16:$AK$215,33,0))","v":""},{"$f":"IF(AH65=2,IF(Z65=\"\",1000,VLOOKUP(Z65,ﾃﾞｰﾀ!F$3:I$62,4,FALSE)),1000)","v":1000},{"$f":"IF(BD65=\"\",\"\",LEFT(BD65,3))","v":""},{"$f":"IF(BD65=\"\",\"\",LEFT(BD65,3))","v":""},"","",{"$f":"IF(BD65=\"\",\"\",VLOOKUP(BD65,$E$16:$AK$215,32,0))","v":""},{"$f":"IF(AH65=2,IF(AD65=\"\",1000,VLOOKUP(AD65,ﾃﾞｰﾀ!F$3:J$62,5,FALSE)),1000)","v":1000},{"$f":"IF(BJ65=\"\",\"\",LEFT(BJ65,3))","v":""},{"$f":"IF(BJ65=\"\",\"\",LEFT(BJ65,3))","v":""},"","",{"$f":"IF(BJ65=\"\",\"\",VLOOKUP(BJ65,$E$16:$AK$215,33,0))","v":""}]
["","",{"$f":"IF(E66=\"\",\"\",IF(AH66=1,COUNTIF(AH$16:AH66,1)*10+2001-10,COUNTIF(AH$16:AH66,2)*10+6001-10))","v":""},51,null,{"$f":"IF($E66=\"\",\"\",IF(ISERROR(VLOOKUP($E66,氏名ﾃﾞｰﾀ!$B:$J,2,0)),IF(ISERROR(VLOOKUP($E66,新規登録!$B:$I,2,0)),\"未登録\",VLOOKUP($E66,新規登録!$B:$I,2,0)),(VLOOKUP($E66,氏名ﾃﾞｰﾀ!$B:$J,2,0))))","v":""},{"$f":"IF($E66=\"\",\"\",IF(ISERROR(VLOOKUP($E66,氏名ﾃﾞｰﾀ!$B:$J,3,0)),IF(ISERROR(VLOOKUP($E66,新規登録!$B:$I,3,0)),\"未登録\",VLOOKUP($E66,新規登録!$B:$I,3,0)),(VLOOKUP($E66,氏名ﾃﾞｰﾀ!$B:$J,3,0))))","v":""},{"$f":"IF($E66=\"\",\"\",IF(ISERROR(VLOOKUP($E66,氏名ﾃﾞｰﾀ!$B:$J,4,0)),IF(ISERROR(VLOOKUP($E66,新規登録!$B:$I,4,0)),\"未登録\",VLOOKUP($E66,新規登録!$B:$I,4,0)),(VLOOKUP($E66,氏名ﾃﾞｰﾀ!$B:$J,4,0))))","v":""},{"$f":"IF($E66=\"\",\"\",IF(ISERROR(VLOOKUP($E66,氏名ﾃﾞｰﾀ!$B:$J,5,0)),IF(ISERROR(VLOOKUP($E66,新規登録!$B:$I,5,0)),\"未登録\",VLOOKUP($E66,新規登録!$B:$I,5,0)),(VLOOKUP($E66,氏名ﾃﾞｰﾀ!$B:$J,5,0))))","v":""},{"$f":"IF($E66=\"\",\"\",IF(ISERROR(VLOOKUP($E66,氏名ﾃﾞｰﾀ!$B:$J,8,0)),IF(ISERROR(VLOOKUP($E66,新規登録!$B:$I,6,0)),\"未登録\",VLOOKUP($E66,新規登録!$B:$I,6,0)),(VLOOKUP($E66,氏名ﾃﾞｰﾀ!$B:$J,8,0))))","v":""},{"$f":"IF($E66=\"\",\"\",IF(ISERROR(VLOOKUP($E66,氏名ﾃﾞｰﾀ!$B:$J,7,0)),IF(ISERROR(VLOOKUP($E66,新規登録!$B:$I,7,0)),\"未登録\",VLOOKUP($E66,新規登録!$B:$I,7,0)),$G$3))","v":""},{"$f":"IF($E66=\"\",\"\",IF(ISERROR(VLOOKUP($E66,氏名ﾃﾞｰﾀ!$B:$J,6,0)),IF(ISERROR(VLOOKUP($E66,新規登録!$B:$I,8,0)),\"ﾅｼ\",VLOOKUP($E66,新規登録!$B:$I,8,0)),(VLOOKUP($E66,氏名ﾃﾞｰﾀ!$B:$J,6,0))))","v":""},{"$f":"IF($E66=\"\",\"\",IF(ISERROR(VLOOKUP($E66,氏名ﾃﾞｰﾀ!$B:$J,9,0)),IF(ISERROR(VLOOKUP($E66,新規登録!$B:$I,9,0)),\"未登録\",VLOOKUP($E66,新規登録!$B:$I,9,0)),(VLOOKUP($E66,氏名ﾃﾞｰﾀ!$B:$J,9,0))))","v":""},null,null,null,null,null,null,null,null,null,null,null,null,null,null,null,null,null,null,null,null,2,{"$f":"IF(N66=\"\",\"\",VLOOKUP(N66,ﾃﾞｰﾀ!A:D,4,0))","v":""},"秒","秒",null,null,null,{"$f":"IF(AH66=1,IF(Z66=\"\",1000,VLOOKUP(Z66,ﾃﾞｰﾀ!F$3:G$62,2,FALSE)),1000)","v":1000},"","","","","",{"$f":"IF(AH66=1,IF(AD66=\"\",1000,VLOOKUP(AD66,ﾃﾞｰﾀ!F$3:H$62,3,FALSE)),1000)","v":1000},"","","","","",{"$f":"IF(AH66=2,IF(Z66=\"\",1000,VLOOKUP(Z66,ﾃﾞｰﾀ!F$3:I$62,4,FALSE)),1000)","v":1000},"","","","","",{"$f":"IF(AH66=2,IF(AD66=\"\",1000,VLOOKUP(AD66,ﾃﾞｰﾀ!F$3:J$62,5,FALSE)),1000)","v":1000},"","","","",""]
["","",{"$f":"IF(E67=\"\",\"\",IF(AH67=1,COUNTIF(AH$16:AH67,1)*10+2001-10,COUNTIF(AH$16:AH67,2)*10+6001-10))","v":""},52,null,{"$f":"IF($E67=\"\",\"\",IF(ISERROR(VLOOKUP($E67,氏名ﾃﾞｰﾀ!$B:$J,2,0)),IF(ISERROR(VLOOKUP($E67,新規登録!$B:$I,2,0)),\"未登録\",VLOOKUP($E67,新規登録!$B:$I,2,0)),(VLOOKUP($E67,氏名ﾃﾞｰﾀ!$B:$J,2,0))))","v":""},{"$f":"IF($E67=\"\",\"\",IF(ISERROR(VLOOKUP($E67,氏名ﾃﾞｰﾀ!$B:$J,3,0)),IF(ISERROR(VLOOKUP($E67,新規登録!$B:$I,3,0)),\"未登録\",VLOOKUP($E67,新規登録!$B:$I,3,0)),(VLOOKUP($E67,氏名ﾃﾞｰﾀ!$B:$J,3,0))))","v":""},{"$f":"IF($E67=\"\",\"\",IF(ISERROR(VLOOKUP($E67,氏名ﾃﾞｰﾀ!$B:$J,4,0)),IF(ISERROR(VLOOKUP($E67,新規登録!$B:$I,4,0)),\"未登録\",VLOOKUP($E67,新規登録!$B:$I,4,0)),(VLOOKUP($E67,氏名ﾃﾞｰﾀ!$B:$J,4,0))))","v":""},{"$f":"IF($E67=\"\",\"\",IF(ISERROR(VLOOKUP($E67,氏名ﾃﾞｰﾀ!$B:$J,5,0)),IF(ISERROR(VLOOKUP($E67,新規登録!$B:$I,5,0)),\"未登録\",VLOOKUP($E67,新規登録!$B:$I,5,0)),(VLOOKUP($E67,氏名ﾃﾞｰﾀ!$B:$J,5,0))))","v":""},{"$f":"IF($E67=\"\",\"\",IF(ISERROR(VLOOKUP($E67,氏名ﾃﾞｰﾀ!$B:$J,8,0)),IF(ISERROR(VLOOKUP($E67,新規登録!$B:$I,6,0)),\"未登録\",VLOOKUP($E67,新規登録!$B:$I,6,0)),(VLOOKUP($E67,氏名ﾃﾞｰﾀ!$B:$J,8,0))))","v":""},{"$f":"IF($E67=\"\",\"\",IF(ISERROR(VLOOKUP($E67,氏名ﾃﾞｰﾀ!$B:$J,7,0)),IF(ISERROR(VLOOKUP($E67,新規登録!$B:$I,7,0)),\"未登録\",VLOOKUP($E67,新規登録!$B:$I,7,0)),$G$3))","v":""},{"$f":"IF($E67=\"\",\"\",IF(ISERROR(VLOOKUP($E67,氏名ﾃﾞｰﾀ!$B:$J,6,0)),IF(ISERROR(VLOOKUP($E67,新規登録!$B:$I,8,0)),\"ﾅｼ\",VLOOKUP($E67,新規登録!$B:$I,8,0)),(VLOOKUP($E67,氏名ﾃﾞｰﾀ!$B:$J,6,0))))","v":""},{"$f":"IF($E67=\"\",\"\",IF(ISERROR(VLOOKUP($E67,氏名ﾃﾞｰﾀ!$B:$J,9,0)),IF(ISERROR(VLOOKUP($E67,新規登録!$B:$I,9,0)),\"未登録\",VLOOKUP($E67,新規登録!$B:$I,9,0)),(VLOOKUP($E67,氏名ﾃﾞｰﾀ!$B:$J,9,0))))","v":""},null,null,null,null,null,null,null,null,null,null,null,null,null,null,null,null,null,null,null,null,2,{"$f":"IF(N67=\"\",\"\",VLOOKUP(N67,ﾃﾞｰﾀ!A:D,4,0))","v":""},"秒","秒",null,null,null,{"$f":"IF(AH67=1,IF(Z67=\"\",1000,VLOOKUP(Z67,ﾃﾞｰﾀ!F$3:G$62,2,FALSE)),1000)","v":1000},"","","","","",{"$f":"IF(AH67=1,IF(AD67=\"\",1000,VLOOKUP(AD67,ﾃﾞｰﾀ!F$3:H$62,3,FALSE)),1000)","v":1000},"","","","","",{"$f":"IF(AH67=2,IF(Z67=\"\",1000,VLOOKUP(Z67,ﾃﾞｰﾀ!F$3:I$62,4,FALSE)),1000)","v":1000},"","","","","",{"$f":"IF(AH67=2,IF(AD67=\"\",1000,VLOOKUP(AD67,ﾃﾞｰﾀ!F$3:J$62,5,FALSE)),1000)","v":1000},"","","","",""]
["","",{"$f":"IF(E68=\"\",\"\",IF(AH68=1,COUNTIF(AH$16:AH68,1)*10+2001-10,COUNTIF(AH$16:AH68,2)*10+6001-10))","v":""},53,null,{"$f":"IF($E68=\"\",\"\",IF(ISERROR(VLOOKUP($E68,氏名ﾃﾞｰﾀ!$B:$J,2,0)),IF(ISERROR(VLOOKUP($E68,新規登録!$B:$I,2,0)),\"未登録\",VLOOKUP($E68,新規登録!$B:$I,2,0)),(VLOOKUP($E68,氏名ﾃﾞｰﾀ!$B:$J,2,0))))","v":""},{"$f":"IF($E68=\"\",\"\",IF(ISERROR(VLOOKUP($E68,氏名ﾃﾞｰﾀ!$B:$J,3,0)),IF(ISERROR(VLOOKUP($E68,新規登録!$B:$I,3,0)),\"未登録\",VLOOKUP($E68,新規登録!$B:$I,3,0)),(VLOOKUP($E68,氏名ﾃﾞｰﾀ!$B:$J,3,0))))","v":""},{"$f":"IF($E68=\"\",\"\",IF(ISERROR(VLOOKUP($E68,氏名ﾃﾞｰﾀ!$B:$J,4,0)),IF(ISERROR(VLOOKUP($E68,新規登録!$B:$I,4,0)),\"未登録\",VLOOKUP($E68,新規登録!$B:$I,4,0)),(VLOOKUP($E68,氏名ﾃﾞｰﾀ!$B:$J,4,0))))","v":""},{"$f":"IF($E68=\"\",\"\",IF(ISERROR(VLOOKUP($E68,氏名ﾃﾞｰﾀ!$B:$J,5,0)),IF(ISERROR(VLOOKUP($E68,新規登録!$B:$I,5,0)),\"未登録\",VLOOKUP($E68,新規登録!$B:$I,5,0)),(VLOOKUP($E68,氏名ﾃﾞｰﾀ!$B:$J,5,0))))","v":""},{"$f":"IF($E68=\"\",\"\",IF(ISERROR(VLOOKUP($E68,氏名ﾃﾞｰﾀ!$B:$J,8,0)),IF(ISERROR(VLOOKUP($E68,新規登録!$B:$I,6,0)),\"未登録\",VLOOKUP($E68,新規登録!$B:$I,6,0)),(VLOOKUP($E68,氏名ﾃﾞｰﾀ!$B:$J,8,0))))","v":""},{"$f":"IF($E68=\"\",\"\",IF(ISERROR(VLOOKUP($E68,氏名ﾃﾞｰﾀ!$B:$J,7,0)),IF(ISERROR(VLOOKUP($E68,新規登録!$B:$I,7,0)),\"未登録\",VLOOKUP($E68,新規登録!$B:$I,7,0)),$G$3))","v":""},{"$f":"IF($E68=\"\",\"\",IF(ISERROR(VLOOKUP($E68,氏名ﾃﾞｰﾀ!$B:$J,6,0)),IF(ISERROR(VLOOKUP($E68,新規登録!$B:$I,8,0)),\"ﾅｼ\",VLOOKUP($E68,新規登録!$B:$I,8,0)),(VLOOKUP($E68,氏名ﾃﾞｰﾀ!$B:$J,6,0))))","v":""},{"$f":"IF($E68=\"\",\"\",IF(ISERROR(VLOOKUP($E68,氏名ﾃﾞｰﾀ!$B:$J,9,0)),IF(ISERROR(VLOOKUP($E68,新規登録!$B:$I,9,0)),\"未登録\",VLOOKUP($E68,新規登録!$B:$I,9,0)),(VLOOKUP($E68,氏名ﾃﾞｰﾀ!$B:$J,9,0))))","v":""},null,null,null,null,null,null,null,null,null,null,null,null,null,null,null,null,null,null,null,null,2,{"$f":"IF(N68=\"\",\"\",VLOOKUP(N68,ﾃﾞｰﾀ!A:D,4,0))","v":""},"秒","秒",null,null,null,{"$f":"IF(AH68=1,IF(Z68=\"\",1000,VLOOKUP(Z68,ﾃﾞｰﾀ!F$3:G$62,2,FALSE)),1000)","v":1000},"","","","","",{"$f":"IF(AH68=1,IF(AD68=\"\",1000,VLOOKUP(AD68,ﾃﾞｰﾀ!F$3:H$62,3,FALSE)),1000)","v":1000},"","","","","",{"$f":"IF(AH68=2,IF(Z68=\"\",1000,VLOOKUP(Z68,ﾃﾞｰﾀ!F$3:I$62,4,FALSE)),1000)","v":1000},"","","","","",{"$f":"IF(AH68=2,IF(AD68=\"\",1000,VLOOKUP(AD68,ﾃﾞｰﾀ!F$3:J$62,5,FALSE)),1000)","v":1000},"","","","",""]
["","",{"$f":"IF(E69=\"\",\"\",IF(AH69=1,COUNTIF(AH$16:AH69,1)*10+2001-10,COUNTIF(AH$16:AH69,2)*10+6001-10))","v":""},54,null,{"$f":"IF($E69=\"\",\"\",IF(ISERROR(VLOOKUP($E69,氏名ﾃﾞｰﾀ!$B:$J,2,0)),IF(ISERROR(VLOOKUP($E69,新規登録!$B:$I,2,0)),\"未登録\",VLOOKUP($E69,新規登録!$B:$I,2,0)),(VLOOKUP($E69,氏名ﾃﾞｰﾀ!$B:$J,2,0))))","v":""},{"$f":"IF($E69=\"\",\"\",IF(ISERROR(VLOOKUP($E69,氏名ﾃﾞｰﾀ!$B:$J,3,0)),IF(ISERROR(VLOOKUP($E69,新規登録!$B:$I,3,0)),\"未登録\",VLOOKUP($E69,新規登録!$B:$I,3,0)),(VLOOKUP($E69,氏名ﾃﾞｰﾀ!$B:$J,3,0))))","v":""},{"$f":"IF($E69=\"\",\"\",IF(ISERROR(VLOOKUP($E69,氏名ﾃﾞｰﾀ!$B:$J,4,0)),IF(ISERROR(VLOOKUP($E69,新規登録!$B:$I,4,0)),\"未登録\",VLOOKUP($E69,新規登録!$B:$I,4,0)),(VLOOKUP($E69,氏名ﾃﾞｰﾀ!$B:$J,4,0))))","v":""},{"$f":"IF($E69=\"\",\"\",IF(ISERROR(VLOOKUP($E69,氏名ﾃﾞｰﾀ!$B:$J,5,0)),IF(ISERROR(VLOOKUP($E69,新規登録!$B:$I,5,0)),\"未登録\",VLOOKUP($E69,新規登録!$B:$I,5,0)),(VLOOKUP($E69,氏名ﾃﾞｰﾀ!$B:$J,5,0))))","v":""},{"$f":"IF($E69=\"\",\"\",IF(ISERROR(VLOOKUP($E69,氏名ﾃﾞｰﾀ!$B:$J,8,0)),IF(ISERROR(VLOOKUP($E69,新規登録!$B:$I,6,0)),\"未登録\",VLOOKUP($E69,新規登録!$B:$I,6,0)),(VLOOKUP($E69,氏名ﾃﾞｰﾀ!$B:$J,8,0))))","v":""},{"$f":"IF($E69=\"\",\"\",IF(ISERROR(VLOOKUP($E69,氏名ﾃﾞｰﾀ!$B:$J,7,0)),IF(ISERROR(VLOOKUP($E69,新規登録!$B:$I,7,0)),\"未登録\",VLOOKUP($E69,新規登録!$B:$I,7,0)),$G$3))","v":""},{"$f":"IF($E69=\"\",\"\",IF(ISERROR(VLOOKUP($E69,氏名ﾃﾞｰﾀ!$B:$J,6,0)),IF(ISERROR(VLOOKUP($E69,新規登録!$B:$I,8,0)),\"ﾅｼ\",VLOOKUP($E69,新規登録!$B:$I,8,0)),(VLOOKUP($E69,氏名ﾃﾞｰﾀ!$B:$J,6,0))))","v":""},{"$f":"IF($E69=\"\",\"\",IF(ISERROR(VLOOKUP($E69,氏名ﾃﾞｰﾀ!$B:$J,9,0)),IF(ISERROR(VLOOKUP($E69,新規登録!$B:$I,9,0)),\"未登録\",VLOOKUP($E69,新規登録!$B:$I,9,0)),(VLOOKUP($E69,氏名ﾃﾞｰﾀ!$B:$J,9,0))))","v":""},null,null,null,null,null,null,null,null,null,null,null,null,null,null,null,null,null,null,null,null,2,{"$f":"IF(N69=\"\",\"\",VLOOKUP(N69,ﾃﾞｰﾀ!A:D,4,0))","v":""},"秒","秒",null,null,null,{"$f":"IF(AH69=1,IF(Z69=\"\",1000,VLOOKUP(Z69,ﾃﾞｰﾀ!F$3:G$62,2,FALSE)),1000)","v":1000},"","","","","",{"$f":"IF(AH69=1,IF(AD69=\"\",1000,VLOOKUP(AD69,ﾃﾞｰﾀ!F$3:H$62,3,FALSE)),1000)","v":1000},"","","","","",{"$f":"IF(AH69=2,IF(Z69=\"\",1000,VLOOKUP(Z69,ﾃﾞｰﾀ!F$3:I$62,4,FALSE)),1000)","v":1000},"","","","","",{"$f":"IF(AH69=2,IF(AD69=\"\",1000,VLOOKUP(AD69,ﾃﾞｰﾀ!F$3:J$62,5,FALSE)),1000)","v":1000},"","","","",""]
["","",{"$f":"IF(E70=\"\",\"\",IF(AH70=1,COUNTIF(AH$16:AH70,1)*10+2001-10,COUNTIF(AH$16:AH70,2)*10+6001-10))","v":""},55,null,{"$f":"IF($E70=\"\",\"\",IF(ISERROR(VLOOKUP($E70,氏名ﾃﾞｰﾀ!$B:$J,2,0)),IF(ISERROR(VLOOKUP($E70,新規登録!$B:$I,2,0)),\"未登録\",VLOOKUP($E70,新規登録!$B:$I,2,0)),(VLOOKUP($E70,氏名ﾃﾞｰﾀ!$B:$J,2,0))))","v":""},{"$f":"IF($E70=\"\",\"\",IF(ISERROR(VLOOKUP($E70,氏名ﾃﾞｰﾀ!$B:$J,3,0)),IF(ISERROR(VLOOKUP($E70,新規登録!$B:$I,3,0)),\"未登録\",VLOOKUP($E70,新規登録!$B:$I,3,0)),(VLOOKUP($E70,氏名ﾃﾞｰﾀ!$B:$J,3,0))))","v":""},{"$f":"IF($E70=\"\",\"\",IF(ISERROR(VLOOKUP($E70,氏名ﾃﾞｰﾀ!$B:$J,4,0)),IF(ISERROR(VLOOKUP($E70,新規登録!$B:$I,4,0)),\"未登録\",VLOOKUP($E70,新規登録!$B:$I,4,0)),(VLOOKUP($E70,氏名ﾃﾞｰﾀ!$B:$J,4,0))))","v":""},{"$f":"IF($E70=\"\",\"\",IF(ISERROR(VLOOKUP($E70,氏名ﾃﾞｰﾀ!$B:$J,5,0)),IF(ISERROR(VLOOKUP($E70,新規登録!$B:$I,5,0)),\"未登録\",VLOOKUP($E70,新規登録!$B:$I,5,0)),(VLOOKUP($E70,氏名ﾃﾞｰﾀ!$B:$J,5,0))))","v":""},{"$f":"IF($E70=\"\",\"\",IF(ISERROR(VLOOKUP($E70,氏名ﾃﾞｰﾀ!$B:$J,8,0)),IF(ISERROR(VLOOKUP($E70,新規登録!$B:$I,6,0)),\"未登録\",VLOOKUP($E70,新規登録!$B:$I,6,0)),(VLOOKUP($E70,氏名ﾃﾞｰﾀ!$B:$J,8,0))))","v":""},{"$f":"IF($E70=\"\",\"\",IF(ISERROR(VLOOKUP($E70,氏名ﾃﾞｰﾀ!$B:$J,7,0)),IF(ISERROR(VLOOKUP($E70,新規登録!$B:$I,7,0)),\"未登録\",VLOOKUP($E70,新規登録!$B:$I,7,0)),$G$3))","v":""},{"$f":"IF($E70=\"\",\"\",IF(ISERROR(VLOOKUP($E70,氏名ﾃﾞｰﾀ!$B:$J,6,0)),IF(ISERROR(VLOOKUP($E70,新規登録!$B:$I,8,0)),\"ﾅｼ\",VLOOKUP($E70,新規登録!$B:$I,8,0)),(VLOOKUP($E70,氏名ﾃﾞｰﾀ!$B:$J,6,0))))","v":""},{"$f":"IF($E70=\"\",\"\",IF(ISERROR(VLOOKUP($E70,氏名ﾃﾞｰﾀ!$B:$J,9,0)),IF(ISERROR(VLOOKUP($E70,新規登録!$B:$I,9,0)),\"未登録\",VLOOKUP($E70,新規登録!$B:$I,9,0)),(VLOOKUP($E70,氏名ﾃﾞｰﾀ!$B:$J,9,0))))","v":""},null,null,null,null,null,null,null,null,null,null,null,null,null,null,null,null,null,null,null,null,2,{"$f":"IF(N70=\"\",\"\",VLOOKUP(N70,ﾃﾞｰﾀ!A:D,4,0))","v":""},"秒","秒",null,null,null,{"$f":"IF(AH70=1,IF(Z70=\"\",1000,VLOOKUP(Z70,ﾃﾞｰﾀ!F$3:G$62,2,FALSE)),1000)","v":1000},{"$f":"IF(AR70=\"\",\"\",LEFT(AR70,3))","v":""},{"$f":"IF(AR70=\"\",\"\",LEFT(AR70,3))","v":""},{"$f":"IF(ISERROR(VLOOKUP(AO70,$A$16:$AH$215,5,0)),\"\",VLOOKUP(AO70,$A$16:$AH$215,5,0))","v":""},"",{"$f":"IF(AR70=\"\",\"\",VLOOKUP(AR70,$E$16:$AK$215,32,0))","v":""},{"$f":"IF(AH70=1,IF(AD70=\"\",1000,VLOOKUP(AD70,ﾃﾞｰﾀ!F$3:H$62,3,FALSE)),1000)","v":1000},{"$f":"IF(AX70=\"\",\"\",LEFT(AX70,3))","v":""},{"$f":"IF(AX70=\"\",\"\",LEFT(AX70,3))","v":""},{"$f":"IF(ISERROR(VLOOKUP(AU70,$B$16:$AH$215,4,0)),\"\",VLOOKUP(AU70,$B$16:$AH$21545,4,0))","v":""},{"$f":"IF(AX70=\"\",\"\",VLOOKUP(AX70,$E$16:$AG$215,26,0))","v":""},{"$f":"IF(AX70=\"\",\"\",VLOOKUP(AX70,$E$16:$AK$215,33,0))","v":""},{"$f":"IF(AH70=2,IF(Z70=\"\",1000,VLOOKUP(Z70,ﾃﾞｰﾀ!F$3:I$62,4,FALSE)),1000)","v":1000},{"$f":"IF(BD70=\"\",\"\",LEFT(BD70,3))","v":""},{"$f":"IF(BD70=\"\",\"\",LEFT(BD70,3))","v":""},{"$f":"IF(ISERROR(VLOOKUP(BA70,$A$16:$AH$215,5,0)),\"\",VLOOKUP(BA70,$A$16:$AH$215,5,0))","v":""},{"$f":"IF(BD70=\"\",\"\",VLOOKUP(BD70,$E$16:$AG$215,22,0))","v":""},{"$f":"IF(BD70=\"\",\"\",VLOOKUP(BD70,$E$16:$AK$215,32,0))","v":""},{"$f":"IF(AH70=2,IF(AD70=\"\",1000,VLOOKUP(AD70,ﾃﾞｰﾀ!F$3:J$62,5,FALSE)),1000)","v":1000},{"$f":"IF(BJ70=\"\",\"\",LEFT(BJ70,3))","v":""},{"$f":"IF(BJ70=\"\",\"\",LEFT(BJ70,3))","v":""},{"$f":"IF(ISERROR(VLOOKUP(BG70,$B$16:$AH$215,4,0)),\"\",VLOOKUP(BG70,$B$16:$AH$21545,4,0))","v":""},{"$f":"IF(BJ70=\"\",\"\",VLOOKUP(BJ70,$E$16:$AG$215,26,0))","v":""},{"$f":"IF(BJ70=\"\",\"\",VLOOKUP(BJ70,$E$16:$AK$215,33,0))","v":""}]
["","",{"$f":"IF(E71=\"\",\"\",IF(AH71=1,COUNTIF(AH$16:AH71,1)*10+2001-10,COUNTIF(AH$16:AH71,2)*10+6001-10))","v":""},56,null,{"$f":"IF($E71=\"\",\"\",IF(ISERROR(VLOOKUP($E71,氏名ﾃﾞｰﾀ!$B:$J,2,0)),IF(ISERROR(VLOOKUP($E71,新規登録!$B:$I,2,0)),\"未登録\",VLOOKUP($E71,新規登録!$B:$I,2,0)),(VLOOKUP($E71,氏名ﾃﾞｰﾀ!$B:$J,2,0))))","v":""},{"$f":"IF($E71=\"\",\"\",IF(ISERROR(VLOOKUP($E71,氏名ﾃﾞｰﾀ!$B:$J,3,0)),IF(ISERROR(VLOOKUP($E71,新規登録!$B:$I,3,0)),\"未登録\",VLOOKUP($E71,新規登録!$B:$I,3,0)),(VLOOKUP($E71,氏名ﾃﾞｰﾀ!$B:$J,3,0))))","v":""},{"$f":"IF($E71=\"\",\"\",IF(ISERROR(VLOOKUP($E71,氏名ﾃﾞｰﾀ!$B:$J,4,0)),IF(ISERROR(VLOOKUP($E71,新規登録!$B:$I,4,0)),\"未登録\",VLOOKUP($E71,新規登録!$B:$I,4,0)),(VLOOKUP($E71,氏名ﾃﾞｰﾀ!$B:$J,4,0))))","v":""},{"$f":"IF($E71=\"\",\"\",IF(ISERROR(VLOOKUP($E71,氏名ﾃﾞｰﾀ!$B:$J,5,0)),IF(ISERROR(VLOOKUP($E71,新規登録!$B:$I,5,0)),\"未登録\",VLOOKUP($E71,新規登録!$B:$I,5,0)),(VLOOKUP($E71,氏名ﾃﾞｰﾀ!$B:$J,5,0))))","v":""},{"$f":"IF($E71=\"\",\"\",IF(ISERROR(VLOOKUP($E71,氏名ﾃﾞｰﾀ!$B:$J,8,0)),IF(ISERROR(VLOOKUP($E71,新規登録!$B:$I,6,0)),\"未登録\",VLOOKUP($E71,新規登録!$B:$I,6,0)),(VLOOKUP($E71,氏名ﾃﾞｰﾀ!$B:$J,8,0))))","v":""},{"$f":"IF($E71=\"\",\"\",IF(ISERROR(VLOOKUP($E71,氏名ﾃﾞｰﾀ!$B:$J,7,0)),IF(ISERROR(VLOOKUP($E71,新規登録!$B:$I,7,0)),\"未登録\",VLOOKUP($E71,新規登録!$B:$I,7,0)),$G$3))","v":""},{"$f":"IF($E71=\"\",\"\",IF(ISERROR(VLOOKUP($E71,氏名ﾃﾞｰﾀ!$B:$J,6,0)),IF(ISERROR(VLOOKUP($E71,新規登録!$B:$I,8,0)),\"ﾅｼ\",VLOOKUP($E71,新規登録!$B:$I,8,0)),(VLOOKUP($E71,氏名ﾃﾞｰﾀ!$B:$J,6,0))))","v":""},{"$f":"IF($E71=\"\",\"\",IF(ISERROR(VLOOKUP($E71,氏名ﾃﾞｰﾀ!$B:$J,9,0)),IF(ISERROR(VLOOKUP($E71,新規登録!$B:$I,9,0)),\"未登録\",VLOOKUP($E71,新規登録!$B:$I,9,0)),(VLOOKUP($E71,氏名ﾃﾞｰﾀ!$B:$J,9,0))))","v":""},null,null,null,null,null,null,null,null,null,null,null,null,null,null,null,null,null,null,null,null,2,{"$f":"IF(N71=\"\",\"\",VLOOKUP(N71,ﾃﾞｰﾀ!A:D,4,0))","v":""},"秒","秒",null,null,null,{"$f":"IF(AH71=1,IF(Z71=\"\",1000,VLOOKUP(Z71,ﾃﾞｰﾀ!F$3:G$62,2,FALSE)),1000)","v":1000},{"$f":"IF(AR71=\"\",\"\",LEFT(AR71,3))","v":""},{"$f":"IF(AR71=\"\",\"\",LEFT(AR71,3))","v":""},"","",{"$f":"IF(AR71=\"\",\"\",VLOOKUP(AR71,$E$16:$AK$215,32,0))","v":""},{"$f":"IF(AH71=1,IF(AD71=\"\",1000,VLOOKUP(AD71,ﾃﾞｰﾀ!F$3:H$62,3,FALSE)),1000)","v":1000},{"$f":"IF(AX71=\"\",\"\",LEFT(AX71,3))","v":""},{"$f":"IF(AX71=\"\",\"\",LEFT(AX71,3))","v":""},"","",{"$f":"IF(AX71=\"\",\"\",VLOOKUP(AX71,$E$16:$AK$215,33,0))","v":""},{"$f":"IF(AH71=2,IF(Z71=\"\",1000,VLOOKUP(Z71,ﾃﾞｰﾀ!F$3:I$62,4,FALSE)),1000)","v":1000},{"$f":"IF(BD71=\"\",\"\",LEFT(BD71,3))","v":""},{"$f":"IF(BD71=\"\",\"\",LEFT(BD71,3))","v":""},"","",{"$f":"IF(BD71=\"\",\"\",VLOOKUP(BD71,$E$16:$AK$215,32,0))","v":""},{"$f":"IF(AH71=2,IF(AD71=\"\",1000,VLOOKUP(AD71,ﾃﾞｰﾀ!F$3:J$62,5,FALSE)),1000)","v":1000},{"$f":"IF(BJ71=\"\",\"\",LEFT(BJ71,3))","v":""},{"$f":"IF(BJ71=\"\",\"\",LEFT(BJ71,3))","v":""},"","",{"$f":"IF(BJ71=\"\",\"\",VLOOKUP(BJ71,$E$16:$AK$215,33,0))","v":""}]
["","",{"$f":"IF(E72=\"\",\"\",IF(AH72=1,COUNTIF(AH$16:AH72,1)*10+2001-10,COUNTIF(AH$16:AH72,2)*10+6001-10))","v":""},57,null,{"$f":"IF($E72=\"\",\"\",IF(ISERROR(VLOOKUP($E72,氏名ﾃﾞｰﾀ!$B:$J,2,0)),IF(ISERROR(VLOOKUP($E72,新規登録!$B:$I,2,0)),\"未登録\",VLOOKUP($E72,新規登録!$B:$I,2,0)),(VLOOKUP($E72,氏名ﾃﾞｰﾀ!$B:$J,2,0))))","v":""},{"$f":"IF($E72=\"\",\"\",IF(ISERROR(VLOOKUP($E72,氏名ﾃﾞｰﾀ!$B:$J,3,0)),IF(ISERROR(VLOOKUP($E72,新規登録!$B:$I,3,0)),\"未登録\",VLOOKUP($E72,新規登録!$B:$I,3,0)),(VLOOKUP($E72,氏名ﾃﾞｰﾀ!$B:$J,3,0))))","v":""},{"$f":"IF($E72=\"\",\"\",IF(ISERROR(VLOOKUP($E72,氏名ﾃﾞｰﾀ!$B:$J,4,0)),IF(ISERROR(VLOOKUP($E72,新規登録!$B:$I,4,0)),\"未登録\",VLOOKUP($E72,新規登録!$B:$I,4,0)),(VLOOKUP($E72,氏名ﾃﾞｰﾀ!$B:$J,4,0))))","v":""},{"$f":"IF($E72=\"\",\"\",IF(ISERROR(VLOOKUP($E72,氏名ﾃﾞｰﾀ!$B:$J,5,0)),IF(ISERROR(VLOOKUP($E72,新規登録!$B:$I,5,0)),\"未登録\",VLOOKUP($E72,新規登録!$B:$I,5,0)),(VLOOKUP($E72,氏名ﾃﾞｰﾀ!$B:$J,5,0))))","v":""},{"$f":"IF($E72=\"\",\"\",IF(ISERROR(VLOOKUP($E72,氏名ﾃﾞｰﾀ!$B:$J,8,0)),IF(ISERROR(VLOOKUP($E72,新規登録!$B:$I,6,0)),\"未登録\",VLOOKUP($E72,新規登録!$B:$I,6,0)),(VLOOKUP($E72,氏名ﾃﾞｰﾀ!$B:$J,8,0))))","v":""},{"$f":"IF($E72=\"\",\"\",IF(ISERROR(VLOOKUP($E72,氏名ﾃﾞｰﾀ!$B:$J,7,0)),IF(ISERROR(VLOOKUP($E72,新規登録!$B:$I,7,0)),\"未登録\",VLOOKUP($E72,新規登録!$B:$I,7,0)),$G$3))","v":""},{"$f":"IF($E72=\"\",\"\",IF(ISERROR(VLOOKUP($E72,氏名ﾃﾞｰﾀ!$B:$J,6,0)),IF(ISERROR(VLOOKUP($E72,新規登録!$B:$I,8,0)),\"ﾅｼ\",VLOOKUP($E72,新規登録!$B:$I,8,0)),(VLOOKUP($E72,氏名ﾃﾞｰﾀ!$B:$J,6,0))))","v":""},{"$f":"IF($E72=\"\",\"\",IF(ISERROR(VLOOKUP($E72,氏名ﾃﾞｰﾀ!$B:$J,9,0)),IF(ISERROR(VLOOKUP($E72,新規登録!$B:$I,9,0)),\"未登録\",VLOOKUP($E72,新規登録!$B:$I,9,0)),(VLOOKUP($E72,氏名ﾃﾞｰﾀ!$B:$J,9,0))))","v":""},null,null,null,null,null,null,null,null,null,null,null,null,null,null,null,null,null,null,null,null,2,{"$f":"IF(N72=\"\",\"\",VLOOKUP(N72,ﾃﾞｰﾀ!A:D,4,0))","v":""},"秒","秒",null,null,null,{"$f":"IF(AH72=1,IF(Z72=\"\",1000,VLOOKUP(Z72,ﾃﾞｰﾀ!F$3:G$62,2,FALSE)),1000)","v":1000},"","","","","",{"$f":"IF(AH72=1,IF(AD72=\"\",1000,VLOOKUP(AD72,ﾃﾞｰﾀ!F$3:H$62,3,FALSE)),1000)","v":1000},"","","","","",{"$f":"IF(AH72=2,IF(Z72=\"\",1000,VLOOKUP(Z72,ﾃﾞｰﾀ!F$3:I$62,4,FALSE)),1000)","v":1000},"","","","","",{"$f":"IF(AH72=2,IF(AD72=\"\",1000,VLOOKUP(AD72,ﾃﾞｰﾀ!F$3:J$62,5,FALSE)),1000)","v":1000},"","","","",""]
["","",{"$f":"IF(E73=\"\",\"\",IF(AH73=1,COUNTIF(AH$16:AH73,1)*10+2001-10,COUNTIF(AH$16:AH73,2)*10+6001-10))","v":""},58,null,{"$f":"IF($E73=\"\",\"\",IF(ISERROR(VLOOKUP($E73,氏名ﾃﾞｰﾀ!$B:$J,2,0)),IF(ISERROR(VLOOKUP($E73,新規登録!$B:$I,2,0)),\"未登録\",VLOOKUP($E73,新規登録!$B:$I,2,0)),(VLOOKUP($E73,氏名ﾃﾞｰﾀ!$B:$J,2,0))))","v":""},{"$f":"IF($E73=\"\",\"\",IF(ISERROR(VLOOKUP($E73,氏名ﾃﾞｰﾀ!$B:$J,3,0)),IF(ISERROR(VLOOKUP($E73,新規登録!$B:$I,3,0)),\"未登録\",VLOOKUP($E73,新規登録!$B:$I,3,0)),(VLOOKUP($E73,氏名ﾃﾞｰﾀ!$B:$J,3,0))))","v":""},{"$f":"IF($E73=\"\",\"\",IF(ISERROR(VLOOKUP($E73,氏名ﾃﾞｰﾀ!$B:$J,4,0)),IF(ISERROR(VLOOKUP($E73,新規登録!$B:$I,4,0)),\"未登録\",VLOOKUP($E73,新規登録!$B:$I,4,0)),(VLOOKUP($E73,氏名ﾃﾞｰﾀ!$B:$J,4,0))))","v":""},{"$f":"IF($E73=\"\",\"\",IF(ISERROR(VLOOKUP($E73,氏名ﾃﾞｰﾀ!$B:$J,5,0)),IF(ISERROR(VLOOKUP($E73,新規登録!$B:$I,5,0)),\"未登録\",VLOOKUP($E73,新規登録!$B:$I,5,0)),(VLOOKUP($E73,氏名ﾃﾞｰﾀ!$B:$J,5,0))))","v":""},{"$f":"IF($E73=\"\",\"\",IF(ISERROR(VLOOKUP($E73,氏名ﾃﾞｰﾀ!$B:$J,8,0)),IF(ISERROR(VLOOKUP($E73,新規登録!$B:$I,6,0)),\"未登録\",VLOOKUP($E73,新規登録!$B:$I,6,0)),(VLOOKUP($E73,氏名ﾃﾞｰﾀ!$B:$J,8,0))))","v":""},{"$f":"IF($E73=\"\",\"\",IF(ISERROR(VLOOKUP($E73,氏名ﾃﾞｰﾀ!$B:$J,7,0)),IF(ISERROR(VLOOKUP($E73,新規登録!$B:$I,7,0)),\"未登録\",VLOOKUP($E73,新規登録!$B:$I,7,0)),$G$3))","v":""},{"$f":"IF($E73=\"\",\"\",IF(ISERROR(VLOOKUP($E73,氏名ﾃﾞｰﾀ!$B:$J,6,0)),IF(ISERROR(VLOOKUP($E73,新規登録!$B:$I,8,0)),\"ﾅｼ\",VLOOKUP($E73,新規登録!$B:$I,8,0)),(VLOOKUP($E73,氏名ﾃﾞｰﾀ!$B:$J,6,0))))","v":""},{"$f":"IF($E73=\"\",\"\",IF(ISERROR(VLOOKUP($E73,氏名ﾃﾞｰﾀ!$B:$J,9,0)),IF(ISERROR(VLOOKUP($E73,新規登録!$B:$I,9,0)),\"未登録\",VLOOKUP($E73,新規登録!$B:$I,9,0)),(VLOOKUP($E73,氏名ﾃﾞｰﾀ!$B:$J,9,0))))","v":""},null,null,null,null,null,null,null,null,null,null,null,null,null,null,null,null,null,null,null,null,2,{"$f":"IF(N73=\"\",\"\",VLOOKUP(N73,ﾃﾞｰﾀ!A:D,4,0))","v":""},"秒","秒",null,null,null,{"$f":"IF(AH73=1,IF(Z73=\"\",1000,VLOOKUP(Z73,ﾃﾞｰﾀ!F$3:G$62,2,FALSE)),1000)","v":1000},"","","","","",{"$f":"IF(AH73=1,IF(AD73=\"\",1000,VLOOKUP(AD73,ﾃﾞｰﾀ!F$3:H$62,3,FALSE)),1000)","v":1000},"","","","","",{"$f":"IF(AH73=2,IF(Z73=\"\",1000,VLOOKUP(Z73,ﾃﾞｰﾀ!F$3:I$62,4,FALSE)),1000)","v":1000},"","","","","",{"$f":"IF(AH73=2,IF(AD73=\"\",1000,VLOOKUP(AD73,ﾃﾞｰﾀ!F$3:J$62,5,FALSE)),1000)","v":1000},"","","","",""]
["","",{"$f":"IF(E74=\"\",\"\",IF(AH74=1,COUNTIF(AH$16:AH74,1)*10+2001-10,COUNTIF(AH$16:AH74,2)*10+6001-10))","v":""},59,null,{"$f":"IF($E74=\"\",\"\",IF(ISERROR(VLOOKUP($E74,氏名ﾃﾞｰﾀ!$B:$J,2,0)),IF(ISERROR(VLOOKUP($E74,新規登録!$B:$I,2,0)),\"未登録\",VLOOKUP($E74,新規登録!$B:$I,2,0)),(VLOOKUP($E74,氏名ﾃﾞｰﾀ!$B:$J,2,0))))","v":""},{"$f":"IF($E74=\"\",\"\",IF(ISERROR(VLOOKUP($E74,氏名ﾃﾞｰﾀ!$B:$J,3,0)),IF(ISERROR(VLOOKUP($E74,新規登録!$B:$I,3,0)),\"未登録\",VLOOKUP($E74,新規登録!$B:$I,3,0)),(VLOOKUP($E74,氏名ﾃﾞｰﾀ!$B:$J,3,0))))","v":""},{"$f":"IF($E74=\"\",\"\",IF(ISERROR(VLOOKUP($E74,氏名ﾃﾞｰﾀ!$B:$J,4,0)),IF(ISERROR(VLOOKUP($E74,新規登録!$B:$I,4,0)),\"未登録\",VLOOKUP($E74,新規登録!$B:$I,4,0)),(VLOOKUP($E74,氏名ﾃﾞｰﾀ!$B:$J,4,0))))","v":""},{"$f":"IF($E74=\"\",\"\",IF(ISERROR(VLOOKUP($E74,氏名ﾃﾞｰﾀ!$B:$J,5,0)),IF(ISERROR(VLOOKUP($E74,新規登録!$B:$I,5,0)),\"未登録\",VLOOKUP($E74,新規登録!$B:$I,5,0)),(VLOOKUP($E74,氏名ﾃﾞｰﾀ!$B:$J,5,0))))","v":""},{"$f":"IF($E74=\"\",\"\",IF(ISERROR(VLOOKUP($E74,氏名ﾃﾞｰﾀ!$B:$J,8,0)),IF(ISERROR(VLOOKUP($E74,新規登録!$B:$I,6,0)),\"未登録\",VLOOKUP($E74,新規登録!$B:$I,6,0)),(VLOOKUP($E74,氏名ﾃﾞｰﾀ!$B:$J,8,0))))","v":""},{"$f":"IF($E74=\"\",\"\",IF(ISERROR(VLOOKUP($E74,氏名ﾃﾞｰﾀ!$B:$J,7,0)),IF(ISERROR(VLOOKUP($E74,新規登録!$B:$I,7,0)),\"未登録\",VLOOKUP($E74,新規登録!$B:$I,7,0)),$G$3))","v":""},{"$f":"IF($E74=\"\",\"\",IF(ISERROR(VLOOKUP($E74,氏名ﾃﾞｰﾀ!$B:$J,6,0)),IF(ISERROR(VLOOKUP($E74,新規登録!$B:$I,8,0)),\"ﾅｼ\",VLOOKUP($E74,新規登録!$B:$I,8,0)),(VLOOKUP($E74,氏名ﾃﾞｰﾀ!$B:$J,6,0))))","v":""},{"$f":"IF($E74=\"\",\"\",IF(ISERROR(VLOOKUP($E74,氏名ﾃﾞｰﾀ!$B:$J,9,0)),IF(ISERROR(VLOOKUP($E74,新規登録!$B:$I,9,0)),\"未登録\",VLOOKUP($E74,新規登録!$B:$I,9,0)),(VLOOKUP($E74,氏名ﾃﾞｰﾀ!$B:$J,9,0))))","v":""},null,null,null,null,null,null,null,null,null,null,null,null,null,null,null,null,null,null,null,null,2,{"$f":"IF(N74=\"\",\"\",VLOOKUP(N74,ﾃﾞｰﾀ!A:D,4,0))","v":""},"秒","秒",null,null,null,{"$f":"IF(AH74=1,IF(Z74=\"\",1000,VLOOKUP(Z74,ﾃﾞｰﾀ!F$3:G$62,2,FALSE)),1000)","v":1000},"","","","","",{"$f":"IF(AH74=1,IF(AD74=\"\",1000,VLOOKUP(AD74,ﾃﾞｰﾀ!F$3:H$62,3,FALSE)),1000)","v":1000},"","","","","",{"$f":"IF(AH74=2,IF(Z74=\"\",1000,VLOOKUP(Z74,ﾃﾞｰﾀ!F$3:I$62,4,FALSE)),1000)","v":1000},"","","","","",{"$f":"IF(AH74=2,IF(AD74=\"\",1000,VLOOKUP(AD74,ﾃﾞｰﾀ!F$3:J$62,5,FALSE)),1000)","v":1000},"","","","",""]
["","",{"$f":"IF(E75=\"\",\"\",IF(AH75=1,COUNTIF(AH$16:AH75,1)*10+2001-10,COUNTIF(AH$16:AH75,2)*10+6001-10))","v":""},60,null,{"$f":"IF($E75=\"\",\"\",IF(ISERROR(VLOOKUP($E75,氏名ﾃﾞｰﾀ!$B:$J,2,0)),IF(ISERROR(VLOOKUP($E75,新規登録!$B:$I,2,0)),\"未登録\",VLOOKUP($E75,新規登録!$B:$I,2,0)),(VLOOKUP($E75,氏名ﾃﾞｰﾀ!$B:$J,2,0))))","v":""},{"$f":"IF($E75=\"\",\"\",IF(ISERROR(VLOOKUP($E75,氏名ﾃﾞｰﾀ!$B:$J,3,0)),IF(ISERROR(VLOOKUP($E75,新規登録!$B:$I,3,0)),\"未登録\",VLOOKUP($E75,新規登録!$B:$I,3,0)),(VLOOKUP($E75,氏名ﾃﾞｰﾀ!$B:$J,3,0))))","v":""},{"$f":"IF($E75=\"\",\"\",IF(ISERROR(VLOOKUP($E75,氏名ﾃﾞｰﾀ!$B:$J,4,0)),IF(ISERROR(VLOOKUP($E75,新規登録!$B:$I,4,0)),\"未登録\",VLOOKUP($E75,新規登録!$B:$I,4,0)),(VLOOKUP($E75,氏名ﾃﾞｰﾀ!$B:$J,4,0))))","v":""},{"$f":"IF($E75=\"\",\"\",IF(ISERROR(VLOOKUP($E75,氏名ﾃﾞｰﾀ!$B:$J,5,0)),IF(ISERROR(VLOOKUP($E75,新規登録!$B:$I,5,0)),\"未登録\",VLOOKUP($E75,新規登録!$B:$I,5,0)),(VLOOKUP($E75,氏名ﾃﾞｰﾀ!$B:$J,5,0))))","v":""},{"$f":"IF($E75=\"\",\"\",IF(ISERROR(VLOOKUP($E75,氏名ﾃﾞｰﾀ!$B:$J,8,0)),IF(ISERROR(VLOOKUP($E75,新規登録!$B:$I,6,0)),\"未登録\",VLOOKUP($E75,新規登録!$B:$I,6,0)),(VLOOKUP($E75,氏名ﾃﾞｰﾀ!$B:$J,8,0))))","v":""},{"$f":"IF($E75=\"\",\"\",IF(ISERROR(VLOOKUP($E75,氏名ﾃﾞｰﾀ!$B:$J,7,0)),IF(ISERROR(VLOOKUP($E75,新規登録!$B:$I,7,0)),\"未登録\",VLOOKUP($E75,新規登録!$B:$I,7,0)),$G$3))","v":""},{"$f":"IF($E75=\"\",\"\",IF(ISERROR(VLOOKUP($E75,氏名ﾃﾞｰﾀ!$B:$J,6,0)),IF(ISERROR(VLOOKUP($E75,新規登録!$B:$I,8,0)),\"ﾅｼ\",VLOOKUP($E75,新規登録!$B:$I,8,0)),(VLOOKUP($E75,氏名ﾃﾞｰﾀ!$B:$J,6,0))))","v":""},{"$f":"IF($E75=\"\",\"\",IF(ISERROR(VLOOKUP($E75,氏名ﾃﾞｰﾀ!$B:$J,9,0)),IF(ISERROR(VLOOKUP($E75,新規登録!$B:$I,9,0)),\"未登録\",VLOOKUP($E75,新規登録!$B:$I,9,0)),(VLOOKUP($E75,氏名ﾃﾞｰﾀ!$B:$J,9,0))))","v":""},null,null,null,null,null,null,null,null,null,null,null,null,null,null,null,null,null,null,null,null,2,{"$f":"IF(N75=\"\",\"\",VLOOKUP(N75,ﾃﾞｰﾀ!A:D,4,0))","v":""},"秒","秒",null,null,null,{"$f":"IF(AH75=1,IF(Z75=\"\",1000,VLOOKUP(Z75,ﾃﾞｰﾀ!F$3:G$62,2,FALSE)),1000)","v":1000},"","","","","",{"$f":"IF(AH75=1,IF(AD75=\"\",1000,VLOOKUP(AD75,ﾃﾞｰﾀ!F$3:H$62,3,FALSE)),1000)","v":1000},"","","","","",{"$f":"IF(AH75=2,IF(Z75=\"\",1000,VLOOKUP(Z75,ﾃﾞｰﾀ!F$3:I$62,4,FALSE)),1000)","v":1000},"","","","","",{"$f":"IF(AH75=2,IF(AD75=\"\",1000,VLOOKUP(AD75,ﾃﾞｰﾀ!F$3:J$62,5,FALSE)),1000)","v":1000},"","","","",""]
["","",{"$f":"IF(E76=\"\",\"\",IF(AH76=1,COUNTIF(AH$16:AH76,1)*10+2001-10,COUNTIF(AH$16:AH76,2)*10+6001-10))","v":""},61,null,{"$f":"IF($E76=\"\",\"\",IF(ISERROR(VLOOKUP($E76,氏名ﾃﾞｰﾀ!$B:$J,2,0)),IF(ISERROR(VLOOKUP($E76,新規登録!$B:$I,2,0)),\"未登録\",VLOOKUP($E76,新規登録!$B:$I,2,0)),(VLOOKUP($E76,氏名ﾃﾞｰﾀ!$B:$J,2,0))))","v":""},{"$f":"IF($E76=\"\",\"\",IF(ISERROR(VLOOKUP($E76,氏名ﾃﾞｰﾀ!$B:$J,3,0)),IF(ISERROR(VLOOKUP($E76,新規登録!$B:$I,3,0)),\"未登録\",VLOOKUP($E76,新規登録!$B:$I,3,0)),(VLOOKUP($E76,氏名ﾃﾞｰﾀ!$B:$J,3,0))))","v":""},{"$f":"IF($E76=\"\",\"\",IF(ISERROR(VLOOKUP($E76,氏名ﾃﾞｰﾀ!$B:$J,4,0)),IF(ISERROR(VLOOKUP($E76,新規登録!$B:$I,4,0)),\"未登録\",VLOOKUP($E76,新規登録!$B:$I,4,0)),(VLOOKUP($E76,氏名ﾃﾞｰﾀ!$B:$J,4,0))))","v":""},{"$f":"IF($E76=\"\",\"\",IF(ISERROR(VLOOKUP($E76,氏名ﾃﾞｰﾀ!$B:$J,5,0)),IF(ISERROR(VLOOKUP($E76,新規登録!$B:$I,5,0)),\"未登録\",VLOOKUP($E76,新規登録!$B:$I,5,0)),(VLOOKUP($E76,氏名ﾃﾞｰﾀ!$B:$J,5,0))))","v":""},{"$f":"IF($E76=\"\",\"\",IF(ISERROR(VLOOKUP($E76,氏名ﾃﾞｰﾀ!$B:$J,8,0)),IF(ISERROR(VLOOKUP($E76,新規登録!$B:$I,6,0)),\"未登録\",VLOOKUP($E76,新規登録!$B:$I,6,0)),(VLOOKUP($E76,氏名ﾃﾞｰﾀ!$B:$J,8,0))))","v":""},{"$f":"IF($E76=\"\",\"\",IF(ISERROR(VLOOKUP($E76,氏名ﾃﾞｰﾀ!$B:$J,7,0)),IF(ISERROR(VLOOKUP($E76,新規登録!$B:$I,7,0)),\"未登録\",VLOOKUP($E76,新規登録!$B:$I,7,0)),$G$3))","v":""},{"$f":"IF($E76=\"\",\"\",IF(ISERROR(VLOOKUP($E76,氏名ﾃﾞｰﾀ!$B:$J,6,0)),IF(ISERROR(VLOOKUP($E76,新規登録!$B:$I,8,0)),\"ﾅｼ\",VLOOKUP($E76,新規登録!$B:$I,8,0)),(VLOOKUP($E76,氏名ﾃﾞｰﾀ!$B:$J,6,0))))","v":""},{"$f":"IF($E76=\"\",\"\",IF(ISERROR(VLOOKUP($E76,氏名ﾃﾞｰﾀ!$B:$J,9,0)),IF(ISERROR(VLOOKUP($E76,新規登録!$B:$I,9,0)),\"未登録\",VLOOKUP($E76,新規登録!$B:$I,9,0)),(VLOOKUP($E76,氏名ﾃﾞｰﾀ!$B:$J,9,0))))","v":""},null,null,null,null,null,null,null,null,null,null,null,null,null,null,null,null,null,null,null,null,2,{"$f":"IF(N76=\"\",\"\",VLOOKUP(N76,ﾃﾞｰﾀ!A:D,4,0))","v":""},"秒","秒"]
["","",{"$f":"IF(E77=\"\",\"\",IF(AH77=1,COUNTIF(AH$16:AH77,1)*10+2001-10,COUNTIF(AH$16:AH77,2)*10+6001-10))","v":""},62,null,{"$f":"IF($E77=\"\",\"\",IF(ISERROR(VLOOKUP($E77,氏名ﾃﾞｰﾀ!$B:$J,2,0)),IF(ISERROR(VLOOKUP($E77,新規登録!$B:$I,2,0)),\"未登録\",VLOOKUP($E77,新規登録!$B:$I,2,0)),(VLOOKUP($E77,氏名ﾃﾞｰﾀ!$B:$J,2,0))))","v":""},{"$f":"IF($E77=\"\",\"\",IF(ISERROR(VLOOKUP($E77,氏名ﾃﾞｰﾀ!$B:$J,3,0)),IF(ISERROR(VLOOKUP($E77,新規登録!$B:$I,3,0)),\"未登録\",VLOOKUP($E77,新規登録!$B:$I,3,0)),(VLOOKUP($E77,氏名ﾃﾞｰﾀ!$B:$J,3,0))))","v":""},{"$f":"IF($E77=\"\",\"\",IF(ISERROR(VLOOKUP($E77,氏名ﾃﾞｰﾀ!$B:$J,4,0)),IF(ISERROR(VLOOKUP($E77,新規登録!$B:$I,4,0)),\"未登録\",VLOOKUP($E77,新規登録!$B:$I,4,0)),(VLOOKUP($E77,氏名ﾃﾞｰﾀ!$B:$J,4,0))))","v":""},{"$f":"IF($E77=\"\",\"\",IF(ISERROR(VLOOKUP($E77,氏名ﾃﾞｰﾀ!$B:$J,5,0)),IF(ISERROR(VLOOKUP($E77,新規登録!$B:$I,5,0)),\"未登録\",VLOOKUP($E77,新規登録!$B:$I,5,0)),(VLOOKUP($E77,氏名ﾃﾞｰﾀ!$B:$J,5,0))))","v":""},{"$f":"IF($E77=\"\",\"\",IF(ISERROR(VLOOKUP($E77,氏名ﾃﾞｰﾀ!$B:$J,8,0)),IF(ISERROR(VLOOKUP($E77,新規登録!$B:$I,6,0)),\"未登録\",VLOOKUP($E77,新規登録!$B:$I,6,0)),(VLOOKUP($E77,氏名ﾃﾞｰﾀ!$B:$J,8,0))))","v":""},{"$f":"IF($E77=\"\",\"\",IF(ISERROR(VLOOKUP($E77,氏名ﾃﾞｰﾀ!$B:$J,7,0)),IF(ISERROR(VLOOKUP($E77,新規登録!$B:$I,7,0)),\"未登録\",VLOOKUP($E77,新規登録!$B:$I,7,0)),$G$3))","v":""},{"$f":"IF($E77=\"\",\"\",IF(ISERROR(VLOOKUP($E77,氏名ﾃﾞｰﾀ!$B:$J,6,0)),IF(ISERROR(VLOOKUP($E77,新規登録!$B:$I,8,0)),\"ﾅｼ\",VLOOKUP($E77,新規登録!$B:$I,8,0)),(VLOOKUP($E77,氏名ﾃﾞｰﾀ!$B:$J,6,0))))","v":""},{"$f":"IF($E77=\"\",\"\",IF(ISERROR(VLOOKUP($E77,氏名ﾃﾞｰﾀ!$B:$J,9,0)),IF(ISERROR(VLOOKUP($E77,新規登録!$B:$I,9,0)),\"未登録\",VLOOKUP($E77,新規登録!$B:$I,9,0)),(VLOOKUP($E77,氏名ﾃﾞｰﾀ!$B:$J,9,0))))","v":""},null,null,null,null,null,null,null,null,null,null,null,null,null,null,null,null,null,null,null,null,2,{"$f":"IF(N77=\"\",\"\",VLOOKUP(N77,ﾃﾞｰﾀ!A:D,4,0))","v":""},"秒","秒"]
["","",{"$f":"IF(E78=\"\",\"\",IF(AH78=1,COUNTIF(AH$16:AH78,1)*10+2001-10,COUNTIF(AH$16:AH78,2)*10+6001-10))","v":""},63,null,{"$f":"IF($E78=\"\",\"\",IF(ISERROR(VLOOKUP($E78,氏名ﾃﾞｰﾀ!$B:$J,2,0)),IF(ISERROR(VLOOKUP($E78,新規登録!$B:$I,2,0)),\"未登録\",VLOOKUP($E78,新規登録!$B:$I,2,0)),(VLOOKUP($E78,氏名ﾃﾞｰﾀ!$B:$J,2,0))))","v":""},{"$f":"IF($E78=\"\",\"\",IF(ISERROR(VLOOKUP($E78,氏名ﾃﾞｰﾀ!$B:$J,3,0)),IF(ISERROR(VLOOKUP($E78,新規登録!$B:$I,3,0)),\"未登録\",VLOOKUP($E78,新規登録!$B:$I,3,0)),(VLOOKUP($E78,氏名ﾃﾞｰﾀ!$B:$J,3,0))))","v":""},{"$f":"IF($E78=\"\",\"\",IF(ISERROR(VLOOKUP($E78,氏名ﾃﾞｰﾀ!$B:$J,4,0)),IF(ISERROR(VLOOKUP($E78,新規登録!$B:$I,4,0)),\"未登録\",VLOOKUP($E78,新規登録!$B:$I,4,0)),(VLOOKUP($E78,氏名ﾃﾞｰﾀ!$B:$J,4,0))))","v":""},{"$f":"IF($E78=\"\",\"\",IF(ISERROR(VLOOKUP($E78,氏名ﾃﾞｰﾀ!$B:$J,5,0)),IF(ISERROR(VLOOKUP($E78,新規登録!$B:$I,5,0)),\"未登録\",VLOOKUP($E78,新規登録!$B:$I,5,0)),(VLOOKUP($E78,氏名ﾃﾞｰﾀ!$B:$J,5,0))))","v":""},{"$f":"IF($E78=\"\",\"\",IF(ISERROR(VLOOKUP($E78,氏名ﾃﾞｰﾀ!$B:$J,8,0)),IF(ISERROR(VLOOKUP($E78,新規登録!$B:$I,6,0)),\"未登録\",VLOOKUP($E78,新規登録!$B:$I,6,0)),(VLOOKUP($E78,氏名ﾃﾞｰﾀ!$B:$J,8,0))))","v":""},{"$f":"IF($E78=\"\",\"\",IF(ISERROR(VLOOKUP($E78,氏名ﾃﾞｰﾀ!$B:$J,7,0)),IF(ISERROR(VLOOKUP($E78,新規登録!$B:$I,7,0)),\"未登録\",VLOOKUP($E78,新規登録!$B:$I,7,0)),$G$3))","v":""},{"$f":"IF($E78=\"\",\"\",IF(ISERROR(VLOOKUP($E78,氏名ﾃﾞｰﾀ!$B:$J,6,0)),IF(ISERROR(VLOOKUP($E78,新規登録!$B:$I,8,0)),\"ﾅｼ\",VLOOKUP($E78,新規登録!$B:$I,8,0)),(VLOOKUP($E78,氏名ﾃﾞｰﾀ!$B:$J,6,0))))","v":""},{"$f":"IF($E78=\"\",\"\",IF(ISERROR(VLOOKUP($E78,氏名ﾃﾞｰﾀ!$B:$J,9,0)),IF(ISERROR(VLOOKUP($E78,新規登録!$B:$I,9,0)),\"未登録\",VLOOKUP($E78,新規登録!$B:$I,9,0)),(VLOOKUP($E78,氏名ﾃﾞｰﾀ!$B:$J,9,0))))","v":""},null,null,null,null,null,null,null,null,null,null,null,null,null,null,null,null,null,null,null,null,2,{"$f":"IF(N78=\"\",\"\",VLOOKUP(N78,ﾃﾞｰﾀ!A:D,4,0))","v":""},"秒","秒"]
["","",{"$f":"IF(E79=\"\",\"\",IF(AH79=1,COUNTIF(AH$16:AH79,1)*10+2001-10,COUNTIF(AH$16:AH79,2)*10+6001-10))","v":""},64,null,{"$f":"IF($E79=\"\",\"\",IF(ISERROR(VLOOKUP($E79,氏名ﾃﾞｰﾀ!$B:$J,2,0)),IF(ISERROR(VLOOKUP($E79,新規登録!$B:$I,2,0)),\"未登録\",VLOOKUP($E79,新規登録!$B:$I,2,0)),(VLOOKUP($E79,氏名ﾃﾞｰﾀ!$B:$J,2,0))))","v":""},{"$f":"IF($E79=\"\",\"\",IF(ISERROR(VLOOKUP($E79,氏名ﾃﾞｰﾀ!$B:$J,3,0)),IF(ISERROR(VLOOKUP($E79,新規登録!$B:$I,3,0)),\"未登録\",VLOOKUP($E79,新規登録!$B:$I,3,0)),(VLOOKUP($E79,氏名ﾃﾞｰﾀ!$B:$J,3,0))))","v":""},{"$f":"IF($E79=\"\",\"\",IF(ISERROR(VLOOKUP($E79,氏名ﾃﾞｰﾀ!$B:$J,4,0)),IF(ISERROR(VLOOKUP($E79,新規登録!$B:$I,4,0)),\"未登録\",VLOOKUP($E79,新規登録!$B:$I,4,0)),(VLOOKUP($E79,氏名ﾃﾞｰﾀ!$B:$J,4,0))))","v":""},{"$f":"IF($E79=\"\",\"\",IF(ISERROR(VLOOKUP($E79,氏名ﾃﾞｰﾀ!$B:$J,5,0)),IF(ISERROR(VLOOKUP($E79,新規登録!$B:$I,5,0)),\"未登録\",VLOOKUP($E79,新規登録!$B:$I,5,0)),(VLOOKUP($E79,氏名ﾃﾞｰﾀ!$B:$J,5,0))))","v":""},{"$f":"IF($E79=\"\",\"\",IF(ISERROR(VLOOKUP($E79,氏名ﾃﾞｰﾀ!$B:$J,8,0)),IF(ISERROR(VLOOKUP($E79,新規登録!$B:$I,6,0)),\"未登録\",VLOOKUP($E79,新規登録!$B:$I,6,0)),(VLOOKUP($E79,氏名ﾃﾞｰﾀ!$B:$J,8,0))))","v":""},{"$f":"IF($E79=\"\",\"\",IF(ISERROR(VLOOKUP($E79,氏名ﾃﾞｰﾀ!$B:$J,7,0)),IF(ISERROR(VLOOKUP($E79,新規登録!$B:$I,7,0)),\"未登録\",VLOOKUP($E79,新規登録!$B:$I,7,0)),$G$3))","v":""},{"$f":"IF($E79=\"\",\"\",IF(ISERROR(VLOOKUP($E79,氏名ﾃﾞｰﾀ!$B:$J,6,0)),IF(ISERROR(VLOOKUP($E79,新規登録!$B:$I,8,0)),\"ﾅｼ\",VLOOKUP($E79,新規登録!$B:$I,8,0)),(VLOOKUP($E79,氏名ﾃﾞｰﾀ!$B:$J,6,0))))","v":""},{"$f":"IF($E79=\"\",\"\",IF(ISERROR(VLOOKUP($E79,氏名ﾃﾞｰﾀ!$B:$J,9,0)),IF(ISERROR(VLOOKUP($E79,新規登録!$B:$I,9,0)),\"未登録\",VLOOKUP($E79,新規登録!$B:$I,9,0)),(VLOOKUP($E79,氏名ﾃﾞｰﾀ!$B:$J,9,0))))","v":""},null,null,null,null,null,null,null,null,null,null,null,null,null,null,null,null,null,null,null,null,2,{"$f":"IF(N79=\"\",\"\",VLOOKUP(N79,ﾃﾞｰﾀ!A:D,4,0))","v":""},"秒","秒"]
[{"$f":"IF(Z80=\"\",\"\",IF(L80=\"男\",VLOOKUP(Z80,ﾘﾚｰｺｰﾄﾞ,2,0),VLOOKUP(Z80,ﾘﾚｰｺｰﾄﾞ,4,0)))","v":""},{"$f":"IF(AD80=\"\",\"\",IF(L80=\"男\",VLOOKUP(AD80,ﾘﾚｰｺｰﾄﾞ,3,0),VLOOKUP(AD80,ﾘﾚｰｺｰﾄﾞ,5,0)))","v":""},{"$f":"IF(E80=\"\",\"\",IF(AH80=1,COUNTIF(AH$16:AH80,1)*10+2001-10,COUNTIF(AH$16:AH80,2)*10+6001-10))","v":""},65,null,{"$f":"IF($E80=\"\",\"\",IF(ISERROR(VLOOKUP($E80,氏名ﾃﾞｰﾀ!$B:$J,2,0)),IF(ISERROR(VLOOKUP($E80,新規登録!$B:$I,2,0)),\"未登録\",VLOOKUP($E80,新規登録!$B:$I,2,0)),(VLOOKUP($E80,氏名ﾃﾞｰﾀ!$B:$J,2,0))))","v":""},{"$f":"IF($E80=\"\",\"\",IF(ISERROR(VLOOKUP($E80,氏名ﾃﾞｰﾀ!$B:$J,3,0)),IF(ISERROR(VLOOKUP($E80,新規登録!$B:$I,3,0)),\"未登録\",VLOOKUP($E80,新規登録!$B:$I,3,0)),(VLOOKUP($E80,氏名ﾃﾞｰﾀ!$B:$J,3,0))))","v":""},{"$f":"IF($E80=\"\",\"\",IF(ISERROR(VLOOKUP($E80,氏名ﾃﾞｰﾀ!$B:$J,4,0)),IF(ISERROR(VLOOKUP($E80,新規登録!$B:$I,4,0)),\"未登録\",VLOOKUP($E80,新規登録!$B:$I,4,0)),(VLOOKUP($E80,氏名ﾃﾞｰﾀ!$B:$J,4,0))))","v":""},{"$f":"IF($E80=\"\",\"\",IF(ISERROR(VLOOKUP($E80,氏名ﾃﾞｰﾀ!$B:$J,5,0)),IF(ISERROR(VLOOKUP($E80,新規登録!$B:$I,5,0)),\"未登録\",VLOOKUP($E80,新規登録!$B:$I,5,0)),(VLOOKUP($E80,氏名ﾃﾞｰﾀ!$B:$J,5,0))))","v":""},{"$f":"IF($E80=\"\",\"\",IF(ISERROR(VLOOKUP($E80,氏名ﾃﾞｰﾀ!$B:$J,8,0)),IF(ISERROR(VLOOKUP($E80,新規登録!$B:$I,6,0)),\"未登録\",VLOOKUP($E80,新規登録!$B:$I,6,0)),(VLOOKUP($E80,氏名ﾃﾞｰﾀ!$B:$J,8,0))))","v":""},{"$f":"IF($E80=\"\",\"\",IF(ISERROR(VLOOKUP($E80,氏名ﾃﾞｰﾀ!$B:$J,7,0)),IF(ISERROR(VLOOKUP($E80,新規登録!$B:$I,7,0)),\"未登録\",VLOOKUP($E80,新規登録!$B:$I,7,0)),$G$3))","v":""},{"$f":"IF($E80=\"\",\"\",IF(ISERROR(VLOOKUP($E80,氏名ﾃﾞｰﾀ!$B:$J,6,0)),IF(ISERROR(VLOOKUP($E80,新規登録!$B:$I,8,0)),\"ﾅｼ\",VLOOKUP($E80,新規登録!$B:$I,8,0)),(VLOOKUP($E80,氏名ﾃﾞｰﾀ!$B:$J,6,0))))","v":""},{"$f":"IF($E80=\"\",\"\",IF(ISERROR(VLOOKUP($E80,氏名ﾃﾞｰﾀ!$B:$J,9,0)),IF(ISERROR(VLOOKUP($E80,新規登録!$B:$I,9,0)),\"未登録\",VLOOKUP($E80,新規登録!$B:$I,9,0)),(VLOOKUP($E80,氏名ﾃﾞｰﾀ!$B:$J,9,0))))","v":""},null,null,null,null,null,null,null,null,null,null,null,null,null,null,null,null,null,null,null,null,{"$f":"IF(L80=\"男\",1,2)","v":2},{"$f":"IF(N80=\"\",\"\",VLOOKUP(N80,ﾃﾞｰﾀ!A:D,4,0))","v":""},"秒","秒"]
["","",{"$f":"IF(E81=\"\",\"\",IF(AH81=1,COUNTIF(AH$16:AH81,1)*10+2001-10,COUNTIF(AH$16:AH81,2)*10+6001-10))","v":""},66,null,{"$f":"IF($E81=\"\",\"\",IF(ISERROR(VLOOKUP($E81,氏名ﾃﾞｰﾀ!$B:$J,2,0)),IF(ISERROR(VLOOKUP($E81,新規登録!$B:$I,2,0)),\"未登録\",VLOOKUP($E81,新規登録!$B:$I,2,0)),(VLOOKUP($E81,氏名ﾃﾞｰﾀ!$B:$J,2,0))))","v":""},{"$f":"IF($E81=\"\",\"\",IF(ISERROR(VLOOKUP($E81,氏名ﾃﾞｰﾀ!$B:$J,3,0)),IF(ISERROR(VLOOKUP($E81,新規登録!$B:$I,3,0)),\"未登録\",VLOOKUP($E81,新規登録!$B:$I,3,0)),(VLOOKUP($E81,氏名ﾃﾞｰﾀ!$B:$J,3,0))))","v":""},{"$f":"IF($E81=\"\",\"\",IF(ISERROR(VLOOKUP($E81,氏名ﾃﾞｰﾀ!$B:$J,4,0)),IF(ISERROR(VLOOKUP($E81,新規登録!$B:$I,4,0)),\"未登録\",VLOOKUP($E81,新規登録!$B:$I,4,0)),(VLOOKUP($E81,氏名ﾃﾞｰﾀ!$B:$J,4,0))))","v":""},{"$f":"IF($E81=\"\",\"\",IF(ISERROR(VLOOKUP($E81,氏名ﾃﾞｰﾀ!$B:$J,5,0)),IF(ISERROR(VLOOKUP($E81,新規登録!$B:$I,5,0)),\"未登録\",VLOOKUP($E81,新規登録!$B:$I,5,0)),(VLOOKUP($E81,氏名ﾃﾞｰﾀ!$B:$J,5,0))))","v":""},{"$f":"IF($E81=\"\",\"\",IF(ISERROR(VLOOKUP($E81,氏名ﾃﾞｰﾀ!$B:$J,8,0)),IF(ISERROR(VLOOKUP($E81,新規登録!$B:$I,6,0)),\"未登録\",VLOOKUP($E81,新規登録!$B:$I,6,0)),(VLOOKUP($E81,氏名ﾃﾞｰﾀ!$B:$J,8,0))))","v":""},{"$f":"IF($E81=\"\",\"\",IF(ISERROR(VLOOKUP($E81,氏名ﾃﾞｰﾀ!$B:$J,7,0)),IF(ISERROR(VLOOKUP($E81,新規登録!$B:$I,7,0)),\"未登録\",VLOOKUP($E81,新規登録!$B:$I,7,0)),$G$3))","v":""},{"$f":"IF($E81=\"\",\"\",IF(ISERROR(VLOOKUP($E81,氏名ﾃﾞｰﾀ!$B:$J,6,0)),IF(ISERROR(VLOOKUP($E81,新規登録!$B:$I,8,0)),\"ﾅｼ\",VLOOKUP($E81,新規登録!$B:$I,8,0)),(VLOOKUP($E81,氏名ﾃﾞｰﾀ!$B:$J,6,0))))","v":""},{"$f":"IF($E81=\"\",\"\",IF(ISERROR(VLOOKUP($E81,氏名ﾃﾞｰﾀ!$B:$J,9,0)),IF(ISERROR(VLOOKUP($E81,新規登録!$B:$I,9,0)),\"未登録\",VLOOKUP($E81,新規登録!$B:$I,9,0)),(VLOOKUP($E81,氏名ﾃﾞｰﾀ!$B:$J,9,0))))","v":""},null,null,null,null,null,null,null,null,null,null,null,null,null,null,null,null,null,null,null,null,2,{"$f":"IF(N81=\"\",\"\",VLOOKUP(N81,ﾃﾞｰﾀ!A:D,4,0))","v":""},{"$f":"IF(AA81=\"\",CONCATENATE(AB81,\"秒\",AC81),CONCATENATE(IF(LEN(AA81)=1,CONCATENATE(\"0\",AA81),AA81),\"分\",IF(LEN(AB81)=1,CONCATENATE(\"0\",AB81),AB81),\"秒\",IF(LEN(AC81)=1,CONCATENATE(AC81,\"0\"),AC81)))","v":"秒"},{"$f":"IF(AE81=\"\",CONCATENATE(AF81,\"秒\",AG81),CONCATENATE(IF(LEN(AE81)=1,CONCATENATE(\"0\",AE81),AE81),\"分\",IF(LEN(AF81)=1,CONCATENATE(\"0\",AF81),AF81),\"秒\",IF(LEN(AG81)=1,CONCATENATE(AG81,\"0\"),AG81)))","v":"秒"}]
["","",{"$f":"IF(E82=\"\",\"\",IF(AH82=1,COUNTIF(AH$16:AH82,1)*10+2001-10,COUNTIF(AH$16:AH82,2)*10+6001-10))","v":""},67,null,{"$f":"IF($E82=\"\",\"\",IF(ISERROR(VLOOKUP($E82,氏名ﾃﾞｰﾀ!$B:$J,2,0)),IF(ISERROR(VLOOKUP($E82,新規登録!$B:$I,2,0)),\"未登録\",VLOOKUP($E82,新規登録!$B:$I,2,0)),(VLOOKUP($E82,氏名ﾃﾞｰﾀ!$B:$J,2,0))))","v":""},{"$f":"IF($E82=\"\",\"\",IF(ISERROR(VLOOKUP($E82,氏名ﾃﾞｰﾀ!$B:$J,3,0)),IF(ISERROR(VLOOKUP($E82,新規登録!$B:$I,3,0)),\"未登録\",VLOOKUP($E82,新規登録!$B:$I,3,0)),(VLOOKUP($E82,氏名ﾃﾞｰﾀ!$B:$J,3,0))))","v":""},{"$f":"IF($E82=\"\",\"\",IF(ISERROR(VLOOKUP($E82,氏名ﾃﾞｰﾀ!$B:$J,4,0)),IF(ISERROR(VLOOKUP($E82,新規登録!$B:$I,4,0)),\"未登録\",VLOOKUP($E82,新規登録!$B:$I,4,0)),(VLOOKUP($E82,氏名ﾃﾞｰﾀ!$B:$J,4,0))))","v":""},{"$f":"IF($E82=\"\",\"\",IF(ISERROR(VLOOKUP($E82,氏名ﾃﾞｰﾀ!$B:$J,5,0)),IF(ISERROR(VLOOKUP($E82,新規登録!$B:$I,5,0)),\"未登録\",VLOOKUP($E82,新規登録!$B:$I,5,0)),(VLOOKUP($E82,氏名ﾃﾞｰﾀ!$B:$J,5,0))))","v":""},{"$f":"IF($E82=\"\",\"\",IF(ISERROR(VLOOKUP($E82,氏名ﾃﾞｰﾀ!$B:$J,8,0)),IF(ISERROR(VLOOKUP($E82,新規登録!$B:$I,6,0)),\"未登録\",VLOOKUP($E82,新規登録!$B:$I,6,0)),(VLOOKUP($E82,氏名ﾃﾞｰﾀ!$B:$J,8,0))))","v":""},{"$f":"IF($E82=\"\",\"\",IF(ISERROR(VLOOKUP($E82,氏名ﾃﾞｰﾀ!$B:$J,7,0)),IF(ISERROR(VLOOKUP($E82,新規登録!$B:$I,7,0)),\"未登録\",VLOOKUP($E82,新規登録!$B:$I,7,0)),$G$3))","v":""},{"$f":"IF($E82=\"\",\"\",IF(ISERROR(VLOOKUP($E82,氏名ﾃﾞｰﾀ!$B:$J,6,0)),IF(ISERROR(VLOOKUP($E82,新規登録!$B:$I,8,0)),\"ﾅｼ\",VLOOKUP($E82,新規登録!$B:$I,8,0)),(VLOOKUP($E82,氏名ﾃﾞｰﾀ!$B:$J,6,0))))","v":""},{"$f":"IF($E82=\"\",\"\",IF(ISERROR(VLOOKUP($E82,氏名ﾃﾞｰﾀ!$B:$J,9,0)),IF(ISERROR(VLOOKUP($E82,新規登録!$B:$I,9,0)),\"未登録\",VLOOKUP($E82,新規登録!$B:$I,9,0)),(VLOOKUP($E82,氏名ﾃﾞｰﾀ!$B:$J,9,0))))","v":""},null,null,null,null,null,null,null,null,null,null,null,null,null,null,null,null,null,null,null,null,2,{"$f":"IF(N82=\"\",\"\",VLOOKUP(N82,ﾃﾞｰﾀ!A:D,4,0))","v":""},"秒","秒"]
["","",{"$f":"IF(E83=\"\",\"\",IF(AH83=1,COUNTIF(AH$16:AH83,1)*10+2001-10,COUNTIF(AH$16:AH83,2)*10+6001-10))","v":""},68,null,{"$f":"IF($E83=\"\",\"\",IF(ISERROR(VLOOKUP($E83,氏名ﾃﾞｰﾀ!$B:$J,2,0)),IF(ISERROR(VLOOKUP($E83,新規登録!$B:$I,2,0)),\"未登録\",VLOOKUP($E83,新規登録!$B:$I,2,0)),(VLOOKUP($E83,氏名ﾃﾞｰﾀ!$B:$J,2,0))))","v":""},{"$f":"IF($E83=\"\",\"\",IF(ISERROR(VLOOKUP($E83,氏名ﾃﾞｰﾀ!$B:$J,3,0)),IF(ISERROR(VLOOKUP($E83,新規登録!$B:$I,3,0)),\"未登録\",VLOOKUP($E83,新規登録!$B:$I,3,0)),(VLOOKUP($E83,氏名ﾃﾞｰﾀ!$B:$J,3,0))))","v":""},{"$f":"IF($E83=\"\",\"\",IF(ISERROR(VLOOKUP($E83,氏名ﾃﾞｰﾀ!$B:$J,4,0)),IF(ISERROR(VLOOKUP($E83,新規登録!$B:$I,4,0)),\"未登録\",VLOOKUP($E83,新規登録!$B:$I,4,0)),(VLOOKUP($E83,氏名ﾃﾞｰﾀ!$B:$J,4,0))))","v":""},{"$f":"IF($E83=\"\",\"\",IF(ISERROR(VLOOKUP($E83,氏名ﾃﾞｰﾀ!$B:$J,5,0)),IF(ISERROR(VLOOKUP($E83,新規登録!$B:$I,5,0)),\"未登録\",VLOOKUP($E83,新規登録!$B:$I,5,0)),(VLOOKUP($E83,氏名ﾃﾞｰﾀ!$B:$J,5,0))))","v":""},{"$f":"IF($E83=\"\",\"\",IF(ISERROR(VLOOKUP($E83,氏名ﾃﾞｰﾀ!$B:$J,8,0)),IF(ISERROR(VLOOKUP($E83,新規登録!$B:$I,6,0)),\"未登録\",VLOOKUP($E83,新規登録!$B:$I,6,0)),(VLOOKUP($E83,氏名ﾃﾞｰﾀ!$B:$J,8,0))))","v":""},{"$f":"IF($E83=\"\",\"\",IF(ISERROR(VLOOKUP($E83,氏名ﾃﾞｰﾀ!$B:$J,7,0)),IF(ISERROR(VLOOKUP($E83,新規登録!$B:$I,7,0)),\"未登録\",VLOOKUP($E83,新規登録!$B:$I,7,0)),$G$3))","v":""},{"$f":"IF($E83=\"\",\"\",IF(ISERROR(VLOOKUP($E83,氏名ﾃﾞｰﾀ!$B:$J,6,0)),IF(ISERROR(VLOOKUP($E83,新規登録!$B:$I,8,0)),\"ﾅｼ\",VLOOKUP($E83,新規登録!$B:$I,8,0)),(VLOOKUP($E83,氏名ﾃﾞｰﾀ!$B:$J,6,0))))","v":""},{"$f":"IF($E83=\"\",\"\",IF(ISERROR(VLOOKUP($E83,氏名ﾃﾞｰﾀ!$B:$J,9,0)),IF(ISERROR(VLOOKUP($E83,新規登録!$B:$I,9,0)),\"未登録\",VLOOKUP($E83,新規登録!$B:$I,9,0)),(VLOOKUP($E83,氏名ﾃﾞｰﾀ!$B:$J,9,0))))","v":""},null,null,null,null,null,null,null,null,null,null,null,null,null,null,null,null,null,null,null,null,2,{"$f":"IF(N83=\"\",\"\",VLOOKUP(N83,ﾃﾞｰﾀ!A:D,4,0))","v":""},"秒","秒"]
["","",{"$f":"IF(E84=\"\",\"\",IF(AH84=1,COUNTIF(AH$16:AH84,1)*10+2001-10,COUNTIF(AH$16:AH84,2)*10+6001-10))","v":""},69,null,{"$f":"IF($E84=\"\",\"\",IF(ISERROR(VLOOKUP($E84,氏名ﾃﾞｰﾀ!$B:$J,2,0)),IF(ISERROR(VLOOKUP($E84,新規登録!$B:$I,2,0)),\"未登録\",VLOOKUP($E84,新規登録!$B:$I,2,0)),(VLOOKUP($E84,氏名ﾃﾞｰﾀ!$B:$J,2,0))))","v":""},{"$f":"IF($E84=\"\",\"\",IF(ISERROR(VLOOKUP($E84,氏名ﾃﾞｰﾀ!$B:$J,3,0)),IF(ISERROR(VLOOKUP($E84,新規登録!$B:$I,3,0)),\"未登録\",VLOOKUP($E84,新規登録!$B:$I,3,0)),(VLOOKUP($E84,氏名ﾃﾞｰﾀ!$B:$J,3,0))))","v":""},{"$f":"IF($E84=\"\",\"\",IF(ISERROR(VLOOKUP($E84,氏名ﾃﾞｰﾀ!$B:$J,4,0)),IF(ISERROR(VLOOKUP($E84,新規登録!$B:$I,4,0)),\"未登録\",VLOOKUP($E84,新規登録!$B:$I,4,0)),(VLOOKUP($E84,氏名ﾃﾞｰﾀ!$B:$J,4,0))))","v":""},{"$f":"IF($E84=\"\",\"\",IF(ISERROR(VLOOKUP($E84,氏名ﾃﾞｰﾀ!$B:$J,5,0)),IF(ISERROR(VLOOKUP($E84,新規登録!$B:$I,5,0)),\"未登録\",VLOOKUP($E84,新規登録!$B:$I,5,0)),(VLOOKUP($E84,氏名ﾃﾞｰﾀ!$B:$J,5,0))))","v":""},{"$f":"IF($E84=\"\",\"\",IF(ISERROR(VLOOKUP($E84,氏名ﾃﾞｰﾀ!$B:$J,8,0)),IF(ISERROR(VLOOKUP($E84,新規登録!$B:$I,6,0)),\"未登録\",VLOOKUP($E84,新規登録!$B:$I,6,0)),(VLOOKUP($E84,氏名ﾃﾞｰﾀ!$B:$J,8,0))))","v":""},{"$f":"IF($E84=\"\",\"\",IF(ISERROR(VLOOKUP($E84,氏名ﾃﾞｰﾀ!$B:$J,7,0)),IF(ISERROR(VLOOKUP($E84,新規登録!$B:$I,7,0)),\"未登録\",VLOOKUP($E84,新規登録!$B:$I,7,0)),$G$3))","v":""},{"$f":"IF($E84=\"\",\"\",IF(ISERROR(VLOOKUP($E84,氏名ﾃﾞｰﾀ!$B:$J,6,0)),IF(ISERROR(VLOOKUP($E84,新規登録!$B:$I,8,0)),\"ﾅｼ\",VLOOKUP($E84,新規登録!$B:$I,8,0)),(VLOOKUP($E84,氏名ﾃﾞｰﾀ!$B:$J,6,0))))","v":""},{"$f":"IF($E84=\"\",\"\",IF(ISERROR(VLOOKUP($E84,氏名ﾃﾞｰﾀ!$B:$J,9,0)),IF(ISERROR(VLOOKUP($E84,新規登録!$B:$I,9,0)),\"未登録\",VLOOKUP($E84,新規登録!$B:$I,9,0)),(VLOOKUP($E84,氏名ﾃﾞｰﾀ!$B:$J,9,0))))","v":""},null,null,null,null,null,null,null,null,null,null,null,null,null,null,null,null,null,null,null,null,2,{"$f":"IF(N84=\"\",\"\",VLOOKUP(N84,ﾃﾞｰﾀ!A:D,4,0))","v":""},"秒","秒"]
["","",{"$f":"IF(E85=\"\",\"\",IF(AH85=1,COUNTIF(AH$16:AH85,1)*10+2001-10,COUNTIF(AH$16:AH85,2)*10+6001-10))","v":""},70,null,{"$f":"IF($E85=\"\",\"\",IF(ISERROR(VLOOKUP($E85,氏名ﾃﾞｰﾀ!$B:$J,2,0)),IF(ISERROR(VLOOKUP($E85,新規登録!$B:$I,2,0)),\"未登録\",VLOOKUP($E85,新規登録!$B:$I,2,0)),(VLOOKUP($E85,氏名ﾃﾞｰﾀ!$B:$J,2,0))))","v":""},{"$f":"IF($E85=\"\",\"\",IF(ISERROR(VLOOKUP($E85,氏名ﾃﾞｰﾀ!$B:$J,3,0)),IF(ISERROR(VLOOKUP($E85,新規登録!$B:$I,3,0)),\"未登録\",VLOOKUP($E85,新規登録!$B:$I,3,0)),(VLOOKUP($E85,氏名ﾃﾞｰﾀ!$B:$J,3,0))))","v":""},{"$f":"IF($E85=\"\",\"\",IF(ISERROR(VLOOKUP($E85,氏名ﾃﾞｰﾀ!$B:$J,4,0)),IF(ISERROR(VLOOKUP($E85,新規登録!$B:$I,4,0)),\"未登録\",VLOOKUP($E85,新規登録!$B:$I,4,0)),(VLOOKUP($E85,氏名ﾃﾞｰﾀ!$B:$J,4,0))))","v":""},{"$f":"IF($E85=\"\",\"\",IF(ISERROR(VLOOKUP($E85,氏名ﾃﾞｰﾀ!$B:$J,5,0)),IF(ISERROR(VLOOKUP($E85,新規登録!$B:$I,5,0)),\"未登録\",VLOOKUP($E85,新規登録!$B:$I,5,0)),(VLOOKUP($E85,氏名ﾃﾞｰﾀ!$B:$J,5,0))))","v":""},{"$f":"IF($E85=\"\",\"\",IF(ISERROR(VLOOKUP($E85,氏名ﾃﾞｰﾀ!$B:$J,8,0)),IF(ISERROR(VLOOKUP($E85,新規登録!$B:$I,6,0)),\"未登録\",VLOOKUP($E85,新規登録!$B:$I,6,0)),(VLOOKUP($E85,氏名ﾃﾞｰﾀ!$B:$J,8,0))))","v":""},{"$f":"IF($E85=\"\",\"\",IF(ISERROR(VLOOKUP($E85,氏名ﾃﾞｰﾀ!$B:$J,7,0)),IF(ISERROR(VLOOKUP($E85,新規登録!$B:$I,7,0)),\"未登録\",VLOOKUP($E85,新規登録!$B:$I,7,0)),$G$3))","v":""},{"$f":"IF($E85=\"\",\"\",IF(ISERROR(VLOOKUP($E85,氏名ﾃﾞｰﾀ!$B:$J,6,0)),IF(ISERROR(VLOOKUP($E85,新規登録!$B:$I,8,0)),\"ﾅｼ\",VLOOKUP($E85,新規登録!$B:$I,8,0)),(VLOOKUP($E85,氏名ﾃﾞｰﾀ!$B:$J,6,0))))","v":""},{"$f":"IF($E85=\"\",\"\",IF(ISERROR(VLOOKUP($E85,氏名ﾃﾞｰﾀ!$B:$J,9,0)),IF(ISERROR(VLOOKUP($E85,新規登録!$B:$I,9,0)),\"未登録\",VLOOKUP($E85,新規登録!$B:$I,9,0)),(VLOOKUP($E85,氏名ﾃﾞｰﾀ!$B:$J,9,0))))","v":""},null,null,null,null,null,null,null,null,null,null,null,null,null,null,null,null,null,null,null,null,2,{"$f":"IF(N85=\"\",\"\",VLOOKUP(N85,ﾃﾞｰﾀ!A:D,4,0))","v":""},"秒","秒"]
["","",{"$f":"IF(E86=\"\",\"\",IF(AH86=1,COUNTIF(AH$16:AH86,1)*10+2001-10,COUNTIF(AH$16:AH86,2)*10+6001-10))","v":""},71,null,{"$f":"IF($E86=\"\",\"\",IF(ISERROR(VLOOKUP($E86,氏名ﾃﾞｰﾀ!$B:$J,2,0)),IF(ISERROR(VLOOKUP($E86,新規登録!$B:$I,2,0)),\"未登録\",VLOOKUP($E86,新規登録!$B:$I,2,0)),(VLOOKUP($E86,氏名ﾃﾞｰﾀ!$B:$J,2,0))))","v":""},{"$f":"IF($E86=\"\",\"\",IF(ISERROR(VLOOKUP($E86,氏名ﾃﾞｰﾀ!$B:$J,3,0)),IF(ISERROR(VLOOKUP($E86,新規登録!$B:$I,3,0)),\"未登録\",VLOOKUP($E86,新規登録!$B:$I,3,0)),(VLOOKUP($E86,氏名ﾃﾞｰﾀ!$B:$J,3,0))))","v":""},{"$f":"IF($E86=\"\",\"\",IF(ISERROR(VLOOKUP($E86,氏名ﾃﾞｰﾀ!$B:$J,4,0)),IF(ISERROR(VLOOKUP($E86,新規登録!$B:$I,4,0)),\"未登録\",VLOOKUP($E86,新規登録!$B:$I,4,0)),(VLOOKUP($E86,氏名ﾃﾞｰﾀ!$B:$J,4,0))))","v":""},{"$f":"IF($E86=\"\",\"\",IF(ISERROR(VLOOKUP($E86,氏名ﾃﾞｰﾀ!$B:$J,5,0)),IF(ISERROR(VLOOKUP($E86,新規登録!$B:$I,5,0)),\"未登録\",VLOOKUP($E86,新規登録!$B:$I,5,0)),(VLOOKUP($E86,氏名ﾃﾞｰﾀ!$B:$J,5,0))))","v":""},{"$f":"IF($E86=\"\",\"\",IF(ISERROR(VLOOKUP($E86,氏名ﾃﾞｰﾀ!$B:$J,8,0)),IF(ISERROR(VLOOKUP($E86,新規登録!$B:$I,6,0)),\"未登録\",VLOOKUP($E86,新規登録!$B:$I,6,0)),(VLOOKUP($E86,氏名ﾃﾞｰﾀ!$B:$J,8,0))))","v":""},{"$f":"IF($E86=\"\",\"\",IF(ISERROR(VLOOKUP($E86,氏名ﾃﾞｰﾀ!$B:$J,7,0)),IF(ISERROR(VLOOKUP($E86,新規登録!$B:$I,7,0)),\"未登録\",VLOOKUP($E86,新規登録!$B:$I,7,0)),$G$3))","v":""},{"$f":"IF($E86=\"\",\"\",IF(ISERROR(VLOOKUP($E86,氏名ﾃﾞｰﾀ!$B:$J,6,0)),IF(ISERROR(VLOOKUP($E86,新規登録!$B:$I,8,0)),\"ﾅｼ\",VLOOKUP($E86,新規登録!$B:$I,8,0)),(VLOOKUP($E86,氏名ﾃﾞｰﾀ!$B:$J,6,0))))","v":""},{"$f":"IF($E86=\"\",\"\",IF(ISERROR(VLOOKUP($E86,氏名ﾃﾞｰﾀ!$B:$J,9,0)),IF(ISERROR(VLOOKUP($E86,新規登録!$B:$I,9,0)),\"未登録\",VLOOKUP($E86,新規登録!$B:$I,9,0)),(VLOOKUP($E86,氏名ﾃﾞｰﾀ!$B:$J,9,0))))","v":""},null,null,null,null,null,null,null,null,null,null,null,null,null,null,null,null,null,null,null,null,2,{"$f":"IF(N86=\"\",\"\",VLOOKUP(N86,ﾃﾞｰﾀ!A:D,4,0))","v":""},"秒","秒"]
["","",{"$f":"IF(E87=\"\",\"\",IF(AH87=1,COUNTIF(AH$16:AH87,1)*10+2001-10,COUNTIF(AH$16:AH87,2)*10+6001-10))","v":""},72,null,{"$f":"IF($E87=\"\",\"\",IF(ISERROR(VLOOKUP($E87,氏名ﾃﾞｰﾀ!$B:$J,2,0)),IF(ISERROR(VLOOKUP($E87,新規登録!$B:$I,2,0)),\"未登録\",VLOOKUP($E87,新規登録!$B:$I,2,0)),(VLOOKUP($E87,氏名ﾃﾞｰﾀ!$B:$J,2,0))))","v":""},{"$f":"IF($E87=\"\",\"\",IF(ISERROR(VLOOKUP($E87,氏名ﾃﾞｰﾀ!$B:$J,3,0)),IF(ISERROR(VLOOKUP($E87,新規登録!$B:$I,3,0)),\"未登録\",VLOOKUP($E87,新規登録!$B:$I,3,0)),(VLOOKUP($E87,氏名ﾃﾞｰﾀ!$B:$J,3,0))))","v":""},{"$f":"IF($E87=\"\",\"\",IF(ISERROR(VLOOKUP($E87,氏名ﾃﾞｰﾀ!$B:$J,4,0)),IF(ISERROR(VLOOKUP($E87,新規登録!$B:$I,4,0)),\"未登録\",VLOOKUP($E87,新規登録!$B:$I,4,0)),(VLOOKUP($E87,氏名ﾃﾞｰﾀ!$B:$J,4,0))))","v":""},{"$f":"IF($E87=\"\",\"\",IF(ISERROR(VLOOKUP($E87,氏名ﾃﾞｰﾀ!$B:$J,5,0)),IF(ISERROR(VLOOKUP($E87,新規登録!$B:$I,5,0)),\"未登録\",VLOOKUP($E87,新規登録!$B:$I,5,0)),(VLOOKUP($E87,氏名ﾃﾞｰﾀ!$B:$J,5,0))))","v":""},{"$f":"IF($E87=\"\",\"\",IF(ISERROR(VLOOKUP($E87,氏名ﾃﾞｰﾀ!$B:$J,8,0)),IF(ISERROR(VLOOKUP($E87,新規登録!$B:$I,6,0)),\"未登録\",VLOOKUP($E87,新規登録!$B:$I,6,0)),(VLOOKUP($E87,氏名ﾃﾞｰﾀ!$B:$J,8,0))))","v":""},{"$f":"IF($E87=\"\",\"\",IF(ISERROR(VLOOKUP($E87,氏名ﾃﾞｰﾀ!$B:$J,7,0)),IF(ISERROR(VLOOKUP($E87,新規登録!$B:$I,7,0)),\"未登録\",VLOOKUP($E87,新規登録!$B:$I,7,0)),$G$3))","v":""},{"$f":"IF($E87=\"\",\"\",IF(ISERROR(VLOOKUP($E87,氏名ﾃﾞｰﾀ!$B:$J,6,0)),IF(ISERROR(VLOOKUP($E87,新規登録!$B:$I,8,0)),\"ﾅｼ\",VLOOKUP($E87,新規登録!$B:$I,8,0)),(VLOOKUP($E87,氏名ﾃﾞｰﾀ!$B:$J,6,0))))","v":""},{"$f":"IF($E87=\"\",\"\",IF(ISERROR(VLOOKUP($E87,氏名ﾃﾞｰﾀ!$B:$J,9,0)),IF(ISERROR(VLOOKUP($E87,新規登録!$B:$I,9,0)),\"未登録\",VLOOKUP($E87,新規登録!$B:$I,9,0)),(VLOOKUP($E87,氏名ﾃﾞｰﾀ!$B:$J,9,0))))","v":""},null,null,null,null,null,null,null,null,null,null,null,null,null,null,null,null,null,null,null,null,2,{"$f":"IF(N87=\"\",\"\",VLOOKUP(N87,ﾃﾞｰﾀ!A:D,4,0))","v":""},"秒","秒"]
["","",{"$f":"IF(E88=\"\",\"\",IF(AH88=1,COUNTIF(AH$16:AH88,1)*10+2001-10,COUNTIF(AH$16:AH88,2)*10+6001-10))","v":""},73,null,{"$f":"IF($E88=\"\",\"\",IF(ISERROR(VLOOKUP($E88,氏名ﾃﾞｰﾀ!$B:$J,2,0)),IF(ISERROR(VLOOKUP($E88,新規登録!$B:$I,2,0)),\"未登録\",VLOOKUP($E88,新規登録!$B:$I,2,0)),(VLOOKUP($E88,氏名ﾃﾞｰﾀ!$B:$J,2,0))))","v":""},{"$f":"IF($E88=\"\",\"\",IF(ISERROR(VLOOKUP($E88,氏名ﾃﾞｰﾀ!$B:$J,3,0)),IF(ISERROR(VLOOKUP($E88,新規登録!$B:$I,3,0)),\"未登録\",VLOOKUP($E88,新規登録!$B:$I,3,0)),(VLOOKUP($E88,氏名ﾃﾞｰﾀ!$B:$J,3,0))))","v":""},{"$f":"IF($E88=\"\",\"\",IF(ISERROR(VLOOKUP($E88,氏名ﾃﾞｰﾀ!$B:$J,4,0)),IF(ISERROR(VLOOKUP($E88,新規登録!$B:$I,4,0)),\"未登録\",VLOOKUP($E88,新規登録!$B:$I,4,0)),(VLOOKUP($E88,氏名ﾃﾞｰﾀ!$B:$J,4,0))))","v":""},{"$f":"IF($E88=\"\",\"\",IF(ISERROR(VLOOKUP($E88,氏名ﾃﾞｰﾀ!$B:$J,5,0)),IF(ISERROR(VLOOKUP($E88,新規登録!$B:$I,5,0)),\"未登録\",VLOOKUP($E88,新規登録!$B:$I,5,0)),(VLOOKUP($E88,氏名ﾃﾞｰﾀ!$B:$J,5,0))))","v":""},{"$f":"IF($E88=\"\",\"\",IF(ISERROR(VLOOKUP($E88,氏名ﾃﾞｰﾀ!$B:$J,8,0)),IF(ISERROR(VLOOKUP($E88,新規登録!$B:$I,6,0)),\"未登録\",VLOOKUP($E88,新規登録!$B:$I,6,0)),(VLOOKUP($E88,氏名ﾃﾞｰﾀ!$B:$J,8,0))))","v":""},{"$f":"IF($E88=\"\",\"\",IF(ISERROR(VLOOKUP($E88,氏名ﾃﾞｰﾀ!$B:$J,7,0)),IF(ISERROR(VLOOKUP($E88,新規登録!$B:$I,7,0)),\"未登録\",VLOOKUP($E88,新規登録!$B:$I,7,0)),$G$3))","v":""},{"$f":"IF($E88=\"\",\"\",IF(ISERROR(VLOOKUP($E88,氏名ﾃﾞｰﾀ!$B:$J,6,0)),IF(ISERROR(VLOOKUP($E88,新規登録!$B:$I,8,0)),\"ﾅｼ\",VLOOKUP($E88,新規登録!$B:$I,8,0)),(VLOOKUP($E88,氏名ﾃﾞｰﾀ!$B:$J,6,0))))","v":""},{"$f":"IF($E88=\"\",\"\",IF(ISERROR(VLOOKUP($E88,氏名ﾃﾞｰﾀ!$B:$J,9,0)),IF(ISERROR(VLOOKUP($E88,新規登録!$B:$I,9,0)),\"未登録\",VLOOKUP($E88,新規登録!$B:$I,9,0)),(VLOOKUP($E88,氏名ﾃﾞｰﾀ!$B:$J,9,0))))","v":""},null,null,null,null,null,null,null,null,null,null,null,null,null,null,null,null,null,null,null,null,2,{"$f":"IF(N88=\"\",\"\",VLOOKUP(N88,ﾃﾞｰﾀ!A:D,4,0))","v":""},"秒","秒"]
["","",{"$f":"IF(E89=\"\",\"\",IF(AH89=1,COUNTIF(AH$16:AH89,1)*10+2001-10,COUNTIF(AH$16:AH89,2)*10+6001-10))","v":""},74,null,{"$f":"IF($E89=\"\",\"\",IF(ISERROR(VLOOKUP($E89,氏名ﾃﾞｰﾀ!$B:$J,2,0)),IF(ISERROR(VLOOKUP($E89,新規登録!$B:$I,2,0)),\"未登録\",VLOOKUP($E89,新規登録!$B:$I,2,0)),(VLOOKUP($E89,氏名ﾃﾞｰﾀ!$B:$J,2,0))))","v":""},{"$f":"IF($E89=\"\",\"\",IF(ISERROR(VLOOKUP($E89,氏名ﾃﾞｰﾀ!$B:$J,3,0)),IF(ISERROR(VLOOKUP($E89,新規登録!$B:$I,3,0)),\"未登録\",VLOOKUP($E89,新規登録!$B:$I,3,0)),(VLOOKUP($E89,氏名ﾃﾞｰﾀ!$B:$J,3,0))))","v":""},{"$f":"IF($E89=\"\",\"\",IF(ISERROR(VLOOKUP($E89,氏名ﾃﾞｰﾀ!$B:$J,4,0)),IF(ISERROR(VLOOKUP($E89,新規登録!$B:$I,4,0)),\"未登録\",VLOOKUP($E89,新規登録!$B:$I,4,0)),(VLOOKUP($E89,氏名ﾃﾞｰﾀ!$B:$J,4,0))))","v":""},{"$f":"IF($E89=\"\",\"\",IF(ISERROR(VLOOKUP($E89,氏名ﾃﾞｰﾀ!$B:$J,5,0)),IF(ISERROR(VLOOKUP($E89,新規登録!$B:$I,5,0)),\"未登録\",VLOOKUP($E89,新規登録!$B:$I,5,0)),(VLOOKUP($E89,氏名ﾃﾞｰﾀ!$B:$J,5,0))))","v":""},{"$f":"IF($E89=\"\",\"\",IF(ISERROR(VLOOKUP($E89,氏名ﾃﾞｰﾀ!$B:$J,8,0)),IF(ISERROR(VLOOKUP($E89,新規登録!$B:$I,6,0)),\"未登録\",VLOOKUP($E89,新規登録!$B:$I,6,0)),(VLOOKUP($E89,氏名ﾃﾞｰﾀ!$B:$J,8,0))))","v":""},{"$f":"IF($E89=\"\",\"\",IF(ISERROR(VLOOKUP($E89,氏名ﾃﾞｰﾀ!$B:$J,7,0)),IF(ISERROR(VLOOKUP($E89,新規登録!$B:$I,7,0)),\"未登録\",VLOOKUP($E89,新規登録!$B:$I,7,0)),$G$3))","v":""},{"$f":"IF($E89=\"\",\"\",IF(ISERROR(VLOOKUP($E89,氏名ﾃﾞｰﾀ!$B:$J,6,0)),IF(ISERROR(VLOOKUP($E89,新規登録!$B:$I,8,0)),\"ﾅｼ\",VLOOKUP($E89,新規登録!$B:$I,8,0)),(VLOOKUP($E89,氏名ﾃﾞｰﾀ!$B:$J,6,0))))","v":""},{"$f":"IF($E89=\"\",\"\",IF(ISERROR(VLOOKUP($E89,氏名ﾃﾞｰﾀ!$B:$J,9,0)),IF(ISERROR(VLOOKUP($E89,新規登録!$B:$I,9,0)),\"未登録\",VLOOKUP($E89,新規登録!$B:$I,9,0)),(VLOOKUP($E89,氏名ﾃﾞｰﾀ!$B:$J,9,0))))","v":""},null,null,null,null,null,null,null,null,null,null,null,null,null,null,null,null,null,null,null,null,2,{"$f":"IF(N89=\"\",\"\",VLOOKUP(N89,ﾃﾞｰﾀ!A:D,4,0))","v":""},"秒","秒"]
["","",{"$f":"IF(E90=\"\",\"\",IF(AH90=1,COUNTIF(AH$16:AH90,1)*10+2001-10,COUNTIF(AH$16:AH90,2)*10+6001-10))","v":""},75,null,{"$f":"IF($E90=\"\",\"\",IF(ISERROR(VLOOKUP($E90,氏名ﾃﾞｰﾀ!$B:$J,2,0)),IF(ISERROR(VLOOKUP($E90,新規登録!$B:$I,2,0)),\"未登録\",VLOOKUP($E90,新規登録!$B:$I,2,0)),(VLOOKUP($E90,氏名ﾃﾞｰﾀ!$B:$J,2,0))))","v":""},{"$f":"IF($E90=\"\",\"\",IF(ISERROR(VLOOKUP($E90,氏名ﾃﾞｰﾀ!$B:$J,3,0)),IF(ISERROR(VLOOKUP($E90,新規登録!$B:$I,3,0)),\"未登録\",VLOOKUP($E90,新規登録!$B:$I,3,0)),(VLOOKUP($E90,氏名ﾃﾞｰﾀ!$B:$J,3,0))))","v":""},{"$f":"IF($E90=\"\",\"\",IF(ISERROR(VLOOKUP($E90,氏名ﾃﾞｰﾀ!$B:$J,4,0)),IF(ISERROR(VLOOKUP($E90,新規登録!$B:$I,4,0)),\"未登録\",VLOOKUP($E90,新規登録!$B:$I,4,0)),(VLOOKUP($E90,氏名ﾃﾞｰﾀ!$B:$J,4,0))))","v":""},{"$f":"IF($E90=\"\",\"\",IF(ISERROR(VLOOKUP($E90,氏名ﾃﾞｰﾀ!$B:$J,5,0)),IF(ISERROR(VLOOKUP($E90,新規登録!$B:$I,5,0)),\"未登録\",VLOOKUP($E90,新規登録!$B:$I,5,0)),(VLOOKUP($E90,氏名ﾃﾞｰﾀ!$B:$J,5,0))))","v":""},{"$f":"IF($E90=\"\",\"\",IF(ISERROR(VLOOKUP($E90,氏名ﾃﾞｰﾀ!$B:$J,8,0)),IF(ISERROR(VLOOKUP($E90,新規登録!$B:$I,6,0)),\"未登録\",VLOOKUP($E90,新規登録!$B:$I,6,0)),(VLOOKUP($E90,氏名ﾃﾞｰﾀ!$B:$J,8,0))))","v":""},{"$f":"IF($E90=\"\",\"\",IF(ISERROR(VLOOKUP($E90,氏名ﾃﾞｰﾀ!$B:$J,7,0)),IF(ISERROR(VLOOKUP($E90,新規登録!$B:$I,7,0)),\"未登録\",VLOOKUP($E90,新規登録!$B:$I,7,0)),$G$3))","v":""},{"$f":"IF($E90=\"\",\"\",IF(ISERROR(VLOOKUP($E90,氏名ﾃﾞｰﾀ!$B:$J,6,0)),IF(ISERROR(VLOOKUP($E90,新規登録!$B:$I,8,0)),\"ﾅｼ\",VLOOKUP($E90,新規登録!$B:$I,8,0)),(VLOOKUP($E90,氏名ﾃﾞｰﾀ!$B:$J,6,0))))","v":""},{"$f":"IF($E90=\"\",\"\",IF(ISERROR(VLOOKUP($E90,氏名ﾃﾞｰﾀ!$B:$J,9,0)),IF(ISERROR(VLOOKUP($E90,新規登録!$B:$I,9,0)),\"未登録\",VLOOKUP($E90,新規登録!$B:$I,9,0)),(VLOOKUP($E90,氏名ﾃﾞｰﾀ!$B:$J,9,0))))","v":""},null,null,null,null,null,null,null,null,null,null,null,null,null,null,null,null,null,null,null,null,2,{"$f":"IF(N90=\"\",\"\",VLOOKUP(N90,ﾃﾞｰﾀ!A:D,4,0))","v":""},"秒","秒"]
["","",{"$f":"IF(E91=\"\",\"\",IF(AH91=1,COUNTIF(AH$16:AH91,1)*10+2001-10,COUNTIF(AH$16:AH91,2)*10+6001-10))","v":""},76,null,{"$f":"IF($E91=\"\",\"\",IF(ISERROR(VLOOKUP($E91,氏名ﾃﾞｰﾀ!$B:$J,2,0)),IF(ISERROR(VLOOKUP($E91,新規登録!$B:$I,2,0)),\"未登録\",VLOOKUP($E91,新規登録!$B:$I,2,0)),(VLOOKUP($E91,氏名ﾃﾞｰﾀ!$B:$J,2,0))))","v":""},{"$f":"IF($E91=\"\",\"\",IF(ISERROR(VLOOKUP($E91,氏名ﾃﾞｰﾀ!$B:$J,3,0)),IF(ISERROR(VLOOKUP($E91,新規登録!$B:$I,3,0)),\"未登録\",VLOOKUP($E91,新規登録!$B:$I,3,0)),(VLOOKUP($E91,氏名ﾃﾞｰﾀ!$B:$J,3,0))))","v":""},{"$f":"IF($E91=\"\",\"\",IF(ISERROR(VLOOKUP($E91,氏名ﾃﾞｰﾀ!$B:$J,4,0)),IF(ISERROR(VLOOKUP($E91,新規登録!$B:$I,4,0)),\"未登録\",VLOOKUP($E91,新規登録!$B:$I,4,0)),(VLOOKUP($E91,氏名ﾃﾞｰﾀ!$B:$J,4,0))))","v":""},{"$f":"IF($E91=\"\",\"\",IF(ISERROR(VLOOKUP($E91,氏名ﾃﾞｰﾀ!$B:$J,5,0)),IF(ISERROR(VLOOKUP($E91,新規登録!$B:$I,5,0)),\"未登録\",VLOOKUP($E91,新規登録!$B:$I,5,0)),(VLOOKUP($E91,氏名ﾃﾞｰﾀ!$B:$J,5,0))))","v":""},{"$f":"IF($E91=\"\",\"\",IF(ISERROR(VLOOKUP($E91,氏名ﾃﾞｰﾀ!$B:$J,8,0)),IF(ISERROR(VLOOKUP($E91,新規登録!$B:$I,6,0)),\"未登録\",VLOOKUP($E91,新規登録!$B:$I,6,0)),(VLOOKUP($E91,氏名ﾃﾞｰﾀ!$B:$J,8,0))))","v":""},{"$f":"IF($E91=\"\",\"\",IF(ISERROR(VLOOKUP($E91,氏名ﾃﾞｰﾀ!$B:$J,7,0)),IF(ISERROR(VLOOKUP($E91,新規登録!$B:$I,7,0)),\"未登録\",VLOOKUP($E91,新規登録!$B:$I,7,0)),$G$3))","v":""},{"$f":"IF($E91=\"\",\"\",IF(ISERROR(VLOOKUP($E91,氏名ﾃﾞｰﾀ!$B:$J,6,0)),IF(ISERROR(VLOOKUP($E91,新規登録!$B:$I,8,0)),\"ﾅｼ\",VLOOKUP($E91,新規登録!$B:$I,8,0)),(VLOOKUP($E91,氏名ﾃﾞｰﾀ!$B:$J,6,0))))","v":""},{"$f":"IF($E91=\"\",\"\",IF(ISERROR(VLOOKUP($E91,氏名ﾃﾞｰﾀ!$B:$J,9,0)),IF(ISERROR(VLOOKUP($E91,新規登録!$B:$I,9,0)),\"未登録\",VLOOKUP($E91,新規登録!$B:$I,9,0)),(VLOOKUP($E91,氏名ﾃﾞｰﾀ!$B:$J,9,0))))","v":""},null,null,null,null,null,null,null,null,null,null,null,null,null,null,null,null,null,null,null,null,2,{"$f":"IF(N91=\"\",\"\",VLOOKUP(N91,ﾃﾞｰﾀ!A:D,4,0))","v":""},"秒","秒"]
["","",{"$f":"IF(E92=\"\",\"\",IF(AH92=1,COUNTIF(AH$16:AH92,1)*10+2001-10,COUNTIF(AH$16:AH92,2)*10+6001-10))","v":""},77,null,{"$f":"IF($E92=\"\",\"\",IF(ISERROR(VLOOKUP($E92,氏名ﾃﾞｰﾀ!$B:$J,2,0)),IF(ISERROR(VLOOKUP($E92,新規登録!$B:$I,2,0)),\"未登録\",VLOOKUP($E92,新規登録!$B:$I,2,0)),(VLOOKUP($E92,氏名ﾃﾞｰﾀ!$B:$J,2,0))))","v":""},{"$f":"IF($E92=\"\",\"\",IF(ISERROR(VLOOKUP($E92,氏名ﾃﾞｰﾀ!$B:$J,3,0)),IF(ISERROR(VLOOKUP($E92,新規登録!$B:$I,3,0)),\"未登録\",VLOOKUP($E92,新規登録!$B:$I,3,0)),(VLOOKUP($E92,氏名ﾃﾞｰﾀ!$B:$J,3,0))))","v":""},{"$f":"IF($E92=\"\",\"\",IF(ISERROR(VLOOKUP($E92,氏名ﾃﾞｰﾀ!$B:$J,4,0)),IF(ISERROR(VLOOKUP($E92,新規登録!$B:$I,4,0)),\"未登録\",VLOOKUP($E92,新規登録!$B:$I,4,0)),(VLOOKUP($E92,氏名ﾃﾞｰﾀ!$B:$J,4,0))))","v":""},{"$f":"IF($E92=\"\",\"\",IF(ISERROR(VLOOKUP($E92,氏名ﾃﾞｰﾀ!$B:$J,5,0)),IF(ISERROR(VLOOKUP($E92,新規登録!$B:$I,5,0)),\"未登録\",VLOOKUP($E92,新規登録!$B:$I,5,0)),(VLOOKUP($E92,氏名ﾃﾞｰﾀ!$B:$J,5,0))))","v":""},{"$f":"IF($E92=\"\",\"\",IF(ISERROR(VLOOKUP($E92,氏名ﾃﾞｰﾀ!$B:$J,8,0)),IF(ISERROR(VLOOKUP($E92,新規登録!$B:$I,6,0)),\"未登録\",VLOOKUP($E92,新規登録!$B:$I,6,0)),(VLOOKUP($E92,氏名ﾃﾞｰﾀ!$B:$J,8,0))))","v":""},{"$f":"IF($E92=\"\",\"\",IF(ISERROR(VLOOKUP($E92,氏名ﾃﾞｰﾀ!$B:$J,7,0)),IF(ISERROR(VLOOKUP($E92,新規登録!$B:$I,7,0)),\"未登録\",VLOOKUP($E92,新規登録!$B:$I,7,0)),$G$3))","v":""},{"$f":"IF($E92=\"\",\"\",IF(ISERROR(VLOOKUP($E92,氏名ﾃﾞｰﾀ!$B:$J,6,0)),IF(ISERROR(VLOOKUP($E92,新規登録!$B:$I,8,0)),\"ﾅｼ\",VLOOKUP($E92,新規登録!$B:$I,8,0)),(VLOOKUP($E92,氏名ﾃﾞｰﾀ!$B:$J,6,0))))","v":""},{"$f":"IF($E92=\"\",\"\",IF(ISERROR(VLOOKUP($E92,氏名ﾃﾞｰﾀ!$B:$J,9,0)),IF(ISERROR(VLOOKUP($E92,新規登録!$B:$I,9,0)),\"未登録\",VLOOKUP($E92,新規登録!$B:$I,9,0)),(VLOOKUP($E92,氏名ﾃﾞｰﾀ!$B:$J,9,0))))","v":""},null,null,null,null,null,null,null,null,null,null,null,null,null,null,null,null,null,null,null,null,2,{"$f":"IF(N92=\"\",\"\",VLOOKUP(N92,ﾃﾞｰﾀ!A:D,4,0))","v":""},"秒","秒"]
["","",{"$f":"IF(E93=\"\",\"\",IF(AH93=1,COUNTIF(AH$16:AH93,1)*10+2001-10,COUNTIF(AH$16:AH93,2)*10+6001-10))","v":""},78,null,{"$f":"IF($E93=\"\",\"\",IF(ISERROR(VLOOKUP($E93,氏名ﾃﾞｰﾀ!$B:$J,2,0)),IF(ISERROR(VLOOKUP($E93,新規登録!$B:$I,2,0)),\"未登録\",VLOOKUP($E93,新規登録!$B:$I,2,0)),(VLOOKUP($E93,氏名ﾃﾞｰﾀ!$B:$J,2,0))))","v":""},{"$f":"IF($E93=\"\",\"\",IF(ISERROR(VLOOKUP($E93,氏名ﾃﾞｰﾀ!$B:$J,3,0)),IF(ISERROR(VLOOKUP($E93,新規登録!$B:$I,3,0)),\"未登録\",VLOOKUP($E93,新規登録!$B:$I,3,0)),(VLOOKUP($E93,氏名ﾃﾞｰﾀ!$B:$J,3,0))))","v":""},{"$f":"IF($E93=\"\",\"\",IF(ISERROR(VLOOKUP($E93,氏名ﾃﾞｰﾀ!$B:$J,4,0)),IF(ISERROR(VLOOKUP($E93,新規登録!$B:$I,4,0)),\"未登録\",VLOOKUP($E93,新規登録!$B:$I,4,0)),(VLOOKUP($E93,氏名ﾃﾞｰﾀ!$B:$J,4,0))))","v":""},{"$f":"IF($E93=\"\",\"\",IF(ISERROR(VLOOKUP($E93,氏名ﾃﾞｰﾀ!$B:$J,5,0)),IF(ISERROR(VLOOKUP($E93,新規登録!$B:$I,5,0)),\"未登録\",VLOOKUP($E93,新規登録!$B:$I,5,0)),(VLOOKUP($E93,氏名ﾃﾞｰﾀ!$B:$J,5,0))))","v":""},{"$f":"IF($E93=\"\",\"\",IF(ISERROR(VLOOKUP($E93,氏名ﾃﾞｰﾀ!$B:$J,8,0)),IF(ISERROR(VLOOKUP($E93,新規登録!$B:$I,6,0)),\"未登録\",VLOOKUP($E93,新規登録!$B:$I,6,0)),(VLOOKUP($E93,氏名ﾃﾞｰﾀ!$B:$J,8,0))))","v":""},{"$f":"IF($E93=\"\",\"\",IF(ISERROR(VLOOKUP($E93,氏名ﾃﾞｰﾀ!$B:$J,7,0)),IF(ISERROR(VLOOKUP($E93,新規登録!$B:$I,7,0)),\"未登録\",VLOOKUP($E93,新規登録!$B:$I,7,0)),$G$3))","v":""},{"$f":"IF($E93=\"\",\"\",IF(ISERROR(VLOOKUP($E93,氏名ﾃﾞｰﾀ!$B:$J,6,0)),IF(ISERROR(VLOOKUP($E93,新規登録!$B:$I,8,0)),\"ﾅｼ\",VLOOKUP($E93,新規登録!$B:$I,8,0)),(VLOOKUP($E93,氏名ﾃﾞｰﾀ!$B:$J,6,0))))","v":""},{"$f":"IF($E93=\"\",\"\",IF(ISERROR(VLOOKUP($E93,氏名ﾃﾞｰﾀ!$B:$J,9,0)),IF(ISERROR(VLOOKUP($E93,新規登録!$B:$I,9,0)),\"未登録\",VLOOKUP($E93,新規登録!$B:$I,9,0)),(VLOOKUP($E93,氏名ﾃﾞｰﾀ!$B:$J,9,0))))","v":""},null,null,null,null,null,null,null,null,null,null,null,null,null,null,null,null,null,null,null,null,2,{"$f":"IF(N93=\"\",\"\",VLOOKUP(N93,ﾃﾞｰﾀ!A:D,4,0))","v":""},"秒","秒"]
["","",{"$f":"IF(E94=\"\",\"\",IF(AH94=1,COUNTIF(AH$16:AH94,1)*10+2001-10,COUNTIF(AH$16:AH94,2)*10+6001-10))","v":""},79,null,{"$f":"IF($E94=\"\",\"\",IF(ISERROR(VLOOKUP($E94,氏名ﾃﾞｰﾀ!$B:$J,2,0)),IF(ISERROR(VLOOKUP($E94,新規登録!$B:$I,2,0)),\"未登録\",VLOOKUP($E94,新規登録!$B:$I,2,0)),(VLOOKUP($E94,氏名ﾃﾞｰﾀ!$B:$J,2,0))))","v":""},{"$f":"IF($E94=\"\",\"\",IF(ISERROR(VLOOKUP($E94,氏名ﾃﾞｰﾀ!$B:$J,3,0)),IF(ISERROR(VLOOKUP($E94,新規登録!$B:$I,3,0)),\"未登録\",VLOOKUP($E94,新規登録!$B:$I,3,0)),(VLOOKUP($E94,氏名ﾃﾞｰﾀ!$B:$J,3,0))))","v":""},{"$f":"IF($E94=\"\",\"\",IF(ISERROR(VLOOKUP($E94,氏名ﾃﾞｰﾀ!$B:$J,4,0)),IF(ISERROR(VLOOKUP($E94,新規登録!$B:$I,4,0)),\"未登録\",VLOOKUP($E94,新規登録!$B:$I,4,0)),(VLOOKUP($E94,氏名ﾃﾞｰﾀ!$B:$J,4,0))))","v":""},{"$f":"IF($E94=\"\",\"\",IF(ISERROR(VLOOKUP($E94,氏名ﾃﾞｰﾀ!$B:$J,5,0)),IF(ISERROR(VLOOKUP($E94,新規登録!$B:$I,5,0)),\"未登録\",VLOOKUP($E94,新規登録!$B:$I,5,0)),(VLOOKUP($E94,氏名ﾃﾞｰﾀ!$B:$J,5,0))))","v":""},{"$f":"IF($E94=\"\",\"\",IF(ISERROR(VLOOKUP($E94,氏名ﾃﾞｰﾀ!$B:$J,8,0)),IF(ISERROR(VLOOKUP($E94,新規登録!$B:$I,6,0)),\"未登録\",VLOOKUP($E94,新規登録!$B:$I,6,0)),(VLOOKUP($E94,氏名ﾃﾞｰﾀ!$B:$J,8,0))))","v":""},{"$f":"IF($E94=\"\",\"\",IF(ISERROR(VLOOKUP($E94,氏名ﾃﾞｰﾀ!$B:$J,7,0)),IF(ISERROR(VLOOKUP($E94,新規登録!$B:$I,7,0)),\"未登録\",VLOOKUP($E94,新規登録!$B:$I,7,0)),$G$3))","v":""},{"$f":"IF($E94=\"\",\"\",IF(ISERROR(VLOOKUP($E94,氏名ﾃﾞｰﾀ!$B:$J,6,0)),IF(ISERROR(VLOOKUP($E94,新規登録!$B:$I,8,0)),\"ﾅｼ\",VLOOKUP($E94,新規登録!$B:$I,8,0)),(VLOOKUP($E94,氏名ﾃﾞｰﾀ!$B:$J,6,0))))","v":""},{"$f":"IF($E94=\"\",\"\",IF(ISERROR(VLOOKUP($E94,氏名ﾃﾞｰﾀ!$B:$J,9,0)),IF(ISERROR(VLOOKUP($E94,新規登録!$B:$I,9,0)),\"未登録\",VLOOKUP($E94,新規登録!$B:$I,9,0)),(VLOOKUP($E94,氏名ﾃﾞｰﾀ!$B:$J,9,0))))","v":""},null,null,null,null,null,null,null,null,null,null,null,null,null,null,null,null,null,null,null,null,2,{"$f":"IF(N94=\"\",\"\",VLOOKUP(N94,ﾃﾞｰﾀ!A:D,4,0))","v":""},"秒","秒"]
["","",{"$f":"IF(E95=\"\",\"\",IF(AH95=1,COUNTIF(AH$16:AH95,1)*10+2001-10,COUNTIF(AH$16:AH95,2)*10+6001-10))","v":""},80,null,{"$f":"IF($E95=\"\",\"\",IF(ISERROR(VLOOKUP($E95,氏名ﾃﾞｰﾀ!$B:$J,2,0)),IF(ISERROR(VLOOKUP($E95,新規登録!$B:$I,2,0)),\"未登録\",VLOOKUP($E95,新規登録!$B:$I,2,0)),(VLOOKUP($E95,氏名ﾃﾞｰﾀ!$B:$J,2,0))))","v":""},{"$f":"IF($E95=\"\",\"\",IF(ISERROR(VLOOKUP($E95,氏名ﾃﾞｰﾀ!$B:$J,3,0)),IF(ISERROR(VLOOKUP($E95,新規登録!$B:$I,3,0)),\"未登録\",VLOOKUP($E95,新規登録!$B:$I,3,0)),(VLOOKUP($E95,氏名ﾃﾞｰﾀ!$B:$J,3,0))))","v":""},{"$f":"IF($E95=\"\",\"\",IF(ISERROR(VLOOKUP($E95,氏名ﾃﾞｰﾀ!$B:$J,4,0)),IF(ISERROR(VLOOKUP($E95,新規登録!$B:$I,4,0)),\"未登録\",VLOOKUP($E95,新規登録!$B:$I,4,0)),(VLOOKUP($E95,氏名ﾃﾞｰﾀ!$B:$J,4,0))))","v":""},{"$f":"IF($E95=\"\",\"\",IF(ISERROR(VLOOKUP($E95,氏名ﾃﾞｰﾀ!$B:$J,5,0)),IF(ISERROR(VLOOKUP($E95,新規登録!$B:$I,5,0)),\"未登録\",VLOOKUP($E95,新規登録!$B:$I,5,0)),(VLOOKUP($E95,氏名ﾃﾞｰﾀ!$B:$J,5,0))))","v":""},{"$f":"IF($E95=\"\",\"\",IF(ISERROR(VLOOKUP($E95,氏名ﾃﾞｰﾀ!$B:$J,8,0)),IF(ISERROR(VLOOKUP($E95,新規登録!$B:$I,6,0)),\"未登録\",VLOOKUP($E95,新規登録!$B:$I,6,0)),(VLOOKUP($E95,氏名ﾃﾞｰﾀ!$B:$J,8,0))))","v":""},{"$f":"IF($E95=\"\",\"\",IF(ISERROR(VLOOKUP($E95,氏名ﾃﾞｰﾀ!$B:$J,7,0)),IF(ISERROR(VLOOKUP($E95,新規登録!$B:$I,7,0)),\"未登録\",VLOOKUP($E95,新規登録!$B:$I,7,0)),$G$3))","v":""},{"$f":"IF($E95=\"\",\"\",IF(ISERROR(VLOOKUP($E95,氏名ﾃﾞｰﾀ!$B:$J,6,0)),IF(ISERROR(VLOOKUP($E95,新規登録!$B:$I,8,0)),\"ﾅｼ\",VLOOKUP($E95,新規登録!$B:$I,8,0)),(VLOOKUP($E95,氏名ﾃﾞｰﾀ!$B:$J,6,0))))","v":""},{"$f":"IF($E95=\"\",\"\",IF(ISERROR(VLOOKUP($E95,氏名ﾃﾞｰﾀ!$B:$J,9,0)),IF(ISERROR(VLOOKUP($E95,新規登録!$B:$I,9,0)),\"未登録\",VLOOKUP($E95,新規登録!$B:$I,9,0)),(VLOOKUP($E95,氏名ﾃﾞｰﾀ!$B:$J,9,0))))","v":""},null,null,null,null,null,null,null,null,null,null,null,null,null,null,null,null,null,null,null,null,2,{"$f":"IF(N95=\"\",\"\",VLOOKUP(N95,ﾃﾞｰﾀ!A:D,4,0))","v":""},"秒","秒"]
["","",{"$f":"IF(E96=\"\",\"\",IF(AH96=1,COUNTIF(AH$16:AH96,1)*10+2001-10,COUNTIF(AH$16:AH96,2)*10+6001-10))","v":""},81,null,{"$f":"IF($E96=\"\",\"\",IF(ISERROR(VLOOKUP($E96,氏名ﾃﾞｰﾀ!$B:$J,2,0)),IF(ISERROR(VLOOKUP($E96,新規登録!$B:$I,2,0)),\"未登録\",VLOOKUP($E96,新規登録!$B:$I,2,0)),(VLOOKUP($E96,氏名ﾃﾞｰﾀ!$B:$J,2,0))))","v":""},{"$f":"IF($E96=\"\",\"\",IF(ISERROR(VLOOKUP($E96,氏名ﾃﾞｰﾀ!$B:$J,3,0)),IF(ISERROR(VLOOKUP($E96,新規登録!$B:$I,3,0)),\"未登録\",VLOOKUP($E96,新規登録!$B:$I,3,0)),(VLOOKUP($E96,氏名ﾃﾞｰﾀ!$B:$J,3,0))))","v":""},{"$f":"IF($E96=\"\",\"\",IF(ISERROR(VLOOKUP($E96,氏名ﾃﾞｰﾀ!$B:$J,4,0)),IF(ISERROR(VLOOKUP($E96,新規登録!$B:$I,4,0)),\"未登録\",VLOOKUP($E96,新規登録!$B:$I,4,0)),(VLOOKUP($E96,氏名ﾃﾞｰﾀ!$B:$J,4,0))))","v":""},{"$f":"IF($E96=\"\",\"\",IF(ISERROR(VLOOKUP($E96,氏名ﾃﾞｰﾀ!$B:$J,5,0)),IF(ISERROR(VLOOKUP($E96,新規登録!$B:$I,5,0)),\"未登録\",VLOOKUP($E96,新規登録!$B:$I,5,0)),(VLOOKUP($E96,氏名ﾃﾞｰﾀ!$B:$J,5,0))))","v":""},{"$f":"IF($E96=\"\",\"\",IF(ISERROR(VLOOKUP($E96,氏名ﾃﾞｰﾀ!$B:$J,8,0)),IF(ISERROR(VLOOKUP($E96,新規登録!$B:$I,6,0)),\"未登録\",VLOOKUP($E96,新規登録!$B:$I,6,0)),(VLOOKUP($E96,氏名ﾃﾞｰﾀ!$B:$J,8,0))))","v":""},{"$f":"IF($E96=\"\",\"\",IF(ISERROR(VLOOKUP($E96,氏名ﾃﾞｰﾀ!$B:$J,7,0)),IF(ISERROR(VLOOKUP($E96,新規登録!$B:$I,7,0)),\"未登録\",VLOOKUP($E96,新規登録!$B:$I,7,0)),$G$3))","v":""},{"$f":"IF($E96=\"\",\"\",IF(ISERROR(VLOOKUP($E96,氏名ﾃﾞｰﾀ!$B:$J,6,0)),IF(ISERROR(VLOOKUP($E96,新規登録!$B:$I,8,0)),\"ﾅｼ\",VLOOKUP($E96,新規登録!$B:$I,8,0)),(VLOOKUP($E96,氏名ﾃﾞｰﾀ!$B:$J,6,0))))","v":""},{"$f":"IF($E96=\"\",\"\",IF(ISERROR(VLOOKUP($E96,氏名ﾃﾞｰﾀ!$B:$J,9,0)),IF(ISERROR(VLOOKUP($E96,新規登録!$B:$I,9,0)),\"未登録\",VLOOKUP($E96,新規登録!$B:$I,9,0)),(VLOOKUP($E96,氏名ﾃﾞｰﾀ!$B:$J,9,0))))","v":""},null,null,null,null,null,null,null,null,null,null,null,null,null,null,null,null,null,null,null,null,2,{"$f":"IF(N96=\"\",\"\",VLOOKUP(N96,ﾃﾞｰﾀ!A:D,4,0))","v":""},"秒","秒"]
["","",{"$f":"IF(E97=\"\",\"\",IF(AH97=1,COUNTIF(AH$16:AH97,1)*10+2001-10,COUNTIF(AH$16:AH97,2)*10+6001-10))","v":""},82,null,{"$f":"IF($E97=\"\",\"\",IF(ISERROR(VLOOKUP($E97,氏名ﾃﾞｰﾀ!$B:$J,2,0)),IF(ISERROR(VLOOKUP($E97,新規登録!$B:$I,2,0)),\"未登録\",VLOOKUP($E97,新規登録!$B:$I,2,0)),(VLOOKUP($E97,氏名ﾃﾞｰﾀ!$B:$J,2,0))))","v":""},{"$f":"IF($E97=\"\",\"\",IF(ISERROR(VLOOKUP($E97,氏名ﾃﾞｰﾀ!$B:$J,3,0)),IF(ISERROR(VLOOKUP($E97,新規登録!$B:$I,3,0)),\"未登録\",VLOOKUP($E97,新規登録!$B:$I,3,0)),(VLOOKUP($E97,氏名ﾃﾞｰﾀ!$B:$J,3,0))))","v":""},{"$f":"IF($E97=\"\",\"\",IF(ISERROR(VLOOKUP($E97,氏名ﾃﾞｰﾀ!$B:$J,4,0)),IF(ISERROR(VLOOKUP($E97,新規登録!$B:$I,4,0)),\"未登録\",VLOOKUP($E97,新規登録!$B:$I,4,0)),(VLOOKUP($E97,氏名ﾃﾞｰﾀ!$B:$J,4,0))))","v":""},{"$f":"IF($E97=\"\",\"\",IF(ISERROR(VLOOKUP($E97,氏名ﾃﾞｰﾀ!$B:$J,5,0)),IF(ISERROR(VLOOKUP($E97,新規登録!$B:$I,5,0)),\"未登録\",VLOOKUP($E97,新規登録!$B:$I,5,0)),(VLOOKUP($E97,氏名ﾃﾞｰﾀ!$B:$J,5,0))))","v":""},{"$f":"IF($E97=\"\",\"\",IF(ISERROR(VLOOKUP($E97,氏名ﾃﾞｰﾀ!$B:$J,8,0)),IF(ISERROR(VLOOKUP($E97,新規登録!$B:$I,6,0)),\"未登録\",VLOOKUP($E97,新規登録!$B:$I,6,0)),(VLOOKUP($E97,氏名ﾃﾞｰﾀ!$B:$J,8,0))))","v":""},{"$f":"IF($E97=\"\",\"\",IF(ISERROR(VLOOKUP($E97,氏名ﾃﾞｰﾀ!$B:$J,7,0)),IF(ISERROR(VLOOKUP($E97,新規登録!$B:$I,7,0)),\"未登録\",VLOOKUP($E97,新規登録!$B:$I,7,0)),$G$3))","v":""},{"$f":"IF($E97=\"\",\"\",IF(ISERROR(VLOOKUP($E97,氏名ﾃﾞｰﾀ!$B:$J,6,0)),IF(ISERROR(VLOOKUP($E97,新規登録!$B:$I,8,0)),\"ﾅｼ\",VLOOKUP($E97,新規登録!$B:$I,8,0)),(VLOOKUP($E97,氏名ﾃﾞｰﾀ!$B:$J,6,0))))","v":""},{"$f":"IF($E97=\"\",\"\",IF(ISERROR(VLOOKUP($E97,氏名ﾃﾞｰﾀ!$B:$J,9,0)),IF(ISERROR(VLOOKUP($E97,新規登録!$B:$I,9,0)),\"未登録\",VLOOKUP($E97,新規登録!$B:$I,9,0)),(VLOOKUP($E97,氏名ﾃﾞｰﾀ!$B:$J,9,0))))","v":""},null,null,null,null,null,null,null,null,null,null,null,null,null,null,null,null,null,null,null,null,2,{"$f":"IF(N97=\"\",\"\",VLOOKUP(N97,ﾃﾞｰﾀ!A:D,4,0))","v":""},"秒","秒"]
["","",{"$f":"IF(E98=\"\",\"\",IF(AH98=1,COUNTIF(AH$16:AH98,1)*10+2001-10,COUNTIF(AH$16:AH98,2)*10+6001-10))","v":""},83,null,{"$f":"IF($E98=\"\",\"\",IF(ISERROR(VLOOKUP($E98,氏名ﾃﾞｰﾀ!$B:$J,2,0)),IF(ISERROR(VLOOKUP($E98,新規登録!$B:$I,2,0)),\"未登録\",VLOOKUP($E98,新規登録!$B:$I,2,0)),(VLOOKUP($E98,氏名ﾃﾞｰﾀ!$B:$J,2,0))))","v":""},{"$f":"IF($E98=\"\",\"\",IF(ISERROR(VLOOKUP($E98,氏名ﾃﾞｰﾀ!$B:$J,3,0)),IF(ISERROR(VLOOKUP($E98,新規登録!$B:$I,3,0)),\"未登録\",VLOOKUP($E98,新規登録!$B:$I,3,0)),(VLOOKUP($E98,氏名ﾃﾞｰﾀ!$B:$J,3,0))))","v":""},{"$f":"IF($E98=\"\",\"\",IF(ISERROR(VLOOKUP($E98,氏名ﾃﾞｰﾀ!$B:$J,4,0)),IF(ISERROR(VLOOKUP($E98,新規登録!$B:$I,4,0)),\"未登録\",VLOOKUP($E98,新規登録!$B:$I,4,0)),(VLOOKUP($E98,氏名ﾃﾞｰﾀ!$B:$J,4,0))))","v":""},{"$f":"IF($E98=\"\",\"\",IF(ISERROR(VLOOKUP($E98,氏名ﾃﾞｰﾀ!$B:$J,5,0)),IF(ISERROR(VLOOKUP($E98,新規登録!$B:$I,5,0)),\"未登録\",VLOOKUP($E98,新規登録!$B:$I,5,0)),(VLOOKUP($E98,氏名ﾃﾞｰﾀ!$B:$J,5,0))))","v":""},{"$f":"IF($E98=\"\",\"\",IF(ISERROR(VLOOKUP($E98,氏名ﾃﾞｰﾀ!$B:$J,8,0)),IF(ISERROR(VLOOKUP($E98,新規登録!$B:$I,6,0)),\"未登録\",VLOOKUP($E98,新規登録!$B:$I,6,0)),(VLOOKUP($E98,氏名ﾃﾞｰﾀ!$B:$J,8,0))))","v":""},{"$f":"IF($E98=\"\",\"\",IF(ISERROR(VLOOKUP($E98,氏名ﾃﾞｰﾀ!$B:$J,7,0)),IF(ISERROR(VLOOKUP($E98,新規登録!$B:$I,7,0)),\"未登録\",VLOOKUP($E98,新規登録!$B:$I,7,0)),$G$3))","v":""},{"$f":"IF($E98=\"\",\"\",IF(ISERROR(VLOOKUP($E98,氏名ﾃﾞｰﾀ!$B:$J,6,0)),IF(ISERROR(VLOOKUP($E98,新規登録!$B:$I,8,0)),\"ﾅｼ\",VLOOKUP($E98,新規登録!$B:$I,8,0)),(VLOOKUP($E98,氏名ﾃﾞｰﾀ!$B:$J,6,0))))","v":""},{"$f":"IF($E98=\"\",\"\",IF(ISERROR(VLOOKUP($E98,氏名ﾃﾞｰﾀ!$B:$J,9,0)),IF(ISERROR(VLOOKUP($E98,新規登録!$B:$I,9,0)),\"未登録\",VLOOKUP($E98,新規登録!$B:$I,9,0)),(VLOOKUP($E98,氏名ﾃﾞｰﾀ!$B:$J,9,0))))","v":""},null,null,null,null,null,null,null,null,null,null,null,null,null,null,null,null,null,null,null,null,2,{"$f":"IF(N98=\"\",\"\",VLOOKUP(N98,ﾃﾞｰﾀ!A:D,4,0))","v":""},"秒","秒"]
["","",{"$f":"IF(E99=\"\",\"\",IF(AH99=1,COUNTIF(AH$16:AH99,1)*10+2001-10,COUNTIF(AH$16:AH99,2)*10+6001-10))","v":""},84,null,{"$f":"IF($E99=\"\",\"\",IF(ISERROR(VLOOKUP($E99,氏名ﾃﾞｰﾀ!$B:$J,2,0)),IF(ISERROR(VLOOKUP($E99,新規登録!$B:$I,2,0)),\"未登録\",VLOOKUP($E99,新規登録!$B:$I,2,0)),(VLOOKUP($E99,氏名ﾃﾞｰﾀ!$B:$J,2,0))))","v":""},{"$f":"IF($E99=\"\",\"\",IF(ISERROR(VLOOKUP($E99,氏名ﾃﾞｰﾀ!$B:$J,3,0)),IF(ISERROR(VLOOKUP($E99,新規登録!$B:$I,3,0)),\"未登録\",VLOOKUP($E99,新規登録!$B:$I,3,0)),(VLOOKUP($E99,氏名ﾃﾞｰﾀ!$B:$J,3,0))))","v":""},{"$f":"IF($E99=\"\",\"\",IF(ISERROR(VLOOKUP($E99,氏名ﾃﾞｰﾀ!$B:$J,4,0)),IF(ISERROR(VLOOKUP($E99,新規登録!$B:$I,4,0)),\"未登録\",VLOOKUP($E99,新規登録!$B:$I,4,0)),(VLOOKUP($E99,氏名ﾃﾞｰﾀ!$B:$J,4,0))))","v":""},{"$f":"IF($E99=\"\",\"\",IF(ISERROR(VLOOKUP($E99,氏名ﾃﾞｰﾀ!$B:$J,5,0)),IF(ISERROR(VLOOKUP($E99,新規登録!$B:$I,5,0)),\"未登録\",VLOOKUP($E99,新規登録!$B:$I,5,0)),(VLOOKUP($E99,氏名ﾃﾞｰﾀ!$B:$J,5,0))))","v":""},{"$f":"IF($E99=\"\",\"\",IF(ISERROR(VLOOKUP($E99,氏名ﾃﾞｰﾀ!$B:$J,8,0)),IF(ISERROR(VLOOKUP($E99,新規登録!$B:$I,6,0)),\"未登録\",VLOOKUP($E99,新規登録!$B:$I,6,0)),(VLOOKUP($E99,氏名ﾃﾞｰﾀ!$B:$J,8,0))))","v":""},{"$f":"IF($E99=\"\",\"\",IF(ISERROR(VLOOKUP($E99,氏名ﾃﾞｰﾀ!$B:$J,7,0)),IF(ISERROR(VLOOKUP($E99,新規登録!$B:$I,7,0)),\"未登録\",VLOOKUP($E99,新規登録!$B:$I,7,0)),$G$3))","v":""},{"$f":"IF($E99=\"\",\"\",IF(ISERROR(VLOOKUP($E99,氏名ﾃﾞｰﾀ!$B:$J,6,0)),IF(ISERROR(VLOOKUP($E99,新規登録!$B:$I,8,0)),\"ﾅｼ\",VLOOKUP($E99,新規登録!$B:$I,8,0)),(VLOOKUP($E99,氏名ﾃﾞｰﾀ!$B:$J,6,0))))","v":""},{"$f":"IF($E99=\"\",\"\",IF(ISERROR(VLOOKUP($E99,氏名ﾃﾞｰﾀ!$B:$J,9,0)),IF(ISERROR(VLOOKUP($E99,新規登録!$B:$I,9,0)),\"未登録\",VLOOKUP($E99,新規登録!$B:$I,9,0)),(VLOOKUP($E99,氏名ﾃﾞｰﾀ!$B:$J,9,0))))","v":""},null,null,null,null,null,null,null,null,null,null,null,null,null,null,null,null,null,null,null,null,2,{"$f":"IF(N99=\"\",\"\",VLOOKUP(N99,ﾃﾞｰﾀ!A:D,4,0))","v":""},"秒","秒"]
["","",{"$f":"IF(E100=\"\",\"\",IF(AH100=1,COUNTIF(AH$16:AH100,1)*10+2001-10,COUNTIF(AH$16:AH100,2)*10+6001-10))","v":""},85,null,{"$f":"IF($E100=\"\",\"\",IF(ISERROR(VLOOKUP($E100,氏名ﾃﾞｰﾀ!$B:$J,2,0)),IF(ISERROR(VLOOKUP($E100,新規登録!$B:$I,2,0)),\"未登録\",VLOOKUP($E100,新規登録!$B:$I,2,0)),(VLOOKUP($E100,氏名ﾃﾞｰﾀ!$B:$J,2,0))))","v":""},{"$f":"IF($E100=\"\",\"\",IF(ISERROR(VLOOKUP($E100,氏名ﾃﾞｰﾀ!$B:$J,3,0)),IF(ISERROR(VLOOKUP($E100,新規登録!$B:$I,3,0)),\"未登録\",VLOOKUP($E100,新規登録!$B:$I,3,0)),(VLOOKUP($E100,氏名ﾃﾞｰﾀ!$B:$J,3,0))))","v":""},{"$f":"IF($E100=\"\",\"\",IF(ISERROR(VLOOKUP($E100,氏名ﾃﾞｰﾀ!$B:$J,4,0)),IF(ISERROR(VLOOKUP($E100,新規登録!$B:$I,4,0)),\"未登録\",VLOOKUP($E100,新規登録!$B:$I,4,0)),(VLOOKUP($E100,氏名ﾃﾞｰﾀ!$B:$J,4,0))))","v":""},{"$f":"IF($E100=\"\",\"\",IF(ISERROR(VLOOKUP($E100,氏名ﾃﾞｰﾀ!$B:$J,5,0)),IF(ISERROR(VLOOKUP($E100,新規登録!$B:$I,5,0)),\"未登録\",VLOOKUP($E100,新規登録!$B:$I,5,0)),(VLOOKUP($E100,氏名ﾃﾞｰﾀ!$B:$J,5,0))))","v":""},{"$f":"IF($E100=\"\",\"\",IF(ISERROR(VLOOKUP($E100,氏名ﾃﾞｰﾀ!$B:$J,8,0)),IF(ISERROR(VLOOKUP($E100,新規登録!$B:$I,6,0)),\"未登録\",VLOOKUP($E100,新規登録!$B:$I,6,0)),(VLOOKUP($E100,氏名ﾃﾞｰﾀ!$B:$J,8,0))))","v":""},{"$f":"IF($E100=\"\",\"\",IF(ISERROR(VLOOKUP($E100,氏名ﾃﾞｰﾀ!$B:$J,7,0)),IF(ISERROR(VLOOKUP($E100,新規登録!$B:$I,7,0)),\"未登録\",VLOOKUP($E100,新規登録!$B:$I,7,0)),$G$3))","v":""},{"$f":"IF($E100=\"\",\"\",IF(ISERROR(VLOOKUP($E100,氏名ﾃﾞｰﾀ!$B:$J,6,0)),IF(ISERROR(VLOOKUP($E100,新規登録!$B:$I,8,0)),\"ﾅｼ\",VLOOKUP($E100,新規登録!$B:$I,8,0)),(VLOOKUP($E100,氏名ﾃﾞｰﾀ!$B:$J,6,0))))","v":""},{"$f":"IF($E100=\"\",\"\",IF(ISERROR(VLOOKUP($E100,氏名ﾃﾞｰﾀ!$B:$J,9,0)),IF(ISERROR(VLOOKUP($E100,新規登録!$B:$I,9,0)),\"未登録\",VLOOKUP($E100,新規登録!$B:$I,9,0)),(VLOOKUP($E100,氏名ﾃﾞｰﾀ!$B:$J,9,0))))","v":""},null,null,null,null,null,null,null,null,null,null,null,null,null,null,null,null,null,null,null,null,2,{"$f":"IF(N100=\"\",\"\",VLOOKUP(N100,ﾃﾞｰﾀ!A:D,4,0))","v":""},"秒","秒"]
["","",{"$f":"IF(E101=\"\",\"\",IF(AH101=1,COUNTIF(AH$16:AH101,1)*10+2001-10,COUNTIF(AH$16:AH101,2)*10+6001-10))","v":""},86,null,{"$f":"IF($E101=\"\",\"\",IF(ISERROR(VLOOKUP($E101,氏名ﾃﾞｰﾀ!$B:$J,2,0)),IF(ISERROR(VLOOKUP($E101,新規登録!$B:$I,2,0)),\"未登録\",VLOOKUP($E101,新規登録!$B:$I,2,0)),(VLOOKUP($E101,氏名ﾃﾞｰﾀ!$B:$J,2,0))))","v":""},{"$f":"IF($E101=\"\",\"\",IF(ISERROR(VLOOKUP($E101,氏名ﾃﾞｰﾀ!$B:$J,3,0)),IF(ISERROR(VLOOKUP($E101,新規登録!$B:$I,3,0)),\"未登録\",VLOOKUP($E101,新規登録!$B:$I,3,0)),(VLOOKUP($E101,氏名ﾃﾞｰﾀ!$B:$J,3,0))))","v":""},{"$f":"IF($E101=\"\",\"\",IF(ISERROR(VLOOKUP($E101,氏名ﾃﾞｰﾀ!$B:$J,4,0)),IF(ISERROR(VLOOKUP($E101,新規登録!$B:$I,4,0)),\"未登録\",VLOOKUP($E101,新規登録!$B:$I,4,0)),(VLOOKUP($E101,氏名ﾃﾞｰﾀ!$B:$J,4,0))))","v":""},{"$f":"IF($E101=\"\",\"\",IF(ISERROR(VLOOKUP($E101,氏名ﾃﾞｰﾀ!$B:$J,5,0)),IF(ISERROR(VLOOKUP($E101,新規登録!$B:$I,5,0)),\"未登録\",VLOOKUP($E101,新規登録!$B:$I,5,0)),(VLOOKUP($E101,氏名ﾃﾞｰﾀ!$B:$J,5,0))))","v":""},{"$f":"IF($E101=\"\",\"\",IF(ISERROR(VLOOKUP($E101,氏名ﾃﾞｰﾀ!$B:$J,8,0)),IF(ISERROR(VLOOKUP($E101,新規登録!$B:$I,6,0)),\"未登録\",VLOOKUP($E101,新規登録!$B:$I,6,0)),(VLOOKUP($E101,氏名ﾃﾞｰﾀ!$B:$J,8,0))))","v":""},{"$f":"IF($E101=\"\",\"\",IF(ISERROR(VLOOKUP($E101,氏名ﾃﾞｰﾀ!$B:$J,7,0)),IF(ISERROR(VLOOKUP($E101,新規登録!$B:$I,7,0)),\"未登録\",VLOOKUP($E101,新規登録!$B:$I,7,0)),$G$3))","v":""},{"$f":"IF($E101=\"\",\"\",IF(ISERROR(VLOOKUP($E101,氏名ﾃﾞｰﾀ!$B:$J,6,0)),IF(ISERROR(VLOOKUP($E101,新規登録!$B:$I,8,0)),\"ﾅｼ\",VLOOKUP($E101,新規登録!$B:$I,8,0)),(VLOOKUP($E101,氏名ﾃﾞｰﾀ!$B:$J,6,0))))","v":""},{"$f":"IF($E101=\"\",\"\",IF(ISERROR(VLOOKUP($E101,氏名ﾃﾞｰﾀ!$B:$J,9,0)),IF(ISERROR(VLOOKUP($E101,新規登録!$B:$I,9,0)),\"未登録\",VLOOKUP($E101,新規登録!$B:$I,9,0)),(VLOOKUP($E101,氏名ﾃﾞｰﾀ!$B:$J,9,0))))","v":""},null,null,null,null,null,null,null,null,null,null,null,null,null,null,null,null,null,null,null,null,2,{"$f":"IF(N101=\"\",\"\",VLOOKUP(N101,ﾃﾞｰﾀ!A:D,4,0))","v":""},"秒","秒"]
["","",{"$f":"IF(E102=\"\",\"\",IF(AH102=1,COUNTIF(AH$16:AH102,1)*10+2001-10,COUNTIF(AH$16:AH102,2)*10+6001-10))","v":""},87,null,{"$f":"IF($E102=\"\",\"\",IF(ISERROR(VLOOKUP($E102,氏名ﾃﾞｰﾀ!$B:$J,2,0)),IF(ISERROR(VLOOKUP($E102,新規登録!$B:$I,2,0)),\"未登録\",VLOOKUP($E102,新規登録!$B:$I,2,0)),(VLOOKUP($E102,氏名ﾃﾞｰﾀ!$B:$J,2,0))))","v":""},{"$f":"IF($E102=\"\",\"\",IF(ISERROR(VLOOKUP($E102,氏名ﾃﾞｰﾀ!$B:$J,3,0)),IF(ISERROR(VLOOKUP($E102,新規登録!$B:$I,3,0)),\"未登録\",VLOOKUP($E102,新規登録!$B:$I,3,0)),(VLOOKUP($E102,氏名ﾃﾞｰﾀ!$B:$J,3,0))))","v":""},{"$f":"IF($E102=\"\",\"\",IF(ISERROR(VLOOKUP($E102,氏名ﾃﾞｰﾀ!$B:$J,4,0)),IF(ISERROR(VLOOKUP($E102,新規登録!$B:$I,4,0)),\"未登録\",VLOOKUP($E102,新規登録!$B:$I,4,0)),(VLOOKUP($E102,氏名ﾃﾞｰﾀ!$B:$J,4,0))))","v":""},{"$f":"IF($E102=\"\",\"\",IF(ISERROR(VLOOKUP($E102,氏名ﾃﾞｰﾀ!$B:$J,5,0)),IF(ISERROR(VLOOKUP($E102,新規登録!$B:$I,5,0)),\"未登録\",VLOOKUP($E102,新規登録!$B:$I,5,0)),(VLOOKUP($E102,氏名ﾃﾞｰﾀ!$B:$J,5,0))))","v":""},{"$f":"IF($E102=\"\",\"\",IF(ISERROR(VLOOKUP($E102,氏名ﾃﾞｰﾀ!$B:$J,8,0)),IF(ISERROR(VLOOKUP($E102,新規登録!$B:$I,6,0)),\"未登録\",VLOOKUP($E102,新規登録!$B:$I,6,0)),(VLOOKUP($E102,氏名ﾃﾞｰﾀ!$B:$J,8,0))))","v":""},{"$f":"IF($E102=\"\",\"\",IF(ISERROR(VLOOKUP($E102,氏名ﾃﾞｰﾀ!$B:$J,7,0)),IF(ISERROR(VLOOKUP($E102,新規登録!$B:$I,7,0)),\"未登録\",VLOOKUP($E102,新規登録!$B:$I,7,0)),$G$3))","v":""},{"$f":"IF($E102=\"\",\"\",IF(ISERROR(VLOOKUP($E102,氏名ﾃﾞｰﾀ!$B:$J,6,0)),IF(ISERROR(VLOOKUP($E102,新規登録!$B:$I,8,0)),\"ﾅｼ\",VLOOKUP($E102,新規登録!$B:$I,8,0)),(VLOOKUP($E102,氏名ﾃﾞｰﾀ!$B:$J,6,0))))","v":""},{"$f":"IF($E102=\"\",\"\",IF(ISERROR(VLOOKUP($E102,氏名ﾃﾞｰﾀ!$B:$J,9,0)),IF(ISERROR(VLOOKUP($E102,新規登録!$B:$I,9,0)),\"未登録\",VLOOKUP($E102,新規登録!$B:$I,9,0)),(VLOOKUP($E102,氏名ﾃﾞｰﾀ!$B:$J,9,0))))","v":""},null,null,null,null,null,null,null,null,null,null,null,null,null,null,null,null,null,null,null,null,2,{"$f":"IF(N102=\"\",\"\",VLOOKUP(N102,ﾃﾞｰﾀ!A:D,4,0))","v":""},"秒","秒"]
["","",{"$f":"IF(E103=\"\",\"\",IF(AH103=1,COUNTIF(AH$16:AH103,1)*10+2001-10,COUNTIF(AH$16:AH103,2)*10+6001-10))","v":""},88,null,{"$f":"IF($E103=\"\",\"\",IF(ISERROR(VLOOKUP($E103,氏名ﾃﾞｰﾀ!$B:$J,2,0)),IF(ISERROR(VLOOKUP($E103,新規登録!$B:$I,2,0)),\"未登録\",VLOOKUP($E103,新規登録!$B:$I,2,0)),(VLOOKUP($E103,氏名ﾃﾞｰﾀ!$B:$J,2,0))))","v":""},{"$f":"IF($E103=\"\",\"\",IF(ISERROR(VLOOKUP($E103,氏名ﾃﾞｰﾀ!$B:$J,3,0)),IF(ISERROR(VLOOKUP($E103,新規登録!$B:$I,3,0)),\"未登録\",VLOOKUP($E103,新規登録!$B:$I,3,0)),(VLOOKUP($E103,氏名ﾃﾞｰﾀ!$B:$J,3,0))))","v":""},{"$f":"IF($E103=\"\",\"\",IF(ISERROR(VLOOKUP($E103,氏名ﾃﾞｰﾀ!$B:$J,4,0)),IF(ISERROR(VLOOKUP($E103,新規登録!$B:$I,4,0)),\"未登録\",VLOOKUP($E103,新規登録!$B:$I,4,0)),(VLOOKUP($E103,氏名ﾃﾞｰﾀ!$B:$J,4,0))))","v":""},{"$f":"IF($E103=\"\",\"\",IF(ISERROR(VLOOKUP($E103,氏名ﾃﾞｰﾀ!$B:$J,5,0)),IF(ISERROR(VLOOKUP($E103,新規登録!$B:$I,5,0)),\"未登録\",VLOOKUP($E103,新規登録!$B:$I,5,0)),(VLOOKUP($E103,氏名ﾃﾞｰﾀ!$B:$J,5,0))))","v":""},{"$f":"IF($E103=\"\",\"\",IF(ISERROR(VLOOKUP($E103,氏名ﾃﾞｰﾀ!$B:$J,8,0)),IF(ISERROR(VLOOKUP($E103,新規登録!$B:$I,6,0)),\"未登録\",VLOOKUP($E103,新規登録!$B:$I,6,0)),(VLOOKUP($E103,氏名ﾃﾞｰﾀ!$B:$J,8,0))))","v":""},{"$f":"IF($E103=\"\",\"\",IF(ISERROR(VLOOKUP($E103,氏名ﾃﾞｰﾀ!$B:$J,7,0)),IF(ISERROR(VLOOKUP($E103,新規登録!$B:$I,7,0)),\"未登録\",VLOOKUP($E103,新規登録!$B:$I,7,0)),$G$3))","v":""},{"$f":"IF($E103=\"\",\"\",IF(ISERROR(VLOOKUP($E103,氏名ﾃﾞｰﾀ!$B:$J,6,0)),IF(ISERROR(VLOOKUP($E103,新規登録!$B:$I,8,0)),\"ﾅｼ\",VLOOKUP($E103,新規登録!$B:$I,8,0)),(VLOOKUP($E103,氏名ﾃﾞｰﾀ!$B:$J,6,0))))","v":""},{"$f":"IF($E103=\"\",\"\",IF(ISERROR(VLOOKUP($E103,氏名ﾃﾞｰﾀ!$B:$J,9,0)),IF(ISERROR(VLOOKUP($E103,新規登録!$B:$I,9,0)),\"未登録\",VLOOKUP($E103,新規登録!$B:$I,9,0)),(VLOOKUP($E103,氏名ﾃﾞｰﾀ!$B:$J,9,0))))","v":""},null,null,null,null,null,null,null,null,null,null,null,null,null,null,null,null,null,null,null,null,2,{"$f":"IF(N103=\"\",\"\",VLOOKUP(N103,ﾃﾞｰﾀ!A:D,4,0))","v":""},"秒","秒"]
["","",{"$f":"IF(E104=\"\",\"\",IF(AH104=1,COUNTIF(AH$16:AH104,1)*10+2001-10,COUNTIF(AH$16:AH104,2)*10+6001-10))","v":""},89,null,{"$f":"IF($E104=\"\",\"\",IF(ISERROR(VLOOKUP($E104,氏名ﾃﾞｰﾀ!$B:$J,2,0)),IF(ISERROR(VLOOKUP($E104,新規登録!$B:$I,2,0)),\"未登録\",VLOOKUP($E104,新規登録!$B:$I,2,0)),(VLOOKUP($E104,氏名ﾃﾞｰﾀ!$B:$J,2,0))))","v":""},{"$f":"IF($E104=\"\",\"\",IF(ISERROR(VLOOKUP($E104,氏名ﾃﾞｰﾀ!$B:$J,3,0)),IF(ISERROR(VLOOKUP($E104,新規登録!$B:$I,3,0)),\"未登録\",VLOOKUP($E104,新規登録!$B:$I,3,0)),(VLOOKUP($E104,氏名ﾃﾞｰﾀ!$B:$J,3,0))))","v":""},{"$f":"IF($E104=\"\",\"\",IF(ISERROR(VLOOKUP($E104,氏名ﾃﾞｰﾀ!$B:$J,4,0)),IF(ISERROR(VLOOKUP($E104,新規登録!$B:$I,4,0)),\"未登録\",VLOOKUP($E104,新規登録!$B:$I,4,0)),(VLOOKUP($E104,氏名ﾃﾞｰﾀ!$B:$J,4,0))))","v":""},{"$f":"IF($E104=\"\",\"\",IF(ISERROR(VLOOKUP($E104,氏名ﾃﾞｰﾀ!$B:$J,5,0)),IF(ISERROR(VLOOKUP($E104,新規登録!$B:$I,5,0)),\"未登録\",VLOOKUP($E104,新規登録!$B:$I,5,0)),(VLOOKUP($E104,氏名ﾃﾞｰﾀ!$B:$J,5,0))))","v":""},{"$f":"IF($E104=\"\",\"\",IF(ISERROR(VLOOKUP($E104,氏名ﾃﾞｰﾀ!$B:$J,8,0)),IF(ISERROR(VLOOKUP($E104,新規登録!$B:$I,6,0)),\"未登録\",VLOOKUP($E104,新規登録!$B:$I,6,0)),(VLOOKUP($E104,氏名ﾃﾞｰﾀ!$B:$J,8,0))))","v":""},{"$f":"IF($E104=\"\",\"\",IF(ISERROR(VLOOKUP($E104,氏名ﾃﾞｰﾀ!$B:$J,7,0)),IF(ISERROR(VLOOKUP($E104,新規登録!$B:$I,7,0)),\"未登録\",VLOOKUP($E104,新規登録!$B:$I,7,0)),$G$3))","v":""},{"$f":"IF($E104=\"\",\"\",IF(ISERROR(VLOOKUP($E104,氏名ﾃﾞｰﾀ!$B:$J,6,0)),IF(ISERROR(VLOOKUP($E104,新規登録!$B:$I,8,0)),\"ﾅｼ\",VLOOKUP($E104,新規登録!$B:$I,8,0)),(VLOOKUP($E104,氏名ﾃﾞｰﾀ!$B:$J,6,0))))","v":""},{"$f":"IF($E104=\"\",\"\",IF(ISERROR(VLOOKUP($E104,氏名ﾃﾞｰﾀ!$B:$J,9,0)),IF(ISERROR(VLOOKUP($E104,新規登録!$B:$I,9,0)),\"未登録\",VLOOKUP($E104,新規登録!$B:$I,9,0)),(VLOOKUP($E104,氏名ﾃﾞｰﾀ!$B:$J,9,0))))","v":""},null,null,null,null,null,null,null,null,null,null,null,null,null,null,null,null,null,null,null,null,2,{"$f":"IF(N104=\"\",\"\",VLOOKUP(N104,ﾃﾞｰﾀ!A:D,4,0))","v":""},"秒","秒"]
["","",{"$f":"IF(E105=\"\",\"\",IF(AH105=1,COUNTIF(AH$16:AH105,1)*10+2001-10,COUNTIF(AH$16:AH105,2)*10+6001-10))","v":""},90,null,{"$f":"IF($E105=\"\",\"\",IF(ISERROR(VLOOKUP($E105,氏名ﾃﾞｰﾀ!$B:$J,2,0)),IF(ISERROR(VLOOKUP($E105,新規登録!$B:$I,2,0)),\"未登録\",VLOOKUP($E105,新規登録!$B:$I,2,0)),(VLOOKUP($E105,氏名ﾃﾞｰﾀ!$B:$J,2,0))))","v":""},{"$f":"IF($E105=\"\",\"\",IF(ISERROR(VLOOKUP($E105,氏名ﾃﾞｰﾀ!$B:$J,3,0)),IF(ISERROR(VLOOKUP($E105,新規登録!$B:$I,3,0)),\"未登録\",VLOOKUP($E105,新規登録!$B:$I,3,0)),(VLOOKUP($E105,氏名ﾃﾞｰﾀ!$B:$J,3,0))))","v":""},{"$f":"IF($E105=\"\",\"\",IF(ISERROR(VLOOKUP($E105,氏名ﾃﾞｰﾀ!$B:$J,4,0)),IF(ISERROR(VLOOKUP($E105,新規登録!$B:$I,4,0)),\"未登録\",VLOOKUP($E105,新規登録!$B:$I,4,0)),(VLOOKUP($E105,氏名ﾃﾞｰﾀ!$B:$J,4,0))))","v":""},{"$f":"IF($E105=\"\",\"\",IF(ISERROR(VLOOKUP($E105,氏名ﾃﾞｰﾀ!$B:$J,5,0)),IF(ISERROR(VLOOKUP($E105,新規登録!$B:$I,5,0)),\"未登録\",VLOOKUP($E105,新規登録!$B:$I,5,0)),(VLOOKUP($E105,氏名ﾃﾞｰﾀ!$B:$J,5,0))))","v":""},{"$f":"IF($E105=\"\",\"\",IF(ISERROR(VLOOKUP($E105,氏名ﾃﾞｰﾀ!$B:$J,8,0)),IF(ISERROR(VLOOKUP($E105,新規登録!$B:$I,6,0)),\"未登録\",VLOOKUP($E105,新規登録!$B:$I,6,0)),(VLOOKUP($E105,氏名ﾃﾞｰﾀ!$B:$J,8,0))))","v":""},{"$f":"IF($E105=\"\",\"\",IF(ISERROR(VLOOKUP($E105,氏名ﾃﾞｰﾀ!$B:$J,7,0)),IF(ISERROR(VLOOKUP($E105,新規登録!$B:$I,7,0)),\"未登録\",VLOOKUP($E105,新規登録!$B:$I,7,0)),$G$3))","v":""},{"$f":"IF($E105=\"\",\"\",IF(ISERROR(VLOOKUP($E105,氏名ﾃﾞｰﾀ!$B:$J,6,0)),IF(ISERROR(VLOOKUP($E105,新規登録!$B:$I,8,0)),\"ﾅｼ\",VLOOKUP($E105,新規登録!$B:$I,8,0)),(VLOOKUP($E105,氏名ﾃﾞｰﾀ!$B:$J,6,0))))","v":""},{"$f":"IF($E105=\"\",\"\",IF(ISERROR(VLOOKUP($E105,氏名ﾃﾞｰﾀ!$B:$J,9,0)),IF(ISERROR(VLOOKUP($E105,新規登録!$B:$I,9,0)),\"未登録\",VLOOKUP($E105,新規登録!$B:$I,9,0)),(VLOOKUP($E105,氏名ﾃﾞｰﾀ!$B:$J,9,0))))","v":""},null,null,null,null,null,null,null,null,null,null,null,null,null,null,null,null,null,null,null,null,2,{"$f":"IF(N105=\"\",\"\",VLOOKUP(N105,ﾃﾞｰﾀ!A:D,4,0))","v":""},"秒","秒"]
["","",{"$f":"IF(E106=\"\",\"\",IF(AH106=1,COUNTIF(AH$16:AH106,1)*10+2001-10,COUNTIF(AH$16:AH106,2)*10+6001-10))","v":""},91,null,{"$f":"IF($E106=\"\",\"\",IF(ISERROR(VLOOKUP($E106,氏名ﾃﾞｰﾀ!$B:$J,2,0)),IF(ISERROR(VLOOKUP($E106,新規登録!$B:$I,2,0)),\"未登録\",VLOOKUP($E106,新規登録!$B:$I,2,0)),(VLOOKUP($E106,氏名ﾃﾞｰﾀ!$B:$J,2,0))))","v":""},{"$f":"IF($E106=\"\",\"\",IF(ISERROR(VLOOKUP($E106,氏名ﾃﾞｰﾀ!$B:$J,3,0)),IF(ISERROR(VLOOKUP($E106,新規登録!$B:$I,3,0)),\"未登録\",VLOOKUP($E106,新規登録!$B:$I,3,0)),(VLOOKUP($E106,氏名ﾃﾞｰﾀ!$B:$J,3,0))))","v":""},{"$f":"IF($E106=\"\",\"\",IF(ISERROR(VLOOKUP($E106,氏名ﾃﾞｰﾀ!$B:$J,4,0)),IF(ISERROR(VLOOKUP($E106,新規登録!$B:$I,4,0)),\"未登録\",VLOOKUP($E106,新規登録!$B:$I,4,0)),(VLOOKUP($E106,氏名ﾃﾞｰﾀ!$B:$J,4,0))))","v":""},{"$f":"IF($E106=\"\",\"\",IF(ISERROR(VLOOKUP($E106,氏名ﾃﾞｰﾀ!$B:$J,5,0)),IF(ISERROR(VLOOKUP($E106,新規登録!$B:$I,5,0)),\"未登録\",VLOOKUP($E106,新規登録!$B:$I,5,0)),(VLOOKUP($E106,氏名ﾃﾞｰﾀ!$B:$J,5,0))))","v":""},{"$f":"IF($E106=\"\",\"\",IF(ISERROR(VLOOKUP($E106,氏名ﾃﾞｰﾀ!$B:$J,8,0)),IF(ISERROR(VLOOKUP($E106,新規登録!$B:$I,6,0)),\"未登録\",VLOOKUP($E106,新規登録!$B:$I,6,0)),(VLOOKUP($E106,氏名ﾃﾞｰﾀ!$B:$J,8,0))))","v":""},{"$f":"IF($E106=\"\",\"\",IF(ISERROR(VLOOKUP($E106,氏名ﾃﾞｰﾀ!$B:$J,7,0)),IF(ISERROR(VLOOKUP($E106,新規登録!$B:$I,7,0)),\"未登録\",VLOOKUP($E106,新規登録!$B:$I,7,0)),$G$3))","v":""},{"$f":"IF($E106=\"\",\"\",IF(ISERROR(VLOOKUP($E106,氏名ﾃﾞｰﾀ!$B:$J,6,0)),IF(ISERROR(VLOOKUP($E106,新規登録!$B:$I,8,0)),\"ﾅｼ\",VLOOKUP($E106,新規登録!$B:$I,8,0)),(VLOOKUP($E106,氏名ﾃﾞｰﾀ!$B:$J,6,0))))","v":""},{"$f":"IF($E106=\"\",\"\",IF(ISERROR(VLOOKUP($E106,氏名ﾃﾞｰﾀ!$B:$J,9,0)),IF(ISERROR(VLOOKUP($E106,新規登録!$B:$I,9,0)),\"未登録\",VLOOKUP($E106,新規登録!$B:$I,9,0)),(VLOOKUP($E106,氏名ﾃﾞｰﾀ!$B:$J,9,0))))","v":""},null,null,null,null,null,null,null,null,null,null,null,null,null,null,null,null,null,null,null,null,2,{"$f":"IF(N106=\"\",\"\",VLOOKUP(N106,ﾃﾞｰﾀ!A:D,4,0))","v":""},"秒","秒"]
["","",{"$f":"IF(E107=\"\",\"\",IF(AH107=1,COUNTIF(AH$16:AH107,1)*10+2001-10,COUNTIF(AH$16:AH107,2)*10+6001-10))","v":""},92,null,{"$f":"IF($E107=\"\",\"\",IF(ISERROR(VLOOKUP($E107,氏名ﾃﾞｰﾀ!$B:$J,2,0)),IF(ISERROR(VLOOKUP($E107,新規登録!$B:$I,2,0)),\"未登録\",VLOOKUP($E107,新規登録!$B:$I,2,0)),(VLOOKUP($E107,氏名ﾃﾞｰﾀ!$B:$J,2,0))))","v":""},{"$f":"IF($E107=\"\",\"\",IF(ISERROR(VLOOKUP($E107,氏名ﾃﾞｰﾀ!$B:$J,3,0)),IF(ISERROR(VLOOKUP($E107,新規登録!$B:$I,3,0)),\"未登録\",VLOOKUP($E107,新規登録!$B:$I,3,0)),(VLOOKUP($E107,氏名ﾃﾞｰﾀ!$B:$J,3,0))))","v":""},{"$f":"IF($E107=\"\",\"\",IF(ISERROR(VLOOKUP($E107,氏名ﾃﾞｰﾀ!$B:$J,4,0)),IF(ISERROR(VLOOKUP($E107,新規登録!$B:$I,4,0)),\"未登録\",VLOOKUP($E107,新規登録!$B:$I,4,0)),(VLOOKUP($E107,氏名ﾃﾞｰﾀ!$B:$J,4,0))))","v":""},{"$f":"IF($E107=\"\",\"\",IF(ISERROR(VLOOKUP($E107,氏名ﾃﾞｰﾀ!$B:$J,5,0)),IF(ISERROR(VLOOKUP($E107,新規登録!$B:$I,5,0)),\"未登録\",VLOOKUP($E107,新規登録!$B:$I,5,0)),(VLOOKUP($E107,氏名ﾃﾞｰﾀ!$B:$J,5,0))))","v":""},{"$f":"IF($E107=\"\",\"\",IF(ISERROR(VLOOKUP($E107,氏名ﾃﾞｰﾀ!$B:$J,8,0)),IF(ISERROR(VLOOKUP($E107,新規登録!$B:$I,6,0)),\"未登録\",VLOOKUP($E107,新規登録!$B:$I,6,0)),(VLOOKUP($E107,氏名ﾃﾞｰﾀ!$B:$J,8,0))))","v":""},{"$f":"IF($E107=\"\",\"\",IF(ISERROR(VLOOKUP($E107,氏名ﾃﾞｰﾀ!$B:$J,7,0)),IF(ISERROR(VLOOKUP($E107,新規登録!$B:$I,7,0)),\"未登録\",VLOOKUP($E107,新規登録!$B:$I,7,0)),$G$3))","v":""},{"$f":"IF($E107=\"\",\"\",IF(ISERROR(VLOOKUP($E107,氏名ﾃﾞｰﾀ!$B:$J,6,0)),IF(ISERROR(VLOOKUP($E107,新規登録!$B:$I,8,0)),\"ﾅｼ\",VLOOKUP($E107,新規登録!$B:$I,8,0)),(VLOOKUP($E107,氏名ﾃﾞｰﾀ!$B:$J,6,0))))","v":""},{"$f":"IF($E107=\"\",\"\",IF(ISERROR(VLOOKUP($E107,氏名ﾃﾞｰﾀ!$B:$J,9,0)),IF(ISERROR(VLOOKUP($E107,新規登録!$B:$I,9,0)),\"未登録\",VLOOKUP($E107,新規登録!$B:$I,9,0)),(VLOOKUP($E107,氏名ﾃﾞｰﾀ!$B:$J,9,0))))","v":""},null,null,null,null,null,null,null,null,null,null,null,null,null,null,null,null,null,null,null,null,2,{"$f":"IF(N107=\"\",\"\",VLOOKUP(N107,ﾃﾞｰﾀ!A:D,4,0))","v":""},"秒","秒"]
["","",{"$f":"IF(E108=\"\",\"\",IF(AH108=1,COUNTIF(AH$16:AH108,1)*10+2001-10,COUNTIF(AH$16:AH108,2)*10+6001-10))","v":""},93,null,{"$f":"IF($E108=\"\",\"\",IF(ISERROR(VLOOKUP($E108,氏名ﾃﾞｰﾀ!$B:$J,2,0)),IF(ISERROR(VLOOKUP($E108,新規登録!$B:$I,2,0)),\"未登録\",VLOOKUP($E108,新規登録!$B:$I,2,0)),(VLOOKUP($E108,氏名ﾃﾞｰﾀ!$B:$J,2,0))))","v":""},{"$f":"IF($E108=\"\",\"\",IF(ISERROR(VLOOKUP($E108,氏名ﾃﾞｰﾀ!$B:$J,3,0)),IF(ISERROR(VLOOKUP($E108,新規登録!$B:$I,3,0)),\"未登録\",VLOOKUP($E108,新規登録!$B:$I,3,0)),(VLOOKUP($E108,氏名ﾃﾞｰﾀ!$B:$J,3,0))))","v":""},{"$f":"IF($E108=\"\",\"\",IF(ISERROR(VLOOKUP($E108,氏名ﾃﾞｰﾀ!$B:$J,4,0)),IF(ISERROR(VLOOKUP($E108,新規登録!$B:$I,4,0)),\"未登録\",VLOOKUP($E108,新規登録!$B:$I,4,0)),(VLOOKUP($E108,氏名ﾃﾞｰﾀ!$B:$J,4,0))))","v":""},{"$f":"IF($E108=\"\",\"\",IF(ISERROR(VLOOKUP($E108,氏名ﾃﾞｰﾀ!$B:$J,5,0)),IF(ISERROR(VLOOKUP($E108,新規登録!$B:$I,5,0)),\"未登録\",VLOOKUP($E108,新規登録!$B:$I,5,0)),(VLOOKUP($E108,氏名ﾃﾞｰﾀ!$B:$J,5,0))))","v":""},{"$f":"IF($E108=\"\",\"\",IF(ISERROR(VLOOKUP($E108,氏名ﾃﾞｰﾀ!$B:$J,8,0)),IF(ISERROR(VLOOKUP($E108,新規登録!$B:$I,6,0)),\"未登録\",VLOOKUP($E108,新規登録!$B:$I,6,0)),(VLOOKUP($E108,氏名ﾃﾞｰﾀ!$B:$J,8,0))))","v":""},{"$f":"IF($E108=\"\",\"\",IF(ISERROR(VLOOKUP($E108,氏名ﾃﾞｰﾀ!$B:$J,7,0)),IF(ISERROR(VLOOKUP($E108,新規登録!$B:$I,7,0)),\"未登録\",VLOOKUP($E108,新規登録!$B:$I,7,0)),$G$3))","v":""},{"$f":"IF($E108=\"\",\"\",IF(ISERROR(VLOOKUP($E108,氏名ﾃﾞｰﾀ!$B:$J,6,0)),IF(ISERROR(VLOOKUP($E108,新規登録!$B:$I,8,0)),\"ﾅｼ\",VLOOKUP($E108,新規登録!$B:$I,8,0)),(VLOOKUP($E108,氏名ﾃﾞｰﾀ!$B:$J,6,0))))","v":""},{"$f":"IF($E108=\"\",\"\",IF(ISERROR(VLOOKUP($E108,氏名ﾃﾞｰﾀ!$B:$J,9,0)),IF(ISERROR(VLOOKUP($E108,新規登録!$B:$I,9,0)),\"未登録\",VLOOKUP($E108,新規登録!$B:$I,9,0)),(VLOOKUP($E108,氏名ﾃﾞｰﾀ!$B:$J,9,0))))","v":""},null,null,null,null,null,null,null,null,null,null,null,null,null,null,null,null,null,null,null,null,2,{"$f":"IF(N108=\"\",\"\",VLOOKUP(N108,ﾃﾞｰﾀ!A:D,4,0))","v":""},"秒","秒"]
["","",{"$f":"IF(E109=\"\",\"\",IF(AH109=1,COUNTIF(AH$16:AH109,1)*10+2001-10,COUNTIF(AH$16:AH109,2)*10+6001-10))","v":""},94,null,{"$f":"IF($E109=\"\",\"\",IF(ISERROR(VLOOKUP($E109,氏名ﾃﾞｰﾀ!$B:$J,2,0)),IF(ISERROR(VLOOKUP($E109,新規登録!$B:$I,2,0)),\"未登録\",VLOOKUP($E109,新規登録!$B:$I,2,0)),(VLOOKUP($E109,氏名ﾃﾞｰﾀ!$B:$J,2,0))))","v":""},{"$f":"IF($E109=\"\",\"\",IF(ISERROR(VLOOKUP($E109,氏名ﾃﾞｰﾀ!$B:$J,3,0)),IF(ISERROR(VLOOKUP($E109,新規登録!$B:$I,3,0)),\"未登録\",VLOOKUP($E109,新規登録!$B:$I,3,0)),(VLOOKUP($E109,氏名ﾃﾞｰﾀ!$B:$J,3,0))))","v":""},{"$f":"IF($E109=\"\",\"\",IF(ISERROR(VLOOKUP($E109,氏名ﾃﾞｰﾀ!$B:$J,4,0)),IF(ISERROR(VLOOKUP($E109,新規登録!$B:$I,4,0)),\"未登録\",VLOOKUP($E109,新規登録!$B:$I,4,0)),(VLOOKUP($E109,氏名ﾃﾞｰﾀ!$B:$J,4,0))))","v":""},{"$f":"IF($E109=\"\",\"\",IF(ISERROR(VLOOKUP($E109,氏名ﾃﾞｰﾀ!$B:$J,5,0)),IF(ISERROR(VLOOKUP($E109,新規登録!$B:$I,5,0)),\"未登録\",VLOOKUP($E109,新規登録!$B:$I,5,0)),(VLOOKUP($E109,氏名ﾃﾞｰﾀ!$B:$J,5,0))))","v":""},{"$f":"IF($E109=\"\",\"\",IF(ISERROR(VLOOKUP($E109,氏名ﾃﾞｰﾀ!$B:$J,8,0)),IF(ISERROR(VLOOKUP($E109,新規登録!$B:$I,6,0)),\"未登録\",VLOOKUP($E109,新規登録!$B:$I,6,0)),(VLOOKUP($E109,氏名ﾃﾞｰﾀ!$B:$J,8,0))))","v":""},{"$f":"IF($E109=\"\",\"\",IF(ISERROR(VLOOKUP($E109,氏名ﾃﾞｰﾀ!$B:$J,7,0)),IF(ISERROR(VLOOKUP($E109,新規登録!$B:$I,7,0)),\"未登録\",VLOOKUP($E109,新規登録!$B:$I,7,0)),$G$3))","v":""},{"$f":"IF($E109=\"\",\"\",IF(ISERROR(VLOOKUP($E109,氏名ﾃﾞｰﾀ!$B:$J,6,0)),IF(ISERROR(VLOOKUP($E109,新規登録!$B:$I,8,0)),\"ﾅｼ\",VLOOKUP($E109,新規登録!$B:$I,8,0)),(VLOOKUP($E109,氏名ﾃﾞｰﾀ!$B:$J,6,0))))","v":""},{"$f":"IF($E109=\"\",\"\",IF(ISERROR(VLOOKUP($E109,氏名ﾃﾞｰﾀ!$B:$J,9,0)),IF(ISERROR(VLOOKUP($E109,新規登録!$B:$I,9,0)),\"未登録\",VLOOKUP($E109,新規登録!$B:$I,9,0)),(VLOOKUP($E109,氏名ﾃﾞｰﾀ!$B:$J,9,0))))","v":""},null,null,null,null,null,null,null,null,null,null,null,null,null,null,null,null,null,null,null,null,2,{"$f":"IF(N109=\"\",\"\",VLOOKUP(N109,ﾃﾞｰﾀ!A:D,4,0))","v":""},"秒","秒"]
["","",{"$f":"IF(E110=\"\",\"\",IF(AH110=1,COUNTIF(AH$16:AH110,1)*10+2001-10,COUNTIF(AH$16:AH110,2)*10+6001-10))","v":""},95,null,{"$f":"IF($E110=\"\",\"\",IF(ISERROR(VLOOKUP($E110,氏名ﾃﾞｰﾀ!$B:$J,2,0)),IF(ISERROR(VLOOKUP($E110,新規登録!$B:$I,2,0)),\"未登録\",VLOOKUP($E110,新規登録!$B:$I,2,0)),(VLOOKUP($E110,氏名ﾃﾞｰﾀ!$B:$J,2,0))))","v":""},{"$f":"IF($E110=\"\",\"\",IF(ISERROR(VLOOKUP($E110,氏名ﾃﾞｰﾀ!$B:$J,3,0)),IF(ISERROR(VLOOKUP($E110,新規登録!$B:$I,3,0)),\"未登録\",VLOOKUP($E110,新規登録!$B:$I,3,0)),(VLOOKUP($E110,氏名ﾃﾞｰﾀ!$B:$J,3,0))))","v":""},{"$f":"IF($E110=\"\",\"\",IF(ISERROR(VLOOKUP($E110,氏名ﾃﾞｰﾀ!$B:$J,4,0)),IF(ISERROR(VLOOKUP($E110,新規登録!$B:$I,4,0)),\"未登録\",VLOOKUP($E110,新規登録!$B:$I,4,0)),(VLOOKUP($E110,氏名ﾃﾞｰﾀ!$B:$J,4,0))))","v":""},{"$f":"IF($E110=\"\",\"\",IF(ISERROR(VLOOKUP($E110,氏名ﾃﾞｰﾀ!$B:$J,5,0)),IF(ISERROR(VLOOKUP($E110,新規登録!$B:$I,5,0)),\"未登録\",VLOOKUP($E110,新規登録!$B:$I,5,0)),(VLOOKUP($E110,氏名ﾃﾞｰﾀ!$B:$J,5,0))))","v":""},{"$f":"IF($E110=\"\",\"\",IF(ISERROR(VLOOKUP($E110,氏名ﾃﾞｰﾀ!$B:$J,8,0)),IF(ISERROR(VLOOKUP($E110,新規登録!$B:$I,6,0)),\"未登録\",VLOOKUP($E110,新規登録!$B:$I,6,0)),(VLOOKUP($E110,氏名ﾃﾞｰﾀ!$B:$J,8,0))))","v":""},{"$f":"IF($E110=\"\",\"\",IF(ISERROR(VLOOKUP($E110,氏名ﾃﾞｰﾀ!$B:$J,7,0)),IF(ISERROR(VLOOKUP($E110,新規登録!$B:$I,7,0)),\"未登録\",VLOOKUP($E110,新規登録!$B:$I,7,0)),$G$3))","v":""},{"$f":"IF($E110=\"\",\"\",IF(ISERROR(VLOOKUP($E110,氏名ﾃﾞｰﾀ!$B:$J,6,0)),IF(ISERROR(VLOOKUP($E110,新規登録!$B:$I,8,0)),\"ﾅｼ\",VLOOKUP($E110,新規登録!$B:$I,8,0)),(VLOOKUP($E110,氏名ﾃﾞｰﾀ!$B:$J,6,0))))","v":""},{"$f":"IF($E110=\"\",\"\",IF(ISERROR(VLOOKUP($E110,氏名ﾃﾞｰﾀ!$B:$J,9,0)),IF(ISERROR(VLOOKUP($E110,新規登録!$B:$I,9,0)),\"未登録\",VLOOKUP($E110,新規登録!$B:$I,9,0)),(VLOOKUP($E110,氏名ﾃﾞｰﾀ!$B:$J,9,0))))","v":""},null,null,null,null,null,null,null,null,null,null,null,null,null,null,null,null,null,null,null,null,2,{"$f":"IF(N110=\"\",\"\",VLOOKUP(N110,ﾃﾞｰﾀ!A:D,4,0))","v":""},"秒","秒"]
["","",{"$f":"IF(E111=\"\",\"\",IF(AH111=1,COUNTIF(AH$16:AH111,1)*10+2001-10,COUNTIF(AH$16:AH111,2)*10+6001-10))","v":""},96,null,{"$f":"IF($E111=\"\",\"\",IF(ISERROR(VLOOKUP($E111,氏名ﾃﾞｰﾀ!$B:$J,2,0)),IF(ISERROR(VLOOKUP($E111,新規登録!$B:$I,2,0)),\"未登録\",VLOOKUP($E111,新規登録!$B:$I,2,0)),(VLOOKUP($E111,氏名ﾃﾞｰﾀ!$B:$J,2,0))))","v":""},{"$f":"IF($E111=\"\",\"\",IF(ISERROR(VLOOKUP($E111,氏名ﾃﾞｰﾀ!$B:$J,3,0)),IF(ISERROR(VLOOKUP($E111,新規登録!$B:$I,3,0)),\"未登録\",VLOOKUP($E111,新規登録!$B:$I,3,0)),(VLOOKUP($E111,氏名ﾃﾞｰﾀ!$B:$J,3,0))))","v":""},{"$f":"IF($E111=\"\",\"\",IF(ISERROR(VLOOKUP($E111,氏名ﾃﾞｰﾀ!$B:$J,4,0)),IF(ISERROR(VLOOKUP($E111,新規登録!$B:$I,4,0)),\"未登録\",VLOOKUP($E111,新規登録!$B:$I,4,0)),(VLOOKUP($E111,氏名ﾃﾞｰﾀ!$B:$J,4,0))))","v":""},{"$f":"IF($E111=\"\",\"\",IF(ISERROR(VLOOKUP($E111,氏名ﾃﾞｰﾀ!$B:$J,5,0)),IF(ISERROR(VLOOKUP($E111,新規登録!$B:$I,5,0)),\"未登録\",VLOOKUP($E111,新規登録!$B:$I,5,0)),(VLOOKUP($E111,氏名ﾃﾞｰﾀ!$B:$J,5,0))))","v":""},{"$f":"IF($E111=\"\",\"\",IF(ISERROR(VLOOKUP($E111,氏名ﾃﾞｰﾀ!$B:$J,8,0)),IF(ISERROR(VLOOKUP($E111,新規登録!$B:$I,6,0)),\"未登録\",VLOOKUP($E111,新規登録!$B:$I,6,0)),(VLOOKUP($E111,氏名ﾃﾞｰﾀ!$B:$J,8,0))))","v":""},{"$f":"IF($E111=\"\",\"\",IF(ISERROR(VLOOKUP($E111,氏名ﾃﾞｰﾀ!$B:$J,7,0)),IF(ISERROR(VLOOKUP($E111,新規登録!$B:$I,7,0)),\"未登録\",VLOOKUP($E111,新規登録!$B:$I,7,0)),$G$3))","v":""},{"$f":"IF($E111=\"\",\"\",IF(ISERROR(VLOOKUP($E111,氏名ﾃﾞｰﾀ!$B:$J,6,0)),IF(ISERROR(VLOOKUP($E111,新規登録!$B:$I,8,0)),\"ﾅｼ\",VLOOKUP($E111,新規登録!$B:$I,8,0)),(VLOOKUP($E111,氏名ﾃﾞｰﾀ!$B:$J,6,0))))","v":""},{"$f":"IF($E111=\"\",\"\",IF(ISERROR(VLOOKUP($E111,氏名ﾃﾞｰﾀ!$B:$J,9,0)),IF(ISERROR(VLOOKUP($E111,新規登録!$B:$I,9,0)),\"未登録\",VLOOKUP($E111,新規登録!$B:$I,9,0)),(VLOOKUP($E111,氏名ﾃﾞｰﾀ!$B:$J,9,0))))","v":""},null,null,null,null,null,null,null,null,null,null,null,null,null,null,null,null,null,null,null,null,2,{"$f":"IF(N111=\"\",\"\",VLOOKUP(N111,ﾃﾞｰﾀ!A:D,4,0))","v":""},"秒","秒"]
[{"$f":"IF(Z112=\"\",\"\",IF(L112=\"男\",VLOOKUP(Z112,ﾘﾚｰｺｰﾄﾞ,2,0),VLOOKUP(Z112,ﾘﾚｰｺｰﾄﾞ,4,0)))","v":""},{"$f":"IF(AD112=\"\",\"\",IF(L112=\"男\",VLOOKUP(AD112,ﾘﾚｰｺｰﾄﾞ,3,0),VLOOKUP(AD112,ﾘﾚｰｺｰﾄﾞ,5,0)))","v":""},{"$f":"IF(E112=\"\",\"\",IF(AH112=1,COUNTIF(AH$16:AH112,1)*10+2001-10,COUNTIF(AH$16:AH112,2)*10+6001-10))","v":""},97,null,{"$f":"IF($E112=\"\",\"\",IF(ISERROR(VLOOKUP($E112,氏名ﾃﾞｰﾀ!$B:$J,2,0)),IF(ISERROR(VLOOKUP($E112,新規登録!$B:$I,2,0)),\"未登録\",VLOOKUP($E112,新規登録!$B:$I,2,0)),(VLOOKUP($E112,氏名ﾃﾞｰﾀ!$B:$J,2,0))))","v":""},{"$f":"IF($E112=\"\",\"\",IF(ISERROR(VLOOKUP($E112,氏名ﾃﾞｰﾀ!$B:$J,3,0)),IF(ISERROR(VLOOKUP($E112,新規登録!$B:$I,3,0)),\"未登録\",VLOOKUP($E112,新規登録!$B:$I,3,0)),(VLOOKUP($E112,氏名ﾃﾞｰﾀ!$B:$J,3,0))))","v":""},{"$f":"IF($E112=\"\",\"\",IF(ISERROR(VLOOKUP($E112,氏名ﾃﾞｰﾀ!$B:$J,4,0)),IF(ISERROR(VLOOKUP($E112,新規登録!$B:$I,4,0)),\"未登録\",VLOOKUP($E112,新規登録!$B:$I,4,0)),(VLOOKUP($E112,氏名ﾃﾞｰﾀ!$B:$J,4,0))))","v":""},{"$f":"IF($E112=\"\",\"\",IF(ISERROR(VLOOKUP($E112,氏名ﾃﾞｰﾀ!$B:$J,5,0)),IF(ISERROR(VLOOKUP($E112,新規登録!$B:$I,5,0)),\"未登録\",VLOOKUP($E112,新規登録!$B:$I,5,0)),(VLOOKUP($E112,氏名ﾃﾞｰﾀ!$B:$J,5,0))))","v":""},{"$f":"IF($E112=\"\",\"\",IF(ISERROR(VLOOKUP($E112,氏名ﾃﾞｰﾀ!$B:$J,8,0)),IF(ISERROR(VLOOKUP($E112,新規登録!$B:$I,6,0)),\"未登録\",VLOOKUP($E112,新規登録!$B:$I,6,0)),(VLOOKUP($E112,氏名ﾃﾞｰﾀ!$B:$J,8,0))))","v":""},{"$f":"IF($E112=\"\",\"\",IF(ISERROR(VLOOKUP($E112,氏名ﾃﾞｰﾀ!$B:$J,7,0)),IF(ISERROR(VLOOKUP($E112,新規登録!$B:$I,7,0)),\"未登録\",VLOOKUP($E112,新規登録!$B:$I,7,0)),$G$3))","v":""},{"$f":"IF($E112=\"\",\"\",IF(ISERROR(VLOOKUP($E112,氏名ﾃﾞｰﾀ!$B:$J,6,0)),IF(ISERROR(VLOOKUP($E112,新規登録!$B:$I,8,0)),\"ﾅｼ\",VLOOKUP($E112,新規登録!$B:$I,8,0)),(VLOOKUP($E112,氏名ﾃﾞｰﾀ!$B:$J,6,0))))","v":""},{"$f":"IF($E112=\"\",\"\",IF(ISERROR(VLOOKUP($E112,氏名ﾃﾞｰﾀ!$B:$J,9,0)),IF(ISERROR(VLOOKUP($E112,新規登録!$B:$I,9,0)),\"未登録\",VLOOKUP($E112,新規登録!$B:$I,9,0)),(VLOOKUP($E112,氏名ﾃﾞｰﾀ!$B:$J,9,0))))","v":""},null,null,null,null,null,null,null,null,null,null,null,null,null,null,null,null,null,null,null,null,{"$f":"IF(L112=\"男\",1,2)","v":2},{"$f":"IF(N112=\"\",\"\",VLOOKUP(N112,ﾃﾞｰﾀ!A:D,4,0))","v":""},"秒","秒"]
["","",{"$f":"IF(E113=\"\",\"\",IF(AH113=1,COUNTIF(AH$16:AH113,1)*10+2001-10,COUNTIF(AH$16:AH113,2)*10+6001-10))","v":""},98,null,{"$f":"IF($E113=\"\",\"\",IF(ISERROR(VLOOKUP($E113,氏名ﾃﾞｰﾀ!$B:$J,2,0)),IF(ISERROR(VLOOKUP($E113,新規登録!$B:$I,2,0)),\"未登録\",VLOOKUP($E113,新規登録!$B:$I,2,0)),(VLOOKUP($E113,氏名ﾃﾞｰﾀ!$B:$J,2,0))))","v":""},{"$f":"IF($E113=\"\",\"\",IF(ISERROR(VLOOKUP($E113,氏名ﾃﾞｰﾀ!$B:$J,3,0)),IF(ISERROR(VLOOKUP($E113,新規登録!$B:$I,3,0)),\"未登録\",VLOOKUP($E113,新規登録!$B:$I,3,0)),(VLOOKUP($E113,氏名ﾃﾞｰﾀ!$B:$J,3,0))))","v":""},{"$f":"IF($E113=\"\",\"\",IF(ISERROR(VLOOKUP($E113,氏名ﾃﾞｰﾀ!$B:$J,4,0)),IF(ISERROR(VLOOKUP($E113,新規登録!$B:$I,4,0)),\"未登録\",VLOOKUP($E113,新規登録!$B:$I,4,0)),(VLOOKUP($E113,氏名ﾃﾞｰﾀ!$B:$J,4,0))))","v":""},{"$f":"IF($E113=\"\",\"\",IF(ISERROR(VLOOKUP($E113,氏名ﾃﾞｰﾀ!$B:$J,5,0)),IF(ISERROR(VLOOKUP($E113,新規登録!$B:$I,5,0)),\"未登録\",VLOOKUP($E113,新規登録!$B:$I,5,0)),(VLOOKUP($E113,氏名ﾃﾞｰﾀ!$B:$J,5,0))))","v":""},{"$f":"IF($E113=\"\",\"\",IF(ISERROR(VLOOKUP($E113,氏名ﾃﾞｰﾀ!$B:$J,8,0)),IF(ISERROR(VLOOKUP($E113,新規登録!$B:$I,6,0)),\"未登録\",VLOOKUP($E113,新規登録!$B:$I,6,0)),(VLOOKUP($E113,氏名ﾃﾞｰﾀ!$B:$J,8,0))))","v":""},{"$f":"IF($E113=\"\",\"\",IF(ISERROR(VLOOKUP($E113,氏名ﾃﾞｰﾀ!$B:$J,7,0)),IF(ISERROR(VLOOKUP($E113,新規登録!$B:$I,7,0)),\"未登録\",VLOOKUP($E113,新規登録!$B:$I,7,0)),$G$3))","v":""},{"$f":"IF($E113=\"\",\"\",IF(ISERROR(VLOOKUP($E113,氏名ﾃﾞｰﾀ!$B:$J,6,0)),IF(ISERROR(VLOOKUP($E113,新規登録!$B:$I,8,0)),\"ﾅｼ\",VLOOKUP($E113,新規登録!$B:$I,8,0)),(VLOOKUP($E113,氏名ﾃﾞｰﾀ!$B:$J,6,0))))","v":""},{"$f":"IF($E113=\"\",\"\",IF(ISERROR(VLOOKUP($E113,氏名ﾃﾞｰﾀ!$B:$J,9,0)),IF(ISERROR(VLOOKUP($E113,新規登録!$B:$I,9,0)),\"未登録\",VLOOKUP($E113,新規登録!$B:$I,9,0)),(VLOOKUP($E113,氏名ﾃﾞｰﾀ!$B:$J,9,0))))","v":""},null,null,null,null,null,null,null,null,null,null,null,null,null,null,null,null,null,null,null,null,2,{"$f":"IF(N113=\"\",\"\",VLOOKUP(N113,ﾃﾞｰﾀ!A:D,4,0))","v":""},"秒","秒"]
["","",{"$f":"IF(E114=\"\",\"\",IF(AH114=1,COUNTIF(AH$16:AH114,1)*10+2001-10,COUNTIF(AH$16:AH114,2)*10+6001-10))","v":""},99,null,{"$f":"IF($E114=\"\",\"\",IF(ISERROR(VLOOKUP($E114,氏名ﾃﾞｰﾀ!$B:$J,2,0)),IF(ISERROR(VLOOKUP($E114,新規登録!$B:$I,2,0)),\"未登録\",VLOOKUP($E114,新規登録!$B:$I,2,0)),(VLOOKUP($E114,氏名ﾃﾞｰﾀ!$B:$J,2,0))))","v":""},{"$f":"IF($E114=\"\",\"\",IF(ISERROR(VLOOKUP($E114,氏名ﾃﾞｰﾀ!$B:$J,3,0)),IF(ISERROR(VLOOKUP($E114,新規登録!$B:$I,3,0)),\"未登録\",VLOOKUP($E114,新規登録!$B:$I,3,0)),(VLOOKUP($E114,氏名ﾃﾞｰﾀ!$B:$J,3,0))))","v":""},{"$f":"IF($E114=\"\",\"\",IF(ISERROR(VLOOKUP($E114,氏名ﾃﾞｰﾀ!$B:$J,4,0)),IF(ISERROR(VLOOKUP($E114,新規登録!$B:$I,4,0)),\"未登録\",VLOOKUP($E114,新規登録!$B:$I,4,0)),(VLOOKUP($E114,氏名ﾃﾞｰﾀ!$B:$J,4,0))))","v":""},{"$f":"IF($E114=\"\",\"\",IF(ISERROR(VLOOKUP($E114,氏名ﾃﾞｰﾀ!$B:$J,5,0)),IF(ISERROR(VLOOKUP($E114,新規登録!$B:$I,5,0)),\"未登録\",VLOOKUP($E114,新規登録!$B:$I,5,0)),(VLOOKUP($E114,氏名ﾃﾞｰﾀ!$B:$J,5,0))))","v":""},{"$f":"IF($E114=\"\",\"\",IF(ISERROR(VLOOKUP($E114,氏名ﾃﾞｰﾀ!$B:$J,8,0)),IF(ISERROR(VLOOKUP($E114,新規登録!$B:$I,6,0)),\"未登録\",VLOOKUP($E114,新規登録!$B:$I,6,0)),(VLOOKUP($E114,氏名ﾃﾞｰﾀ!$B:$J,8,0))))","v":""},{"$f":"IF($E114=\"\",\"\",IF(ISERROR(VLOOKUP($E114,氏名ﾃﾞｰﾀ!$B:$J,7,0)),IF(ISERROR(VLOOKUP($E114,新規登録!$B:$I,7,0)),\"未登録\",VLOOKUP($E114,新規登録!$B:$I,7,0)),$G$3))","v":""},{"$f":"IF($E114=\"\",\"\",IF(ISERROR(VLOOKUP($E114,氏名ﾃﾞｰﾀ!$B:$J,6,0)),IF(ISERROR(VLOOKUP($E114,新規登録!$B:$I,8,0)),\"ﾅｼ\",VLOOKUP($E114,新規登録!$B:$I,8,0)),(VLOOKUP($E114,氏名ﾃﾞｰﾀ!$B:$J,6,0))))","v":""},{"$f":"IF($E114=\"\",\"\",IF(ISERROR(VLOOKUP($E114,氏名ﾃﾞｰﾀ!$B:$J,9,0)),IF(ISERROR(VLOOKUP($E114,新規登録!$B:$I,9,0)),\"未登録\",VLOOKUP($E114,新規登録!$B:$I,9,0)),(VLOOKUP($E114,氏名ﾃﾞｰﾀ!$B:$J,9,0))))","v":""},null,null,null,null,null,null,null,null,null,null,null,null,null,null,null,null,null,null,null,null,2,{"$f":"IF(N114=\"\",\"\",VLOOKUP(N114,ﾃﾞｰﾀ!A:D,4,0))","v":""},"秒","秒"]
["","",{"$f":"IF(E115=\"\",\"\",IF(AH115=1,COUNTIF(AH$16:AH115,1)*10+2001-10,COUNTIF(AH$16:AH115,2)*10+6001-10))","v":""},100,null,{"$f":"IF($E115=\"\",\"\",IF(ISERROR(VLOOKUP($E115,氏名ﾃﾞｰﾀ!$B:$J,2,0)),IF(ISERROR(VLOOKUP($E115,新規登録!$B:$I,2,0)),\"未登録\",VLOOKUP($E115,新規登録!$B:$I,2,0)),(VLOOKUP($E115,氏名ﾃﾞｰﾀ!$B:$J,2,0))))","v":""},{"$f":"IF($E115=\"\",\"\",IF(ISERROR(VLOOKUP($E115,氏名ﾃﾞｰﾀ!$B:$J,3,0)),IF(ISERROR(VLOOKUP($E115,新規登録!$B:$I,3,0)),\"未登録\",VLOOKUP($E115,新規登録!$B:$I,3,0)),(VLOOKUP($E115,氏名ﾃﾞｰﾀ!$B:$J,3,0))))","v":""},{"$f":"IF($E115=\"\",\"\",IF(ISERROR(VLOOKUP($E115,氏名ﾃﾞｰﾀ!$B:$J,4,0)),IF(ISERROR(VLOOKUP($E115,新規登録!$B:$I,4,0)),\"未登録\",VLOOKUP($E115,新規登録!$B:$I,4,0)),(VLOOKUP($E115,氏名ﾃﾞｰﾀ!$B:$J,4,0))))","v":""},{"$f":"IF($E115=\"\",\"\",IF(ISERROR(VLOOKUP($E115,氏名ﾃﾞｰﾀ!$B:$J,5,0)),IF(ISERROR(VLOOKUP($E115,新規登録!$B:$I,5,0)),\"未登録\",VLOOKUP($E115,新規登録!$B:$I,5,0)),(VLOOKUP($E115,氏名ﾃﾞｰﾀ!$B:$J,5,0))))","v":""},{"$f":"IF($E115=\"\",\"\",IF(ISERROR(VLOOKUP($E115,氏名ﾃﾞｰﾀ!$B:$J,8,0)),IF(ISERROR(VLOOKUP($E115,新規登録!$B:$I,6,0)),\"未登録\",VLOOKUP($E115,新規登録!$B:$I,6,0)),(VLOOKUP($E115,氏名ﾃﾞｰﾀ!$B:$J,8,0))))","v":""},{"$f":"IF($E115=\"\",\"\",IF(ISERROR(VLOOKUP($E115,氏名ﾃﾞｰﾀ!$B:$J,7,0)),IF(ISERROR(VLOOKUP($E115,新規登録!$B:$I,7,0)),\"未登録\",VLOOKUP($E115,新規登録!$B:$I,7,0)),$G$3))","v":""},{"$f":"IF($E115=\"\",\"\",IF(ISERROR(VLOOKUP($E115,氏名ﾃﾞｰﾀ!$B:$J,6,0)),IF(ISERROR(VLOOKUP($E115,新規登録!$B:$I,8,0)),\"ﾅｼ\",VLOOKUP($E115,新規登録!$B:$I,8,0)),(VLOOKUP($E115,氏名ﾃﾞｰﾀ!$B:$J,6,0))))","v":""},{"$f":"IF($E115=\"\",\"\",IF(ISERROR(VLOOKUP($E115,氏名ﾃﾞｰﾀ!$B:$J,9,0)),IF(ISERROR(VLOOKUP($E115,新規登録!$B:$I,9,0)),\"未登録\",VLOOKUP($E115,新規登録!$B:$I,9,0)),(VLOOKUP($E115,氏名ﾃﾞｰﾀ!$B:$J,9,0))))","v":""},null,null,null,null,null,null,null,null,null,null,null,null,null,null,null,null,null,null,null,null,2,{"$f":"IF(N115=\"\",\"\",VLOOKUP(N115,ﾃﾞｰﾀ!A:D,4,0))","v":""},"秒","秒"]
["","",{"$f":"IF(E116=\"\",\"\",IF(AH116=1,COUNTIF(AH$16:AH116,1)*10+2001-10,COUNTIF(AH$16:AH116,2)*10+6001-10))","v":""},101,null,{"$f":"IF($E116=\"\",\"\",IF(ISERROR(VLOOKUP($E116,氏名ﾃﾞｰﾀ!$B:$J,2,0)),IF(ISERROR(VLOOKUP($E116,新規登録!$B:$I,2,0)),\"未登録\",VLOOKUP($E116,新規登録!$B:$I,2,0)),(VLOOKUP($E116,氏名ﾃﾞｰﾀ!$B:$J,2,0))))","v":""},{"$f":"IF($E116=\"\",\"\",IF(ISERROR(VLOOKUP($E116,氏名ﾃﾞｰﾀ!$B:$J,3,0)),IF(ISERROR(VLOOKUP($E116,新規登録!$B:$I,3,0)),\"未登録\",VLOOKUP($E116,新規登録!$B:$I,3,0)),(VLOOKUP($E116,氏名ﾃﾞｰﾀ!$B:$J,3,0))))","v":""},{"$f":"IF($E116=\"\",\"\",IF(ISERROR(VLOOKUP($E116,氏名ﾃﾞｰﾀ!$B:$J,4,0)),IF(ISERROR(VLOOKUP($E116,新規登録!$B:$I,4,0)),\"未登録\",VLOOKUP($E116,新規登録!$B:$I,4,0)),(VLOOKUP($E116,氏名ﾃﾞｰﾀ!$B:$J,4,0))))","v":""},{"$f":"IF($E116=\"\",\"\",IF(ISERROR(VLOOKUP($E116,氏名ﾃﾞｰﾀ!$B:$J,5,0)),IF(ISERROR(VLOOKUP($E116,新規登録!$B:$I,5,0)),\"未登録\",VLOOKUP($E116,新規登録!$B:$I,5,0)),(VLOOKUP($E116,氏名ﾃﾞｰﾀ!$B:$J,5,0))))","v":""},{"$f":"IF($E116=\"\",\"\",IF(ISERROR(VLOOKUP($E116,氏名ﾃﾞｰﾀ!$B:$J,8,0)),IF(ISERROR(VLOOKUP($E116,新規登録!$B:$I,6,0)),\"未登録\",VLOOKUP($E116,新規登録!$B:$I,6,0)),(VLOOKUP($E116,氏名ﾃﾞｰﾀ!$B:$J,8,0))))","v":""},{"$f":"IF($E116=\"\",\"\",IF(ISERROR(VLOOKUP($E116,氏名ﾃﾞｰﾀ!$B:$J,7,0)),IF(ISERROR(VLOOKUP($E116,新規登録!$B:$I,7,0)),\"未登録\",VLOOKUP($E116,新規登録!$B:$I,7,0)),$G$3))","v":""},{"$f":"IF($E116=\"\",\"\",IF(ISERROR(VLOOKUP($E116,氏名ﾃﾞｰﾀ!$B:$J,6,0)),IF(ISERROR(VLOOKUP($E116,新規登録!$B:$I,8,0)),\"ﾅｼ\",VLOOKUP($E116,新規登録!$B:$I,8,0)),(VLOOKUP($E116,氏名ﾃﾞｰﾀ!$B:$J,6,0))))","v":""},{"$f":"IF($E116=\"\",\"\",IF(ISERROR(VLOOKUP($E116,氏名ﾃﾞｰﾀ!$B:$J,9,0)),IF(ISERROR(VLOOKUP($E116,新規登録!$B:$I,9,0)),\"未登録\",VLOOKUP($E116,新規登録!$B:$I,9,0)),(VLOOKUP($E116,氏名ﾃﾞｰﾀ!$B:$J,9,0))))","v":""},null,null,null,null,null,null,null,null,null,null,null,null,null,null,null,null,null,null,null,null,2,{"$f":"IF(N116=\"\",\"\",VLOOKUP(N116,ﾃﾞｰﾀ!A:D,4,0))","v":""},"秒","秒"]
["","",{"$f":"IF(E117=\"\",\"\",IF(AH117=1,COUNTIF(AH$16:AH117,1)*10+2001-10,COUNTIF(AH$16:AH117,2)*10+6001-10))","v":""},102,null,{"$f":"IF($E117=\"\",\"\",IF(ISERROR(VLOOKUP($E117,氏名ﾃﾞｰﾀ!$B:$J,2,0)),IF(ISERROR(VLOOKUP($E117,新規登録!$B:$I,2,0)),\"未登録\",VLOOKUP($E117,新規登録!$B:$I,2,0)),(VLOOKUP($E117,氏名ﾃﾞｰﾀ!$B:$J,2,0))))","v":""},{"$f":"IF($E117=\"\",\"\",IF(ISERROR(VLOOKUP($E117,氏名ﾃﾞｰﾀ!$B:$J,3,0)),IF(ISERROR(VLOOKUP($E117,新規登録!$B:$I,3,0)),\"未登録\",VLOOKUP($E117,新規登録!$B:$I,3,0)),(VLOOKUP($E117,氏名ﾃﾞｰﾀ!$B:$J,3,0))))","v":""},{"$f":"IF($E117=\"\",\"\",IF(ISERROR(VLOOKUP($E117,氏名ﾃﾞｰﾀ!$B:$J,4,0)),IF(ISERROR(VLOOKUP($E117,新規登録!$B:$I,4,0)),\"未登録\",VLOOKUP($E117,新規登録!$B:$I,4,0)),(VLOOKUP($E117,氏名ﾃﾞｰﾀ!$B:$J,4,0))))","v":""},{"$f":"IF($E117=\"\",\"\",IF(ISERROR(VLOOKUP($E117,氏名ﾃﾞｰﾀ!$B:$J,5,0)),IF(ISERROR(VLOOKUP($E117,新規登録!$B:$I,5,0)),\"未登録\",VLOOKUP($E117,新規登録!$B:$I,5,0)),(VLOOKUP($E117,氏名ﾃﾞｰﾀ!$B:$J,5,0))))","v":""},{"$f":"IF($E117=\"\",\"\",IF(ISERROR(VLOOKUP($E117,氏名ﾃﾞｰﾀ!$B:$J,8,0)),IF(ISERROR(VLOOKUP($E117,新規登録!$B:$I,6,0)),\"未登録\",VLOOKUP($E117,新規登録!$B:$I,6,0)),(VLOOKUP($E117,氏名ﾃﾞｰﾀ!$B:$J,8,0))))","v":""},{"$f":"IF($E117=\"\",\"\",IF(ISERROR(VLOOKUP($E117,氏名ﾃﾞｰﾀ!$B:$J,7,0)),IF(ISERROR(VLOOKUP($E117,新規登録!$B:$I,7,0)),\"未登録\",VLOOKUP($E117,新規登録!$B:$I,7,0)),$G$3))","v":""},{"$f":"IF($E117=\"\",\"\",IF(ISERROR(VLOOKUP($E117,氏名ﾃﾞｰﾀ!$B:$J,6,0)),IF(ISERROR(VLOOKUP($E117,新規登録!$B:$I,8,0)),\"ﾅｼ\",VLOOKUP($E117,新規登録!$B:$I,8,0)),(VLOOKUP($E117,氏名ﾃﾞｰﾀ!$B:$J,6,0))))","v":""},{"$f":"IF($E117=\"\",\"\",IF(ISERROR(VLOOKUP($E117,氏名ﾃﾞｰﾀ!$B:$J,9,0)),IF(ISERROR(VLOOKUP($E117,新規登録!$B:$I,9,0)),\"未登録\",VLOOKUP($E117,新規登録!$B:$I,9,0)),(VLOOKUP($E117,氏名ﾃﾞｰﾀ!$B:$J,9,0))))","v":""},null,null,null,null,null,null,null,null,null,null,null,null,null,null,null,null,null,null,null,null,2,{"$f":"IF(N117=\"\",\"\",VLOOKUP(N117,ﾃﾞｰﾀ!A:D,4,0))","v":""},"秒","秒"]
["","",{"$f":"IF(E118=\"\",\"\",IF(AH118=1,COUNTIF(AH$16:AH118,1)*10+2001-10,COUNTIF(AH$16:AH118,2)*10+6001-10))","v":""},103,null,{"$f":"IF($E118=\"\",\"\",IF(ISERROR(VLOOKUP($E118,氏名ﾃﾞｰﾀ!$B:$J,2,0)),IF(ISERROR(VLOOKUP($E118,新規登録!$B:$I,2,0)),\"未登録\",VLOOKUP($E118,新規登録!$B:$I,2,0)),(VLOOKUP($E118,氏名ﾃﾞｰﾀ!$B:$J,2,0))))","v":""},{"$f":"IF($E118=\"\",\"\",IF(ISERROR(VLOOKUP($E118,氏名ﾃﾞｰﾀ!$B:$J,3,0)),IF(ISERROR(VLOOKUP($E118,新規登録!$B:$I,3,0)),\"未登録\",VLOOKUP($E118,新規登録!$B:$I,3,0)),(VLOOKUP($E118,氏名ﾃﾞｰﾀ!$B:$J,3,0))))","v":""},{"$f":"IF($E118=\"\",\"\",IF(ISERROR(VLOOKUP($E118,氏名ﾃﾞｰﾀ!$B:$J,4,0)),IF(ISERROR(VLOOKUP($E118,新規登録!$B:$I,4,0)),\"未登録\",VLOOKUP($E118,新規登録!$B:$I,4,0)),(VLOOKUP($E118,氏名ﾃﾞｰﾀ!$B:$J,4,0))))","v":""},{"$f":"IF($E118=\"\",\"\",IF(ISERROR(VLOOKUP($E118,氏名ﾃﾞｰﾀ!$B:$J,5,0)),IF(ISERROR(VLOOKUP($E118,新規登録!$B:$I,5,0)),\"未登録\",VLOOKUP($E118,新規登録!$B:$I,5,0)),(VLOOKUP($E118,氏名ﾃﾞｰﾀ!$B:$J,5,0))))","v":""},{"$f":"IF($E118=\"\",\"\",IF(ISERROR(VLOOKUP($E118,氏名ﾃﾞｰﾀ!$B:$J,8,0)),IF(ISERROR(VLOOKUP($E118,新規登録!$B:$I,6,0)),\"未登録\",VLOOKUP($E118,新規登録!$B:$I,6,0)),(VLOOKUP($E118,氏名ﾃﾞｰﾀ!$B:$J,8,0))))","v":""},{"$f":"IF($E118=\"\",\"\",IF(ISERROR(VLOOKUP($E118,氏名ﾃﾞｰﾀ!$B:$J,7,0)),IF(ISERROR(VLOOKUP($E118,新規登録!$B:$I,7,0)),\"未登録\",VLOOKUP($E118,新規登録!$B:$I,7,0)),$G$3))","v":""},{"$f":"IF($E118=\"\",\"\",IF(ISERROR(VLOOKUP($E118,氏名ﾃﾞｰﾀ!$B:$J,6,0)),IF(ISERROR(VLOOKUP($E118,新規登録!$B:$I,8,0)),\"ﾅｼ\",VLOOKUP($E118,新規登録!$B:$I,8,0)),(VLOOKUP($E118,氏名ﾃﾞｰﾀ!$B:$J,6,0))))","v":""},{"$f":"IF($E118=\"\",\"\",IF(ISERROR(VLOOKUP($E118,氏名ﾃﾞｰﾀ!$B:$J,9,0)),IF(ISERROR(VLOOKUP($E118,新規登録!$B:$I,9,0)),\"未登録\",VLOOKUP($E118,新規登録!$B:$I,9,0)),(VLOOKUP($E118,氏名ﾃﾞｰﾀ!$B:$J,9,0))))","v":""},null,null,null,null,null,null,null,null,null,null,null,null,null,null,null,null,null,null,null,null,2,{"$f":"IF(N118=\"\",\"\",VLOOKUP(N118,ﾃﾞｰﾀ!A:D,4,0))","v":""},"秒","秒"]
["","",{"$f":"IF(E119=\"\",\"\",IF(AH119=1,COUNTIF(AH$16:AH119,1)*10+2001-10,COUNTIF(AH$16:AH119,2)*10+6001-10))","v":""},104,null,{"$f":"IF($E119=\"\",\"\",IF(ISERROR(VLOOKUP($E119,氏名ﾃﾞｰﾀ!$B:$J,2,0)),IF(ISERROR(VLOOKUP($E119,新規登録!$B:$I,2,0)),\"未登録\",VLOOKUP($E119,新規登録!$B:$I,2,0)),(VLOOKUP($E119,氏名ﾃﾞｰﾀ!$B:$J,2,0))))","v":""},{"$f":"IF($E119=\"\",\"\",IF(ISERROR(VLOOKUP($E119,氏名ﾃﾞｰﾀ!$B:$J,3,0)),IF(ISERROR(VLOOKUP($E119,新規登録!$B:$I,3,0)),\"未登録\",VLOOKUP($E119,新規登録!$B:$I,3,0)),(VLOOKUP($E119,氏名ﾃﾞｰﾀ!$B:$J,3,0))))","v":""},{"$f":"IF($E119=\"\",\"\",IF(ISERROR(VLOOKUP($E119,氏名ﾃﾞｰﾀ!$B:$J,4,0)),IF(ISERROR(VLOOKUP($E119,新規登録!$B:$I,4,0)),\"未登録\",VLOOKUP($E119,新規登録!$B:$I,4,0)),(VLOOKUP($E119,氏名ﾃﾞｰﾀ!$B:$J,4,0))))","v":""},{"$f":"IF($E119=\"\",\"\",IF(ISERROR(VLOOKUP($E119,氏名ﾃﾞｰﾀ!$B:$J,5,0)),IF(ISERROR(VLOOKUP($E119,新規登録!$B:$I,5,0)),\"未登録\",VLOOKUP($E119,新規登録!$B:$I,5,0)),(VLOOKUP($E119,氏名ﾃﾞｰﾀ!$B:$J,5,0))))","v":""},{"$f":"IF($E119=\"\",\"\",IF(ISERROR(VLOOKUP($E119,氏名ﾃﾞｰﾀ!$B:$J,8,0)),IF(ISERROR(VLOOKUP($E119,新規登録!$B:$I,6,0)),\"未登録\",VLOOKUP($E119,新規登録!$B:$I,6,0)),(VLOOKUP($E119,氏名ﾃﾞｰﾀ!$B:$J,8,0))))","v":""},{"$f":"IF($E119=\"\",\"\",IF(ISERROR(VLOOKUP($E119,氏名ﾃﾞｰﾀ!$B:$J,7,0)),IF(ISERROR(VLOOKUP($E119,新規登録!$B:$I,7,0)),\"未登録\",VLOOKUP($E119,新規登録!$B:$I,7,0)),$G$3))","v":""},{"$f":"IF($E119=\"\",\"\",IF(ISERROR(VLOOKUP($E119,氏名ﾃﾞｰﾀ!$B:$J,6,0)),IF(ISERROR(VLOOKUP($E119,新規登録!$B:$I,8,0)),\"ﾅｼ\",VLOOKUP($E119,新規登録!$B:$I,8,0)),(VLOOKUP($E119,氏名ﾃﾞｰﾀ!$B:$J,6,0))))","v":""},{"$f":"IF($E119=\"\",\"\",IF(ISERROR(VLOOKUP($E119,氏名ﾃﾞｰﾀ!$B:$J,9,0)),IF(ISERROR(VLOOKUP($E119,新規登録!$B:$I,9,0)),\"未登録\",VLOOKUP($E119,新規登録!$B:$I,9,0)),(VLOOKUP($E119,氏名ﾃﾞｰﾀ!$B:$J,9,0))))","v":""},null,null,null,null,null,null,null,null,null,null,null,null,null,null,null,null,null,null,null,null,2,{"$f":"IF(N119=\"\",\"\",VLOOKUP(N119,ﾃﾞｰﾀ!A:D,4,0))","v":""},"秒","秒"]
["","",{"$f":"IF(E120=\"\",\"\",IF(AH120=1,COUNTIF(AH$16:AH120,1)*10+2001-10,COUNTIF(AH$16:AH120,2)*10+6001-10))","v":""},105,null,{"$f":"IF($E120=\"\",\"\",IF(ISERROR(VLOOKUP($E120,氏名ﾃﾞｰﾀ!$B:$J,2,0)),IF(ISERROR(VLOOKUP($E120,新規登録!$B:$I,2,0)),\"未登録\",VLOOKUP($E120,新規登録!$B:$I,2,0)),(VLOOKUP($E120,氏名ﾃﾞｰﾀ!$B:$J,2,0))))","v":""},{"$f":"IF($E120=\"\",\"\",IF(ISERROR(VLOOKUP($E120,氏名ﾃﾞｰﾀ!$B:$J,3,0)),IF(ISERROR(VLOOKUP($E120,新規登録!$B:$I,3,0)),\"未登録\",VLOOKUP($E120,新規登録!$B:$I,3,0)),(VLOOKUP($E120,氏名ﾃﾞｰﾀ!$B:$J,3,0))))","v":""},{"$f":"IF($E120=\"\",\"\",IF(ISERROR(VLOOKUP($E120,氏名ﾃﾞｰﾀ!$B:$J,4,0)),IF(ISERROR(VLOOKUP($E120,新規登録!$B:$I,4,0)),\"未登録\",VLOOKUP($E120,新規登録!$B:$I,4,0)),(VLOOKUP($E120,氏名ﾃﾞｰﾀ!$B:$J,4,0))))","v":""},{"$f":"IF($E120=\"\",\"\",IF(ISERROR(VLOOKUP($E120,氏名ﾃﾞｰﾀ!$B:$J,5,0)),IF(ISERROR(VLOOKUP($E120,新規登録!$B:$I,5,0)),\"未登録\",VLOOKUP($E120,新規登録!$B:$I,5,0)),(VLOOKUP($E120,氏名ﾃﾞｰﾀ!$B:$J,5,0))))","v":""},{"$f":"IF($E120=\"\",\"\",IF(ISERROR(VLOOKUP($E120,氏名ﾃﾞｰﾀ!$B:$J,8,0)),IF(ISERROR(VLOOKUP($E120,新規登録!$B:$I,6,0)),\"未登録\",VLOOKUP($E120,新規登録!$B:$I,6,0)),(VLOOKUP($E120,氏名ﾃﾞｰﾀ!$B:$J,8,0))))","v":""},{"$f":"IF($E120=\"\",\"\",IF(ISERROR(VLOOKUP($E120,氏名ﾃﾞｰﾀ!$B:$J,7,0)),IF(ISERROR(VLOOKUP($E120,新規登録!$B:$I,7,0)),\"未登録\",VLOOKUP($E120,新規登録!$B:$I,7,0)),$G$3))","v":""},{"$f":"IF($E120=\"\",\"\",IF(ISERROR(VLOOKUP($E120,氏名ﾃﾞｰﾀ!$B:$J,6,0)),IF(ISERROR(VLOOKUP($E120,新規登録!$B:$I,8,0)),\"ﾅｼ\",VLOOKUP($E120,新規登録!$B:$I,8,0)),(VLOOKUP($E120,氏名ﾃﾞｰﾀ!$B:$J,6,0))))","v":""},{"$f":"IF($E120=\"\",\"\",IF(ISERROR(VLOOKUP($E120,氏名ﾃﾞｰﾀ!$B:$J,9,0)),IF(ISERROR(VLOOKUP($E120,新規登録!$B:$I,9,0)),\"未登録\",VLOOKUP($E120,新規登録!$B:$I,9,0)),(VLOOKUP($E120,氏名ﾃﾞｰﾀ!$B:$J,9,0))))","v":""},null,null,null,null,null,null,null,null,null,null,null,null,null,null,null,null,null,null,null,null,2,{"$f":"IF(N120=\"\",\"\",VLOOKUP(N120,ﾃﾞｰﾀ!A:D,4,0))","v":""},"秒","秒"]
["","",{"$f":"IF(E121=\"\",\"\",IF(AH121=1,COUNTIF(AH$16:AH121,1)*10+2001-10,COUNTIF(AH$16:AH121,2)*10+6001-10))","v":""},106,null,{"$f":"IF($E121=\"\",\"\",IF(ISERROR(VLOOKUP($E121,氏名ﾃﾞｰﾀ!$B:$J,2,0)),IF(ISERROR(VLOOKUP($E121,新規登録!$B:$I,2,0)),\"未登録\",VLOOKUP($E121,新規登録!$B:$I,2,0)),(VLOOKUP($E121,氏名ﾃﾞｰﾀ!$B:$J,2,0))))","v":""},{"$f":"IF($E121=\"\",\"\",IF(ISERROR(VLOOKUP($E121,氏名ﾃﾞｰﾀ!$B:$J,3,0)),IF(ISERROR(VLOOKUP($E121,新規登録!$B:$I,3,0)),\"未登録\",VLOOKUP($E121,新規登録!$B:$I,3,0)),(VLOOKUP($E121,氏名ﾃﾞｰﾀ!$B:$J,3,0))))","v":""},{"$f":"IF($E121=\"\",\"\",IF(ISERROR(VLOOKUP($E121,氏名ﾃﾞｰﾀ!$B:$J,4,0)),IF(ISERROR(VLOOKUP($E121,新規登録!$B:$I,4,0)),\"未登録\",VLOOKUP($E121,新規登録!$B:$I,4,0)),(VLOOKUP($E121,氏名ﾃﾞｰﾀ!$B:$J,4,0))))","v":""},{"$f":"IF($E121=\"\",\"\",IF(ISERROR(VLOOKUP($E121,氏名ﾃﾞｰﾀ!$B:$J,5,0)),IF(ISERROR(VLOOKUP($E121,新規登録!$B:$I,5,0)),\"未登録\",VLOOKUP($E121,新規登録!$B:$I,5,0)),(VLOOKUP($E121,氏名ﾃﾞｰﾀ!$B:$J,5,0))))","v":""},{"$f":"IF($E121=\"\",\"\",IF(ISERROR(VLOOKUP($E121,氏名ﾃﾞｰﾀ!$B:$J,8,0)),IF(ISERROR(VLOOKUP($E121,新規登録!$B:$I,6,0)),\"未登録\",VLOOKUP($E121,新規登録!$B:$I,6,0)),(VLOOKUP($E121,氏名ﾃﾞｰﾀ!$B:$J,8,0))))","v":""},{"$f":"IF($E121=\"\",\"\",IF(ISERROR(VLOOKUP($E121,氏名ﾃﾞｰﾀ!$B:$J,7,0)),IF(ISERROR(VLOOKUP($E121,新規登録!$B:$I,7,0)),\"未登録\",VLOOKUP($E121,新規登録!$B:$I,7,0)),$G$3))","v":""},{"$f":"IF($E121=\"\",\"\",IF(ISERROR(VLOOKUP($E121,氏名ﾃﾞｰﾀ!$B:$J,6,0)),IF(ISERROR(VLOOKUP($E121,新規登録!$B:$I,8,0)),\"ﾅｼ\",VLOOKUP($E121,新規登録!$B:$I,8,0)),(VLOOKUP($E121,氏名ﾃﾞｰﾀ!$B:$J,6,0))))","v":""},{"$f":"IF($E121=\"\",\"\",IF(ISERROR(VLOOKUP($E121,氏名ﾃﾞｰﾀ!$B:$J,9,0)),IF(ISERROR(VLOOKUP($E121,新規登録!$B:$I,9,0)),\"未登録\",VLOOKUP($E121,新規登録!$B:$I,9,0)),(VLOOKUP($E121,氏名ﾃﾞｰﾀ!$B:$J,9,0))))","v":""},null,null,null,null,null,null,null,null,null,null,null,null,null,null,null,null,null,null,null,null,2,{"$f":"IF(N121=\"\",\"\",VLOOKUP(N121,ﾃﾞｰﾀ!A:D,4,0))","v":""},"秒","秒"]
["","",{"$f":"IF(E122=\"\",\"\",IF(AH122=1,COUNTIF(AH$16:AH122,1)*10+2001-10,COUNTIF(AH$16:AH122,2)*10+6001-10))","v":""},107,null,{"$f":"IF($E122=\"\",\"\",IF(ISERROR(VLOOKUP($E122,氏名ﾃﾞｰﾀ!$B:$J,2,0)),IF(ISERROR(VLOOKUP($E122,新規登録!$B:$I,2,0)),\"未登録\",VLOOKUP($E122,新規登録!$B:$I,2,0)),(VLOOKUP($E122,氏名ﾃﾞｰﾀ!$B:$J,2,0))))","v":""},{"$f":"IF($E122=\"\",\"\",IF(ISERROR(VLOOKUP($E122,氏名ﾃﾞｰﾀ!$B:$J,3,0)),IF(ISERROR(VLOOKUP($E122,新規登録!$B:$I,3,0)),\"未登録\",VLOOKUP($E122,新規登録!$B:$I,3,0)),(VLOOKUP($E122,氏名ﾃﾞｰﾀ!$B:$J,3,0))))","v":""},{"$f":"IF($E122=\"\",\"\",IF(ISERROR(VLOOKUP($E122,氏名ﾃﾞｰﾀ!$B:$J,4,0)),IF(ISERROR(VLOOKUP($E122,新規登録!$B:$I,4,0)),\"未登録\",VLOOKUP($E122,新規登録!$B:$I,4,0)),(VLOOKUP($E122,氏名ﾃﾞｰﾀ!$B:$J,4,0))))","v":""},{"$f":"IF($E122=\"\",\"\",IF(ISERROR(VLOOKUP($E122,氏名ﾃﾞｰﾀ!$B:$J,5,0)),IF(ISERROR(VLOOKUP($E122,新規登録!$B:$I,5,0)),\"未登録\",VLOOKUP($E122,新規登録!$B:$I,5,0)),(VLOOKUP($E122,氏名ﾃﾞｰﾀ!$B:$J,5,0))))","v":""},{"$f":"IF($E122=\"\",\"\",IF(ISERROR(VLOOKUP($E122,氏名ﾃﾞｰﾀ!$B:$J,8,0)),IF(ISERROR(VLOOKUP($E122,新規登録!$B:$I,6,0)),\"未登録\",VLOOKUP($E122,新規登録!$B:$I,6,0)),(VLOOKUP($E122,氏名ﾃﾞｰﾀ!$B:$J,8,0))))","v":""},{"$f":"IF($E122=\"\",\"\",IF(ISERROR(VLOOKUP($E122,氏名ﾃﾞｰﾀ!$B:$J,7,0)),IF(ISERROR(VLOOKUP($E122,新規登録!$B:$I,7,0)),\"未登録\",VLOOKUP($E122,新規登録!$B:$I,7,0)),$G$3))","v":""},{"$f":"IF($E122=\"\",\"\",IF(ISERROR(VLOOKUP($E122,氏名ﾃﾞｰﾀ!$B:$J,6,0)),IF(ISERROR(VLOOKUP($E122,新規登録!$B:$I,8,0)),\"ﾅｼ\",VLOOKUP($E122,新規登録!$B:$I,8,0)),(VLOOKUP($E122,氏名ﾃﾞｰﾀ!$B:$J,6,0))))","v":""},{"$f":"IF($E122=\"\",\"\",IF(ISERROR(VLOOKUP($E122,氏名ﾃﾞｰﾀ!$B:$J,9,0)),IF(ISERROR(VLOOKUP($E122,新規登録!$B:$I,9,0)),\"未登録\",VLOOKUP($E122,新規登録!$B:$I,9,0)),(VLOOKUP($E122,氏名ﾃﾞｰﾀ!$B:$J,9,0))))","v":""},null,null,null,null,null,null,null,null,null,null,null,null,null,null,null,null,null,null,null,null,2,{"$f":"IF(N122=\"\",\"\",VLOOKUP(N122,ﾃﾞｰﾀ!A:D,4,0))","v":""},"秒","秒"]
["","",{"$f":"IF(E123=\"\",\"\",IF(AH123=1,COUNTIF(AH$16:AH123,1)*10+2001-10,COUNTIF(AH$16:AH123,2)*10+6001-10))","v":""},108,null,{"$f":"IF($E123=\"\",\"\",IF(ISERROR(VLOOKUP($E123,氏名ﾃﾞｰﾀ!$B:$J,2,0)),IF(ISERROR(VLOOKUP($E123,新規登録!$B:$I,2,0)),\"未登録\",VLOOKUP($E123,新規登録!$B:$I,2,0)),(VLOOKUP($E123,氏名ﾃﾞｰﾀ!$B:$J,2,0))))","v":""},{"$f":"IF($E123=\"\",\"\",IF(ISERROR(VLOOKUP($E123,氏名ﾃﾞｰﾀ!$B:$J,3,0)),IF(ISERROR(VLOOKUP($E123,新規登録!$B:$I,3,0)),\"未登録\",VLOOKUP($E123,新規登録!$B:$I,3,0)),(VLOOKUP($E123,氏名ﾃﾞｰﾀ!$B:$J,3,0))))","v":""},{"$f":"IF($E123=\"\",\"\",IF(ISERROR(VLOOKUP($E123,氏名ﾃﾞｰﾀ!$B:$J,4,0)),IF(ISERROR(VLOOKUP($E123,新規登録!$B:$I,4,0)),\"未登録\",VLOOKUP($E123,新規登録!$B:$I,4,0)),(VLOOKUP($E123,氏名ﾃﾞｰﾀ!$B:$J,4,0))))","v":""},{"$f":"IF($E123=\"\",\"\",IF(ISERROR(VLOOKUP($E123,氏名ﾃﾞｰﾀ!$B:$J,5,0)),IF(ISERROR(VLOOKUP($E123,新規登録!$B:$I,5,0)),\"未登録\",VLOOKUP($E123,新規登録!$B:$I,5,0)),(VLOOKUP($E123,氏名ﾃﾞｰﾀ!$B:$J,5,0))))","v":""},{"$f":"IF($E123=\"\",\"\",IF(ISERROR(VLOOKUP($E123,氏名ﾃﾞｰﾀ!$B:$J,8,0)),IF(ISERROR(VLOOKUP($E123,新規登録!$B:$I,6,0)),\"未登録\",VLOOKUP($E123,新規登録!$B:$I,6,0)),(VLOOKUP($E123,氏名ﾃﾞｰﾀ!$B:$J,8,0))))","v":""},{"$f":"IF($E123=\"\",\"\",IF(ISERROR(VLOOKUP($E123,氏名ﾃﾞｰﾀ!$B:$J,7,0)),IF(ISERROR(VLOOKUP($E123,新規登録!$B:$I,7,0)),\"未登録\",VLOOKUP($E123,新規登録!$B:$I,7,0)),$G$3))","v":""},{"$f":"IF($E123=\"\",\"\",IF(ISERROR(VLOOKUP($E123,氏名ﾃﾞｰﾀ!$B:$J,6,0)),IF(ISERROR(VLOOKUP($E123,新規登録!$B:$I,8,0)),\"ﾅｼ\",VLOOKUP($E123,新規登録!$B:$I,8,0)),(VLOOKUP($E123,氏名ﾃﾞｰﾀ!$B:$J,6,0))))","v":""},{"$f":"IF($E123=\"\",\"\",IF(ISERROR(VLOOKUP($E123,氏名ﾃﾞｰﾀ!$B:$J,9,0)),IF(ISERROR(VLOOKUP($E123,新規登録!$B:$I,9,0)),\"未登録\",VLOOKUP($E123,新規登録!$B:$I,9,0)),(VLOOKUP($E123,氏名ﾃﾞｰﾀ!$B:$J,9,0))))","v":""},null,null,null,null,null,null,null,null,null,null,null,null,null,null,null,null,null,null,null,null,2,{"$f":"IF(N123=\"\",\"\",VLOOKUP(N123,ﾃﾞｰﾀ!A:D,4,0))","v":""},"秒","秒"]
["","",{"$f":"IF(E124=\"\",\"\",IF(AH124=1,COUNTIF(AH$16:AH124,1)*10+2001-10,COUNTIF(AH$16:AH124,2)*10+6001-10))","v":""},109,null,{"$f":"IF($E124=\"\",\"\",IF(ISERROR(VLOOKUP($E124,氏名ﾃﾞｰﾀ!$B:$J,2,0)),IF(ISERROR(VLOOKUP($E124,新規登録!$B:$I,2,0)),\"未登録\",VLOOKUP($E124,新規登録!$B:$I,2,0)),(VLOOKUP($E124,氏名ﾃﾞｰﾀ!$B:$J,2,0))))","v":""},{"$f":"IF($E124=\"\",\"\",IF(ISERROR(VLOOKUP($E124,氏名ﾃﾞｰﾀ!$B:$J,3,0)),IF(ISERROR(VLOOKUP($E124,新規登録!$B:$I,3,0)),\"未登録\",VLOOKUP($E124,新規登録!$B:$I,3,0)),(VLOOKUP($E124,氏名ﾃﾞｰﾀ!$B:$J,3,0))))","v":""},{"$f":"IF($E124=\"\",\"\",IF(ISERROR(VLOOKUP($E124,氏名ﾃﾞｰﾀ!$B:$J,4,0)),IF(ISERROR(VLOOKUP($E124,新規登録!$B:$I,4,0)),\"未登録\",VLOOKUP($E124,新規登録!$B:$I,4,0)),(VLOOKUP($E124,氏名ﾃﾞｰﾀ!$B:$J,4,0))))","v":""},{"$f":"IF($E124=\"\",\"\",IF(ISERROR(VLOOKUP($E124,氏名ﾃﾞｰﾀ!$B:$J,5,0)),IF(ISERROR(VLOOKUP($E124,新規登録!$B:$I,5,0)),\"未登録\",VLOOKUP($E124,新規登録!$B:$I,5,0)),(VLOOKUP($E124,氏名ﾃﾞｰﾀ!$B:$J,5,0))))","v":""},{"$f":"IF($E124=\"\",\"\",IF(ISERROR(VLOOKUP($E124,氏名ﾃﾞｰﾀ!$B:$J,8,0)),IF(ISERROR(VLOOKUP($E124,新規登録!$B:$I,6,0)),\"未登録\",VLOOKUP($E124,新規登録!$B:$I,6,0)),(VLOOKUP($E124,氏名ﾃﾞｰﾀ!$B:$J,8,0))))","v":""},{"$f":"IF($E124=\"\",\"\",IF(ISERROR(VLOOKUP($E124,氏名ﾃﾞｰﾀ!$B:$J,7,0)),IF(ISERROR(VLOOKUP($E124,新規登録!$B:$I,7,0)),\"未登録\",VLOOKUP($E124,新規登録!$B:$I,7,0)),$G$3))","v":""},{"$f":"IF($E124=\"\",\"\",IF(ISERROR(VLOOKUP($E124,氏名ﾃﾞｰﾀ!$B:$J,6,0)),IF(ISERROR(VLOOKUP($E124,新規登録!$B:$I,8,0)),\"ﾅｼ\",VLOOKUP($E124,新規登録!$B:$I,8,0)),(VLOOKUP($E124,氏名ﾃﾞｰﾀ!$B:$J,6,0))))","v":""},{"$f":"IF($E124=\"\",\"\",IF(ISERROR(VLOOKUP($E124,氏名ﾃﾞｰﾀ!$B:$J,9,0)),IF(ISERROR(VLOOKUP($E124,新規登録!$B:$I,9,0)),\"未登録\",VLOOKUP($E124,新規登録!$B:$I,9,0)),(VLOOKUP($E124,氏名ﾃﾞｰﾀ!$B:$J,9,0))))","v":""},null,null,null,null,null,null,null,null,null,null,null,null,null,null,null,null,null,null,null,null,2,{"$f":"IF(N124=\"\",\"\",VLOOKUP(N124,ﾃﾞｰﾀ!A:D,4,0))","v":""},"秒","秒"]
["","",{"$f":"IF(E125=\"\",\"\",IF(AH125=1,COUNTIF(AH$16:AH125,1)*10+2001-10,COUNTIF(AH$16:AH125,2)*10+6001-10))","v":""},110,null,{"$f":"IF($E125=\"\",\"\",IF(ISERROR(VLOOKUP($E125,氏名ﾃﾞｰﾀ!$B:$J,2,0)),IF(ISERROR(VLOOKUP($E125,新規登録!$B:$I,2,0)),\"未登録\",VLOOKUP($E125,新規登録!$B:$I,2,0)),(VLOOKUP($E125,氏名ﾃﾞｰﾀ!$B:$J,2,0))))","v":""},{"$f":"IF($E125=\"\",\"\",IF(ISERROR(VLOOKUP($E125,氏名ﾃﾞｰﾀ!$B:$J,3,0)),IF(ISERROR(VLOOKUP($E125,新規登録!$B:$I,3,0)),\"未登録\",VLOOKUP($E125,新規登録!$B:$I,3,0)),(VLOOKUP($E125,氏名ﾃﾞｰﾀ!$B:$J,3,0))))","v":""},{"$f":"IF($E125=\"\",\"\",IF(ISERROR(VLOOKUP($E125,氏名ﾃﾞｰﾀ!$B:$J,4,0)),IF(ISERROR(VLOOKUP($E125,新規登録!$B:$I,4,0)),\"未登録\",VLOOKUP($E125,新規登録!$B:$I,4,0)),(VLOOKUP($E125,氏名ﾃﾞｰﾀ!$B:$J,4,0))))","v":""},{"$f":"IF($E125=\"\",\"\",IF(ISERROR(VLOOKUP($E125,氏名ﾃﾞｰﾀ!$B:$J,5,0)),IF(ISERROR(VLOOKUP($E125,新規登録!$B:$I,5,0)),\"未登録\",VLOOKUP($E125,新規登録!$B:$I,5,0)),(VLOOKUP($E125,氏名ﾃﾞｰﾀ!$B:$J,5,0))))","v":""},{"$f":"IF($E125=\"\",\"\",IF(ISERROR(VLOOKUP($E125,氏名ﾃﾞｰﾀ!$B:$J,8,0)),IF(ISERROR(VLOOKUP($E125,新規登録!$B:$I,6,0)),\"未登録\",VLOOKUP($E125,新規登録!$B:$I,6,0)),(VLOOKUP($E125,氏名ﾃﾞｰﾀ!$B:$J,8,0))))","v":""},{"$f":"IF($E125=\"\",\"\",IF(ISERROR(VLOOKUP($E125,氏名ﾃﾞｰﾀ!$B:$J,7,0)),IF(ISERROR(VLOOKUP($E125,新規登録!$B:$I,7,0)),\"未登録\",VLOOKUP($E125,新規登録!$B:$I,7,0)),$G$3))","v":""},{"$f":"IF($E125=\"\",\"\",IF(ISERROR(VLOOKUP($E125,氏名ﾃﾞｰﾀ!$B:$J,6,0)),IF(ISERROR(VLOOKUP($E125,新規登録!$B:$I,8,0)),\"ﾅｼ\",VLOOKUP($E125,新規登録!$B:$I,8,0)),(VLOOKUP($E125,氏名ﾃﾞｰﾀ!$B:$J,6,0))))","v":""},{"$f":"IF($E125=\"\",\"\",IF(ISERROR(VLOOKUP($E125,氏名ﾃﾞｰﾀ!$B:$J,9,0)),IF(ISERROR(VLOOKUP($E125,新規登録!$B:$I,9,0)),\"未登録\",VLOOKUP($E125,新規登録!$B:$I,9,0)),(VLOOKUP($E125,氏名ﾃﾞｰﾀ!$B:$J,9,0))))","v":""},null,null,null,null,null,null,null,null,null,null,null,null,null,null,null,null,null,null,null,null,2,{"$f":"IF(N125=\"\",\"\",VLOOKUP(N125,ﾃﾞｰﾀ!A:D,4,0))","v":""},"秒","秒"]
["","",{"$f":"IF(E126=\"\",\"\",IF(AH126=1,COUNTIF(AH$16:AH126,1)*10+2001-10,COUNTIF(AH$16:AH126,2)*10+6001-10))","v":""},111,null,{"$f":"IF($E126=\"\",\"\",IF(ISERROR(VLOOKUP($E126,氏名ﾃﾞｰﾀ!$B:$J,2,0)),IF(ISERROR(VLOOKUP($E126,新規登録!$B:$I,2,0)),\"未登録\",VLOOKUP($E126,新規登録!$B:$I,2,0)),(VLOOKUP($E126,氏名ﾃﾞｰﾀ!$B:$J,2,0))))","v":""},{"$f":"IF($E126=\"\",\"\",IF(ISERROR(VLOOKUP($E126,氏名ﾃﾞｰﾀ!$B:$J,3,0)),IF(ISERROR(VLOOKUP($E126,新規登録!$B:$I,3,0)),\"未登録\",VLOOKUP($E126,新規登録!$B:$I,3,0)),(VLOOKUP($E126,氏名ﾃﾞｰﾀ!$B:$J,3,0))))","v":""},{"$f":"IF($E126=\"\",\"\",IF(ISERROR(VLOOKUP($E126,氏名ﾃﾞｰﾀ!$B:$J,4,0)),IF(ISERROR(VLOOKUP($E126,新規登録!$B:$I,4,0)),\"未登録\",VLOOKUP($E126,新規登録!$B:$I,4,0)),(VLOOKUP($E126,氏名ﾃﾞｰﾀ!$B:$J,4,0))))","v":""},{"$f":"IF($E126=\"\",\"\",IF(ISERROR(VLOOKUP($E126,氏名ﾃﾞｰﾀ!$B:$J,5,0)),IF(ISERROR(VLOOKUP($E126,新規登録!$B:$I,5,0)),\"未登録\",VLOOKUP($E126,新規登録!$B:$I,5,0)),(VLOOKUP($E126,氏名ﾃﾞｰﾀ!$B:$J,5,0))))","v":""},{"$f":"IF($E126=\"\",\"\",IF(ISERROR(VLOOKUP($E126,氏名ﾃﾞｰﾀ!$B:$J,8,0)),IF(ISERROR(VLOOKUP($E126,新規登録!$B:$I,6,0)),\"未登録\",VLOOKUP($E126,新規登録!$B:$I,6,0)),(VLOOKUP($E126,氏名ﾃﾞｰﾀ!$B:$J,8,0))))","v":""},{"$f":"IF($E126=\"\",\"\",IF(ISERROR(VLOOKUP($E126,氏名ﾃﾞｰﾀ!$B:$J,7,0)),IF(ISERROR(VLOOKUP($E126,新規登録!$B:$I,7,0)),\"未登録\",VLOOKUP($E126,新規登録!$B:$I,7,0)),$G$3))","v":""},{"$f":"IF($E126=\"\",\"\",IF(ISERROR(VLOOKUP($E126,氏名ﾃﾞｰﾀ!$B:$J,6,0)),IF(ISERROR(VLOOKUP($E126,新規登録!$B:$I,8,0)),\"ﾅｼ\",VLOOKUP($E126,新規登録!$B:$I,8,0)),(VLOOKUP($E126,氏名ﾃﾞｰﾀ!$B:$J,6,0))))","v":""},{"$f":"IF($E126=\"\",\"\",IF(ISERROR(VLOOKUP($E126,氏名ﾃﾞｰﾀ!$B:$J,9,0)),IF(ISERROR(VLOOKUP($E126,新規登録!$B:$I,9,0)),\"未登録\",VLOOKUP($E126,新規登録!$B:$I,9,0)),(VLOOKUP($E126,氏名ﾃﾞｰﾀ!$B:$J,9,0))))","v":""},null,null,null,null,null,null,null,null,null,null,null,null,null,null,null,null,null,null,null,null,2,{"$f":"IF(N126=\"\",\"\",VLOOKUP(N126,ﾃﾞｰﾀ!A:D,4,0))","v":""},"秒","秒"]
["","",{"$f":"IF(E127=\"\",\"\",IF(AH127=1,COUNTIF(AH$16:AH127,1)*10+2001-10,COUNTIF(AH$16:AH127,2)*10+6001-10))","v":""},112,null,{"$f":"IF($E127=\"\",\"\",IF(ISERROR(VLOOKUP($E127,氏名ﾃﾞｰﾀ!$B:$J,2,0)),IF(ISERROR(VLOOKUP($E127,新規登録!$B:$I,2,0)),\"未登録\",VLOOKUP($E127,新規登録!$B:$I,2,0)),(VLOOKUP($E127,氏名ﾃﾞｰﾀ!$B:$J,2,0))))","v":""},{"$f":"IF($E127=\"\",\"\",IF(ISERROR(VLOOKUP($E127,氏名ﾃﾞｰﾀ!$B:$J,3,0)),IF(ISERROR(VLOOKUP($E127,新規登録!$B:$I,3,0)),\"未登録\",VLOOKUP($E127,新規登録!$B:$I,3,0)),(VLOOKUP($E127,氏名ﾃﾞｰﾀ!$B:$J,3,0))))","v":""},{"$f":"IF($E127=\"\",\"\",IF(ISERROR(VLOOKUP($E127,氏名ﾃﾞｰﾀ!$B:$J,4,0)),IF(ISERROR(VLOOKUP($E127,新規登録!$B:$I,4,0)),\"未登録\",VLOOKUP($E127,新規登録!$B:$I,4,0)),(VLOOKUP($E127,氏名ﾃﾞｰﾀ!$B:$J,4,0))))","v":""},{"$f":"IF($E127=\"\",\"\",IF(ISERROR(VLOOKUP($E127,氏名ﾃﾞｰﾀ!$B:$J,5,0)),IF(ISERROR(VLOOKUP($E127,新規登録!$B:$I,5,0)),\"未登録\",VLOOKUP($E127,新規登録!$B:$I,5,0)),(VLOOKUP($E127,氏名ﾃﾞｰﾀ!$B:$J,5,0))))","v":""},{"$f":"IF($E127=\"\",\"\",IF(ISERROR(VLOOKUP($E127,氏名ﾃﾞｰﾀ!$B:$J,8,0)),IF(ISERROR(VLOOKUP($E127,新規登録!$B:$I,6,0)),\"未登録\",VLOOKUP($E127,新規登録!$B:$I,6,0)),(VLOOKUP($E127,氏名ﾃﾞｰﾀ!$B:$J,8,0))))","v":""},{"$f":"IF($E127=\"\",\"\",IF(ISERROR(VLOOKUP($E127,氏名ﾃﾞｰﾀ!$B:$J,7,0)),IF(ISERROR(VLOOKUP($E127,新規登録!$B:$I,7,0)),\"未登録\",VLOOKUP($E127,新規登録!$B:$I,7,0)),$G$3))","v":""},{"$f":"IF($E127=\"\",\"\",IF(ISERROR(VLOOKUP($E127,氏名ﾃﾞｰﾀ!$B:$J,6,0)),IF(ISERROR(VLOOKUP($E127,新規登録!$B:$I,8,0)),\"ﾅｼ\",VLOOKUP($E127,新規登録!$B:$I,8,0)),(VLOOKUP($E127,氏名ﾃﾞｰﾀ!$B:$J,6,0))))","v":""},{"$f":"IF($E127=\"\",\"\",IF(ISERROR(VLOOKUP($E127,氏名ﾃﾞｰﾀ!$B:$J,9,0)),IF(ISERROR(VLOOKUP($E127,新規登録!$B:$I,9,0)),\"未登録\",VLOOKUP($E127,新規登録!$B:$I,9,0)),(VLOOKUP($E127,氏名ﾃﾞｰﾀ!$B:$J,9,0))))","v":""},null,null,null,null,null,null,null,null,null,null,null,null,null,null,null,null,null,null,null,null,2,{"$f":"IF(N127=\"\",\"\",VLOOKUP(N127,ﾃﾞｰﾀ!A:D,4,0))","v":""},"秒","秒"]
["","",{"$f":"IF(E128=\"\",\"\",IF(AH128=1,COUNTIF(AH$16:AH128,1)*10+2001-10,COUNTIF(AH$16:AH128,2)*10+6001-10))","v":""},113,null,{"$f":"IF($E128=\"\",\"\",IF(ISERROR(VLOOKUP($E128,氏名ﾃﾞｰﾀ!$B:$J,2,0)),IF(ISERROR(VLOOKUP($E128,新規登録!$B:$I,2,0)),\"未登録\",VLOOKUP($E128,新規登録!$B:$I,2,0)),(VLOOKUP($E128,氏名ﾃﾞｰﾀ!$B:$J,2,0))))","v":""},{"$f":"IF($E128=\"\",\"\",IF(ISERROR(VLOOKUP($E128,氏名ﾃﾞｰﾀ!$B:$J,3,0)),IF(ISERROR(VLOOKUP($E128,新規登録!$B:$I,3,0)),\"未登録\",VLOOKUP($E128,新規登録!$B:$I,3,0)),(VLOOKUP($E128,氏名ﾃﾞｰﾀ!$B:$J,3,0))))","v":""},{"$f":"IF($E128=\"\",\"\",IF(ISERROR(VLOOKUP($E128,氏名ﾃﾞｰﾀ!$B:$J,4,0)),IF(ISERROR(VLOOKUP($E128,新規登録!$B:$I,4,0)),\"未登録\",VLOOKUP($E128,新規登録!$B:$I,4,0)),(VLOOKUP($E128,氏名ﾃﾞｰﾀ!$B:$J,4,0))))","v":""},{"$f":"IF($E128=\"\",\"\",IF(ISERROR(VLOOKUP($E128,氏名ﾃﾞｰﾀ!$B:$J,5,0)),IF(ISERROR(VLOOKUP($E128,新規登録!$B:$I,5,0)),\"未登録\",VLOOKUP($E128,新規登録!$B:$I,5,0)),(VLOOKUP($E128,氏名ﾃﾞｰﾀ!$B:$J,5,0))))","v":""},{"$f":"IF($E128=\"\",\"\",IF(ISERROR(VLOOKUP($E128,氏名ﾃﾞｰﾀ!$B:$J,8,0)),IF(ISERROR(VLOOKUP($E128,新規登録!$B:$I,6,0)),\"未登録\",VLOOKUP($E128,新規登録!$B:$I,6,0)),(VLOOKUP($E128,氏名ﾃﾞｰﾀ!$B:$J,8,0))))","v":""},{"$f":"IF($E128=\"\",\"\",IF(ISERROR(VLOOKUP($E128,氏名ﾃﾞｰﾀ!$B:$J,7,0)),IF(ISERROR(VLOOKUP($E128,新規登録!$B:$I,7,0)),\"未登録\",VLOOKUP($E128,新規登録!$B:$I,7,0)),$G$3))","v":""},{"$f":"IF($E128=\"\",\"\",IF(ISERROR(VLOOKUP($E128,氏名ﾃﾞｰﾀ!$B:$J,6,0)),IF(ISERROR(VLOOKUP($E128,新規登録!$B:$I,8,0)),\"ﾅｼ\",VLOOKUP($E128,新規登録!$B:$I,8,0)),(VLOOKUP($E128,氏名ﾃﾞｰﾀ!$B:$J,6,0))))","v":""},{"$f":"IF($E128=\"\",\"\",IF(ISERROR(VLOOKUP($E128,氏名ﾃﾞｰﾀ!$B:$J,9,0)),IF(ISERROR(VLOOKUP($E128,新規登録!$B:$I,9,0)),\"未登録\",VLOOKUP($E128,新規登録!$B:$I,9,0)),(VLOOKUP($E128,氏名ﾃﾞｰﾀ!$B:$J,9,0))))","v":""},null,null,null,null,null,null,null,null,null,null,null,null,null,null,null,null,null,null,null,null,2,{"$f":"IF(N128=\"\",\"\",VLOOKUP(N128,ﾃﾞｰﾀ!A:D,4,0))","v":""},"秒","秒"]
["","",{"$f":"IF(E129=\"\",\"\",IF(AH129=1,COUNTIF(AH$16:AH129,1)*10+2001-10,COUNTIF(AH$16:AH129,2)*10+6001-10))","v":""},114,null,{"$f":"IF($E129=\"\",\"\",IF(ISERROR(VLOOKUP($E129,氏名ﾃﾞｰﾀ!$B:$J,2,0)),IF(ISERROR(VLOOKUP($E129,新規登録!$B:$I,2,0)),\"未登録\",VLOOKUP($E129,新規登録!$B:$I,2,0)),(VLOOKUP($E129,氏名ﾃﾞｰﾀ!$B:$J,2,0))))","v":""},{"$f":"IF($E129=\"\",\"\",IF(ISERROR(VLOOKUP($E129,氏名ﾃﾞｰﾀ!$B:$J,3,0)),IF(ISERROR(VLOOKUP($E129,新規登録!$B:$I,3,0)),\"未登録\",VLOOKUP($E129,新規登録!$B:$I,3,0)),(VLOOKUP($E129,氏名ﾃﾞｰﾀ!$B:$J,3,0))))","v":""},{"$f":"IF($E129=\"\",\"\",IF(ISERROR(VLOOKUP($E129,氏名ﾃﾞｰﾀ!$B:$J,4,0)),IF(ISERROR(VLOOKUP($E129,新規登録!$B:$I,4,0)),\"未登録\",VLOOKUP($E129,新規登録!$B:$I,4,0)),(VLOOKUP($E129,氏名ﾃﾞｰﾀ!$B:$J,4,0))))","v":""},{"$f":"IF($E129=\"\",\"\",IF(ISERROR(VLOOKUP($E129,氏名ﾃﾞｰﾀ!$B:$J,5,0)),IF(ISERROR(VLOOKUP($E129,新規登録!$B:$I,5,0)),\"未登録\",VLOOKUP($E129,新規登録!$B:$I,5,0)),(VLOOKUP($E129,氏名ﾃﾞｰﾀ!$B:$J,5,0))))","v":""},{"$f":"IF($E129=\"\",\"\",IF(ISERROR(VLOOKUP($E129,氏名ﾃﾞｰﾀ!$B:$J,8,0)),IF(ISERROR(VLOOKUP($E129,新規登録!$B:$I,6,0)),\"未登録\",VLOOKUP($E129,新規登録!$B:$I,6,0)),(VLOOKUP($E129,氏名ﾃﾞｰﾀ!$B:$J,8,0))))","v":""},{"$f":"IF($E129=\"\",\"\",IF(ISERROR(VLOOKUP($E129,氏名ﾃﾞｰﾀ!$B:$J,7,0)),IF(ISERROR(VLOOKUP($E129,新規登録!$B:$I,7,0)),\"未登録\",VLOOKUP($E129,新規登録!$B:$I,7,0)),$G$3))","v":""},{"$f":"IF($E129=\"\",\"\",IF(ISERROR(VLOOKUP($E129,氏名ﾃﾞｰﾀ!$B:$J,6,0)),IF(ISERROR(VLOOKUP($E129,新規登録!$B:$I,8,0)),\"ﾅｼ\",VLOOKUP($E129,新規登録!$B:$I,8,0)),(VLOOKUP($E129,氏名ﾃﾞｰﾀ!$B:$J,6,0))))","v":""},{"$f":"IF($E129=\"\",\"\",IF(ISERROR(VLOOKUP($E129,氏名ﾃﾞｰﾀ!$B:$J,9,0)),IF(ISERROR(VLOOKUP($E129,新規登録!$B:$I,9,0)),\"未登録\",VLOOKUP($E129,新規登録!$B:$I,9,0)),(VLOOKUP($E129,氏名ﾃﾞｰﾀ!$B:$J,9,0))))","v":""},null,null,null,null,null,null,null,null,null,null,null,null,null,null,null,null,null,null,null,null,2,{"$f":"IF(N129=\"\",\"\",VLOOKUP(N129,ﾃﾞｰﾀ!A:D,4,0))","v":""},"秒","秒"]
["","",{"$f":"IF(E130=\"\",\"\",IF(AH130=1,COUNTIF(AH$16:AH130,1)*10+2001-10,COUNTIF(AH$16:AH130,2)*10+6001-10))","v":""},115,null,{"$f":"IF($E130=\"\",\"\",IF(ISERROR(VLOOKUP($E130,氏名ﾃﾞｰﾀ!$B:$J,2,0)),IF(ISERROR(VLOOKUP($E130,新規登録!$B:$I,2,0)),\"未登録\",VLOOKUP($E130,新規登録!$B:$I,2,0)),(VLOOKUP($E130,氏名ﾃﾞｰﾀ!$B:$J,2,0))))","v":""},{"$f":"IF($E130=\"\",\"\",IF(ISERROR(VLOOKUP($E130,氏名ﾃﾞｰﾀ!$B:$J,3,0)),IF(ISERROR(VLOOKUP($E130,新規登録!$B:$I,3,0)),\"未登録\",VLOOKUP($E130,新規登録!$B:$I,3,0)),(VLOOKUP($E130,氏名ﾃﾞｰﾀ!$B:$J,3,0))))","v":""},{"$f":"IF($E130=\"\",\"\",IF(ISERROR(VLOOKUP($E130,氏名ﾃﾞｰﾀ!$B:$J,4,0)),IF(ISERROR(VLOOKUP($E130,新規登録!$B:$I,4,0)),\"未登録\",VLOOKUP($E130,新規登録!$B:$I,4,0)),(VLOOKUP($E130,氏名ﾃﾞｰﾀ!$B:$J,4,0))))","v":""},{"$f":"IF($E130=\"\",\"\",IF(ISERROR(VLOOKUP($E130,氏名ﾃﾞｰﾀ!$B:$J,5,0)),IF(ISERROR(VLOOKUP($E130,新規登録!$B:$I,5,0)),\"未登録\",VLOOKUP($E130,新規登録!$B:$I,5,0)),(VLOOKUP($E130,氏名ﾃﾞｰﾀ!$B:$J,5,0))))","v":""},{"$f":"IF($E130=\"\",\"\",IF(ISERROR(VLOOKUP($E130,氏名ﾃﾞｰﾀ!$B:$J,8,0)),IF(ISERROR(VLOOKUP($E130,新規登録!$B:$I,6,0)),\"未登録\",VLOOKUP($E130,新規登録!$B:$I,6,0)),(VLOOKUP($E130,氏名ﾃﾞｰﾀ!$B:$J,8,0))))","v":""},{"$f":"IF($E130=\"\",\"\",IF(ISERROR(VLOOKUP($E130,氏名ﾃﾞｰﾀ!$B:$J,7,0)),IF(ISERROR(VLOOKUP($E130,新規登録!$B:$I,7,0)),\"未登録\",VLOOKUP($E130,新規登録!$B:$I,7,0)),$G$3))","v":""},{"$f":"IF($E130=\"\",\"\",IF(ISERROR(VLOOKUP($E130,氏名ﾃﾞｰﾀ!$B:$J,6,0)),IF(ISERROR(VLOOKUP($E130,新規登録!$B:$I,8,0)),\"ﾅｼ\",VLOOKUP($E130,新規登録!$B:$I,8,0)),(VLOOKUP($E130,氏名ﾃﾞｰﾀ!$B:$J,6,0))))","v":""},{"$f":"IF($E130=\"\",\"\",IF(ISERROR(VLOOKUP($E130,氏名ﾃﾞｰﾀ!$B:$J,9,0)),IF(ISERROR(VLOOKUP($E130,新規登録!$B:$I,9,0)),\"未登録\",VLOOKUP($E130,新規登録!$B:$I,9,0)),(VLOOKUP($E130,氏名ﾃﾞｰﾀ!$B:$J,9,0))))","v":""},null,null,null,null,null,null,null,null,null,null,null,null,null,null,null,null,null,null,null,null,2,{"$f":"IF(N130=\"\",\"\",VLOOKUP(N130,ﾃﾞｰﾀ!A:D,4,0))","v":""},"秒","秒"]
["","",{"$f":"IF(E131=\"\",\"\",IF(AH131=1,COUNTIF(AH$16:AH131,1)*10+2001-10,COUNTIF(AH$16:AH131,2)*10+6001-10))","v":""},116,null,{"$f":"IF($E131=\"\",\"\",IF(ISERROR(VLOOKUP($E131,氏名ﾃﾞｰﾀ!$B:$J,2,0)),IF(ISERROR(VLOOKUP($E131,新規登録!$B:$I,2,0)),\"未登録\",VLOOKUP($E131,新規登録!$B:$I,2,0)),(VLOOKUP($E131,氏名ﾃﾞｰﾀ!$B:$J,2,0))))","v":""},{"$f":"IF($E131=\"\",\"\",IF(ISERROR(VLOOKUP($E131,氏名ﾃﾞｰﾀ!$B:$J,3,0)),IF(ISERROR(VLOOKUP($E131,新規登録!$B:$I,3,0)),\"未登録\",VLOOKUP($E131,新規登録!$B:$I,3,0)),(VLOOKUP($E131,氏名ﾃﾞｰﾀ!$B:$J,3,0))))","v":""},{"$f":"IF($E131=\"\",\"\",IF(ISERROR(VLOOKUP($E131,氏名ﾃﾞｰﾀ!$B:$J,4,0)),IF(ISERROR(VLOOKUP($E131,新規登録!$B:$I,4,0)),\"未登録\",VLOOKUP($E131,新規登録!$B:$I,4,0)),(VLOOKUP($E131,氏名ﾃﾞｰﾀ!$B:$J,4,0))))","v":""},{"$f":"IF($E131=\"\",\"\",IF(ISERROR(VLOOKUP($E131,氏名ﾃﾞｰﾀ!$B:$J,5,0)),IF(ISERROR(VLOOKUP($E131,新規登録!$B:$I,5,0)),\"未登録\",VLOOKUP($E131,新規登録!$B:$I,5,0)),(VLOOKUP($E131,氏名ﾃﾞｰﾀ!$B:$J,5,0))))","v":""},{"$f":"IF($E131=\"\",\"\",IF(ISERROR(VLOOKUP($E131,氏名ﾃﾞｰﾀ!$B:$J,8,0)),IF(ISERROR(VLOOKUP($E131,新規登録!$B:$I,6,0)),\"未登録\",VLOOKUP($E131,新規登録!$B:$I,6,0)),(VLOOKUP($E131,氏名ﾃﾞｰﾀ!$B:$J,8,0))))","v":""},{"$f":"IF($E131=\"\",\"\",IF(ISERROR(VLOOKUP($E131,氏名ﾃﾞｰﾀ!$B:$J,7,0)),IF(ISERROR(VLOOKUP($E131,新規登録!$B:$I,7,0)),\"未登録\",VLOOKUP($E131,新規登録!$B:$I,7,0)),$G$3))","v":""},{"$f":"IF($E131=\"\",\"\",IF(ISERROR(VLOOKUP($E131,氏名ﾃﾞｰﾀ!$B:$J,6,0)),IF(ISERROR(VLOOKUP($E131,新規登録!$B:$I,8,0)),\"ﾅｼ\",VLOOKUP($E131,新規登録!$B:$I,8,0)),(VLOOKUP($E131,氏名ﾃﾞｰﾀ!$B:$J,6,0))))","v":""},{"$f":"IF($E131=\"\",\"\",IF(ISERROR(VLOOKUP($E131,氏名ﾃﾞｰﾀ!$B:$J,9,0)),IF(ISERROR(VLOOKUP($E131,新規登録!$B:$I,9,0)),\"未登録\",VLOOKUP($E131,新規登録!$B:$I,9,0)),(VLOOKUP($E131,氏名ﾃﾞｰﾀ!$B:$J,9,0))))","v":""},null,null,null,null,null,null,null,null,null,null,null,null,null,null,null,null,null,null,null,null,2,{"$f":"IF(N131=\"\",\"\",VLOOKUP(N131,ﾃﾞｰﾀ!A:D,4,0))","v":""},"秒","秒"]
["","",{"$f":"IF(E132=\"\",\"\",IF(AH132=1,COUNTIF(AH$16:AH132,1)*10+2001-10,COUNTIF(AH$16:AH132,2)*10+6001-10))","v":""},117,null,{"$f":"IF($E132=\"\",\"\",IF(ISERROR(VLOOKUP($E132,氏名ﾃﾞｰﾀ!$B:$J,2,0)),IF(ISERROR(VLOOKUP($E132,新規登録!$B:$I,2,0)),\"未登録\",VLOOKUP($E132,新規登録!$B:$I,2,0)),(VLOOKUP($E132,氏名ﾃﾞｰﾀ!$B:$J,2,0))))","v":""},{"$f":"IF($E132=\"\",\"\",IF(ISERROR(VLOOKUP($E132,氏名ﾃﾞｰﾀ!$B:$J,3,0)),IF(ISERROR(VLOOKUP($E132,新規登録!$B:$I,3,0)),\"未登録\",VLOOKUP($E132,新規登録!$B:$I,3,0)),(VLOOKUP($E132,氏名ﾃﾞｰﾀ!$B:$J,3,0))))","v":""},{"$f":"IF($E132=\"\",\"\",IF(ISERROR(VLOOKUP($E132,氏名ﾃﾞｰﾀ!$B:$J,4,0)),IF(ISERROR(VLOOKUP($E132,新規登録!$B:$I,4,0)),\"未登録\",VLOOKUP($E132,新規登録!$B:$I,4,0)),(VLOOKUP($E132,氏名ﾃﾞｰﾀ!$B:$J,4,0))))","v":""},{"$f":"IF($E132=\"\",\"\",IF(ISERROR(VLOOKUP($E132,氏名ﾃﾞｰﾀ!$B:$J,5,0)),IF(ISERROR(VLOOKUP($E132,新規登録!$B:$I,5,0)),\"未登録\",VLOOKUP($E132,新規登録!$B:$I,5,0)),(VLOOKUP($E132,氏名ﾃﾞｰﾀ!$B:$J,5,0))))","v":""},{"$f":"IF($E132=\"\",\"\",IF(ISERROR(VLOOKUP($E132,氏名ﾃﾞｰﾀ!$B:$J,8,0)),IF(ISERROR(VLOOKUP($E132,新規登録!$B:$I,6,0)),\"未登録\",VLOOKUP($E132,新規登録!$B:$I,6,0)),(VLOOKUP($E132,氏名ﾃﾞｰﾀ!$B:$J,8,0))))","v":""},{"$f":"IF($E132=\"\",\"\",IF(ISERROR(VLOOKUP($E132,氏名ﾃﾞｰﾀ!$B:$J,7,0)),IF(ISERROR(VLOOKUP($E132,新規登録!$B:$I,7,0)),\"未登録\",VLOOKUP($E132,新規登録!$B:$I,7,0)),$G$3))","v":""},{"$f":"IF($E132=\"\",\"\",IF(ISERROR(VLOOKUP($E132,氏名ﾃﾞｰﾀ!$B:$J,6,0)),IF(ISERROR(VLOOKUP($E132,新規登録!$B:$I,8,0)),\"ﾅｼ\",VLOOKUP($E132,新規登録!$B:$I,8,0)),(VLOOKUP($E132,氏名ﾃﾞｰﾀ!$B:$J,6,0))))","v":""},{"$f":"IF($E132=\"\",\"\",IF(ISERROR(VLOOKUP($E132,氏名ﾃﾞｰﾀ!$B:$J,9,0)),IF(ISERROR(VLOOKUP($E132,新規登録!$B:$I,9,0)),\"未登録\",VLOOKUP($E132,新規登録!$B:$I,9,0)),(VLOOKUP($E132,氏名ﾃﾞｰﾀ!$B:$J,9,0))))","v":""},null,null,null,null,null,null,null,null,null,null,null,null,null,null,null,null,null,null,null,null,2,{"$f":"IF(N132=\"\",\"\",VLOOKUP(N132,ﾃﾞｰﾀ!A:D,4,0))","v":""},"秒","秒"]
["","",{"$f":"IF(E133=\"\",\"\",IF(AH133=1,COUNTIF(AH$16:AH133,1)*10+2001-10,COUNTIF(AH$16:AH133,2)*10+6001-10))","v":""},118,null,{"$f":"IF($E133=\"\",\"\",IF(ISERROR(VLOOKUP($E133,氏名ﾃﾞｰﾀ!$B:$J,2,0)),IF(ISERROR(VLOOKUP($E133,新規登録!$B:$I,2,0)),\"未登録\",VLOOKUP($E133,新規登録!$B:$I,2,0)),(VLOOKUP($E133,氏名ﾃﾞｰﾀ!$B:$J,2,0))))","v":""},{"$f":"IF($E133=\"\",\"\",IF(ISERROR(VLOOKUP($E133,氏名ﾃﾞｰﾀ!$B:$J,3,0)),IF(ISERROR(VLOOKUP($E133,新規登録!$B:$I,3,0)),\"未登録\",VLOOKUP($E133,新規登録!$B:$I,3,0)),(VLOOKUP($E133,氏名ﾃﾞｰﾀ!$B:$J,3,0))))","v":""},{"$f":"IF($E133=\"\",\"\",IF(ISERROR(VLOOKUP($E133,氏名ﾃﾞｰﾀ!$B:$J,4,0)),IF(ISERROR(VLOOKUP($E133,新規登録!$B:$I,4,0)),\"未登録\",VLOOKUP($E133,新規登録!$B:$I,4,0)),(VLOOKUP($E133,氏名ﾃﾞｰﾀ!$B:$J,4,0))))","v":""},{"$f":"IF($E133=\"\",\"\",IF(ISERROR(VLOOKUP($E133,氏名ﾃﾞｰﾀ!$B:$J,5,0)),IF(ISERROR(VLOOKUP($E133,新規登録!$B:$I,5,0)),\"未登録\",VLOOKUP($E133,新規登録!$B:$I,5,0)),(VLOOKUP($E133,氏名ﾃﾞｰﾀ!$B:$J,5,0))))","v":""},{"$f":"IF($E133=\"\",\"\",IF(ISERROR(VLOOKUP($E133,氏名ﾃﾞｰﾀ!$B:$J,8,0)),IF(ISERROR(VLOOKUP($E133,新規登録!$B:$I,6,0)),\"未登録\",VLOOKUP($E133,新規登録!$B:$I,6,0)),(VLOOKUP($E133,氏名ﾃﾞｰﾀ!$B:$J,8,0))))","v":""},{"$f":"IF($E133=\"\",\"\",IF(ISERROR(VLOOKUP($E133,氏名ﾃﾞｰﾀ!$B:$J,7,0)),IF(ISERROR(VLOOKUP($E133,新規登録!$B:$I,7,0)),\"未登録\",VLOOKUP($E133,新規登録!$B:$I,7,0)),$G$3))","v":""},{"$f":"IF($E133=\"\",\"\",IF(ISERROR(VLOOKUP($E133,氏名ﾃﾞｰﾀ!$B:$J,6,0)),IF(ISERROR(VLOOKUP($E133,新規登録!$B:$I,8,0)),\"ﾅｼ\",VLOOKUP($E133,新規登録!$B:$I,8,0)),(VLOOKUP($E133,氏名ﾃﾞｰﾀ!$B:$J,6,0))))","v":""},{"$f":"IF($E133=\"\",\"\",IF(ISERROR(VLOOKUP($E133,氏名ﾃﾞｰﾀ!$B:$J,9,0)),IF(ISERROR(VLOOKUP($E133,新規登録!$B:$I,9,0)),\"未登録\",VLOOKUP($E133,新規登録!$B:$I,9,0)),(VLOOKUP($E133,氏名ﾃﾞｰﾀ!$B:$J,9,0))))","v":""},null,null,null,null,null,null,null,null,null,null,null,null,null,null,null,null,null,null,null,null,2,{"$f":"IF(N133=\"\",\"\",VLOOKUP(N133,ﾃﾞｰﾀ!A:D,4,0))","v":""},"秒","秒"]
["","",{"$f":"IF(E134=\"\",\"\",IF(AH134=1,COUNTIF(AH$16:AH134,1)*10+2001-10,COUNTIF(AH$16:AH134,2)*10+6001-10))","v":""},119,null,{"$f":"IF($E134=\"\",\"\",IF(ISERROR(VLOOKUP($E134,氏名ﾃﾞｰﾀ!$B:$J,2,0)),IF(ISERROR(VLOOKUP($E134,新規登録!$B:$I,2,0)),\"未登録\",VLOOKUP($E134,新規登録!$B:$I,2,0)),(VLOOKUP($E134,氏名ﾃﾞｰﾀ!$B:$J,2,0))))","v":""},{"$f":"IF($E134=\"\",\"\",IF(ISERROR(VLOOKUP($E134,氏名ﾃﾞｰﾀ!$B:$J,3,0)),IF(ISERROR(VLOOKUP($E134,新規登録!$B:$I,3,0)),\"未登録\",VLOOKUP($E134,新規登録!$B:$I,3,0)),(VLOOKUP($E134,氏名ﾃﾞｰﾀ!$B:$J,3,0))))","v":""},{"$f":"IF($E134=\"\",\"\",IF(ISERROR(VLOOKUP($E134,氏名ﾃﾞｰﾀ!$B:$J,4,0)),IF(ISERROR(VLOOKUP($E134,新規登録!$B:$I,4,0)),\"未登録\",VLOOKUP($E134,新規登録!$B:$I,4,0)),(VLOOKUP($E134,氏名ﾃﾞｰﾀ!$B:$J,4,0))))","v":""},{"$f":"IF($E134=\"\",\"\",IF(ISERROR(VLOOKUP($E134,氏名ﾃﾞｰﾀ!$B:$J,5,0)),IF(ISERROR(VLOOKUP($E134,新規登録!$B:$I,5,0)),\"未登録\",VLOOKUP($E134,新規登録!$B:$I,5,0)),(VLOOKUP($E134,氏名ﾃﾞｰﾀ!$B:$J,5,0))))","v":""},{"$f":"IF($E134=\"\",\"\",IF(ISERROR(VLOOKUP($E134,氏名ﾃﾞｰﾀ!$B:$J,8,0)),IF(ISERROR(VLOOKUP($E134,新規登録!$B:$I,6,0)),\"未登録\",VLOOKUP($E134,新規登録!$B:$I,6,0)),(VLOOKUP($E134,氏名ﾃﾞｰﾀ!$B:$J,8,0))))","v":""},{"$f":"IF($E134=\"\",\"\",IF(ISERROR(VLOOKUP($E134,氏名ﾃﾞｰﾀ!$B:$J,7,0)),IF(ISERROR(VLOOKUP($E134,新規登録!$B:$I,7,0)),\"未登録\",VLOOKUP($E134,新規登録!$B:$I,7,0)),$G$3))","v":""},{"$f":"IF($E134=\"\",\"\",IF(ISERROR(VLOOKUP($E134,氏名ﾃﾞｰﾀ!$B:$J,6,0)),IF(ISERROR(VLOOKUP($E134,新規登録!$B:$I,8,0)),\"ﾅｼ\",VLOOKUP($E134,新規登録!$B:$I,8,0)),(VLOOKUP($E134,氏名ﾃﾞｰﾀ!$B:$J,6,0))))","v":""},{"$f":"IF($E134=\"\",\"\",IF(ISERROR(VLOOKUP($E134,氏名ﾃﾞｰﾀ!$B:$J,9,0)),IF(ISERROR(VLOOKUP($E134,新規登録!$B:$I,9,0)),\"未登録\",VLOOKUP($E134,新規登録!$B:$I,9,0)),(VLOOKUP($E134,氏名ﾃﾞｰﾀ!$B:$J,9,0))))","v":""},null,null,null,null,null,null,null,null,null,null,null,null,null,null,null,null,null,null,null,null,2,{"$f":"IF(N134=\"\",\"\",VLOOKUP(N134,ﾃﾞｰﾀ!A:D,4,0))","v":""},"秒","秒"]
["","",{"$f":"IF(E135=\"\",\"\",IF(AH135=1,COUNTIF(AH$16:AH135,1)*10+2001-10,COUNTIF(AH$16:AH135,2)*10+6001-10))","v":""},120,null,{"$f":"IF($E135=\"\",\"\",IF(ISERROR(VLOOKUP($E135,氏名ﾃﾞｰﾀ!$B:$J,2,0)),IF(ISERROR(VLOOKUP($E135,新規登録!$B:$I,2,0)),\"未登録\",VLOOKUP($E135,新規登録!$B:$I,2,0)),(VLOOKUP($E135,氏名ﾃﾞｰﾀ!$B:$J,2,0))))","v":""},{"$f":"IF($E135=\"\",\"\",IF(ISERROR(VLOOKUP($E135,氏名ﾃﾞｰﾀ!$B:$J,3,0)),IF(ISERROR(VLOOKUP($E135,新規登録!$B:$I,3,0)),\"未登録\",VLOOKUP($E135,新規登録!$B:$I,3,0)),(VLOOKUP($E135,氏名ﾃﾞｰﾀ!$B:$J,3,0))))","v":""},{"$f":"IF($E135=\"\",\"\",IF(ISERROR(VLOOKUP($E135,氏名ﾃﾞｰﾀ!$B:$J,4,0)),IF(ISERROR(VLOOKUP($E135,新規登録!$B:$I,4,0)),\"未登録\",VLOOKUP($E135,新規登録!$B:$I,4,0)),(VLOOKUP($E135,氏名ﾃﾞｰﾀ!$B:$J,4,0))))","v":""},{"$f":"IF($E135=\"\",\"\",IF(ISERROR(VLOOKUP($E135,氏名ﾃﾞｰﾀ!$B:$J,5,0)),IF(ISERROR(VLOOKUP($E135,新規登録!$B:$I,5,0)),\"未登録\",VLOOKUP($E135,新規登録!$B:$I,5,0)),(VLOOKUP($E135,氏名ﾃﾞｰﾀ!$B:$J,5,0))))","v":""},{"$f":"IF($E135=\"\",\"\",IF(ISERROR(VLOOKUP($E135,氏名ﾃﾞｰﾀ!$B:$J,8,0)),IF(ISERROR(VLOOKUP($E135,新規登録!$B:$I,6,0)),\"未登録\",VLOOKUP($E135,新規登録!$B:$I,6,0)),(VLOOKUP($E135,氏名ﾃﾞｰﾀ!$B:$J,8,0))))","v":""},{"$f":"IF($E135=\"\",\"\",IF(ISERROR(VLOOKUP($E135,氏名ﾃﾞｰﾀ!$B:$J,7,0)),IF(ISERROR(VLOOKUP($E135,新規登録!$B:$I,7,0)),\"未登録\",VLOOKUP($E135,新規登録!$B:$I,7,0)),$G$3))","v":""},{"$f":"IF($E135=\"\",\"\",IF(ISERROR(VLOOKUP($E135,氏名ﾃﾞｰﾀ!$B:$J,6,0)),IF(ISERROR(VLOOKUP($E135,新規登録!$B:$I,8,0)),\"ﾅｼ\",VLOOKUP($E135,新規登録!$B:$I,8,0)),(VLOOKUP($E135,氏名ﾃﾞｰﾀ!$B:$J,6,0))))","v":""},{"$f":"IF($E135=\"\",\"\",IF(ISERROR(VLOOKUP($E135,氏名ﾃﾞｰﾀ!$B:$J,9,0)),IF(ISERROR(VLOOKUP($E135,新規登録!$B:$I,9,0)),\"未登録\",VLOOKUP($E135,新規登録!$B:$I,9,0)),(VLOOKUP($E135,氏名ﾃﾞｰﾀ!$B:$J,9,0))))","v":""},null,null,null,null,null,null,null,null,null,null,null,null,null,null,null,null,null,null,null,null,2,{"$f":"IF(N135=\"\",\"\",VLOOKUP(N135,ﾃﾞｰﾀ!A:D,4,0))","v":""},"秒","秒"]
["","",{"$f":"IF(E136=\"\",\"\",IF(AH136=1,COUNTIF(AH$16:AH136,1)*10+2001-10,COUNTIF(AH$16:AH136,2)*10+6001-10))","v":""},121,null,{"$f":"IF($E136=\"\",\"\",IF(ISERROR(VLOOKUP($E136,氏名ﾃﾞｰﾀ!$B:$J,2,0)),IF(ISERROR(VLOOKUP($E136,新規登録!$B:$I,2,0)),\"未登録\",VLOOKUP($E136,新規登録!$B:$I,2,0)),(VLOOKUP($E136,氏名ﾃﾞｰﾀ!$B:$J,2,0))))","v":""},{"$f":"IF($E136=\"\",\"\",IF(ISERROR(VLOOKUP($E136,氏名ﾃﾞｰﾀ!$B:$J,3,0)),IF(ISERROR(VLOOKUP($E136,新規登録!$B:$I,3,0)),\"未登録\",VLOOKUP($E136,新規登録!$B:$I,3,0)),(VLOOKUP($E136,氏名ﾃﾞｰﾀ!$B:$J,3,0))))","v":""},{"$f":"IF($E136=\"\",\"\",IF(ISERROR(VLOOKUP($E136,氏名ﾃﾞｰﾀ!$B:$J,4,0)),IF(ISERROR(VLOOKUP($E136,新規登録!$B:$I,4,0)),\"未登録\",VLOOKUP($E136,新規登録!$B:$I,4,0)),(VLOOKUP($E136,氏名ﾃﾞｰﾀ!$B:$J,4,0))))","v":""},{"$f":"IF($E136=\"\",\"\",IF(ISERROR(VLOOKUP($E136,氏名ﾃﾞｰﾀ!$B:$J,5,0)),IF(ISERROR(VLOOKUP($E136,新規登録!$B:$I,5,0)),\"未登録\",VLOOKUP($E136,新規登録!$B:$I,5,0)),(VLOOKUP($E136,氏名ﾃﾞｰﾀ!$B:$J,5,0))))","v":""},{"$f":"IF($E136=\"\",\"\",IF(ISERROR(VLOOKUP($E136,氏名ﾃﾞｰﾀ!$B:$J,8,0)),IF(ISERROR(VLOOKUP($E136,新規登録!$B:$I,6,0)),\"未登録\",VLOOKUP($E136,新規登録!$B:$I,6,0)),(VLOOKUP($E136,氏名ﾃﾞｰﾀ!$B:$J,8,0))))","v":""},{"$f":"IF($E136=\"\",\"\",IF(ISERROR(VLOOKUP($E136,氏名ﾃﾞｰﾀ!$B:$J,7,0)),IF(ISERROR(VLOOKUP($E136,新規登録!$B:$I,7,0)),\"未登録\",VLOOKUP($E136,新規登録!$B:$I,7,0)),$G$3))","v":""},{"$f":"IF($E136=\"\",\"\",IF(ISERROR(VLOOKUP($E136,氏名ﾃﾞｰﾀ!$B:$J,6,0)),IF(ISERROR(VLOOKUP($E136,新規登録!$B:$I,8,0)),\"ﾅｼ\",VLOOKUP($E136,新規登録!$B:$I,8,0)),(VLOOKUP($E136,氏名ﾃﾞｰﾀ!$B:$J,6,0))))","v":""},{"$f":"IF($E136=\"\",\"\",IF(ISERROR(VLOOKUP($E136,氏名ﾃﾞｰﾀ!$B:$J,9,0)),IF(ISERROR(VLOOKUP($E136,新規登録!$B:$I,9,0)),\"未登録\",VLOOKUP($E136,新規登録!$B:$I,9,0)),(VLOOKUP($E136,氏名ﾃﾞｰﾀ!$B:$J,9,0))))","v":""},null,null,null,null,null,null,null,null,null,null,null,null,null,null,null,null,null,null,null,null,2,{"$f":"IF(N136=\"\",\"\",VLOOKUP(N136,ﾃﾞｰﾀ!A:D,4,0))","v":""},"秒","秒"]
["","",{"$f":"IF(E137=\"\",\"\",IF(AH137=1,COUNTIF(AH$16:AH137,1)*10+2001-10,COUNTIF(AH$16:AH137,2)*10+6001-10))","v":""},122,null,{"$f":"IF($E137=\"\",\"\",IF(ISERROR(VLOOKUP($E137,氏名ﾃﾞｰﾀ!$B:$J,2,0)),IF(ISERROR(VLOOKUP($E137,新規登録!$B:$I,2,0)),\"未登録\",VLOOKUP($E137,新規登録!$B:$I,2,0)),(VLOOKUP($E137,氏名ﾃﾞｰﾀ!$B:$J,2,0))))","v":""},{"$f":"IF($E137=\"\",\"\",IF(ISERROR(VLOOKUP($E137,氏名ﾃﾞｰﾀ!$B:$J,3,0)),IF(ISERROR(VLOOKUP($E137,新規登録!$B:$I,3,0)),\"未登録\",VLOOKUP($E137,新規登録!$B:$I,3,0)),(VLOOKUP($E137,氏名ﾃﾞｰﾀ!$B:$J,3,0))))","v":""},{"$f":"IF($E137=\"\",\"\",IF(ISERROR(VLOOKUP($E137,氏名ﾃﾞｰﾀ!$B:$J,4,0)),IF(ISERROR(VLOOKUP($E137,新規登録!$B:$I,4,0)),\"未登録\",VLOOKUP($E137,新規登録!$B:$I,4,0)),(VLOOKUP($E137,氏名ﾃﾞｰﾀ!$B:$J,4,0))))","v":""},{"$f":"IF($E137=\"\",\"\",IF(ISERROR(VLOOKUP($E137,氏名ﾃﾞｰﾀ!$B:$J,5,0)),IF(ISERROR(VLOOKUP($E137,新規登録!$B:$I,5,0)),\"未登録\",VLOOKUP($E137,新規登録!$B:$I,5,0)),(VLOOKUP($E137,氏名ﾃﾞｰﾀ!$B:$J,5,0))))","v":""},{"$f":"IF($E137=\"\",\"\",IF(ISERROR(VLOOKUP($E137,氏名ﾃﾞｰﾀ!$B:$J,8,0)),IF(ISERROR(VLOOKUP($E137,新規登録!$B:$I,6,0)),\"未登録\",VLOOKUP($E137,新規登録!$B:$I,6,0)),(VLOOKUP($E137,氏名ﾃﾞｰﾀ!$B:$J,8,0))))","v":""},{"$f":"IF($E137=\"\",\"\",IF(ISERROR(VLOOKUP($E137,氏名ﾃﾞｰﾀ!$B:$J,7,0)),IF(ISERROR(VLOOKUP($E137,新規登録!$B:$I,7,0)),\"未登録\",VLOOKUP($E137,新規登録!$B:$I,7,0)),$G$3))","v":""},{"$f":"IF($E137=\"\",\"\",IF(ISERROR(VLOOKUP($E137,氏名ﾃﾞｰﾀ!$B:$J,6,0)),IF(ISERROR(VLOOKUP($E137,新規登録!$B:$I,8,0)),\"ﾅｼ\",VLOOKUP($E137,新規登録!$B:$I,8,0)),(VLOOKUP($E137,氏名ﾃﾞｰﾀ!$B:$J,6,0))))","v":""},{"$f":"IF($E137=\"\",\"\",IF(ISERROR(VLOOKUP($E137,氏名ﾃﾞｰﾀ!$B:$J,9,0)),IF(ISERROR(VLOOKUP($E137,新規登録!$B:$I,9,0)),\"未登録\",VLOOKUP($E137,新規登録!$B:$I,9,0)),(VLOOKUP($E137,氏名ﾃﾞｰﾀ!$B:$J,9,0))))","v":""},null,null,null,null,null,null,null,null,null,null,null,null,null,null,null,null,null,null,null,null,2,{"$f":"IF(N137=\"\",\"\",VLOOKUP(N137,ﾃﾞｰﾀ!A:D,4,0))","v":""},"秒","秒"]
["","",{"$f":"IF(E138=\"\",\"\",IF(AH138=1,COUNTIF(AH$16:AH138,1)*10+2001-10,COUNTIF(AH$16:AH138,2)*10+6001-10))","v":""},123,null,{"$f":"IF($E138=\"\",\"\",IF(ISERROR(VLOOKUP($E138,氏名ﾃﾞｰﾀ!$B:$J,2,0)),IF(ISERROR(VLOOKUP($E138,新規登録!$B:$I,2,0)),\"未登録\",VLOOKUP($E138,新規登録!$B:$I,2,0)),(VLOOKUP($E138,氏名ﾃﾞｰﾀ!$B:$J,2,0))))","v":""},{"$f":"IF($E138=\"\",\"\",IF(ISERROR(VLOOKUP($E138,氏名ﾃﾞｰﾀ!$B:$J,3,0)),IF(ISERROR(VLOOKUP($E138,新規登録!$B:$I,3,0)),\"未登録\",VLOOKUP($E138,新規登録!$B:$I,3,0)),(VLOOKUP($E138,氏名ﾃﾞｰﾀ!$B:$J,3,0))))","v":""},{"$f":"IF($E138=\"\",\"\",IF(ISERROR(VLOOKUP($E138,氏名ﾃﾞｰﾀ!$B:$J,4,0)),IF(ISERROR(VLOOKUP($E138,新規登録!$B:$I,4,0)),\"未登録\",VLOOKUP($E138,新規登録!$B:$I,4,0)),(VLOOKUP($E138,氏名ﾃﾞｰﾀ!$B:$J,4,0))))","v":""},{"$f":"IF($E138=\"\",\"\",IF(ISERROR(VLOOKUP($E138,氏名ﾃﾞｰﾀ!$B:$J,5,0)),IF(ISERROR(VLOOKUP($E138,新規登録!$B:$I,5,0)),\"未登録\",VLOOKUP($E138,新規登録!$B:$I,5,0)),(VLOOKUP($E138,氏名ﾃﾞｰﾀ!$B:$J,5,0))))","v":""},{"$f":"IF($E138=\"\",\"\",IF(ISERROR(VLOOKUP($E138,氏名ﾃﾞｰﾀ!$B:$J,8,0)),IF(ISERROR(VLOOKUP($E138,新規登録!$B:$I,6,0)),\"未登録\",VLOOKUP($E138,新規登録!$B:$I,6,0)),(VLOOKUP($E138,氏名ﾃﾞｰﾀ!$B:$J,8,0))))","v":""},{"$f":"IF($E138=\"\",\"\",IF(ISERROR(VLOOKUP($E138,氏名ﾃﾞｰﾀ!$B:$J,7,0)),IF(ISERROR(VLOOKUP($E138,新規登録!$B:$I,7,0)),\"未登録\",VLOOKUP($E138,新規登録!$B:$I,7,0)),$G$3))","v":""},{"$f":"IF($E138=\"\",\"\",IF(ISERROR(VLOOKUP($E138,氏名ﾃﾞｰﾀ!$B:$J,6,0)),IF(ISERROR(VLOOKUP($E138,新規登録!$B:$I,8,0)),\"ﾅｼ\",VLOOKUP($E138,新規登録!$B:$I,8,0)),(VLOOKUP($E138,氏名ﾃﾞｰﾀ!$B:$J,6,0))))","v":""},{"$f":"IF($E138=\"\",\"\",IF(ISERROR(VLOOKUP($E138,氏名ﾃﾞｰﾀ!$B:$J,9,0)),IF(ISERROR(VLOOKUP($E138,新規登録!$B:$I,9,0)),\"未登録\",VLOOKUP($E138,新規登録!$B:$I,9,0)),(VLOOKUP($E138,氏名ﾃﾞｰﾀ!$B:$J,9,0))))","v":""},null,null,null,null,null,null,null,null,null,null,null,null,null,null,null,null,null,null,null,null,2,{"$f":"IF(N138=\"\",\"\",VLOOKUP(N138,ﾃﾞｰﾀ!A:D,4,0))","v":""},"秒","秒"]
["","",{"$f":"IF(E139=\"\",\"\",IF(AH139=1,COUNTIF(AH$16:AH139,1)*10+2001-10,COUNTIF(AH$16:AH139,2)*10+6001-10))","v":""},124,null,{"$f":"IF($E139=\"\",\"\",IF(ISERROR(VLOOKUP($E139,氏名ﾃﾞｰﾀ!$B:$J,2,0)),IF(ISERROR(VLOOKUP($E139,新規登録!$B:$I,2,0)),\"未登録\",VLOOKUP($E139,新規登録!$B:$I,2,0)),(VLOOKUP($E139,氏名ﾃﾞｰﾀ!$B:$J,2,0))))","v":""},{"$f":"IF($E139=\"\",\"\",IF(ISERROR(VLOOKUP($E139,氏名ﾃﾞｰﾀ!$B:$J,3,0)),IF(ISERROR(VLOOKUP($E139,新規登録!$B:$I,3,0)),\"未登録\",VLOOKUP($E139,新規登録!$B:$I,3,0)),(VLOOKUP($E139,氏名ﾃﾞｰﾀ!$B:$J,3,0))))","v":""},{"$f":"IF($E139=\"\",\"\",IF(ISERROR(VLOOKUP($E139,氏名ﾃﾞｰﾀ!$B:$J,4,0)),IF(ISERROR(VLOOKUP($E139,新規登録!$B:$I,4,0)),\"未登録\",VLOOKUP($E139,新規登録!$B:$I,4,0)),(VLOOKUP($E139,氏名ﾃﾞｰﾀ!$B:$J,4,0))))","v":""},{"$f":"IF($E139=\"\",\"\",IF(ISERROR(VLOOKUP($E139,氏名ﾃﾞｰﾀ!$B:$J,5,0)),IF(ISERROR(VLOOKUP($E139,新規登録!$B:$I,5,0)),\"未登録\",VLOOKUP($E139,新規登録!$B:$I,5,0)),(VLOOKUP($E139,氏名ﾃﾞｰﾀ!$B:$J,5,0))))","v":""},{"$f":"IF($E139=\"\",\"\",IF(ISERROR(VLOOKUP($E139,氏名ﾃﾞｰﾀ!$B:$J,8,0)),IF(ISERROR(VLOOKUP($E139,新規登録!$B:$I,6,0)),\"未登録\",VLOOKUP($E139,新規登録!$B:$I,6,0)),(VLOOKUP($E139,氏名ﾃﾞｰﾀ!$B:$J,8,0))))","v":""},{"$f":"IF($E139=\"\",\"\",IF(ISERROR(VLOOKUP($E139,氏名ﾃﾞｰﾀ!$B:$J,7,0)),IF(ISERROR(VLOOKUP($E139,新規登録!$B:$I,7,0)),\"未登録\",VLOOKUP($E139,新規登録!$B:$I,7,0)),$G$3))","v":""},{"$f":"IF($E139=\"\",\"\",IF(ISERROR(VLOOKUP($E139,氏名ﾃﾞｰﾀ!$B:$J,6,0)),IF(ISERROR(VLOOKUP($E139,新規登録!$B:$I,8,0)),\"ﾅｼ\",VLOOKUP($E139,新規登録!$B:$I,8,0)),(VLOOKUP($E139,氏名ﾃﾞｰﾀ!$B:$J,6,0))))","v":""},{"$f":"IF($E139=\"\",\"\",IF(ISERROR(VLOOKUP($E139,氏名ﾃﾞｰﾀ!$B:$J,9,0)),IF(ISERROR(VLOOKUP($E139,新規登録!$B:$I,9,0)),\"未登録\",VLOOKUP($E139,新規登録!$B:$I,9,0)),(VLOOKUP($E139,氏名ﾃﾞｰﾀ!$B:$J,9,0))))","v":""},null,null,null,null,null,null,null,null,null,null,null,null,null,null,null,null,null,null,null,null,2,{"$f":"IF(N139=\"\",\"\",VLOOKUP(N139,ﾃﾞｰﾀ!A:D,4,0))","v":""},"秒","秒"]
["","",{"$f":"IF(E140=\"\",\"\",IF(AH140=1,COUNTIF(AH$16:AH140,1)*10+2001-10,COUNTIF(AH$16:AH140,2)*10+6001-10))","v":""},125,null,{"$f":"IF($E140=\"\",\"\",IF(ISERROR(VLOOKUP($E140,氏名ﾃﾞｰﾀ!$B:$J,2,0)),IF(ISERROR(VLOOKUP($E140,新規登録!$B:$I,2,0)),\"未登録\",VLOOKUP($E140,新規登録!$B:$I,2,0)),(VLOOKUP($E140,氏名ﾃﾞｰﾀ!$B:$J,2,0))))","v":""},{"$f":"IF($E140=\"\",\"\",IF(ISERROR(VLOOKUP($E140,氏名ﾃﾞｰﾀ!$B:$J,3,0)),IF(ISERROR(VLOOKUP($E140,新規登録!$B:$I,3,0)),\"未登録\",VLOOKUP($E140,新規登録!$B:$I,3,0)),(VLOOKUP($E140,氏名ﾃﾞｰﾀ!$B:$J,3,0))))","v":""},{"$f":"IF($E140=\"\",\"\",IF(ISERROR(VLOOKUP($E140,氏名ﾃﾞｰﾀ!$B:$J,4,0)),IF(ISERROR(VLOOKUP($E140,新規登録!$B:$I,4,0)),\"未登録\",VLOOKUP($E140,新規登録!$B:$I,4,0)),(VLOOKUP($E140,氏名ﾃﾞｰﾀ!$B:$J,4,0))))","v":""},{"$f":"IF($E140=\"\",\"\",IF(ISERROR(VLOOKUP($E140,氏名ﾃﾞｰﾀ!$B:$J,5,0)),IF(ISERROR(VLOOKUP($E140,新規登録!$B:$I,5,0)),\"未登録\",VLOOKUP($E140,新規登録!$B:$I,5,0)),(VLOOKUP($E140,氏名ﾃﾞｰﾀ!$B:$J,5,0))))","v":""},{"$f":"IF($E140=\"\",\"\",IF(ISERROR(VLOOKUP($E140,氏名ﾃﾞｰﾀ!$B:$J,8,0)),IF(ISERROR(VLOOKUP($E140,新規登録!$B:$I,6,0)),\"未登録\",VLOOKUP($E140,新規登録!$B:$I,6,0)),(VLOOKUP($E140,氏名ﾃﾞｰﾀ!$B:$J,8,0))))","v":""},{"$f":"IF($E140=\"\",\"\",IF(ISERROR(VLOOKUP($E140,氏名ﾃﾞｰﾀ!$B:$J,7,0)),IF(ISERROR(VLOOKUP($E140,新規登録!$B:$I,7,0)),\"未登録\",VLOOKUP($E140,新規登録!$B:$I,7,0)),$G$3))","v":""},{"$f":"IF($E140=\"\",\"\",IF(ISERROR(VLOOKUP($E140,氏名ﾃﾞｰﾀ!$B:$J,6,0)),IF(ISERROR(VLOOKUP($E140,新規登録!$B:$I,8,0)),\"ﾅｼ\",VLOOKUP($E140,新規登録!$B:$I,8,0)),(VLOOKUP($E140,氏名ﾃﾞｰﾀ!$B:$J,6,0))))","v":""},{"$f":"IF($E140=\"\",\"\",IF(ISERROR(VLOOKUP($E140,氏名ﾃﾞｰﾀ!$B:$J,9,0)),IF(ISERROR(VLOOKUP($E140,新規登録!$B:$I,9,0)),\"未登録\",VLOOKUP($E140,新規登録!$B:$I,9,0)),(VLOOKUP($E140,氏名ﾃﾞｰﾀ!$B:$J,9,0))))","v":""},null,null,null,null,null,null,null,null,null,null,null,null,null,null,null,null,null,null,null,null,2,{"$f":"IF(N140=\"\",\"\",VLOOKUP(N140,ﾃﾞｰﾀ!A:D,4,0))","v":""},"秒","秒"]
["","",{"$f":"IF(E141=\"\",\"\",IF(AH141=1,COUNTIF(AH$16:AH141,1)*10+2001-10,COUNTIF(AH$16:AH141,2)*10+6001-10))","v":""},126,null,{"$f":"IF($E141=\"\",\"\",IF(ISERROR(VLOOKUP($E141,氏名ﾃﾞｰﾀ!$B:$J,2,0)),IF(ISERROR(VLOOKUP($E141,新規登録!$B:$I,2,0)),\"未登録\",VLOOKUP($E141,新規登録!$B:$I,2,0)),(VLOOKUP($E141,氏名ﾃﾞｰﾀ!$B:$J,2,0))))","v":""},{"$f":"IF($E141=\"\",\"\",IF(ISERROR(VLOOKUP($E141,氏名ﾃﾞｰﾀ!$B:$J,3,0)),IF(ISERROR(VLOOKUP($E141,新規登録!$B:$I,3,0)),\"未登録\",VLOOKUP($E141,新規登録!$B:$I,3,0)),(VLOOKUP($E141,氏名ﾃﾞｰﾀ!$B:$J,3,0))))","v":""},{"$f":"IF($E141=\"\",\"\",IF(ISERROR(VLOOKUP($E141,氏名ﾃﾞｰﾀ!$B:$J,4,0)),IF(ISERROR(VLOOKUP($E141,新規登録!$B:$I,4,0)),\"未登録\",VLOOKUP($E141,新規登録!$B:$I,4,0)),(VLOOKUP($E141,氏名ﾃﾞｰﾀ!$B:$J,4,0))))","v":""},{"$f":"IF($E141=\"\",\"\",IF(ISERROR(VLOOKUP($E141,氏名ﾃﾞｰﾀ!$B:$J,5,0)),IF(ISERROR(VLOOKUP($E141,新規登録!$B:$I,5,0)),\"未登録\",VLOOKUP($E141,新規登録!$B:$I,5,0)),(VLOOKUP($E141,氏名ﾃﾞｰﾀ!$B:$J,5,0))))","v":""},{"$f":"IF($E141=\"\",\"\",IF(ISERROR(VLOOKUP($E141,氏名ﾃﾞｰﾀ!$B:$J,8,0)),IF(ISERROR(VLOOKUP($E141,新規登録!$B:$I,6,0)),\"未登録\",VLOOKUP($E141,新規登録!$B:$I,6,0)),(VLOOKUP($E141,氏名ﾃﾞｰﾀ!$B:$J,8,0))))","v":""},{"$f":"IF($E141=\"\",\"\",IF(ISERROR(VLOOKUP($E141,氏名ﾃﾞｰﾀ!$B:$J,7,0)),IF(ISERROR(VLOOKUP($E141,新規登録!$B:$I,7,0)),\"未登録\",VLOOKUP($E141,新規登録!$B:$I,7,0)),$G$3))","v":""},{"$f":"IF($E141=\"\",\"\",IF(ISERROR(VLOOKUP($E141,氏名ﾃﾞｰﾀ!$B:$J,6,0)),IF(ISERROR(VLOOKUP($E141,新規登録!$B:$I,8,0)),\"ﾅｼ\",VLOOKUP($E141,新規登録!$B:$I,8,0)),(VLOOKUP($E141,氏名ﾃﾞｰﾀ!$B:$J,6,0))))","v":""},{"$f":"IF($E141=\"\",\"\",IF(ISERROR(VLOOKUP($E141,氏名ﾃﾞｰﾀ!$B:$J,9,0)),IF(ISERROR(VLOOKUP($E141,新規登録!$B:$I,9,0)),\"未登録\",VLOOKUP($E141,新規登録!$B:$I,9,0)),(VLOOKUP($E141,氏名ﾃﾞｰﾀ!$B:$J,9,0))))","v":""},null,null,null,null,null,null,null,null,null,null,null,null,null,null,null,null,null,null,null,null,2,{"$f":"IF(N141=\"\",\"\",VLOOKUP(N141,ﾃﾞｰﾀ!A:D,4,0))","v":""},"秒","秒"]
["","",{"$f":"IF(E142=\"\",\"\",IF(AH142=1,COUNTIF(AH$16:AH142,1)*10+2001-10,COUNTIF(AH$16:AH142,2)*10+6001-10))","v":""},127,null,{"$f":"IF($E142=\"\",\"\",IF(ISERROR(VLOOKUP($E142,氏名ﾃﾞｰﾀ!$B:$J,2,0)),IF(ISERROR(VLOOKUP($E142,新規登録!$B:$I,2,0)),\"未登録\",VLOOKUP($E142,新規登録!$B:$I,2,0)),(VLOOKUP($E142,氏名ﾃﾞｰﾀ!$B:$J,2,0))))","v":""},{"$f":"IF($E142=\"\",\"\",IF(ISERROR(VLOOKUP($E142,氏名ﾃﾞｰﾀ!$B:$J,3,0)),IF(ISERROR(VLOOKUP($E142,新規登録!$B:$I,3,0)),\"未登録\",VLOOKUP($E142,新規登録!$B:$I,3,0)),(VLOOKUP($E142,氏名ﾃﾞｰﾀ!$B:$J,3,0))))","v":""},{"$f":"IF($E142=\"\",\"\",IF(ISERROR(VLOOKUP($E142,氏名ﾃﾞｰﾀ!$B:$J,4,0)),IF(ISERROR(VLOOKUP($E142,新規登録!$B:$I,4,0)),\"未登録\",VLOOKUP($E142,新規登録!$B:$I,4,0)),(VLOOKUP($E142,氏名ﾃﾞｰﾀ!$B:$J,4,0))))","v":""},{"$f":"IF($E142=\"\",\"\",IF(ISERROR(VLOOKUP($E142,氏名ﾃﾞｰﾀ!$B:$J,5,0)),IF(ISERROR(VLOOKUP($E142,新規登録!$B:$I,5,0)),\"未登録\",VLOOKUP($E142,新規登録!$B:$I,5,0)),(VLOOKUP($E142,氏名ﾃﾞｰﾀ!$B:$J,5,0))))","v":""},{"$f":"IF($E142=\"\",\"\",IF(ISERROR(VLOOKUP($E142,氏名ﾃﾞｰﾀ!$B:$J,8,0)),IF(ISERROR(VLOOKUP($E142,新規登録!$B:$I,6,0)),\"未登録\",VLOOKUP($E142,新規登録!$B:$I,6,0)),(VLOOKUP($E142,氏名ﾃﾞｰﾀ!$B:$J,8,0))))","v":""},{"$f":"IF($E142=\"\",\"\",IF(ISERROR(VLOOKUP($E142,氏名ﾃﾞｰﾀ!$B:$J,7,0)),IF(ISERROR(VLOOKUP($E142,新規登録!$B:$I,7,0)),\"未登録\",VLOOKUP($E142,新規登録!$B:$I,7,0)),$G$3))","v":""},{"$f":"IF($E142=\"\",\"\",IF(ISERROR(VLOOKUP($E142,氏名ﾃﾞｰﾀ!$B:$J,6,0)),IF(ISERROR(VLOOKUP($E142,新規登録!$B:$I,8,0)),\"ﾅｼ\",VLOOKUP($E142,新規登録!$B:$I,8,0)),(VLOOKUP($E142,氏名ﾃﾞｰﾀ!$B:$J,6,0))))","v":""},{"$f":"IF($E142=\"\",\"\",IF(ISERROR(VLOOKUP($E142,氏名ﾃﾞｰﾀ!$B:$J,9,0)),IF(ISERROR(VLOOKUP($E142,新規登録!$B:$I,9,0)),\"未登録\",VLOOKUP($E142,新規登録!$B:$I,9,0)),(VLOOKUP($E142,氏名ﾃﾞｰﾀ!$B:$J,9,0))))","v":""},null,null,null,null,null,null,null,null,null,null,null,null,null,null,null,null,null,null,null,null,2,{"$f":"IF(N142=\"\",\"\",VLOOKUP(N142,ﾃﾞｰﾀ!A:D,4,0))","v":""},"秒","秒"]
["","",{"$f":"IF(E143=\"\",\"\",IF(AH143=1,COUNTIF(AH$16:AH143,1)*10+2001-10,COUNTIF(AH$16:AH143,2)*10+6001-10))","v":""},128,null,{"$f":"IF($E143=\"\",\"\",IF(ISERROR(VLOOKUP($E143,氏名ﾃﾞｰﾀ!$B:$J,2,0)),IF(ISERROR(VLOOKUP($E143,新規登録!$B:$I,2,0)),\"未登録\",VLOOKUP($E143,新規登録!$B:$I,2,0)),(VLOOKUP($E143,氏名ﾃﾞｰﾀ!$B:$J,2,0))))","v":""},{"$f":"IF($E143=\"\",\"\",IF(ISERROR(VLOOKUP($E143,氏名ﾃﾞｰﾀ!$B:$J,3,0)),IF(ISERROR(VLOOKUP($E143,新規登録!$B:$I,3,0)),\"未登録\",VLOOKUP($E143,新規登録!$B:$I,3,0)),(VLOOKUP($E143,氏名ﾃﾞｰﾀ!$B:$J,3,0))))","v":""},{"$f":"IF($E143=\"\",\"\",IF(ISERROR(VLOOKUP($E143,氏名ﾃﾞｰﾀ!$B:$J,4,0)),IF(ISERROR(VLOOKUP($E143,新規登録!$B:$I,4,0)),\"未登録\",VLOOKUP($E143,新規登録!$B:$I,4,0)),(VLOOKUP($E143,氏名ﾃﾞｰﾀ!$B:$J,4,0))))","v":""},{"$f":"IF($E143=\"\",\"\",IF(ISERROR(VLOOKUP($E143,氏名ﾃﾞｰﾀ!$B:$J,5,0)),IF(ISERROR(VLOOKUP($E143,新規登録!$B:$I,5,0)),\"未登録\",VLOOKUP($E143,新規登録!$B:$I,5,0)),(VLOOKUP($E143,氏名ﾃﾞｰﾀ!$B:$J,5,0))))","v":""},{"$f":"IF($E143=\"\",\"\",IF(ISERROR(VLOOKUP($E143,氏名ﾃﾞｰﾀ!$B:$J,8,0)),IF(ISERROR(VLOOKUP($E143,新規登録!$B:$I,6,0)),\"未登録\",VLOOKUP($E143,新規登録!$B:$I,6,0)),(VLOOKUP($E143,氏名ﾃﾞｰﾀ!$B:$J,8,0))))","v":""},{"$f":"IF($E143=\"\",\"\",IF(ISERROR(VLOOKUP($E143,氏名ﾃﾞｰﾀ!$B:$J,7,0)),IF(ISERROR(VLOOKUP($E143,新規登録!$B:$I,7,0)),\"未登録\",VLOOKUP($E143,新規登録!$B:$I,7,0)),$G$3))","v":""},{"$f":"IF($E143=\"\",\"\",IF(ISERROR(VLOOKUP($E143,氏名ﾃﾞｰﾀ!$B:$J,6,0)),IF(ISERROR(VLOOKUP($E143,新規登録!$B:$I,8,0)),\"ﾅｼ\",VLOOKUP($E143,新規登録!$B:$I,8,0)),(VLOOKUP($E143,氏名ﾃﾞｰﾀ!$B:$J,6,0))))","v":""},{"$f":"IF($E143=\"\",\"\",IF(ISERROR(VLOOKUP($E143,氏名ﾃﾞｰﾀ!$B:$J,9,0)),IF(ISERROR(VLOOKUP($E143,新規登録!$B:$I,9,0)),\"未登録\",VLOOKUP($E143,新規登録!$B:$I,9,0)),(VLOOKUP($E143,氏名ﾃﾞｰﾀ!$B:$J,9,0))))","v":""},null,null,null,null,null,null,null,null,null,null,null,null,null,null,null,null,null,null,null,null,2,{"$f":"IF(N143=\"\",\"\",VLOOKUP(N143,ﾃﾞｰﾀ!A:D,4,0))","v":""},"秒","秒"]
[{"$f":"IF(Z144=\"\",\"\",IF(L144=\"男\",VLOOKUP(Z144,ﾘﾚｰｺｰﾄﾞ,2,0),VLOOKUP(Z144,ﾘﾚｰｺｰﾄﾞ,4,0)))","v":""},{"$f":"IF(AD144=\"\",\"\",IF(L144=\"男\",VLOOKUP(AD144,ﾘﾚｰｺｰﾄﾞ,3,0),VLOOKUP(AD144,ﾘﾚｰｺｰﾄﾞ,5,0)))","v":""},{"$f":"IF(E144=\"\",\"\",IF(AH144=1,COUNTIF(AH$16:AH144,1)*10+2001-10,COUNTIF(AH$16:AH144,2)*10+6001-10))","v":""},129,null,{"$f":"IF($E144=\"\",\"\",IF(ISERROR(VLOOKUP($E144,氏名ﾃﾞｰﾀ!$B:$J,2,0)),IF(ISERROR(VLOOKUP($E144,新規登録!$B:$I,2,0)),\"未登録\",VLOOKUP($E144,新規登録!$B:$I,2,0)),(VLOOKUP($E144,氏名ﾃﾞｰﾀ!$B:$J,2,0))))","v":""},{"$f":"IF($E144=\"\",\"\",IF(ISERROR(VLOOKUP($E144,氏名ﾃﾞｰﾀ!$B:$J,3,0)),IF(ISERROR(VLOOKUP($E144,新規登録!$B:$I,3,0)),\"未登録\",VLOOKUP($E144,新規登録!$B:$I,3,0)),(VLOOKUP($E144,氏名ﾃﾞｰﾀ!$B:$J,3,0))))","v":""},{"$f":"IF($E144=\"\",\"\",IF(ISERROR(VLOOKUP($E144,氏名ﾃﾞｰﾀ!$B:$J,4,0)),IF(ISERROR(VLOOKUP($E144,新規登録!$B:$I,4,0)),\"未登録\",VLOOKUP($E144,新規登録!$B:$I,4,0)),(VLOOKUP($E144,氏名ﾃﾞｰﾀ!$B:$J,4,0))))","v":""},{"$f":"IF($E144=\"\",\"\",IF(ISERROR(VLOOKUP($E144,氏名ﾃﾞｰﾀ!$B:$J,5,0)),IF(ISERROR(VLOOKUP($E144,新規登録!$B:$I,5,0)),\"未登録\",VLOOKUP($E144,新規登録!$B:$I,5,0)),(VLOOKUP($E144,氏名ﾃﾞｰﾀ!$B:$J,5,0))))","v":""},{"$f":"IF($E144=\"\",\"\",IF(ISERROR(VLOOKUP($E144,氏名ﾃﾞｰﾀ!$B:$J,8,0)),IF(ISERROR(VLOOKUP($E144,新規登録!$B:$I,6,0)),\"未登録\",VLOOKUP($E144,新規登録!$B:$I,6,0)),(VLOOKUP($E144,氏名ﾃﾞｰﾀ!$B:$J,8,0))))","v":""},{"$f":"IF($E144=\"\",\"\",IF(ISERROR(VLOOKUP($E144,氏名ﾃﾞｰﾀ!$B:$J,7,0)),IF(ISERROR(VLOOKUP($E144,新規登録!$B:$I,7,0)),\"未登録\",VLOOKUP($E144,新規登録!$B:$I,7,0)),$G$3))","v":""},{"$f":"IF($E144=\"\",\"\",IF(ISERROR(VLOOKUP($E144,氏名ﾃﾞｰﾀ!$B:$J,6,0)),IF(ISERROR(VLOOKUP($E144,新規登録!$B:$I,8,0)),\"ﾅｼ\",VLOOKUP($E144,新規登録!$B:$I,8,0)),(VLOOKUP($E144,氏名ﾃﾞｰﾀ!$B:$J,6,0))))","v":""},{"$f":"IF($E144=\"\",\"\",IF(ISERROR(VLOOKUP($E144,氏名ﾃﾞｰﾀ!$B:$J,9,0)),IF(ISERROR(VLOOKUP($E144,新規登録!$B:$I,9,0)),\"未登録\",VLOOKUP($E144,新規登録!$B:$I,9,0)),(VLOOKUP($E144,氏名ﾃﾞｰﾀ!$B:$J,9,0))))","v":""},null,null,null,null,null,null,null,null,null,null,null,null,null,null,null,null,null,null,null,null,{"$f":"IF(L144=\"男\",1,2)","v":2},{"$f":"IF(N144=\"\",\"\",VLOOKUP(N144,ﾃﾞｰﾀ!A:D,4,0))","v":""},"秒","秒"]
["","",{"$f":"IF(E145=\"\",\"\",IF(AH145=1,COUNTIF(AH$16:AH145,1)*10+2001-10,COUNTIF(AH$16:AH145,2)*10+6001-10))","v":""},130,null,{"$f":"IF($E145=\"\",\"\",IF(ISERROR(VLOOKUP($E145,氏名ﾃﾞｰﾀ!$B:$J,2,0)),IF(ISERROR(VLOOKUP($E145,新規登録!$B:$I,2,0)),\"未登録\",VLOOKUP($E145,新規登録!$B:$I,2,0)),(VLOOKUP($E145,氏名ﾃﾞｰﾀ!$B:$J,2,0))))","v":""},{"$f":"IF($E145=\"\",\"\",IF(ISERROR(VLOOKUP($E145,氏名ﾃﾞｰﾀ!$B:$J,3,0)),IF(ISERROR(VLOOKUP($E145,新規登録!$B:$I,3,0)),\"未登録\",VLOOKUP($E145,新規登録!$B:$I,3,0)),(VLOOKUP($E145,氏名ﾃﾞｰﾀ!$B:$J,3,0))))","v":""},{"$f":"IF($E145=\"\",\"\",IF(ISERROR(VLOOKUP($E145,氏名ﾃﾞｰﾀ!$B:$J,4,0)),IF(ISERROR(VLOOKUP($E145,新規登録!$B:$I,4,0)),\"未登録\",VLOOKUP($E145,新規登録!$B:$I,4,0)),(VLOOKUP($E145,氏名ﾃﾞｰﾀ!$B:$J,4,0))))","v":""},{"$f":"IF($E145=\"\",\"\",IF(ISERROR(VLOOKUP($E145,氏名ﾃﾞｰﾀ!$B:$J,5,0)),IF(ISERROR(VLOOKUP($E145,新規登録!$B:$I,5,0)),\"未登録\",VLOOKUP($E145,新規登録!$B:$I,5,0)),(VLOOKUP($E145,氏名ﾃﾞｰﾀ!$B:$J,5,0))))","v":""},{"$f":"IF($E145=\"\",\"\",IF(ISERROR(VLOOKUP($E145,氏名ﾃﾞｰﾀ!$B:$J,8,0)),IF(ISERROR(VLOOKUP($E145,新規登録!$B:$I,6,0)),\"未登録\",VLOOKUP($E145,新規登録!$B:$I,6,0)),(VLOOKUP($E145,氏名ﾃﾞｰﾀ!$B:$J,8,0))))","v":""},{"$f":"IF($E145=\"\",\"\",IF(ISERROR(VLOOKUP($E145,氏名ﾃﾞｰﾀ!$B:$J,7,0)),IF(ISERROR(VLOOKUP($E145,新規登録!$B:$I,7,0)),\"未登録\",VLOOKUP($E145,新規登録!$B:$I,7,0)),$G$3))","v":""},{"$f":"IF($E145=\"\",\"\",IF(ISERROR(VLOOKUP($E145,氏名ﾃﾞｰﾀ!$B:$J,6,0)),IF(ISERROR(VLOOKUP($E145,新規登録!$B:$I,8,0)),\"ﾅｼ\",VLOOKUP($E145,新規登録!$B:$I,8,0)),(VLOOKUP($E145,氏名ﾃﾞｰﾀ!$B:$J,6,0))))","v":""},{"$f":"IF($E145=\"\",\"\",IF(ISERROR(VLOOKUP($E145,氏名ﾃﾞｰﾀ!$B:$J,9,0)),IF(ISERROR(VLOOKUP($E145,新規登録!$B:$I,9,0)),\"未登録\",VLOOKUP($E145,新規登録!$B:$I,9,0)),(VLOOKUP($E145,氏名ﾃﾞｰﾀ!$B:$J,9,0))))","v":""},null,null,null,null,null,null,null,null,null,null,null,null,null,null,null,null,null,null,null,null,2,{"$f":"IF(N145=\"\",\"\",VLOOKUP(N145,ﾃﾞｰﾀ!A:D,4,0))","v":""},{"$f":"IF(AA145=\"\",CONCATENATE(AB145,\"秒\",AC145),CONCATENATE(IF(LEN(AA145)=1,CONCATENATE(\"0\",AA145),AA145),\"分\",IF(LEN(AB145)=1,CONCATENATE(\"0\",AB145),AB145),\"秒\",IF(LEN(AC145)=1,CONCATENATE(AC145,\"0\"),AC145)))","v":"秒"},{"$f":"IF(AE145=\"\",CONCATENATE(AF145,\"秒\",AG145),CONCATENATE(IF(LEN(AE145)=1,CONCATENATE(\"0\",AE145),AE145),\"分\",IF(LEN(AF145)=1,CONCATENATE(\"0\",AF145),AF145),\"秒\",IF(LEN(AG145)=1,CONCATENATE(AG145,\"0\"),AG145)))","v":"秒"}]
["","",{"$f":"IF(E146=\"\",\"\",IF(AH146=1,COUNTIF(AH$16:AH146,1)*10+2001-10,COUNTIF(AH$16:AH146,2)*10+6001-10))","v":""},131,null,{"$f":"IF($E146=\"\",\"\",IF(ISERROR(VLOOKUP($E146,氏名ﾃﾞｰﾀ!$B:$J,2,0)),IF(ISERROR(VLOOKUP($E146,新規登録!$B:$I,2,0)),\"未登録\",VLOOKUP($E146,新規登録!$B:$I,2,0)),(VLOOKUP($E146,氏名ﾃﾞｰﾀ!$B:$J,2,0))))","v":""},{"$f":"IF($E146=\"\",\"\",IF(ISERROR(VLOOKUP($E146,氏名ﾃﾞｰﾀ!$B:$J,3,0)),IF(ISERROR(VLOOKUP($E146,新規登録!$B:$I,3,0)),\"未登録\",VLOOKUP($E146,新規登録!$B:$I,3,0)),(VLOOKUP($E146,氏名ﾃﾞｰﾀ!$B:$J,3,0))))","v":""},{"$f":"IF($E146=\"\",\"\",IF(ISERROR(VLOOKUP($E146,氏名ﾃﾞｰﾀ!$B:$J,4,0)),IF(ISERROR(VLOOKUP($E146,新規登録!$B:$I,4,0)),\"未登録\",VLOOKUP($E146,新規登録!$B:$I,4,0)),(VLOOKUP($E146,氏名ﾃﾞｰﾀ!$B:$J,4,0))))","v":""},{"$f":"IF($E146=\"\",\"\",IF(ISERROR(VLOOKUP($E146,氏名ﾃﾞｰﾀ!$B:$J,5,0)),IF(ISERROR(VLOOKUP($E146,新規登録!$B:$I,5,0)),\"未登録\",VLOOKUP($E146,新規登録!$B:$I,5,0)),(VLOOKUP($E146,氏名ﾃﾞｰﾀ!$B:$J,5,0))))","v":""},{"$f":"IF($E146=\"\",\"\",IF(ISERROR(VLOOKUP($E146,氏名ﾃﾞｰﾀ!$B:$J,8,0)),IF(ISERROR(VLOOKUP($E146,新規登録!$B:$I,6,0)),\"未登録\",VLOOKUP($E146,新規登録!$B:$I,6,0)),(VLOOKUP($E146,氏名ﾃﾞｰﾀ!$B:$J,8,0))))","v":""},{"$f":"IF($E146=\"\",\"\",IF(ISERROR(VLOOKUP($E146,氏名ﾃﾞｰﾀ!$B:$J,7,0)),IF(ISERROR(VLOOKUP($E146,新規登録!$B:$I,7,0)),\"未登録\",VLOOKUP($E146,新規登録!$B:$I,7,0)),$G$3))","v":""},{"$f":"IF($E146=\"\",\"\",IF(ISERROR(VLOOKUP($E146,氏名ﾃﾞｰﾀ!$B:$J,6,0)),IF(ISERROR(VLOOKUP($E146,新規登録!$B:$I,8,0)),\"ﾅｼ\",VLOOKUP($E146,新規登録!$B:$I,8,0)),(VLOOKUP($E146,氏名ﾃﾞｰﾀ!$B:$J,6,0))))","v":""},{"$f":"IF($E146=\"\",\"\",IF(ISERROR(VLOOKUP($E146,氏名ﾃﾞｰﾀ!$B:$J,9,0)),IF(ISERROR(VLOOKUP($E146,新規登録!$B:$I,9,0)),\"未登録\",VLOOKUP($E146,新規登録!$B:$I,9,0)),(VLOOKUP($E146,氏名ﾃﾞｰﾀ!$B:$J,9,0))))","v":""},null,null,null,null,null,null,null,null,null,null,null,null,null,null,null,null,null,null,null,null,2,{"$f":"IF(N146=\"\",\"\",VLOOKUP(N146,ﾃﾞｰﾀ!A:D,4,0))","v":""},"秒","秒"]
["","",{"$f":"IF(E147=\"\",\"\",IF(AH147=1,COUNTIF(AH$16:AH147,1)*10+2001-10,COUNTIF(AH$16:AH147,2)*10+6001-10))","v":""},132,null,{"$f":"IF($E147=\"\",\"\",IF(ISERROR(VLOOKUP($E147,氏名ﾃﾞｰﾀ!$B:$J,2,0)),IF(ISERROR(VLOOKUP($E147,新規登録!$B:$I,2,0)),\"未登録\",VLOOKUP($E147,新規登録!$B:$I,2,0)),(VLOOKUP($E147,氏名ﾃﾞｰﾀ!$B:$J,2,0))))","v":""},{"$f":"IF($E147=\"\",\"\",IF(ISERROR(VLOOKUP($E147,氏名ﾃﾞｰﾀ!$B:$J,3,0)),IF(ISERROR(VLOOKUP($E147,新規登録!$B:$I,3,0)),\"未登録\",VLOOKUP($E147,新規登録!$B:$I,3,0)),(VLOOKUP($E147,氏名ﾃﾞｰﾀ!$B:$J,3,0))))","v":""},{"$f":"IF($E147=\"\",\"\",IF(ISERROR(VLOOKUP($E147,氏名ﾃﾞｰﾀ!$B:$J,4,0)),IF(ISERROR(VLOOKUP($E147,新規登録!$B:$I,4,0)),\"未登録\",VLOOKUP($E147,新規登録!$B:$I,4,0)),(VLOOKUP($E147,氏名ﾃﾞｰﾀ!$B:$J,4,0))))","v":""},{"$f":"IF($E147=\"\",\"\",IF(ISERROR(VLOOKUP($E147,氏名ﾃﾞｰﾀ!$B:$J,5,0)),IF(ISERROR(VLOOKUP($E147,新規登録!$B:$I,5,0)),\"未登録\",VLOOKUP($E147,新規登録!$B:$I,5,0)),(VLOOKUP($E147,氏名ﾃﾞｰﾀ!$B:$J,5,0))))","v":""},{"$f":"IF($E147=\"\",\"\",IF(ISERROR(VLOOKUP($E147,氏名ﾃﾞｰﾀ!$B:$J,8,0)),IF(ISERROR(VLOOKUP($E147,新規登録!$B:$I,6,0)),\"未登録\",VLOOKUP($E147,新規登録!$B:$I,6,0)),(VLOOKUP($E147,氏名ﾃﾞｰﾀ!$B:$J,8,0))))","v":""},{"$f":"IF($E147=\"\",\"\",IF(ISERROR(VLOOKUP($E147,氏名ﾃﾞｰﾀ!$B:$J,7,0)),IF(ISERROR(VLOOKUP($E147,新規登録!$B:$I,7,0)),\"未登録\",VLOOKUP($E147,新規登録!$B:$I,7,0)),$G$3))","v":""},{"$f":"IF($E147=\"\",\"\",IF(ISERROR(VLOOKUP($E147,氏名ﾃﾞｰﾀ!$B:$J,6,0)),IF(ISERROR(VLOOKUP($E147,新規登録!$B:$I,8,0)),\"ﾅｼ\",VLOOKUP($E147,新規登録!$B:$I,8,0)),(VLOOKUP($E147,氏名ﾃﾞｰﾀ!$B:$J,6,0))))","v":""},{"$f":"IF($E147=\"\",\"\",IF(ISERROR(VLOOKUP($E147,氏名ﾃﾞｰﾀ!$B:$J,9,0)),IF(ISERROR(VLOOKUP($E147,新規登録!$B:$I,9,0)),\"未登録\",VLOOKUP($E147,新規登録!$B:$I,9,0)),(VLOOKUP($E147,氏名ﾃﾞｰﾀ!$B:$J,9,0))))","v":""},null,null,null,null,null,null,null,null,null,null,null,null,null,null,null,null,null,null,null,null,2,{"$f":"IF(N147=\"\",\"\",VLOOKUP(N147,ﾃﾞｰﾀ!A:D,4,0))","v":""},"秒","秒"]
["","",{"$f":"IF(E148=\"\",\"\",IF(AH148=1,COUNTIF(AH$16:AH148,1)*10+2001-10,COUNTIF(AH$16:AH148,2)*10+6001-10))","v":""},133,null,{"$f":"IF($E148=\"\",\"\",IF(ISERROR(VLOOKUP($E148,氏名ﾃﾞｰﾀ!$B:$J,2,0)),IF(ISERROR(VLOOKUP($E148,新規登録!$B:$I,2,0)),\"未登録\",VLOOKUP($E148,新規登録!$B:$I,2,0)),(VLOOKUP($E148,氏名ﾃﾞｰﾀ!$B:$J,2,0))))","v":""},{"$f":"IF($E148=\"\",\"\",IF(ISERROR(VLOOKUP($E148,氏名ﾃﾞｰﾀ!$B:$J,3,0)),IF(ISERROR(VLOOKUP($E148,新規登録!$B:$I,3,0)),\"未登録\",VLOOKUP($E148,新規登録!$B:$I,3,0)),(VLOOKUP($E148,氏名ﾃﾞｰﾀ!$B:$J,3,0))))","v":""},{"$f":"IF($E148=\"\",\"\",IF(ISERROR(VLOOKUP($E148,氏名ﾃﾞｰﾀ!$B:$J,4,0)),IF(ISERROR(VLOOKUP($E148,新規登録!$B:$I,4,0)),\"未登録\",VLOOKUP($E148,新規登録!$B:$I,4,0)),(VLOOKUP($E148,氏名ﾃﾞｰﾀ!$B:$J,4,0))))","v":""},{"$f":"IF($E148=\"\",\"\",IF(ISERROR(VLOOKUP($E148,氏名ﾃﾞｰﾀ!$B:$J,5,0)),IF(ISERROR(VLOOKUP($E148,新規登録!$B:$I,5,0)),\"未登録\",VLOOKUP($E148,新規登録!$B:$I,5,0)),(VLOOKUP($E148,氏名ﾃﾞｰﾀ!$B:$J,5,0))))","v":""},{"$f":"IF($E148=\"\",\"\",IF(ISERROR(VLOOKUP($E148,氏名ﾃﾞｰﾀ!$B:$J,8,0)),IF(ISERROR(VLOOKUP($E148,新規登録!$B:$I,6,0)),\"未登録\",VLOOKUP($E148,新規登録!$B:$I,6,0)),(VLOOKUP($E148,氏名ﾃﾞｰﾀ!$B:$J,8,0))))","v":""},{"$f":"IF($E148=\"\",\"\",IF(ISERROR(VLOOKUP($E148,氏名ﾃﾞｰﾀ!$B:$J,7,0)),IF(ISERROR(VLOOKUP($E148,新規登録!$B:$I,7,0)),\"未登録\",VLOOKUP($E148,新規登録!$B:$I,7,0)),$G$3))","v":""},{"$f":"IF($E148=\"\",\"\",IF(ISERROR(VLOOKUP($E148,氏名ﾃﾞｰﾀ!$B:$J,6,0)),IF(ISERROR(VLOOKUP($E148,新規登録!$B:$I,8,0)),\"ﾅｼ\",VLOOKUP($E148,新規登録!$B:$I,8,0)),(VLOOKUP($E148,氏名ﾃﾞｰﾀ!$B:$J,6,0))))","v":""},{"$f":"IF($E148=\"\",\"\",IF(ISERROR(VLOOKUP($E148,氏名ﾃﾞｰﾀ!$B:$J,9,0)),IF(ISERROR(VLOOKUP($E148,新規登録!$B:$I,9,0)),\"未登録\",VLOOKUP($E148,新規登録!$B:$I,9,0)),(VLOOKUP($E148,氏名ﾃﾞｰﾀ!$B:$J,9,0))))","v":""},null,null,null,null,null,null,null,null,null,null,null,null,null,null,null,null,null,null,null,null,2,{"$f":"IF(N148=\"\",\"\",VLOOKUP(N148,ﾃﾞｰﾀ!A:D,4,0))","v":""},"秒","秒"]
["","",{"$f":"IF(E149=\"\",\"\",IF(AH149=1,COUNTIF(AH$16:AH149,1)*10+2001-10,COUNTIF(AH$16:AH149,2)*10+6001-10))","v":""},134,null,{"$f":"IF($E149=\"\",\"\",IF(ISERROR(VLOOKUP($E149,氏名ﾃﾞｰﾀ!$B:$J,2,0)),IF(ISERROR(VLOOKUP($E149,新規登録!$B:$I,2,0)),\"未登録\",VLOOKUP($E149,新規登録!$B:$I,2,0)),(VLOOKUP($E149,氏名ﾃﾞｰﾀ!$B:$J,2,0))))","v":""},{"$f":"IF($E149=\"\",\"\",IF(ISERROR(VLOOKUP($E149,氏名ﾃﾞｰﾀ!$B:$J,3,0)),IF(ISERROR(VLOOKUP($E149,新規登録!$B:$I,3,0)),\"未登録\",VLOOKUP($E149,新規登録!$B:$I,3,0)),(VLOOKUP($E149,氏名ﾃﾞｰﾀ!$B:$J,3,0))))","v":""},{"$f":"IF($E149=\"\",\"\",IF(ISERROR(VLOOKUP($E149,氏名ﾃﾞｰﾀ!$B:$J,4,0)),IF(ISERROR(VLOOKUP($E149,新規登録!$B:$I,4,0)),\"未登録\",VLOOKUP($E149,新規登録!$B:$I,4,0)),(VLOOKUP($E149,氏名ﾃﾞｰﾀ!$B:$J,4,0))))","v":""},{"$f":"IF($E149=\"\",\"\",IF(ISERROR(VLOOKUP($E149,氏名ﾃﾞｰﾀ!$B:$J,5,0)),IF(ISERROR(VLOOKUP($E149,新規登録!$B:$I,5,0)),\"未登録\",VLOOKUP($E149,新規登録!$B:$I,5,0)),(VLOOKUP($E149,氏名ﾃﾞｰﾀ!$B:$J,5,0))))","v":""},{"$f":"IF($E149=\"\",\"\",IF(ISERROR(VLOOKUP($E149,氏名ﾃﾞｰﾀ!$B:$J,8,0)),IF(ISERROR(VLOOKUP($E149,新規登録!$B:$I,6,0)),\"未登録\",VLOOKUP($E149,新規登録!$B:$I,6,0)),(VLOOKUP($E149,氏名ﾃﾞｰﾀ!$B:$J,8,0))))","v":""},{"$f":"IF($E149=\"\",\"\",IF(ISERROR(VLOOKUP($E149,氏名ﾃﾞｰﾀ!$B:$J,7,0)),IF(ISERROR(VLOOKUP($E149,新規登録!$B:$I,7,0)),\"未登録\",VLOOKUP($E149,新規登録!$B:$I,7,0)),$G$3))","v":""},{"$f":"IF($E149=\"\",\"\",IF(ISERROR(VLOOKUP($E149,氏名ﾃﾞｰﾀ!$B:$J,6,0)),IF(ISERROR(VLOOKUP($E149,新規登録!$B:$I,8,0)),\"ﾅｼ\",VLOOKUP($E149,新規登録!$B:$I,8,0)),(VLOOKUP($E149,氏名ﾃﾞｰﾀ!$B:$J,6,0))))","v":""},{"$f":"IF($E149=\"\",\"\",IF(ISERROR(VLOOKUP($E149,氏名ﾃﾞｰﾀ!$B:$J,9,0)),IF(ISERROR(VLOOKUP($E149,新規登録!$B:$I,9,0)),\"未登録\",VLOOKUP($E149,新規登録!$B:$I,9,0)),(VLOOKUP($E149,氏名ﾃﾞｰﾀ!$B:$J,9,0))))","v":""},null,null,null,null,null,null,null,null,null,null,null,null,null,null,null,null,null,null,null,null,2,{"$f":"IF(N149=\"\",\"\",VLOOKUP(N149,ﾃﾞｰﾀ!A:D,4,0))","v":""},"秒","秒"]
["","",{"$f":"IF(E150=\"\",\"\",IF(AH150=1,COUNTIF(AH$16:AH150,1)*10+2001-10,COUNTIF(AH$16:AH150,2)*10+6001-10))","v":""},135,null,{"$f":"IF($E150=\"\",\"\",IF(ISERROR(VLOOKUP($E150,氏名ﾃﾞｰﾀ!$B:$J,2,0)),IF(ISERROR(VLOOKUP($E150,新規登録!$B:$I,2,0)),\"未登録\",VLOOKUP($E150,新規登録!$B:$I,2,0)),(VLOOKUP($E150,氏名ﾃﾞｰﾀ!$B:$J,2,0))))","v":""},{"$f":"IF($E150=\"\",\"\",IF(ISERROR(VLOOKUP($E150,氏名ﾃﾞｰﾀ!$B:$J,3,0)),IF(ISERROR(VLOOKUP($E150,新規登録!$B:$I,3,0)),\"未登録\",VLOOKUP($E150,新規登録!$B:$I,3,0)),(VLOOKUP($E150,氏名ﾃﾞｰﾀ!$B:$J,3,0))))","v":""},{"$f":"IF($E150=\"\",\"\",IF(ISERROR(VLOOKUP($E150,氏名ﾃﾞｰﾀ!$B:$J,4,0)),IF(ISERROR(VLOOKUP($E150,新規登録!$B:$I,4,0)),\"未登録\",VLOOKUP($E150,新規登録!$B:$I,4,0)),(VLOOKUP($E150,氏名ﾃﾞｰﾀ!$B:$J,4,0))))","v":""},{"$f":"IF($E150=\"\",\"\",IF(ISERROR(VLOOKUP($E150,氏名ﾃﾞｰﾀ!$B:$J,5,0)),IF(ISERROR(VLOOKUP($E150,新規登録!$B:$I,5,0)),\"未登録\",VLOOKUP($E150,新規登録!$B:$I,5,0)),(VLOOKUP($E150,氏名ﾃﾞｰﾀ!$B:$J,5,0))))","v":""},{"$f":"IF($E150=\"\",\"\",IF(ISERROR(VLOOKUP($E150,氏名ﾃﾞｰﾀ!$B:$J,8,0)),IF(ISERROR(VLOOKUP($E150,新規登録!$B:$I,6,0)),\"未登録\",VLOOKUP($E150,新規登録!$B:$I,6,0)),(VLOOKUP($E150,氏名ﾃﾞｰﾀ!$B:$J,8,0))))","v":""},{"$f":"IF($E150=\"\",\"\",IF(ISERROR(VLOOKUP($E150,氏名ﾃﾞｰﾀ!$B:$J,7,0)),IF(ISERROR(VLOOKUP($E150,新規登録!$B:$I,7,0)),\"未登録\",VLOOKUP($E150,新規登録!$B:$I,7,0)),$G$3))","v":""},{"$f":"IF($E150=\"\",\"\",IF(ISERROR(VLOOKUP($E150,氏名ﾃﾞｰﾀ!$B:$J,6,0)),IF(ISERROR(VLOOKUP($E150,新規登録!$B:$I,8,0)),\"ﾅｼ\",VLOOKUP($E150,新規登録!$B:$I,8,0)),(VLOOKUP($E150,氏名ﾃﾞｰﾀ!$B:$J,6,0))))","v":""},{"$f":"IF($E150=\"\",\"\",IF(ISERROR(VLOOKUP($E150,氏名ﾃﾞｰﾀ!$B:$J,9,0)),IF(ISERROR(VLOOKUP($E150,新規登録!$B:$I,9,0)),\"未登録\",VLOOKUP($E150,新規登録!$B:$I,9,0)),(VLOOKUP($E150,氏名ﾃﾞｰﾀ!$B:$J,9,0))))","v":""},null,null,null,null,null,null,null,null,null,null,null,null,null,null,null,null,null,null,null,null,2,{"$f":"IF(N150=\"\",\"\",VLOOKUP(N150,ﾃﾞｰﾀ!A:D,4,0))","v":""},"秒","秒"]
["","",{"$f":"IF(E151=\"\",\"\",IF(AH151=1,COUNTIF(AH$16:AH151,1)*10+2001-10,COUNTIF(AH$16:AH151,2)*10+6001-10))","v":""},136,null,{"$f":"IF($E151=\"\",\"\",IF(ISERROR(VLOOKUP($E151,氏名ﾃﾞｰﾀ!$B:$J,2,0)),IF(ISERROR(VLOOKUP($E151,新規登録!$B:$I,2,0)),\"未登録\",VLOOKUP($E151,新規登録!$B:$I,2,0)),(VLOOKUP($E151,氏名ﾃﾞｰﾀ!$B:$J,2,0))))","v":""},{"$f":"IF($E151=\"\",\"\",IF(ISERROR(VLOOKUP($E151,氏名ﾃﾞｰﾀ!$B:$J,3,0)),IF(ISERROR(VLOOKUP($E151,新規登録!$B:$I,3,0)),\"未登録\",VLOOKUP($E151,新規登録!$B:$I,3,0)),(VLOOKUP($E151,氏名ﾃﾞｰﾀ!$B:$J,3,0))))","v":""},{"$f":"IF($E151=\"\",\"\",IF(ISERROR(VLOOKUP($E151,氏名ﾃﾞｰﾀ!$B:$J,4,0)),IF(ISERROR(VLOOKUP($E151,新規登録!$B:$I,4,0)),\"未登録\",VLOOKUP($E151,新規登録!$B:$I,4,0)),(VLOOKUP($E151,氏名ﾃﾞｰﾀ!$B:$J,4,0))))","v":""},{"$f":"IF($E151=\"\",\"\",IF(ISERROR(VLOOKUP($E151,氏名ﾃﾞｰﾀ!$B:$J,5,0)),IF(ISERROR(VLOOKUP($E151,新規登録!$B:$I,5,0)),\"未登録\",VLOOKUP($E151,新規登録!$B:$I,5,0)),(VLOOKUP($E151,氏名ﾃﾞｰﾀ!$B:$J,5,0))))","v":""},{"$f":"IF($E151=\"\",\"\",IF(ISERROR(VLOOKUP($E151,氏名ﾃﾞｰﾀ!$B:$J,8,0)),IF(ISERROR(VLOOKUP($E151,新規登録!$B:$I,6,0)),\"未登録\",VLOOKUP($E151,新規登録!$B:$I,6,0)),(VLOOKUP($E151,氏名ﾃﾞｰﾀ!$B:$J,8,0))))","v":""},{"$f":"IF($E151=\"\",\"\",IF(ISERROR(VLOOKUP($E151,氏名ﾃﾞｰﾀ!$B:$J,7,0)),IF(ISERROR(VLOOKUP($E151,新規登録!$B:$I,7,0)),\"未登録\",VLOOKUP($E151,新規登録!$B:$I,7,0)),$G$3))","v":""},{"$f":"IF($E151=\"\",\"\",IF(ISERROR(VLOOKUP($E151,氏名ﾃﾞｰﾀ!$B:$J,6,0)),IF(ISERROR(VLOOKUP($E151,新規登録!$B:$I,8,0)),\"ﾅｼ\",VLOOKUP($E151,新規登録!$B:$I,8,0)),(VLOOKUP($E151,氏名ﾃﾞｰﾀ!$B:$J,6,0))))","v":""},{"$f":"IF($E151=\"\",\"\",IF(ISERROR(VLOOKUP($E151,氏名ﾃﾞｰﾀ!$B:$J,9,0)),IF(ISERROR(VLOOKUP($E151,新規登録!$B:$I,9,0)),\"未登録\",VLOOKUP($E151,新規登録!$B:$I,9,0)),(VLOOKUP($E151,氏名ﾃﾞｰﾀ!$B:$J,9,0))))","v":""},null,null,null,null,null,null,null,null,null,null,null,null,null,null,null,null,null,null,null,null,2,{"$f":"IF(N151=\"\",\"\",VLOOKUP(N151,ﾃﾞｰﾀ!A:D,4,0))","v":""},"秒","秒"]
["","",{"$f":"IF(E152=\"\",\"\",IF(AH152=1,COUNTIF(AH$16:AH152,1)*10+2001-10,COUNTIF(AH$16:AH152,2)*10+6001-10))","v":""},137,null,{"$f":"IF($E152=\"\",\"\",IF(ISERROR(VLOOKUP($E152,氏名ﾃﾞｰﾀ!$B:$J,2,0)),IF(ISERROR(VLOOKUP($E152,新規登録!$B:$I,2,0)),\"未登録\",VLOOKUP($E152,新規登録!$B:$I,2,0)),(VLOOKUP($E152,氏名ﾃﾞｰﾀ!$B:$J,2,0))))","v":""},{"$f":"IF($E152=\"\",\"\",IF(ISERROR(VLOOKUP($E152,氏名ﾃﾞｰﾀ!$B:$J,3,0)),IF(ISERROR(VLOOKUP($E152,新規登録!$B:$I,3,0)),\"未登録\",VLOOKUP($E152,新規登録!$B:$I,3,0)),(VLOOKUP($E152,氏名ﾃﾞｰﾀ!$B:$J,3,0))))","v":""},{"$f":"IF($E152=\"\",\"\",IF(ISERROR(VLOOKUP($E152,氏名ﾃﾞｰﾀ!$B:$J,4,0)),IF(ISERROR(VLOOKUP($E152,新規登録!$B:$I,4,0)),\"未登録\",VLOOKUP($E152,新規登録!$B:$I,4,0)),(VLOOKUP($E152,氏名ﾃﾞｰﾀ!$B:$J,4,0))))","v":""},{"$f":"IF($E152=\"\",\"\",IF(ISERROR(VLOOKUP($E152,氏名ﾃﾞｰﾀ!$B:$J,5,0)),IF(ISERROR(VLOOKUP($E152,新規登録!$B:$I,5,0)),\"未登録\",VLOOKUP($E152,新規登録!$B:$I,5,0)),(VLOOKUP($E152,氏名ﾃﾞｰﾀ!$B:$J,5,0))))","v":""},{"$f":"IF($E152=\"\",\"\",IF(ISERROR(VLOOKUP($E152,氏名ﾃﾞｰﾀ!$B:$J,8,0)),IF(ISERROR(VLOOKUP($E152,新規登録!$B:$I,6,0)),\"未登録\",VLOOKUP($E152,新規登録!$B:$I,6,0)),(VLOOKUP($E152,氏名ﾃﾞｰﾀ!$B:$J,8,0))))","v":""},{"$f":"IF($E152=\"\",\"\",IF(ISERROR(VLOOKUP($E152,氏名ﾃﾞｰﾀ!$B:$J,7,0)),IF(ISERROR(VLOOKUP($E152,新規登録!$B:$I,7,0)),\"未登録\",VLOOKUP($E152,新規登録!$B:$I,7,0)),$G$3))","v":""},{"$f":"IF($E152=\"\",\"\",IF(ISERROR(VLOOKUP($E152,氏名ﾃﾞｰﾀ!$B:$J,6,0)),IF(ISERROR(VLOOKUP($E152,新規登録!$B:$I,8,0)),\"ﾅｼ\",VLOOKUP($E152,新規登録!$B:$I,8,0)),(VLOOKUP($E152,氏名ﾃﾞｰﾀ!$B:$J,6,0))))","v":""},{"$f":"IF($E152=\"\",\"\",IF(ISERROR(VLOOKUP($E152,氏名ﾃﾞｰﾀ!$B:$J,9,0)),IF(ISERROR(VLOOKUP($E152,新規登録!$B:$I,9,0)),\"未登録\",VLOOKUP($E152,新規登録!$B:$I,9,0)),(VLOOKUP($E152,氏名ﾃﾞｰﾀ!$B:$J,9,0))))","v":""},null,null,null,null,null,null,null,null,null,null,null,null,null,null,null,null,null,null,null,null,2,{"$f":"IF(N152=\"\",\"\",VLOOKUP(N152,ﾃﾞｰﾀ!A:D,4,0))","v":""},"秒","秒"]
["","",{"$f":"IF(E153=\"\",\"\",IF(AH153=1,COUNTIF(AH$16:AH153,1)*10+2001-10,COUNTIF(AH$16:AH153,2)*10+6001-10))","v":""},138,null,{"$f":"IF($E153=\"\",\"\",IF(ISERROR(VLOOKUP($E153,氏名ﾃﾞｰﾀ!$B:$J,2,0)),IF(ISERROR(VLOOKUP($E153,新規登録!$B:$I,2,0)),\"未登録\",VLOOKUP($E153,新規登録!$B:$I,2,0)),(VLOOKUP($E153,氏名ﾃﾞｰﾀ!$B:$J,2,0))))","v":""},{"$f":"IF($E153=\"\",\"\",IF(ISERROR(VLOOKUP($E153,氏名ﾃﾞｰﾀ!$B:$J,3,0)),IF(ISERROR(VLOOKUP($E153,新規登録!$B:$I,3,0)),\"未登録\",VLOOKUP($E153,新規登録!$B:$I,3,0)),(VLOOKUP($E153,氏名ﾃﾞｰﾀ!$B:$J,3,0))))","v":""},{"$f":"IF($E153=\"\",\"\",IF(ISERROR(VLOOKUP($E153,氏名ﾃﾞｰﾀ!$B:$J,4,0)),IF(ISERROR(VLOOKUP($E153,新規登録!$B:$I,4,0)),\"未登録\",VLOOKUP($E153,新規登録!$B:$I,4,0)),(VLOOKUP($E153,氏名ﾃﾞｰﾀ!$B:$J,4,0))))","v":""},{"$f":"IF($E153=\"\",\"\",IF(ISERROR(VLOOKUP($E153,氏名ﾃﾞｰﾀ!$B:$J,5,0)),IF(ISERROR(VLOOKUP($E153,新規登録!$B:$I,5,0)),\"未登録\",VLOOKUP($E153,新規登録!$B:$I,5,0)),(VLOOKUP($E153,氏名ﾃﾞｰﾀ!$B:$J,5,0))))","v":""},{"$f":"IF($E153=\"\",\"\",IF(ISERROR(VLOOKUP($E153,氏名ﾃﾞｰﾀ!$B:$J,8,0)),IF(ISERROR(VLOOKUP($E153,新規登録!$B:$I,6,0)),\"未登録\",VLOOKUP($E153,新規登録!$B:$I,6,0)),(VLOOKUP($E153,氏名ﾃﾞｰﾀ!$B:$J,8,0))))","v":""},{"$f":"IF($E153=\"\",\"\",IF(ISERROR(VLOOKUP($E153,氏名ﾃﾞｰﾀ!$B:$J,7,0)),IF(ISERROR(VLOOKUP($E153,新規登録!$B:$I,7,0)),\"未登録\",VLOOKUP($E153,新規登録!$B:$I,7,0)),$G$3))","v":""},{"$f":"IF($E153=\"\",\"\",IF(ISERROR(VLOOKUP($E153,氏名ﾃﾞｰﾀ!$B:$J,6,0)),IF(ISERROR(VLOOKUP($E153,新規登録!$B:$I,8,0)),\"ﾅｼ\",VLOOKUP($E153,新規登録!$B:$I,8,0)),(VLOOKUP($E153,氏名ﾃﾞｰﾀ!$B:$J,6,0))))","v":""},{"$f":"IF($E153=\"\",\"\",IF(ISERROR(VLOOKUP($E153,氏名ﾃﾞｰﾀ!$B:$J,9,0)),IF(ISERROR(VLOOKUP($E153,新規登録!$B:$I,9,0)),\"未登録\",VLOOKUP($E153,新規登録!$B:$I,9,0)),(VLOOKUP($E153,氏名ﾃﾞｰﾀ!$B:$J,9,0))))","v":""},null,null,null,null,null,null,null,null,null,null,null,null,null,null,null,null,null,null,null,null,2,{"$f":"IF(N153=\"\",\"\",VLOOKUP(N153,ﾃﾞｰﾀ!A:D,4,0))","v":""},"秒","秒"]
["","",{"$f":"IF(E154=\"\",\"\",IF(AH154=1,COUNTIF(AH$16:AH154,1)*10+2001-10,COUNTIF(AH$16:AH154,2)*10+6001-10))","v":""},139,null,{"$f":"IF($E154=\"\",\"\",IF(ISERROR(VLOOKUP($E154,氏名ﾃﾞｰﾀ!$B:$J,2,0)),IF(ISERROR(VLOOKUP($E154,新規登録!$B:$I,2,0)),\"未登録\",VLOOKUP($E154,新規登録!$B:$I,2,0)),(VLOOKUP($E154,氏名ﾃﾞｰﾀ!$B:$J,2,0))))","v":""},{"$f":"IF($E154=\"\",\"\",IF(ISERROR(VLOOKUP($E154,氏名ﾃﾞｰﾀ!$B:$J,3,0)),IF(ISERROR(VLOOKUP($E154,新規登録!$B:$I,3,0)),\"未登録\",VLOOKUP($E154,新規登録!$B:$I,3,0)),(VLOOKUP($E154,氏名ﾃﾞｰﾀ!$B:$J,3,0))))","v":""},{"$f":"IF($E154=\"\",\"\",IF(ISERROR(VLOOKUP($E154,氏名ﾃﾞｰﾀ!$B:$J,4,0)),IF(ISERROR(VLOOKUP($E154,新規登録!$B:$I,4,0)),\"未登録\",VLOOKUP($E154,新規登録!$B:$I,4,0)),(VLOOKUP($E154,氏名ﾃﾞｰﾀ!$B:$J,4,0))))","v":""},{"$f":"IF($E154=\"\",\"\",IF(ISERROR(VLOOKUP($E154,氏名ﾃﾞｰﾀ!$B:$J,5,0)),IF(ISERROR(VLOOKUP($E154,新規登録!$B:$I,5,0)),\"未登録\",VLOOKUP($E154,新規登録!$B:$I,5,0)),(VLOOKUP($E154,氏名ﾃﾞｰﾀ!$B:$J,5,0))))","v":""},{"$f":"IF($E154=\"\",\"\",IF(ISERROR(VLOOKUP($E154,氏名ﾃﾞｰﾀ!$B:$J,8,0)),IF(ISERROR(VLOOKUP($E154,新規登録!$B:$I,6,0)),\"未登録\",VLOOKUP($E154,新規登録!$B:$I,6,0)),(VLOOKUP($E154,氏名ﾃﾞｰﾀ!$B:$J,8,0))))","v":""},{"$f":"IF($E154=\"\",\"\",IF(ISERROR(VLOOKUP($E154,氏名ﾃﾞｰﾀ!$B:$J,7,0)),IF(ISERROR(VLOOKUP($E154,新規登録!$B:$I,7,0)),\"未登録\",VLOOKUP($E154,新規登録!$B:$I,7,0)),$G$3))","v":""},{"$f":"IF($E154=\"\",\"\",IF(ISERROR(VLOOKUP($E154,氏名ﾃﾞｰﾀ!$B:$J,6,0)),IF(ISERROR(VLOOKUP($E154,新規登録!$B:$I,8,0)),\"ﾅｼ\",VLOOKUP($E154,新規登録!$B:$I,8,0)),(VLOOKUP($E154,氏名ﾃﾞｰﾀ!$B:$J,6,0))))","v":""},{"$f":"IF($E154=\"\",\"\",IF(ISERROR(VLOOKUP($E154,氏名ﾃﾞｰﾀ!$B:$J,9,0)),IF(ISERROR(VLOOKUP($E154,新規登録!$B:$I,9,0)),\"未登録\",VLOOKUP($E154,新規登録!$B:$I,9,0)),(VLOOKUP($E154,氏名ﾃﾞｰﾀ!$B:$J,9,0))))","v":""},null,null,null,null,null,null,null,null,null,null,null,null,null,null,null,null,null,null,null,null,2,{"$f":"IF(N154=\"\",\"\",VLOOKUP(N154,ﾃﾞｰﾀ!A:D,4,0))","v":""},"秒","秒"]
["","",{"$f":"IF(E155=\"\",\"\",IF(AH155=1,COUNTIF(AH$16:AH155,1)*10+2001-10,COUNTIF(AH$16:AH155,2)*10+6001-10))","v":""},140,null,{"$f":"IF($E155=\"\",\"\",IF(ISERROR(VLOOKUP($E155,氏名ﾃﾞｰﾀ!$B:$J,2,0)),IF(ISERROR(VLOOKUP($E155,新規登録!$B:$I,2,0)),\"未登録\",VLOOKUP($E155,新規登録!$B:$I,2,0)),(VLOOKUP($E155,氏名ﾃﾞｰﾀ!$B:$J,2,0))))","v":""},{"$f":"IF($E155=\"\",\"\",IF(ISERROR(VLOOKUP($E155,氏名ﾃﾞｰﾀ!$B:$J,3,0)),IF(ISERROR(VLOOKUP($E155,新規登録!$B:$I,3,0)),\"未登録\",VLOOKUP($E155,新規登録!$B:$I,3,0)),(VLOOKUP($E155,氏名ﾃﾞｰﾀ!$B:$J,3,0))))","v":""},{"$f":"IF($E155=\"\",\"\",IF(ISERROR(VLOOKUP($E155,氏名ﾃﾞｰﾀ!$B:$J,4,0)),IF(ISERROR(VLOOKUP($E155,新規登録!$B:$I,4,0)),\"未登録\",VLOOKUP($E155,新規登録!$B:$I,4,0)),(VLOOKUP($E155,氏名ﾃﾞｰﾀ!$B:$J,4,0))))","v":""},{"$f":"IF($E155=\"\",\"\",IF(ISERROR(VLOOKUP($E155,氏名ﾃﾞｰﾀ!$B:$J,5,0)),IF(ISERROR(VLOOKUP($E155,新規登録!$B:$I,5,0)),\"未登録\",VLOOKUP($E155,新規登録!$B:$I,5,0)),(VLOOKUP($E155,氏名ﾃﾞｰﾀ!$B:$J,5,0))))","v":""},{"$f":"IF($E155=\"\",\"\",IF(ISERROR(VLOOKUP($E155,氏名ﾃﾞｰﾀ!$B:$J,8,0)),IF(ISERROR(VLOOKUP($E155,新規登録!$B:$I,6,0)),\"未登録\",VLOOKUP($E155,新規登録!$B:$I,6,0)),(VLOOKUP($E155,氏名ﾃﾞｰﾀ!$B:$J,8,0))))","v":""},{"$f":"IF($E155=\"\",\"\",IF(ISERROR(VLOOKUP($E155,氏名ﾃﾞｰﾀ!$B:$J,7,0)),IF(ISERROR(VLOOKUP($E155,新規登録!$B:$I,7,0)),\"未登録\",VLOOKUP($E155,新規登録!$B:$I,7,0)),$G$3))","v":""},{"$f":"IF($E155=\"\",\"\",IF(ISERROR(VLOOKUP($E155,氏名ﾃﾞｰﾀ!$B:$J,6,0)),IF(ISERROR(VLOOKUP($E155,新規登録!$B:$I,8,0)),\"ﾅｼ\",VLOOKUP($E155,新規登録!$B:$I,8,0)),(VLOOKUP($E155,氏名ﾃﾞｰﾀ!$B:$J,6,0))))","v":""},{"$f":"IF($E155=\"\",\"\",IF(ISERROR(VLOOKUP($E155,氏名ﾃﾞｰﾀ!$B:$J,9,0)),IF(ISERROR(VLOOKUP($E155,新規登録!$B:$I,9,0)),\"未登録\",VLOOKUP($E155,新規登録!$B:$I,9,0)),(VLOOKUP($E155,氏名ﾃﾞｰﾀ!$B:$J,9,0))))","v":""},null,null,null,null,null,null,null,null,null,null,null,null,null,null,null,null,null,null,null,null,2,{"$f":"IF(N155=\"\",\"\",VLOOKUP(N155,ﾃﾞｰﾀ!A:D,4,0))","v":""},"秒","秒"]
["","",{"$f":"IF(E156=\"\",\"\",IF(AH156=1,COUNTIF(AH$16:AH156,1)*10+2001-10,COUNTIF(AH$16:AH156,2)*10+6001-10))","v":""},141,null,{"$f":"IF($E156=\"\",\"\",IF(ISERROR(VLOOKUP($E156,氏名ﾃﾞｰﾀ!$B:$J,2,0)),IF(ISERROR(VLOOKUP($E156,新規登録!$B:$I,2,0)),\"未登録\",VLOOKUP($E156,新規登録!$B:$I,2,0)),(VLOOKUP($E156,氏名ﾃﾞｰﾀ!$B:$J,2,0))))","v":""},{"$f":"IF($E156=\"\",\"\",IF(ISERROR(VLOOKUP($E156,氏名ﾃﾞｰﾀ!$B:$J,3,0)),IF(ISERROR(VLOOKUP($E156,新規登録!$B:$I,3,0)),\"未登録\",VLOOKUP($E156,新規登録!$B:$I,3,0)),(VLOOKUP($E156,氏名ﾃﾞｰﾀ!$B:$J,3,0))))","v":""},{"$f":"IF($E156=\"\",\"\",IF(ISERROR(VLOOKUP($E156,氏名ﾃﾞｰﾀ!$B:$J,4,0)),IF(ISERROR(VLOOKUP($E156,新規登録!$B:$I,4,0)),\"未登録\",VLOOKUP($E156,新規登録!$B:$I,4,0)),(VLOOKUP($E156,氏名ﾃﾞｰﾀ!$B:$J,4,0))))","v":""},{"$f":"IF($E156=\"\",\"\",IF(ISERROR(VLOOKUP($E156,氏名ﾃﾞｰﾀ!$B:$J,5,0)),IF(ISERROR(VLOOKUP($E156,新規登録!$B:$I,5,0)),\"未登録\",VLOOKUP($E156,新規登録!$B:$I,5,0)),(VLOOKUP($E156,氏名ﾃﾞｰﾀ!$B:$J,5,0))))","v":""},{"$f":"IF($E156=\"\",\"\",IF(ISERROR(VLOOKUP($E156,氏名ﾃﾞｰﾀ!$B:$J,8,0)),IF(ISERROR(VLOOKUP($E156,新規登録!$B:$I,6,0)),\"未登録\",VLOOKUP($E156,新規登録!$B:$I,6,0)),(VLOOKUP($E156,氏名ﾃﾞｰﾀ!$B:$J,8,0))))","v":""},{"$f":"IF($E156=\"\",\"\",IF(ISERROR(VLOOKUP($E156,氏名ﾃﾞｰﾀ!$B:$J,7,0)),IF(ISERROR(VLOOKUP($E156,新規登録!$B:$I,7,0)),\"未登録\",VLOOKUP($E156,新規登録!$B:$I,7,0)),$G$3))","v":""},{"$f":"IF($E156=\"\",\"\",IF(ISERROR(VLOOKUP($E156,氏名ﾃﾞｰﾀ!$B:$J,6,0)),IF(ISERROR(VLOOKUP($E156,新規登録!$B:$I,8,0)),\"ﾅｼ\",VLOOKUP($E156,新規登録!$B:$I,8,0)),(VLOOKUP($E156,氏名ﾃﾞｰﾀ!$B:$J,6,0))))","v":""},{"$f":"IF($E156=\"\",\"\",IF(ISERROR(VLOOKUP($E156,氏名ﾃﾞｰﾀ!$B:$J,9,0)),IF(ISERROR(VLOOKUP($E156,新規登録!$B:$I,9,0)),\"未登録\",VLOOKUP($E156,新規登録!$B:$I,9,0)),(VLOOKUP($E156,氏名ﾃﾞｰﾀ!$B:$J,9,0))))","v":""},null,null,null,null,null,null,null,null,null,null,null,null,null,null,null,null,null,null,null,null,2,{"$f":"IF(N156=\"\",\"\",VLOOKUP(N156,ﾃﾞｰﾀ!A:D,4,0))","v":""},"秒","秒"]
["","",{"$f":"IF(E157=\"\",\"\",IF(AH157=1,COUNTIF(AH$16:AH157,1)*10+2001-10,COUNTIF(AH$16:AH157,2)*10+6001-10))","v":""},142,null,{"$f":"IF($E157=\"\",\"\",IF(ISERROR(VLOOKUP($E157,氏名ﾃﾞｰﾀ!$B:$J,2,0)),IF(ISERROR(VLOOKUP($E157,新規登録!$B:$I,2,0)),\"未登録\",VLOOKUP($E157,新規登録!$B:$I,2,0)),(VLOOKUP($E157,氏名ﾃﾞｰﾀ!$B:$J,2,0))))","v":""},{"$f":"IF($E157=\"\",\"\",IF(ISERROR(VLOOKUP($E157,氏名ﾃﾞｰﾀ!$B:$J,3,0)),IF(ISERROR(VLOOKUP($E157,新規登録!$B:$I,3,0)),\"未登録\",VLOOKUP($E157,新規登録!$B:$I,3,0)),(VLOOKUP($E157,氏名ﾃﾞｰﾀ!$B:$J,3,0))))","v":""},{"$f":"IF($E157=\"\",\"\",IF(ISERROR(VLOOKUP($E157,氏名ﾃﾞｰﾀ!$B:$J,4,0)),IF(ISERROR(VLOOKUP($E157,新規登録!$B:$I,4,0)),\"未登録\",VLOOKUP($E157,新規登録!$B:$I,4,0)),(VLOOKUP($E157,氏名ﾃﾞｰﾀ!$B:$J,4,0))))","v":""},{"$f":"IF($E157=\"\",\"\",IF(ISERROR(VLOOKUP($E157,氏名ﾃﾞｰﾀ!$B:$J,5,0)),IF(ISERROR(VLOOKUP($E157,新規登録!$B:$I,5,0)),\"未登録\",VLOOKUP($E157,新規登録!$B:$I,5,0)),(VLOOKUP($E157,氏名ﾃﾞｰﾀ!$B:$J,5,0))))","v":""},{"$f":"IF($E157=\"\",\"\",IF(ISERROR(VLOOKUP($E157,氏名ﾃﾞｰﾀ!$B:$J,8,0)),IF(ISERROR(VLOOKUP($E157,新規登録!$B:$I,6,0)),\"未登録\",VLOOKUP($E157,新規登録!$B:$I,6,0)),(VLOOKUP($E157,氏名ﾃﾞｰﾀ!$B:$J,8,0))))","v":""},{"$f":"IF($E157=\"\",\"\",IF(ISERROR(VLOOKUP($E157,氏名ﾃﾞｰﾀ!$B:$J,7,0)),IF(ISERROR(VLOOKUP($E157,新規登録!$B:$I,7,0)),\"未登録\",VLOOKUP($E157,新規登録!$B:$I,7,0)),$G$3))","v":""},{"$f":"IF($E157=\"\",\"\",IF(ISERROR(VLOOKUP($E157,氏名ﾃﾞｰﾀ!$B:$J,6,0)),IF(ISERROR(VLOOKUP($E157,新規登録!$B:$I,8,0)),\"ﾅｼ\",VLOOKUP($E157,新規登録!$B:$I,8,0)),(VLOOKUP($E157,氏名ﾃﾞｰﾀ!$B:$J,6,0))))","v":""},{"$f":"IF($E157=\"\",\"\",IF(ISERROR(VLOOKUP($E157,氏名ﾃﾞｰﾀ!$B:$J,9,0)),IF(ISERROR(VLOOKUP($E157,新規登録!$B:$I,9,0)),\"未登録\",VLOOKUP($E157,新規登録!$B:$I,9,0)),(VLOOKUP($E157,氏名ﾃﾞｰﾀ!$B:$J,9,0))))","v":""},null,null,null,null,null,null,null,null,null,null,null,null,null,null,null,null,null,null,null,null,2,{"$f":"IF(N157=\"\",\"\",VLOOKUP(N157,ﾃﾞｰﾀ!A:D,4,0))","v":""},"秒","秒"]
["","",{"$f":"IF(E158=\"\",\"\",IF(AH158=1,COUNTIF(AH$16:AH158,1)*10+2001-10,COUNTIF(AH$16:AH158,2)*10+6001-10))","v":""},143,null,{"$f":"IF($E158=\"\",\"\",IF(ISERROR(VLOOKUP($E158,氏名ﾃﾞｰﾀ!$B:$J,2,0)),IF(ISERROR(VLOOKUP($E158,新規登録!$B:$I,2,0)),\"未登録\",VLOOKUP($E158,新規登録!$B:$I,2,0)),(VLOOKUP($E158,氏名ﾃﾞｰﾀ!$B:$J,2,0))))","v":""},{"$f":"IF($E158=\"\",\"\",IF(ISERROR(VLOOKUP($E158,氏名ﾃﾞｰﾀ!$B:$J,3,0)),IF(ISERROR(VLOOKUP($E158,新規登録!$B:$I,3,0)),\"未登録\",VLOOKUP($E158,新規登録!$B:$I,3,0)),(VLOOKUP($E158,氏名ﾃﾞｰﾀ!$B:$J,3,0))))","v":""},{"$f":"IF($E158=\"\",\"\",IF(ISERROR(VLOOKUP($E158,氏名ﾃﾞｰﾀ!$B:$J,4,0)),IF(ISERROR(VLOOKUP($E158,新規登録!$B:$I,4,0)),\"未登録\",VLOOKUP($E158,新規登録!$B:$I,4,0)),(VLOOKUP($E158,氏名ﾃﾞｰﾀ!$B:$J,4,0))))","v":""},{"$f":"IF($E158=\"\",\"\",IF(ISERROR(VLOOKUP($E158,氏名ﾃﾞｰﾀ!$B:$J,5,0)),IF(ISERROR(VLOOKUP($E158,新規登録!$B:$I,5,0)),\"未登録\",VLOOKUP($E158,新規登録!$B:$I,5,0)),(VLOOKUP($E158,氏名ﾃﾞｰﾀ!$B:$J,5,0))))","v":""},{"$f":"IF($E158=\"\",\"\",IF(ISERROR(VLOOKUP($E158,氏名ﾃﾞｰﾀ!$B:$J,8,0)),IF(ISERROR(VLOOKUP($E158,新規登録!$B:$I,6,0)),\"未登録\",VLOOKUP($E158,新規登録!$B:$I,6,0)),(VLOOKUP($E158,氏名ﾃﾞｰﾀ!$B:$J,8,0))))","v":""},{"$f":"IF($E158=\"\",\"\",IF(ISERROR(VLOOKUP($E158,氏名ﾃﾞｰﾀ!$B:$J,7,0)),IF(ISERROR(VLOOKUP($E158,新規登録!$B:$I,7,0)),\"未登録\",VLOOKUP($E158,新規登録!$B:$I,7,0)),$G$3))","v":""},{"$f":"IF($E158=\"\",\"\",IF(ISERROR(VLOOKUP($E158,氏名ﾃﾞｰﾀ!$B:$J,6,0)),IF(ISERROR(VLOOKUP($E158,新規登録!$B:$I,8,0)),\"ﾅｼ\",VLOOKUP($E158,新規登録!$B:$I,8,0)),(VLOOKUP($E158,氏名ﾃﾞｰﾀ!$B:$J,6,0))))","v":""},{"$f":"IF($E158=\"\",\"\",IF(ISERROR(VLOOKUP($E158,氏名ﾃﾞｰﾀ!$B:$J,9,0)),IF(ISERROR(VLOOKUP($E158,新規登録!$B:$I,9,0)),\"未登録\",VLOOKUP($E158,新規登録!$B:$I,9,0)),(VLOOKUP($E158,氏名ﾃﾞｰﾀ!$B:$J,9,0))))","v":""},null,null,null,null,null,null,null,null,null,null,null,null,null,null,null,null,null,null,null,null,2,{"$f":"IF(N158=\"\",\"\",VLOOKUP(N158,ﾃﾞｰﾀ!A:D,4,0))","v":""},"秒","秒"]
["","",{"$f":"IF(E159=\"\",\"\",IF(AH159=1,COUNTIF(AH$16:AH159,1)*10+2001-10,COUNTIF(AH$16:AH159,2)*10+6001-10))","v":""},144,null,{"$f":"IF($E159=\"\",\"\",IF(ISERROR(VLOOKUP($E159,氏名ﾃﾞｰﾀ!$B:$J,2,0)),IF(ISERROR(VLOOKUP($E159,新規登録!$B:$I,2,0)),\"未登録\",VLOOKUP($E159,新規登録!$B:$I,2,0)),(VLOOKUP($E159,氏名ﾃﾞｰﾀ!$B:$J,2,0))))","v":""},{"$f":"IF($E159=\"\",\"\",IF(ISERROR(VLOOKUP($E159,氏名ﾃﾞｰﾀ!$B:$J,3,0)),IF(ISERROR(VLOOKUP($E159,新規登録!$B:$I,3,0)),\"未登録\",VLOOKUP($E159,新規登録!$B:$I,3,0)),(VLOOKUP($E159,氏名ﾃﾞｰﾀ!$B:$J,3,0))))","v":""},{"$f":"IF($E159=\"\",\"\",IF(ISERROR(VLOOKUP($E159,氏名ﾃﾞｰﾀ!$B:$J,4,0)),IF(ISERROR(VLOOKUP($E159,新規登録!$B:$I,4,0)),\"未登録\",VLOOKUP($E159,新規登録!$B:$I,4,0)),(VLOOKUP($E159,氏名ﾃﾞｰﾀ!$B:$J,4,0))))","v":""},{"$f":"IF($E159=\"\",\"\",IF(ISERROR(VLOOKUP($E159,氏名ﾃﾞｰﾀ!$B:$J,5,0)),IF(ISERROR(VLOOKUP($E159,新規登録!$B:$I,5,0)),\"未登録\",VLOOKUP($E159,新規登録!$B:$I,5,0)),(VLOOKUP($E159,氏名ﾃﾞｰﾀ!$B:$J,5,0))))","v":""},{"$f":"IF($E159=\"\",\"\",IF(ISERROR(VLOOKUP($E159,氏名ﾃﾞｰﾀ!$B:$J,8,0)),IF(ISERROR(VLOOKUP($E159,新規登録!$B:$I,6,0)),\"未登録\",VLOOKUP($E159,新規登録!$B:$I,6,0)),(VLOOKUP($E159,氏名ﾃﾞｰﾀ!$B:$J,8,0))))","v":""},{"$f":"IF($E159=\"\",\"\",IF(ISERROR(VLOOKUP($E159,氏名ﾃﾞｰﾀ!$B:$J,7,0)),IF(ISERROR(VLOOKUP($E159,新規登録!$B:$I,7,0)),\"未登録\",VLOOKUP($E159,新規登録!$B:$I,7,0)),$G$3))","v":""},{"$f":"IF($E159=\"\",\"\",IF(ISERROR(VLOOKUP($E159,氏名ﾃﾞｰﾀ!$B:$J,6,0)),IF(ISERROR(VLOOKUP($E159,新規登録!$B:$I,8,0)),\"ﾅｼ\",VLOOKUP($E159,新規登録!$B:$I,8,0)),(VLOOKUP($E159,氏名ﾃﾞｰﾀ!$B:$J,6,0))))","v":""},{"$f":"IF($E159=\"\",\"\",IF(ISERROR(VLOOKUP($E159,氏名ﾃﾞｰﾀ!$B:$J,9,0)),IF(ISERROR(VLOOKUP($E159,新規登録!$B:$I,9,0)),\"未登録\",VLOOKUP($E159,新規登録!$B:$I,9,0)),(VLOOKUP($E159,氏名ﾃﾞｰﾀ!$B:$J,9,0))))","v":""},null,null,null,null,null,null,null,null,null,null,null,null,null,null,null,null,null,null,null,null,2,{"$f":"IF(N159=\"\",\"\",VLOOKUP(N159,ﾃﾞｰﾀ!A:D,4,0))","v":""},"秒","秒"]
["","",{"$f":"IF(E160=\"\",\"\",IF(AH160=1,COUNTIF(AH$16:AH160,1)*10+2001-10,COUNTIF(AH$16:AH160,2)*10+6001-10))","v":""},145,null,{"$f":"IF($E160=\"\",\"\",IF(ISERROR(VLOOKUP($E160,氏名ﾃﾞｰﾀ!$B:$J,2,0)),IF(ISERROR(VLOOKUP($E160,新規登録!$B:$I,2,0)),\"未登録\",VLOOKUP($E160,新規登録!$B:$I,2,0)),(VLOOKUP($E160,氏名ﾃﾞｰﾀ!$B:$J,2,0))))","v":""},{"$f":"IF($E160=\"\",\"\",IF(ISERROR(VLOOKUP($E160,氏名ﾃﾞｰﾀ!$B:$J,3,0)),IF(ISERROR(VLOOKUP($E160,新規登録!$B:$I,3,0)),\"未登録\",VLOOKUP($E160,新規登録!$B:$I,3,0)),(VLOOKUP($E160,氏名ﾃﾞｰﾀ!$B:$J,3,0))))","v":""},{"$f":"IF($E160=\"\",\"\",IF(ISERROR(VLOOKUP($E160,氏名ﾃﾞｰﾀ!$B:$J,4,0)),IF(ISERROR(VLOOKUP($E160,新規登録!$B:$I,4,0)),\"未登録\",VLOOKUP($E160,新規登録!$B:$I,4,0)),(VLOOKUP($E160,氏名ﾃﾞｰﾀ!$B:$J,4,0))))","v":""},{"$f":"IF($E160=\"\",\"\",IF(ISERROR(VLOOKUP($E160,氏名ﾃﾞｰﾀ!$B:$J,5,0)),IF(ISERROR(VLOOKUP($E160,新規登録!$B:$I,5,0)),\"未登録\",VLOOKUP($E160,新規登録!$B:$I,5,0)),(VLOOKUP($E160,氏名ﾃﾞｰﾀ!$B:$J,5,0))))","v":""},{"$f":"IF($E160=\"\",\"\",IF(ISERROR(VLOOKUP($E160,氏名ﾃﾞｰﾀ!$B:$J,8,0)),IF(ISERROR(VLOOKUP($E160,新規登録!$B:$I,6,0)),\"未登録\",VLOOKUP($E160,新規登録!$B:$I,6,0)),(VLOOKUP($E160,氏名ﾃﾞｰﾀ!$B:$J,8,0))))","v":""},{"$f":"IF($E160=\"\",\"\",IF(ISERROR(VLOOKUP($E160,氏名ﾃﾞｰﾀ!$B:$J,7,0)),IF(ISERROR(VLOOKUP($E160,新規登録!$B:$I,7,0)),\"未登録\",VLOOKUP($E160,新規登録!$B:$I,7,0)),$G$3))","v":""},{"$f":"IF($E160=\"\",\"\",IF(ISERROR(VLOOKUP($E160,氏名ﾃﾞｰﾀ!$B:$J,6,0)),IF(ISERROR(VLOOKUP($E160,新規登録!$B:$I,8,0)),\"ﾅｼ\",VLOOKUP($E160,新規登録!$B:$I,8,0)),(VLOOKUP($E160,氏名ﾃﾞｰﾀ!$B:$J,6,0))))","v":""},{"$f":"IF($E160=\"\",\"\",IF(ISERROR(VLOOKUP($E160,氏名ﾃﾞｰﾀ!$B:$J,9,0)),IF(ISERROR(VLOOKUP($E160,新規登録!$B:$I,9,0)),\"未登録\",VLOOKUP($E160,新規登録!$B:$I,9,0)),(VLOOKUP($E160,氏名ﾃﾞｰﾀ!$B:$J,9,0))))","v":""},null,null,null,null,null,null,null,null,null,null,null,null,null,null,null,null,null,null,null,null,2,{"$f":"IF(N160=\"\",\"\",VLOOKUP(N160,ﾃﾞｰﾀ!A:D,4,0))","v":""},"秒","秒"]
["","",{"$f":"IF(E161=\"\",\"\",IF(AH161=1,COUNTIF(AH$16:AH161,1)*10+2001-10,COUNTIF(AH$16:AH161,2)*10+6001-10))","v":""},146,null,{"$f":"IF($E161=\"\",\"\",IF(ISERROR(VLOOKUP($E161,氏名ﾃﾞｰﾀ!$B:$J,2,0)),IF(ISERROR(VLOOKUP($E161,新規登録!$B:$I,2,0)),\"未登録\",VLOOKUP($E161,新規登録!$B:$I,2,0)),(VLOOKUP($E161,氏名ﾃﾞｰﾀ!$B:$J,2,0))))","v":""},{"$f":"IF($E161=\"\",\"\",IF(ISERROR(VLOOKUP($E161,氏名ﾃﾞｰﾀ!$B:$J,3,0)),IF(ISERROR(VLOOKUP($E161,新規登録!$B:$I,3,0)),\"未登録\",VLOOKUP($E161,新規登録!$B:$I,3,0)),(VLOOKUP($E161,氏名ﾃﾞｰﾀ!$B:$J,3,0))))","v":""},{"$f":"IF($E161=\"\",\"\",IF(ISERROR(VLOOKUP($E161,氏名ﾃﾞｰﾀ!$B:$J,4,0)),IF(ISERROR(VLOOKUP($E161,新規登録!$B:$I,4,0)),\"未登録\",VLOOKUP($E161,新規登録!$B:$I,4,0)),(VLOOKUP($E161,氏名ﾃﾞｰﾀ!$B:$J,4,0))))","v":""},{"$f":"IF($E161=\"\",\"\",IF(ISERROR(VLOOKUP($E161,氏名ﾃﾞｰﾀ!$B:$J,5,0)),IF(ISERROR(VLOOKUP($E161,新規登録!$B:$I,5,0)),\"未登録\",VLOOKUP($E161,新規登録!$B:$I,5,0)),(VLOOKUP($E161,氏名ﾃﾞｰﾀ!$B:$J,5,0))))","v":""},{"$f":"IF($E161=\"\",\"\",IF(ISERROR(VLOOKUP($E161,氏名ﾃﾞｰﾀ!$B:$J,8,0)),IF(ISERROR(VLOOKUP($E161,新規登録!$B:$I,6,0)),\"未登録\",VLOOKUP($E161,新規登録!$B:$I,6,0)),(VLOOKUP($E161,氏名ﾃﾞｰﾀ!$B:$J,8,0))))","v":""},{"$f":"IF($E161=\"\",\"\",IF(ISERROR(VLOOKUP($E161,氏名ﾃﾞｰﾀ!$B:$J,7,0)),IF(ISERROR(VLOOKUP($E161,新規登録!$B:$I,7,0)),\"未登録\",VLOOKUP($E161,新規登録!$B:$I,7,0)),$G$3))","v":""},{"$f":"IF($E161=\"\",\"\",IF(ISERROR(VLOOKUP($E161,氏名ﾃﾞｰﾀ!$B:$J,6,0)),IF(ISERROR(VLOOKUP($E161,新規登録!$B:$I,8,0)),\"ﾅｼ\",VLOOKUP($E161,新規登録!$B:$I,8,0)),(VLOOKUP($E161,氏名ﾃﾞｰﾀ!$B:$J,6,0))))","v":""},{"$f":"IF($E161=\"\",\"\",IF(ISERROR(VLOOKUP($E161,氏名ﾃﾞｰﾀ!$B:$J,9,0)),IF(ISERROR(VLOOKUP($E161,新規登録!$B:$I,9,0)),\"未登録\",VLOOKUP($E161,新規登録!$B:$I,9,0)),(VLOOKUP($E161,氏名ﾃﾞｰﾀ!$B:$J,9,0))))","v":""},null,null,null,null,null,null,null,null,null,null,null,null,null,null,null,null,null,null,null,null,2,{"$f":"IF(N161=\"\",\"\",VLOOKUP(N161,ﾃﾞｰﾀ!A:D,4,0))","v":""},"秒","秒"]
["","",{"$f":"IF(E162=\"\",\"\",IF(AH162=1,COUNTIF(AH$16:AH162,1)*10+2001-10,COUNTIF(AH$16:AH162,2)*10+6001-10))","v":""},147,null,{"$f":"IF($E162=\"\",\"\",IF(ISERROR(VLOOKUP($E162,氏名ﾃﾞｰﾀ!$B:$J,2,0)),IF(ISERROR(VLOOKUP($E162,新規登録!$B:$I,2,0)),\"未登録\",VLOOKUP($E162,新規登録!$B:$I,2,0)),(VLOOKUP($E162,氏名ﾃﾞｰﾀ!$B:$J,2,0))))","v":""},{"$f":"IF($E162=\"\",\"\",IF(ISERROR(VLOOKUP($E162,氏名ﾃﾞｰﾀ!$B:$J,3,0)),IF(ISERROR(VLOOKUP($E162,新規登録!$B:$I,3,0)),\"未登録\",VLOOKUP($E162,新規登録!$B:$I,3,0)),(VLOOKUP($E162,氏名ﾃﾞｰﾀ!$B:$J,3,0))))","v":""},{"$f":"IF($E162=\"\",\"\",IF(ISERROR(VLOOKUP($E162,氏名ﾃﾞｰﾀ!$B:$J,4,0)),IF(ISERROR(VLOOKUP($E162,新規登録!$B:$I,4,0)),\"未登録\",VLOOKUP($E162,新規登録!$B:$I,4,0)),(VLOOKUP($E162,氏名ﾃﾞｰﾀ!$B:$J,4,0))))","v":""},{"$f":"IF($E162=\"\",\"\",IF(ISERROR(VLOOKUP($E162,氏名ﾃﾞｰﾀ!$B:$J,5,0)),IF(ISERROR(VLOOKUP($E162,新規登録!$B:$I,5,0)),\"未登録\",VLOOKUP($E162,新規登録!$B:$I,5,0)),(VLOOKUP($E162,氏名ﾃﾞｰﾀ!$B:$J,5,0))))","v":""},{"$f":"IF($E162=\"\",\"\",IF(ISERROR(VLOOKUP($E162,氏名ﾃﾞｰﾀ!$B:$J,8,0)),IF(ISERROR(VLOOKUP($E162,新規登録!$B:$I,6,0)),\"未登録\",VLOOKUP($E162,新規登録!$B:$I,6,0)),(VLOOKUP($E162,氏名ﾃﾞｰﾀ!$B:$J,8,0))))","v":""},{"$f":"IF($E162=\"\",\"\",IF(ISERROR(VLOOKUP($E162,氏名ﾃﾞｰﾀ!$B:$J,7,0)),IF(ISERROR(VLOOKUP($E162,新規登録!$B:$I,7,0)),\"未登録\",VLOOKUP($E162,新規登録!$B:$I,7,0)),$G$3))","v":""},{"$f":"IF($E162=\"\",\"\",IF(ISERROR(VLOOKUP($E162,氏名ﾃﾞｰﾀ!$B:$J,6,0)),IF(ISERROR(VLOOKUP($E162,新規登録!$B:$I,8,0)),\"ﾅｼ\",VLOOKUP($E162,新規登録!$B:$I,8,0)),(VLOOKUP($E162,氏名ﾃﾞｰﾀ!$B:$J,6,0))))","v":""},{"$f":"IF($E162=\"\",\"\",IF(ISERROR(VLOOKUP($E162,氏名ﾃﾞｰﾀ!$B:$J,9,0)),IF(ISERROR(VLOOKUP($E162,新規登録!$B:$I,9,0)),\"未登録\",VLOOKUP($E162,新規登録!$B:$I,9,0)),(VLOOKUP($E162,氏名ﾃﾞｰﾀ!$B:$J,9,0))))","v":""},null,null,null,null,null,null,null,null,null,null,null,null,null,null,null,null,null,null,null,null,2,{"$f":"IF(N162=\"\",\"\",VLOOKUP(N162,ﾃﾞｰﾀ!A:D,4,0))","v":""},"秒","秒"]
["","",{"$f":"IF(E163=\"\",\"\",IF(AH163=1,COUNTIF(AH$16:AH163,1)*10+2001-10,COUNTIF(AH$16:AH163,2)*10+6001-10))","v":""},148,null,{"$f":"IF($E163=\"\",\"\",IF(ISERROR(VLOOKUP($E163,氏名ﾃﾞｰﾀ!$B:$J,2,0)),IF(ISERROR(VLOOKUP($E163,新規登録!$B:$I,2,0)),\"未登録\",VLOOKUP($E163,新規登録!$B:$I,2,0)),(VLOOKUP($E163,氏名ﾃﾞｰﾀ!$B:$J,2,0))))","v":""},{"$f":"IF($E163=\"\",\"\",IF(ISERROR(VLOOKUP($E163,氏名ﾃﾞｰﾀ!$B:$J,3,0)),IF(ISERROR(VLOOKUP($E163,新規登録!$B:$I,3,0)),\"未登録\",VLOOKUP($E163,新規登録!$B:$I,3,0)),(VLOOKUP($E163,氏名ﾃﾞｰﾀ!$B:$J,3,0))))","v":""},{"$f":"IF($E163=\"\",\"\",IF(ISERROR(VLOOKUP($E163,氏名ﾃﾞｰﾀ!$B:$J,4,0)),IF(ISERROR(VLOOKUP($E163,新規登録!$B:$I,4,0)),\"未登録\",VLOOKUP($E163,新規登録!$B:$I,4,0)),(VLOOKUP($E163,氏名ﾃﾞｰﾀ!$B:$J,4,0))))","v":""},{"$f":"IF($E163=\"\",\"\",IF(ISERROR(VLOOKUP($E163,氏名ﾃﾞｰﾀ!$B:$J,5,0)),IF(ISERROR(VLOOKUP($E163,新規登録!$B:$I,5,0)),\"未登録\",VLOOKUP($E163,新規登録!$B:$I,5,0)),(VLOOKUP($E163,氏名ﾃﾞｰﾀ!$B:$J,5,0))))","v":""},{"$f":"IF($E163=\"\",\"\",IF(ISERROR(VLOOKUP($E163,氏名ﾃﾞｰﾀ!$B:$J,8,0)),IF(ISERROR(VLOOKUP($E163,新規登録!$B:$I,6,0)),\"未登録\",VLOOKUP($E163,新規登録!$B:$I,6,0)),(VLOOKUP($E163,氏名ﾃﾞｰﾀ!$B:$J,8,0))))","v":""},{"$f":"IF($E163=\"\",\"\",IF(ISERROR(VLOOKUP($E163,氏名ﾃﾞｰﾀ!$B:$J,7,0)),IF(ISERROR(VLOOKUP($E163,新規登録!$B:$I,7,0)),\"未登録\",VLOOKUP($E163,新規登録!$B:$I,7,0)),$G$3))","v":""},{"$f":"IF($E163=\"\",\"\",IF(ISERROR(VLOOKUP($E163,氏名ﾃﾞｰﾀ!$B:$J,6,0)),IF(ISERROR(VLOOKUP($E163,新規登録!$B:$I,8,0)),\"ﾅｼ\",VLOOKUP($E163,新規登録!$B:$I,8,0)),(VLOOKUP($E163,氏名ﾃﾞｰﾀ!$B:$J,6,0))))","v":""},{"$f":"IF($E163=\"\",\"\",IF(ISERROR(VLOOKUP($E163,氏名ﾃﾞｰﾀ!$B:$J,9,0)),IF(ISERROR(VLOOKUP($E163,新規登録!$B:$I,9,0)),\"未登録\",VLOOKUP($E163,新規登録!$B:$I,9,0)),(VLOOKUP($E163,氏名ﾃﾞｰﾀ!$B:$J,9,0))))","v":""},null,null,null,null,null,null,null,null,null,null,null,null,null,null,null,null,null,null,null,null,2,{"$f":"IF(N163=\"\",\"\",VLOOKUP(N163,ﾃﾞｰﾀ!A:D,4,0))","v":""},"秒","秒"]
["","",{"$f":"IF(E164=\"\",\"\",IF(AH164=1,COUNTIF(AH$16:AH164,1)*10+2001-10,COUNTIF(AH$16:AH164,2)*10+6001-10))","v":""},149,null,{"$f":"IF($E164=\"\",\"\",IF(ISERROR(VLOOKUP($E164,氏名ﾃﾞｰﾀ!$B:$J,2,0)),IF(ISERROR(VLOOKUP($E164,新規登録!$B:$I,2,0)),\"未登録\",VLOOKUP($E164,新規登録!$B:$I,2,0)),(VLOOKUP($E164,氏名ﾃﾞｰﾀ!$B:$J,2,0))))","v":""},{"$f":"IF($E164=\"\",\"\",IF(ISERROR(VLOOKUP($E164,氏名ﾃﾞｰﾀ!$B:$J,3,0)),IF(ISERROR(VLOOKUP($E164,新規登録!$B:$I,3,0)),\"未登録\",VLOOKUP($E164,新規登録!$B:$I,3,0)),(VLOOKUP($E164,氏名ﾃﾞｰﾀ!$B:$J,3,0))))","v":""},{"$f":"IF($E164=\"\",\"\",IF(ISERROR(VLOOKUP($E164,氏名ﾃﾞｰﾀ!$B:$J,4,0)),IF(ISERROR(VLOOKUP($E164,新規登録!$B:$I,4,0)),\"未登録\",VLOOKUP($E164,新規登録!$B:$I,4,0)),(VLOOKUP($E164,氏名ﾃﾞｰﾀ!$B:$J,4,0))))","v":""},{"$f":"IF($E164=\"\",\"\",IF(ISERROR(VLOOKUP($E164,氏名ﾃﾞｰﾀ!$B:$J,5,0)),IF(ISERROR(VLOOKUP($E164,新規登録!$B:$I,5,0)),\"未登録\",VLOOKUP($E164,新規登録!$B:$I,5,0)),(VLOOKUP($E164,氏名ﾃﾞｰﾀ!$B:$J,5,0))))","v":""},{"$f":"IF($E164=\"\",\"\",IF(ISERROR(VLOOKUP($E164,氏名ﾃﾞｰﾀ!$B:$J,8,0)),IF(ISERROR(VLOOKUP($E164,新規登録!$B:$I,6,0)),\"未登録\",VLOOKUP($E164,新規登録!$B:$I,6,0)),(VLOOKUP($E164,氏名ﾃﾞｰﾀ!$B:$J,8,0))))","v":""},{"$f":"IF($E164=\"\",\"\",IF(ISERROR(VLOOKUP($E164,氏名ﾃﾞｰﾀ!$B:$J,7,0)),IF(ISERROR(VLOOKUP($E164,新規登録!$B:$I,7,0)),\"未登録\",VLOOKUP($E164,新規登録!$B:$I,7,0)),$G$3))","v":""},{"$f":"IF($E164=\"\",\"\",IF(ISERROR(VLOOKUP($E164,氏名ﾃﾞｰﾀ!$B:$J,6,0)),IF(ISERROR(VLOOKUP($E164,新規登録!$B:$I,8,0)),\"ﾅｼ\",VLOOKUP($E164,新規登録!$B:$I,8,0)),(VLOOKUP($E164,氏名ﾃﾞｰﾀ!$B:$J,6,0))))","v":""},{"$f":"IF($E164=\"\",\"\",IF(ISERROR(VLOOKUP($E164,氏名ﾃﾞｰﾀ!$B:$J,9,0)),IF(ISERROR(VLOOKUP($E164,新規登録!$B:$I,9,0)),\"未登録\",VLOOKUP($E164,新規登録!$B:$I,9,0)),(VLOOKUP($E164,氏名ﾃﾞｰﾀ!$B:$J,9,0))))","v":""},null,null,null,null,null,null,null,null,null,null,null,null,null,null,null,null,null,null,null,null,2,{"$f":"IF(N164=\"\",\"\",VLOOKUP(N164,ﾃﾞｰﾀ!A:D,4,0))","v":""},"秒","秒"]
["","",{"$f":"IF(E165=\"\",\"\",IF(AH165=1,COUNTIF(AH$16:AH165,1)*10+2001-10,COUNTIF(AH$16:AH165,2)*10+6001-10))","v":""},150,null,{"$f":"IF($E165=\"\",\"\",IF(ISERROR(VLOOKUP($E165,氏名ﾃﾞｰﾀ!$B:$J,2,0)),IF(ISERROR(VLOOKUP($E165,新規登録!$B:$I,2,0)),\"未登録\",VLOOKUP($E165,新規登録!$B:$I,2,0)),(VLOOKUP($E165,氏名ﾃﾞｰﾀ!$B:$J,2,0))))","v":""},{"$f":"IF($E165=\"\",\"\",IF(ISERROR(VLOOKUP($E165,氏名ﾃﾞｰﾀ!$B:$J,3,0)),IF(ISERROR(VLOOKUP($E165,新規登録!$B:$I,3,0)),\"未登録\",VLOOKUP($E165,新規登録!$B:$I,3,0)),(VLOOKUP($E165,氏名ﾃﾞｰﾀ!$B:$J,3,0))))","v":""},{"$f":"IF($E165=\"\",\"\",IF(ISERROR(VLOOKUP($E165,氏名ﾃﾞｰﾀ!$B:$J,4,0)),IF(ISERROR(VLOOKUP($E165,新規登録!$B:$I,4,0)),\"未登録\",VLOOKUP($E165,新規登録!$B:$I,4,0)),(VLOOKUP($E165,氏名ﾃﾞｰﾀ!$B:$J,4,0))))","v":""},{"$f":"IF($E165=\"\",\"\",IF(ISERROR(VLOOKUP($E165,氏名ﾃﾞｰﾀ!$B:$J,5,0)),IF(ISERROR(VLOOKUP($E165,新規登録!$B:$I,5,0)),\"未登録\",VLOOKUP($E165,新規登録!$B:$I,5,0)),(VLOOKUP($E165,氏名ﾃﾞｰﾀ!$B:$J,5,0))))","v":""},{"$f":"IF($E165=\"\",\"\",IF(ISERROR(VLOOKUP($E165,氏名ﾃﾞｰﾀ!$B:$J,8,0)),IF(ISERROR(VLOOKUP($E165,新規登録!$B:$I,6,0)),\"未登録\",VLOOKUP($E165,新規登録!$B:$I,6,0)),(VLOOKUP($E165,氏名ﾃﾞｰﾀ!$B:$J,8,0))))","v":""},{"$f":"IF($E165=\"\",\"\",IF(ISERROR(VLOOKUP($E165,氏名ﾃﾞｰﾀ!$B:$J,7,0)),IF(ISERROR(VLOOKUP($E165,新規登録!$B:$I,7,0)),\"未登録\",VLOOKUP($E165,新規登録!$B:$I,7,0)),$G$3))","v":""},{"$f":"IF($E165=\"\",\"\",IF(ISERROR(VLOOKUP($E165,氏名ﾃﾞｰﾀ!$B:$J,6,0)),IF(ISERROR(VLOOKUP($E165,新規登録!$B:$I,8,0)),\"ﾅｼ\",VLOOKUP($E165,新規登録!$B:$I,8,0)),(VLOOKUP($E165,氏名ﾃﾞｰﾀ!$B:$J,6,0))))","v":""},{"$f":"IF($E165=\"\",\"\",IF(ISERROR(VLOOKUP($E165,氏名ﾃﾞｰﾀ!$B:$J,9,0)),IF(ISERROR(VLOOKUP($E165,新規登録!$B:$I,9,0)),\"未登録\",VLOOKUP($E165,新規登録!$B:$I,9,0)),(VLOOKUP($E165,氏名ﾃﾞｰﾀ!$B:$J,9,0))))","v":""},null,null,null,null,null,null,null,null,null,null,null,null,null,null,null,null,null,null,null,null,2,{"$f":"IF(N165=\"\",\"\",VLOOKUP(N165,ﾃﾞｰﾀ!A:D,4,0))","v":""},"秒","秒"]
["","",{"$f":"IF(E166=\"\",\"\",IF(AH166=1,COUNTIF(AH$16:AH166,1)*10+2001-10,COUNTIF(AH$16:AH166,2)*10+6001-10))","v":""},151,null,{"$f":"IF($E166=\"\",\"\",IF(ISERROR(VLOOKUP($E166,氏名ﾃﾞｰﾀ!$B:$J,2,0)),IF(ISERROR(VLOOKUP($E166,新規登録!$B:$I,2,0)),\"未登録\",VLOOKUP($E166,新規登録!$B:$I,2,0)),(VLOOKUP($E166,氏名ﾃﾞｰﾀ!$B:$J,2,0))))","v":""},{"$f":"IF($E166=\"\",\"\",IF(ISERROR(VLOOKUP($E166,氏名ﾃﾞｰﾀ!$B:$J,3,0)),IF(ISERROR(VLOOKUP($E166,新規登録!$B:$I,3,0)),\"未登録\",VLOOKUP($E166,新規登録!$B:$I,3,0)),(VLOOKUP($E166,氏名ﾃﾞｰﾀ!$B:$J,3,0))))","v":""},{"$f":"IF($E166=\"\",\"\",IF(ISERROR(VLOOKUP($E166,氏名ﾃﾞｰﾀ!$B:$J,4,0)),IF(ISERROR(VLOOKUP($E166,新規登録!$B:$I,4,0)),\"未登録\",VLOOKUP($E166,新規登録!$B:$I,4,0)),(VLOOKUP($E166,氏名ﾃﾞｰﾀ!$B:$J,4,0))))","v":""},{"$f":"IF($E166=\"\",\"\",IF(ISERROR(VLOOKUP($E166,氏名ﾃﾞｰﾀ!$B:$J,5,0)),IF(ISERROR(VLOOKUP($E166,新規登録!$B:$I,5,0)),\"未登録\",VLOOKUP($E166,新規登録!$B:$I,5,0)),(VLOOKUP($E166,氏名ﾃﾞｰﾀ!$B:$J,5,0))))","v":""},{"$f":"IF($E166=\"\",\"\",IF(ISERROR(VLOOKUP($E166,氏名ﾃﾞｰﾀ!$B:$J,8,0)),IF(ISERROR(VLOOKUP($E166,新規登録!$B:$I,6,0)),\"未登録\",VLOOKUP($E166,新規登録!$B:$I,6,0)),(VLOOKUP($E166,氏名ﾃﾞｰﾀ!$B:$J,8,0))))","v":""},{"$f":"IF($E166=\"\",\"\",IF(ISERROR(VLOOKUP($E166,氏名ﾃﾞｰﾀ!$B:$J,7,0)),IF(ISERROR(VLOOKUP($E166,新規登録!$B:$I,7,0)),\"未登録\",VLOOKUP($E166,新規登録!$B:$I,7,0)),$G$3))","v":""},{"$f":"IF($E166=\"\",\"\",IF(ISERROR(VLOOKUP($E166,氏名ﾃﾞｰﾀ!$B:$J,6,0)),IF(ISERROR(VLOOKUP($E166,新規登録!$B:$I,8,0)),\"ﾅｼ\",VLOOKUP($E166,新規登録!$B:$I,8,0)),(VLOOKUP($E166,氏名ﾃﾞｰﾀ!$B:$J,6,0))))","v":""},{"$f":"IF($E166=\"\",\"\",IF(ISERROR(VLOOKUP($E166,氏名ﾃﾞｰﾀ!$B:$J,9,0)),IF(ISERROR(VLOOKUP($E166,新規登録!$B:$I,9,0)),\"未登録\",VLOOKUP($E166,新規登録!$B:$I,9,0)),(VLOOKUP($E166,氏名ﾃﾞｰﾀ!$B:$J,9,0))))","v":""},null,null,null,null,null,null,null,null,null,null,null,null,null,null,null,null,null,null,null,null,2,{"$f":"IF(N166=\"\",\"\",VLOOKUP(N166,ﾃﾞｰﾀ!A:D,4,0))","v":""},"秒","秒"]
["","",{"$f":"IF(E167=\"\",\"\",IF(AH167=1,COUNTIF(AH$16:AH167,1)*10+2001-10,COUNTIF(AH$16:AH167,2)*10+6001-10))","v":""},152,null,{"$f":"IF($E167=\"\",\"\",IF(ISERROR(VLOOKUP($E167,氏名ﾃﾞｰﾀ!$B:$J,2,0)),IF(ISERROR(VLOOKUP($E167,新規登録!$B:$I,2,0)),\"未登録\",VLOOKUP($E167,新規登録!$B:$I,2,0)),(VLOOKUP($E167,氏名ﾃﾞｰﾀ!$B:$J,2,0))))","v":""},{"$f":"IF($E167=\"\",\"\",IF(ISERROR(VLOOKUP($E167,氏名ﾃﾞｰﾀ!$B:$J,3,0)),IF(ISERROR(VLOOKUP($E167,新規登録!$B:$I,3,0)),\"未登録\",VLOOKUP($E167,新規登録!$B:$I,3,0)),(VLOOKUP($E167,氏名ﾃﾞｰﾀ!$B:$J,3,0))))","v":""},{"$f":"IF($E167=\"\",\"\",IF(ISERROR(VLOOKUP($E167,氏名ﾃﾞｰﾀ!$B:$J,4,0)),IF(ISERROR(VLOOKUP($E167,新規登録!$B:$I,4,0)),\"未登録\",VLOOKUP($E167,新規登録!$B:$I,4,0)),(VLOOKUP($E167,氏名ﾃﾞｰﾀ!$B:$J,4,0))))","v":""},{"$f":"IF($E167=\"\",\"\",IF(ISERROR(VLOOKUP($E167,氏名ﾃﾞｰﾀ!$B:$J,5,0)),IF(ISERROR(VLOOKUP($E167,新規登録!$B:$I,5,0)),\"未登録\",VLOOKUP($E167,新規登録!$B:$I,5,0)),(VLOOKUP($E167,氏名ﾃﾞｰﾀ!$B:$J,5,0))))","v":""},{"$f":"IF($E167=\"\",\"\",IF(ISERROR(VLOOKUP($E167,氏名ﾃﾞｰﾀ!$B:$J,8,0)),IF(ISERROR(VLOOKUP($E167,新規登録!$B:$I,6,0)),\"未登録\",VLOOKUP($E167,新規登録!$B:$I,6,0)),(VLOOKUP($E167,氏名ﾃﾞｰﾀ!$B:$J,8,0))))","v":""},{"$f":"IF($E167=\"\",\"\",IF(ISERROR(VLOOKUP($E167,氏名ﾃﾞｰﾀ!$B:$J,7,0)),IF(ISERROR(VLOOKUP($E167,新規登録!$B:$I,7,0)),\"未登録\",VLOOKUP($E167,新規登録!$B:$I,7,0)),$G$3))","v":""},{"$f":"IF($E167=\"\",\"\",IF(ISERROR(VLOOKUP($E167,氏名ﾃﾞｰﾀ!$B:$J,6,0)),IF(ISERROR(VLOOKUP($E167,新規登録!$B:$I,8,0)),\"ﾅｼ\",VLOOKUP($E167,新規登録!$B:$I,8,0)),(VLOOKUP($E167,氏名ﾃﾞｰﾀ!$B:$J,6,0))))","v":""},{"$f":"IF($E167=\"\",\"\",IF(ISERROR(VLOOKUP($E167,氏名ﾃﾞｰﾀ!$B:$J,9,0)),IF(ISERROR(VLOOKUP($E167,新規登録!$B:$I,9,0)),\"未登録\",VLOOKUP($E167,新規登録!$B:$I,9,0)),(VLOOKUP($E167,氏名ﾃﾞｰﾀ!$B:$J,9,0))))","v":""},null,null,null,null,null,null,null,null,null,null,null,null,null,null,null,null,null,null,null,null,2,{"$f":"IF(N167=\"\",\"\",VLOOKUP(N167,ﾃﾞｰﾀ!A:D,4,0))","v":""},"秒","秒"]
["","",{"$f":"IF(E168=\"\",\"\",IF(AH168=1,COUNTIF(AH$16:AH168,1)*10+2001-10,COUNTIF(AH$16:AH168,2)*10+6001-10))","v":""},153,null,{"$f":"IF($E168=\"\",\"\",IF(ISERROR(VLOOKUP($E168,氏名ﾃﾞｰﾀ!$B:$J,2,0)),IF(ISERROR(VLOOKUP($E168,新規登録!$B:$I,2,0)),\"未登録\",VLOOKUP($E168,新規登録!$B:$I,2,0)),(VLOOKUP($E168,氏名ﾃﾞｰﾀ!$B:$J,2,0))))","v":""},{"$f":"IF($E168=\"\",\"\",IF(ISERROR(VLOOKUP($E168,氏名ﾃﾞｰﾀ!$B:$J,3,0)),IF(ISERROR(VLOOKUP($E168,新規登録!$B:$I,3,0)),\"未登録\",VLOOKUP($E168,新規登録!$B:$I,3,0)),(VLOOKUP($E168,氏名ﾃﾞｰﾀ!$B:$J,3,0))))","v":""},{"$f":"IF($E168=\"\",\"\",IF(ISERROR(VLOOKUP($E168,氏名ﾃﾞｰﾀ!$B:$J,4,0)),IF(ISERROR(VLOOKUP($E168,新規登録!$B:$I,4,0)),\"未登録\",VLOOKUP($E168,新規登録!$B:$I,4,0)),(VLOOKUP($E168,氏名ﾃﾞｰﾀ!$B:$J,4,0))))","v":""},{"$f":"IF($E168=\"\",\"\",IF(ISERROR(VLOOKUP($E168,氏名ﾃﾞｰﾀ!$B:$J,5,0)),IF(ISERROR(VLOOKUP($E168,新規登録!$B:$I,5,0)),\"未登録\",VLOOKUP($E168,新規登録!$B:$I,5,0)),(VLOOKUP($E168,氏名ﾃﾞｰﾀ!$B:$J,5,0))))","v":""},{"$f":"IF($E168=\"\",\"\",IF(ISERROR(VLOOKUP($E168,氏名ﾃﾞｰﾀ!$B:$J,8,0)),IF(ISERROR(VLOOKUP($E168,新規登録!$B:$I,6,0)),\"未登録\",VLOOKUP($E168,新規登録!$B:$I,6,0)),(VLOOKUP($E168,氏名ﾃﾞｰﾀ!$B:$J,8,0))))","v":""},{"$f":"IF($E168=\"\",\"\",IF(ISERROR(VLOOKUP($E168,氏名ﾃﾞｰﾀ!$B:$J,7,0)),IF(ISERROR(VLOOKUP($E168,新規登録!$B:$I,7,0)),\"未登録\",VLOOKUP($E168,新規登録!$B:$I,7,0)),$G$3))","v":""},{"$f":"IF($E168=\"\",\"\",IF(ISERROR(VLOOKUP($E168,氏名ﾃﾞｰﾀ!$B:$J,6,0)),IF(ISERROR(VLOOKUP($E168,新規登録!$B:$I,8,0)),\"ﾅｼ\",VLOOKUP($E168,新規登録!$B:$I,8,0)),(VLOOKUP($E168,氏名ﾃﾞｰﾀ!$B:$J,6,0))))","v":""},{"$f":"IF($E168=\"\",\"\",IF(ISERROR(VLOOKUP($E168,氏名ﾃﾞｰﾀ!$B:$J,9,0)),IF(ISERROR(VLOOKUP($E168,新規登録!$B:$I,9,0)),\"未登録\",VLOOKUP($E168,新規登録!$B:$I,9,0)),(VLOOKUP($E168,氏名ﾃﾞｰﾀ!$B:$J,9,0))))","v":""},null,null,null,null,null,null,null,null,null,null,null,null,null,null,null,null,null,null,null,null,2,{"$f":"IF(N168=\"\",\"\",VLOOKUP(N168,ﾃﾞｰﾀ!A:D,4,0))","v":""},"秒","秒"]
["","",{"$f":"IF(E169=\"\",\"\",IF(AH169=1,COUNTIF(AH$16:AH169,1)*10+2001-10,COUNTIF(AH$16:AH169,2)*10+6001-10))","v":""},154,null,{"$f":"IF($E169=\"\",\"\",IF(ISERROR(VLOOKUP($E169,氏名ﾃﾞｰﾀ!$B:$J,2,0)),IF(ISERROR(VLOOKUP($E169,新規登録!$B:$I,2,0)),\"未登録\",VLOOKUP($E169,新規登録!$B:$I,2,0)),(VLOOKUP($E169,氏名ﾃﾞｰﾀ!$B:$J,2,0))))","v":""},{"$f":"IF($E169=\"\",\"\",IF(ISERROR(VLOOKUP($E169,氏名ﾃﾞｰﾀ!$B:$J,3,0)),IF(ISERROR(VLOOKUP($E169,新規登録!$B:$I,3,0)),\"未登録\",VLOOKUP($E169,新規登録!$B:$I,3,0)),(VLOOKUP($E169,氏名ﾃﾞｰﾀ!$B:$J,3,0))))","v":""},{"$f":"IF($E169=\"\",\"\",IF(ISERROR(VLOOKUP($E169,氏名ﾃﾞｰﾀ!$B:$J,4,0)),IF(ISERROR(VLOOKUP($E169,新規登録!$B:$I,4,0)),\"未登録\",VLOOKUP($E169,新規登録!$B:$I,4,0)),(VLOOKUP($E169,氏名ﾃﾞｰﾀ!$B:$J,4,0))))","v":""},{"$f":"IF($E169=\"\",\"\",IF(ISERROR(VLOOKUP($E169,氏名ﾃﾞｰﾀ!$B:$J,5,0)),IF(ISERROR(VLOOKUP($E169,新規登録!$B:$I,5,0)),\"未登録\",VLOOKUP($E169,新規登録!$B:$I,5,0)),(VLOOKUP($E169,氏名ﾃﾞｰﾀ!$B:$J,5,0))))","v":""},{"$f":"IF($E169=\"\",\"\",IF(ISERROR(VLOOKUP($E169,氏名ﾃﾞｰﾀ!$B:$J,8,0)),IF(ISERROR(VLOOKUP($E169,新規登録!$B:$I,6,0)),\"未登録\",VLOOKUP($E169,新規登録!$B:$I,6,0)),(VLOOKUP($E169,氏名ﾃﾞｰﾀ!$B:$J,8,0))))","v":""},{"$f":"IF($E169=\"\",\"\",IF(ISERROR(VLOOKUP($E169,氏名ﾃﾞｰﾀ!$B:$J,7,0)),IF(ISERROR(VLOOKUP($E169,新規登録!$B:$I,7,0)),\"未登録\",VLOOKUP($E169,新規登録!$B:$I,7,0)),$G$3))","v":""},{"$f":"IF($E169=\"\",\"\",IF(ISERROR(VLOOKUP($E169,氏名ﾃﾞｰﾀ!$B:$J,6,0)),IF(ISERROR(VLOOKUP($E169,新規登録!$B:$I,8,0)),\"ﾅｼ\",VLOOKUP($E169,新規登録!$B:$I,8,0)),(VLOOKUP($E169,氏名ﾃﾞｰﾀ!$B:$J,6,0))))","v":""},{"$f":"IF($E169=\"\",\"\",IF(ISERROR(VLOOKUP($E169,氏名ﾃﾞｰﾀ!$B:$J,9,0)),IF(ISERROR(VLOOKUP($E169,新規登録!$B:$I,9,0)),\"未登録\",VLOOKUP($E169,新規登録!$B:$I,9,0)),(VLOOKUP($E169,氏名ﾃﾞｰﾀ!$B:$J,9,0))))","v":""},null,null,null,null,null,null,null,null,null,null,null,null,null,null,null,null,null,null,null,null,2,{"$f":"IF(N169=\"\",\"\",VLOOKUP(N169,ﾃﾞｰﾀ!A:D,4,0))","v":""},"秒","秒"]
["","",{"$f":"IF(E170=\"\",\"\",IF(AH170=1,COUNTIF(AH$16:AH170,1)*10+2001-10,COUNTIF(AH$16:AH170,2)*10+6001-10))","v":""},155,null,{"$f":"IF($E170=\"\",\"\",IF(ISERROR(VLOOKUP($E170,氏名ﾃﾞｰﾀ!$B:$J,2,0)),IF(ISERROR(VLOOKUP($E170,新規登録!$B:$I,2,0)),\"未登録\",VLOOKUP($E170,新規登録!$B:$I,2,0)),(VLOOKUP($E170,氏名ﾃﾞｰﾀ!$B:$J,2,0))))","v":""},{"$f":"IF($E170=\"\",\"\",IF(ISERROR(VLOOKUP($E170,氏名ﾃﾞｰﾀ!$B:$J,3,0)),IF(ISERROR(VLOOKUP($E170,新規登録!$B:$I,3,0)),\"未登録\",VLOOKUP($E170,新規登録!$B:$I,3,0)),(VLOOKUP($E170,氏名ﾃﾞｰﾀ!$B:$J,3,0))))","v":""},{"$f":"IF($E170=\"\",\"\",IF(ISERROR(VLOOKUP($E170,氏名ﾃﾞｰﾀ!$B:$J,4,0)),IF(ISERROR(VLOOKUP($E170,新規登録!$B:$I,4,0)),\"未登録\",VLOOKUP($E170,新規登録!$B:$I,4,0)),(VLOOKUP($E170,氏名ﾃﾞｰﾀ!$B:$J,4,0))))","v":""},{"$f":"IF($E170=\"\",\"\",IF(ISERROR(VLOOKUP($E170,氏名ﾃﾞｰﾀ!$B:$J,5,0)),IF(ISERROR(VLOOKUP($E170,新規登録!$B:$I,5,0)),\"未登録\",VLOOKUP($E170,新規登録!$B:$I,5,0)),(VLOOKUP($E170,氏名ﾃﾞｰﾀ!$B:$J,5,0))))","v":""},{"$f":"IF($E170=\"\",\"\",IF(ISERROR(VLOOKUP($E170,氏名ﾃﾞｰﾀ!$B:$J,8,0)),IF(ISERROR(VLOOKUP($E170,新規登録!$B:$I,6,0)),\"未登録\",VLOOKUP($E170,新規登録!$B:$I,6,0)),(VLOOKUP($E170,氏名ﾃﾞｰﾀ!$B:$J,8,0))))","v":""},{"$f":"IF($E170=\"\",\"\",IF(ISERROR(VLOOKUP($E170,氏名ﾃﾞｰﾀ!$B:$J,7,0)),IF(ISERROR(VLOOKUP($E170,新規登録!$B:$I,7,0)),\"未登録\",VLOOKUP($E170,新規登録!$B:$I,7,0)),$G$3))","v":""},{"$f":"IF($E170=\"\",\"\",IF(ISERROR(VLOOKUP($E170,氏名ﾃﾞｰﾀ!$B:$J,6,0)),IF(ISERROR(VLOOKUP($E170,新規登録!$B:$I,8,0)),\"ﾅｼ\",VLOOKUP($E170,新規登録!$B:$I,8,0)),(VLOOKUP($E170,氏名ﾃﾞｰﾀ!$B:$J,6,0))))","v":""},{"$f":"IF($E170=\"\",\"\",IF(ISERROR(VLOOKUP($E170,氏名ﾃﾞｰﾀ!$B:$J,9,0)),IF(ISERROR(VLOOKUP($E170,新規登録!$B:$I,9,0)),\"未登録\",VLOOKUP($E170,新規登録!$B:$I,9,0)),(VLOOKUP($E170,氏名ﾃﾞｰﾀ!$B:$J,9,0))))","v":""},null,null,null,null,null,null,null,null,null,null,null,null,null,null,null,null,null,null,null,null,2,{"$f":"IF(N170=\"\",\"\",VLOOKUP(N170,ﾃﾞｰﾀ!A:D,4,0))","v":""},"秒","秒"]
["","",{"$f":"IF(E171=\"\",\"\",IF(AH171=1,COUNTIF(AH$16:AH171,1)*10+2001-10,COUNTIF(AH$16:AH171,2)*10+6001-10))","v":""},156,null,{"$f":"IF($E171=\"\",\"\",IF(ISERROR(VLOOKUP($E171,氏名ﾃﾞｰﾀ!$B:$J,2,0)),IF(ISERROR(VLOOKUP($E171,新規登録!$B:$I,2,0)),\"未登録\",VLOOKUP($E171,新規登録!$B:$I,2,0)),(VLOOKUP($E171,氏名ﾃﾞｰﾀ!$B:$J,2,0))))","v":""},{"$f":"IF($E171=\"\",\"\",IF(ISERROR(VLOOKUP($E171,氏名ﾃﾞｰﾀ!$B:$J,3,0)),IF(ISERROR(VLOOKUP($E171,新規登録!$B:$I,3,0)),\"未登録\",VLOOKUP($E171,新規登録!$B:$I,3,0)),(VLOOKUP($E171,氏名ﾃﾞｰﾀ!$B:$J,3,0))))","v":""},{"$f":"IF($E171=\"\",\"\",IF(ISERROR(VLOOKUP($E171,氏名ﾃﾞｰﾀ!$B:$J,4,0)),IF(ISERROR(VLOOKUP($E171,新規登録!$B:$I,4,0)),\"未登録\",VLOOKUP($E171,新規登録!$B:$I,4,0)),(VLOOKUP($E171,氏名ﾃﾞｰﾀ!$B:$J,4,0))))","v":""},{"$f":"IF($E171=\"\",\"\",IF(ISERROR(VLOOKUP($E171,氏名ﾃﾞｰﾀ!$B:$J,5,0)),IF(ISERROR(VLOOKUP($E171,新規登録!$B:$I,5,0)),\"未登録\",VLOOKUP($E171,新規登録!$B:$I,5,0)),(VLOOKUP($E171,氏名ﾃﾞｰﾀ!$B:$J,5,0))))","v":""},{"$f":"IF($E171=\"\",\"\",IF(ISERROR(VLOOKUP($E171,氏名ﾃﾞｰﾀ!$B:$J,8,0)),IF(ISERROR(VLOOKUP($E171,新規登録!$B:$I,6,0)),\"未登録\",VLOOKUP($E171,新規登録!$B:$I,6,0)),(VLOOKUP($E171,氏名ﾃﾞｰﾀ!$B:$J,8,0))))","v":""},{"$f":"IF($E171=\"\",\"\",IF(ISERROR(VLOOKUP($E171,氏名ﾃﾞｰﾀ!$B:$J,7,0)),IF(ISERROR(VLOOKUP($E171,新規登録!$B:$I,7,0)),\"未登録\",VLOOKUP($E171,新規登録!$B:$I,7,0)),$G$3))","v":""},{"$f":"IF($E171=\"\",\"\",IF(ISERROR(VLOOKUP($E171,氏名ﾃﾞｰﾀ!$B:$J,6,0)),IF(ISERROR(VLOOKUP($E171,新規登録!$B:$I,8,0)),\"ﾅｼ\",VLOOKUP($E171,新規登録!$B:$I,8,0)),(VLOOKUP($E171,氏名ﾃﾞｰﾀ!$B:$J,6,0))))","v":""},{"$f":"IF($E171=\"\",\"\",IF(ISERROR(VLOOKUP($E171,氏名ﾃﾞｰﾀ!$B:$J,9,0)),IF(ISERROR(VLOOKUP($E171,新規登録!$B:$I,9,0)),\"未登録\",VLOOKUP($E171,新規登録!$B:$I,9,0)),(VLOOKUP($E171,氏名ﾃﾞｰﾀ!$B:$J,9,0))))","v":""},null,null,null,null,null,null,null,null,null,null,null,null,null,null,null,null,null,null,null,null,2,{"$f":"IF(N171=\"\",\"\",VLOOKUP(N171,ﾃﾞｰﾀ!A:D,4,0))","v":""},"秒","秒"]
["","",{"$f":"IF(E172=\"\",\"\",IF(AH172=1,COUNTIF(AH$16:AH172,1)*10+2001-10,COUNTIF(AH$16:AH172,2)*10+6001-10))","v":""},157,null,{"$f":"IF($E172=\"\",\"\",IF(ISERROR(VLOOKUP($E172,氏名ﾃﾞｰﾀ!$B:$J,2,0)),IF(ISERROR(VLOOKUP($E172,新規登録!$B:$I,2,0)),\"未登録\",VLOOKUP($E172,新規登録!$B:$I,2,0)),(VLOOKUP($E172,氏名ﾃﾞｰﾀ!$B:$J,2,0))))","v":""},{"$f":"IF($E172=\"\",\"\",IF(ISERROR(VLOOKUP($E172,氏名ﾃﾞｰﾀ!$B:$J,3,0)),IF(ISERROR(VLOOKUP($E172,新規登録!$B:$I,3,0)),\"未登録\",VLOOKUP($E172,新規登録!$B:$I,3,0)),(VLOOKUP($E172,氏名ﾃﾞｰﾀ!$B:$J,3,0))))","v":""},{"$f":"IF($E172=\"\",\"\",IF(ISERROR(VLOOKUP($E172,氏名ﾃﾞｰﾀ!$B:$J,4,0)),IF(ISERROR(VLOOKUP($E172,新規登録!$B:$I,4,0)),\"未登録\",VLOOKUP($E172,新規登録!$B:$I,4,0)),(VLOOKUP($E172,氏名ﾃﾞｰﾀ!$B:$J,4,0))))","v":""},{"$f":"IF($E172=\"\",\"\",IF(ISERROR(VLOOKUP($E172,氏名ﾃﾞｰﾀ!$B:$J,5,0)),IF(ISERROR(VLOOKUP($E172,新規登録!$B:$I,5,0)),\"未登録\",VLOOKUP($E172,新規登録!$B:$I,5,0)),(VLOOKUP($E172,氏名ﾃﾞｰﾀ!$B:$J,5,0))))","v":""},{"$f":"IF($E172=\"\",\"\",IF(ISERROR(VLOOKUP($E172,氏名ﾃﾞｰﾀ!$B:$J,8,0)),IF(ISERROR(VLOOKUP($E172,新規登録!$B:$I,6,0)),\"未登録\",VLOOKUP($E172,新規登録!$B:$I,6,0)),(VLOOKUP($E172,氏名ﾃﾞｰﾀ!$B:$J,8,0))))","v":""},{"$f":"IF($E172=\"\",\"\",IF(ISERROR(VLOOKUP($E172,氏名ﾃﾞｰﾀ!$B:$J,7,0)),IF(ISERROR(VLOOKUP($E172,新規登録!$B:$I,7,0)),\"未登録\",VLOOKUP($E172,新規登録!$B:$I,7,0)),$G$3))","v":""},{"$f":"IF($E172=\"\",\"\",IF(ISERROR(VLOOKUP($E172,氏名ﾃﾞｰﾀ!$B:$J,6,0)),IF(ISERROR(VLOOKUP($E172,新規登録!$B:$I,8,0)),\"ﾅｼ\",VLOOKUP($E172,新規登録!$B:$I,8,0)),(VLOOKUP($E172,氏名ﾃﾞｰﾀ!$B:$J,6,0))))","v":""},{"$f":"IF($E172=\"\",\"\",IF(ISERROR(VLOOKUP($E172,氏名ﾃﾞｰﾀ!$B:$J,9,0)),IF(ISERROR(VLOOKUP($E172,新規登録!$B:$I,9,0)),\"未登録\",VLOOKUP($E172,新規登録!$B:$I,9,0)),(VLOOKUP($E172,氏名ﾃﾞｰﾀ!$B:$J,9,0))))","v":""},null,null,null,null,null,null,null,null,null,null,null,null,null,null,null,null,null,null,null,null,2,{"$f":"IF(N172=\"\",\"\",VLOOKUP(N172,ﾃﾞｰﾀ!A:D,4,0))","v":""},"秒","秒"]
["","",{"$f":"IF(E173=\"\",\"\",IF(AH173=1,COUNTIF(AH$16:AH173,1)*10+2001-10,COUNTIF(AH$16:AH173,2)*10+6001-10))","v":""},158,null,{"$f":"IF($E173=\"\",\"\",IF(ISERROR(VLOOKUP($E173,氏名ﾃﾞｰﾀ!$B:$J,2,0)),IF(ISERROR(VLOOKUP($E173,新規登録!$B:$I,2,0)),\"未登録\",VLOOKUP($E173,新規登録!$B:$I,2,0)),(VLOOKUP($E173,氏名ﾃﾞｰﾀ!$B:$J,2,0))))","v":""},{"$f":"IF($E173=\"\",\"\",IF(ISERROR(VLOOKUP($E173,氏名ﾃﾞｰﾀ!$B:$J,3,0)),IF(ISERROR(VLOOKUP($E173,新規登録!$B:$I,3,0)),\"未登録\",VLOOKUP($E173,新規登録!$B:$I,3,0)),(VLOOKUP($E173,氏名ﾃﾞｰﾀ!$B:$J,3,0))))","v":""},{"$f":"IF($E173=\"\",\"\",IF(ISERROR(VLOOKUP($E173,氏名ﾃﾞｰﾀ!$B:$J,4,0)),IF(ISERROR(VLOOKUP($E173,新規登録!$B:$I,4,0)),\"未登録\",VLOOKUP($E173,新規登録!$B:$I,4,0)),(VLOOKUP($E173,氏名ﾃﾞｰﾀ!$B:$J,4,0))))","v":""},{"$f":"IF($E173=\"\",\"\",IF(ISERROR(VLOOKUP($E173,氏名ﾃﾞｰﾀ!$B:$J,5,0)),IF(ISERROR(VLOOKUP($E173,新規登録!$B:$I,5,0)),\"未登録\",VLOOKUP($E173,新規登録!$B:$I,5,0)),(VLOOKUP($E173,氏名ﾃﾞｰﾀ!$B:$J,5,0))))","v":""},{"$f":"IF($E173=\"\",\"\",IF(ISERROR(VLOOKUP($E173,氏名ﾃﾞｰﾀ!$B:$J,8,0)),IF(ISERROR(VLOOKUP($E173,新規登録!$B:$I,6,0)),\"未登録\",VLOOKUP($E173,新規登録!$B:$I,6,0)),(VLOOKUP($E173,氏名ﾃﾞｰﾀ!$B:$J,8,0))))","v":""},{"$f":"IF($E173=\"\",\"\",IF(ISERROR(VLOOKUP($E173,氏名ﾃﾞｰﾀ!$B:$J,7,0)),IF(ISERROR(VLOOKUP($E173,新規登録!$B:$I,7,0)),\"未登録\",VLOOKUP($E173,新規登録!$B:$I,7,0)),$G$3))","v":""},{"$f":"IF($E173=\"\",\"\",IF(ISERROR(VLOOKUP($E173,氏名ﾃﾞｰﾀ!$B:$J,6,0)),IF(ISERROR(VLOOKUP($E173,新規登録!$B:$I,8,0)),\"ﾅｼ\",VLOOKUP($E173,新規登録!$B:$I,8,0)),(VLOOKUP($E173,氏名ﾃﾞｰﾀ!$B:$J,6,0))))","v":""},{"$f":"IF($E173=\"\",\"\",IF(ISERROR(VLOOKUP($E173,氏名ﾃﾞｰﾀ!$B:$J,9,0)),IF(ISERROR(VLOOKUP($E173,新規登録!$B:$I,9,0)),\"未登録\",VLOOKUP($E173,新規登録!$B:$I,9,0)),(VLOOKUP($E173,氏名ﾃﾞｰﾀ!$B:$J,9,0))))","v":""},null,null,null,null,null,null,null,null,null,null,null,null,null,null,null,null,null,null,null,null,2,{"$f":"IF(N173=\"\",\"\",VLOOKUP(N173,ﾃﾞｰﾀ!A:D,4,0))","v":""},"秒","秒"]
["","",{"$f":"IF(E174=\"\",\"\",IF(AH174=1,COUNTIF(AH$16:AH174,1)*10+2001-10,COUNTIF(AH$16:AH174,2)*10+6001-10))","v":""},159,null,{"$f":"IF($E174=\"\",\"\",IF(ISERROR(VLOOKUP($E174,氏名ﾃﾞｰﾀ!$B:$J,2,0)),IF(ISERROR(VLOOKUP($E174,新規登録!$B:$I,2,0)),\"未登録\",VLOOKUP($E174,新規登録!$B:$I,2,0)),(VLOOKUP($E174,氏名ﾃﾞｰﾀ!$B:$J,2,0))))","v":""},{"$f":"IF($E174=\"\",\"\",IF(ISERROR(VLOOKUP($E174,氏名ﾃﾞｰﾀ!$B:$J,3,0)),IF(ISERROR(VLOOKUP($E174,新規登録!$B:$I,3,0)),\"未登録\",VLOOKUP($E174,新規登録!$B:$I,3,0)),(VLOOKUP($E174,氏名ﾃﾞｰﾀ!$B:$J,3,0))))","v":""},{"$f":"IF($E174=\"\",\"\",IF(ISERROR(VLOOKUP($E174,氏名ﾃﾞｰﾀ!$B:$J,4,0)),IF(ISERROR(VLOOKUP($E174,新規登録!$B:$I,4,0)),\"未登録\",VLOOKUP($E174,新規登録!$B:$I,4,0)),(VLOOKUP($E174,氏名ﾃﾞｰﾀ!$B:$J,4,0))))","v":""},{"$f":"IF($E174=\"\",\"\",IF(ISERROR(VLOOKUP($E174,氏名ﾃﾞｰﾀ!$B:$J,5,0)),IF(ISERROR(VLOOKUP($E174,新規登録!$B:$I,5,0)),\"未登録\",VLOOKUP($E174,新規登録!$B:$I,5,0)),(VLOOKUP($E174,氏名ﾃﾞｰﾀ!$B:$J,5,0))))","v":""},{"$f":"IF($E174=\"\",\"\",IF(ISERROR(VLOOKUP($E174,氏名ﾃﾞｰﾀ!$B:$J,8,0)),IF(ISERROR(VLOOKUP($E174,新規登録!$B:$I,6,0)),\"未登録\",VLOOKUP($E174,新規登録!$B:$I,6,0)),(VLOOKUP($E174,氏名ﾃﾞｰﾀ!$B:$J,8,0))))","v":""},{"$f":"IF($E174=\"\",\"\",IF(ISERROR(VLOOKUP($E174,氏名ﾃﾞｰﾀ!$B:$J,7,0)),IF(ISERROR(VLOOKUP($E174,新規登録!$B:$I,7,0)),\"未登録\",VLOOKUP($E174,新規登録!$B:$I,7,0)),$G$3))","v":""},{"$f":"IF($E174=\"\",\"\",IF(ISERROR(VLOOKUP($E174,氏名ﾃﾞｰﾀ!$B:$J,6,0)),IF(ISERROR(VLOOKUP($E174,新規登録!$B:$I,8,0)),\"ﾅｼ\",VLOOKUP($E174,新規登録!$B:$I,8,0)),(VLOOKUP($E174,氏名ﾃﾞｰﾀ!$B:$J,6,0))))","v":""},{"$f":"IF($E174=\"\",\"\",IF(ISERROR(VLOOKUP($E174,氏名ﾃﾞｰﾀ!$B:$J,9,0)),IF(ISERROR(VLOOKUP($E174,新規登録!$B:$I,9,0)),\"未登録\",VLOOKUP($E174,新規登録!$B:$I,9,0)),(VLOOKUP($E174,氏名ﾃﾞｰﾀ!$B:$J,9,0))))","v":""},null,null,null,null,null,null,null,null,null,null,null,null,null,null,null,null,null,null,null,null,2,{"$f":"IF(N174=\"\",\"\",VLOOKUP(N174,ﾃﾞｰﾀ!A:D,4,0))","v":""},"秒","秒"]
["","",{"$f":"IF(E175=\"\",\"\",IF(AH175=1,COUNTIF(AH$16:AH175,1)*10+2001-10,COUNTIF(AH$16:AH175,2)*10+6001-10))","v":""},160,null,{"$f":"IF($E175=\"\",\"\",IF(ISERROR(VLOOKUP($E175,氏名ﾃﾞｰﾀ!$B:$J,2,0)),IF(ISERROR(VLOOKUP($E175,新規登録!$B:$I,2,0)),\"未登録\",VLOOKUP($E175,新規登録!$B:$I,2,0)),(VLOOKUP($E175,氏名ﾃﾞｰﾀ!$B:$J,2,0))))","v":""},{"$f":"IF($E175=\"\",\"\",IF(ISERROR(VLOOKUP($E175,氏名ﾃﾞｰﾀ!$B:$J,3,0)),IF(ISERROR(VLOOKUP($E175,新規登録!$B:$I,3,0)),\"未登録\",VLOOKUP($E175,新規登録!$B:$I,3,0)),(VLOOKUP($E175,氏名ﾃﾞｰﾀ!$B:$J,3,0))))","v":""},{"$f":"IF($E175=\"\",\"\",IF(ISERROR(VLOOKUP($E175,氏名ﾃﾞｰﾀ!$B:$J,4,0)),IF(ISERROR(VLOOKUP($E175,新規登録!$B:$I,4,0)),\"未登録\",VLOOKUP($E175,新規登録!$B:$I,4,0)),(VLOOKUP($E175,氏名ﾃﾞｰﾀ!$B:$J,4,0))))","v":""},{"$f":"IF($E175=\"\",\"\",IF(ISERROR(VLOOKUP($E175,氏名ﾃﾞｰﾀ!$B:$J,5,0)),IF(ISERROR(VLOOKUP($E175,新規登録!$B:$I,5,0)),\"未登録\",VLOOKUP($E175,新規登録!$B:$I,5,0)),(VLOOKUP($E175,氏名ﾃﾞｰﾀ!$B:$J,5,0))))","v":""},{"$f":"IF($E175=\"\",\"\",IF(ISERROR(VLOOKUP($E175,氏名ﾃﾞｰﾀ!$B:$J,8,0)),IF(ISERROR(VLOOKUP($E175,新規登録!$B:$I,6,0)),\"未登録\",VLOOKUP($E175,新規登録!$B:$I,6,0)),(VLOOKUP($E175,氏名ﾃﾞｰﾀ!$B:$J,8,0))))","v":""},{"$f":"IF($E175=\"\",\"\",IF(ISERROR(VLOOKUP($E175,氏名ﾃﾞｰﾀ!$B:$J,7,0)),IF(ISERROR(VLOOKUP($E175,新規登録!$B:$I,7,0)),\"未登録\",VLOOKUP($E175,新規登録!$B:$I,7,0)),$G$3))","v":""},{"$f":"IF($E175=\"\",\"\",IF(ISERROR(VLOOKUP($E175,氏名ﾃﾞｰﾀ!$B:$J,6,0)),IF(ISERROR(VLOOKUP($E175,新規登録!$B:$I,8,0)),\"ﾅｼ\",VLOOKUP($E175,新規登録!$B:$I,8,0)),(VLOOKUP($E175,氏名ﾃﾞｰﾀ!$B:$J,6,0))))","v":""},{"$f":"IF($E175=\"\",\"\",IF(ISERROR(VLOOKUP($E175,氏名ﾃﾞｰﾀ!$B:$J,9,0)),IF(ISERROR(VLOOKUP($E175,新規登録!$B:$I,9,0)),\"未登録\",VLOOKUP($E175,新規登録!$B:$I,9,0)),(VLOOKUP($E175,氏名ﾃﾞｰﾀ!$B:$J,9,0))))","v":""},null,null,null,null,null,null,null,null,null,null,null,null,null,null,null,null,null,null,null,null,2,{"$f":"IF(N175=\"\",\"\",VLOOKUP(N175,ﾃﾞｰﾀ!A:D,4,0))","v":""},"秒","秒"]
[{"$f":"IF(Z176=\"\",\"\",IF(L176=\"男\",VLOOKUP(Z176,ﾘﾚｰｺｰﾄﾞ,2,0),VLOOKUP(Z176,ﾘﾚｰｺｰﾄﾞ,4,0)))","v":""},{"$f":"IF(AD176=\"\",\"\",IF(L176=\"男\",VLOOKUP(AD176,ﾘﾚｰｺｰﾄﾞ,3,0),VLOOKUP(AD176,ﾘﾚｰｺｰﾄﾞ,5,0)))","v":""},{"$f":"IF(E176=\"\",\"\",IF(AH176=1,COUNTIF(AH$16:AH176,1)*10+2001-10,COUNTIF(AH$16:AH176,2)*10+6001-10))","v":""},161,null,{"$f":"IF($E176=\"\",\"\",IF(ISERROR(VLOOKUP($E176,氏名ﾃﾞｰﾀ!$B:$J,2,0)),IF(ISERROR(VLOOKUP($E176,新規登録!$B:$I,2,0)),\"未登録\",VLOOKUP($E176,新規登録!$B:$I,2,0)),(VLOOKUP($E176,氏名ﾃﾞｰﾀ!$B:$J,2,0))))","v":""},{"$f":"IF($E176=\"\",\"\",IF(ISERROR(VLOOKUP($E176,氏名ﾃﾞｰﾀ!$B:$J,3,0)),IF(ISERROR(VLOOKUP($E176,新規登録!$B:$I,3,0)),\"未登録\",VLOOKUP($E176,新規登録!$B:$I,3,0)),(VLOOKUP($E176,氏名ﾃﾞｰﾀ!$B:$J,3,0))))","v":""},{"$f":"IF($E176=\"\",\"\",IF(ISERROR(VLOOKUP($E176,氏名ﾃﾞｰﾀ!$B:$J,4,0)),IF(ISERROR(VLOOKUP($E176,新規登録!$B:$I,4,0)),\"未登録\",VLOOKUP($E176,新規登録!$B:$I,4,0)),(VLOOKUP($E176,氏名ﾃﾞｰﾀ!$B:$J,4,0))))","v":""},{"$f":"IF($E176=\"\",\"\",IF(ISERROR(VLOOKUP($E176,氏名ﾃﾞｰﾀ!$B:$J,5,0)),IF(ISERROR(VLOOKUP($E176,新規登録!$B:$I,5,0)),\"未登録\",VLOOKUP($E176,新規登録!$B:$I,5,0)),(VLOOKUP($E176,氏名ﾃﾞｰﾀ!$B:$J,5,0))))","v":""},{"$f":"IF($E176=\"\",\"\",IF(ISERROR(VLOOKUP($E176,氏名ﾃﾞｰﾀ!$B:$J,8,0)),IF(ISERROR(VLOOKUP($E176,新規登録!$B:$I,6,0)),\"未登録\",VLOOKUP($E176,新規登録!$B:$I,6,0)),(VLOOKUP($E176,氏名ﾃﾞｰﾀ!$B:$J,8,0))))","v":""},{"$f":"IF($E176=\"\",\"\",IF(ISERROR(VLOOKUP($E176,氏名ﾃﾞｰﾀ!$B:$J,7,0)),IF(ISERROR(VLOOKUP($E176,新規登録!$B:$I,7,0)),\"未登録\",VLOOKUP($E176,新規登録!$B:$I,7,0)),$G$3))","v":""},{"$f":"IF($E176=\"\",\"\",IF(ISERROR(VLOOKUP($E176,氏名ﾃﾞｰﾀ!$B:$J,6,0)),IF(ISERROR(VLOOKUP($E176,新規登録!$B:$I,8,0)),\"ﾅｼ\",VLOOKUP($E176,新規登録!$B:$I,8,0)),(VLOOKUP($E176,氏名ﾃﾞｰﾀ!$B:$J,6,0))))","v":""},{"$f":"IF($E176=\"\",\"\",IF(ISERROR(VLOOKUP($E176,氏名ﾃﾞｰﾀ!$B:$J,9,0)),IF(ISERROR(VLOOKUP($E176,新規登録!$B:$I,9,0)),\"未登録\",VLOOKUP($E176,新規登録!$B:$I,9,0)),(VLOOKUP($E176,氏名ﾃﾞｰﾀ!$B:$J,9,0))))","v":""},null,null,null,null,null,null,null,null,null,null,null,null,null,null,null,null,null,null,null,null,{"$f":"IF(L176=\"男\",1,2)","v":2},{"$f":"IF(N176=\"\",\"\",VLOOKUP(N176,ﾃﾞｰﾀ!A:D,4,0))","v":""},"秒","秒"]
["","",{"$f":"IF(E177=\"\",\"\",IF(AH177=1,COUNTIF(AH$16:AH177,1)*10+2001-10,COUNTIF(AH$16:AH177,2)*10+6001-10))","v":""},162,null,{"$f":"IF($E177=\"\",\"\",IF(ISERROR(VLOOKUP($E177,氏名ﾃﾞｰﾀ!$B:$J,2,0)),IF(ISERROR(VLOOKUP($E177,新規登録!$B:$I,2,0)),\"未登録\",VLOOKUP($E177,新規登録!$B:$I,2,0)),(VLOOKUP($E177,氏名ﾃﾞｰﾀ!$B:$J,2,0))))","v":""},{"$f":"IF($E177=\"\",\"\",IF(ISERROR(VLOOKUP($E177,氏名ﾃﾞｰﾀ!$B:$J,3,0)),IF(ISERROR(VLOOKUP($E177,新規登録!$B:$I,3,0)),\"未登録\",VLOOKUP($E177,新規登録!$B:$I,3,0)),(VLOOKUP($E177,氏名ﾃﾞｰﾀ!$B:$J,3,0))))","v":""},{"$f":"IF($E177=\"\",\"\",IF(ISERROR(VLOOKUP($E177,氏名ﾃﾞｰﾀ!$B:$J,4,0)),IF(ISERROR(VLOOKUP($E177,新規登録!$B:$I,4,0)),\"未登録\",VLOOKUP($E177,新規登録!$B:$I,4,0)),(VLOOKUP($E177,氏名ﾃﾞｰﾀ!$B:$J,4,0))))","v":""},{"$f":"IF($E177=\"\",\"\",IF(ISERROR(VLOOKUP($E177,氏名ﾃﾞｰﾀ!$B:$J,5,0)),IF(ISERROR(VLOOKUP($E177,新規登録!$B:$I,5,0)),\"未登録\",VLOOKUP($E177,新規登録!$B:$I,5,0)),(VLOOKUP($E177,氏名ﾃﾞｰﾀ!$B:$J,5,0))))","v":""},{"$f":"IF($E177=\"\",\"\",IF(ISERROR(VLOOKUP($E177,氏名ﾃﾞｰﾀ!$B:$J,8,0)),IF(ISERROR(VLOOKUP($E177,新規登録!$B:$I,6,0)),\"未登録\",VLOOKUP($E177,新規登録!$B:$I,6,0)),(VLOOKUP($E177,氏名ﾃﾞｰﾀ!$B:$J,8,0))))","v":""},{"$f":"IF($E177=\"\",\"\",IF(ISERROR(VLOOKUP($E177,氏名ﾃﾞｰﾀ!$B:$J,7,0)),IF(ISERROR(VLOOKUP($E177,新規登録!$B:$I,7,0)),\"未登録\",VLOOKUP($E177,新規登録!$B:$I,7,0)),$G$3))","v":""},{"$f":"IF($E177=\"\",\"\",IF(ISERROR(VLOOKUP($E177,氏名ﾃﾞｰﾀ!$B:$J,6,0)),IF(ISERROR(VLOOKUP($E177,新規登録!$B:$I,8,0)),\"ﾅｼ\",VLOOKUP($E177,新規登録!$B:$I,8,0)),(VLOOKUP($E177,氏名ﾃﾞｰﾀ!$B:$J,6,0))))","v":""},{"$f":"IF($E177=\"\",\"\",IF(ISERROR(VLOOKUP($E177,氏名ﾃﾞｰﾀ!$B:$J,9,0)),IF(ISERROR(VLOOKUP($E177,新規登録!$B:$I,9,0)),\"未登録\",VLOOKUP($E177,新規登録!$B:$I,9,0)),(VLOOKUP($E177,氏名ﾃﾞｰﾀ!$B:$J,9,0))))","v":""},null,null,null,null,null,null,null,null,null,null,null,null,null,null,null,null,null,null,null,null,2,{"$f":"IF(N177=\"\",\"\",VLOOKUP(N177,ﾃﾞｰﾀ!A:D,4,0))","v":""},"秒","秒"]
["","",{"$f":"IF(E178=\"\",\"\",IF(AH178=1,COUNTIF(AH$16:AH178,1)*10+2001-10,COUNTIF(AH$16:AH178,2)*10+6001-10))","v":""},163,null,{"$f":"IF($E178=\"\",\"\",IF(ISERROR(VLOOKUP($E178,氏名ﾃﾞｰﾀ!$B:$J,2,0)),IF(ISERROR(VLOOKUP($E178,新規登録!$B:$I,2,0)),\"未登録\",VLOOKUP($E178,新規登録!$B:$I,2,0)),(VLOOKUP($E178,氏名ﾃﾞｰﾀ!$B:$J,2,0))))","v":""},{"$f":"IF($E178=\"\",\"\",IF(ISERROR(VLOOKUP($E178,氏名ﾃﾞｰﾀ!$B:$J,3,0)),IF(ISERROR(VLOOKUP($E178,新規登録!$B:$I,3,0)),\"未登録\",VLOOKUP($E178,新規登録!$B:$I,3,0)),(VLOOKUP($E178,氏名ﾃﾞｰﾀ!$B:$J,3,0))))","v":""},{"$f":"IF($E178=\"\",\"\",IF(ISERROR(VLOOKUP($E178,氏名ﾃﾞｰﾀ!$B:$J,4,0)),IF(ISERROR(VLOOKUP($E178,新規登録!$B:$I,4,0)),\"未登録\",VLOOKUP($E178,新規登録!$B:$I,4,0)),(VLOOKUP($E178,氏名ﾃﾞｰﾀ!$B:$J,4,0))))","v":""},{"$f":"IF($E178=\"\",\"\",IF(ISERROR(VLOOKUP($E178,氏名ﾃﾞｰﾀ!$B:$J,5,0)),IF(ISERROR(VLOOKUP($E178,新規登録!$B:$I,5,0)),\"未登録\",VLOOKUP($E178,新規登録!$B:$I,5,0)),(VLOOKUP($E178,氏名ﾃﾞｰﾀ!$B:$J,5,0))))","v":""},{"$f":"IF($E178=\"\",\"\",IF(ISERROR(VLOOKUP($E178,氏名ﾃﾞｰﾀ!$B:$J,8,0)),IF(ISERROR(VLOOKUP($E178,新規登録!$B:$I,6,0)),\"未登録\",VLOOKUP($E178,新規登録!$B:$I,6,0)),(VLOOKUP($E178,氏名ﾃﾞｰﾀ!$B:$J,8,0))))","v":""},{"$f":"IF($E178=\"\",\"\",IF(ISERROR(VLOOKUP($E178,氏名ﾃﾞｰﾀ!$B:$J,7,0)),IF(ISERROR(VLOOKUP($E178,新規登録!$B:$I,7,0)),\"未登録\",VLOOKUP($E178,新規登録!$B:$I,7,0)),$G$3))","v":""},{"$f":"IF($E178=\"\",\"\",IF(ISERROR(VLOOKUP($E178,氏名ﾃﾞｰﾀ!$B:$J,6,0)),IF(ISERROR(VLOOKUP($E178,新規登録!$B:$I,8,0)),\"ﾅｼ\",VLOOKUP($E178,新規登録!$B:$I,8,0)),(VLOOKUP($E178,氏名ﾃﾞｰﾀ!$B:$J,6,0))))","v":""},{"$f":"IF($E178=\"\",\"\",IF(ISERROR(VLOOKUP($E178,氏名ﾃﾞｰﾀ!$B:$J,9,0)),IF(ISERROR(VLOOKUP($E178,新規登録!$B:$I,9,0)),\"未登録\",VLOOKUP($E178,新規登録!$B:$I,9,0)),(VLOOKUP($E178,氏名ﾃﾞｰﾀ!$B:$J,9,0))))","v":""},null,null,null,null,null,null,null,null,null,null,null,null,null,null,null,null,null,null,null,null,2,{"$f":"IF(N178=\"\",\"\",VLOOKUP(N178,ﾃﾞｰﾀ!A:D,4,0))","v":""},"秒","秒"]
["","",{"$f":"IF(E179=\"\",\"\",IF(AH179=1,COUNTIF(AH$16:AH179,1)*10+2001-10,COUNTIF(AH$16:AH179,2)*10+6001-10))","v":""},164,null,{"$f":"IF($E179=\"\",\"\",IF(ISERROR(VLOOKUP($E179,氏名ﾃﾞｰﾀ!$B:$J,2,0)),IF(ISERROR(VLOOKUP($E179,新規登録!$B:$I,2,0)),\"未登録\",VLOOKUP($E179,新規登録!$B:$I,2,0)),(VLOOKUP($E179,氏名ﾃﾞｰﾀ!$B:$J,2,0))))","v":""},{"$f":"IF($E179=\"\",\"\",IF(ISERROR(VLOOKUP($E179,氏名ﾃﾞｰﾀ!$B:$J,3,0)),IF(ISERROR(VLOOKUP($E179,新規登録!$B:$I,3,0)),\"未登録\",VLOOKUP($E179,新規登録!$B:$I,3,0)),(VLOOKUP($E179,氏名ﾃﾞｰﾀ!$B:$J,3,0))))","v":""},{"$f":"IF($E179=\"\",\"\",IF(ISERROR(VLOOKUP($E179,氏名ﾃﾞｰﾀ!$B:$J,4,0)),IF(ISERROR(VLOOKUP($E179,新規登録!$B:$I,4,0)),\"未登録\",VLOOKUP($E179,新規登録!$B:$I,4,0)),(VLOOKUP($E179,氏名ﾃﾞｰﾀ!$B:$J,4,0))))","v":""},{"$f":"IF($E179=\"\",\"\",IF(ISERROR(VLOOKUP($E179,氏名ﾃﾞｰﾀ!$B:$J,5,0)),IF(ISERROR(VLOOKUP($E179,新規登録!$B:$I,5,0)),\"未登録\",VLOOKUP($E179,新規登録!$B:$I,5,0)),(VLOOKUP($E179,氏名ﾃﾞｰﾀ!$B:$J,5,0))))","v":""},{"$f":"IF($E179=\"\",\"\",IF(ISERROR(VLOOKUP($E179,氏名ﾃﾞｰﾀ!$B:$J,8,0)),IF(ISERROR(VLOOKUP($E179,新規登録!$B:$I,6,0)),\"未登録\",VLOOKUP($E179,新規登録!$B:$I,6,0)),(VLOOKUP($E179,氏名ﾃﾞｰﾀ!$B:$J,8,0))))","v":""},{"$f":"IF($E179=\"\",\"\",IF(ISERROR(VLOOKUP($E179,氏名ﾃﾞｰﾀ!$B:$J,7,0)),IF(ISERROR(VLOOKUP($E179,新規登録!$B:$I,7,0)),\"未登録\",VLOOKUP($E179,新規登録!$B:$I,7,0)),$G$3))","v":""},{"$f":"IF($E179=\"\",\"\",IF(ISERROR(VLOOKUP($E179,氏名ﾃﾞｰﾀ!$B:$J,6,0)),IF(ISERROR(VLOOKUP($E179,新規登録!$B:$I,8,0)),\"ﾅｼ\",VLOOKUP($E179,新規登録!$B:$I,8,0)),(VLOOKUP($E179,氏名ﾃﾞｰﾀ!$B:$J,6,0))))","v":""},{"$f":"IF($E179=\"\",\"\",IF(ISERROR(VLOOKUP($E179,氏名ﾃﾞｰﾀ!$B:$J,9,0)),IF(ISERROR(VLOOKUP($E179,新規登録!$B:$I,9,0)),\"未登録\",VLOOKUP($E179,新規登録!$B:$I,9,0)),(VLOOKUP($E179,氏名ﾃﾞｰﾀ!$B:$J,9,0))))","v":""},null,null,null,null,null,null,null,null,null,null,null,null,null,null,null,null,null,null,null,null,2,{"$f":"IF(N179=\"\",\"\",VLOOKUP(N179,ﾃﾞｰﾀ!A:D,4,0))","v":""},"秒","秒"]
["","",{"$f":"IF(E180=\"\",\"\",IF(AH180=1,COUNTIF(AH$16:AH180,1)*10+2001-10,COUNTIF(AH$16:AH180,2)*10+6001-10))","v":""},165,null,{"$f":"IF($E180=\"\",\"\",IF(ISERROR(VLOOKUP($E180,氏名ﾃﾞｰﾀ!$B:$J,2,0)),IF(ISERROR(VLOOKUP($E180,新規登録!$B:$I,2,0)),\"未登録\",VLOOKUP($E180,新規登録!$B:$I,2,0)),(VLOOKUP($E180,氏名ﾃﾞｰﾀ!$B:$J,2,0))))","v":""},{"$f":"IF($E180=\"\",\"\",IF(ISERROR(VLOOKUP($E180,氏名ﾃﾞｰﾀ!$B:$J,3,0)),IF(ISERROR(VLOOKUP($E180,新規登録!$B:$I,3,0)),\"未登録\",VLOOKUP($E180,新規登録!$B:$I,3,0)),(VLOOKUP($E180,氏名ﾃﾞｰﾀ!$B:$J,3,0))))","v":""},{"$f":"IF($E180=\"\",\"\",IF(ISERROR(VLOOKUP($E180,氏名ﾃﾞｰﾀ!$B:$J,4,0)),IF(ISERROR(VLOOKUP($E180,新規登録!$B:$I,4,0)),\"未登録\",VLOOKUP($E180,新規登録!$B:$I,4,0)),(VLOOKUP($E180,氏名ﾃﾞｰﾀ!$B:$J,4,0))))","v":""},{"$f":"IF($E180=\"\",\"\",IF(ISERROR(VLOOKUP($E180,氏名ﾃﾞｰﾀ!$B:$J,5,0)),IF(ISERROR(VLOOKUP($E180,新規登録!$B:$I,5,0)),\"未登録\",VLOOKUP($E180,新規登録!$B:$I,5,0)),(VLOOKUP($E180,氏名ﾃﾞｰﾀ!$B:$J,5,0))))","v":""},{"$f":"IF($E180=\"\",\"\",IF(ISERROR(VLOOKUP($E180,氏名ﾃﾞｰﾀ!$B:$J,8,0)),IF(ISERROR(VLOOKUP($E180,新規登録!$B:$I,6,0)),\"未登録\",VLOOKUP($E180,新規登録!$B:$I,6,0)),(VLOOKUP($E180,氏名ﾃﾞｰﾀ!$B:$J,8,0))))","v":""},{"$f":"IF($E180=\"\",\"\",IF(ISERROR(VLOOKUP($E180,氏名ﾃﾞｰﾀ!$B:$J,7,0)),IF(ISERROR(VLOOKUP($E180,新規登録!$B:$I,7,0)),\"未登録\",VLOOKUP($E180,新規登録!$B:$I,7,0)),$G$3))","v":""},{"$f":"IF($E180=\"\",\"\",IF(ISERROR(VLOOKUP($E180,氏名ﾃﾞｰﾀ!$B:$J,6,0)),IF(ISERROR(VLOOKUP($E180,新規登録!$B:$I,8,0)),\"ﾅｼ\",VLOOKUP($E180,新規登録!$B:$I,8,0)),(VLOOKUP($E180,氏名ﾃﾞｰﾀ!$B:$J,6,0))))","v":""},{"$f":"IF($E180=\"\",\"\",IF(ISERROR(VLOOKUP($E180,氏名ﾃﾞｰﾀ!$B:$J,9,0)),IF(ISERROR(VLOOKUP($E180,新規登録!$B:$I,9,0)),\"未登録\",VLOOKUP($E180,新規登録!$B:$I,9,0)),(VLOOKUP($E180,氏名ﾃﾞｰﾀ!$B:$J,9,0))))","v":""},null,null,null,null,null,null,null,null,null,null,null,null,null,null,null,null,null,null,null,null,2,{"$f":"IF(N180=\"\",\"\",VLOOKUP(N180,ﾃﾞｰﾀ!A:D,4,0))","v":""},"秒","秒"]
["","",{"$f":"IF(E181=\"\",\"\",IF(AH181=1,COUNTIF(AH$16:AH181,1)*10+2001-10,COUNTIF(AH$16:AH181,2)*10+6001-10))","v":""},166,null,{"$f":"IF($E181=\"\",\"\",IF(ISERROR(VLOOKUP($E181,氏名ﾃﾞｰﾀ!$B:$J,2,0)),IF(ISERROR(VLOOKUP($E181,新規登録!$B:$I,2,0)),\"未登録\",VLOOKUP($E181,新規登録!$B:$I,2,0)),(VLOOKUP($E181,氏名ﾃﾞｰﾀ!$B:$J,2,0))))","v":""},{"$f":"IF($E181=\"\",\"\",IF(ISERROR(VLOOKUP($E181,氏名ﾃﾞｰﾀ!$B:$J,3,0)),IF(ISERROR(VLOOKUP($E181,新規登録!$B:$I,3,0)),\"未登録\",VLOOKUP($E181,新規登録!$B:$I,3,0)),(VLOOKUP($E181,氏名ﾃﾞｰﾀ!$B:$J,3,0))))","v":""},{"$f":"IF($E181=\"\",\"\",IF(ISERROR(VLOOKUP($E181,氏名ﾃﾞｰﾀ!$B:$J,4,0)),IF(ISERROR(VLOOKUP($E181,新規登録!$B:$I,4,0)),\"未登録\",VLOOKUP($E181,新規登録!$B:$I,4,0)),(VLOOKUP($E181,氏名ﾃﾞｰﾀ!$B:$J,4,0))))","v":""},{"$f":"IF($E181=\"\",\"\",IF(ISERROR(VLOOKUP($E181,氏名ﾃﾞｰﾀ!$B:$J,5,0)),IF(ISERROR(VLOOKUP($E181,新規登録!$B:$I,5,0)),\"未登録\",VLOOKUP($E181,新規登録!$B:$I,5,0)),(VLOOKUP($E181,氏名ﾃﾞｰﾀ!$B:$J,5,0))))","v":""},{"$f":"IF($E181=\"\",\"\",IF(ISERROR(VLOOKUP($E181,氏名ﾃﾞｰﾀ!$B:$J,8,0)),IF(ISERROR(VLOOKUP($E181,新規登録!$B:$I,6,0)),\"未登録\",VLOOKUP($E181,新規登録!$B:$I,6,0)),(VLOOKUP($E181,氏名ﾃﾞｰﾀ!$B:$J,8,0))))","v":""},{"$f":"IF($E181=\"\",\"\",IF(ISERROR(VLOOKUP($E181,氏名ﾃﾞｰﾀ!$B:$J,7,0)),IF(ISERROR(VLOOKUP($E181,新規登録!$B:$I,7,0)),\"未登録\",VLOOKUP($E181,新規登録!$B:$I,7,0)),$G$3))","v":""},{"$f":"IF($E181=\"\",\"\",IF(ISERROR(VLOOKUP($E181,氏名ﾃﾞｰﾀ!$B:$J,6,0)),IF(ISERROR(VLOOKUP($E181,新規登録!$B:$I,8,0)),\"ﾅｼ\",VLOOKUP($E181,新規登録!$B:$I,8,0)),(VLOOKUP($E181,氏名ﾃﾞｰﾀ!$B:$J,6,0))))","v":""},{"$f":"IF($E181=\"\",\"\",IF(ISERROR(VLOOKUP($E181,氏名ﾃﾞｰﾀ!$B:$J,9,0)),IF(ISERROR(VLOOKUP($E181,新規登録!$B:$I,9,0)),\"未登録\",VLOOKUP($E181,新規登録!$B:$I,9,0)),(VLOOKUP($E181,氏名ﾃﾞｰﾀ!$B:$J,9,0))))","v":""},null,null,null,null,null,null,null,null,null,null,null,null,null,null,null,null,null,null,null,null,2,{"$f":"IF(N181=\"\",\"\",VLOOKUP(N181,ﾃﾞｰﾀ!A:D,4,0))","v":""},"秒","秒"]
["","",{"$f":"IF(E182=\"\",\"\",IF(AH182=1,COUNTIF(AH$16:AH182,1)*10+2001-10,COUNTIF(AH$16:AH182,2)*10+6001-10))","v":""},167,null,{"$f":"IF($E182=\"\",\"\",IF(ISERROR(VLOOKUP($E182,氏名ﾃﾞｰﾀ!$B:$J,2,0)),IF(ISERROR(VLOOKUP($E182,新規登録!$B:$I,2,0)),\"未登録\",VLOOKUP($E182,新規登録!$B:$I,2,0)),(VLOOKUP($E182,氏名ﾃﾞｰﾀ!$B:$J,2,0))))","v":""},{"$f":"IF($E182=\"\",\"\",IF(ISERROR(VLOOKUP($E182,氏名ﾃﾞｰﾀ!$B:$J,3,0)),IF(ISERROR(VLOOKUP($E182,新規登録!$B:$I,3,0)),\"未登録\",VLOOKUP($E182,新規登録!$B:$I,3,0)),(VLOOKUP($E182,氏名ﾃﾞｰﾀ!$B:$J,3,0))))","v":""},{"$f":"IF($E182=\"\",\"\",IF(ISERROR(VLOOKUP($E182,氏名ﾃﾞｰﾀ!$B:$J,4,0)),IF(ISERROR(VLOOKUP($E182,新規登録!$B:$I,4,0)),\"未登録\",VLOOKUP($E182,新規登録!$B:$I,4,0)),(VLOOKUP($E182,氏名ﾃﾞｰﾀ!$B:$J,4,0))))","v":""},{"$f":"IF($E182=\"\",\"\",IF(ISERROR(VLOOKUP($E182,氏名ﾃﾞｰﾀ!$B:$J,5,0)),IF(ISERROR(VLOOKUP($E182,新規登録!$B:$I,5,0)),\"未登録\",VLOOKUP($E182,新規登録!$B:$I,5,0)),(VLOOKUP($E182,氏名ﾃﾞｰﾀ!$B:$J,5,0))))","v":""},{"$f":"IF($E182=\"\",\"\",IF(ISERROR(VLOOKUP($E182,氏名ﾃﾞｰﾀ!$B:$J,8,0)),IF(ISERROR(VLOOKUP($E182,新規登録!$B:$I,6,0)),\"未登録\",VLOOKUP($E182,新規登録!$B:$I,6,0)),(VLOOKUP($E182,氏名ﾃﾞｰﾀ!$B:$J,8,0))))","v":""},{"$f":"IF($E182=\"\",\"\",IF(ISERROR(VLOOKUP($E182,氏名ﾃﾞｰﾀ!$B:$J,7,0)),IF(ISERROR(VLOOKUP($E182,新規登録!$B:$I,7,0)),\"未登録\",VLOOKUP($E182,新規登録!$B:$I,7,0)),$G$3))","v":""},{"$f":"IF($E182=\"\",\"\",IF(ISERROR(VLOOKUP($E182,氏名ﾃﾞｰﾀ!$B:$J,6,0)),IF(ISERROR(VLOOKUP($E182,新規登録!$B:$I,8,0)),\"ﾅｼ\",VLOOKUP($E182,新規登録!$B:$I,8,0)),(VLOOKUP($E182,氏名ﾃﾞｰﾀ!$B:$J,6,0))))","v":""},{"$f":"IF($E182=\"\",\"\",IF(ISERROR(VLOOKUP($E182,氏名ﾃﾞｰﾀ!$B:$J,9,0)),IF(ISERROR(VLOOKUP($E182,新規登録!$B:$I,9,0)),\"未登録\",VLOOKUP($E182,新規登録!$B:$I,9,0)),(VLOOKUP($E182,氏名ﾃﾞｰﾀ!$B:$J,9,0))))","v":""},null,null,null,null,null,null,null,null,null,null,null,null,null,null,null,null,null,null,null,null,2,{"$f":"IF(N182=\"\",\"\",VLOOKUP(N182,ﾃﾞｰﾀ!A:D,4,0))","v":""},"秒","秒"]
["","",{"$f":"IF(E183=\"\",\"\",IF(AH183=1,COUNTIF(AH$16:AH183,1)*10+2001-10,COUNTIF(AH$16:AH183,2)*10+6001-10))","v":""},168,null,{"$f":"IF($E183=\"\",\"\",IF(ISERROR(VLOOKUP($E183,氏名ﾃﾞｰﾀ!$B:$J,2,0)),IF(ISERROR(VLOOKUP($E183,新規登録!$B:$I,2,0)),\"未登録\",VLOOKUP($E183,新規登録!$B:$I,2,0)),(VLOOKUP($E183,氏名ﾃﾞｰﾀ!$B:$J,2,0))))","v":""},{"$f":"IF($E183=\"\",\"\",IF(ISERROR(VLOOKUP($E183,氏名ﾃﾞｰﾀ!$B:$J,3,0)),IF(ISERROR(VLOOKUP($E183,新規登録!$B:$I,3,0)),\"未登録\",VLOOKUP($E183,新規登録!$B:$I,3,0)),(VLOOKUP($E183,氏名ﾃﾞｰﾀ!$B:$J,3,0))))","v":""},{"$f":"IF($E183=\"\",\"\",IF(ISERROR(VLOOKUP($E183,氏名ﾃﾞｰﾀ!$B:$J,4,0)),IF(ISERROR(VLOOKUP($E183,新規登録!$B:$I,4,0)),\"未登録\",VLOOKUP($E183,新規登録!$B:$I,4,0)),(VLOOKUP($E183,氏名ﾃﾞｰﾀ!$B:$J,4,0))))","v":""},{"$f":"IF($E183=\"\",\"\",IF(ISERROR(VLOOKUP($E183,氏名ﾃﾞｰﾀ!$B:$J,5,0)),IF(ISERROR(VLOOKUP($E183,新規登録!$B:$I,5,0)),\"未登録\",VLOOKUP($E183,新規登録!$B:$I,5,0)),(VLOOKUP($E183,氏名ﾃﾞｰﾀ!$B:$J,5,0))))","v":""},{"$f":"IF($E183=\"\",\"\",IF(ISERROR(VLOOKUP($E183,氏名ﾃﾞｰﾀ!$B:$J,8,0)),IF(ISERROR(VLOOKUP($E183,新規登録!$B:$I,6,0)),\"未登録\",VLOOKUP($E183,新規登録!$B:$I,6,0)),(VLOOKUP($E183,氏名ﾃﾞｰﾀ!$B:$J,8,0))))","v":""},{"$f":"IF($E183=\"\",\"\",IF(ISERROR(VLOOKUP($E183,氏名ﾃﾞｰﾀ!$B:$J,7,0)),IF(ISERROR(VLOOKUP($E183,新規登録!$B:$I,7,0)),\"未登録\",VLOOKUP($E183,新規登録!$B:$I,7,0)),$G$3))","v":""},{"$f":"IF($E183=\"\",\"\",IF(ISERROR(VLOOKUP($E183,氏名ﾃﾞｰﾀ!$B:$J,6,0)),IF(ISERROR(VLOOKUP($E183,新規登録!$B:$I,8,0)),\"ﾅｼ\",VLOOKUP($E183,新規登録!$B:$I,8,0)),(VLOOKUP($E183,氏名ﾃﾞｰﾀ!$B:$J,6,0))))","v":""},{"$f":"IF($E183=\"\",\"\",IF(ISERROR(VLOOKUP($E183,氏名ﾃﾞｰﾀ!$B:$J,9,0)),IF(ISERROR(VLOOKUP($E183,新規登録!$B:$I,9,0)),\"未登録\",VLOOKUP($E183,新規登録!$B:$I,9,0)),(VLOOKUP($E183,氏名ﾃﾞｰﾀ!$B:$J,9,0))))","v":""},null,null,null,null,null,null,null,null,null,null,null,null,null,null,null,null,null,null,null,null,2,{"$f":"IF(N183=\"\",\"\",VLOOKUP(N183,ﾃﾞｰﾀ!A:D,4,0))","v":""},"秒","秒"]
["","",{"$f":"IF(E184=\"\",\"\",IF(AH184=1,COUNTIF(AH$16:AH184,1)*10+2001-10,COUNTIF(AH$16:AH184,2)*10+6001-10))","v":""},169,null,{"$f":"IF($E184=\"\",\"\",IF(ISERROR(VLOOKUP($E184,氏名ﾃﾞｰﾀ!$B:$J,2,0)),IF(ISERROR(VLOOKUP($E184,新規登録!$B:$I,2,0)),\"未登録\",VLOOKUP($E184,新規登録!$B:$I,2,0)),(VLOOKUP($E184,氏名ﾃﾞｰﾀ!$B:$J,2,0))))","v":""},{"$f":"IF($E184=\"\",\"\",IF(ISERROR(VLOOKUP($E184,氏名ﾃﾞｰﾀ!$B:$J,3,0)),IF(ISERROR(VLOOKUP($E184,新規登録!$B:$I,3,0)),\"未登録\",VLOOKUP($E184,新規登録!$B:$I,3,0)),(VLOOKUP($E184,氏名ﾃﾞｰﾀ!$B:$J,3,0))))","v":""},{"$f":"IF($E184=\"\",\"\",IF(ISERROR(VLOOKUP($E184,氏名ﾃﾞｰﾀ!$B:$J,4,0)),IF(ISERROR(VLOOKUP($E184,新規登録!$B:$I,4,0)),\"未登録\",VLOOKUP($E184,新規登録!$B:$I,4,0)),(VLOOKUP($E184,氏名ﾃﾞｰﾀ!$B:$J,4,0))))","v":""},{"$f":"IF($E184=\"\",\"\",IF(ISERROR(VLOOKUP($E184,氏名ﾃﾞｰﾀ!$B:$J,5,0)),IF(ISERROR(VLOOKUP($E184,新規登録!$B:$I,5,0)),\"未登録\",VLOOKUP($E184,新規登録!$B:$I,5,0)),(VLOOKUP($E184,氏名ﾃﾞｰﾀ!$B:$J,5,0))))","v":""},{"$f":"IF($E184=\"\",\"\",IF(ISERROR(VLOOKUP($E184,氏名ﾃﾞｰﾀ!$B:$J,8,0)),IF(ISERROR(VLOOKUP($E184,新規登録!$B:$I,6,0)),\"未登録\",VLOOKUP($E184,新規登録!$B:$I,6,0)),(VLOOKUP($E184,氏名ﾃﾞｰﾀ!$B:$J,8,0))))","v":""},{"$f":"IF($E184=\"\",\"\",IF(ISERROR(VLOOKUP($E184,氏名ﾃﾞｰﾀ!$B:$J,7,0)),IF(ISERROR(VLOOKUP($E184,新規登録!$B:$I,7,0)),\"未登録\",VLOOKUP($E184,新規登録!$B:$I,7,0)),$G$3))","v":""},{"$f":"IF($E184=\"\",\"\",IF(ISERROR(VLOOKUP($E184,氏名ﾃﾞｰﾀ!$B:$J,6,0)),IF(ISERROR(VLOOKUP($E184,新規登録!$B:$I,8,0)),\"ﾅｼ\",VLOOKUP($E184,新規登録!$B:$I,8,0)),(VLOOKUP($E184,氏名ﾃﾞｰﾀ!$B:$J,6,0))))","v":""},{"$f":"IF($E184=\"\",\"\",IF(ISERROR(VLOOKUP($E184,氏名ﾃﾞｰﾀ!$B:$J,9,0)),IF(ISERROR(VLOOKUP($E184,新規登録!$B:$I,9,0)),\"未登録\",VLOOKUP($E184,新規登録!$B:$I,9,0)),(VLOOKUP($E184,氏名ﾃﾞｰﾀ!$B:$J,9,0))))","v":""},null,null,null,null,null,null,null,null,null,null,null,null,null,null,null,null,null,null,null,null,2,{"$f":"IF(N184=\"\",\"\",VLOOKUP(N184,ﾃﾞｰﾀ!A:D,4,0))","v":""},"秒","秒"]
["","",{"$f":"IF(E185=\"\",\"\",IF(AH185=1,COUNTIF(AH$16:AH185,1)*10+2001-10,COUNTIF(AH$16:AH185,2)*10+6001-10))","v":""},170,null,{"$f":"IF($E185=\"\",\"\",IF(ISERROR(VLOOKUP($E185,氏名ﾃﾞｰﾀ!$B:$J,2,0)),IF(ISERROR(VLOOKUP($E185,新規登録!$B:$I,2,0)),\"未登録\",VLOOKUP($E185,新規登録!$B:$I,2,0)),(VLOOKUP($E185,氏名ﾃﾞｰﾀ!$B:$J,2,0))))","v":""},{"$f":"IF($E185=\"\",\"\",IF(ISERROR(VLOOKUP($E185,氏名ﾃﾞｰﾀ!$B:$J,3,0)),IF(ISERROR(VLOOKUP($E185,新規登録!$B:$I,3,0)),\"未登録\",VLOOKUP($E185,新規登録!$B:$I,3,0)),(VLOOKUP($E185,氏名ﾃﾞｰﾀ!$B:$J,3,0))))","v":""},{"$f":"IF($E185=\"\",\"\",IF(ISERROR(VLOOKUP($E185,氏名ﾃﾞｰﾀ!$B:$J,4,0)),IF(ISERROR(VLOOKUP($E185,新規登録!$B:$I,4,0)),\"未登録\",VLOOKUP($E185,新規登録!$B:$I,4,0)),(VLOOKUP($E185,氏名ﾃﾞｰﾀ!$B:$J,4,0))))","v":""},{"$f":"IF($E185=\"\",\"\",IF(ISERROR(VLOOKUP($E185,氏名ﾃﾞｰﾀ!$B:$J,5,0)),IF(ISERROR(VLOOKUP($E185,新規登録!$B:$I,5,0)),\"未登録\",VLOOKUP($E185,新規登録!$B:$I,5,0)),(VLOOKUP($E185,氏名ﾃﾞｰﾀ!$B:$J,5,0))))","v":""},{"$f":"IF($E185=\"\",\"\",IF(ISERROR(VLOOKUP($E185,氏名ﾃﾞｰﾀ!$B:$J,8,0)),IF(ISERROR(VLOOKUP($E185,新規登録!$B:$I,6,0)),\"未登録\",VLOOKUP($E185,新規登録!$B:$I,6,0)),(VLOOKUP($E185,氏名ﾃﾞｰﾀ!$B:$J,8,0))))","v":""},{"$f":"IF($E185=\"\",\"\",IF(ISERROR(VLOOKUP($E185,氏名ﾃﾞｰﾀ!$B:$J,7,0)),IF(ISERROR(VLOOKUP($E185,新規登録!$B:$I,7,0)),\"未登録\",VLOOKUP($E185,新規登録!$B:$I,7,0)),$G$3))","v":""},{"$f":"IF($E185=\"\",\"\",IF(ISERROR(VLOOKUP($E185,氏名ﾃﾞｰﾀ!$B:$J,6,0)),IF(ISERROR(VLOOKUP($E185,新規登録!$B:$I,8,0)),\"ﾅｼ\",VLOOKUP($E185,新規登録!$B:$I,8,0)),(VLOOKUP($E185,氏名ﾃﾞｰﾀ!$B:$J,6,0))))","v":""},{"$f":"IF($E185=\"\",\"\",IF(ISERROR(VLOOKUP($E185,氏名ﾃﾞｰﾀ!$B:$J,9,0)),IF(ISERROR(VLOOKUP($E185,新規登録!$B:$I,9,0)),\"未登録\",VLOOKUP($E185,新規登録!$B:$I,9,0)),(VLOOKUP($E185,氏名ﾃﾞｰﾀ!$B:$J,9,0))))","v":""},null,null,null,null,null,null,null,null,null,null,null,null,null,null,null,null,null,null,null,null,2,{"$f":"IF(N185=\"\",\"\",VLOOKUP(N185,ﾃﾞｰﾀ!A:D,4,0))","v":""},"秒","秒"]
["","",{"$f":"IF(E186=\"\",\"\",IF(AH186=1,COUNTIF(AH$16:AH186,1)*10+2001-10,COUNTIF(AH$16:AH186,2)*10+6001-10))","v":""},171,null,{"$f":"IF($E186=\"\",\"\",IF(ISERROR(VLOOKUP($E186,氏名ﾃﾞｰﾀ!$B:$J,2,0)),IF(ISERROR(VLOOKUP($E186,新規登録!$B:$I,2,0)),\"未登録\",VLOOKUP($E186,新規登録!$B:$I,2,0)),(VLOOKUP($E186,氏名ﾃﾞｰﾀ!$B:$J,2,0))))","v":""},{"$f":"IF($E186=\"\",\"\",IF(ISERROR(VLOOKUP($E186,氏名ﾃﾞｰﾀ!$B:$J,3,0)),IF(ISERROR(VLOOKUP($E186,新規登録!$B:$I,3,0)),\"未登録\",VLOOKUP($E186,新規登録!$B:$I,3,0)),(VLOOKUP($E186,氏名ﾃﾞｰﾀ!$B:$J,3,0))))","v":""},{"$f":"IF($E186=\"\",\"\",IF(ISERROR(VLOOKUP($E186,氏名ﾃﾞｰﾀ!$B:$J,4,0)),IF(ISERROR(VLOOKUP($E186,新規登録!$B:$I,4,0)),\"未登録\",VLOOKUP($E186,新規登録!$B:$I,4,0)),(VLOOKUP($E186,氏名ﾃﾞｰﾀ!$B:$J,4,0))))","v":""},{"$f":"IF($E186=\"\",\"\",IF(ISERROR(VLOOKUP($E186,氏名ﾃﾞｰﾀ!$B:$J,5,0)),IF(ISERROR(VLOOKUP($E186,新規登録!$B:$I,5,0)),\"未登録\",VLOOKUP($E186,新規登録!$B:$I,5,0)),(VLOOKUP($E186,氏名ﾃﾞｰﾀ!$B:$J,5,0))))","v":""},{"$f":"IF($E186=\"\",\"\",IF(ISERROR(VLOOKUP($E186,氏名ﾃﾞｰﾀ!$B:$J,8,0)),IF(ISERROR(VLOOKUP($E186,新規登録!$B:$I,6,0)),\"未登録\",VLOOKUP($E186,新規登録!$B:$I,6,0)),(VLOOKUP($E186,氏名ﾃﾞｰﾀ!$B:$J,8,0))))","v":""},{"$f":"IF($E186=\"\",\"\",IF(ISERROR(VLOOKUP($E186,氏名ﾃﾞｰﾀ!$B:$J,7,0)),IF(ISERROR(VLOOKUP($E186,新規登録!$B:$I,7,0)),\"未登録\",VLOOKUP($E186,新規登録!$B:$I,7,0)),$G$3))","v":""},{"$f":"IF($E186=\"\",\"\",IF(ISERROR(VLOOKUP($E186,氏名ﾃﾞｰﾀ!$B:$J,6,0)),IF(ISERROR(VLOOKUP($E186,新規登録!$B:$I,8,0)),\"ﾅｼ\",VLOOKUP($E186,新規登録!$B:$I,8,0)),(VLOOKUP($E186,氏名ﾃﾞｰﾀ!$B:$J,6,0))))","v":""},{"$f":"IF($E186=\"\",\"\",IF(ISERROR(VLOOKUP($E186,氏名ﾃﾞｰﾀ!$B:$J,9,0)),IF(ISERROR(VLOOKUP($E186,新規登録!$B:$I,9,0)),\"未登録\",VLOOKUP($E186,新規登録!$B:$I,9,0)),(VLOOKUP($E186,氏名ﾃﾞｰﾀ!$B:$J,9,0))))","v":""},null,null,null,null,null,null,null,null,null,null,null,null,null,null,null,null,null,null,null,null,2,{"$f":"IF(N186=\"\",\"\",VLOOKUP(N186,ﾃﾞｰﾀ!A:D,4,0))","v":""},"秒","秒"]
["","",{"$f":"IF(E187=\"\",\"\",IF(AH187=1,COUNTIF(AH$16:AH187,1)*10+2001-10,COUNTIF(AH$16:AH187,2)*10+6001-10))","v":""},172,null,{"$f":"IF($E187=\"\",\"\",IF(ISERROR(VLOOKUP($E187,氏名ﾃﾞｰﾀ!$B:$J,2,0)),IF(ISERROR(VLOOKUP($E187,新規登録!$B:$I,2,0)),\"未登録\",VLOOKUP($E187,新規登録!$B:$I,2,0)),(VLOOKUP($E187,氏名ﾃﾞｰﾀ!$B:$J,2,0))))","v":""},{"$f":"IF($E187=\"\",\"\",IF(ISERROR(VLOOKUP($E187,氏名ﾃﾞｰﾀ!$B:$J,3,0)),IF(ISERROR(VLOOKUP($E187,新規登録!$B:$I,3,0)),\"未登録\",VLOOKUP($E187,新規登録!$B:$I,3,0)),(VLOOKUP($E187,氏名ﾃﾞｰﾀ!$B:$J,3,0))))","v":""},{"$f":"IF($E187=\"\",\"\",IF(ISERROR(VLOOKUP($E187,氏名ﾃﾞｰﾀ!$B:$J,4,0)),IF(ISERROR(VLOOKUP($E187,新規登録!$B:$I,4,0)),\"未登録\",VLOOKUP($E187,新規登録!$B:$I,4,0)),(VLOOKUP($E187,氏名ﾃﾞｰﾀ!$B:$J,4,0))))","v":""},{"$f":"IF($E187=\"\",\"\",IF(ISERROR(VLOOKUP($E187,氏名ﾃﾞｰﾀ!$B:$J,5,0)),IF(ISERROR(VLOOKUP($E187,新規登録!$B:$I,5,0)),\"未登録\",VLOOKUP($E187,新規登録!$B:$I,5,0)),(VLOOKUP($E187,氏名ﾃﾞｰﾀ!$B:$J,5,0))))","v":""},{"$f":"IF($E187=\"\",\"\",IF(ISERROR(VLOOKUP($E187,氏名ﾃﾞｰﾀ!$B:$J,8,0)),IF(ISERROR(VLOOKUP($E187,新規登録!$B:$I,6,0)),\"未登録\",VLOOKUP($E187,新規登録!$B:$I,6,0)),(VLOOKUP($E187,氏名ﾃﾞｰﾀ!$B:$J,8,0))))","v":""},{"$f":"IF($E187=\"\",\"\",IF(ISERROR(VLOOKUP($E187,氏名ﾃﾞｰﾀ!$B:$J,7,0)),IF(ISERROR(VLOOKUP($E187,新規登録!$B:$I,7,0)),\"未登録\",VLOOKUP($E187,新規登録!$B:$I,7,0)),$G$3))","v":""},{"$f":"IF($E187=\"\",\"\",IF(ISERROR(VLOOKUP($E187,氏名ﾃﾞｰﾀ!$B:$J,6,0)),IF(ISERROR(VLOOKUP($E187,新規登録!$B:$I,8,0)),\"ﾅｼ\",VLOOKUP($E187,新規登録!$B:$I,8,0)),(VLOOKUP($E187,氏名ﾃﾞｰﾀ!$B:$J,6,0))))","v":""},{"$f":"IF($E187=\"\",\"\",IF(ISERROR(VLOOKUP($E187,氏名ﾃﾞｰﾀ!$B:$J,9,0)),IF(ISERROR(VLOOKUP($E187,新規登録!$B:$I,9,0)),\"未登録\",VLOOKUP($E187,新規登録!$B:$I,9,0)),(VLOOKUP($E187,氏名ﾃﾞｰﾀ!$B:$J,9,0))))","v":""},null,null,null,null,null,null,null,null,null,null,null,null,null,null,null,null,null,null,null,null,2,{"$f":"IF(N187=\"\",\"\",VLOOKUP(N187,ﾃﾞｰﾀ!A:D,4,0))","v":""},"秒","秒"]
["","",{"$f":"IF(E188=\"\",\"\",IF(AH188=1,COUNTIF(AH$16:AH188,1)*10+2001-10,COUNTIF(AH$16:AH188,2)*10+6001-10))","v":""},173,null,{"$f":"IF($E188=\"\",\"\",IF(ISERROR(VLOOKUP($E188,氏名ﾃﾞｰﾀ!$B:$J,2,0)),IF(ISERROR(VLOOKUP($E188,新規登録!$B:$I,2,0)),\"未登録\",VLOOKUP($E188,新規登録!$B:$I,2,0)),(VLOOKUP($E188,氏名ﾃﾞｰﾀ!$B:$J,2,0))))","v":""},{"$f":"IF($E188=\"\",\"\",IF(ISERROR(VLOOKUP($E188,氏名ﾃﾞｰﾀ!$B:$J,3,0)),IF(ISERROR(VLOOKUP($E188,新規登録!$B:$I,3,0)),\"未登録\",VLOOKUP($E188,新規登録!$B:$I,3,0)),(VLOOKUP($E188,氏名ﾃﾞｰﾀ!$B:$J,3,0))))","v":""},{"$f":"IF($E188=\"\",\"\",IF(ISERROR(VLOOKUP($E188,氏名ﾃﾞｰﾀ!$B:$J,4,0)),IF(ISERROR(VLOOKUP($E188,新規登録!$B:$I,4,0)),\"未登録\",VLOOKUP($E188,新規登録!$B:$I,4,0)),(VLOOKUP($E188,氏名ﾃﾞｰﾀ!$B:$J,4,0))))","v":""},{"$f":"IF($E188=\"\",\"\",IF(ISERROR(VLOOKUP($E188,氏名ﾃﾞｰﾀ!$B:$J,5,0)),IF(ISERROR(VLOOKUP($E188,新規登録!$B:$I,5,0)),\"未登録\",VLOOKUP($E188,新規登録!$B:$I,5,0)),(VLOOKUP($E188,氏名ﾃﾞｰﾀ!$B:$J,5,0))))","v":""},{"$f":"IF($E188=\"\",\"\",IF(ISERROR(VLOOKUP($E188,氏名ﾃﾞｰﾀ!$B:$J,8,0)),IF(ISERROR(VLOOKUP($E188,新規登録!$B:$I,6,0)),\"未登録\",VLOOKUP($E188,新規登録!$B:$I,6,0)),(VLOOKUP($E188,氏名ﾃﾞｰﾀ!$B:$J,8,0))))","v":""},{"$f":"IF($E188=\"\",\"\",IF(ISERROR(VLOOKUP($E188,氏名ﾃﾞｰﾀ!$B:$J,7,0)),IF(ISERROR(VLOOKUP($E188,新規登録!$B:$I,7,0)),\"未登録\",VLOOKUP($E188,新規登録!$B:$I,7,0)),$G$3))","v":""},{"$f":"IF($E188=\"\",\"\",IF(ISERROR(VLOOKUP($E188,氏名ﾃﾞｰﾀ!$B:$J,6,0)),IF(ISERROR(VLOOKUP($E188,新規登録!$B:$I,8,0)),\"ﾅｼ\",VLOOKUP($E188,新規登録!$B:$I,8,0)),(VLOOKUP($E188,氏名ﾃﾞｰﾀ!$B:$J,6,0))))","v":""},{"$f":"IF($E188=\"\",\"\",IF(ISERROR(VLOOKUP($E188,氏名ﾃﾞｰﾀ!$B:$J,9,0)),IF(ISERROR(VLOOKUP($E188,新規登録!$B:$I,9,0)),\"未登録\",VLOOKUP($E188,新規登録!$B:$I,9,0)),(VLOOKUP($E188,氏名ﾃﾞｰﾀ!$B:$J,9,0))))","v":""},null,null,null,null,null,null,null,null,null,null,null,null,null,null,null,null,null,null,null,null,2,{"$f":"IF(N188=\"\",\"\",VLOOKUP(N188,ﾃﾞｰﾀ!A:D,4,0))","v":""},"秒","秒"]
["","",{"$f":"IF(E189=\"\",\"\",IF(AH189=1,COUNTIF(AH$16:AH189,1)*10+2001-10,COUNTIF(AH$16:AH189,2)*10+6001-10))","v":""},174,null,{"$f":"IF($E189=\"\",\"\",IF(ISERROR(VLOOKUP($E189,氏名ﾃﾞｰﾀ!$B:$J,2,0)),IF(ISERROR(VLOOKUP($E189,新規登録!$B:$I,2,0)),\"未登録\",VLOOKUP($E189,新規登録!$B:$I,2,0)),(VLOOKUP($E189,氏名ﾃﾞｰﾀ!$B:$J,2,0))))","v":""},{"$f":"IF($E189=\"\",\"\",IF(ISERROR(VLOOKUP($E189,氏名ﾃﾞｰﾀ!$B:$J,3,0)),IF(ISERROR(VLOOKUP($E189,新規登録!$B:$I,3,0)),\"未登録\",VLOOKUP($E189,新規登録!$B:$I,3,0)),(VLOOKUP($E189,氏名ﾃﾞｰﾀ!$B:$J,3,0))))","v":""},{"$f":"IF($E189=\"\",\"\",IF(ISERROR(VLOOKUP($E189,氏名ﾃﾞｰﾀ!$B:$J,4,0)),IF(ISERROR(VLOOKUP($E189,新規登録!$B:$I,4,0)),\"未登録\",VLOOKUP($E189,新規登録!$B:$I,4,0)),(VLOOKUP($E189,氏名ﾃﾞｰﾀ!$B:$J,4,0))))","v":""},{"$f":"IF($E189=\"\",\"\",IF(ISERROR(VLOOKUP($E189,氏名ﾃﾞｰﾀ!$B:$J,5,0)),IF(ISERROR(VLOOKUP($E189,新規登録!$B:$I,5,0)),\"未登録\",VLOOKUP($E189,新規登録!$B:$I,5,0)),(VLOOKUP($E189,氏名ﾃﾞｰﾀ!$B:$J,5,0))))","v":""},{"$f":"IF($E189=\"\",\"\",IF(ISERROR(VLOOKUP($E189,氏名ﾃﾞｰﾀ!$B:$J,8,0)),IF(ISERROR(VLOOKUP($E189,新規登録!$B:$I,6,0)),\"未登録\",VLOOKUP($E189,新規登録!$B:$I,6,0)),(VLOOKUP($E189,氏名ﾃﾞｰﾀ!$B:$J,8,0))))","v":""},{"$f":"IF($E189=\"\",\"\",IF(ISERROR(VLOOKUP($E189,氏名ﾃﾞｰﾀ!$B:$J,7,0)),IF(ISERROR(VLOOKUP($E189,新規登録!$B:$I,7,0)),\"未登録\",VLOOKUP($E189,新規登録!$B:$I,7,0)),$G$3))","v":""},{"$f":"IF($E189=\"\",\"\",IF(ISERROR(VLOOKUP($E189,氏名ﾃﾞｰﾀ!$B:$J,6,0)),IF(ISERROR(VLOOKUP($E189,新規登録!$B:$I,8,0)),\"ﾅｼ\",VLOOKUP($E189,新規登録!$B:$I,8,0)),(VLOOKUP($E189,氏名ﾃﾞｰﾀ!$B:$J,6,0))))","v":""},{"$f":"IF($E189=\"\",\"\",IF(ISERROR(VLOOKUP($E189,氏名ﾃﾞｰﾀ!$B:$J,9,0)),IF(ISERROR(VLOOKUP($E189,新規登録!$B:$I,9,0)),\"未登録\",VLOOKUP($E189,新規登録!$B:$I,9,0)),(VLOOKUP($E189,氏名ﾃﾞｰﾀ!$B:$J,9,0))))","v":""},null,null,null,null,null,null,null,null,null,null,null,null,null,null,null,null,null,null,null,null,2,{"$f":"IF(N189=\"\",\"\",VLOOKUP(N189,ﾃﾞｰﾀ!A:D,4,0))","v":""},"秒","秒"]
["","",{"$f":"IF(E190=\"\",\"\",IF(AH190=1,COUNTIF(AH$16:AH190,1)*10+2001-10,COUNTIF(AH$16:AH190,2)*10+6001-10))","v":""},175,null,{"$f":"IF($E190=\"\",\"\",IF(ISERROR(VLOOKUP($E190,氏名ﾃﾞｰﾀ!$B:$J,2,0)),IF(ISERROR(VLOOKUP($E190,新規登録!$B:$I,2,0)),\"未登録\",VLOOKUP($E190,新規登録!$B:$I,2,0)),(VLOOKUP($E190,氏名ﾃﾞｰﾀ!$B:$J,2,0))))","v":""},{"$f":"IF($E190=\"\",\"\",IF(ISERROR(VLOOKUP($E190,氏名ﾃﾞｰﾀ!$B:$J,3,0)),IF(ISERROR(VLOOKUP($E190,新規登録!$B:$I,3,0)),\"未登録\",VLOOKUP($E190,新規登録!$B:$I,3,0)),(VLOOKUP($E190,氏名ﾃﾞｰﾀ!$B:$J,3,0))))","v":""},{"$f":"IF($E190=\"\",\"\",IF(ISERROR(VLOOKUP($E190,氏名ﾃﾞｰﾀ!$B:$J,4,0)),IF(ISERROR(VLOOKUP($E190,新規登録!$B:$I,4,0)),\"未登録\",VLOOKUP($E190,新規登録!$B:$I,4,0)),(VLOOKUP($E190,氏名ﾃﾞｰﾀ!$B:$J,4,0))))","v":""},{"$f":"IF($E190=\"\",\"\",IF(ISERROR(VLOOKUP($E190,氏名ﾃﾞｰﾀ!$B:$J,5,0)),IF(ISERROR(VLOOKUP($E190,新規登録!$B:$I,5,0)),\"未登録\",VLOOKUP($E190,新規登録!$B:$I,5,0)),(VLOOKUP($E190,氏名ﾃﾞｰﾀ!$B:$J,5,0))))","v":""},{"$f":"IF($E190=\"\",\"\",IF(ISERROR(VLOOKUP($E190,氏名ﾃﾞｰﾀ!$B:$J,8,0)),IF(ISERROR(VLOOKUP($E190,新規登録!$B:$I,6,0)),\"未登録\",VLOOKUP($E190,新規登録!$B:$I,6,0)),(VLOOKUP($E190,氏名ﾃﾞｰﾀ!$B:$J,8,0))))","v":""},{"$f":"IF($E190=\"\",\"\",IF(ISERROR(VLOOKUP($E190,氏名ﾃﾞｰﾀ!$B:$J,7,0)),IF(ISERROR(VLOOKUP($E190,新規登録!$B:$I,7,0)),\"未登録\",VLOOKUP($E190,新規登録!$B:$I,7,0)),$G$3))","v":""},{"$f":"IF($E190=\"\",\"\",IF(ISERROR(VLOOKUP($E190,氏名ﾃﾞｰﾀ!$B:$J,6,0)),IF(ISERROR(VLOOKUP($E190,新規登録!$B:$I,8,0)),\"ﾅｼ\",VLOOKUP($E190,新規登録!$B:$I,8,0)),(VLOOKUP($E190,氏名ﾃﾞｰﾀ!$B:$J,6,0))))","v":""},{"$f":"IF($E190=\"\",\"\",IF(ISERROR(VLOOKUP($E190,氏名ﾃﾞｰﾀ!$B:$J,9,0)),IF(ISERROR(VLOOKUP($E190,新規登録!$B:$I,9,0)),\"未登録\",VLOOKUP($E190,新規登録!$B:$I,9,0)),(VLOOKUP($E190,氏名ﾃﾞｰﾀ!$B:$J,9,0))))","v":""},null,null,null,null,null,null,null,null,null,null,null,null,null,null,null,null,null,null,null,null,2,{"$f":"IF(N190=\"\",\"\",VLOOKUP(N190,ﾃﾞｰﾀ!A:D,4,0))","v":""},"秒","秒"]
["","",{"$f":"IF(E191=\"\",\"\",IF(AH191=1,COUNTIF(AH$16:AH191,1)*10+2001-10,COUNTIF(AH$16:AH191,2)*10+6001-10))","v":""},176,null,{"$f":"IF($E191=\"\",\"\",IF(ISERROR(VLOOKUP($E191,氏名ﾃﾞｰﾀ!$B:$J,2,0)),IF(ISERROR(VLOOKUP($E191,新規登録!$B:$I,2,0)),\"未登録\",VLOOKUP($E191,新規登録!$B:$I,2,0)),(VLOOKUP($E191,氏名ﾃﾞｰﾀ!$B:$J,2,0))))","v":""},{"$f":"IF($E191=\"\",\"\",IF(ISERROR(VLOOKUP($E191,氏名ﾃﾞｰﾀ!$B:$J,3,0)),IF(ISERROR(VLOOKUP($E191,新規登録!$B:$I,3,0)),\"未登録\",VLOOKUP($E191,新規登録!$B:$I,3,0)),(VLOOKUP($E191,氏名ﾃﾞｰﾀ!$B:$J,3,0))))","v":""},{"$f":"IF($E191=\"\",\"\",IF(ISERROR(VLOOKUP($E191,氏名ﾃﾞｰﾀ!$B:$J,4,0)),IF(ISERROR(VLOOKUP($E191,新規登録!$B:$I,4,0)),\"未登録\",VLOOKUP($E191,新規登録!$B:$I,4,0)),(VLOOKUP($E191,氏名ﾃﾞｰﾀ!$B:$J,4,0))))","v":""},{"$f":"IF($E191=\"\",\"\",IF(ISERROR(VLOOKUP($E191,氏名ﾃﾞｰﾀ!$B:$J,5,0)),IF(ISERROR(VLOOKUP($E191,新規登録!$B:$I,5,0)),\"未登録\",VLOOKUP($E191,新規登録!$B:$I,5,0)),(VLOOKUP($E191,氏名ﾃﾞｰﾀ!$B:$J,5,0))))","v":""},{"$f":"IF($E191=\"\",\"\",IF(ISERROR(VLOOKUP($E191,氏名ﾃﾞｰﾀ!$B:$J,8,0)),IF(ISERROR(VLOOKUP($E191,新規登録!$B:$I,6,0)),\"未登録\",VLOOKUP($E191,新規登録!$B:$I,6,0)),(VLOOKUP($E191,氏名ﾃﾞｰﾀ!$B:$J,8,0))))","v":""},{"$f":"IF($E191=\"\",\"\",IF(ISERROR(VLOOKUP($E191,氏名ﾃﾞｰﾀ!$B:$J,7,0)),IF(ISERROR(VLOOKUP($E191,新規登録!$B:$I,7,0)),\"未登録\",VLOOKUP($E191,新規登録!$B:$I,7,0)),$G$3))","v":""},{"$f":"IF($E191=\"\",\"\",IF(ISERROR(VLOOKUP($E191,氏名ﾃﾞｰﾀ!$B:$J,6,0)),IF(ISERROR(VLOOKUP($E191,新規登録!$B:$I,8,0)),\"ﾅｼ\",VLOOKUP($E191,新規登録!$B:$I,8,0)),(VLOOKUP($E191,氏名ﾃﾞｰﾀ!$B:$J,6,0))))","v":""},{"$f":"IF($E191=\"\",\"\",IF(ISERROR(VLOOKUP($E191,氏名ﾃﾞｰﾀ!$B:$J,9,0)),IF(ISERROR(VLOOKUP($E191,新規登録!$B:$I,9,0)),\"未登録\",VLOOKUP($E191,新規登録!$B:$I,9,0)),(VLOOKUP($E191,氏名ﾃﾞｰﾀ!$B:$J,9,0))))","v":""},null,null,null,null,null,null,null,null,null,null,null,null,null,null,null,null,null,null,null,null,2,{"$f":"IF(N191=\"\",\"\",VLOOKUP(N191,ﾃﾞｰﾀ!A:D,4,0))","v":""},"秒","秒"]
["","",{"$f":"IF(E192=\"\",\"\",IF(AH192=1,COUNTIF(AH$16:AH192,1)*10+2001-10,COUNTIF(AH$16:AH192,2)*10+6001-10))","v":""},177,null,{"$f":"IF($E192=\"\",\"\",IF(ISERROR(VLOOKUP($E192,氏名ﾃﾞｰﾀ!$B:$J,2,0)),IF(ISERROR(VLOOKUP($E192,新規登録!$B:$I,2,0)),\"未登録\",VLOOKUP($E192,新規登録!$B:$I,2,0)),(VLOOKUP($E192,氏名ﾃﾞｰﾀ!$B:$J,2,0))))","v":""},{"$f":"IF($E192=\"\",\"\",IF(ISERROR(VLOOKUP($E192,氏名ﾃﾞｰﾀ!$B:$J,3,0)),IF(ISERROR(VLOOKUP($E192,新規登録!$B:$I,3,0)),\"未登録\",VLOOKUP($E192,新規登録!$B:$I,3,0)),(VLOOKUP($E192,氏名ﾃﾞｰﾀ!$B:$J,3,0))))","v":""},{"$f":"IF($E192=\"\",\"\",IF(ISERROR(VLOOKUP($E192,氏名ﾃﾞｰﾀ!$B:$J,4,0)),IF(ISERROR(VLOOKUP($E192,新規登録!$B:$I,4,0)),\"未登録\",VLOOKUP($E192,新規登録!$B:$I,4,0)),(VLOOKUP($E192,氏名ﾃﾞｰﾀ!$B:$J,4,0))))","v":""},{"$f":"IF($E192=\"\",\"\",IF(ISERROR(VLOOKUP($E192,氏名ﾃﾞｰﾀ!$B:$J,5,0)),IF(ISERROR(VLOOKUP($E192,新規登録!$B:$I,5,0)),\"未登録\",VLOOKUP($E192,新規登録!$B:$I,5,0)),(VLOOKUP($E192,氏名ﾃﾞｰﾀ!$B:$J,5,0))))","v":""},{"$f":"IF($E192=\"\",\"\",IF(ISERROR(VLOOKUP($E192,氏名ﾃﾞｰﾀ!$B:$J,8,0)),IF(ISERROR(VLOOKUP($E192,新規登録!$B:$I,6,0)),\"未登録\",VLOOKUP($E192,新規登録!$B:$I,6,0)),(VLOOKUP($E192,氏名ﾃﾞｰﾀ!$B:$J,8,0))))","v":""},{"$f":"IF($E192=\"\",\"\",IF(ISERROR(VLOOKUP($E192,氏名ﾃﾞｰﾀ!$B:$J,7,0)),IF(ISERROR(VLOOKUP($E192,新規登録!$B:$I,7,0)),\"未登録\",VLOOKUP($E192,新規登録!$B:$I,7,0)),$G$3))","v":""},{"$f":"IF($E192=\"\",\"\",IF(ISERROR(VLOOKUP($E192,氏名ﾃﾞｰﾀ!$B:$J,6,0)),IF(ISERROR(VLOOKUP($E192,新規登録!$B:$I,8,0)),\"ﾅｼ\",VLOOKUP($E192,新規登録!$B:$I,8,0)),(VLOOKUP($E192,氏名ﾃﾞｰﾀ!$B:$J,6,0))))","v":""},{"$f":"IF($E192=\"\",\"\",IF(ISERROR(VLOOKUP($E192,氏名ﾃﾞｰﾀ!$B:$J,9,0)),IF(ISERROR(VLOOKUP($E192,新規登録!$B:$I,9,0)),\"未登録\",VLOOKUP($E192,新規登録!$B:$I,9,0)),(VLOOKUP($E192,氏名ﾃﾞｰﾀ!$B:$J,9,0))))","v":""},null,null,null,null,null,null,null,null,null,null,null,null,null,null,null,null,null,null,null,null,2,{"$f":"IF(N192=\"\",\"\",VLOOKUP(N192,ﾃﾞｰﾀ!A:D,4,0))","v":""},"秒","秒"]
["","",{"$f":"IF(E193=\"\",\"\",IF(AH193=1,COUNTIF(AH$16:AH193,1)*10+2001-10,COUNTIF(AH$16:AH193,2)*10+6001-10))","v":""},178,null,{"$f":"IF($E193=\"\",\"\",IF(ISERROR(VLOOKUP($E193,氏名ﾃﾞｰﾀ!$B:$J,2,0)),IF(ISERROR(VLOOKUP($E193,新規登録!$B:$I,2,0)),\"未登録\",VLOOKUP($E193,新規登録!$B:$I,2,0)),(VLOOKUP($E193,氏名ﾃﾞｰﾀ!$B:$J,2,0))))","v":""},{"$f":"IF($E193=\"\",\"\",IF(ISERROR(VLOOKUP($E193,氏名ﾃﾞｰﾀ!$B:$J,3,0)),IF(ISERROR(VLOOKUP($E193,新規登録!$B:$I,3,0)),\"未登録\",VLOOKUP($E193,新規登録!$B:$I,3,0)),(VLOOKUP($E193,氏名ﾃﾞｰﾀ!$B:$J,3,0))))","v":""},{"$f":"IF($E193=\"\",\"\",IF(ISERROR(VLOOKUP($E193,氏名ﾃﾞｰﾀ!$B:$J,4,0)),IF(ISERROR(VLOOKUP($E193,新規登録!$B:$I,4,0)),\"未登録\",VLOOKUP($E193,新規登録!$B:$I,4,0)),(VLOOKUP($E193,氏名ﾃﾞｰﾀ!$B:$J,4,0))))","v":""},{"$f":"IF($E193=\"\",\"\",IF(ISERROR(VLOOKUP($E193,氏名ﾃﾞｰﾀ!$B:$J,5,0)),IF(ISERROR(VLOOKUP($E193,新規登録!$B:$I,5,0)),\"未登録\",VLOOKUP($E193,新規登録!$B:$I,5,0)),(VLOOKUP($E193,氏名ﾃﾞｰﾀ!$B:$J,5,0))))","v":""},{"$f":"IF($E193=\"\",\"\",IF(ISERROR(VLOOKUP($E193,氏名ﾃﾞｰﾀ!$B:$J,8,0)),IF(ISERROR(VLOOKUP($E193,新規登録!$B:$I,6,0)),\"未登録\",VLOOKUP($E193,新規登録!$B:$I,6,0)),(VLOOKUP($E193,氏名ﾃﾞｰﾀ!$B:$J,8,0))))","v":""},{"$f":"IF($E193=\"\",\"\",IF(ISERROR(VLOOKUP($E193,氏名ﾃﾞｰﾀ!$B:$J,7,0)),IF(ISERROR(VLOOKUP($E193,新規登録!$B:$I,7,0)),\"未登録\",VLOOKUP($E193,新規登録!$B:$I,7,0)),$G$3))","v":""},{"$f":"IF($E193=\"\",\"\",IF(ISERROR(VLOOKUP($E193,氏名ﾃﾞｰﾀ!$B:$J,6,0)),IF(ISERROR(VLOOKUP($E193,新規登録!$B:$I,8,0)),\"ﾅｼ\",VLOOKUP($E193,新規登録!$B:$I,8,0)),(VLOOKUP($E193,氏名ﾃﾞｰﾀ!$B:$J,6,0))))","v":""},{"$f":"IF($E193=\"\",\"\",IF(ISERROR(VLOOKUP($E193,氏名ﾃﾞｰﾀ!$B:$J,9,0)),IF(ISERROR(VLOOKUP($E193,新規登録!$B:$I,9,0)),\"未登録\",VLOOKUP($E193,新規登録!$B:$I,9,0)),(VLOOKUP($E193,氏名ﾃﾞｰﾀ!$B:$J,9,0))))","v":""},null,null,null,null,null,null,null,null,null,null,null,null,null,null,null,null,null,null,null,null,2,{"$f":"IF(N193=\"\",\"\",VLOOKUP(N193,ﾃﾞｰﾀ!A:D,4,0))","v":""},"秒","秒"]
["","",{"$f":"IF(E194=\"\",\"\",IF(AH194=1,COUNTIF(AH$16:AH194,1)*10+2001-10,COUNTIF(AH$16:AH194,2)*10+6001-10))","v":""},179,null,{"$f":"IF($E194=\"\",\"\",IF(ISERROR(VLOOKUP($E194,氏名ﾃﾞｰﾀ!$B:$J,2,0)),IF(ISERROR(VLOOKUP($E194,新規登録!$B:$I,2,0)),\"未登録\",VLOOKUP($E194,新規登録!$B:$I,2,0)),(VLOOKUP($E194,氏名ﾃﾞｰﾀ!$B:$J,2,0))))","v":""},{"$f":"IF($E194=\"\",\"\",IF(ISERROR(VLOOKUP($E194,氏名ﾃﾞｰﾀ!$B:$J,3,0)),IF(ISERROR(VLOOKUP($E194,新規登録!$B:$I,3,0)),\"未登録\",VLOOKUP($E194,新規登録!$B:$I,3,0)),(VLOOKUP($E194,氏名ﾃﾞｰﾀ!$B:$J,3,0))))","v":""},{"$f":"IF($E194=\"\",\"\",IF(ISERROR(VLOOKUP($E194,氏名ﾃﾞｰﾀ!$B:$J,4,0)),IF(ISERROR(VLOOKUP($E194,新規登録!$B:$I,4,0)),\"未登録\",VLOOKUP($E194,新規登録!$B:$I,4,0)),(VLOOKUP($E194,氏名ﾃﾞｰﾀ!$B:$J,4,0))))","v":""},{"$f":"IF($E194=\"\",\"\",IF(ISERROR(VLOOKUP($E194,氏名ﾃﾞｰﾀ!$B:$J,5,0)),IF(ISERROR(VLOOKUP($E194,新規登録!$B:$I,5,0)),\"未登録\",VLOOKUP($E194,新規登録!$B:$I,5,0)),(VLOOKUP($E194,氏名ﾃﾞｰﾀ!$B:$J,5,0))))","v":""},{"$f":"IF($E194=\"\",\"\",IF(ISERROR(VLOOKUP($E194,氏名ﾃﾞｰﾀ!$B:$J,8,0)),IF(ISERROR(VLOOKUP($E194,新規登録!$B:$I,6,0)),\"未登録\",VLOOKUP($E194,新規登録!$B:$I,6,0)),(VLOOKUP($E194,氏名ﾃﾞｰﾀ!$B:$J,8,0))))","v":""},{"$f":"IF($E194=\"\",\"\",IF(ISERROR(VLOOKUP($E194,氏名ﾃﾞｰﾀ!$B:$J,7,0)),IF(ISERROR(VLOOKUP($E194,新規登録!$B:$I,7,0)),\"未登録\",VLOOKUP($E194,新規登録!$B:$I,7,0)),$G$3))","v":""},{"$f":"IF($E194=\"\",\"\",IF(ISERROR(VLOOKUP($E194,氏名ﾃﾞｰﾀ!$B:$J,6,0)),IF(ISERROR(VLOOKUP($E194,新規登録!$B:$I,8,0)),\"ﾅｼ\",VLOOKUP($E194,新規登録!$B:$I,8,0)),(VLOOKUP($E194,氏名ﾃﾞｰﾀ!$B:$J,6,0))))","v":""},{"$f":"IF($E194=\"\",\"\",IF(ISERROR(VLOOKUP($E194,氏名ﾃﾞｰﾀ!$B:$J,9,0)),IF(ISERROR(VLOOKUP($E194,新規登録!$B:$I,9,0)),\"未登録\",VLOOKUP($E194,新規登録!$B:$I,9,0)),(VLOOKUP($E194,氏名ﾃﾞｰﾀ!$B:$J,9,0))))","v":""},null,null,null,null,null,null,null,null,null,null,null,null,null,null,null,null,null,null,null,null,2,{"$f":"IF(N194=\"\",\"\",VLOOKUP(N194,ﾃﾞｰﾀ!A:D,4,0))","v":""},"秒","秒"]
["","",{"$f":"IF(E195=\"\",\"\",IF(AH195=1,COUNTIF(AH$16:AH195,1)*10+2001-10,COUNTIF(AH$16:AH195,2)*10+6001-10))","v":""},180,null,{"$f":"IF($E195=\"\",\"\",IF(ISERROR(VLOOKUP($E195,氏名ﾃﾞｰﾀ!$B:$J,2,0)),IF(ISERROR(VLOOKUP($E195,新規登録!$B:$I,2,0)),\"未登録\",VLOOKUP($E195,新規登録!$B:$I,2,0)),(VLOOKUP($E195,氏名ﾃﾞｰﾀ!$B:$J,2,0))))","v":""},{"$f":"IF($E195=\"\",\"\",IF(ISERROR(VLOOKUP($E195,氏名ﾃﾞｰﾀ!$B:$J,3,0)),IF(ISERROR(VLOOKUP($E195,新規登録!$B:$I,3,0)),\"未登録\",VLOOKUP($E195,新規登録!$B:$I,3,0)),(VLOOKUP($E195,氏名ﾃﾞｰﾀ!$B:$J,3,0))))","v":""},{"$f":"IF($E195=\"\",\"\",IF(ISERROR(VLOOKUP($E195,氏名ﾃﾞｰﾀ!$B:$J,4,0)),IF(ISERROR(VLOOKUP($E195,新規登録!$B:$I,4,0)),\"未登録\",VLOOKUP($E195,新規登録!$B:$I,4,0)),(VLOOKUP($E195,氏名ﾃﾞｰﾀ!$B:$J,4,0))))","v":""},{"$f":"IF($E195=\"\",\"\",IF(ISERROR(VLOOKUP($E195,氏名ﾃﾞｰﾀ!$B:$J,5,0)),IF(ISERROR(VLOOKUP($E195,新規登録!$B:$I,5,0)),\"未登録\",VLOOKUP($E195,新規登録!$B:$I,5,0)),(VLOOKUP($E195,氏名ﾃﾞｰﾀ!$B:$J,5,0))))","v":""},{"$f":"IF($E195=\"\",\"\",IF(ISERROR(VLOOKUP($E195,氏名ﾃﾞｰﾀ!$B:$J,8,0)),IF(ISERROR(VLOOKUP($E195,新規登録!$B:$I,6,0)),\"未登録\",VLOOKUP($E195,新規登録!$B:$I,6,0)),(VLOOKUP($E195,氏名ﾃﾞｰﾀ!$B:$J,8,0))))","v":""},{"$f":"IF($E195=\"\",\"\",IF(ISERROR(VLOOKUP($E195,氏名ﾃﾞｰﾀ!$B:$J,7,0)),IF(ISERROR(VLOOKUP($E195,新規登録!$B:$I,7,0)),\"未登録\",VLOOKUP($E195,新規登録!$B:$I,7,0)),$G$3))","v":""},{"$f":"IF($E195=\"\",\"\",IF(ISERROR(VLOOKUP($E195,氏名ﾃﾞｰﾀ!$B:$J,6,0)),IF(ISERROR(VLOOKUP($E195,新規登録!$B:$I,8,0)),\"ﾅｼ\",VLOOKUP($E195,新規登録!$B:$I,8,0)),(VLOOKUP($E195,氏名ﾃﾞｰﾀ!$B:$J,6,0))))","v":""},{"$f":"IF($E195=\"\",\"\",IF(ISERROR(VLOOKUP($E195,氏名ﾃﾞｰﾀ!$B:$J,9,0)),IF(ISERROR(VLOOKUP($E195,新規登録!$B:$I,9,0)),\"未登録\",VLOOKUP($E195,新規登録!$B:$I,9,0)),(VLOOKUP($E195,氏名ﾃﾞｰﾀ!$B:$J,9,0))))","v":""},null,null,null,null,null,null,null,null,null,null,null,null,null,null,null,null,null,null,null,null,2,{"$f":"IF(N195=\"\",\"\",VLOOKUP(N195,ﾃﾞｰﾀ!A:D,4,0))","v":""},"秒","秒"]
["","",{"$f":"IF(E196=\"\",\"\",IF(AH196=1,COUNTIF(AH$16:AH196,1)*10+2001-10,COUNTIF(AH$16:AH196,2)*10+6001-10))","v":""},181,null,{"$f":"IF($E196=\"\",\"\",IF(ISERROR(VLOOKUP($E196,氏名ﾃﾞｰﾀ!$B:$J,2,0)),IF(ISERROR(VLOOKUP($E196,新規登録!$B:$I,2,0)),\"未登録\",VLOOKUP($E196,新規登録!$B:$I,2,0)),(VLOOKUP($E196,氏名ﾃﾞｰﾀ!$B:$J,2,0))))","v":""},{"$f":"IF($E196=\"\",\"\",IF(ISERROR(VLOOKUP($E196,氏名ﾃﾞｰﾀ!$B:$J,3,0)),IF(ISERROR(VLOOKUP($E196,新規登録!$B:$I,3,0)),\"未登録\",VLOOKUP($E196,新規登録!$B:$I,3,0)),(VLOOKUP($E196,氏名ﾃﾞｰﾀ!$B:$J,3,0))))","v":""},{"$f":"IF($E196=\"\",\"\",IF(ISERROR(VLOOKUP($E196,氏名ﾃﾞｰﾀ!$B:$J,4,0)),IF(ISERROR(VLOOKUP($E196,新規登録!$B:$I,4,0)),\"未登録\",VLOOKUP($E196,新規登録!$B:$I,4,0)),(VLOOKUP($E196,氏名ﾃﾞｰﾀ!$B:$J,4,0))))","v":""},{"$f":"IF($E196=\"\",\"\",IF(ISERROR(VLOOKUP($E196,氏名ﾃﾞｰﾀ!$B:$J,5,0)),IF(ISERROR(VLOOKUP($E196,新規登録!$B:$I,5,0)),\"未登録\",VLOOKUP($E196,新規登録!$B:$I,5,0)),(VLOOKUP($E196,氏名ﾃﾞｰﾀ!$B:$J,5,0))))","v":""},{"$f":"IF($E196=\"\",\"\",IF(ISERROR(VLOOKUP($E196,氏名ﾃﾞｰﾀ!$B:$J,8,0)),IF(ISERROR(VLOOKUP($E196,新規登録!$B:$I,6,0)),\"未登録\",VLOOKUP($E196,新規登録!$B:$I,6,0)),(VLOOKUP($E196,氏名ﾃﾞｰﾀ!$B:$J,8,0))))","v":""},{"$f":"IF($E196=\"\",\"\",IF(ISERROR(VLOOKUP($E196,氏名ﾃﾞｰﾀ!$B:$J,7,0)),IF(ISERROR(VLOOKUP($E196,新規登録!$B:$I,7,0)),\"未登録\",VLOOKUP($E196,新規登録!$B:$I,7,0)),$G$3))","v":""},{"$f":"IF($E196=\"\",\"\",IF(ISERROR(VLOOKUP($E196,氏名ﾃﾞｰﾀ!$B:$J,6,0)),IF(ISERROR(VLOOKUP($E196,新規登録!$B:$I,8,0)),\"ﾅｼ\",VLOOKUP($E196,新規登録!$B:$I,8,0)),(VLOOKUP($E196,氏名ﾃﾞｰﾀ!$B:$J,6,0))))","v":""},{"$f":"IF($E196=\"\",\"\",IF(ISERROR(VLOOKUP($E196,氏名ﾃﾞｰﾀ!$B:$J,9,0)),IF(ISERROR(VLOOKUP($E196,新規登録!$B:$I,9,0)),\"未登録\",VLOOKUP($E196,新規登録!$B:$I,9,0)),(VLOOKUP($E196,氏名ﾃﾞｰﾀ!$B:$J,9,0))))","v":""},null,null,null,null,null,null,null,null,null,null,null,null,null,null,null,null,null,null,null,null,2,{"$f":"IF(N196=\"\",\"\",VLOOKUP(N196,ﾃﾞｰﾀ!A:D,4,0))","v":""},"秒","秒"]
["","",{"$f":"IF(E197=\"\",\"\",IF(AH197=1,COUNTIF(AH$16:AH197,1)*10+2001-10,COUNTIF(AH$16:AH197,2)*10+6001-10))","v":""},182,null,{"$f":"IF($E197=\"\",\"\",IF(ISERROR(VLOOKUP($E197,氏名ﾃﾞｰﾀ!$B:$J,2,0)),IF(ISERROR(VLOOKUP($E197,新規登録!$B:$I,2,0)),\"未登録\",VLOOKUP($E197,新規登録!$B:$I,2,0)),(VLOOKUP($E197,氏名ﾃﾞｰﾀ!$B:$J,2,0))))","v":""},{"$f":"IF($E197=\"\",\"\",IF(ISERROR(VLOOKUP($E197,氏名ﾃﾞｰﾀ!$B:$J,3,0)),IF(ISERROR(VLOOKUP($E197,新規登録!$B:$I,3,0)),\"未登録\",VLOOKUP($E197,新規登録!$B:$I,3,0)),(VLOOKUP($E197,氏名ﾃﾞｰﾀ!$B:$J,3,0))))","v":""},{"$f":"IF($E197=\"\",\"\",IF(ISERROR(VLOOKUP($E197,氏名ﾃﾞｰﾀ!$B:$J,4,0)),IF(ISERROR(VLOOKUP($E197,新規登録!$B:$I,4,0)),\"未登録\",VLOOKUP($E197,新規登録!$B:$I,4,0)),(VLOOKUP($E197,氏名ﾃﾞｰﾀ!$B:$J,4,0))))","v":""},{"$f":"IF($E197=\"\",\"\",IF(ISERROR(VLOOKUP($E197,氏名ﾃﾞｰﾀ!$B:$J,5,0)),IF(ISERROR(VLOOKUP($E197,新規登録!$B:$I,5,0)),\"未登録\",VLOOKUP($E197,新規登録!$B:$I,5,0)),(VLOOKUP($E197,氏名ﾃﾞｰﾀ!$B:$J,5,0))))","v":""},{"$f":"IF($E197=\"\",\"\",IF(ISERROR(VLOOKUP($E197,氏名ﾃﾞｰﾀ!$B:$J,8,0)),IF(ISERROR(VLOOKUP($E197,新規登録!$B:$I,6,0)),\"未登録\",VLOOKUP($E197,新規登録!$B:$I,6,0)),(VLOOKUP($E197,氏名ﾃﾞｰﾀ!$B:$J,8,0))))","v":""},{"$f":"IF($E197=\"\",\"\",IF(ISERROR(VLOOKUP($E197,氏名ﾃﾞｰﾀ!$B:$J,7,0)),IF(ISERROR(VLOOKUP($E197,新規登録!$B:$I,7,0)),\"未登録\",VLOOKUP($E197,新規登録!$B:$I,7,0)),$G$3))","v":""},{"$f":"IF($E197=\"\",\"\",IF(ISERROR(VLOOKUP($E197,氏名ﾃﾞｰﾀ!$B:$J,6,0)),IF(ISERROR(VLOOKUP($E197,新規登録!$B:$I,8,0)),\"ﾅｼ\",VLOOKUP($E197,新規登録!$B:$I,8,0)),(VLOOKUP($E197,氏名ﾃﾞｰﾀ!$B:$J,6,0))))","v":""},{"$f":"IF($E197=\"\",\"\",IF(ISERROR(VLOOKUP($E197,氏名ﾃﾞｰﾀ!$B:$J,9,0)),IF(ISERROR(VLOOKUP($E197,新規登録!$B:$I,9,0)),\"未登録\",VLOOKUP($E197,新規登録!$B:$I,9,0)),(VLOOKUP($E197,氏名ﾃﾞｰﾀ!$B:$J,9,0))))","v":""},null,null,null,null,null,null,null,null,null,null,null,null,null,null,null,null,null,null,null,null,2,{"$f":"IF(N197=\"\",\"\",VLOOKUP(N197,ﾃﾞｰﾀ!A:D,4,0))","v":""},"秒","秒"]
["","",{"$f":"IF(E198=\"\",\"\",IF(AH198=1,COUNTIF(AH$16:AH198,1)*10+2001-10,COUNTIF(AH$16:AH198,2)*10+6001-10))","v":""},183,null,{"$f":"IF($E198=\"\",\"\",IF(ISERROR(VLOOKUP($E198,氏名ﾃﾞｰﾀ!$B:$J,2,0)),IF(ISERROR(VLOOKUP($E198,新規登録!$B:$I,2,0)),\"未登録\",VLOOKUP($E198,新規登録!$B:$I,2,0)),(VLOOKUP($E198,氏名ﾃﾞｰﾀ!$B:$J,2,0))))","v":""},{"$f":"IF($E198=\"\",\"\",IF(ISERROR(VLOOKUP($E198,氏名ﾃﾞｰﾀ!$B:$J,3,0)),IF(ISERROR(VLOOKUP($E198,新規登録!$B:$I,3,0)),\"未登録\",VLOOKUP($E198,新規登録!$B:$I,3,0)),(VLOOKUP($E198,氏名ﾃﾞｰﾀ!$B:$J,3,0))))","v":""},{"$f":"IF($E198=\"\",\"\",IF(ISERROR(VLOOKUP($E198,氏名ﾃﾞｰﾀ!$B:$J,4,0)),IF(ISERROR(VLOOKUP($E198,新規登録!$B:$I,4,0)),\"未登録\",VLOOKUP($E198,新規登録!$B:$I,4,0)),(VLOOKUP($E198,氏名ﾃﾞｰﾀ!$B:$J,4,0))))","v":""},{"$f":"IF($E198=\"\",\"\",IF(ISERROR(VLOOKUP($E198,氏名ﾃﾞｰﾀ!$B:$J,5,0)),IF(ISERROR(VLOOKUP($E198,新規登録!$B:$I,5,0)),\"未登録\",VLOOKUP($E198,新規登録!$B:$I,5,0)),(VLOOKUP($E198,氏名ﾃﾞｰﾀ!$B:$J,5,0))))","v":""},{"$f":"IF($E198=\"\",\"\",IF(ISERROR(VLOOKUP($E198,氏名ﾃﾞｰﾀ!$B:$J,8,0)),IF(ISERROR(VLOOKUP($E198,新規登録!$B:$I,6,0)),\"未登録\",VLOOKUP($E198,新規登録!$B:$I,6,0)),(VLOOKUP($E198,氏名ﾃﾞｰﾀ!$B:$J,8,0))))","v":""},{"$f":"IF($E198=\"\",\"\",IF(ISERROR(VLOOKUP($E198,氏名ﾃﾞｰﾀ!$B:$J,7,0)),IF(ISERROR(VLOOKUP($E198,新規登録!$B:$I,7,0)),\"未登録\",VLOOKUP($E198,新規登録!$B:$I,7,0)),$G$3))","v":""},{"$f":"IF($E198=\"\",\"\",IF(ISERROR(VLOOKUP($E198,氏名ﾃﾞｰﾀ!$B:$J,6,0)),IF(ISERROR(VLOOKUP($E198,新規登録!$B:$I,8,0)),\"ﾅｼ\",VLOOKUP($E198,新規登録!$B:$I,8,0)),(VLOOKUP($E198,氏名ﾃﾞｰﾀ!$B:$J,6,0))))","v":""},{"$f":"IF($E198=\"\",\"\",IF(ISERROR(VLOOKUP($E198,氏名ﾃﾞｰﾀ!$B:$J,9,0)),IF(ISERROR(VLOOKUP($E198,新規登録!$B:$I,9,0)),\"未登録\",VLOOKUP($E198,新規登録!$B:$I,9,0)),(VLOOKUP($E198,氏名ﾃﾞｰﾀ!$B:$J,9,0))))","v":""},null,null,null,null,null,null,null,null,null,null,null,null,null,null,null,null,null,null,null,null,2,{"$f":"IF(N198=\"\",\"\",VLOOKUP(N198,ﾃﾞｰﾀ!A:D,4,0))","v":""},"秒","秒"]
["","",{"$f":"IF(E199=\"\",\"\",IF(AH199=1,COUNTIF(AH$16:AH199,1)*10+2001-10,COUNTIF(AH$16:AH199,2)*10+6001-10))","v":""},184,null,{"$f":"IF($E199=\"\",\"\",IF(ISERROR(VLOOKUP($E199,氏名ﾃﾞｰﾀ!$B:$J,2,0)),IF(ISERROR(VLOOKUP($E199,新規登録!$B:$I,2,0)),\"未登録\",VLOOKUP($E199,新規登録!$B:$I,2,0)),(VLOOKUP($E199,氏名ﾃﾞｰﾀ!$B:$J,2,0))))","v":""},{"$f":"IF($E199=\"\",\"\",IF(ISERROR(VLOOKUP($E199,氏名ﾃﾞｰﾀ!$B:$J,3,0)),IF(ISERROR(VLOOKUP($E199,新規登録!$B:$I,3,0)),\"未登録\",VLOOKUP($E199,新規登録!$B:$I,3,0)),(VLOOKUP($E199,氏名ﾃﾞｰﾀ!$B:$J,3,0))))","v":""},{"$f":"IF($E199=\"\",\"\",IF(ISERROR(VLOOKUP($E199,氏名ﾃﾞｰﾀ!$B:$J,4,0)),IF(ISERROR(VLOOKUP($E199,新規登録!$B:$I,4,0)),\"未登録\",VLOOKUP($E199,新規登録!$B:$I,4,0)),(VLOOKUP($E199,氏名ﾃﾞｰﾀ!$B:$J,4,0))))","v":""},{"$f":"IF($E199=\"\",\"\",IF(ISERROR(VLOOKUP($E199,氏名ﾃﾞｰﾀ!$B:$J,5,0)),IF(ISERROR(VLOOKUP($E199,新規登録!$B:$I,5,0)),\"未登録\",VLOOKUP($E199,新規登録!$B:$I,5,0)),(VLOOKUP($E199,氏名ﾃﾞｰﾀ!$B:$J,5,0))))","v":""},{"$f":"IF($E199=\"\",\"\",IF(ISERROR(VLOOKUP($E199,氏名ﾃﾞｰﾀ!$B:$J,8,0)),IF(ISERROR(VLOOKUP($E199,新規登録!$B:$I,6,0)),\"未登録\",VLOOKUP($E199,新規登録!$B:$I,6,0)),(VLOOKUP($E199,氏名ﾃﾞｰﾀ!$B:$J,8,0))))","v":""},{"$f":"IF($E199=\"\",\"\",IF(ISERROR(VLOOKUP($E199,氏名ﾃﾞｰﾀ!$B:$J,7,0)),IF(ISERROR(VLOOKUP($E199,新規登録!$B:$I,7,0)),\"未登録\",VLOOKUP($E199,新規登録!$B:$I,7,0)),$G$3))","v":""},{"$f":"IF($E199=\"\",\"\",IF(ISERROR(VLOOKUP($E199,氏名ﾃﾞｰﾀ!$B:$J,6,0)),IF(ISERROR(VLOOKUP($E199,新規登録!$B:$I,8,0)),\"ﾅｼ\",VLOOKUP($E199,新規登録!$B:$I,8,0)),(VLOOKUP($E199,氏名ﾃﾞｰﾀ!$B:$J,6,0))))","v":""},{"$f":"IF($E199=\"\",\"\",IF(ISERROR(VLOOKUP($E199,氏名ﾃﾞｰﾀ!$B:$J,9,0)),IF(ISERROR(VLOOKUP($E199,新規登録!$B:$I,9,0)),\"未登録\",VLOOKUP($E199,新規登録!$B:$I,9,0)),(VLOOKUP($E199,氏名ﾃﾞｰﾀ!$B:$J,9,0))))","v":""},null,null,null,null,null,null,null,null,null,null,null,null,null,null,null,null,null,null,null,null,2,{"$f":"IF(N199=\"\",\"\",VLOOKUP(N199,ﾃﾞｰﾀ!A:D,4,0))","v":""},"秒","秒"]
["","",{"$f":"IF(E200=\"\",\"\",IF(AH200=1,COUNTIF(AH$16:AH200,1)*10+2001-10,COUNTIF(AH$16:AH200,2)*10+6001-10))","v":""},185,null,{"$f":"IF($E200=\"\",\"\",IF(ISERROR(VLOOKUP($E200,氏名ﾃﾞｰﾀ!$B:$J,2,0)),IF(ISERROR(VLOOKUP($E200,新規登録!$B:$I,2,0)),\"未登録\",VLOOKUP($E200,新規登録!$B:$I,2,0)),(VLOOKUP($E200,氏名ﾃﾞｰﾀ!$B:$J,2,0))))","v":""},{"$f":"IF($E200=\"\",\"\",IF(ISERROR(VLOOKUP($E200,氏名ﾃﾞｰﾀ!$B:$J,3,0)),IF(ISERROR(VLOOKUP($E200,新規登録!$B:$I,3,0)),\"未登録\",VLOOKUP($E200,新規登録!$B:$I,3,0)),(VLOOKUP($E200,氏名ﾃﾞｰﾀ!$B:$J,3,0))))","v":""},{"$f":"IF($E200=\"\",\"\",IF(ISERROR(VLOOKUP($E200,氏名ﾃﾞｰﾀ!$B:$J,4,0)),IF(ISERROR(VLOOKUP($E200,新規登録!$B:$I,4,0)),\"未登録\",VLOOKUP($E200,新規登録!$B:$I,4,0)),(VLOOKUP($E200,氏名ﾃﾞｰﾀ!$B:$J,4,0))))","v":""},{"$f":"IF($E200=\"\",\"\",IF(ISERROR(VLOOKUP($E200,氏名ﾃﾞｰﾀ!$B:$J,5,0)),IF(ISERROR(VLOOKUP($E200,新規登録!$B:$I,5,0)),\"未登録\",VLOOKUP($E200,新規登録!$B:$I,5,0)),(VLOOKUP($E200,氏名ﾃﾞｰﾀ!$B:$J,5,0))))","v":""},{"$f":"IF($E200=\"\",\"\",IF(ISERROR(VLOOKUP($E200,氏名ﾃﾞｰﾀ!$B:$J,8,0)),IF(ISERROR(VLOOKUP($E200,新規登録!$B:$I,6,0)),\"未登録\",VLOOKUP($E200,新規登録!$B:$I,6,0)),(VLOOKUP($E200,氏名ﾃﾞｰﾀ!$B:$J,8,0))))","v":""},{"$f":"IF($E200=\"\",\"\",IF(ISERROR(VLOOKUP($E200,氏名ﾃﾞｰﾀ!$B:$J,7,0)),IF(ISERROR(VLOOKUP($E200,新規登録!$B:$I,7,0)),\"未登録\",VLOOKUP($E200,新規登録!$B:$I,7,0)),$G$3))","v":""},{"$f":"IF($E200=\"\",\"\",IF(ISERROR(VLOOKUP($E200,氏名ﾃﾞｰﾀ!$B:$J,6,0)),IF(ISERROR(VLOOKUP($E200,新規登録!$B:$I,8,0)),\"ﾅｼ\",VLOOKUP($E200,新規登録!$B:$I,8,0)),(VLOOKUP($E200,氏名ﾃﾞｰﾀ!$B:$J,6,0))))","v":""},{"$f":"IF($E200=\"\",\"\",IF(ISERROR(VLOOKUP($E200,氏名ﾃﾞｰﾀ!$B:$J,9,0)),IF(ISERROR(VLOOKUP($E200,新規登録!$B:$I,9,0)),\"未登録\",VLOOKUP($E200,新規登録!$B:$I,9,0)),(VLOOKUP($E200,氏名ﾃﾞｰﾀ!$B:$J,9,0))))","v":""},null,null,null,null,null,null,null,null,null,null,null,null,null,null,null,null,null,null,null,null,2,{"$f":"IF(N200=\"\",\"\",VLOOKUP(N200,ﾃﾞｰﾀ!A:D,4,0))","v":""},"秒","秒"]
["","",{"$f":"IF(E201=\"\",\"\",IF(AH201=1,COUNTIF(AH$16:AH201,1)*10+2001-10,COUNTIF(AH$16:AH201,2)*10+6001-10))","v":""},186,null,{"$f":"IF($E201=\"\",\"\",IF(ISERROR(VLOOKUP($E201,氏名ﾃﾞｰﾀ!$B:$J,2,0)),IF(ISERROR(VLOOKUP($E201,新規登録!$B:$I,2,0)),\"未登録\",VLOOKUP($E201,新規登録!$B:$I,2,0)),(VLOOKUP($E201,氏名ﾃﾞｰﾀ!$B:$J,2,0))))","v":""},{"$f":"IF($E201=\"\",\"\",IF(ISERROR(VLOOKUP($E201,氏名ﾃﾞｰﾀ!$B:$J,3,0)),IF(ISERROR(VLOOKUP($E201,新規登録!$B:$I,3,0)),\"未登録\",VLOOKUP($E201,新規登録!$B:$I,3,0)),(VLOOKUP($E201,氏名ﾃﾞｰﾀ!$B:$J,3,0))))","v":""},{"$f":"IF($E201=\"\",\"\",IF(ISERROR(VLOOKUP($E201,氏名ﾃﾞｰﾀ!$B:$J,4,0)),IF(ISERROR(VLOOKUP($E201,新規登録!$B:$I,4,0)),\"未登録\",VLOOKUP($E201,新規登録!$B:$I,4,0)),(VLOOKUP($E201,氏名ﾃﾞｰﾀ!$B:$J,4,0))))","v":""},{"$f":"IF($E201=\"\",\"\",IF(ISERROR(VLOOKUP($E201,氏名ﾃﾞｰﾀ!$B:$J,5,0)),IF(ISERROR(VLOOKUP($E201,新規登録!$B:$I,5,0)),\"未登録\",VLOOKUP($E201,新規登録!$B:$I,5,0)),(VLOOKUP($E201,氏名ﾃﾞｰﾀ!$B:$J,5,0))))","v":""},{"$f":"IF($E201=\"\",\"\",IF(ISERROR(VLOOKUP($E201,氏名ﾃﾞｰﾀ!$B:$J,8,0)),IF(ISERROR(VLOOKUP($E201,新規登録!$B:$I,6,0)),\"未登録\",VLOOKUP($E201,新規登録!$B:$I,6,0)),(VLOOKUP($E201,氏名ﾃﾞｰﾀ!$B:$J,8,0))))","v":""},{"$f":"IF($E201=\"\",\"\",IF(ISERROR(VLOOKUP($E201,氏名ﾃﾞｰﾀ!$B:$J,7,0)),IF(ISERROR(VLOOKUP($E201,新規登録!$B:$I,7,0)),\"未登録\",VLOOKUP($E201,新規登録!$B:$I,7,0)),$G$3))","v":""},{"$f":"IF($E201=\"\",\"\",IF(ISERROR(VLOOKUP($E201,氏名ﾃﾞｰﾀ!$B:$J,6,0)),IF(ISERROR(VLOOKUP($E201,新規登録!$B:$I,8,0)),\"ﾅｼ\",VLOOKUP($E201,新規登録!$B:$I,8,0)),(VLOOKUP($E201,氏名ﾃﾞｰﾀ!$B:$J,6,0))))","v":""},{"$f":"IF($E201=\"\",\"\",IF(ISERROR(VLOOKUP($E201,氏名ﾃﾞｰﾀ!$B:$J,9,0)),IF(ISERROR(VLOOKUP($E201,新規登録!$B:$I,9,0)),\"未登録\",VLOOKUP($E201,新規登録!$B:$I,9,0)),(VLOOKUP($E201,氏名ﾃﾞｰﾀ!$B:$J,9,0))))","v":""},null,null,null,null,null,null,null,null,null,null,null,null,null,null,null,null,null,null,null,null,2,{"$f":"IF(N201=\"\",\"\",VLOOKUP(N201,ﾃﾞｰﾀ!A:D,4,0))","v":""},"秒","秒"]
["","",{"$f":"IF(E202=\"\",\"\",IF(AH202=1,COUNTIF(AH$16:AH202,1)*10+2001-10,COUNTIF(AH$16:AH202,2)*10+6001-10))","v":""},187,null,{"$f":"IF($E202=\"\",\"\",IF(ISERROR(VLOOKUP($E202,氏名ﾃﾞｰﾀ!$B:$J,2,0)),IF(ISERROR(VLOOKUP($E202,新規登録!$B:$I,2,0)),\"未登録\",VLOOKUP($E202,新規登録!$B:$I,2,0)),(VLOOKUP($E202,氏名ﾃﾞｰﾀ!$B:$J,2,0))))","v":""},{"$f":"IF($E202=\"\",\"\",IF(ISERROR(VLOOKUP($E202,氏名ﾃﾞｰﾀ!$B:$J,3,0)),IF(ISERROR(VLOOKUP($E202,新規登録!$B:$I,3,0)),\"未登録\",VLOOKUP($E202,新規登録!$B:$I,3,0)),(VLOOKUP($E202,氏名ﾃﾞｰﾀ!$B:$J,3,0))))","v":""},{"$f":"IF($E202=\"\",\"\",IF(ISERROR(VLOOKUP($E202,氏名ﾃﾞｰﾀ!$B:$J,4,0)),IF(ISERROR(VLOOKUP($E202,新規登録!$B:$I,4,0)),\"未登録\",VLOOKUP($E202,新規登録!$B:$I,4,0)),(VLOOKUP($E202,氏名ﾃﾞｰﾀ!$B:$J,4,0))))","v":""},{"$f":"IF($E202=\"\",\"\",IF(ISERROR(VLOOKUP($E202,氏名ﾃﾞｰﾀ!$B:$J,5,0)),IF(ISERROR(VLOOKUP($E202,新規登録!$B:$I,5,0)),\"未登録\",VLOOKUP($E202,新規登録!$B:$I,5,0)),(VLOOKUP($E202,氏名ﾃﾞｰﾀ!$B:$J,5,0))))","v":""},{"$f":"IF($E202=\"\",\"\",IF(ISERROR(VLOOKUP($E202,氏名ﾃﾞｰﾀ!$B:$J,8,0)),IF(ISERROR(VLOOKUP($E202,新規登録!$B:$I,6,0)),\"未登録\",VLOOKUP($E202,新規登録!$B:$I,6,0)),(VLOOKUP($E202,氏名ﾃﾞｰﾀ!$B:$J,8,0))))","v":""},{"$f":"IF($E202=\"\",\"\",IF(ISERROR(VLOOKUP($E202,氏名ﾃﾞｰﾀ!$B:$J,7,0)),IF(ISERROR(VLOOKUP($E202,新規登録!$B:$I,7,0)),\"未登録\",VLOOKUP($E202,新規登録!$B:$I,7,0)),$G$3))","v":""},{"$f":"IF($E202=\"\",\"\",IF(ISERROR(VLOOKUP($E202,氏名ﾃﾞｰﾀ!$B:$J,6,0)),IF(ISERROR(VLOOKUP($E202,新規登録!$B:$I,8,0)),\"ﾅｼ\",VLOOKUP($E202,新規登録!$B:$I,8,0)),(VLOOKUP($E202,氏名ﾃﾞｰﾀ!$B:$J,6,0))))","v":""},{"$f":"IF($E202=\"\",\"\",IF(ISERROR(VLOOKUP($E202,氏名ﾃﾞｰﾀ!$B:$J,9,0)),IF(ISERROR(VLOOKUP($E202,新規登録!$B:$I,9,0)),\"未登録\",VLOOKUP($E202,新規登録!$B:$I,9,0)),(VLOOKUP($E202,氏名ﾃﾞｰﾀ!$B:$J,9,0))))","v":""},null,null,null,null,null,null,null,null,null,null,null,null,null,null,null,null,null,null,null,null,2,{"$f":"IF(N202=\"\",\"\",VLOOKUP(N202,ﾃﾞｰﾀ!A:D,4,0))","v":""},"秒","秒"]
["","",{"$f":"IF(E203=\"\",\"\",IF(AH203=1,COUNTIF(AH$16:AH203,1)*10+2001-10,COUNTIF(AH$16:AH203,2)*10+6001-10))","v":""},188,null,{"$f":"IF($E203=\"\",\"\",IF(ISERROR(VLOOKUP($E203,氏名ﾃﾞｰﾀ!$B:$J,2,0)),IF(ISERROR(VLOOKUP($E203,新規登録!$B:$I,2,0)),\"未登録\",VLOOKUP($E203,新規登録!$B:$I,2,0)),(VLOOKUP($E203,氏名ﾃﾞｰﾀ!$B:$J,2,0))))","v":""},{"$f":"IF($E203=\"\",\"\",IF(ISERROR(VLOOKUP($E203,氏名ﾃﾞｰﾀ!$B:$J,3,0)),IF(ISERROR(VLOOKUP($E203,新規登録!$B:$I,3,0)),\"未登録\",VLOOKUP($E203,新規登録!$B:$I,3,0)),(VLOOKUP($E203,氏名ﾃﾞｰﾀ!$B:$J,3,0))))","v":""},{"$f":"IF($E203=\"\",\"\",IF(ISERROR(VLOOKUP($E203,氏名ﾃﾞｰﾀ!$B:$J,4,0)),IF(ISERROR(VLOOKUP($E203,新規登録!$B:$I,4,0)),\"未登録\",VLOOKUP($E203,新規登録!$B:$I,4,0)),(VLOOKUP($E203,氏名ﾃﾞｰﾀ!$B:$J,4,0))))","v":""},{"$f":"IF($E203=\"\",\"\",IF(ISERROR(VLOOKUP($E203,氏名ﾃﾞｰﾀ!$B:$J,5,0)),IF(ISERROR(VLOOKUP($E203,新規登録!$B:$I,5,0)),\"未登録\",VLOOKUP($E203,新規登録!$B:$I,5,0)),(VLOOKUP($E203,氏名ﾃﾞｰﾀ!$B:$J,5,0))))","v":""},{"$f":"IF($E203=\"\",\"\",IF(ISERROR(VLOOKUP($E203,氏名ﾃﾞｰﾀ!$B:$J,8,0)),IF(ISERROR(VLOOKUP($E203,新規登録!$B:$I,6,0)),\"未登録\",VLOOKUP($E203,新規登録!$B:$I,6,0)),(VLOOKUP($E203,氏名ﾃﾞｰﾀ!$B:$J,8,0))))","v":""},{"$f":"IF($E203=\"\",\"\",IF(ISERROR(VLOOKUP($E203,氏名ﾃﾞｰﾀ!$B:$J,7,0)),IF(ISERROR(VLOOKUP($E203,新規登録!$B:$I,7,0)),\"未登録\",VLOOKUP($E203,新規登録!$B:$I,7,0)),$G$3))","v":""},{"$f":"IF($E203=\"\",\"\",IF(ISERROR(VLOOKUP($E203,氏名ﾃﾞｰﾀ!$B:$J,6,0)),IF(ISERROR(VLOOKUP($E203,新規登録!$B:$I,8,0)),\"ﾅｼ\",VLOOKUP($E203,新規登録!$B:$I,8,0)),(VLOOKUP($E203,氏名ﾃﾞｰﾀ!$B:$J,6,0))))","v":""},{"$f":"IF($E203=\"\",\"\",IF(ISERROR(VLOOKUP($E203,氏名ﾃﾞｰﾀ!$B:$J,9,0)),IF(ISERROR(VLOOKUP($E203,新規登録!$B:$I,9,0)),\"未登録\",VLOOKUP($E203,新規登録!$B:$I,9,0)),(VLOOKUP($E203,氏名ﾃﾞｰﾀ!$B:$J,9,0))))","v":""},null,null,null,null,null,null,null,null,null,null,null,null,null,null,null,null,null,null,null,null,2,{"$f":"IF(N203=\"\",\"\",VLOOKUP(N203,ﾃﾞｰﾀ!A:D,4,0))","v":""},"秒","秒"]
["","",{"$f":"IF(E204=\"\",\"\",IF(AH204=1,COUNTIF(AH$16:AH204,1)*10+2001-10,COUNTIF(AH$16:AH204,2)*10+6001-10))","v":""},189,null,{"$f":"IF($E204=\"\",\"\",IF(ISERROR(VLOOKUP($E204,氏名ﾃﾞｰﾀ!$B:$J,2,0)),IF(ISERROR(VLOOKUP($E204,新規登録!$B:$I,2,0)),\"未登録\",VLOOKUP($E204,新規登録!$B:$I,2,0)),(VLOOKUP($E204,氏名ﾃﾞｰﾀ!$B:$J,2,0))))","v":""},{"$f":"IF($E204=\"\",\"\",IF(ISERROR(VLOOKUP($E204,氏名ﾃﾞｰﾀ!$B:$J,3,0)),IF(ISERROR(VLOOKUP($E204,新規登録!$B:$I,3,0)),\"未登録\",VLOOKUP($E204,新規登録!$B:$I,3,0)),(VLOOKUP($E204,氏名ﾃﾞｰﾀ!$B:$J,3,0))))","v":""},{"$f":"IF($E204=\"\",\"\",IF(ISERROR(VLOOKUP($E204,氏名ﾃﾞｰﾀ!$B:$J,4,0)),IF(ISERROR(VLOOKUP($E204,新規登録!$B:$I,4,0)),\"未登録\",VLOOKUP($E204,新規登録!$B:$I,4,0)),(VLOOKUP($E204,氏名ﾃﾞｰﾀ!$B:$J,4,0))))","v":""},{"$f":"IF($E204=\"\",\"\",IF(ISERROR(VLOOKUP($E204,氏名ﾃﾞｰﾀ!$B:$J,5,0)),IF(ISERROR(VLOOKUP($E204,新規登録!$B:$I,5,0)),\"未登録\",VLOOKUP($E204,新規登録!$B:$I,5,0)),(VLOOKUP($E204,氏名ﾃﾞｰﾀ!$B:$J,5,0))))","v":""},{"$f":"IF($E204=\"\",\"\",IF(ISERROR(VLOOKUP($E204,氏名ﾃﾞｰﾀ!$B:$J,8,0)),IF(ISERROR(VLOOKUP($E204,新規登録!$B:$I,6,0)),\"未登録\",VLOOKUP($E204,新規登録!$B:$I,6,0)),(VLOOKUP($E204,氏名ﾃﾞｰﾀ!$B:$J,8,0))))","v":""},{"$f":"IF($E204=\"\",\"\",IF(ISERROR(VLOOKUP($E204,氏名ﾃﾞｰﾀ!$B:$J,7,0)),IF(ISERROR(VLOOKUP($E204,新規登録!$B:$I,7,0)),\"未登録\",VLOOKUP($E204,新規登録!$B:$I,7,0)),$G$3))","v":""},{"$f":"IF($E204=\"\",\"\",IF(ISERROR(VLOOKUP($E204,氏名ﾃﾞｰﾀ!$B:$J,6,0)),IF(ISERROR(VLOOKUP($E204,新規登録!$B:$I,8,0)),\"ﾅｼ\",VLOOKUP($E204,新規登録!$B:$I,8,0)),(VLOOKUP($E204,氏名ﾃﾞｰﾀ!$B:$J,6,0))))","v":""},{"$f":"IF($E204=\"\",\"\",IF(ISERROR(VLOOKUP($E204,氏名ﾃﾞｰﾀ!$B:$J,9,0)),IF(ISERROR(VLOOKUP($E204,新規登録!$B:$I,9,0)),\"未登録\",VLOOKUP($E204,新規登録!$B:$I,9,0)),(VLOOKUP($E204,氏名ﾃﾞｰﾀ!$B:$J,9,0))))","v":""},null,null,null,null,null,null,null,null,null,null,null,null,null,null,null,null,null,null,null,null,2,{"$f":"IF(N204=\"\",\"\",VLOOKUP(N204,ﾃﾞｰﾀ!A:D,4,0))","v":""},"秒","秒"]
["","",{"$f":"IF(E205=\"\",\"\",IF(AH205=1,COUNTIF(AH$16:AH205,1)*10+2001-10,COUNTIF(AH$16:AH205,2)*10+6001-10))","v":""},190,null,{"$f":"IF($E205=\"\",\"\",IF(ISERROR(VLOOKUP($E205,氏名ﾃﾞｰﾀ!$B:$J,2,0)),IF(ISERROR(VLOOKUP($E205,新規登録!$B:$I,2,0)),\"未登録\",VLOOKUP($E205,新規登録!$B:$I,2,0)),(VLOOKUP($E205,氏名ﾃﾞｰﾀ!$B:$J,2,0))))","v":""},{"$f":"IF($E205=\"\",\"\",IF(ISERROR(VLOOKUP($E205,氏名ﾃﾞｰﾀ!$B:$J,3,0)),IF(ISERROR(VLOOKUP($E205,新規登録!$B:$I,3,0)),\"未登録\",VLOOKUP($E205,新規登録!$B:$I,3,0)),(VLOOKUP($E205,氏名ﾃﾞｰﾀ!$B:$J,3,0))))","v":""},{"$f":"IF($E205=\"\",\"\",IF(ISERROR(VLOOKUP($E205,氏名ﾃﾞｰﾀ!$B:$J,4,0)),IF(ISERROR(VLOOKUP($E205,新規登録!$B:$I,4,0)),\"未登録\",VLOOKUP($E205,新規登録!$B:$I,4,0)),(VLOOKUP($E205,氏名ﾃﾞｰﾀ!$B:$J,4,0))))","v":""},{"$f":"IF($E205=\"\",\"\",IF(ISERROR(VLOOKUP($E205,氏名ﾃﾞｰﾀ!$B:$J,5,0)),IF(ISERROR(VLOOKUP($E205,新規登録!$B:$I,5,0)),\"未登録\",VLOOKUP($E205,新規登録!$B:$I,5,0)),(VLOOKUP($E205,氏名ﾃﾞｰﾀ!$B:$J,5,0))))","v":""},{"$f":"IF($E205=\"\",\"\",IF(ISERROR(VLOOKUP($E205,氏名ﾃﾞｰﾀ!$B:$J,8,0)),IF(ISERROR(VLOOKUP($E205,新規登録!$B:$I,6,0)),\"未登録\",VLOOKUP($E205,新規登録!$B:$I,6,0)),(VLOOKUP($E205,氏名ﾃﾞｰﾀ!$B:$J,8,0))))","v":""},{"$f":"IF($E205=\"\",\"\",IF(ISERROR(VLOOKUP($E205,氏名ﾃﾞｰﾀ!$B:$J,7,0)),IF(ISERROR(VLOOKUP($E205,新規登録!$B:$I,7,0)),\"未登録\",VLOOKUP($E205,新規登録!$B:$I,7,0)),$G$3))","v":""},{"$f":"IF($E205=\"\",\"\",IF(ISERROR(VLOOKUP($E205,氏名ﾃﾞｰﾀ!$B:$J,6,0)),IF(ISERROR(VLOOKUP($E205,新規登録!$B:$I,8,0)),\"ﾅｼ\",VLOOKUP($E205,新規登録!$B:$I,8,0)),(VLOOKUP($E205,氏名ﾃﾞｰﾀ!$B:$J,6,0))))","v":""},{"$f":"IF($E205=\"\",\"\",IF(ISERROR(VLOOKUP($E205,氏名ﾃﾞｰﾀ!$B:$J,9,0)),IF(ISERROR(VLOOKUP($E205,新規登録!$B:$I,9,0)),\"未登録\",VLOOKUP($E205,新規登録!$B:$I,9,0)),(VLOOKUP($E205,氏名ﾃﾞｰﾀ!$B:$J,9,0))))","v":""},null,null,null,null,null,null,null,null,null,null,null,null,null,null,null,null,null,null,null,null,2,{"$f":"IF(N205=\"\",\"\",VLOOKUP(N205,ﾃﾞｰﾀ!A:D,4,0))","v":""},"秒","秒"]
["","",{"$f":"IF(E206=\"\",\"\",IF(AH206=1,COUNTIF(AH$16:AH206,1)*10+2001-10,COUNTIF(AH$16:AH206,2)*10+6001-10))","v":""},191,null,{"$f":"IF($E206=\"\",\"\",IF(ISERROR(VLOOKUP($E206,氏名ﾃﾞｰﾀ!$B:$J,2,0)),IF(ISERROR(VLOOKUP($E206,新規登録!$B:$I,2,0)),\"未登録\",VLOOKUP($E206,新規登録!$B:$I,2,0)),(VLOOKUP($E206,氏名ﾃﾞｰﾀ!$B:$J,2,0))))","v":""},{"$f":"IF($E206=\"\",\"\",IF(ISERROR(VLOOKUP($E206,氏名ﾃﾞｰﾀ!$B:$J,3,0)),IF(ISERROR(VLOOKUP($E206,新規登録!$B:$I,3,0)),\"未登録\",VLOOKUP($E206,新規登録!$B:$I,3,0)),(VLOOKUP($E206,氏名ﾃﾞｰﾀ!$B:$J,3,0))))","v":""},{"$f":"IF($E206=\"\",\"\",IF(ISERROR(VLOOKUP($E206,氏名ﾃﾞｰﾀ!$B:$J,4,0)),IF(ISERROR(VLOOKUP($E206,新規登録!$B:$I,4,0)),\"未登録\",VLOOKUP($E206,新規登録!$B:$I,4,0)),(VLOOKUP($E206,氏名ﾃﾞｰﾀ!$B:$J,4,0))))","v":""},{"$f":"IF($E206=\"\",\"\",IF(ISERROR(VLOOKUP($E206,氏名ﾃﾞｰﾀ!$B:$J,5,0)),IF(ISERROR(VLOOKUP($E206,新規登録!$B:$I,5,0)),\"未登録\",VLOOKUP($E206,新規登録!$B:$I,5,0)),(VLOOKUP($E206,氏名ﾃﾞｰﾀ!$B:$J,5,0))))","v":""},{"$f":"IF($E206=\"\",\"\",IF(ISERROR(VLOOKUP($E206,氏名ﾃﾞｰﾀ!$B:$J,8,0)),IF(ISERROR(VLOOKUP($E206,新規登録!$B:$I,6,0)),\"未登録\",VLOOKUP($E206,新規登録!$B:$I,6,0)),(VLOOKUP($E206,氏名ﾃﾞｰﾀ!$B:$J,8,0))))","v":""},{"$f":"IF($E206=\"\",\"\",IF(ISERROR(VLOOKUP($E206,氏名ﾃﾞｰﾀ!$B:$J,7,0)),IF(ISERROR(VLOOKUP($E206,新規登録!$B:$I,7,0)),\"未登録\",VLOOKUP($E206,新規登録!$B:$I,7,0)),$G$3))","v":""},{"$f":"IF($E206=\"\",\"\",IF(ISERROR(VLOOKUP($E206,氏名ﾃﾞｰﾀ!$B:$J,6,0)),IF(ISERROR(VLOOKUP($E206,新規登録!$B:$I,8,0)),\"ﾅｼ\",VLOOKUP($E206,新規登録!$B:$I,8,0)),(VLOOKUP($E206,氏名ﾃﾞｰﾀ!$B:$J,6,0))))","v":""},{"$f":"IF($E206=\"\",\"\",IF(ISERROR(VLOOKUP($E206,氏名ﾃﾞｰﾀ!$B:$J,9,0)),IF(ISERROR(VLOOKUP($E206,新規登録!$B:$I,9,0)),\"未登録\",VLOOKUP($E206,新規登録!$B:$I,9,0)),(VLOOKUP($E206,氏名ﾃﾞｰﾀ!$B:$J,9,0))))","v":""},null,null,null,null,null,null,null,null,null,null,null,null,null,null,null,null,null,null,null,null,2,{"$f":"IF(N206=\"\",\"\",VLOOKUP(N206,ﾃﾞｰﾀ!A:D,4,0))","v":""},"秒","秒"]
["","",{"$f":"IF(E207=\"\",\"\",IF(AH207=1,COUNTIF(AH$16:AH207,1)*10+2001-10,COUNTIF(AH$16:AH207,2)*10+6001-10))","v":""},192,null,{"$f":"IF($E207=\"\",\"\",IF(ISERROR(VLOOKUP($E207,氏名ﾃﾞｰﾀ!$B:$J,2,0)),IF(ISERROR(VLOOKUP($E207,新規登録!$B:$I,2,0)),\"未登録\",VLOOKUP($E207,新規登録!$B:$I,2,0)),(VLOOKUP($E207,氏名ﾃﾞｰﾀ!$B:$J,2,0))))","v":""},{"$f":"IF($E207=\"\",\"\",IF(ISERROR(VLOOKUP($E207,氏名ﾃﾞｰﾀ!$B:$J,3,0)),IF(ISERROR(VLOOKUP($E207,新規登録!$B:$I,3,0)),\"未登録\",VLOOKUP($E207,新規登録!$B:$I,3,0)),(VLOOKUP($E207,氏名ﾃﾞｰﾀ!$B:$J,3,0))))","v":""},{"$f":"IF($E207=\"\",\"\",IF(ISERROR(VLOOKUP($E207,氏名ﾃﾞｰﾀ!$B:$J,4,0)),IF(ISERROR(VLOOKUP($E207,新規登録!$B:$I,4,0)),\"未登録\",VLOOKUP($E207,新規登録!$B:$I,4,0)),(VLOOKUP($E207,氏名ﾃﾞｰﾀ!$B:$J,4,0))))","v":""},{"$f":"IF($E207=\"\",\"\",IF(ISERROR(VLOOKUP($E207,氏名ﾃﾞｰﾀ!$B:$J,5,0)),IF(ISERROR(VLOOKUP($E207,新規登録!$B:$I,5,0)),\"未登録\",VLOOKUP($E207,新規登録!$B:$I,5,0)),(VLOOKUP($E207,氏名ﾃﾞｰﾀ!$B:$J,5,0))))","v":""},{"$f":"IF($E207=\"\",\"\",IF(ISERROR(VLOOKUP($E207,氏名ﾃﾞｰﾀ!$B:$J,8,0)),IF(ISERROR(VLOOKUP($E207,新規登録!$B:$I,6,0)),\"未登録\",VLOOKUP($E207,新規登録!$B:$I,6,0)),(VLOOKUP($E207,氏名ﾃﾞｰﾀ!$B:$J,8,0))))","v":""},{"$f":"IF($E207=\"\",\"\",IF(ISERROR(VLOOKUP($E207,氏名ﾃﾞｰﾀ!$B:$J,7,0)),IF(ISERROR(VLOOKUP($E207,新規登録!$B:$I,7,0)),\"未登録\",VLOOKUP($E207,新規登録!$B:$I,7,0)),$G$3))","v":""},{"$f":"IF($E207=\"\",\"\",IF(ISERROR(VLOOKUP($E207,氏名ﾃﾞｰﾀ!$B:$J,6,0)),IF(ISERROR(VLOOKUP($E207,新規登録!$B:$I,8,0)),\"ﾅｼ\",VLOOKUP($E207,新規登録!$B:$I,8,0)),(VLOOKUP($E207,氏名ﾃﾞｰﾀ!$B:$J,6,0))))","v":""},{"$f":"IF($E207=\"\",\"\",IF(ISERROR(VLOOKUP($E207,氏名ﾃﾞｰﾀ!$B:$J,9,0)),IF(ISERROR(VLOOKUP($E207,新規登録!$B:$I,9,0)),\"未登録\",VLOOKUP($E207,新規登録!$B:$I,9,0)),(VLOOKUP($E207,氏名ﾃﾞｰﾀ!$B:$J,9,0))))","v":""},null,null,null,null,null,null,null,null,null,null,null,null,null,null,null,null,null,null,null,null,2,{"$f":"IF(N207=\"\",\"\",VLOOKUP(N207,ﾃﾞｰﾀ!A:D,4,0))","v":""},"秒","秒"]
[{"$f":"IF(Z208=\"\",\"\",IF(L208=\"男\",VLOOKUP(Z208,ﾘﾚｰｺｰﾄﾞ,2,0),VLOOKUP(Z208,ﾘﾚｰｺｰﾄﾞ,4,0)))","v":""},{"$f":"IF(AD208=\"\",\"\",IF(L208=\"男\",VLOOKUP(AD208,ﾘﾚｰｺｰﾄﾞ,3,0),VLOOKUP(AD208,ﾘﾚｰｺｰﾄﾞ,5,0)))","v":""},{"$f":"IF(E208=\"\",\"\",IF(AH208=1,COUNTIF(AH$16:AH208,1)*10+2001-10,COUNTIF(AH$16:AH208,2)*10+6001-10))","v":""},193,null,{"$f":"IF($E208=\"\",\"\",IF(ISERROR(VLOOKUP($E208,氏名ﾃﾞｰﾀ!$B:$J,2,0)),IF(ISERROR(VLOOKUP($E208,新規登録!$B:$I,2,0)),\"未登録\",VLOOKUP($E208,新規登録!$B:$I,2,0)),(VLOOKUP($E208,氏名ﾃﾞｰﾀ!$B:$J,2,0))))","v":""},{"$f":"IF($E208=\"\",\"\",IF(ISERROR(VLOOKUP($E208,氏名ﾃﾞｰﾀ!$B:$J,3,0)),IF(ISERROR(VLOOKUP($E208,新規登録!$B:$I,3,0)),\"未登録\",VLOOKUP($E208,新規登録!$B:$I,3,0)),(VLOOKUP($E208,氏名ﾃﾞｰﾀ!$B:$J,3,0))))","v":""},{"$f":"IF($E208=\"\",\"\",IF(ISERROR(VLOOKUP($E208,氏名ﾃﾞｰﾀ!$B:$J,4,0)),IF(ISERROR(VLOOKUP($E208,新規登録!$B:$I,4,0)),\"未登録\",VLOOKUP($E208,新規登録!$B:$I,4,0)),(VLOOKUP($E208,氏名ﾃﾞｰﾀ!$B:$J,4,0))))","v":""},{"$f":"IF($E208=\"\",\"\",IF(ISERROR(VLOOKUP($E208,氏名ﾃﾞｰﾀ!$B:$J,5,0)),IF(ISERROR(VLOOKUP($E208,新規登録!$B:$I,5,0)),\"未登録\",VLOOKUP($E208,新規登録!$B:$I,5,0)),(VLOOKUP($E208,氏名ﾃﾞｰﾀ!$B:$J,5,0))))","v":""},{"$f":"IF($E208=\"\",\"\",IF(ISERROR(VLOOKUP($E208,氏名ﾃﾞｰﾀ!$B:$J,8,0)),IF(ISERROR(VLOOKUP($E208,新規登録!$B:$I,6,0)),\"未登録\",VLOOKUP($E208,新規登録!$B:$I,6,0)),(VLOOKUP($E208,氏名ﾃﾞｰﾀ!$B:$J,8,0))))","v":""},{"$f":"IF($E208=\"\",\"\",IF(ISERROR(VLOOKUP($E208,氏名ﾃﾞｰﾀ!$B:$J,7,0)),IF(ISERROR(VLOOKUP($E208,新規登録!$B:$I,7,0)),\"未登録\",VLOOKUP($E208,新規登録!$B:$I,7,0)),$G$3))","v":""},{"$f":"IF($E208=\"\",\"\",IF(ISERROR(VLOOKUP($E208,氏名ﾃﾞｰﾀ!$B:$J,6,0)),IF(ISERROR(VLOOKUP($E208,新規登録!$B:$I,8,0)),\"ﾅｼ\",VLOOKUP($E208,新規登録!$B:$I,8,0)),(VLOOKUP($E208,氏名ﾃﾞｰﾀ!$B:$J,6,0))))","v":""},{"$f":"IF($E208=\"\",\"\",IF(ISERROR(VLOOKUP($E208,氏名ﾃﾞｰﾀ!$B:$J,9,0)),IF(ISERROR(VLOOKUP($E208,新規登録!$B:$I,9,0)),\"未登録\",VLOOKUP($E208,新規登録!$B:$I,9,0)),(VLOOKUP($E208,氏名ﾃﾞｰﾀ!$B:$J,9,0))))","v":""},null,null,null,null,null,null,null,null,null,null,null,null,null,null,null,null,null,null,null,null,{"$f":"IF(L208=\"男\",1,2)","v":2},{"$f":"IF(N208=\"\",\"\",VLOOKUP(N208,ﾃﾞｰﾀ!A:D,4,0))","v":""},"秒","秒"]
["","",{"$f":"IF(E209=\"\",\"\",IF(AH209=1,COUNTIF(AH$16:AH209,1)*10+2001-10,COUNTIF(AH$16:AH209,2)*10+6001-10))","v":""},194,null,{"$f":"IF($E209=\"\",\"\",IF(ISERROR(VLOOKUP($E209,氏名ﾃﾞｰﾀ!$B:$J,2,0)),IF(ISERROR(VLOOKUP($E209,新規登録!$B:$I,2,0)),\"未登録\",VLOOKUP($E209,新規登録!$B:$I,2,0)),(VLOOKUP($E209,氏名ﾃﾞｰﾀ!$B:$J,2,0))))","v":""},{"$f":"IF($E209=\"\",\"\",IF(ISERROR(VLOOKUP($E209,氏名ﾃﾞｰﾀ!$B:$J,3,0)),IF(ISERROR(VLOOKUP($E209,新規登録!$B:$I,3,0)),\"未登録\",VLOOKUP($E209,新規登録!$B:$I,3,0)),(VLOOKUP($E209,氏名ﾃﾞｰﾀ!$B:$J,3,0))))","v":""},{"$f":"IF($E209=\"\",\"\",IF(ISERROR(VLOOKUP($E209,氏名ﾃﾞｰﾀ!$B:$J,4,0)),IF(ISERROR(VLOOKUP($E209,新規登録!$B:$I,4,0)),\"未登録\",VLOOKUP($E209,新規登録!$B:$I,4,0)),(VLOOKUP($E209,氏名ﾃﾞｰﾀ!$B:$J,4,0))))","v":""},{"$f":"IF($E209=\"\",\"\",IF(ISERROR(VLOOKUP($E209,氏名ﾃﾞｰﾀ!$B:$J,5,0)),IF(ISERROR(VLOOKUP($E209,新規登録!$B:$I,5,0)),\"未登録\",VLOOKUP($E209,新規登録!$B:$I,5,0)),(VLOOKUP($E209,氏名ﾃﾞｰﾀ!$B:$J,5,0))))","v":""},{"$f":"IF($E209=\"\",\"\",IF(ISERROR(VLOOKUP($E209,氏名ﾃﾞｰﾀ!$B:$J,8,0)),IF(ISERROR(VLOOKUP($E209,新規登録!$B:$I,6,0)),\"未登録\",VLOOKUP($E209,新規登録!$B:$I,6,0)),(VLOOKUP($E209,氏名ﾃﾞｰﾀ!$B:$J,8,0))))","v":""},{"$f":"IF($E209=\"\",\"\",IF(ISERROR(VLOOKUP($E209,氏名ﾃﾞｰﾀ!$B:$J,7,0)),IF(ISERROR(VLOOKUP($E209,新規登録!$B:$I,7,0)),\"未登録\",VLOOKUP($E209,新規登録!$B:$I,7,0)),$G$3))","v":""},{"$f":"IF($E209=\"\",\"\",IF(ISERROR(VLOOKUP($E209,氏名ﾃﾞｰﾀ!$B:$J,6,0)),IF(ISERROR(VLOOKUP($E209,新規登録!$B:$I,8,0)),\"ﾅｼ\",VLOOKUP($E209,新規登録!$B:$I,8,0)),(VLOOKUP($E209,氏名ﾃﾞｰﾀ!$B:$J,6,0))))","v":""},{"$f":"IF($E209=\"\",\"\",IF(ISERROR(VLOOKUP($E209,氏名ﾃﾞｰﾀ!$B:$J,9,0)),IF(ISERROR(VLOOKUP($E209,新規登録!$B:$I,9,0)),\"未登録\",VLOOKUP($E209,新規登録!$B:$I,9,0)),(VLOOKUP($E209,氏名ﾃﾞｰﾀ!$B:$J,9,0))))","v":""},null,null,null,null,null,null,null,null,null,null,null,null,null,null,null,null,null,null,null,null,2,{"$f":"IF(N209=\"\",\"\",VLOOKUP(N209,ﾃﾞｰﾀ!A:D,4,0))","v":""},{"$f":"IF(AA209=\"\",CONCATENATE(AB209,\"秒\",AC209),CONCATENATE(IF(LEN(AA209)=1,CONCATENATE(\"0\",AA209),AA209),\"分\",IF(LEN(AB209)=1,CONCATENATE(\"0\",AB209),AB209),\"秒\",IF(LEN(AC209)=1,CONCATENATE(AC209,\"0\"),AC209)))","v":"秒"},{"$f":"IF(AE209=\"\",CONCATENATE(AF209,\"秒\",AG209),CONCATENATE(IF(LEN(AE209)=1,CONCATENATE(\"0\",AE209),AE209),\"分\",IF(LEN(AF209)=1,CONCATENATE(\"0\",AF209),AF209),\"秒\",IF(LEN(AG209)=1,CONCATENATE(AG209,\"0\"),AG209)))","v":"秒"}]
["","",{"$f":"IF(E210=\"\",\"\",IF(AH210=1,COUNTIF(AH$16:AH210,1)*10+2001-10,COUNTIF(AH$16:AH210,2)*10+6001-10))","v":""},195,null,{"$f":"IF($E210=\"\",\"\",IF(ISERROR(VLOOKUP($E210,氏名ﾃﾞｰﾀ!$B:$J,2,0)),IF(ISERROR(VLOOKUP($E210,新規登録!$B:$I,2,0)),\"未登録\",VLOOKUP($E210,新規登録!$B:$I,2,0)),(VLOOKUP($E210,氏名ﾃﾞｰﾀ!$B:$J,2,0))))","v":""},{"$f":"IF($E210=\"\",\"\",IF(ISERROR(VLOOKUP($E210,氏名ﾃﾞｰﾀ!$B:$J,3,0)),IF(ISERROR(VLOOKUP($E210,新規登録!$B:$I,3,0)),\"未登録\",VLOOKUP($E210,新規登録!$B:$I,3,0)),(VLOOKUP($E210,氏名ﾃﾞｰﾀ!$B:$J,3,0))))","v":""},{"$f":"IF($E210=\"\",\"\",IF(ISERROR(VLOOKUP($E210,氏名ﾃﾞｰﾀ!$B:$J,4,0)),IF(ISERROR(VLOOKUP($E210,新規登録!$B:$I,4,0)),\"未登録\",VLOOKUP($E210,新規登録!$B:$I,4,0)),(VLOOKUP($E210,氏名ﾃﾞｰﾀ!$B:$J,4,0))))","v":""},{"$f":"IF($E210=\"\",\"\",IF(ISERROR(VLOOKUP($E210,氏名ﾃﾞｰﾀ!$B:$J,5,0)),IF(ISERROR(VLOOKUP($E210,新規登録!$B:$I,5,0)),\"未登録\",VLOOKUP($E210,新規登録!$B:$I,5,0)),(VLOOKUP($E210,氏名ﾃﾞｰﾀ!$B:$J,5,0))))","v":""},{"$f":"IF($E210=\"\",\"\",IF(ISERROR(VLOOKUP($E210,氏名ﾃﾞｰﾀ!$B:$J,8,0)),IF(ISERROR(VLOOKUP($E210,新規登録!$B:$I,6,0)),\"未登録\",VLOOKUP($E210,新規登録!$B:$I,6,0)),(VLOOKUP($E210,氏名ﾃﾞｰﾀ!$B:$J,8,0))))","v":""},{"$f":"IF($E210=\"\",\"\",IF(ISERROR(VLOOKUP($E210,氏名ﾃﾞｰﾀ!$B:$J,7,0)),IF(ISERROR(VLOOKUP($E210,新規登録!$B:$I,7,0)),\"未登録\",VLOOKUP($E210,新規登録!$B:$I,7,0)),$G$3))","v":""},{"$f":"IF($E210=\"\",\"\",IF(ISERROR(VLOOKUP($E210,氏名ﾃﾞｰﾀ!$B:$J,6,0)),IF(ISERROR(VLOOKUP($E210,新規登録!$B:$I,8,0)),\"ﾅｼ\",VLOOKUP($E210,新規登録!$B:$I,8,0)),(VLOOKUP($E210,氏名ﾃﾞｰﾀ!$B:$J,6,0))))","v":""},{"$f":"IF($E210=\"\",\"\",IF(ISERROR(VLOOKUP($E210,氏名ﾃﾞｰﾀ!$B:$J,9,0)),IF(ISERROR(VLOOKUP($E210,新規登録!$B:$I,9,0)),\"未登録\",VLOOKUP($E210,新規登録!$B:$I,9,0)),(VLOOKUP($E210,氏名ﾃﾞｰﾀ!$B:$J,9,0))))","v":""},null,null,null,null,null,null,null,null,null,null,null,null,null,null,null,null,null,null,null,null,2,{"$f":"IF(N210=\"\",\"\",VLOOKUP(N210,ﾃﾞｰﾀ!A:D,4,0))","v":""},"秒","秒"]
["","",{"$f":"IF(E211=\"\",\"\",IF(AH211=1,COUNTIF(AH$16:AH211,1)*10+2001-10,COUNTIF(AH$16:AH211,2)*10+6001-10))","v":""},196,null,{"$f":"IF($E211=\"\",\"\",IF(ISERROR(VLOOKUP($E211,氏名ﾃﾞｰﾀ!$B:$J,2,0)),IF(ISERROR(VLOOKUP($E211,新規登録!$B:$I,2,0)),\"未登録\",VLOOKUP($E211,新規登録!$B:$I,2,0)),(VLOOKUP($E211,氏名ﾃﾞｰﾀ!$B:$J,2,0))))","v":""},{"$f":"IF($E211=\"\",\"\",IF(ISERROR(VLOOKUP($E211,氏名ﾃﾞｰﾀ!$B:$J,3,0)),IF(ISERROR(VLOOKUP($E211,新規登録!$B:$I,3,0)),\"未登録\",VLOOKUP($E211,新規登録!$B:$I,3,0)),(VLOOKUP($E211,氏名ﾃﾞｰﾀ!$B:$J,3,0))))","v":""},{"$f":"IF($E211=\"\",\"\",IF(ISERROR(VLOOKUP($E211,氏名ﾃﾞｰﾀ!$B:$J,4,0)),IF(ISERROR(VLOOKUP($E211,新規登録!$B:$I,4,0)),\"未登録\",VLOOKUP($E211,新規登録!$B:$I,4,0)),(VLOOKUP($E211,氏名ﾃﾞｰﾀ!$B:$J,4,0))))","v":""},{"$f":"IF($E211=\"\",\"\",IF(ISERROR(VLOOKUP($E211,氏名ﾃﾞｰﾀ!$B:$J,5,0)),IF(ISERROR(VLOOKUP($E211,新規登録!$B:$I,5,0)),\"未登録\",VLOOKUP($E211,新規登録!$B:$I,5,0)),(VLOOKUP($E211,氏名ﾃﾞｰﾀ!$B:$J,5,0))))","v":""},{"$f":"IF($E211=\"\",\"\",IF(ISERROR(VLOOKUP($E211,氏名ﾃﾞｰﾀ!$B:$J,8,0)),IF(ISERROR(VLOOKUP($E211,新規登録!$B:$I,6,0)),\"未登録\",VLOOKUP($E211,新規登録!$B:$I,6,0)),(VLOOKUP($E211,氏名ﾃﾞｰﾀ!$B:$J,8,0))))","v":""},{"$f":"IF($E211=\"\",\"\",IF(ISERROR(VLOOKUP($E211,氏名ﾃﾞｰﾀ!$B:$J,7,0)),IF(ISERROR(VLOOKUP($E211,新規登録!$B:$I,7,0)),\"未登録\",VLOOKUP($E211,新規登録!$B:$I,7,0)),$G$3))","v":""},{"$f":"IF($E211=\"\",\"\",IF(ISERROR(VLOOKUP($E211,氏名ﾃﾞｰﾀ!$B:$J,6,0)),IF(ISERROR(VLOOKUP($E211,新規登録!$B:$I,8,0)),\"ﾅｼ\",VLOOKUP($E211,新規登録!$B:$I,8,0)),(VLOOKUP($E211,氏名ﾃﾞｰﾀ!$B:$J,6,0))))","v":""},{"$f":"IF($E211=\"\",\"\",IF(ISERROR(VLOOKUP($E211,氏名ﾃﾞｰﾀ!$B:$J,9,0)),IF(ISERROR(VLOOKUP($E211,新規登録!$B:$I,9,0)),\"未登録\",VLOOKUP($E211,新規登録!$B:$I,9,0)),(VLOOKUP($E211,氏名ﾃﾞｰﾀ!$B:$J,9,0))))","v":""},null,null,null,null,null,null,null,null,null,null,null,null,null,null,null,null,null,null,null,null,2,{"$f":"IF(N211=\"\",\"\",VLOOKUP(N211,ﾃﾞｰﾀ!A:D,4,0))","v":""},"秒","秒"]
["","",{"$f":"IF(E212=\"\",\"\",IF(AH212=1,COUNTIF(AH$16:AH212,1)*10+2001-10,COUNTIF(AH$16:AH212,2)*10+6001-10))","v":""},197,null,{"$f":"IF($E212=\"\",\"\",IF(ISERROR(VLOOKUP($E212,氏名ﾃﾞｰﾀ!$B:$J,2,0)),IF(ISERROR(VLOOKUP($E212,新規登録!$B:$I,2,0)),\"未登録\",VLOOKUP($E212,新規登録!$B:$I,2,0)),(VLOOKUP($E212,氏名ﾃﾞｰﾀ!$B:$J,2,0))))","v":""},{"$f":"IF($E212=\"\",\"\",IF(ISERROR(VLOOKUP($E212,氏名ﾃﾞｰﾀ!$B:$J,3,0)),IF(ISERROR(VLOOKUP($E212,新規登録!$B:$I,3,0)),\"未登録\",VLOOKUP($E212,新規登録!$B:$I,3,0)),(VLOOKUP($E212,氏名ﾃﾞｰﾀ!$B:$J,3,0))))","v":""},{"$f":"IF($E212=\"\",\"\",IF(ISERROR(VLOOKUP($E212,氏名ﾃﾞｰﾀ!$B:$J,4,0)),IF(ISERROR(VLOOKUP($E212,新規登録!$B:$I,4,0)),\"未登録\",VLOOKUP($E212,新規登録!$B:$I,4,0)),(VLOOKUP($E212,氏名ﾃﾞｰﾀ!$B:$J,4,0))))","v":""},{"$f":"IF($E212=\"\",\"\",IF(ISERROR(VLOOKUP($E212,氏名ﾃﾞｰﾀ!$B:$J,5,0)),IF(ISERROR(VLOOKUP($E212,新規登録!$B:$I,5,0)),\"未登録\",VLOOKUP($E212,新規登録!$B:$I,5,0)),(VLOOKUP($E212,氏名ﾃﾞｰﾀ!$B:$J,5,0))))","v":""},{"$f":"IF($E212=\"\",\"\",IF(ISERROR(VLOOKUP($E212,氏名ﾃﾞｰﾀ!$B:$J,8,0)),IF(ISERROR(VLOOKUP($E212,新規登録!$B:$I,6,0)),\"未登録\",VLOOKUP($E212,新規登録!$B:$I,6,0)),(VLOOKUP($E212,氏名ﾃﾞｰﾀ!$B:$J,8,0))))","v":""},{"$f":"IF($E212=\"\",\"\",IF(ISERROR(VLOOKUP($E212,氏名ﾃﾞｰﾀ!$B:$J,7,0)),IF(ISERROR(VLOOKUP($E212,新規登録!$B:$I,7,0)),\"未登録\",VLOOKUP($E212,新規登録!$B:$I,7,0)),$G$3))","v":""},{"$f":"IF($E212=\"\",\"\",IF(ISERROR(VLOOKUP($E212,氏名ﾃﾞｰﾀ!$B:$J,6,0)),IF(ISERROR(VLOOKUP($E212,新規登録!$B:$I,8,0)),\"ﾅｼ\",VLOOKUP($E212,新規登録!$B:$I,8,0)),(VLOOKUP($E212,氏名ﾃﾞｰﾀ!$B:$J,6,0))))","v":""},{"$f":"IF($E212=\"\",\"\",IF(ISERROR(VLOOKUP($E212,氏名ﾃﾞｰﾀ!$B:$J,9,0)),IF(ISERROR(VLOOKUP($E212,新規登録!$B:$I,9,0)),\"未登録\",VLOOKUP($E212,新規登録!$B:$I,9,0)),(VLOOKUP($E212,氏名ﾃﾞｰﾀ!$B:$J,9,0))))","v":""},null,null,null,null,null,null,null,null,null,null,null,null,null,null,null,null,null,null,null,null,2,{"$f":"IF(N212=\"\",\"\",VLOOKUP(N212,ﾃﾞｰﾀ!A:D,4,0))","v":""},"秒","秒"]
["","",{"$f":"IF(E213=\"\",\"\",IF(AH213=1,COUNTIF(AH$16:AH213,1)*10+2001-10,COUNTIF(AH$16:AH213,2)*10+6001-10))","v":""},198,null,{"$f":"IF($E213=\"\",\"\",IF(ISERROR(VLOOKUP($E213,氏名ﾃﾞｰﾀ!$B:$J,2,0)),IF(ISERROR(VLOOKUP($E213,新規登録!$B:$I,2,0)),\"未登録\",VLOOKUP($E213,新規登録!$B:$I,2,0)),(VLOOKUP($E213,氏名ﾃﾞｰﾀ!$B:$J,2,0))))","v":""},{"$f":"IF($E213=\"\",\"\",IF(ISERROR(VLOOKUP($E213,氏名ﾃﾞｰﾀ!$B:$J,3,0)),IF(ISERROR(VLOOKUP($E213,新規登録!$B:$I,3,0)),\"未登録\",VLOOKUP($E213,新規登録!$B:$I,3,0)),(VLOOKUP($E213,氏名ﾃﾞｰﾀ!$B:$J,3,0))))","v":""},{"$f":"IF($E213=\"\",\"\",IF(ISERROR(VLOOKUP($E213,氏名ﾃﾞｰﾀ!$B:$J,4,0)),IF(ISERROR(VLOOKUP($E213,新規登録!$B:$I,4,0)),\"未登録\",VLOOKUP($E213,新規登録!$B:$I,4,0)),(VLOOKUP($E213,氏名ﾃﾞｰﾀ!$B:$J,4,0))))","v":""},{"$f":"IF($E213=\"\",\"\",IF(ISERROR(VLOOKUP($E213,氏名ﾃﾞｰﾀ!$B:$J,5,0)),IF(ISERROR(VLOOKUP($E213,新規登録!$B:$I,5,0)),\"未登録\",VLOOKUP($E213,新規登録!$B:$I,5,0)),(VLOOKUP($E213,氏名ﾃﾞｰﾀ!$B:$J,5,0))))","v":""},{"$f":"IF($E213=\"\",\"\",IF(ISERROR(VLOOKUP($E213,氏名ﾃﾞｰﾀ!$B:$J,8,0)),IF(ISERROR(VLOOKUP($E213,新規登録!$B:$I,6,0)),\"未登録\",VLOOKUP($E213,新規登録!$B:$I,6,0)),(VLOOKUP($E213,氏名ﾃﾞｰﾀ!$B:$J,8,0))))","v":""},{"$f":"IF($E213=\"\",\"\",IF(ISERROR(VLOOKUP($E213,氏名ﾃﾞｰﾀ!$B:$J,7,0)),IF(ISERROR(VLOOKUP($E213,新規登録!$B:$I,7,0)),\"未登録\",VLOOKUP($E213,新規登録!$B:$I,7,0)),$G$3))","v":""},{"$f":"IF($E213=\"\",\"\",IF(ISERROR(VLOOKUP($E213,氏名ﾃﾞｰﾀ!$B:$J,6,0)),IF(ISERROR(VLOOKUP($E213,新規登録!$B:$I,8,0)),\"ﾅｼ\",VLOOKUP($E213,新規登録!$B:$I,8,0)),(VLOOKUP($E213,氏名ﾃﾞｰﾀ!$B:$J,6,0))))","v":""},{"$f":"IF($E213=\"\",\"\",IF(ISERROR(VLOOKUP($E213,氏名ﾃﾞｰﾀ!$B:$J,9,0)),IF(ISERROR(VLOOKUP($E213,新規登録!$B:$I,9,0)),\"未登録\",VLOOKUP($E213,新規登録!$B:$I,9,0)),(VLOOKUP($E213,氏名ﾃﾞｰﾀ!$B:$J,9,0))))","v":""},null,null,null,null,null,null,null,null,null,null,null,null,null,null,null,null,null,null,null,null,2,{"$f":"IF(N213=\"\",\"\",VLOOKUP(N213,ﾃﾞｰﾀ!A:D,4,0))","v":""},"秒","秒"]
["","",{"$f":"IF(E214=\"\",\"\",IF(AH214=1,COUNTIF(AH$16:AH214,1)*10+2001-10,COUNTIF(AH$16:AH214,2)*10+6001-10))","v":""},199,null,{"$f":"IF($E214=\"\",\"\",IF(ISERROR(VLOOKUP($E214,氏名ﾃﾞｰﾀ!$B:$J,2,0)),IF(ISERROR(VLOOKUP($E214,新規登録!$B:$I,2,0)),\"未登録\",VLOOKUP($E214,新規登録!$B:$I,2,0)),(VLOOKUP($E214,氏名ﾃﾞｰﾀ!$B:$J,2,0))))","v":""},{"$f":"IF($E214=\"\",\"\",IF(ISERROR(VLOOKUP($E214,氏名ﾃﾞｰﾀ!$B:$J,3,0)),IF(ISERROR(VLOOKUP($E214,新規登録!$B:$I,3,0)),\"未登録\",VLOOKUP($E214,新規登録!$B:$I,3,0)),(VLOOKUP($E214,氏名ﾃﾞｰﾀ!$B:$J,3,0))))","v":""},{"$f":"IF($E214=\"\",\"\",IF(ISERROR(VLOOKUP($E214,氏名ﾃﾞｰﾀ!$B:$J,4,0)),IF(ISERROR(VLOOKUP($E214,新規登録!$B:$I,4,0)),\"未登録\",VLOOKUP($E214,新規登録!$B:$I,4,0)),(VLOOKUP($E214,氏名ﾃﾞｰﾀ!$B:$J,4,0))))","v":""},{"$f":"IF($E214=\"\",\"\",IF(ISERROR(VLOOKUP($E214,氏名ﾃﾞｰﾀ!$B:$J,5,0)),IF(ISERROR(VLOOKUP($E214,新規登録!$B:$I,5,0)),\"未登録\",VLOOKUP($E214,新規登録!$B:$I,5,0)),(VLOOKUP($E214,氏名ﾃﾞｰﾀ!$B:$J,5,0))))","v":""},{"$f":"IF($E214=\"\",\"\",IF(ISERROR(VLOOKUP($E214,氏名ﾃﾞｰﾀ!$B:$J,8,0)),IF(ISERROR(VLOOKUP($E214,新規登録!$B:$I,6,0)),\"未登録\",VLOOKUP($E214,新規登録!$B:$I,6,0)),(VLOOKUP($E214,氏名ﾃﾞｰﾀ!$B:$J,8,0))))","v":""},{"$f":"IF($E214=\"\",\"\",IF(ISERROR(VLOOKUP($E214,氏名ﾃﾞｰﾀ!$B:$J,7,0)),IF(ISERROR(VLOOKUP($E214,新規登録!$B:$I,7,0)),\"未登録\",VLOOKUP($E214,新規登録!$B:$I,7,0)),$G$3))","v":""},{"$f":"IF($E214=\"\",\"\",IF(ISERROR(VLOOKUP($E214,氏名ﾃﾞｰﾀ!$B:$J,6,0)),IF(ISERROR(VLOOKUP($E214,新規登録!$B:$I,8,0)),\"ﾅｼ\",VLOOKUP($E214,新規登録!$B:$I,8,0)),(VLOOKUP($E214,氏名ﾃﾞｰﾀ!$B:$J,6,0))))","v":""},{"$f":"IF($E214=\"\",\"\",IF(ISERROR(VLOOKUP($E214,氏名ﾃﾞｰﾀ!$B:$J,9,0)),IF(ISERROR(VLOOKUP($E214,新規登録!$B:$I,9,0)),\"未登録\",VLOOKUP($E214,新規登録!$B:$I,9,0)),(VLOOKUP($E214,氏名ﾃﾞｰﾀ!$B:$J,9,0))))","v":""},null,null,null,null,null,null,null,null,null,null,null,null,null,null,null,null,null,null,null,null,2,{"$f":"IF(N214=\"\",\"\",VLOOKUP(N214,ﾃﾞｰﾀ!A:D,4,0))","v":""},"秒","秒"]
["","",{"$f":"IF(E215=\"\",\"\",IF(AH215=1,COUNTIF(AH$16:AH215,1)*10+2001-10,COUNTIF(AH$16:AH215,2)*10+6001-10))","v":""},200,null,{"$f":"IF($E215=\"\",\"\",IF(ISERROR(VLOOKUP($E215,氏名ﾃﾞｰﾀ!$B:$J,2,0)),IF(ISERROR(VLOOKUP($E215,新規登録!$B:$I,2,0)),\"未登録\",VLOOKUP($E215,新規登録!$B:$I,2,0)),(VLOOKUP($E215,氏名ﾃﾞｰﾀ!$B:$J,2,0))))","v":""},{"$f":"IF($E215=\"\",\"\",IF(ISERROR(VLOOKUP($E215,氏名ﾃﾞｰﾀ!$B:$J,3,0)),IF(ISERROR(VLOOKUP($E215,新規登録!$B:$I,3,0)),\"未登録\",VLOOKUP($E215,新規登録!$B:$I,3,0)),(VLOOKUP($E215,氏名ﾃﾞｰﾀ!$B:$J,3,0))))","v":""},{"$f":"IF($E215=\"\",\"\",IF(ISERROR(VLOOKUP($E215,氏名ﾃﾞｰﾀ!$B:$J,4,0)),IF(ISERROR(VLOOKUP($E215,新規登録!$B:$I,4,0)),\"未登録\",VLOOKUP($E215,新規登録!$B:$I,4,0)),(VLOOKUP($E215,氏名ﾃﾞｰﾀ!$B:$J,4,0))))","v":""},{"$f":"IF($E215=\"\",\"\",IF(ISERROR(VLOOKUP($E215,氏名ﾃﾞｰﾀ!$B:$J,5,0)),IF(ISERROR(VLOOKUP($E215,新規登録!$B:$I,5,0)),\"未登録\",VLOOKUP($E215,新規登録!$B:$I,5,0)),(VLOOKUP($E215,氏名ﾃﾞｰﾀ!$B:$J,5,0))))","v":""},{"$f":"IF($E215=\"\",\"\",IF(ISERROR(VLOOKUP($E215,氏名ﾃﾞｰﾀ!$B:$J,8,0)),IF(ISERROR(VLOOKUP($E215,新規登録!$B:$I,6,0)),\"未登録\",VLOOKUP($E215,新規登録!$B:$I,6,0)),(VLOOKUP($E215,氏名ﾃﾞｰﾀ!$B:$J,8,0))))","v":""},{"$f":"IF($E215=\"\",\"\",IF(ISERROR(VLOOKUP($E215,氏名ﾃﾞｰﾀ!$B:$J,7,0)),IF(ISERROR(VLOOKUP($E215,新規登録!$B:$I,7,0)),\"未登録\",VLOOKUP($E215,新規登録!$B:$I,7,0)),$G$3))","v":""},{"$f":"IF($E215=\"\",\"\",IF(ISERROR(VLOOKUP($E215,氏名ﾃﾞｰﾀ!$B:$J,6,0)),IF(ISERROR(VLOOKUP($E215,新規登録!$B:$I,8,0)),\"ﾅｼ\",VLOOKUP($E215,新規登録!$B:$I,8,0)),(VLOOKUP($E215,氏名ﾃﾞｰﾀ!$B:$J,6,0))))","v":""},{"$f":"IF($E215=\"\",\"\",IF(ISERROR(VLOOKUP($E215,氏名ﾃﾞｰﾀ!$B:$J,9,0)),IF(ISERROR(VLOOKUP($E215,新規登録!$B:$I,9,0)),\"未登録\",VLOOKUP($E215,新規登録!$B:$I,9,0)),(VLOOKUP($E215,氏名ﾃﾞｰﾀ!$B:$J,9,0))))","v":""},null,null,null,null,null,null,null,null,null,null,null,null,null,null,null,null,null,null,null,null,2,{"$f":"IF(N215=\"\",\"\",VLOOKUP(N215,ﾃﾞｰﾀ!A:D,4,0))","v":""},"秒","秒"]

{"sheet":"会計シート","index":4,"n_rows":24,"n_cols":23,"rows_kept":24,"cut":false,"hidden":false,"merged":[[23,13,23,16],[21,4,21,5],[19,10,19,11],[20,10,20,11],[21,10,21,11],[19,13,19,16],[20,13,20,16],[21,14,21,16],[4,20,4,22],[9,1,9,4],[9,5,9,8],[9,9,9,12],[10,2,10,4],[10,6,10,8],[10,10,10,12],[13,13,13,16],[0,2,0,3],[13,2,13,4],[13,6,13,8],[13,10,13,12],[11,2,11,4],[11,6,11,8],[11,10,11,12],[12,2,12,4],[12,6,12,8],[12,10,12,12],[4,1,4,19],[11,13,11,16],[12,13,12,16]]}
[null,"学校番号",{"$f":"ｴﾝﾄﾘｰ票!AA7+(ｴﾝﾄﾘｰ票!Z7)*100","v":400},null,null,"学校名",{"$f":"ｴﾝﾄﾘｰ票!G2","v":0}]
[]
["大会名",null,{"$f":"ｴﾝﾄﾘｰ票!G1","v":"東京高体連陸上第4支部秋季競技会1"}]
[]
[null,"個人",null,null,null,null,null,null,null,null,null,null,null,null,null,null,null,null,null,null,"リレー"]
[null,"100m","200m","400m","800m","1500m","3000m","5000m","100mH","110mH","400mH","3000mSC","走高跳","棒高跳","走幅跳","三段跳","砲丸投","円盤投","やり投","合計","4x100mR","4x400mR","合計"]
["男子",{"$f":"COUNTIFS(ｴﾝﾄﾘｰ票!$L$16:$L$215,\"男\",ｴﾝﾄﾘｰ票!$N$16:$N$215,B6)+COUNTIFS(ｴﾝﾄﾘｰ票!$L$16:$L$215,\"男\",ｴﾝﾄﾘｰ票!$R$16:$R$215,B6)+COUNTIFS(ｴﾝﾄﾘｰ票!$L$16:$L$215,\"男\",ｴﾝﾄﾘｰ票!$V$16:$V$215,B6)","v":0},{"$f":"COUNTIFS(ｴﾝﾄﾘｰ票!$L$16:$L$215,\"男\",ｴﾝﾄﾘｰ票!$N$16:$N$215,C6)+COUNTIFS(ｴﾝﾄﾘｰ票!$L$16:$L$215,\"男\",ｴﾝﾄﾘｰ票!$R$16:$R$215,C6)+COUNTIFS(ｴﾝﾄﾘｰ票!$L$16:$L$215,\"男\",ｴﾝﾄﾘｰ票!$V$16:$V$215,C6)","v":0},{"$f":"COUNTIFS(ｴﾝﾄﾘｰ票!$L$16:$L$215,\"男\",ｴﾝﾄﾘｰ票!$N$16:$N$215,D6)+COUNTIFS(ｴﾝﾄﾘｰ票!$L$16:$L$215,\"男\",ｴﾝﾄﾘｰ票!$R$16:$R$215,D6)+COUNTIFS(ｴﾝﾄﾘｰ票!$L$16:$L$215,\"男\",ｴﾝﾄﾘｰ票!$V$16:$V$215,D6)","v":0},{"$f":"COUNTIFS(ｴﾝﾄﾘｰ票!$L$16:$L$215,\"男\",ｴﾝﾄﾘｰ票!$N$16:$N$215,E6)+COUNTIFS(ｴﾝﾄﾘｰ票!$L$16:$L$215,\"男\",ｴﾝﾄﾘｰ票!$R$16:$R$215,E6)+COUNTIFS(ｴﾝﾄﾘｰ票!$L$16:$L$215,\"男\",ｴﾝﾄﾘｰ票!$V$16:$V$215,E6)","v":0},{"$f":"COUNTIFS(ｴﾝﾄﾘｰ票!$L$16:$L$215,\"男\",ｴﾝﾄﾘｰ票!$N$16:$N$215,F6)+COUNTIFS(ｴﾝﾄﾘｰ票!$L$16:$L$215,\"男\",ｴﾝﾄﾘｰ票!$R$16:$R$215,F6)+COUNTIFS(ｴﾝﾄﾘｰ票!$L$16:$L$215,\"男\",ｴﾝﾄﾘｰ票!$V$16:$V$215,F6)","v":0},null,{"$f":"COUNTIFS(ｴﾝﾄﾘｰ票!$L$16:$L$215,\"男\",ｴﾝﾄﾘｰ票!$N$16:$N$215,H6)+COUNTIFS(ｴﾝﾄﾘｰ票!$L$16:$L$215,\"男\",ｴﾝﾄﾘｰ票!$R$16:$R$215,H6)+COUNTIFS(ｴﾝﾄﾘｰ票!$L$16:$L$215,\"男\",ｴﾝﾄﾘｰ票!$V$16:$V$215,H6)","v":0},null,{"$f":"COUNTIFS(ｴﾝﾄﾘｰ票!$L$16:$L$215,\"男\",ｴﾝﾄﾘｰ票!$N$16:$N$215,J6)+COUNTIFS(ｴﾝﾄﾘｰ票!$L$16:$L$215,\"男\",ｴﾝﾄﾘｰ票!$R$16:$R$215,J6)+COUNTIFS(ｴﾝﾄﾘｰ票!$L$16:$L$215,\"男\",ｴﾝﾄﾘｰ票!$V$16:$V$215,J6)","v":0},{"$f":"COUNTIFS(ｴﾝﾄﾘｰ票!$L$16:$L$215,\"男\",ｴﾝﾄﾘｰ票!$N$16:$N$215,K6)+COUNTIFS(ｴﾝﾄﾘｰ票!$L$16:$L$215,\"男\",ｴﾝﾄﾘｰ票!$R$16:$R$215,K6)+COUNTIFS(ｴﾝﾄﾘｰ票!$L$16:$L$215,\"男\",ｴﾝﾄﾘｰ票!$V$16:$V$215,K6)","v":0},{"$f":"COUNTIFS(ｴﾝﾄﾘｰ票!$L$16:$L$215,\"男\",ｴﾝﾄﾘｰ票!$N$16:$N$215,L6)+COUNTIFS(ｴﾝﾄﾘｰ票!$L$16:$L$215,\"男\",ｴﾝﾄﾘｰ票!$R$16:$R$215,L6)+COUNTIFS(ｴﾝﾄﾘｰ票!$L$16:$L$215,\"男\",ｴﾝﾄﾘｰ票!$V$16:$V$215,L6)","v":0},{"$f":"COUNTIFS(ｴﾝﾄﾘｰ票!$L$16:$L$215,\"男\",ｴﾝﾄﾘｰ票!$N$16:$N$215,M6)+COUNTIFS(ｴﾝﾄﾘｰ票!$L$16:$L$215,\"男\",ｴﾝﾄﾘｰ票!$R$16:$R$215,M6)+COUNTIFS(ｴﾝﾄﾘｰ票!$L$16:$L$215,\"男\",ｴﾝﾄﾘｰ票!$V$16:$V$215,M6)","v":0},{"$f":"COUNTIFS(ｴﾝﾄﾘｰ票!$L$16:$L$215,\"男\",ｴﾝﾄﾘｰ票!$N$16:$N$215,N6)+COUNTIFS(ｴﾝﾄﾘｰ票!$L$16:$L$215,\"男\",ｴﾝﾄﾘｰ票!$R$16:$R$215,N6)+COUNTIFS(ｴﾝﾄﾘｰ票!$L$16:$L$215,\"男\",ｴﾝﾄﾘｰ票!$V$16:$V$215,N6)","v":0},{"$f":"COUNTIFS(ｴﾝﾄﾘｰ票!$L$16:$L$215,\"男\",ｴﾝﾄﾘｰ票!$N$16:$N$215,O6)+COUNTIFS(ｴﾝﾄﾘｰ票!$L$16:$L$215,\"男\",ｴﾝﾄﾘｰ票!$R$16:$R$215,O6)+COUNTIFS(ｴﾝﾄﾘｰ票!$L$16:$L$215,\"男\",ｴﾝﾄﾘｰ票!$V$16:$V$215,O6)","v":0},{"$f":"COUNTIFS(ｴﾝﾄﾘｰ票!$L$16:$L$215,\"男\",ｴﾝﾄﾘｰ票!$N$16:$N$215,P6)+COUNTIFS(ｴﾝﾄﾘｰ票!$L$16:$L$215,\"男\",ｴﾝﾄﾘｰ票!$R$16:$R$215,P6)+COUNTIFS(ｴﾝﾄﾘｰ票!$L$16:$L$215,\"男\",ｴﾝﾄﾘｰ票!$V$16:$V$215,P6)","v":0},{"$f":"COUNTIFS(ｴﾝﾄﾘｰ票!$L$16:$L$215,\"男\",ｴﾝﾄﾘｰ票!$N$16:$N$215,Q6)+COUNTIFS(ｴﾝﾄﾘｰ票!$L$16:$L$215,\"男\",ｴﾝﾄﾘｰ票!$R$16:$R$215,Q6)+COUNTIFS(ｴﾝﾄﾘｰ票!$L$16:$L$215,\"男\",ｴﾝﾄﾘｰ票!$V$16:$V$215,Q6)","v":0},{"$f":"COUNTIFS(ｴﾝﾄﾘｰ票!$L$16:$L$215,\"男\",ｴﾝﾄﾘｰ票!$N$16:$N$215,R6)+COUNTIFS(ｴﾝﾄﾘｰ票!$L$16:$L$215,\"男\",ｴﾝﾄﾘｰ票!$R$16:$R$215,R6)+COUNTIFS(ｴﾝﾄﾘｰ票!$L$16:$L$215,\"男\",ｴﾝﾄﾘｰ票!$V$16:$V$215,R6)","v":0},{"$f":"COUNTIFS(ｴﾝﾄﾘｰ票!$L$16:$L$215,\"男\",ｴﾝﾄﾘｰ票!$N$16:$N$215,S6)+COUNTIFS(ｴﾝﾄﾘｰ票!$L$16:$L$215,\"男\",ｴﾝﾄﾘｰ票!$R$16:$R$215,S6)+COUNTIFS(ｴﾝﾄﾘｰ票!$L$16:$L$215,\"男\",ｴﾝﾄﾘｰ票!$V$16:$V$215,S6)","v":0},{"$f":"SUM(B7:S7)+T12","v":0},{"$f":"ｴﾝﾄﾘｰ票!Z11","v":0},{"$f":"ｴﾝﾄﾘｰ票!AA11","v":0},{"$f":"SUM(U7:V7)","v":0}]
["女子",{"$f":"COUNTIFS(ｴﾝﾄﾘｰ票!$L$16:$L$215,\"女\",ｴﾝﾄﾘｰ票!$N$16:$N$215,B6)+COUNTIFS(ｴﾝﾄﾘｰ票!$L$16:$L$215,\"女\",ｴﾝﾄﾘｰ票!$R$16:$R$215,B6)+COUNTIFS(ｴﾝﾄﾘｰ票!$L$16:$L$215,\"女\",ｴﾝﾄﾘｰ票!$V$16:$V$215,B6)","v":0},{"$f":"COUNTIFS(ｴﾝﾄﾘｰ票!$L$16:$L$215,\"女\",ｴﾝﾄﾘｰ票!$N$16:$N$215,C6)+COUNTIFS(ｴﾝﾄﾘｰ票!$L$16:$L$215,\"女\",ｴﾝﾄﾘｰ票!$R$16:$R$215,C6)+COUNTIFS(ｴﾝﾄﾘｰ票!$L$16:$L$215,\"女\",ｴﾝﾄﾘｰ票!$V$16:$V$215,C6)","v":0},{"$f":"COUNTIFS(ｴﾝﾄﾘｰ票!$L$16:$L$215,\"女\",ｴﾝﾄﾘｰ票!$N$16:$N$215,D6)+COUNTIFS(ｴﾝﾄﾘｰ票!$L$16:$L$215,\"女\",ｴﾝﾄﾘｰ票!$R$16:$R$215,D6)+COUNTIFS(ｴﾝﾄﾘｰ票!$L$16:$L$215,\"女\",ｴﾝﾄﾘｰ票!$V$16:$V$215,D6)","v":0},{"$f":"COUNTIFS(ｴﾝﾄﾘｰ票!$L$16:$L$215,\"女\",ｴﾝﾄﾘｰ票!$N$16:$N$215,E6)+COUNTIFS(ｴﾝﾄﾘｰ票!$L$16:$L$215,\"女\",ｴﾝﾄﾘｰ票!$R$16:$R$215,E6)+COUNTIFS(ｴﾝﾄﾘｰ票!$L$16:$L$215,\"女\",ｴﾝﾄﾘｰ票!$V$16:$V$215,E6)","v":0},{"$f":"COUNTIFS(ｴﾝﾄﾘｰ票!$L$16:$L$215,\"女\",ｴﾝﾄﾘｰ票!$N$16:$N$215,F6)+COUNTIFS(ｴﾝﾄﾘｰ票!$L$16:$L$215,\"女\",ｴﾝﾄﾘｰ票!$R$16:$R$215,F6)+COUNTIFS(ｴﾝﾄﾘｰ票!$L$16:$L$215,\"女\",ｴﾝﾄﾘｰ票!$V$16:$V$215,F6)","v":0},{"$f":"COUNTIFS(ｴﾝﾄﾘｰ票!$L$16:$L$215,\"女\",ｴﾝﾄﾘｰ票!$N$16:$N$215,G6)+COUNTIFS(ｴﾝﾄﾘｰ票!$L$16:$L$215,\"女\",ｴﾝﾄﾘｰ票!$R$16:$R$215,G6)+COUNTIFS(ｴﾝﾄﾘｰ票!$L$16:$L$215,\"女\",ｴﾝﾄﾘｰ票!$V$16:$V$215,G6)","v":0},null,{"$f":"COUNTIFS(ｴﾝﾄﾘｰ票!$L$16:$L$215,\"女\",ｴﾝﾄﾘｰ票!$N$16:$N$215,I6)+COUNTIFS(ｴﾝﾄﾘｰ票!$L$16:$L$215,\"女\",ｴﾝﾄﾘｰ票!$R$16:$R$215,I6)+COUNTIFS(ｴﾝﾄﾘｰ票!$L$16:$L$215,\"女\",ｴﾝﾄﾘｰ票!$V$16:$V$215,I6)","v":0},null,{"$f":"COUNTIFS(ｴﾝﾄﾘｰ票!$L$16:$L$215,\"女\",ｴﾝﾄﾘｰ票!$N$16:$N$215,K6)+COUNTIFS(ｴﾝﾄﾘｰ票!$L$16:$L$215,\"女\",ｴﾝﾄﾘｰ票!$R$16:$R$215,K6)+COUNTIFS(ｴﾝﾄﾘｰ票!$L$16:$L$215,\"女\",ｴﾝﾄﾘｰ票!$V$16:$V$215,K6)","v":0},null,{"$f":"COUNTIFS(ｴﾝﾄﾘｰ票!$L$16:$L$215,\"女\",ｴﾝﾄﾘｰ票!$N$16:$N$215,M6)+COUNTIFS(ｴﾝﾄﾘｰ票!$L$16:$L$215,\"女\",ｴﾝﾄﾘｰ票!$R$16:$R$215,M6)+COUNTIFS(ｴﾝﾄﾘｰ票!$L$16:$L$215,\"女\",ｴﾝﾄﾘｰ票!$V$16:$V$215,M6)","v":0},{"$f":"COUNTIFS(ｴﾝﾄﾘｰ票!$L$16:$L$215,\"女\",ｴﾝﾄﾘｰ票!$N$16:$N$215,N6)+COUNTIFS(ｴﾝﾄﾘｰ票!$L$16:$L$215,\"女\",ｴﾝﾄﾘｰ票!$R$16:$R$215,N6)+COUNTIFS(ｴﾝﾄﾘｰ票!$L$16:$L$215,\"女\",ｴﾝﾄﾘｰ票!$V$16:$V$215,N6)","v":0},{"$f":"COUNTIFS(ｴﾝﾄﾘｰ票!$L$16:$L$215,\"女\",ｴﾝﾄﾘｰ票!$N$16:$N$215,O6)+COUNTIFS(ｴﾝﾄﾘｰ票!$L$16:$L$215,\"女\",ｴﾝﾄﾘｰ票!$R$16:$R$215,O6)+COUNTIFS(ｴﾝﾄﾘｰ票!$L$16:$L$215,\"女\",ｴﾝﾄﾘｰ票!$V$16:$V$215,O6)","v":0},{"$f":"COUNTIFS(ｴﾝﾄﾘｰ票!$L$16:$L$215,\"女\",ｴﾝﾄﾘｰ票!$N$16:$N$215,P6)+COUNTIFS(ｴﾝﾄﾘｰ票!$L$16:$L$215,\"女\",ｴﾝﾄﾘｰ票!$R$16:$R$215,P6)+COUNTIFS(ｴﾝﾄﾘｰ票!$L$16:$L$215,\"女\",ｴﾝﾄﾘｰ票!$V$16:$V$215,P6)","v":0},{"$f":"COUNTIFS(ｴﾝﾄﾘｰ票!$L$16:$L$215,\"女\",ｴﾝﾄﾘｰ票!$N$16:$N$215,Q6)+COUNTIFS(ｴﾝﾄﾘｰ票!$L$16:$L$215,\"女\",ｴﾝﾄﾘｰ票!$R$16:$R$215,Q6)+COUNTIFS(ｴﾝﾄﾘｰ票!$L$16:$L$215,\"女\",ｴﾝﾄﾘｰ票!$V$16:$V$215,Q6)","v":0},{"$f":"COUNTIFS(ｴﾝﾄﾘｰ票!$L$16:$L$215,\"女\",ｴﾝﾄﾘｰ票!$N$16:$N$215,R6)+COUNTIFS(ｴﾝﾄﾘｰ票!$L$16:$L$215,\"女\",ｴﾝﾄﾘｰ票!$R$16:$R$215,R6)+COUNTIFS(ｴﾝﾄﾘｰ票!$L$16:$L$215,\"女\",ｴﾝﾄﾘｰ票!$V$16:$V$215,R6)","v":0},{"$f":"COUNTIFS(ｴﾝﾄﾘｰ票!$L$16:$L$215,\"女\",ｴﾝﾄﾘｰ票!$N$16:$N$215,S6)+COUNTIFS(ｴﾝﾄﾘｰ票!$L$16:$L$215,\"女\",ｴﾝﾄﾘｰ票!$R$16:$R$215,S6)+COUNTIFS(ｴﾝﾄﾘｰ票!$L$16:$L$215,\"女\",ｴﾝﾄﾘｰ票!$V$16:$V$215,S6)","v":0},{"$f":"SUM(B8:S8)+T13","v":0},{"$f":"ｴﾝﾄﾘｰ票!Z12","v":0},{"$f":"ｴﾝﾄﾘｰ票!AA12","v":0},{"$f":"SUM(U8:V8)","v":0}]
[]
[null,"個人種目（600円）",null,null,null,"リレー種目（1200円）",null,null,null,"プログラム（600円）",null,null,null,null,"合計",null,null,null,null,"中学"]
["項目","数","合計",null,null,"数","合計",null,null,"数","合計",null,null,null,null,null,null,null,null,"砲丸投"]
["男子",{"$f":"T7","v":0},{"$f":"B12*600","v":0},null,null,{"$f":"W7","v":0},{"$f":"F12*1200","v":0},null,null,{"$f":"ｴﾝﾄﾘｰ票!AC11","v":0},{"$f":"J12*600","v":0},null,null,{"$f":"SUM(C12,G12,K12)","v":0},null,null,null,null,"男子",{"$f":"COUNTIFS(ｴﾝﾄﾘｰ票!$L$16:$L$215,\"男\",ｴﾝﾄﾘｰ票!$N$16:$N$215,\"男中学砲丸投\")","v":0}]
["女子",{"$f":"T8","v":0},{"$f":"B13*600","v":0},null,null,{"$f":"W8","v":0},{"$f":"F13*1200","v":0},null,null,{"$f":"ｴﾝﾄﾘｰ票!AC12","v":0},{"$f":"J13*600","v":0},null,null,{"$f":"SUM(C13,G13,K13)","v":0},null,null,null,null,"女子",{"$f":"COUNTIFS(ｴﾝﾄﾘｰ票!$L$16:$L$215,\"女\",ｴﾝﾄﾘｰ票!$N$16:$N$215,\"女中学砲丸投\")","v":0}]
["合計",{"$f":"SUM(B12:B13)","v":0},{"$f":"SUM(C12:E13)","v":0},null,null,{"$f":"SUM(F12:F13)","v":0},{"$f":"SUM(G12:I13)","v":0},null,null,{"$f":"SUM(J12:J13)","v":0},{"$f":"SUM(K12:M13)","v":0},null,null,{"$f":"SUM(N12:Q13)","v":0}]
[]
["加盟・登録費"]
[]
[null,null,"新規加盟のみ(7500円)",null,null,null,null,"個人登録(1000円)"]
["項目","○印",null,null,"合計",null,null,"数",null,"合計",null,null,null,null,"合計"]
["男子",null,null,null,null,{"$f":"IF(B20=\"○\",\"7,500\",0)","v":0},null,null,null,null,{"$f":"IF(H20=\"\",0,H20*1000)","v":0},null,null,{"$f":"IF(F20=\"\",0,F20)+IF(K20=\"\",0,K20)","v":0}]
["女子",null,null,null,null,{"$f":"IF(B21=\"○\",\"7,500\",0)","v":0},null,null,null,null,{"$f":"IF(H21=\"\",0,H21*1000)","v":0},null,null,{"$f":"F21+K21","v":0}]
["合計",{"$f":"IF(IF(B20=\"○\",1,0)+IF(B21=\"○\",1,0)=0,\"\",IF(B20=\"○\",1,0)+IF(B21=\"○\",1,0))","v":""},null,null,{"$f":"F20+F21","v":0},null,null,{"$f":"H20+H21","v":0},null,null,{"$f":"IF(H22=\"\",0,H22*1000)","v":0},null,null,null,{"$f":"N21+N20","v":0}]
[]
[null,null,null,null,null,null,null,null,null,null,null,null,"①＋②  ",{"$f":"N14+O22","v":0}]

{"sheet":"リレー確認","index":5,"n_rows":73,"n_cols":22,"rows_kept":73,"cut":false,"hidden":false,"merged":[]}
[null,1,"男４×１００ｍ",null,null,null,null,"男４×4００ｍ",null,null,null,null,"女４×１００ｍ",null,null,null,null,"女４×4００ｍ"]
[null,2]
[null,3,"記録",null,null,null,null,"記録",null,null,null,null,"記録",null,null,null,null,"記録"]
[1,4,{"$f":"IF(ISERROR(VLOOKUP(A5,ｴﾝﾄﾘｰ票!$AO$16:$AT$205,6,0)),\"\",VLOOKUP(A5,ｴﾝﾄﾘｰ票!$AO$16:$AT$205,6,0))","v":""},"氏名",null,"性別","学年",{"$f":"IF(ISERROR(VLOOKUP(A5+100,ｴﾝﾄﾘｰ票!$AU$16:$AZ$205,6,0)),\"\",VLOOKUP(A5+100,ｴﾝﾄﾘｰ票!$AU$16:$AZ$205,6,0))","v":""},"氏名",null,"性別","学年",{"$f":"IF(ISERROR(VLOOKUP(A5+200,ｴﾝﾄﾘｰ票!$BA$16:$BF$205,6,0)),\"\",VLOOKUP(A5+200,ｴﾝﾄﾘｰ票!$BA$16:$BF$205,6,0))","v":""},"氏名",null,"性別","学年",{"$f":"IF(ISERROR(VLOOKUP(A5+300,ｴﾝﾄﾘｰ票!$BG$16:$BL$205,6,0)),\"\",VLOOKUP(A5+300,ｴﾝﾄﾘｰ票!$BG$16:$BL$205,6,0))","v":""},"氏名",null,"性別","学年"]
[11,5,{"$f":"IF(ISERROR(VLOOKUP(A5,ｴﾝﾄﾘｰ票!$A$16:$AH$215,5,0)),\"\",VLOOKUP(A5,ｴﾝﾄﾘｰ票!$A$16:$AH$215,5,0))","v":""},{"$f":"IF(C5=\"\",\"\",VLOOKUP($C5,ｴﾝﾄﾘｰ票!$E$16:$L$215,2,0))","v":""},{"$f":"IF(C5=\"\",\"\",VLOOKUP($C5,ｴﾝﾄﾘｰ票!$E$16:$L$215,3,0))","v":""},{"$f":"IF(C5=\"\",\"\",VLOOKUP($C5,ｴﾝﾄﾘｰ票!$E$16:$L$215,8,0))","v":""},{"$f":"IF(C5=\"\",\"\",VLOOKUP($C5,ｴﾝﾄﾘｰ票!$E$16:$L$215,6,0))","v":""},{"$f":"IF(ISERROR(VLOOKUP(A5+100,ｴﾝﾄﾘｰ票!$AU$16:$AZ$205,4,0)),\"\",VLOOKUP(A5+100,ｴﾝﾄﾘｰ票!$AU$16:$AZ$205,4,0))","v":""},{"$f":"IF(H5=\"\",\"\",VLOOKUP($H5,ｴﾝﾄﾘｰ票!$E$16:$L$215,2,0))","v":""},{"$f":"IF(H5=\"\",\"\",VLOOKUP($H5,ｴﾝﾄﾘｰ票!$E$16:$L$215,3,0))","v":""},{"$f":"IF(H5=\"\",\"\",VLOOKUP($H5,ｴﾝﾄﾘｰ票!$E$16:$L$215,8,0))","v":""},{"$f":"IF(H5=\"\",\"\",VLOOKUP($H5,ｴﾝﾄﾘｰ票!$E$16:$L$215,6,0))","v":""},{"$f":"IF(ISERROR(VLOOKUP(A5+200,ｴﾝﾄﾘｰ票!$BA$16:$BF$205,4,0)),\"\",VLOOKUP(A5+200,ｴﾝﾄﾘｰ票!$BA$16:$BF$205,4,0))","v":""},{"$f":"IF(M5=\"\",\"\",VLOOKUP($M5,ｴﾝﾄﾘｰ票!$E$16:$L$215,2,0))","v":""},{"$f":"IF(M5=\"\",\"\",VLOOKUP($M5,ｴﾝﾄﾘｰ票!$E$16:$L$215,3,0))","v":""},{"$f":"IF(M5=\"\",\"\",VLOOKUP($M5,ｴﾝﾄﾘｰ票!$E$16:$L$215,8,0))","v":""},{"$f":"IF(M5=\"\",\"\",VLOOKUP($M5,ｴﾝﾄﾘｰ票!$E$16:$L$215,6,0))","v":""},{"$f":"IF(ISERROR(VLOOKUP(A5+300,ｴﾝﾄﾘｰ票!$BG$16:$BL$205,4,0)),\"\",VLOOKUP(A5+300,ｴﾝﾄﾘｰ票!$BG$16:$BL$205,4,0))","v":""},{"$f":"IF(R5=\"\",\"\",VLOOKUP($R5,ｴﾝﾄﾘｰ票!$E$16:$L$215,2,0))","v":""},{"$f":"IF(R5=\"\",\"\",VLOOKUP($R5,ｴﾝﾄﾘｰ票!$E$16:$L$215,3,0))","v":""},{"$f":"IF(R5=\"\",\"\",VLOOKUP($R5,ｴﾝﾄﾘｰ票!$E$16:$L$215,8,0))","v":""},{"$f":"IF(R5=\"\",\"\",VLOOKUP($R5,ｴﾝﾄﾘｰ票!$E$16:$L$215,6,0))","v":""}]
[12,6,{"$f":"IF(ISERROR(VLOOKUP(A6,ｴﾝﾄﾘｰ票!$A$16:$AH$215,5,0)),\"\",VLOOKUP(A6,ｴﾝﾄﾘｰ票!$A$16:$AH$215,5,0))","v":""},{"$f":"IF(C6=\"\",\"\",VLOOKUP($C6,ｴﾝﾄﾘｰ票!$E$16:$L$215,2,0))","v":""},{"$f":"IF(C6=\"\",\"\",VLOOKUP($C6,ｴﾝﾄﾘｰ票!$E$16:$L$215,3,0))","v":""},{"$f":"IF(C6=\"\",\"\",VLOOKUP($C6,ｴﾝﾄﾘｰ票!$E$16:$L$215,8,0))","v":""},{"$f":"IF(C6=\"\",\"\",VLOOKUP($C6,ｴﾝﾄﾘｰ票!$E$16:$L$215,6,0))","v":""},{"$f":"IF(ISERROR(VLOOKUP(A6+100,ｴﾝﾄﾘｰ票!$AU$16:$AZ$205,4,0)),\"\",VLOOKUP(A6+100,ｴﾝﾄﾘｰ票!$AU$16:$AZ$205,4,0))","v":""},{"$f":"IF(H6=\"\",\"\",VLOOKUP($H6,ｴﾝﾄﾘｰ票!$E$16:$L$215,2,0))","v":""},{"$f":"IF(H6=\"\",\"\",VLOOKUP($H6,ｴﾝﾄﾘｰ票!$E$16:$L$215,3,0))","v":""},{"$f":"IF(H6=\"\",\"\",VLOOKUP($H6,ｴﾝﾄﾘｰ票!$E$16:$L$215,8,0))","v":""},{"$f":"IF(H6=\"\",\"\",VLOOKUP($H6,ｴﾝﾄﾘｰ票!$E$16:$L$215,6,0))","v":""},{"$f":"IF(ISERROR(VLOOKUP(A6+200,ｴﾝﾄﾘｰ票!$BA$16:$BF$205,4,0)),\"\",VLOOKUP(A6+200,ｴﾝﾄﾘｰ票!$BA$16:$BF$205,4,0))","v":""},{"$f":"IF(M6=\"\",\"\",VLOOKUP($M6,ｴﾝﾄﾘｰ票!$E$16:$L$215,2,0))","v":""},{"$f":"IF(M6=\"\",\"\",VLOOKUP($M6,ｴﾝﾄﾘｰ票!$E$16:$L$215,3,0))","v":""},{"$f":"IF(M6=\"\",\"\",VLOOKUP($M6,ｴﾝﾄﾘｰ票!$E$16:$L$215,8,0))","v":""},{"$f":"IF(M6=\"\",\"\",VLOOKUP($M6,ｴﾝﾄﾘｰ票!$E$16:$L$215,6,0))","v":""},{"$f":"IF(ISERROR(VLOOKUP(A6+300,ｴﾝﾄﾘｰ票!$BG$16:$BL$205,4,0)),\"\",VLOOKUP(A6+300,ｴﾝﾄﾘｰ票!$BG$16:$BL$205,4,0))","v":""},{"$f":"IF(R6=\"\",\"\",VLOOKUP($R6,ｴﾝﾄﾘｰ票!$E$16:$L$215,2,0))","v":""},{"$f":"IF(R6=\"\",\"\",VLOOKUP($R6,ｴﾝﾄﾘｰ票!$E$16:$L$215,3,0))","v":""},{"$f":"IF(R6=\"\",\"\",VLOOKUP($R6,ｴﾝﾄﾘｰ票!$E$16:$L$215,8,0))","v":""},{"$f":"IF(R6=\"\",\"\",VLOOKUP($R6,ｴﾝﾄﾘｰ票!$E$16:$L$215,6,0))","v":""}]
[13,7,{"$f":"IF(ISERROR(VLOOKUP(A7,ｴﾝﾄﾘｰ票!$A$16:$AH$215,5,0)),\"\",VLOOKUP(A7,ｴﾝﾄﾘｰ票!$A$16:$AH$215,5,0))","v":""},{"$f":"IF(C7=\"\",\"\",VLOOKUP($C7,ｴﾝﾄﾘｰ票!$E$16:$L$215,2,0))","v":""},{"$f":"IF(C7=\"\",\"\",VLOOKUP($C7,ｴﾝﾄﾘｰ票!$E$16:$L$215,3,0))","v":""},{"$f":"IF(C7=\"\",\"\",VLOOKUP($C7,ｴﾝﾄﾘｰ票!$E$16:$L$215,8,0))","v":""},{"$f":"IF(C7=\"\",\"\",VLOOKUP($C7,ｴﾝﾄﾘｰ票!$E$16:$L$215,6,0))","v":""},{"$f":"IF(ISERROR(VLOOKUP(A7+100,ｴﾝﾄﾘｰ票!$AU$16:$AZ$205,4,0)),\"\",VLOOKUP(A7+100,ｴﾝﾄﾘｰ票!$AU$16:$AZ$205,4,0))","v":""},{"$f":"IF(H7=\"\",\"\",VLOOKUP($H7,ｴﾝﾄﾘｰ票!$E$16:$L$215,2,0))","v":""},{"$f":"IF(H7=\"\",\"\",VLOOKUP($H7,ｴﾝﾄﾘｰ票!$E$16:$L$215,3,0))","v":""},{"$f":"IF(H7=\"\",\"\",VLOOKUP($H7,ｴﾝﾄﾘｰ票!$E$16:$L$215,8,0))","v":""},{"$f":"IF(H7=\"\",\"\",VLOOKUP($H7,ｴﾝﾄﾘｰ票!$E$16:$L$215,6,0))","v":""},{"$f":"IF(ISERROR(VLOOKUP(A7+200,ｴﾝﾄﾘｰ票!$BA$16:$BF$205,4,0)),\"\",VLOOKUP(A7+200,ｴﾝﾄﾘｰ票!$BA$16:$BF$205,4,0))","v":""},{"$f":"IF(M7=\"\",\"\",VLOOKUP($M7,ｴﾝﾄﾘｰ票!$E$16:$L$215,2,0))","v":""},{"$f":"IF(M7=\"\",\"\",VLOOKUP($M7,ｴﾝﾄﾘｰ票!$E$16:$L$215,3,0))","v":""},{"$f":"IF(M7=\"\",\"\",VLOOKUP($M7,ｴﾝﾄﾘｰ票!$E$16:$L$215,8,0))","v":""},{"$f":"IF(M7=\"\",\"\",VLOOKUP($M7,ｴﾝﾄﾘｰ票!$E$16:$L$215,6,0))","v":""},{"$f":"IF(ISERROR(VLOOKUP(A7+300,ｴﾝﾄﾘｰ票!$BG$16:$BL$205,4,0)),\"\",VLOOKUP(A7+300,ｴﾝﾄﾘｰ票!$BG$16:$BL$205,4,0))","v":""},{"$f":"IF(R7=\"\",\"\",VLOOKUP($R7,ｴﾝﾄﾘｰ票!$E$16:$L$215,2,0))","v":""},{"$f":"IF(R7=\"\",\"\",VLOOKUP($R7,ｴﾝﾄﾘｰ票!$E$16:$L$215,3,0))","v":""},{"$f":"IF(R7=\"\",\"\",VLOOKUP($R7,ｴﾝﾄﾘｰ票!$E$16:$L$215,8,0))","v":""},{"$f":"IF(R7=\"\",\"\",VLOOKUP($R7,ｴﾝﾄﾘｰ票!$E$16:$L$215,6,0))","v":""}]
[14,8,{"$f":"IF(ISERROR(VLOOKUP(A8,ｴﾝﾄﾘｰ票!$A$16:$AH$215,5,0)),\"\",VLOOKUP(A8,ｴﾝﾄﾘｰ票!$A$16:$AH$215,5,0))","v":""},{"$f":"IF(C8=\"\",\"\",VLOOKUP($C8,ｴﾝﾄﾘｰ票!$E$16:$L$215,2,0))","v":""},{"$f":"IF(C8=\"\",\"\",VLOOKUP($C8,ｴﾝﾄﾘｰ票!$E$16:$L$215,3,0))","v":""},{"$f":"IF(C8=\"\",\"\",VLOOKUP($C8,ｴﾝﾄﾘｰ票!$E$16:$L$215,8,0))","v":""},{"$f":"IF(C8=\"\",\"\",VLOOKUP($C8,ｴﾝﾄﾘｰ票!$E$16:$L$215,6,0))","v":""},{"$f":"IF(ISERROR(VLOOKUP(A8+100,ｴﾝﾄﾘｰ票!$AU$16:$AZ$205,4,0)),\"\",VLOOKUP(A8+100,ｴﾝﾄﾘｰ票!$AU$16:$AZ$205,4,0))","v":""},{"$f":"IF(H8=\"\",\"\",VLOOKUP($H8,ｴﾝﾄﾘｰ票!$E$16:$L$215,2,0))","v":""},{"$f":"IF(H8=\"\",\"\",VLOOKUP($H8,ｴﾝﾄﾘｰ票!$E$16:$L$215,3,0))","v":""},{"$f":"IF(H8=\"\",\"\",VLOOKUP($H8,ｴﾝﾄﾘｰ票!$E$16:$L$215,8,0))","v":""},{"$f":"IF(H8=\"\",\"\",VLOOKUP($H8,ｴﾝﾄﾘｰ票!$E$16:$L$215,6,0))","v":""},{"$f":"IF(ISERROR(VLOOKUP(A8+200,ｴﾝﾄﾘｰ票!$BA$16:$BF$205,4,0)),\"\",VLOOKUP(A8+200,ｴﾝﾄﾘｰ票!$BA$16:$BF$205,4,0))","v":""},{"$f":"IF(M8=\"\",\"\",VLOOKUP($M8,ｴﾝﾄﾘｰ票!$E$16:$L$215,2,0))","v":""},{"$f":"IF(M8=\"\",\"\",VLOOKUP($M8,ｴﾝﾄﾘｰ票!$E$16:$L$215,3,0))","v":""},{"$f":"IF(M8=\"\",\"\",VLOOKUP($M8,ｴﾝﾄﾘｰ票!$E$16:$L$215,8,0))","v":""},{"$f":"IF(M8=\"\",\"\",VLOOKUP($M8,ｴﾝﾄﾘｰ票!$E$16:$L$215,6,0))","v":""},{"$f":"IF(ISERROR(VLOOKUP(A8+300,ｴﾝﾄﾘｰ票!$BG$16:$BL$205,4,0)),\"\",VLOOKUP(A8+300,ｴﾝﾄﾘｰ票!$BG$16:$BL$205,4,0))","v":""},{"$f":"IF(R8=\"\",\"\",VLOOKUP($R8,ｴﾝﾄﾘｰ票!$E$16:$L$215,2,0))","v":""},{"$f":"IF(R8=\"\",\"\",VLOOKUP($R8,ｴﾝﾄﾘｰ票!$E$16:$L$215,3,0))","v":""},{"$f":"IF(R8=\"\",\"\",VLOOKUP($R8,ｴﾝﾄﾘｰ票!$E$16:$L$215,8,0))","v":""},{"$f":"IF(R8=\"\",\"\",VLOOKUP($R8,ｴﾝﾄﾘｰ票!$E$16:$L$215,6,0))","v":""}]
[15,9,{"$f":"IF(ISERROR(VLOOKUP(A9,ｴﾝﾄﾘｰ票!$A$16:$AH$215,5,0)),\"\",VLOOKUP(A9,ｴﾝﾄﾘｰ票!$A$16:$AH$215,5,0))","v":""},{"$f":"IF(C9=\"\",\"\",VLOOKUP($C9,ｴﾝﾄﾘｰ票!$E$16:$L$215,2,0))","v":""},{"$f":"IF(C9=\"\",\"\",VLOOKUP($C9,ｴﾝﾄﾘｰ票!$E$16:$L$215,3,0))","v":""},{"$f":"IF(C9=\"\",\"\",VLOOKUP($C9,ｴﾝﾄﾘｰ票!$E$16:$L$215,8,0))","v":""},{"$f":"IF(C9=\"\",\"\",VLOOKUP($C9,ｴﾝﾄﾘｰ票!$E$16:$L$215,6,0))","v":""},{"$f":"IF(ISERROR(VLOOKUP(A9+100,ｴﾝﾄﾘｰ票!$AU$16:$AZ$205,4,0)),\"\",VLOOKUP(A9+100,ｴﾝﾄﾘｰ票!$AU$16:$AZ$205,4,0))","v":""},{"$f":"IF(H9=\"\",\"\",VLOOKUP($H9,ｴﾝﾄﾘｰ票!$E$16:$L$215,2,0))","v":""},{"$f":"IF(H9=\"\",\"\",VLOOKUP($H9,ｴﾝﾄﾘｰ票!$E$16:$L$215,3,0))","v":""},{"$f":"IF(H9=\"\",\"\",VLOOKUP($H9,ｴﾝﾄﾘｰ票!$E$16:$L$215,8,0))","v":""},{"$f":"IF(H9=\"\",\"\",VLOOKUP($H9,ｴﾝﾄﾘｰ票!$E$16:$L$215,6,0))","v":""},{"$f":"IF(ISERROR(VLOOKUP(A9+200,ｴﾝﾄﾘｰ票!$BA$16:$BF$205,4,0)),\"\",VLOOKUP(A9+200,ｴﾝﾄﾘｰ票!$BA$16:$BF$205,4,0))","v":""},{"$f":"IF(M9=\"\",\"\",VLOOKUP($M9,ｴﾝﾄﾘｰ票!$E$16:$L$215,2,0))","v":""},{"$f":"IF(M9=\"\",\"\",VLOOKUP($M9,ｴﾝﾄﾘｰ票!$E$16:$L$215,3,0))","v":""},{"$f":"IF(M9=\"\",\"\",VLOOKUP($M9,ｴﾝﾄﾘｰ票!$E$16:$L$215,8,0))","v":""},{"$f":"IF(M9=\"\",\"\",VLOOKUP($M9,ｴﾝﾄﾘｰ票!$E$16:$L$215,6,0))","v":""},{"$f":"IF(ISERROR(VLOOKUP(A9+300,ｴﾝﾄﾘｰ票!$BG$16:$BL$205,4,0)),\"\",VLOOKUP(A9+300,ｴﾝﾄﾘｰ票!$BG$16:$BL$205,4,0))","v":""},{"$f":"IF(R9=\"\",\"\",VLOOKUP($R9,ｴﾝﾄﾘｰ票!$E$16:$L$215,2,0))","v":""},{"$f":"IF(R9=\"\",\"\",VLOOKUP($R9,ｴﾝﾄﾘｰ票!$E$16:$L$215,3,0))","v":""},{"$f":"IF(R9=\"\",\"\",VLOOKUP($R9,ｴﾝﾄﾘｰ票!$E$16:$L$215,8,0))","v":""},{"$f":"IF(R9=\"\",\"\",VLOOKUP($R9,ｴﾝﾄﾘｰ票!$E$16:$L$215,6,0))","v":""}]
[16,10,{"$f":"IF(ISERROR(VLOOKUP(A10,ｴﾝﾄﾘｰ票!$A$16:$AH$215,5,0)),\"\",VLOOKUP(A10,ｴﾝﾄﾘｰ票!$A$16:$AH$215,5,0))","v":""},{"$f":"IF(C10=\"\",\"\",VLOOKUP($C10,ｴﾝﾄﾘｰ票!$E$16:$L$215,2,0))","v":""},{"$f":"IF(C10=\"\",\"\",VLOOKUP($C10,ｴﾝﾄﾘｰ票!$E$16:$L$215,3,0))","v":""},{"$f":"IF(C10=\"\",\"\",VLOOKUP($C10,ｴﾝﾄﾘｰ票!$E$16:$L$215,8,0))","v":""},{"$f":"IF(C10=\"\",\"\",VLOOKUP($C10,ｴﾝﾄﾘｰ票!$E$16:$L$215,6,0))","v":""},{"$f":"IF(ISERROR(VLOOKUP(A10+100,ｴﾝﾄﾘｰ票!$AU$16:$AZ$205,4,0)),\"\",VLOOKUP(A10+100,ｴﾝﾄﾘｰ票!$AU$16:$AZ$205,4,0))","v":""},{"$f":"IF(H10=\"\",\"\",VLOOKUP($H10,ｴﾝﾄﾘｰ票!$E$16:$L$215,2,0))","v":""},{"$f":"IF(H10=\"\",\"\",VLOOKUP($H10,ｴﾝﾄﾘｰ票!$E$16:$L$215,3,0))","v":""},{"$f":"IF(H10=\"\",\"\",VLOOKUP($H10,ｴﾝﾄﾘｰ票!$E$16:$L$215,8,0))","v":""},{"$f":"IF(H10=\"\",\"\",VLOOKUP($H10,ｴﾝﾄﾘｰ票!$E$16:$L$215,6,0))","v":""},{"$f":"IF(ISERROR(VLOOKUP(A10+200,ｴﾝﾄﾘｰ票!$BA$16:$BF$205,4,0)),\"\",VLOOKUP(A10+200,ｴﾝﾄﾘｰ票!$BA$16:$BF$205,4,0))","v":""},{"$f":"IF(M10=\"\",\"\",VLOOKUP($M10,ｴﾝﾄﾘｰ票!$E$16:$L$215,2,0))","v":""},{"$f":"IF(M10=\"\",\"\",VLOOKUP($M10,ｴﾝﾄﾘｰ票!$E$16:$L$215,3,0))","v":""},{"$f":"IF(M10=\"\",\"\",VLOOKUP($M10,ｴﾝﾄﾘｰ票!$E$16:$L$215,8,0))","v":""},{"$f":"IF(M10=\"\",\"\",VLOOKUP($M10,ｴﾝﾄﾘｰ票!$E$16:$L$215,6,0))","v":""},{"$f":"IF(ISERROR(VLOOKUP(A10+300,ｴﾝﾄﾘｰ票!$BG$16:$BL$205,4,0)),\"\",VLOOKUP(A10+300,ｴﾝﾄﾘｰ票!$BG$16:$BL$205,4,0))","v":""},{"$f":"IF(R10=\"\",\"\",VLOOKUP($R10,ｴﾝﾄﾘｰ票!$E$16:$L$215,2,0))","v":""},{"$f":"IF(R10=\"\",\"\",VLOOKUP($R10,ｴﾝﾄﾘｰ票!$E$16:$L$215,3,0))","v":""},{"$f":"IF(R10=\"\",\"\",VLOOKUP($R10,ｴﾝﾄﾘｰ票!$E$16:$L$215,8,0))","v":""},{"$f":"IF(R10=\"\",\"\",VLOOKUP($R10,ｴﾝﾄﾘｰ票!$E$16:$L$215,6,0))","v":""}]
[2,11,{"$f":"IF(ISERROR(VLOOKUP(A12,ｴﾝﾄﾘｰ票!$AO$16:$AT$205,6,0)),\"\",VLOOKUP(A12,ｴﾝﾄﾘｰ票!$AO$16:$AT$205,6,0))","v":""},"氏名",null,"性別","学年",{"$f":"IF(ISERROR(VLOOKUP(A12+100,ｴﾝﾄﾘｰ票!$AU$16:$AZ$205,6,0)),\"\",VLOOKUP(A12+100,ｴﾝﾄﾘｰ票!$AU$16:$AZ$205,6,0))","v":""},"氏名",null,"性別","学年",{"$f":"IF(ISERROR(VLOOKUP(A12+200,ｴﾝﾄﾘｰ票!$BA$16:$BF$205,6,0)),\"\",VLOOKUP(A12+200,ｴﾝﾄﾘｰ票!$BA$16:$BF$205,6,0))","v":""},"氏名",null,"性別","学年",{"$f":"IF(ISERROR(VLOOKUP(A12+300,ｴﾝﾄﾘｰ票!$BG$16:$BL$205,6,0)),\"\",VLOOKUP(A12+300,ｴﾝﾄﾘｰ票!$BG$16:$BL$205,6,0))","v":""},"氏名",null,"性別","学年"]
[21,12,{"$f":"IF(ISERROR(VLOOKUP(A12,ｴﾝﾄﾘｰ票!$A$16:$AH$215,5,0)),\"\",VLOOKUP(A12,ｴﾝﾄﾘｰ票!$A$16:$AH$215,5,0))","v":""},{"$f":"IF(C12=\"\",\"\",VLOOKUP($C12,ｴﾝﾄﾘｰ票!$E$16:$L$215,2,0))","v":""},{"$f":"IF(C12=\"\",\"\",VLOOKUP($C12,ｴﾝﾄﾘｰ票!$E$16:$L$215,3,0))","v":""},{"$f":"IF(C12=\"\",\"\",VLOOKUP($C12,ｴﾝﾄﾘｰ票!$E$16:$L$215,8,0))","v":""},{"$f":"IF(C12=\"\",\"\",VLOOKUP($C12,ｴﾝﾄﾘｰ票!$E$16:$L$215,6,0))","v":""},{"$f":"IF(ISERROR(VLOOKUP(A12+100,ｴﾝﾄﾘｰ票!$AU$16:$AZ$205,4,0)),\"\",VLOOKUP(A12+100,ｴﾝﾄﾘｰ票!$AU$16:$AZ$205,4,0))","v":""},{"$f":"IF(H12=\"\",\"\",VLOOKUP($H12,ｴﾝﾄﾘｰ票!$E$16:$L$215,2,0))","v":""},{"$f":"IF(H12=\"\",\"\",VLOOKUP($H12,ｴﾝﾄﾘｰ票!$E$16:$L$215,3,0))","v":""},{"$f":"IF(H12=\"\",\"\",VLOOKUP($H12,ｴﾝﾄﾘｰ票!$E$16:$L$215,8,0))","v":""},{"$f":"IF(H12=\"\",\"\",VLOOKUP($H12,ｴﾝﾄﾘｰ票!$E$16:$L$215,6,0))","v":""},{"$f":"IF(ISERROR(VLOOKUP(A12+200,ｴﾝﾄﾘｰ票!$BA$16:$BF$205,4,0)),\"\",VLOOKUP(A12+200,ｴﾝﾄﾘｰ票!$BA$16:$BF$205,4,0))","v":""},{"$f":"IF(M12=\"\",\"\",VLOOKUP($M12,ｴﾝﾄﾘｰ票!$E$16:$L$215,2,0))","v":""},{"$f":"IF(M12=\"\",\"\",VLOOKUP($M12,ｴﾝﾄﾘｰ票!$E$16:$L$215,3,0))","v":""},{"$f":"IF(M12=\"\",\"\",VLOOKUP($M12,ｴﾝﾄﾘｰ票!$E$16:$L$215,8,0))","v":""},{"$f":"IF(M12=\"\",\"\",VLOOKUP($M12,ｴﾝﾄﾘｰ票!$E$16:$L$215,6,0))","v":""},{"$f":"IF(ISERROR(VLOOKUP(A12+300,ｴﾝﾄﾘｰ票!$BG$16:$BL$205,4,0)),\"\",VLOOKUP(A12+300,ｴﾝﾄﾘｰ票!$BG$16:$BL$205,4,0))","v":""},{"$f":"IF(R12=\"\",\"\",VLOOKUP($R12,ｴﾝﾄﾘｰ票!$E$16:$L$215,2,0))","v":""},{"$f":"IF(R12=\"\",\"\",VLOOKUP($R12,ｴﾝﾄﾘｰ票!$E$16:$L$215,3,0))","v":""},{"$f":"IF(R12=\"\",\"\",VLOOKUP($R12,ｴﾝﾄﾘｰ票!$E$16:$L$215,8,0))","v":""},{"$f":"IF(R12=\"\",\"\",VLOOKUP($R12,ｴﾝﾄﾘｰ票!$E$16:$L$215,6,0))","v":""}]
[22,13,{"$f":"IF(ISERROR(VLOOKUP(A13,ｴﾝﾄﾘｰ票!$A$16:$AH$215,5,0)),\"\",VLOOKUP(A13,ｴﾝﾄﾘｰ票!$A$16:$AH$215,5,0))","v":""},{"$f":"IF(C13=\"\",\"\",VLOOKUP($C13,ｴﾝﾄﾘｰ票!$E$16:$L$215,2,0))","v":""},{"$f":"IF(C13=\"\",\"\",VLOOKUP($C13,ｴﾝﾄﾘｰ票!$E$16:$L$215,3,0))","v":""},{"$f":"IF(C13=\"\",\"\",VLOOKUP($C13,ｴﾝﾄﾘｰ票!$E$16:$L$215,8,0))","v":""},{"$f":"IF(C13=\"\",\"\",VLOOKUP($C13,ｴﾝﾄﾘｰ票!$E$16:$L$215,6,0))","v":""},{"$f":"IF(ISERROR(VLOOKUP(A13+100,ｴﾝﾄﾘｰ票!$AU$16:$AZ$205,4,0)),\"\",VLOOKUP(A13+100,ｴﾝﾄﾘｰ票!$AU$16:$AZ$205,4,0))","v":""},{"$f":"IF(H13=\"\",\"\",VLOOKUP($H13,ｴﾝﾄﾘｰ票!$E$16:$L$215,2,0))","v":""},{"$f":"IF(H13=\"\",\"\",VLOOKUP($H13,ｴﾝﾄﾘｰ票!$E$16:$L$215,3,0))","v":""},{"$f":"IF(H13=\"\",\"\",VLOOKUP($H13,ｴﾝﾄﾘｰ票!$E$16:$L$215,8,0))","v":""},{"$f":"IF(H13=\"\",\"\",VLOOKUP($H13,ｴﾝﾄﾘｰ票!$E$16:$L$215,6,0))","v":""},{"$f":"IF(ISERROR(VLOOKUP(A13+200,ｴﾝﾄﾘｰ票!$BA$16:$BF$205,4,0)),\"\",VLOOKUP(A13+200,ｴﾝﾄﾘｰ票!$BA$16:$BF$205,4,0))","v":""},{"$f":"IF(M13=\"\",\"\",VLOOKUP($M13,ｴﾝﾄﾘｰ票!$E$16:$L$215,2,0))","v":""},{"$f":"IF(M13=\"\",\"\",VLOOKUP($M13,ｴﾝﾄﾘｰ票!$E$16:$L$215,3,0))","v":""},{"$f":"IF(M13=\"\",\"\",VLOOKUP($M13,ｴﾝﾄﾘｰ票!$E$16:$L$215,8,0))","v":""},{"$f":"IF(M13=\"\",\"\",VLOOKUP($M13,ｴﾝﾄﾘｰ票!$E$16:$L$215,6,0))","v":""},{"$f":"IF(ISERROR(VLOOKUP(A13+300,ｴﾝﾄﾘｰ票!$BG$16:$BL$205,4,0)),\"\",VLOOKUP(A13+300,ｴﾝﾄﾘｰ票!$BG$16:$BL$205,4,0))","v":""},{"$f":"IF(R13=\"\",\"\",VLOOKUP($R13,ｴﾝﾄﾘｰ票!$E$16:$L$215,2,0))","v":""},{"$f":"IF(R13=\"\",\"\",VLOOKUP($R13,ｴﾝﾄﾘｰ票!$E$16:$L$215,3,0))","v":""},{"$f":"IF(R13=\"\",\"\",VLOOKUP($R13,ｴﾝﾄﾘｰ票!$E$16:$L$215,8,0))","v":""},{"$f":"IF(R13=\"\",\"\",VLOOKUP($R13,ｴﾝﾄﾘｰ票!$E$16:$L$215,6,0))","v":""}]
[23,14,{"$f":"IF(ISERROR(VLOOKUP(A14,ｴﾝﾄﾘｰ票!$A$16:$AH$215,5,0)),\"\",VLOOKUP(A14,ｴﾝﾄﾘｰ票!$A$16:$AH$215,5,0))","v":""},{"$f":"IF(C14=\"\",\"\",VLOOKUP($C14,ｴﾝﾄﾘｰ票!$E$16:$L$215,2,0))","v":""},{"$f":"IF(C14=\"\",\"\",VLOOKUP($C14,ｴﾝﾄﾘｰ票!$E$16:$L$215,3,0))","v":""},{"$f":"IF(C14=\"\",\"\",VLOOKUP($C14,ｴﾝﾄﾘｰ票!$E$16:$L$215,8,0))","v":""},{"$f":"IF(C14=\"\",\"\",VLOOKUP($C14,ｴﾝﾄﾘｰ票!$E$16:$L$215,6,0))","v":""},{"$f":"IF(ISERROR(VLOOKUP(A14+100,ｴﾝﾄﾘｰ票!$AU$16:$AZ$205,4,0)),\"\",VLOOKUP(A14+100,ｴﾝﾄﾘｰ票!$AU$16:$AZ$205,4,0))","v":""},{"$f":"IF(H14=\"\",\"\",VLOOKUP($H14,ｴﾝﾄﾘｰ票!$E$16:$L$215,2,0))","v":""},{"$f":"IF(H14=\"\",\"\",VLOOKUP($H14,ｴﾝﾄﾘｰ票!$E$16:$L$215,3,0))","v":""},{"$f":"IF(H14=\"\",\"\",VLOOKUP($H14,ｴﾝﾄﾘｰ票!$E$16:$L$215,8,0))","v":""},{"$f":"IF(H14=\"\",\"\",VLOOKUP($H14,ｴﾝﾄﾘｰ票!$E$16:$L$215,6,0))","v":""},{"$f":"IF(ISERROR(VLOOKUP(A14+200,ｴﾝﾄﾘｰ票!$BA$16:$BF$205,4,0)),\"\",VLOOKUP(A14+200,ｴﾝﾄﾘｰ票!$BA$16:$BF$205,4,0))","v":""},{"$f":"IF(M14=\"\",\"\",VLOOKUP($M14,ｴﾝﾄﾘｰ票!$E$16:$L$215,2,0))","v":""},{"$f":"IF(M14=\"\",\"\",VLOOKUP($M14,ｴﾝﾄﾘｰ票!$E$16:$L$215,3,0))","v":""},{"$f":"IF(M14=\"\",\"\",VLOOKUP($M14,ｴﾝﾄﾘｰ票!$E$16:$L$215,8,0))","v":""},{"$f":"IF(M14=\"\",\"\",VLOOKUP($M14,ｴﾝﾄﾘｰ票!$E$16:$L$215,6,0))","v":""},{"$f":"IF(ISERROR(VLOOKUP(A14+300,ｴﾝﾄﾘｰ票!$BG$16:$BL$205,4,0)),\"\",VLOOKUP(A14+300,ｴﾝﾄﾘｰ票!$BG$16:$BL$205,4,0))","v":""},{"$f":"IF(R14=\"\",\"\",VLOOKUP($R14,ｴﾝﾄﾘｰ票!$E$16:$L$215,2,0))","v":""},{"$f":"IF(R14=\"\",\"\",VLOOKUP($R14,ｴﾝﾄﾘｰ票!$E$16:$L$215,3,0))","v":""},{"$f":"IF(R14=\"\",\"\",VLOOKUP($R14,ｴﾝﾄﾘｰ票!$E$16:$L$215,8,0))","v":""},{"$f":"IF(R14=\"\",\"\",VLOOKUP($R14,ｴﾝﾄﾘｰ票!$E$16:$L$215,6,0))","v":""}]
[24,15,{"$f":"IF(ISERROR(VLOOKUP(A15,ｴﾝﾄﾘｰ票!$A$16:$AH$215,5,0)),\"\",VLOOKUP(A15,ｴﾝﾄﾘｰ票!$A$16:$AH$215,5,0))","v":""},{"$f":"IF(C15=\"\",\"\",VLOOKUP($C15,ｴﾝﾄﾘｰ票!$E$16:$L$215,2,0))","v":""},{"$f":"IF(C15=\"\",\"\",VLOOKUP($C15,ｴﾝﾄﾘｰ票!$E$16:$L$215,3,0))","v":""},{"$f":"IF(C15=\"\",\"\",VLOOKUP($C15,ｴﾝﾄﾘｰ票!$E$16:$L$215,8,0))","v":""},{"$f":"IF(C15=\"\",\"\",VLOOKUP($C15,ｴﾝﾄﾘｰ票!$E$16:$L$215,6,0))","v":""},{"$f":"IF(ISERROR(VLOOKUP(A15+100,ｴﾝﾄﾘｰ票!$AU$16:$AZ$205,4,0)),\"\",VLOOKUP(A15+100,ｴﾝﾄﾘｰ票!$AU$16:$AZ$205,4,0))","v":""},{"$f":"IF(H15=\"\",\"\",VLOOKUP($H15,ｴﾝﾄﾘｰ票!$E$16:$L$215,2,0))","v":""},{"$f":"IF(H15=\"\",\"\",VLOOKUP($H15,ｴﾝﾄﾘｰ票!$E$16:$L$215,3,0))","v":""},{"$f":"IF(H15=\"\",\"\",VLOOKUP($H15,ｴﾝﾄﾘｰ票!$E$16:$L$215,8,0))","v":""},{"$f":"IF(H15=\"\",\"\",VLOOKUP($H15,ｴﾝﾄﾘｰ票!$E$16:$L$215,6,0))","v":""},{"$f":"IF(ISERROR(VLOOKUP(A15+200,ｴﾝﾄﾘｰ票!$BA$16:$BF$205,4,0)),\"\",VLOOKUP(A15+200,ｴﾝﾄﾘｰ票!$BA$16:$BF$205,4,0))","v":""},{"$f":"IF(M15=\"\",\"\",VLOOKUP($M15,ｴﾝﾄﾘｰ票!$E$16:$L$215,2,0))","v":""},{"$f":"IF(M15=\"\",\"\",VLOOKUP($M15,ｴﾝﾄﾘｰ票!$E$16:$L$215,3,0))","v":""},{"$f":"IF(M15=\"\",\"\",VLOOKUP($M15,ｴﾝﾄﾘｰ票!$E$16:$L$215,8,0))","v":""},{"$f":"IF(M15=\"\",\"\",VLOOKUP($M15,ｴﾝﾄﾘｰ票!$E$16:$L$215,6,0))","v":""},{"$f":"IF(ISERROR(VLOOKUP(A15+300,ｴﾝﾄﾘｰ票!$BG$16:$BL$205,4,0)),\"\",VLOOKUP(A15+300,ｴﾝﾄﾘｰ票!$BG$16:$BL$205,4,0))","v":""},{"$f":"IF(R15=\"\",\"\",VLOOKUP($R15,ｴﾝﾄﾘｰ票!$E$16:$L$215,2,0))","v":""},{"$f":"IF(R15=\"\",\"\",VLOOKUP($R15,ｴﾝﾄﾘｰ票!$E$16:$L$215,3,0))","v":""},{"$f":"IF(R15=\"\",\"\",VLOOKUP($R15,ｴﾝﾄﾘｰ票!$E$16:$L$215,8,0))","v":""},{"$f":"IF(R15=\"\",\"\",VLOOKUP($R15,ｴﾝﾄﾘｰ票!$E$16:$L$215,6,0))","v":""}]
[25,16,{"$f":"IF(ISERROR(VLOOKUP(A16,ｴﾝﾄﾘｰ票!$A$16:$AH$215,5,0)),\"\",VLOOKUP(A16,ｴﾝﾄﾘｰ票!$A$16:$AH$215,5,0))","v":""},{"$f":"IF(C16=\"\",\"\",VLOOKUP($C16,ｴﾝﾄﾘｰ票!$E$16:$L$215,2,0))","v":""},{"$f":"IF(C16=\"\",\"\",VLOOKUP($C16,ｴﾝﾄﾘｰ票!$E$16:$L$215,3,0))","v":""},{"$f":"IF(C16=\"\",\"\",VLOOKUP($C16,ｴﾝﾄﾘｰ票!$E$16:$L$215,8,0))","v":""},{"$f":"IF(C16=\"\",\"\",VLOOKUP($C16,ｴﾝﾄﾘｰ票!$E$16:$L$215,6,0))","v":""},{"$f":"IF(ISERROR(VLOOKUP(A16+100,ｴﾝﾄﾘｰ票!$AU$16:$AZ$205,4,0)),\"\",VLOOKUP(A16+100,ｴﾝﾄﾘｰ票!$AU$16:$AZ$205,4,0))","v":""},{"$f":"IF(H16=\"\",\"\",VLOOKUP($H16,ｴﾝﾄﾘｰ票!$E$16:$L$215,2,0))","v":""},{"$f":"IF(H16=\"\",\"\",VLOOKUP($H16,ｴﾝﾄﾘｰ票!$E$16:$L$215,3,0))","v":""},{"$f":"IF(H16=\"\",\"\",VLOOKUP($H16,ｴﾝﾄﾘｰ票!$E$16:$L$215,8,0))","v":""},{"$f":"IF(H16=\"\",\"\",VLOOKUP($H16,ｴﾝﾄﾘｰ票!$E$16:$L$215,6,0))","v":""},{"$f":"IF(ISERROR(VLOOKUP(A16+200,ｴﾝﾄﾘｰ票!$BA$16:$BF$205,4,0)),\"\",VLOOKUP(A16+200,ｴﾝﾄﾘｰ票!$BA$16:$BF$205,4,0))","v":""},{"$f":"IF(M16=\"\",\"\",VLOOKUP($M16,ｴﾝﾄﾘｰ票!$E$16:$L$215,2,0))","v":""},{"$f":"IF(M16=\"\",\"\",VLOOKUP($M16,ｴﾝﾄﾘｰ票!$E$16:$L$215,3,0))","v":""},{"$f":"IF(M16=\"\",\"\",VLOOKUP($M16,ｴﾝﾄﾘｰ票!$E$16:$L$215,8,0))","v":""},{"$f":"IF(M16=\"\",\"\",VLOOKUP($M16,ｴﾝﾄﾘｰ票!$E$16:$L$215,6,0))","v":""},{"$f":"IF(ISERROR(VLOOKUP(A16+300,ｴﾝﾄﾘｰ票!$BG$16:$BL$205,4,0)),\"\",VLOOKUP(A16+300,ｴﾝﾄﾘｰ票!$BG$16:$BL$205,4,0))","v":""},{"$f":"IF(R16=\"\",\"\",VLOOKUP($R16,ｴﾝﾄﾘｰ票!$E$16:$L$215,2,0))","v":""},{"$f":"IF(R16=\"\",\"\",VLOOKUP($R16,ｴﾝﾄﾘｰ票!$E$16:$L$215,3,0))","v":""},{"$f":"IF(R16=\"\",\"\",VLOOKUP($R16,ｴﾝﾄﾘｰ票!$E$16:$L$215,8,0))","v":""},{"$f":"IF(R16=\"\",\"\",VLOOKUP($R16,ｴﾝﾄﾘｰ票!$E$16:$L$215,6,0))","v":""}]
[26,17,{"$f":"IF(ISERROR(VLOOKUP(A17,ｴﾝﾄﾘｰ票!$A$16:$AH$215,5,0)),\"\",VLOOKUP(A17,ｴﾝﾄﾘｰ票!$A$16:$AH$215,5,0))","v":""},{"$f":"IF(C17=\"\",\"\",VLOOKUP($C17,ｴﾝﾄﾘｰ票!$E$16:$L$215,2,0))","v":""},{"$f":"IF(C17=\"\",\"\",VLOOKUP($C17,ｴﾝﾄﾘｰ票!$E$16:$L$215,3,0))","v":""},{"$f":"IF(C17=\"\",\"\",VLOOKUP($C17,ｴﾝﾄﾘｰ票!$E$16:$L$215,8,0))","v":""},{"$f":"IF(C17=\"\",\"\",VLOOKUP($C17,ｴﾝﾄﾘｰ票!$E$16:$L$215,6,0))","v":""},{"$f":"IF(ISERROR(VLOOKUP(A17+100,ｴﾝﾄﾘｰ票!$AU$16:$AZ$205,4,0)),\"\",VLOOKUP(A17+100,ｴﾝﾄﾘｰ票!$AU$16:$AZ$205,4,0))","v":""},{"$f":"IF(H17=\"\",\"\",VLOOKUP($H17,ｴﾝﾄﾘｰ票!$E$16:$L$215,2,0))","v":""},{"$f":"IF(H17=\"\",\"\",VLOOKUP($H17,ｴﾝﾄﾘｰ票!$E$16:$L$215,3,0))","v":""},{"$f":"IF(H17=\"\",\"\",VLOOKUP($H17,ｴﾝﾄﾘｰ票!$E$16:$L$215,8,0))","v":""},{"$f":"IF(H17=\"\",\"\",VLOOKUP($H17,ｴﾝﾄﾘｰ票!$E$16:$L$215,6,0))","v":""},{"$f":"IF(ISERROR(VLOOKUP(A17+200,ｴﾝﾄﾘｰ票!$BA$16:$BF$205,4,0)),\"\",VLOOKUP(A17+200,ｴﾝﾄﾘｰ票!$BA$16:$BF$205,4,0))","v":""},{"$f":"IF(M17=\"\",\"\",VLOOKUP($M17,ｴﾝﾄﾘｰ票!$E$16:$L$215,2,0))","v":""},{"$f":"IF(M17=\"\",\"\",VLOOKUP($M17,ｴﾝﾄﾘｰ票!$E$16:$L$215,3,0))","v":""},{"$f":"IF(M17=\"\",\"\",VLOOKUP($M17,ｴﾝﾄﾘｰ票!$E$16:$L$215,8,0))","v":""},{"$f":"IF(M17=\"\",\"\",VLOOKUP($M17,ｴﾝﾄﾘｰ票!$E$16:$L$215,6,0))","v":""},{"$f":"IF(ISERROR(VLOOKUP(A17+300,ｴﾝﾄﾘｰ票!$BG$16:$BL$205,4,0)),\"\",VLOOKUP(A17+300,ｴﾝﾄﾘｰ票!$BG$16:$BL$205,4,0))","v":""},{"$f":"IF(R17=\"\",\"\",VLOOKUP($R17,ｴﾝﾄﾘｰ票!$E$16:$L$215,2,0))","v":""},{"$f":"IF(R17=\"\",\"\",VLOOKUP($R17,ｴﾝﾄﾘｰ票!$E$16:$L$215,3,0))","v":""},{"$f":"IF(R17=\"\",\"\",VLOOKUP($R17,ｴﾝﾄﾘｰ票!$E$16:$L$215,8,0))","v":""},{"$f":"IF(R17=\"\",\"\",VLOOKUP($R17,ｴﾝﾄﾘｰ票!$E$16:$L$215,6,0))","v":""}]
[3,18,{"$f":"IF(ISERROR(VLOOKUP(A19,ｴﾝﾄﾘｰ票!$AO$16:$AT$205,6,0)),\"\",VLOOKUP(A19,ｴﾝﾄﾘｰ票!$AO$16:$AT$205,6,0))","v":""},"氏名",null,"性別","学年",{"$f":"IF(ISERROR(VLOOKUP(A19+100,ｴﾝﾄﾘｰ票!$AU$16:$AZ$205,6,0)),\"\",VLOOKUP(A19+100,ｴﾝﾄﾘｰ票!$AU$16:$AZ$205,6,0))","v":""},"氏名",null,"性別","学年",{"$f":"IF(ISERROR(VLOOKUP(A19+200,ｴﾝﾄﾘｰ票!$BA$16:$BF$205,6,0)),\"\",VLOOKUP(A19+200,ｴﾝﾄﾘｰ票!$BA$16:$BF$205,6,0))","v":""},"氏名",null,"性別","学年",{"$f":"IF(ISERROR(VLOOKUP(A19+300,ｴﾝﾄﾘｰ票!$BG$16:$BL$205,6,0)),\"\",VLOOKUP(A19+300,ｴﾝﾄﾘｰ票!$BG$16:$BL$205,6,0))","v":""},"氏名",null,"性別","学年"]
[31,19,{"$f":"IF(ISERROR(VLOOKUP(A19,ｴﾝﾄﾘｰ票!$A$16:$AH$215,5,0)),\"\",VLOOKUP(A19,ｴﾝﾄﾘｰ票!$A$16:$AH$215,5,0))","v":""},{"$f":"IF(C19=\"\",\"\",VLOOKUP($C19,ｴﾝﾄﾘｰ票!$E$16:$L$215,2,0))","v":""},{"$f":"IF(C19=\"\",\"\",VLOOKUP($C19,ｴﾝﾄﾘｰ票!$E$16:$L$215,3,0))","v":""},{"$f":"IF(C19=\"\",\"\",VLOOKUP($C19,ｴﾝﾄﾘｰ票!$E$16:$L$215,8,0))","v":""},{"$f":"IF(C19=\"\",\"\",VLOOKUP($C19,ｴﾝﾄﾘｰ票!$E$16:$L$215,6,0))","v":""},{"$f":"IF(ISERROR(VLOOKUP(A19+100,ｴﾝﾄﾘｰ票!$AU$16:$AZ$205,4,0)),\"\",VLOOKUP(A19+100,ｴﾝﾄﾘｰ票!$AU$16:$AZ$205,4,0))","v":""},{"$f":"IF(H19=\"\",\"\",VLOOKUP($H19,ｴﾝﾄﾘｰ票!$E$16:$L$215,2,0))","v":""},{"$f":"IF(H19=\"\",\"\",VLOOKUP($H19,ｴﾝﾄﾘｰ票!$E$16:$L$215,3,0))","v":""},{"$f":"IF(H19=\"\",\"\",VLOOKUP($H19,ｴﾝﾄﾘｰ票!$E$16:$L$215,8,0))","v":""},{"$f":"IF(H19=\"\",\"\",VLOOKUP($H19,ｴﾝﾄﾘｰ票!$E$16:$L$215,6,0))","v":""},{"$f":"IF(ISERROR(VLOOKUP(A19+200,ｴﾝﾄﾘｰ票!$BA$16:$BF$205,4,0)),\"\",VLOOKUP(A19+200,ｴﾝﾄﾘｰ票!$BA$16:$BF$205,4,0))","v":""},{"$f":"IF(M19=\"\",\"\",VLOOKUP($M19,ｴﾝﾄﾘｰ票!$E$16:$L$215,2,0))","v":""},{"$f":"IF(M19=\"\",\"\",VLOOKUP($M19,ｴﾝﾄﾘｰ票!$E$16:$L$215,3,0))","v":""},{"$f":"IF(M19=\"\",\"\",VLOOKUP($M19,ｴﾝﾄﾘｰ票!$E$16:$L$215,8,0))","v":""},{"$f":"IF(M19=\"\",\"\",VLOOKUP($M19,ｴﾝﾄﾘｰ票!$E$16:$L$215,6,0))","v":""},{"$f":"IF(ISERROR(VLOOKUP(A19+300,ｴﾝﾄﾘｰ票!$BG$16:$BL$205,4,0)),\"\",VLOOKUP(A19+300,ｴﾝﾄﾘｰ票!$BG$16:$BL$205,4,0))","v":""},{"$f":"IF(R19=\"\",\"\",VLOOKUP($R19,ｴﾝﾄﾘｰ票!$E$16:$L$215,2,0))","v":""},{"$f":"IF(R19=\"\",\"\",VLOOKUP($R19,ｴﾝﾄﾘｰ票!$E$16:$L$215,3,0))","v":""},{"$f":"IF(R19=\"\",\"\",VLOOKUP($R19,ｴﾝﾄﾘｰ票!$E$16:$L$215,8,0))","v":""},{"$f":"IF(R19=\"\",\"\",VLOOKUP($R19,ｴﾝﾄﾘｰ票!$E$16:$L$215,6,0))","v":""}]
[32,20,{"$f":"IF(ISERROR(VLOOKUP(A20,ｴﾝﾄﾘｰ票!$A$16:$AH$215,5,0)),\"\",VLOOKUP(A20,ｴﾝﾄﾘｰ票!$A$16:$AH$215,5,0))","v":""},{"$f":"IF(C20=\"\",\"\",VLOOKUP($C20,ｴﾝﾄﾘｰ票!$E$16:$L$215,2,0))","v":""},{"$f":"IF(C20=\"\",\"\",VLOOKUP($C20,ｴﾝﾄﾘｰ票!$E$16:$L$215,3,0))","v":""},{"$f":"IF(C20=\"\",\"\",VLOOKUP($C20,ｴﾝﾄﾘｰ票!$E$16:$L$215,8,0))","v":""},{"$f":"IF(C20=\"\",\"\",VLOOKUP($C20,ｴﾝﾄﾘｰ票!$E$16:$L$215,6,0))","v":""},{"$f":"IF(ISERROR(VLOOKUP(A20+100,ｴﾝﾄﾘｰ票!$AU$16:$AZ$205,4,0)),\"\",VLOOKUP(A20+100,ｴﾝﾄﾘｰ票!$AU$16:$AZ$205,4,0))","v":""},{"$f":"IF(H20=\"\",\"\",VLOOKUP($H20,ｴﾝﾄﾘｰ票!$E$16:$L$215,2,0))","v":""},{"$f":"IF(H20=\"\",\"\",VLOOKUP($H20,ｴﾝﾄﾘｰ票!$E$16:$L$215,3,0))","v":""},{"$f":"IF(H20=\"\",\"\",VLOOKUP($H20,ｴﾝﾄﾘｰ票!$E$16:$L$215,8,0))","v":""},{"$f":"IF(H20=\"\",\"\",VLOOKUP($H20,ｴﾝﾄﾘｰ票!$E$16:$L$215,6,0))","v":""},{"$f":"IF(ISERROR(VLOOKUP(A20+200,ｴﾝﾄﾘｰ票!$BA$16:$BF$205,4,0)),\"\",VLOOKUP(A20+200,ｴﾝﾄﾘｰ票!$BA$16:$BF$205,4,0))","v":""},{"$f":"IF(M20=\"\",\"\",VLOOKUP($M20,ｴﾝﾄﾘｰ票!$E$16:$L$215,2,0))","v":""},{"$f":"IF(M20=\"\",\"\",VLOOKUP($M20,ｴﾝﾄﾘｰ票!$E$16:$L$215,3,0))","v":""},{"$f":"IF(M20=\"\",\"\",VLOOKUP($M20,ｴﾝﾄﾘｰ票!$E$16:$L$215,8,0))","v":""},{"$f":"IF(M20=\"\",\"\",VLOOKUP($M20,ｴﾝﾄﾘｰ票!$E$16:$L$215,6,0))","v":""},{"$f":"IF(ISERROR(VLOOKUP(A20+300,ｴﾝﾄﾘｰ票!$BG$16:$BL$205,4,0)),\"\",VLOOKUP(A20+300,ｴﾝﾄﾘｰ票!$BG$16:$BL$205,4,0))","v":""},{"$f":"IF(R20=\"\",\"\",VLOOKUP($R20,ｴﾝﾄﾘｰ票!$E$16:$L$215,2,0))","v":""},{"$f":"IF(R20=\"\",\"\",VLOOKUP($R20,ｴﾝﾄﾘｰ票!$E$16:$L$215,3,0))","v":""},{"$f":"IF(R20=\"\",\"\",VLOOKUP($R20,ｴﾝﾄﾘｰ票!$E$16:$L$215,8,0))","v":""},{"$f":"IF(R20=\"\",\"\",VLOOKUP($R20,ｴﾝﾄﾘｰ票!$E$16:$L$215,6,0))","v":""}]
[33,21,{"$f":"IF(ISERROR(VLOOKUP(A21,ｴﾝﾄﾘｰ票!$A$16:$AH$215,5,0)),\"\",VLOOKUP(A21,ｴﾝﾄﾘｰ票!$A$16:$AH$215,5,0))","v":""},{"$f":"IF(C21=\"\",\"\",VLOOKUP($C21,ｴﾝﾄﾘｰ票!$E$16:$L$215,2,0))","v":""},{"$f":"IF(C21=\"\",\"\",VLOOKUP($C21,ｴﾝﾄﾘｰ票!$E$16:$L$215,3,0))","v":""},{"$f":"IF(C21=\"\",\"\",VLOOKUP($C21,ｴﾝﾄﾘｰ票!$E$16:$L$215,8,0))","v":""},{"$f":"IF(C21=\"\",\"\",VLOOKUP($C21,ｴﾝﾄﾘｰ票!$E$16:$L$215,6,0))","v":""},{"$f":"IF(ISERROR(VLOOKUP(A21+100,ｴﾝﾄﾘｰ票!$AU$16:$AZ$205,4,0)),\"\",VLOOKUP(A21+100,ｴﾝﾄﾘｰ票!$AU$16:$AZ$205,4,0))","v":""},{"$f":"IF(H21=\"\",\"\",VLOOKUP($H21,ｴﾝﾄﾘｰ票!$E$16:$L$215,2,0))","v":""},{"$f":"IF(H21=\"\",\"\",VLOOKUP($H21,ｴﾝﾄﾘｰ票!$E$16:$L$215,3,0))","v":""},{"$f":"IF(H21=\"\",\"\",VLOOKUP($H21,ｴﾝﾄﾘｰ票!$E$16:$L$215,8,0))","v":""},{"$f":"IF(H21=\"\",\"\",VLOOKUP($H21,ｴﾝﾄﾘｰ票!$E$16:$L$215,6,0))","v":""},{"$f":"IF(ISERROR(VLOOKUP(A21+200,ｴﾝﾄﾘｰ票!$BA$16:$BF$205,4,0)),\"\",VLOOKUP(A21+200,ｴﾝﾄﾘｰ票!$BA$16:$BF$205,4,0))","v":""},{"$f":"IF(M21=\"\",\"\",VLOOKUP($M21,ｴﾝﾄﾘｰ票!$E$16:$L$215,2,0))","v":""},{"$f":"IF(M21=\"\",\"\",VLOOKUP($M21,ｴﾝﾄﾘｰ票!$E$16:$L$215,3,0))","v":""},{"$f":"IF(M21=\"\",\"\",VLOOKUP($M21,ｴﾝﾄﾘｰ票!$E$16:$L$215,8,0))","v":""},{"$f":"IF(M21=\"\",\"\",VLOOKUP($M21,ｴﾝﾄﾘｰ票!$E$16:$L$215,6,0))","v":""},{"$f":"IF(ISERROR(VLOOKUP(A21+300,ｴﾝﾄﾘｰ票!$BG$16:$BL$205,4,0)),\"\",VLOOKUP(A21+300,ｴﾝﾄﾘｰ票!$BG$16:$BL$205,4,0))","v":""},{"$f":"IF(R21=\"\",\"\",VLOOKUP($R21,ｴﾝﾄﾘｰ票!$E$16:$L$215,2,0))","v":""},{"$f":"IF(R21=\"\",\"\",VLOOKUP($R21,ｴﾝﾄﾘｰ票!$E$16:$L$215,3,0))","v":""},{"$f":"IF(R21=\"\",\"\",VLOOKUP($R21,ｴﾝﾄﾘｰ票!$E$16:$L$215,8,0))","v":""},{"$f":"IF(R21=\"\",\"\",VLOOKUP($R21,ｴﾝﾄﾘｰ票!$E$16:$L$215,6,0))","v":""}]
[34,22,{"$f":"IF(ISERROR(VLOOKUP(A22,ｴﾝﾄﾘｰ票!$A$16:$AH$215,5,0)),\"\",VLOOKUP(A22,ｴﾝﾄﾘｰ票!$A$16:$AH$215,5,0))","v":""},{"$f":"IF(C22=\"\",\"\",VLOOKUP($C22,ｴﾝﾄﾘｰ票!$E$16:$L$215,2,0))","v":""},{"$f":"IF(C22=\"\",\"\",VLOOKUP($C22,ｴﾝﾄﾘｰ票!$E$16:$L$215,3,0))","v":""},{"$f":"IF(C22=\"\",\"\",VLOOKUP($C22,ｴﾝﾄﾘｰ票!$E$16:$L$215,8,0))","v":""},{"$f":"IF(C22=\"\",\"\",VLOOKUP($C22,ｴﾝﾄﾘｰ票!$E$16:$L$215,6,0))","v":""},{"$f":"IF(ISERROR(VLOOKUP(A22+100,ｴﾝﾄﾘｰ票!$AU$16:$AZ$205,4,0)),\"\",VLOOKUP(A22+100,ｴﾝﾄﾘｰ票!$AU$16:$AZ$205,4,0))","v":""},{"$f":"IF(H22=\"\",\"\",VLOOKUP($H22,ｴﾝﾄﾘｰ票!$E$16:$L$215,2,0))","v":""},{"$f":"IF(H22=\"\",\"\",VLOOKUP($H22,ｴﾝﾄﾘｰ票!$E$16:$L$215,3,0))","v":""},{"$f":"IF(H22=\"\",\"\",VLOOKUP($H22,ｴﾝﾄﾘｰ票!$E$16:$L$215,8,0))","v":""},{"$f":"IF(H22=\"\",\"\",VLOOKUP($H22,ｴﾝﾄﾘｰ票!$E$16:$L$215,6,0))","v":""},{"$f":"IF(ISERROR(VLOOKUP(A22+200,ｴﾝﾄﾘｰ票!$BA$16:$BF$205,4,0)),\"\",VLOOKUP(A22+200,ｴﾝﾄﾘｰ票!$BA$16:$BF$205,4,0))","v":""},{"$f":"IF(M22=\"\",\"\",VLOOKUP($M22,ｴﾝﾄﾘｰ票!$E$16:$L$215,2,0))","v":""},{"$f":"IF(M22=\"\",\"\",VLOOKUP($M22,ｴﾝﾄﾘｰ票!$E$16:$L$215,3,0))","v":""},{"$f":"IF(M22=\"\",\"\",VLOOKUP($M22,ｴﾝﾄﾘｰ票!$E$16:$L$215,8,0))","v":""},{"$f":"IF(M22=\"\",\"\",VLOOKUP($M22,ｴﾝﾄﾘｰ票!$E$16:$L$215,6,0))","v":""},{"$f":"IF(ISERROR(VLOOKUP(A22+300,ｴﾝﾄﾘｰ票!$BG$16:$BL$205,4,0)),\"\",VLOOKUP(A22+300,ｴﾝﾄﾘｰ票!$BG$16:$BL$205,4,0))","v":""},{"$f":"IF(R22=\"\",\"\",VLOOKUP($R22,ｴﾝﾄﾘｰ票!$E$16:$L$215,2,0))","v":""},{"$f":"IF(R22=\"\",\"\",VLOOKUP($R22,ｴﾝﾄﾘｰ票!$E$16:$L$215,3,0))","v":""},{"$f":"IF(R22=\"\",\"\",VLOOKUP($R22,ｴﾝﾄﾘｰ票!$E$16:$L$215,8,0))","v":""},{"$f":"IF(R22=\"\",\"\",VLOOKUP($R22,ｴﾝﾄﾘｰ票!$E$16:$L$215,6,0))","v":""}]
[35,23,{"$f":"IF(ISERROR(VLOOKUP(A23,ｴﾝﾄﾘｰ票!$A$16:$AH$215,5,0)),\"\",VLOOKUP(A23,ｴﾝﾄﾘｰ票!$A$16:$AH$215,5,0))","v":""},{"$f":"IF(C23=\"\",\"\",VLOOKUP($C23,ｴﾝﾄﾘｰ票!$E$16:$L$215,2,0))","v":""},{"$f":"IF(C23=\"\",\"\",VLOOKUP($C23,ｴﾝﾄﾘｰ票!$E$16:$L$215,3,0))","v":""},{"$f":"IF(C23=\"\",\"\",VLOOKUP($C23,ｴﾝﾄﾘｰ票!$E$16:$L$215,8,0))","v":""},{"$f":"IF(C23=\"\",\"\",VLOOKUP($C23,ｴﾝﾄﾘｰ票!$E$16:$L$215,6,0))","v":""},{"$f":"IF(ISERROR(VLOOKUP(A23+100,ｴﾝﾄﾘｰ票!$AU$16:$AZ$205,4,0)),\"\",VLOOKUP(A23+100,ｴﾝﾄﾘｰ票!$AU$16:$AZ$205,4,0))","v":""},{"$f":"IF(H23=\"\",\"\",VLOOKUP($H23,ｴﾝﾄﾘｰ票!$E$16:$L$215,2,0))","v":""},{"$f":"IF(H23=\"\",\"\",VLOOKUP($H23,ｴﾝﾄﾘｰ票!$E$16:$L$215,3,0))","v":""},{"$f":"IF(H23=\"\",\"\",VLOOKUP($H23,ｴﾝﾄﾘｰ票!$E$16:$L$215,8,0))","v":""},{"$f":"IF(H23=\"\",\"\",VLOOKUP($H23,ｴﾝﾄﾘｰ票!$E$16:$L$215,6,0))","v":""},{"$f":"IF(ISERROR(VLOOKUP(A23+200,ｴﾝﾄﾘｰ票!$BA$16:$BF$205,4,0)),\"\",VLOOKUP(A23+200,ｴﾝﾄﾘｰ票!$BA$16:$BF$205,4,0))","v":""},{"$f":"IF(M23=\"\",\"\",VLOOKUP($M23,ｴﾝﾄﾘｰ票!$E$16:$L$215,2,0))","v":""},{"$f":"IF(M23=\"\",\"\",VLOOKUP($M23,ｴﾝﾄﾘｰ票!$E$16:$L$215,3,0))","v":""},{"$f":"IF(M23=\"\",\"\",VLOOKUP($M23,ｴﾝﾄﾘｰ票!$E$16:$L$215,8,0))","v":""},{"$f":"IF(M23=\"\",\"\",VLOOKUP($M23,ｴﾝﾄﾘｰ票!$E$16:$L$215,6,0))","v":""},{"$f":"IF(ISERROR(VLOOKUP(A23+300,ｴﾝﾄﾘｰ票!$BG$16:$BL$205,4,0)),\"\",VLOOKUP(A23+300,ｴﾝﾄﾘｰ票!$BG$16:$BL$205,4,0))","v":""},{"$f":"IF(R23=\"\",\"\",VLOOKUP($R23,ｴﾝﾄﾘｰ票!$E$16:$L$215,2,0))","v":""},{"$f":"IF(R23=\"\",\"\",VLOOKUP($R23,ｴﾝﾄﾘｰ票!$E$16:$L$215,3,0))","v":""},{"$f":"IF(R23=\"\",\"\",VLOOKUP($R23,ｴﾝﾄﾘｰ票!$E$16:$L$215,8,0))","v":""},{"$f":"IF(R23=\"\",\"\",VLOOKUP($R23,ｴﾝﾄﾘｰ票!$E$16:$L$215,6,0))","v":""}]
[36,24,{"$f":"IF(ISERROR(VLOOKUP(A24,ｴﾝﾄﾘｰ票!$A$16:$AH$215,5,0)),\"\",VLOOKUP(A24,ｴﾝﾄﾘｰ票!$A$16:$AH$215,5,0))","v":""},{"$f":"IF(C24=\"\",\"\",VLOOKUP($C24,ｴﾝﾄﾘｰ票!$E$16:$L$215,2,0))","v":""},{"$f":"IF(C24=\"\",\"\",VLOOKUP($C24,ｴﾝﾄﾘｰ票!$E$16:$L$215,3,0))","v":""},{"$f":"IF(C24=\"\",\"\",VLOOKUP($C24,ｴﾝﾄﾘｰ票!$E$16:$L$215,8,0))","v":""},{"$f":"IF(C24=\"\",\"\",VLOOKUP($C24,ｴﾝﾄﾘｰ票!$E$16:$L$215,6,0))","v":""},{"$f":"IF(ISERROR(VLOOKUP(A24+100,ｴﾝﾄﾘｰ票!$AU$16:$AZ$205,4,0)),\"\",VLOOKUP(A24+100,ｴﾝﾄﾘｰ票!$AU$16:$AZ$205,4,0))","v":""},{"$f":"IF(H24=\"\",\"\",VLOOKUP($H24,ｴﾝﾄﾘｰ票!$E$16:$L$215,2,0))","v":""},{"$f":"IF(H24=\"\",\"\",VLOOKUP($H24,ｴﾝﾄﾘｰ票!$E$16:$L$215,3,0))","v":""},{"$f":"IF(H24=\"\",\"\",VLOOKUP($H24,ｴﾝﾄﾘｰ票!$E$16:$L$215,8,0))","v":""},{"$f":"IF(H24=\"\",\"\",VLOOKUP($H24,ｴﾝﾄﾘｰ票!$E$16:$L$215,6,0))","v":""},{"$f":"IF(ISERROR(VLOOKUP(A24+200,ｴﾝﾄﾘｰ票!$BA$16:$BF$205,4,0)),\"\",VLOOKUP(A24+200,ｴﾝﾄﾘｰ票!$BA$16:$BF$205,4,0))","v":""},{"$f":"IF(M24=\"\",\"\",VLOOKUP($M24,ｴﾝﾄﾘｰ票!$E$16:$L$215,2,0))","v":""},{"$f":"IF(M24=\"\",\"\",VLOOKUP($M24,ｴﾝﾄﾘｰ票!$E$16:$L$215,3,0))","v":""},{"$f":"IF(M24=\"\",\"\",VLOOKUP($M24,ｴﾝﾄﾘｰ票!$E$16:$L$215,8,0))","v":""},{"$f":"IF(M24=\"\",\"\",VLOOKUP($M24,ｴﾝﾄﾘｰ票!$E$16:$L$215,6,0))","v":""},{"$f":"IF(ISERROR(VLOOKUP(A24+300,ｴﾝﾄﾘｰ票!$BG$16:$BL$205,4,0)),\"\",VLOOKUP(A24+300,ｴﾝﾄﾘｰ票!$BG$16:$BL$205,4,0))","v":""},{"$f":"IF(R24=\"\",\"\",VLOOKUP($R24,ｴﾝﾄﾘｰ票!$E$16:$L$215,2,0))","v":""},{"$f":"IF(R24=\"\",\"\",VLOOKUP($R24,ｴﾝﾄﾘｰ票!$E$16:$L$215,3,0))","v":""},{"$f":"IF(R24=\"\",\"\",VLOOKUP($R24,ｴﾝﾄﾘｰ票!$E$16:$L$215,8,0))","v":""},{"$f":"IF(R24=\"\",\"\",VLOOKUP($R24,ｴﾝﾄﾘｰ票!$E$16:$L$215,6,0))","v":""}]
[4,25,{"$f":"IF(ISERROR(VLOOKUP(A26,ｴﾝﾄﾘｰ票!$AO$16:$AT$205,6,0)),\"\",VLOOKUP(A26,ｴﾝﾄﾘｰ票!$AO$16:$AT$205,6,0))","v":""},"氏名",null,"性別","学年",{"$f":"IF(ISERROR(VLOOKUP(A26+100,ｴﾝﾄﾘｰ票!$AU$16:$AZ$205,6,0)),\"\",VLOOKUP(A26+100,ｴﾝﾄﾘｰ票!$AU$16:$AZ$205,6,0))","v":""},"氏名",null,"性別","学年",{"$f":"IF(ISERROR(VLOOKUP(A26+200,ｴﾝﾄﾘｰ票!$BA$16:$BF$205,6,0)),\"\",VLOOKUP(A26+200,ｴﾝﾄﾘｰ票!$BA$16:$BF$205,6,0))","v":""},"氏名",null,"性別","学年",{"$f":"IF(ISERROR(VLOOKUP(A26+300,ｴﾝﾄﾘｰ票!$BG$16:$BL$205,6,0)),\"\",VLOOKUP(A26+300,ｴﾝﾄﾘｰ票!$BG$16:$BL$205,6,0))","v":""},"氏名",null,"性別","学年"]
[41,26,{"$f":"IF(ISERROR(VLOOKUP(A26,ｴﾝﾄﾘｰ票!$A$16:$AH$215,5,0)),\"\",VLOOKUP(A26,ｴﾝﾄﾘｰ票!$A$16:$AH$215,5,0))","v":""},{"$f":"IF(C26=\"\",\"\",VLOOKUP($C26,ｴﾝﾄﾘｰ票!$E$16:$L$215,2,0))","v":""},{"$f":"IF(C26=\"\",\"\",VLOOKUP($C26,ｴﾝﾄﾘｰ票!$E$16:$L$215,3,0))","v":""},{"$f":"IF(C26=\"\",\"\",VLOOKUP($C26,ｴﾝﾄﾘｰ票!$E$16:$L$215,8,0))","v":""},{"$f":"IF(C26=\"\",\"\",VLOOKUP($C26,ｴﾝﾄﾘｰ票!$E$16:$L$215,6,0))","v":""},{"$f":"IF(ISERROR(VLOOKUP(A26+100,ｴﾝﾄﾘｰ票!$AU$16:$AZ$205,4,0)),\"\",VLOOKUP(A26+100,ｴﾝﾄﾘｰ票!$AU$16:$AZ$205,4,0))","v":""},{"$f":"IF(H26=\"\",\"\",VLOOKUP($H26,ｴﾝﾄﾘｰ票!$E$16:$L$215,2,0))","v":""},{"$f":"IF(H26=\"\",\"\",VLOOKUP($H26,ｴﾝﾄﾘｰ票!$E$16:$L$215,3,0))","v":""},{"$f":"IF(H26=\"\",\"\",VLOOKUP($H26,ｴﾝﾄﾘｰ票!$E$16:$L$215,8,0))","v":""},{"$f":"IF(H26=\"\",\"\",VLOOKUP($H26,ｴﾝﾄﾘｰ票!$E$16:$L$215,6,0))","v":""},{"$f":"IF(ISERROR(VLOOKUP(A26+200,ｴﾝﾄﾘｰ票!$BA$16:$BF$205,4,0)),\"\",VLOOKUP(A26+200,ｴﾝﾄﾘｰ票!$BA$16:$BF$205,4,0))","v":""},{"$f":"IF(M26=\"\",\"\",VLOOKUP($M26,ｴﾝﾄﾘｰ票!$E$16:$L$215,2,0))","v":""},{"$f":"IF(M26=\"\",\"\",VLOOKUP($M26,ｴﾝﾄﾘｰ票!$E$16:$L$215,3,0))","v":""},{"$f":"IF(M26=\"\",\"\",VLOOKUP($M26,ｴﾝﾄﾘｰ票!$E$16:$L$215,8,0))","v":""},{"$f":"IF(M26=\"\",\"\",VLOOKUP($M26,ｴﾝﾄﾘｰ票!$E$16:$L$215,6,0))","v":""},{"$f":"IF(ISERROR(VLOOKUP(A26+300,ｴﾝﾄﾘｰ票!$BG$16:$BL$205,4,0)),\"\",VLOOKUP(A26+300,ｴﾝﾄﾘｰ票!$BG$16:$BL$205,4,0))","v":""},{"$f":"IF(R26=\"\",\"\",VLOOKUP($R26,ｴﾝﾄﾘｰ票!$E$16:$L$215,2,0))","v":""},{"$f":"IF(R26=\"\",\"\",VLOOKUP($R26,ｴﾝﾄﾘｰ票!$E$16:$L$215,3,0))","v":""},{"$f":"IF(R26=\"\",\"\",VLOOKUP($R26,ｴﾝﾄﾘｰ票!$E$16:$L$215,8,0))","v":""},{"$f":"IF(R26=\"\",\"\",VLOOKUP($R26,ｴﾝﾄﾘｰ票!$E$16:$L$215,6,0))","v":""}]
[42,27,{"$f":"IF(ISERROR(VLOOKUP(A27,ｴﾝﾄﾘｰ票!$A$16:$AH$215,5,0)),\"\",VLOOKUP(A27,ｴﾝﾄﾘｰ票!$A$16:$AH$215,5,0))","v":""},{"$f":"IF(C27=\"\",\"\",VLOOKUP($C27,ｴﾝﾄﾘｰ票!$E$16:$L$215,2,0))","v":""},{"$f":"IF(C27=\"\",\"\",VLOOKUP($C27,ｴﾝﾄﾘｰ票!$E$16:$L$215,3,0))","v":""},{"$f":"IF(C27=\"\",\"\",VLOOKUP($C27,ｴﾝﾄﾘｰ票!$E$16:$L$215,8,0))","v":""},{"$f":"IF(C27=\"\",\"\",VLOOKUP($C27,ｴﾝﾄﾘｰ票!$E$16:$L$215,6,0))","v":""},{"$f":"IF(ISERROR(VLOOKUP(A27+100,ｴﾝﾄﾘｰ票!$AU$16:$AZ$205,4,0)),\"\",VLOOKUP(A27+100,ｴﾝﾄﾘｰ票!$AU$16:$AZ$205,4,0))","v":""},{"$f":"IF(H27=\"\",\"\",VLOOKUP($H27,ｴﾝﾄﾘｰ票!$E$16:$L$215,2,0))","v":""},{"$f":"IF(H27=\"\",\"\",VLOOKUP($H27,ｴﾝﾄﾘｰ票!$E$16:$L$215,3,0))","v":""},{"$f":"IF(H27=\"\",\"\",VLOOKUP($H27,ｴﾝﾄﾘｰ票!$E$16:$L$215,8,0))","v":""},{"$f":"IF(H27=\"\",\"\",VLOOKUP($H27,ｴﾝﾄﾘｰ票!$E$16:$L$215,6,0))","v":""},{"$f":"IF(ISERROR(VLOOKUP(A27+200,ｴﾝﾄﾘｰ票!$BA$16:$BF$205,4,0)),\"\",VLOOKUP(A27+200,ｴﾝﾄﾘｰ票!$BA$16:$BF$205,4,0))","v":""},{"$f":"IF(M27=\"\",\"\",VLOOKUP($M27,ｴﾝﾄﾘｰ票!$E$16:$L$215,2,0))","v":""},{"$f":"IF(M27=\"\",\"\",VLOOKUP($M27,ｴﾝﾄﾘｰ票!$E$16:$L$215,3,0))","v":""},{"$f":"IF(M27=\"\",\"\",VLOOKUP($M27,ｴﾝﾄﾘｰ票!$E$16:$L$215,8,0))","v":""},{"$f":"IF(M27=\"\",\"\",VLOOKUP($M27,ｴﾝﾄﾘｰ票!$E$16:$L$215,6,0))","v":""},{"$f":"IF(ISERROR(VLOOKUP(A27+300,ｴﾝﾄﾘｰ票!$BG$16:$BL$205,4,0)),\"\",VLOOKUP(A27+300,ｴﾝﾄﾘｰ票!$BG$16:$BL$205,4,0))","v":""},{"$f":"IF(R27=\"\",\"\",VLOOKUP($R27,ｴﾝﾄﾘｰ票!$E$16:$L$215,2,0))","v":""},{"$f":"IF(R27=\"\",\"\",VLOOKUP($R27,ｴﾝﾄﾘｰ票!$E$16:$L$215,3,0))","v":""},{"$f":"IF(R27=\"\",\"\",VLOOKUP($R27,ｴﾝﾄﾘｰ票!$E$16:$L$215,8,0))","v":""},{"$f":"IF(R27=\"\",\"\",VLOOKUP($R27,ｴﾝﾄﾘｰ票!$E$16:$L$215,6,0))","v":""}]
[43,28,{"$f":"IF(ISERROR(VLOOKUP(A28,ｴﾝﾄﾘｰ票!$A$16:$AH$215,5,0)),\"\",VLOOKUP(A28,ｴﾝﾄﾘｰ票!$A$16:$AH$215,5,0))","v":""},{"$f":"IF(C28=\"\",\"\",VLOOKUP($C28,ｴﾝﾄﾘｰ票!$E$16:$L$215,2,0))","v":""},{"$f":"IF(C28=\"\",\"\",VLOOKUP($C28,ｴﾝﾄﾘｰ票!$E$16:$L$215,3,0))","v":""},{"$f":"IF(C28=\"\",\"\",VLOOKUP($C28,ｴﾝﾄﾘｰ票!$E$16:$L$215,8,0))","v":""},{"$f":"IF(C28=\"\",\"\",VLOOKUP($C28,ｴﾝﾄﾘｰ票!$E$16:$L$215,6,0))","v":""},{"$f":"IF(ISERROR(VLOOKUP(A28+100,ｴﾝﾄﾘｰ票!$AU$16:$AZ$205,4,0)),\"\",VLOOKUP(A28+100,ｴﾝﾄﾘｰ票!$AU$16:$AZ$205,4,0))","v":""},{"$f":"IF(H28=\"\",\"\",VLOOKUP($H28,ｴﾝﾄﾘｰ票!$E$16:$L$215,2,0))","v":""},{"$f":"IF(H28=\"\",\"\",VLOOKUP($H28,ｴﾝﾄﾘｰ票!$E$16:$L$215,3,0))","v":""},{"$f":"IF(H28=\"\",\"\",VLOOKUP($H28,ｴﾝﾄﾘｰ票!$E$16:$L$215,8,0))","v":""},{"$f":"IF(H28=\"\",\"\",VLOOKUP($H28,ｴﾝﾄﾘｰ票!$E$16:$L$215,6,0))","v":""},{"$f":"IF(ISERROR(VLOOKUP(A28+200,ｴﾝﾄﾘｰ票!$BA$16:$BF$205,4,0)),\"\",VLOOKUP(A28+200,ｴﾝﾄﾘｰ票!$BA$16:$BF$205,4,0))","v":""},{"$f":"IF(M28=\"\",\"\",VLOOKUP($M28,ｴﾝﾄﾘｰ票!$E$16:$L$215,2,0))","v":""},{"$f":"IF(M28=\"\",\"\",VLOOKUP($M28,ｴﾝﾄﾘｰ票!$E$16:$L$215,3,0))","v":""},{"$f":"IF(M28=\"\",\"\",VLOOKUP($M28,ｴﾝﾄﾘｰ票!$E$16:$L$215,8,0))","v":""},{"$f":"IF(M28=\"\",\"\",VLOOKUP($M28,ｴﾝﾄﾘｰ票!$E$16:$L$215,6,0))","v":""},{"$f":"IF(ISERROR(VLOOKUP(A28+300,ｴﾝﾄﾘｰ票!$BG$16:$BL$205,4,0)),\"\",VLOOKUP(A28+300,ｴﾝﾄﾘｰ票!$BG$16:$BL$205,4,0))","v":""},{"$f":"IF(R28=\"\",\"\",VLOOKUP($R28,ｴﾝﾄﾘｰ票!$E$16:$L$215,2,0))","v":""},{"$f":"IF(R28=\"\",\"\",VLOOKUP($R28,ｴﾝﾄﾘｰ票!$E$16:$L$215,3,0))","v":""},{"$f":"IF(R28=\"\",\"\",VLOOKUP($R28,ｴﾝﾄﾘｰ票!$E$16:$L$215,8,0))","v":""},{"$f":"IF(R28=\"\",\"\",VLOOKUP($R28,ｴﾝﾄﾘｰ票!$E$16:$L$215,6,0))","v":""}]
[44,29,{"$f":"IF(ISERROR(VLOOKUP(A29,ｴﾝﾄﾘｰ票!$A$16:$AH$215,5,0)),\"\",VLOOKUP(A29,ｴﾝﾄﾘｰ票!$A$16:$AH$215,5,0))","v":""},{"$f":"IF(C29=\"\",\"\",VLOOKUP($C29,ｴﾝﾄﾘｰ票!$E$16:$L$215,2,0))","v":""},{"$f":"IF(C29=\"\",\"\",VLOOKUP($C29,ｴﾝﾄﾘｰ票!$E$16:$L$215,3,0))","v":""},{"$f":"IF(C29=\"\",\"\",VLOOKUP($C29,ｴﾝﾄﾘｰ票!$E$16:$L$215,8,0))","v":""},{"$f":"IF(C29=\"\",\"\",VLOOKUP($C29,ｴﾝﾄﾘｰ票!$E$16:$L$215,6,0))","v":""},{"$f":"IF(ISERROR(VLOOKUP(A29+100,ｴﾝﾄﾘｰ票!$AU$16:$AZ$205,4,0)),\"\",VLOOKUP(A29+100,ｴﾝﾄﾘｰ票!$AU$16:$AZ$205,4,0))","v":""},{"$f":"IF(H29=\"\",\"\",VLOOKUP($H29,ｴﾝﾄﾘｰ票!$E$16:$L$215,2,0))","v":""},{"$f":"IF(H29=\"\",\"\",VLOOKUP($H29,ｴﾝﾄﾘｰ票!$E$16:$L$215,3,0))","v":""},{"$f":"IF(H29=\"\",\"\",VLOOKUP($H29,ｴﾝﾄﾘｰ票!$E$16:$L$215,8,0))","v":""},{"$f":"IF(H29=\"\",\"\",VLOOKUP($H29,ｴﾝﾄﾘｰ票!$E$16:$L$215,6,0))","v":""},{"$f":"IF(ISERROR(VLOOKUP(A29+200,ｴﾝﾄﾘｰ票!$BA$16:$BF$205,4,0)),\"\",VLOOKUP(A29+200,ｴﾝﾄﾘｰ票!$BA$16:$BF$205,4,0))","v":""},{"$f":"IF(M29=\"\",\"\",VLOOKUP($M29,ｴﾝﾄﾘｰ票!$E$16:$L$215,2,0))","v":""},{"$f":"IF(M29=\"\",\"\",VLOOKUP($M29,ｴﾝﾄﾘｰ票!$E$16:$L$215,3,0))","v":""},{"$f":"IF(M29=\"\",\"\",VLOOKUP($M29,ｴﾝﾄﾘｰ票!$E$16:$L$215,8,0))","v":""},{"$f":"IF(M29=\"\",\"\",VLOOKUP($M29,ｴﾝﾄﾘｰ票!$E$16:$L$215,6,0))","v":""},{"$f":"IF(ISERROR(VLOOKUP(A29+300,ｴﾝﾄﾘｰ票!$BG$16:$BL$205,4,0)),\"\",VLOOKUP(A29+300,ｴﾝﾄﾘｰ票!$BG$16:$BL$205,4,0))","v":""},{"$f":"IF(R29=\"\",\"\",VLOOKUP($R29,ｴﾝﾄﾘｰ票!$E$16:$L$215,2,0))","v":""},{"$f":"IF(R29=\"\",\"\",VLOOKUP($R29,ｴﾝﾄﾘｰ票!$E$16:$L$215,3,0))","v":""},{"$f":"IF(R29=\"\",\"\",VLOOKUP($R29,ｴﾝﾄﾘｰ票!$E$16:$L$215,8,0))","v":""},{"$f":"IF(R29=\"\",\"\",VLOOKUP($R29,ｴﾝﾄﾘｰ票!$E$16:$L$215,6,0))","v":""}]
[45,30,{"$f":"IF(ISERROR(VLOOKUP(A30,ｴﾝﾄﾘｰ票!$A$16:$AH$215,5,0)),\"\",VLOOKUP(A30,ｴﾝﾄﾘｰ票!$A$16:$AH$215,5,0))","v":""},{"$f":"IF(C30=\"\",\"\",VLOOKUP($C30,ｴﾝﾄﾘｰ票!$E$16:$L$215,2,0))","v":""},{"$f":"IF(C30=\"\",\"\",VLOOKUP($C30,ｴﾝﾄﾘｰ票!$E$16:$L$215,3,0))","v":""},{"$f":"IF(C30=\"\",\"\",VLOOKUP($C30,ｴﾝﾄﾘｰ票!$E$16:$L$215,8,0))","v":""},{"$f":"IF(C30=\"\",\"\",VLOOKUP($C30,ｴﾝﾄﾘｰ票!$E$16:$L$215,6,0))","v":""},{"$f":"IF(ISERROR(VLOOKUP(A30+100,ｴﾝﾄﾘｰ票!$AU$16:$AZ$205,4,0)),\"\",VLOOKUP(A30+100,ｴﾝﾄﾘｰ票!$AU$16:$AZ$205,4,0))","v":""},{"$f":"IF(H30=\"\",\"\",VLOOKUP($H30,ｴﾝﾄﾘｰ票!$E$16:$L$215,2,0))","v":""},{"$f":"IF(H30=\"\",\"\",VLOOKUP($H30,ｴﾝﾄﾘｰ票!$E$16:$L$215,3,0))","v":""},{"$f":"IF(H30=\"\",\"\",VLOOKUP($H30,ｴﾝﾄﾘｰ票!$E$16:$L$215,8,0))","v":""},{"$f":"IF(H30=\"\",\"\",VLOOKUP($H30,ｴﾝﾄﾘｰ票!$E$16:$L$215,6,0))","v":""},{"$f":"IF(ISERROR(VLOOKUP(A30+200,ｴﾝﾄﾘｰ票!$BA$16:$BF$205,4,0)),\"\",VLOOKUP(A30+200,ｴﾝﾄﾘｰ票!$BA$16:$BF$205,4,0))","v":""},{"$f":"IF(M30=\"\",\"\",VLOOKUP($M30,ｴﾝﾄﾘｰ票!$E$16:$L$215,2,0))","v":""},{"$f":"IF(M30=\"\",\"\",VLOOKUP($M30,ｴﾝﾄﾘｰ票!$E$16:$L$215,3,0))","v":""},{"$f":"IF(M30=\"\",\"\",VLOOKUP($M30,ｴﾝﾄﾘｰ票!$E$16:$L$215,8,0))","v":""},{"$f":"IF(M30=\"\",\"\",VLOOKUP($M30,ｴﾝﾄﾘｰ票!$E$16:$L$215,6,0))","v":""},{"$f":"IF(ISERROR(VLOOKUP(A30+300,ｴﾝﾄﾘｰ票!$BG$16:$BL$205,4,0)),\"\",VLOOKUP(A30+300,ｴﾝﾄﾘｰ票!$BG$16:$BL$205,4,0))","v":""},{"$f":"IF(R30=\"\",\"\",VLOOKUP($R30,ｴﾝﾄﾘｰ票!$E$16:$L$215,2,0))","v":""},{"$f":"IF(R30=\"\",\"\",VLOOKUP($R30,ｴﾝﾄﾘｰ票!$E$16:$L$215,3,0))","v":""},{"$f":"IF(R30=\"\",\"\",VLOOKUP($R30,ｴﾝﾄﾘｰ票!$E$16:$L$215,8,0))","v":""},{"$f":"IF(R30=\"\",\"\",VLOOKUP($R30,ｴﾝﾄﾘｰ票!$E$16:$L$215,6,0))","v":""}]
[46,31,{"$f":"IF(ISERROR(VLOOKUP(A31,ｴﾝﾄﾘｰ票!$A$16:$AH$215,5,0)),\"\",VLOOKUP(A31,ｴﾝﾄﾘｰ票!$A$16:$AH$215,5,0))","v":""},{"$f":"IF(C31=\"\",\"\",VLOOKUP($C31,ｴﾝﾄﾘｰ票!$E$16:$L$215,2,0))","v":""},{"$f":"IF(C31=\"\",\"\",VLOOKUP($C31,ｴﾝﾄﾘｰ票!$E$16:$L$215,3,0))","v":""},{"$f":"IF(C31=\"\",\"\",VLOOKUP($C31,ｴﾝﾄﾘｰ票!$E$16:$L$215,8,0))","v":""},{"$f":"IF(C31=\"\",\"\",VLOOKUP($C31,ｴﾝﾄﾘｰ票!$E$16:$L$215,6,0))","v":""},{"$f":"IF(ISERROR(VLOOKUP(A31+100,ｴﾝﾄﾘｰ票!$AU$16:$AZ$205,4,0)),\"\",VLOOKUP(A31+100,ｴﾝﾄﾘｰ票!$AU$16:$AZ$205,4,0))","v":""},{"$f":"IF(H31=\"\",\"\",VLOOKUP($H31,ｴﾝﾄﾘｰ票!$E$16:$L$215,2,0))","v":""},{"$f":"IF(H31=\"\",\"\",VLOOKUP($H31,ｴﾝﾄﾘｰ票!$E$16:$L$215,3,0))","v":""},{"$f":"IF(H31=\"\",\"\",VLOOKUP($H31,ｴﾝﾄﾘｰ票!$E$16:$L$215,8,0))","v":""},{"$f":"IF(H31=\"\",\"\",VLOOKUP($H31,ｴﾝﾄﾘｰ票!$E$16:$L$215,6,0))","v":""},{"$f":"IF(ISERROR(VLOOKUP(A31+200,ｴﾝﾄﾘｰ票!$BA$16:$BF$205,4,0)),\"\",VLOOKUP(A31+200,ｴﾝﾄﾘｰ票!$BA$16:$BF$205,4,0))","v":""},{"$f":"IF(M31=\"\",\"\",VLOOKUP($M31,ｴﾝﾄﾘｰ票!$E$16:$L$215,2,0))","v":""},{"$f":"IF(M31=\"\",\"\",VLOOKUP($M31,ｴﾝﾄﾘｰ票!$E$16:$L$215,3,0))","v":""},{"$f":"IF(M31=\"\",\"\",VLOOKUP($M31,ｴﾝﾄﾘｰ票!$E$16:$L$215,8,0))","v":""},{"$f":"IF(M31=\"\",\"\",VLOOKUP($M31,ｴﾝﾄﾘｰ票!$E$16:$L$215,6,0))","v":""},{"$f":"IF(ISERROR(VLOOKUP(A31+300,ｴﾝﾄﾘｰ票!$BG$16:$BL$205,4,0)),\"\",VLOOKUP(A31+300,ｴﾝﾄﾘｰ票!$BG$16:$BL$205,4,0))","v":""},{"$f":"IF(R31=\"\",\"\",VLOOKUP($R31,ｴﾝﾄﾘｰ票!$E$16:$L$215,2,0))","v":""},{"$f":"IF(R31=\"\",\"\",VLOOKUP($R31,ｴﾝﾄﾘｰ票!$E$16:$L$215,3,0))","v":""},{"$f":"IF(R31=\"\",\"\",VLOOKUP($R31,ｴﾝﾄﾘｰ票!$E$16:$L$215,8,0))","v":""},{"$f":"IF(R31=\"\",\"\",VLOOKUP($R31,ｴﾝﾄﾘｰ票!$E$16:$L$215,6,0))","v":""}]
[5,32,{"$f":"IF(ISERROR(VLOOKUP(A33,ｴﾝﾄﾘｰ票!$AO$16:$AT$205,6,0)),\"\",VLOOKUP(A33,ｴﾝﾄﾘｰ票!$AO$16:$AT$205,6,0))","v":""},"氏名",null,"性別","学年",{"$f":"IF(ISERROR(VLOOKUP(A33+100,ｴﾝﾄﾘｰ票!$AU$16:$AZ$205,6,0)),\"\",VLOOKUP(A33+100,ｴﾝﾄﾘｰ票!$AU$16:$AZ$205,6,0))","v":""},"氏名",null,"性別","学年",{"$f":"IF(ISERROR(VLOOKUP(A33+200,ｴﾝﾄﾘｰ票!$BA$16:$BF$205,6,0)),\"\",VLOOKUP(A33+200,ｴﾝﾄﾘｰ票!$BA$16:$BF$205,6,0))","v":""},"氏名",null,"性別","学年",{"$f":"IF(ISERROR(VLOOKUP(A33+300,ｴﾝﾄﾘｰ票!$BG$16:$BL$205,6,0)),\"\",VLOOKUP(A33+300,ｴﾝﾄﾘｰ票!$BG$16:$BL$205,6,0))","v":""},"氏名",null,"性別","学年"]
[51,33,{"$f":"IF(ISERROR(VLOOKUP(A33,ｴﾝﾄﾘｰ票!$A$16:$AH$215,5,0)),\"\",VLOOKUP(A33,ｴﾝﾄﾘｰ票!$A$16:$AH$215,5,0))","v":""},{"$f":"IF(C33=\"\",\"\",VLOOKUP($C33,ｴﾝﾄﾘｰ票!$E$16:$L$215,2,0))","v":""},{"$f":"IF(C33=\"\",\"\",VLOOKUP($C33,ｴﾝﾄﾘｰ票!$E$16:$L$215,3,0))","v":""},{"$f":"IF(C33=\"\",\"\",VLOOKUP($C33,ｴﾝﾄﾘｰ票!$E$16:$L$215,8,0))","v":""},{"$f":"IF(C33=\"\",\"\",VLOOKUP($C33,ｴﾝﾄﾘｰ票!$E$16:$L$215,6,0))","v":""},{"$f":"IF(ISERROR(VLOOKUP(A33+100,ｴﾝﾄﾘｰ票!$AU$16:$AZ$205,4,0)),\"\",VLOOKUP(A33+100,ｴﾝﾄﾘｰ票!$AU$16:$AZ$205,4,0))","v":""},{"$f":"IF(H33=\"\",\"\",VLOOKUP($H33,ｴﾝﾄﾘｰ票!$E$16:$L$215,2,0))","v":""},{"$f":"IF(H33=\"\",\"\",VLOOKUP($H33,ｴﾝﾄﾘｰ票!$E$16:$L$215,3,0))","v":""},{"$f":"IF(H33=\"\",\"\",VLOOKUP($H33,ｴﾝﾄﾘｰ票!$E$16:$L$215,8,0))","v":""},{"$f":"IF(H33=\"\",\"\",VLOOKUP($H33,ｴﾝﾄﾘｰ票!$E$16:$L$215,6,0))","v":""},{"$f":"IF(ISERROR(VLOOKUP(A33+200,ｴﾝﾄﾘｰ票!$BA$16:$BF$205,4,0)),\"\",VLOOKUP(A33+200,ｴﾝﾄﾘｰ票!$BA$16:$BF$205,4,0))","v":""},{"$f":"IF(M33=\"\",\"\",VLOOKUP($M33,ｴﾝﾄﾘｰ票!$E$16:$L$215,2,0))","v":""},{"$f":"IF(M33=\"\",\"\",VLOOKUP($M33,ｴﾝﾄﾘｰ票!$E$16:$L$215,3,0))","v":""},{"$f":"IF(M33=\"\",\"\",VLOOKUP($M33,ｴﾝﾄﾘｰ票!$E$16:$L$215,8,0))","v":""},{"$f":"IF(M33=\"\",\"\",VLOOKUP($M33,ｴﾝﾄﾘｰ票!$E$16:$L$215,6,0))","v":""},{"$f":"IF(ISERROR(VLOOKUP(A33+300,ｴﾝﾄﾘｰ票!$BG$16:$BL$205,4,0)),\"\",VLOOKUP(A33+300,ｴﾝﾄﾘｰ票!$BG$16:$BL$205,4,0))","v":""},{"$f":"IF(R33=\"\",\"\",VLOOKUP($R33,ｴﾝﾄﾘｰ票!$E$16:$L$215,2,0))","v":""},{"$f":"IF(R33=\"\",\"\",VLOOKUP($R33,ｴﾝﾄﾘｰ票!$E$16:$L$215,3,0))","v":""},{"$f":"IF(R33=\"\",\"\",VLOOKUP($R33,ｴﾝﾄﾘｰ票!$E$16:$L$215,8,0))","v":""},{"$f":"IF(R33=\"\",\"\",VLOOKUP($R33,ｴﾝﾄﾘｰ票!$E$16:$L$215,6,0))","v":""}]
[52,34,{"$f":"IF(ISERROR(VLOOKUP(A34,ｴﾝﾄﾘｰ票!$A$16:$AH$215,5,0)),\"\",VLOOKUP(A34,ｴﾝﾄﾘｰ票!$A$16:$AH$215,5,0))","v":""},{"$f":"IF(C34=\"\",\"\",VLOOKUP($C34,ｴﾝﾄﾘｰ票!$E$16:$L$215,2,0))","v":""},{"$f":"IF(C34=\"\",\"\",VLOOKUP($C34,ｴﾝﾄﾘｰ票!$E$16:$L$215,3,0))","v":""},{"$f":"IF(C34=\"\",\"\",VLOOKUP($C34,ｴﾝﾄﾘｰ票!$E$16:$L$215,8,0))","v":""},{"$f":"IF(C34=\"\",\"\",VLOOKUP($C34,ｴﾝﾄﾘｰ票!$E$16:$L$215,6,0))","v":""},{"$f":"IF(ISERROR(VLOOKUP(A34+100,ｴﾝﾄﾘｰ票!$AU$16:$AZ$205,4,0)),\"\",VLOOKUP(A34+100,ｴﾝﾄﾘｰ票!$AU$16:$AZ$205,4,0))","v":""},{"$f":"IF(H34=\"\",\"\",VLOOKUP($H34,ｴﾝﾄﾘｰ票!$E$16:$L$215,2,0))","v":""},{"$f":"IF(H34=\"\",\"\",VLOOKUP($H34,ｴﾝﾄﾘｰ票!$E$16:$L$215,3,0))","v":""},{"$f":"IF(H34=\"\",\"\",VLOOKUP($H34,ｴﾝﾄﾘｰ票!$E$16:$L$215,8,0))","v":""},{"$f":"IF(H34=\"\",\"\",VLOOKUP($H34,ｴﾝﾄﾘｰ票!$E$16:$L$215,6,0))","v":""},{"$f":"IF(ISERROR(VLOOKUP(A34+200,ｴﾝﾄﾘｰ票!$BA$16:$BF$205,4,0)),\"\",VLOOKUP(A34+200,ｴﾝﾄﾘｰ票!$BA$16:$BF$205,4,0))","v":""},{"$f":"IF(M34=\"\",\"\",VLOOKUP($M34,ｴﾝﾄﾘｰ票!$E$16:$L$215,2,0))","v":""},{"$f":"IF(M34=\"\",\"\",VLOOKUP($M34,ｴﾝﾄﾘｰ票!$E$16:$L$215,3,0))","v":""},{"$f":"IF(M34=\"\",\"\",VLOOKUP($M34,ｴﾝﾄﾘｰ票!$E$16:$L$215,8,0))","v":""},{"$f":"IF(M34=\"\",\"\",VLOOKUP($M34,ｴﾝﾄﾘｰ票!$E$16:$L$215,6,0))","v":""},{"$f":"IF(ISERROR(VLOOKUP(A34+300,ｴﾝﾄﾘｰ票!$BG$16:$BL$205,4,0)),\"\",VLOOKUP(A34+300,ｴﾝﾄﾘｰ票!$BG$16:$BL$205,4,0))","v":""},{"$f":"IF(R34=\"\",\"\",VLOOKUP($R34,ｴﾝﾄﾘｰ票!$E$16:$L$215,2,0))","v":""},{"$f":"IF(R34=\"\",\"\",VLOOKUP($R34,ｴﾝﾄﾘｰ票!$E$16:$L$215,3,0))","v":""},{"$f":"IF(R34=\"\",\"\",VLOOKUP($R34,ｴﾝﾄﾘｰ票!$E$16:$L$215,8,0))","v":""},{"$f":"IF(R34=\"\",\"\",VLOOKUP($R34,ｴﾝﾄﾘｰ票!$E$16:$L$215,6,0))","v":""}]
[53,35,{"$f":"IF(ISERROR(VLOOKUP(A35,ｴﾝﾄﾘｰ票!$A$16:$AH$215,5,0)),\"\",VLOOKUP(A35,ｴﾝﾄﾘｰ票!$A$16:$AH$215,5,0))","v":""},{"$f":"IF(C35=\"\",\"\",VLOOKUP($C35,ｴﾝﾄﾘｰ票!$E$16:$L$215,2,0))","v":""},{"$f":"IF(C35=\"\",\"\",VLOOKUP($C35,ｴﾝﾄﾘｰ票!$E$16:$L$215,3,0))","v":""},{"$f":"IF(C35=\"\",\"\",VLOOKUP($C35,ｴﾝﾄﾘｰ票!$E$16:$L$215,8,0))","v":""},{"$f":"IF(C35=\"\",\"\",VLOOKUP($C35,ｴﾝﾄﾘｰ票!$E$16:$L$215,6,0))","v":""},{"$f":"IF(ISERROR(VLOOKUP(A35+100,ｴﾝﾄﾘｰ票!$AU$16:$AZ$205,4,0)),\"\",VLOOKUP(A35+100,ｴﾝﾄﾘｰ票!$AU$16:$AZ$205,4,0))","v":""},{"$f":"IF(H35=\"\",\"\",VLOOKUP($H35,ｴﾝﾄﾘｰ票!$E$16:$L$215,2,0))","v":""},{"$f":"IF(H35=\"\",\"\",VLOOKUP($H35,ｴﾝﾄﾘｰ票!$E$16:$L$215,3,0))","v":""},{"$f":"IF(H35=\"\",\"\",VLOOKUP($H35,ｴﾝﾄﾘｰ票!$E$16:$L$215,8,0))","v":""},{"$f":"IF(H35=\"\",\"\",VLOOKUP($H35,ｴﾝﾄﾘｰ票!$E$16:$L$215,6,0))","v":""},{"$f":"IF(ISERROR(VLOOKUP(A35+200,ｴﾝﾄﾘｰ票!$BA$16:$BF$205,4,0)),\"\",VLOOKUP(A35+200,ｴﾝﾄﾘｰ票!$BA$16:$BF$205,4,0))","v":""},{"$f":"IF(M35=\"\",\"\",VLOOKUP($M35,ｴﾝﾄﾘｰ票!$E$16:$L$215,2,0))","v":""},{"$f":"IF(M35=\"\",\"\",VLOOKUP($M35,ｴﾝﾄﾘｰ票!$E$16:$L$215,3,0))","v":""},{"$f":"IF(M35=\"\",\"\",VLOOKUP($M35,ｴﾝﾄﾘｰ票!$E$16:$L$215,8,0))","v":""},{"$f":"IF(M35=\"\",\"\",VLOOKUP($M35,ｴﾝﾄﾘｰ票!$E$16:$L$215,6,0))","v":""},{"$f":"IF(ISERROR(VLOOKUP(A35+300,ｴﾝﾄﾘｰ票!$BG$16:$BL$205,4,0)),\"\",VLOOKUP(A35+300,ｴﾝﾄﾘｰ票!$BG$16:$BL$205,4,0))","v":""},{"$f":"IF(R35=\"\",\"\",VLOOKUP($R35,ｴﾝﾄﾘｰ票!$E$16:$L$215,2,0))","v":""},{"$f":"IF(R35=\"\",\"\",VLOOKUP($R35,ｴﾝﾄﾘｰ票!$E$16:$L$215,3,0))","v":""},{"$f":"IF(R35=\"\",\"\",VLOOKUP($R35,ｴﾝﾄﾘｰ票!$E$16:$L$215,8,0))","v":""},{"$f":"IF(R35=\"\",\"\",VLOOKUP($R35,ｴﾝﾄﾘｰ票!$E$16:$L$215,6,0))","v":""}]
[54,36,{"$f":"IF(ISERROR(VLOOKUP(A36,ｴﾝﾄﾘｰ票!$A$16:$AH$215,5,0)),\"\",VLOOKUP(A36,ｴﾝﾄﾘｰ票!$A$16:$AH$215,5,0))","v":""},{"$f":"IF(C36=\"\",\"\",VLOOKUP($C36,ｴﾝﾄﾘｰ票!$E$16:$L$215,2,0))","v":""},{"$f":"IF(C36=\"\",\"\",VLOOKUP($C36,ｴﾝﾄﾘｰ票!$E$16:$L$215,3,0))","v":""},{"$f":"IF(C36=\"\",\"\",VLOOKUP($C36,ｴﾝﾄﾘｰ票!$E$16:$L$215,8,0))","v":""},{"$f":"IF(C36=\"\",\"\",VLOOKUP($C36,ｴﾝﾄﾘｰ票!$E$16:$L$215,6,0))","v":""},{"$f":"IF(ISERROR(VLOOKUP(A36+100,ｴﾝﾄﾘｰ票!$AU$16:$AZ$205,4,0)),\"\",VLOOKUP(A36+100,ｴﾝﾄﾘｰ票!$AU$16:$AZ$205,4,0))","v":""},{"$f":"IF(H36=\"\",\"\",VLOOKUP($H36,ｴﾝﾄﾘｰ票!$E$16:$L$215,2,0))","v":""},{"$f":"IF(H36=\"\",\"\",VLOOKUP($H36,ｴﾝﾄﾘｰ票!$E$16:$L$215,3,0))","v":""},{"$f":"IF(H36=\"\",\"\",VLOOKUP($H36,ｴﾝﾄﾘｰ票!$E$16:$L$215,8,0))","v":""},{"$f":"IF(H36=\"\",\"\",VLOOKUP($H36,ｴﾝﾄﾘｰ票!$E$16:$L$215,6,0))","v":""},{"$f":"IF(ISERROR(VLOOKUP(A36+200,ｴﾝﾄﾘｰ票!$BA$16:$BF$205,4,0)),\"\",VLOOKUP(A36+200,ｴﾝﾄﾘｰ票!$BA$16:$BF$205,4,0))","v":""},{"$f":"IF(M36=\"\",\"\",VLOOKUP($M36,ｴﾝﾄﾘｰ票!$E$16:$L$215,2,0))","v":""},{"$f":"IF(M36=\"\",\"\",VLOOKUP($M36,ｴﾝﾄﾘｰ票!$E$16:$L$215,3,0))","v":""},{"$f":"IF(M36=\"\",\"\",VLOOKUP($M36,ｴﾝﾄﾘｰ票!$E$16:$L$215,8,0))","v":""},{"$f":"IF(M36=\"\",\"\",VLOOKUP($M36,ｴﾝﾄﾘｰ票!$E$16:$L$215,6,0))","v":""},{"$f":"IF(ISERROR(VLOOKUP(A36+300,ｴﾝﾄﾘｰ票!$BG$16:$BL$205,4,0)),\"\",VLOOKUP(A36+300,ｴﾝﾄﾘｰ票!$BG$16:$BL$205,4,0))","v":""},{"$f":"IF(R36=\"\",\"\",VLOOKUP($R36,ｴﾝﾄﾘｰ票!$E$16:$L$215,2,0))","v":""},{"$f":"IF(R36=\"\",\"\",VLOOKUP($R36,ｴﾝﾄﾘｰ票!$E$16:$L$215,3,0))","v":""},{"$f":"IF(R36=\"\",\"\",VLOOKUP($R36,ｴﾝﾄﾘｰ票!$E$16:$L$215,8,0))","v":""},{"$f":"IF(R36=\"\",\"\",VLOOKUP($R36,ｴﾝﾄﾘｰ票!$E$16:$L$215,6,0))","v":""}]
[55,37,{"$f":"IF(ISERROR(VLOOKUP(A37,ｴﾝﾄﾘｰ票!$A$16:$AH$215,5,0)),\"\",VLOOKUP(A37,ｴﾝﾄﾘｰ票!$A$16:$AH$215,5,0))","v":""},{"$f":"IF(C37=\"\",\"\",VLOOKUP($C37,ｴﾝﾄﾘｰ票!$E$16:$L$215,2,0))","v":""},{"$f":"IF(C37=\"\",\"\",VLOOKUP($C37,ｴﾝﾄﾘｰ票!$E$16:$L$215,3,0))","v":""},{"$f":"IF(C37=\"\",\"\",VLOOKUP($C37,ｴﾝﾄﾘｰ票!$E$16:$L$215,8,0))","v":""},{"$f":"IF(C37=\"\",\"\",VLOOKUP($C37,ｴﾝﾄﾘｰ票!$E$16:$L$215,6,0))","v":""},{"$f":"IF(ISERROR(VLOOKUP(A37+100,ｴﾝﾄﾘｰ票!$AU$16:$AZ$205,4,0)),\"\",VLOOKUP(A37+100,ｴﾝﾄﾘｰ票!$AU$16:$AZ$205,4,0))","v":""},{"$f":"IF(H37=\"\",\"\",VLOOKUP($H37,ｴﾝﾄﾘｰ票!$E$16:$L$215,2,0))","v":""},{"$f":"IF(H37=\"\",\"\",VLOOKUP($H37,ｴﾝﾄﾘｰ票!$E$16:$L$215,3,0))","v":""},{"$f":"IF(H37=\"\",\"\",VLOOKUP($H37,ｴﾝﾄﾘｰ票!$E$16:$L$215,8,0))","v":""},{"$f":"IF(H37=\"\",\"\",VLOOKUP($H37,ｴﾝﾄﾘｰ票!$E$16:$L$215,6,0))","v":""},{"$f":"IF(ISERROR(VLOOKUP(A37+200,ｴﾝﾄﾘｰ票!$BA$16:$BF$205,4,0)),\"\",VLOOKUP(A37+200,ｴﾝﾄﾘｰ票!$BA$16:$BF$205,4,0))","v":""},{"$f":"IF(M37=\"\",\"\",VLOOKUP($M37,ｴﾝﾄﾘｰ票!$E$16:$L$215,2,0))","v":""},{"$f":"IF(M37=\"\",\"\",VLOOKUP($M37,ｴﾝﾄﾘｰ票!$E$16:$L$215,3,0))","v":""},{"$f":"IF(M37=\"\",\"\",VLOOKUP($M37,ｴﾝﾄﾘｰ票!$E$16:$L$215,8,0))","v":""},{"$f":"IF(M37=\"\",\"\",VLOOKUP($M37,ｴﾝﾄﾘｰ票!$E$16:$L$215,6,0))","v":""},{"$f":"IF(ISERROR(VLOOKUP(A37+300,ｴﾝﾄﾘｰ票!$BG$16:$BL$205,4,0)),\"\",VLOOKUP(A37+300,ｴﾝﾄﾘｰ票!$BG$16:$BL$205,4,0))","v":""},{"$f":"IF(R37=\"\",\"\",VLOOKUP($R37,ｴﾝﾄﾘｰ票!$E$16:$L$215,2,0))","v":""},{"$f":"IF(R37=\"\",\"\",VLOOKUP($R37,ｴﾝﾄﾘｰ票!$E$16:$L$215,3,0))","v":""},{"$f":"IF(R37=\"\",\"\",VLOOKUP($R37,ｴﾝﾄﾘｰ票!$E$16:$L$215,8,0))","v":""},{"$f":"IF(R37=\"\",\"\",VLOOKUP($R37,ｴﾝﾄﾘｰ票!$E$16:$L$215,6,0))","v":""}]
[56,38,{"$f":"IF(ISERROR(VLOOKUP(A38,ｴﾝﾄﾘｰ票!$A$16:$AH$215,5,0)),\"\",VLOOKUP(A38,ｴﾝﾄﾘｰ票!$A$16:$AH$215,5,0))","v":""},{"$f":"IF(C38=\"\",\"\",VLOOKUP($C38,ｴﾝﾄﾘｰ票!$E$16:$L$215,2,0))","v":""},{"$f":"IF(C38=\"\",\"\",VLOOKUP($C38,ｴﾝﾄﾘｰ票!$E$16:$L$215,3,0))","v":""},{"$f":"IF(C38=\"\",\"\",VLOOKUP($C38,ｴﾝﾄﾘｰ票!$E$16:$L$215,8,0))","v":""},{"$f":"IF(C38=\"\",\"\",VLOOKUP($C38,ｴﾝﾄﾘｰ票!$E$16:$L$215,6,0))","v":""},{"$f":"IF(ISERROR(VLOOKUP(A38+100,ｴﾝﾄﾘｰ票!$AU$16:$AZ$205,4,0)),\"\",VLOOKUP(A38+100,ｴﾝﾄﾘｰ票!$AU$16:$AZ$205,4,0))","v":""},{"$f":"IF(H38=\"\",\"\",VLOOKUP($H38,ｴﾝﾄﾘｰ票!$E$16:$L$215,2,0))","v":""},{"$f":"IF(H38=\"\",\"\",VLOOKUP($H38,ｴﾝﾄﾘｰ票!$E$16:$L$215,3,0))","v":""},{"$f":"IF(H38=\"\",\"\",VLOOKUP($H38,ｴﾝﾄﾘｰ票!$E$16:$L$215,8,0))","v":""},{"$f":"IF(H38=\"\",\"\",VLOOKUP($H38,ｴﾝﾄﾘｰ票!$E$16:$L$215,6,0))","v":""},{"$f":"IF(ISERROR(VLOOKUP(A38+200,ｴﾝﾄﾘｰ票!$BA$16:$BF$205,4,0)),\"\",VLOOKUP(A38+200,ｴﾝﾄﾘｰ票!$BA$16:$BF$205,4,0))","v":""},{"$f":"IF(M38=\"\",\"\",VLOOKUP($M38,ｴﾝﾄﾘｰ票!$E$16:$L$215,2,0))","v":""},{"$f":"IF(M38=\"\",\"\",VLOOKUP($M38,ｴﾝﾄﾘｰ票!$E$16:$L$215,3,0))","v":""},{"$f":"IF(M38=\"\",\"\",VLOOKUP($M38,ｴﾝﾄﾘｰ票!$E$16:$L$215,8,0))","v":""},{"$f":"IF(M38=\"\",\"\",VLOOKUP($M38,ｴﾝﾄﾘｰ票!$E$16:$L$215,6,0))","v":""},{"$f":"IF(ISERROR(VLOOKUP(A38+300,ｴﾝﾄﾘｰ票!$BG$16:$BL$205,4,0)),\"\",VLOOKUP(A38+300,ｴﾝﾄﾘｰ票!$BG$16:$BL$205,4,0))","v":""},{"$f":"IF(R38=\"\",\"\",VLOOKUP($R38,ｴﾝﾄﾘｰ票!$E$16:$L$215,2,0))","v":""},{"$f":"IF(R38=\"\",\"\",VLOOKUP($R38,ｴﾝﾄﾘｰ票!$E$16:$L$215,3,0))","v":""},{"$f":"IF(R38=\"\",\"\",VLOOKUP($R38,ｴﾝﾄﾘｰ票!$E$16:$L$215,8,0))","v":""},{"$f":"IF(R38=\"\",\"\",VLOOKUP($R38,ｴﾝﾄﾘｰ票!$E$16:$L$215,6,0))","v":""}]
[6,39,{"$f":"IF(ISERROR(VLOOKUP(A40,ｴﾝﾄﾘｰ票!$AO$16:$AT$205,6,0)),\"\",VLOOKUP(A40,ｴﾝﾄﾘｰ票!$AO$16:$AT$205,6,0))","v":""},"氏名",null,"性別","学年",{"$f":"IF(ISERROR(VLOOKUP(A40+100,ｴﾝﾄﾘｰ票!$AU$16:$AZ$205,6,0)),\"\",VLOOKUP(A40+100,ｴﾝﾄﾘｰ票!$AU$16:$AZ$205,6,0))","v":""},"氏名",null,"性別","学年",{"$f":"IF(ISERROR(VLOOKUP(A40+200,ｴﾝﾄﾘｰ票!$BA$16:$BF$205,6,0)),\"\",VLOOKUP(A40+200,ｴﾝﾄﾘｰ票!$BA$16:$BF$205,6,0))","v":""},"氏名",null,"性別","学年",{"$f":"IF(ISERROR(VLOOKUP(A40+300,ｴﾝﾄﾘｰ票!$BG$16:$BL$205,6,0)),\"\",VLOOKUP(A40+300,ｴﾝﾄﾘｰ票!$BG$16:$BL$205,6,0))","v":""},"氏名",null,"性別","学年"]
[61,40,{"$f":"IF(ISERROR(VLOOKUP(A40,ｴﾝﾄﾘｰ票!$A$16:$AH$215,5,0)),\"\",VLOOKUP(A40,ｴﾝﾄﾘｰ票!$A$16:$AH$215,5,0))","v":""},{"$f":"IF(C40=\"\",\"\",VLOOKUP($C40,ｴﾝﾄﾘｰ票!$E$16:$L$215,2,0))","v":""},{"$f":"IF(C40=\"\",\"\",VLOOKUP($C40,ｴﾝﾄﾘｰ票!$E$16:$L$215,3,0))","v":""},{"$f":"IF(C40=\"\",\"\",VLOOKUP($C40,ｴﾝﾄﾘｰ票!$E$16:$L$215,8,0))","v":""},{"$f":"IF(C40=\"\",\"\",VLOOKUP($C40,ｴﾝﾄﾘｰ票!$E$16:$L$215,6,0))","v":""},{"$f":"IF(ISERROR(VLOOKUP(A40+100,ｴﾝﾄﾘｰ票!$AU$16:$AZ$205,4,0)),\"\",VLOOKUP(A40+100,ｴﾝﾄﾘｰ票!$AU$16:$AZ$205,4,0))","v":""},{"$f":"IF(H40=\"\",\"\",VLOOKUP($H40,ｴﾝﾄﾘｰ票!$E$16:$L$215,2,0))","v":""},{"$f":"IF(H40=\"\",\"\",VLOOKUP($H40,ｴﾝﾄﾘｰ票!$E$16:$L$215,3,0))","v":""},{"$f":"IF(H40=\"\",\"\",VLOOKUP($H40,ｴﾝﾄﾘｰ票!$E$16:$L$215,8,0))","v":""},{"$f":"IF(H40=\"\",\"\",VLOOKUP($H40,ｴﾝﾄﾘｰ票!$E$16:$L$215,6,0))","v":""},{"$f":"IF(ISERROR(VLOOKUP(A40+200,ｴﾝﾄﾘｰ票!$BA$16:$BF$205,4,0)),\"\",VLOOKUP(A40+200,ｴﾝﾄﾘｰ票!$BA$16:$BF$205,4,0))","v":""},{"$f":"IF(M40=\"\",\"\",VLOOKUP($M40,ｴﾝﾄﾘｰ票!$E$16:$L$215,2,0))","v":""},{"$f":"IF(M40=\"\",\"\",VLOOKUP($M40,ｴﾝﾄﾘｰ票!$E$16:$L$215,3,0))","v":""},{"$f":"IF(M40=\"\",\"\",VLOOKUP($M40,ｴﾝﾄﾘｰ票!$E$16:$L$215,8,0))","v":""},{"$f":"IF(M40=\"\",\"\",VLOOKUP($M40,ｴﾝﾄﾘｰ票!$E$16:$L$215,6,0))","v":""},{"$f":"IF(ISERROR(VLOOKUP(A40+300,ｴﾝﾄﾘｰ票!$BG$16:$BL$205,4,0)),\"\",VLOOKUP(A40+300,ｴﾝﾄﾘｰ票!$BG$16:$BL$205,4,0))","v":""},{"$f":"IF(R40=\"\",\"\",VLOOKUP($R40,ｴﾝﾄﾘｰ票!$E$16:$L$215,2,0))","v":""},{"$f":"IF(R40=\"\",\"\",VLOOKUP($R40,ｴﾝﾄﾘｰ票!$E$16:$L$215,3,0))","v":""},{"$f":"IF(R40=\"\",\"\",VLOOKUP($R40,ｴﾝﾄﾘｰ票!$E$16:$L$215,8,0))","v":""},{"$f":"IF(R40=\"\",\"\",VLOOKUP($R40,ｴﾝﾄﾘｰ票!$E$16:$L$215,6,0))","v":""}]
[62,41,{"$f":"IF(ISERROR(VLOOKUP(A41,ｴﾝﾄﾘｰ票!$A$16:$AH$215,5,0)),\"\",VLOOKUP(A41,ｴﾝﾄﾘｰ票!$A$16:$AH$215,5,0))","v":""},{"$f":"IF(C41=\"\",\"\",VLOOKUP($C41,ｴﾝﾄﾘｰ票!$E$16:$L$215,2,0))","v":""},{"$f":"IF(C41=\"\",\"\",VLOOKUP($C41,ｴﾝﾄﾘｰ票!$E$16:$L$215,3,0))","v":""},{"$f":"IF(C41=\"\",\"\",VLOOKUP($C41,ｴﾝﾄﾘｰ票!$E$16:$L$215,8,0))","v":""},{"$f":"IF(C41=\"\",\"\",VLOOKUP($C41,ｴﾝﾄﾘｰ票!$E$16:$L$215,6,0))","v":""},{"$f":"IF(ISERROR(VLOOKUP(A41+100,ｴﾝﾄﾘｰ票!$AU$16:$AZ$205,4,0)),\"\",VLOOKUP(A41+100,ｴﾝﾄﾘｰ票!$AU$16:$AZ$205,4,0))","v":""},{"$f":"IF(H41=\"\",\"\",VLOOKUP($H41,ｴﾝﾄﾘｰ票!$E$16:$L$215,2,0))","v":""},{"$f":"IF(H41=\"\",\"\",VLOOKUP($H41,ｴﾝﾄﾘｰ票!$E$16:$L$215,3,0))","v":""},{"$f":"IF(H41=\"\",\"\",VLOOKUP($H41,ｴﾝﾄﾘｰ票!$E$16:$L$215,8,0))","v":""},{"$f":"IF(H41=\"\",\"\",VLOOKUP($H41,ｴﾝﾄﾘｰ票!$E$16:$L$215,6,0))","v":""},{"$f":"IF(ISERROR(VLOOKUP(A41+200,ｴﾝﾄﾘｰ票!$BA$16:$BF$205,4,0)),\"\",VLOOKUP(A41+200,ｴﾝﾄﾘｰ票!$BA$16:$BF$205,4,0))","v":""},{"$f":"IF(M41=\"\",\"\",VLOOKUP($M41,ｴﾝﾄﾘｰ票!$E$16:$L$215,2,0))","v":""},{"$f":"IF(M41=\"\",\"\",VLOOKUP($M41,ｴﾝﾄﾘｰ票!$E$16:$L$215,3,0))","v":""},{"$f":"IF(M41=\"\",\"\",VLOOKUP($M41,ｴﾝﾄﾘｰ票!$E$16:$L$215,8,0))","v":""},{"$f":"IF(M41=\"\",\"\",VLOOKUP($M41,ｴﾝﾄﾘｰ票!$E$16:$L$215,6,0))","v":""},{"$f":"IF(ISERROR(VLOOKUP(A41+300,ｴﾝﾄﾘｰ票!$BG$16:$BL$205,4,0)),\"\",VLOOKUP(A41+300,ｴﾝﾄﾘｰ票!$BG$16:$BL$205,4,0))","v":""},{"$f":"IF(R41=\"\",\"\",VLOOKUP($R41,ｴﾝﾄﾘｰ票!$E$16:$L$215,2,0))","v":""},{"$f":"IF(R41=\"\",\"\",VLOOKUP($R41,ｴﾝﾄﾘｰ票!$E$16:$L$215,3,0))","v":""},{"$f":"IF(R41=\"\",\"\",VLOOKUP($R41,ｴﾝﾄﾘｰ票!$E$16:$L$215,8,0))","v":""},{"$f":"IF(R41=\"\",\"\",VLOOKUP($R41,ｴﾝﾄﾘｰ票!$E$16:$L$215,6,0))","v":""}]
[63,42,{"$f":"IF(ISERROR(VLOOKUP(A42,ｴﾝﾄﾘｰ票!$A$16:$AH$215,5,0)),\"\",VLOOKUP(A42,ｴﾝﾄﾘｰ票!$A$16:$AH$215,5,0))","v":""},{"$f":"IF(C42=\"\",\"\",VLOOKUP($C42,ｴﾝﾄﾘｰ票!$E$16:$L$215,2,0))","v":""},{"$f":"IF(C42=\"\",\"\",VLOOKUP($C42,ｴﾝﾄﾘｰ票!$E$16:$L$215,3,0))","v":""},{"$f":"IF(C42=\"\",\"\",VLOOKUP($C42,ｴﾝﾄﾘｰ票!$E$16:$L$215,8,0))","v":""},{"$f":"IF(C42=\"\",\"\",VLOOKUP($C42,ｴﾝﾄﾘｰ票!$E$16:$L$215,6,0))","v":""},{"$f":"IF(ISERROR(VLOOKUP(A42+100,ｴﾝﾄﾘｰ票!$AU$16:$AZ$205,4,0)),\"\",VLOOKUP(A42+100,ｴﾝﾄﾘｰ票!$AU$16:$AZ$205,4,0))","v":""},{"$f":"IF(H42=\"\",\"\",VLOOKUP($H42,ｴﾝﾄﾘｰ票!$E$16:$L$215,2,0))","v":""},{"$f":"IF(H42=\"\",\"\",VLOOKUP($H42,ｴﾝﾄﾘｰ票!$E$16:$L$215,3,0))","v":""},{"$f":"IF(H42=\"\",\"\",VLOOKUP($H42,ｴﾝﾄﾘｰ票!$E$16:$L$215,8,0))","v":""},{"$f":"IF(H42=\"\",\"\",VLOOKUP($H42,ｴﾝﾄﾘｰ票!$E$16:$L$215,6,0))","v":""},{"$f":"IF(ISERROR(VLOOKUP(A42+200,ｴﾝﾄﾘｰ票!$BA$16:$BF$205,4,0)),\"\",VLOOKUP(A42+200,ｴﾝﾄﾘｰ票!$BA$16:$BF$205,4,0))","v":""},{"$f":"IF(M42=\"\",\"\",VLOOKUP($M42,ｴﾝﾄﾘｰ票!$E$16:$L$215,2,0))","v":""},{"$f":"IF(M42=\"\",\"\",VLOOKUP($M42,ｴﾝﾄﾘｰ票!$E$16:$L$215,3,0))","v":""},{"$f":"IF(M42=\"\",\"\",VLOOKUP($M42,ｴﾝﾄﾘｰ票!$E$16:$L$215,8,0))","v":""},{"$f":"IF(M42=\"\",\"\",VLOOKUP($M42,ｴﾝﾄﾘｰ票!$E$16:$L$215,6,0))","v":""},{"$f":"IF(ISERROR(VLOOKUP(A42+300,ｴﾝﾄﾘｰ票!$BG$16:$BL$205,4,0)),\"\",VLOOKUP(A42+300,ｴﾝﾄﾘｰ票!$BG$16:$BL$205,4,0))","v":""},{"$f":"IF(R42=\"\",\"\",VLOOKUP($R42,ｴﾝﾄﾘｰ票!$E$16:$L$215,2,0))","v":""},{"$f":"IF(R42=\"\",\"\",VLOOKUP($R42,ｴﾝﾄﾘｰ票!$E$16:$L$215,3,0))","v":""},{"$f":"IF(R42=\"\",\"\",VLOOKUP($R42,ｴﾝﾄﾘｰ票!$E$16:$L$215,8,0))","v":""},{"$f":"IF(R42=\"\",\"\",VLOOKUP($R42,ｴﾝﾄﾘｰ票!$E$16:$L$215,6,0))","v":""}]
[64,43,{"$f":"IF(ISERROR(VLOOKUP(A43,ｴﾝﾄﾘｰ票!$A$16:$AH$215,5,0)),\"\",VLOOKUP(A43,ｴﾝﾄﾘｰ票!$A$16:$AH$215,5,0))","v":""},{"$f":"IF(C43=\"\",\"\",VLOOKUP($C43,ｴﾝﾄﾘｰ票!$E$16:$L$215,2,0))","v":""},{"$f":"IF(C43=\"\",\"\",VLOOKUP($C43,ｴﾝﾄﾘｰ票!$E$16:$L$215,3,0))","v":""},{"$f":"IF(C43=\"\",\"\",VLOOKUP($C43,ｴﾝﾄﾘｰ票!$E$16:$L$215,8,0))","v":""},{"$f":"IF(C43=\"\",\"\",VLOOKUP($C43,ｴﾝﾄﾘｰ票!$E$16:$L$215,6,0))","v":""},{"$f":"IF(ISERROR(VLOOKUP(A43+100,ｴﾝﾄﾘｰ票!$AU$16:$AZ$205,4,0)),\"\",VLOOKUP(A43+100,ｴﾝﾄﾘｰ票!$AU$16:$AZ$205,4,0))","v":""},{"$f":"IF(H43=\"\",\"\",VLOOKUP($H43,ｴﾝﾄﾘｰ票!$E$16:$L$215,2,0))","v":""},{"$f":"IF(H43=\"\",\"\",VLOOKUP($H43,ｴﾝﾄﾘｰ票!$E$16:$L$215,3,0))","v":""},{"$f":"IF(H43=\"\",\"\",VLOOKUP($H43,ｴﾝﾄﾘｰ票!$E$16:$L$215,8,0))","v":""},{"$f":"IF(H43=\"\",\"\",VLOOKUP($H43,ｴﾝﾄﾘｰ票!$E$16:$L$215,6,0))","v":""},{"$f":"IF(ISERROR(VLOOKUP(A43+200,ｴﾝﾄﾘｰ票!$BA$16:$BF$205,4,0)),\"\",VLOOKUP(A43+200,ｴﾝﾄﾘｰ票!$BA$16:$BF$205,4,0))","v":""},{"$f":"IF(M43=\"\",\"\",VLOOKUP($M43,ｴﾝﾄﾘｰ票!$E$16:$L$215,2,0))","v":""},{"$f":"IF(M43=\"\",\"\",VLOOKUP($M43,ｴﾝﾄﾘｰ票!$E$16:$L$215,3,0))","v":""},{"$f":"IF(M43=\"\",\"\",VLOOKUP($M43,ｴﾝﾄﾘｰ票!$E$16:$L$215,8,0))","v":""},{"$f":"IF(M43=\"\",\"\",VLOOKUP($M43,ｴﾝﾄﾘｰ票!$E$16:$L$215,6,0))","v":""},{"$f":"IF(ISERROR(VLOOKUP(A43+300,ｴﾝﾄﾘｰ票!$BG$16:$BL$205,4,0)),\"\",VLOOKUP(A43+300,ｴﾝﾄﾘｰ票!$BG$16:$BL$205,4,0))","v":""},{"$f":"IF(R43=\"\",\"\",VLOOKUP($R43,ｴﾝﾄﾘｰ票!$E$16:$L$215,2,0))","v":""},{"$f":"IF(R43=\"\",\"\",VLOOKUP($R43,ｴﾝﾄﾘｰ票!$E$16:$L$215,3,0))","v":""},{"$f":"IF(R43=\"\",\"\",VLOOKUP($R43,ｴﾝﾄﾘｰ票!$E$16:$L$215,8,0))","v":""},{"$f":"IF(R43=\"\",\"\",VLOOKUP($R43,ｴﾝﾄﾘｰ票!$E$16:$L$215,6,0))","v":""}]
[65,44,{"$f":"IF(ISERROR(VLOOKUP(A44,ｴﾝﾄﾘｰ票!$A$16:$AH$215,5,0)),\"\",VLOOKUP(A44,ｴﾝﾄﾘｰ票!$A$16:$AH$215,5,0))","v":""},{"$f":"IF(C44=\"\",\"\",VLOOKUP($C44,ｴﾝﾄﾘｰ票!$E$16:$L$215,2,0))","v":""},{"$f":"IF(C44=\"\",\"\",VLOOKUP($C44,ｴﾝﾄﾘｰ票!$E$16:$L$215,3,0))","v":""},{"$f":"IF(C44=\"\",\"\",VLOOKUP($C44,ｴﾝﾄﾘｰ票!$E$16:$L$215,8,0))","v":""},{"$f":"IF(C44=\"\",\"\",VLOOKUP($C44,ｴﾝﾄﾘｰ票!$E$16:$L$215,6,0))","v":""},{"$f":"IF(ISERROR(VLOOKUP(A44+100,ｴﾝﾄﾘｰ票!$AU$16:$AZ$205,4,0)),\"\",VLOOKUP(A44+100,ｴﾝﾄﾘｰ票!$AU$16:$AZ$205,4,0))","v":""},{"$f":"IF(H44=\"\",\"\",VLOOKUP($H44,ｴﾝﾄﾘｰ票!$E$16:$L$215,2,0))","v":""},{"$f":"IF(H44=\"\",\"\",VLOOKUP($H44,ｴﾝﾄﾘｰ票!$E$16:$L$215,3,0))","v":""},{"$f":"IF(H44=\"\",\"\",VLOOKUP($H44,ｴﾝﾄﾘｰ票!$E$16:$L$215,8,0))","v":""},{"$f":"IF(H44=\"\",\"\",VLOOKUP($H44,ｴﾝﾄﾘｰ票!$E$16:$L$215,6,0))","v":""},{"$f":"IF(ISERROR(VLOOKUP(A44+200,ｴﾝﾄﾘｰ票!$BA$16:$BF$205,4,0)),\"\",VLOOKUP(A44+200,ｴﾝﾄﾘｰ票!$BA$16:$BF$205,4,0))","v":""},{"$f":"IF(M44=\"\",\"\",VLOOKUP($M44,ｴﾝﾄﾘｰ票!$E$16:$L$215,2,0))","v":""},{"$f":"IF(M44=\"\",\"\",VLOOKUP($M44,ｴﾝﾄﾘｰ票!$E$16:$L$215,3,0))","v":""},{"$f":"IF(M44=\"\",\"\",VLOOKUP($M44,ｴﾝﾄﾘｰ票!$E$16:$L$215,8,0))","v":""},{"$f":"IF(M44=\"\",\"\",VLOOKUP($M44,ｴﾝﾄﾘｰ票!$E$16:$L$215,6,0))","v":""},{"$f":"IF(ISERROR(VLOOKUP(A44+300,ｴﾝﾄﾘｰ票!$BG$16:$BL$205,4,0)),\"\",VLOOKUP(A44+300,ｴﾝﾄﾘｰ票!$BG$16:$BL$205,4,0))","v":""},{"$f":"IF(R44=\"\",\"\",VLOOKUP($R44,ｴﾝﾄﾘｰ票!$E$16:$L$215,2,0))","v":""},{"$f":"IF(R44=\"\",\"\",VLOOKUP($R44,ｴﾝﾄﾘｰ票!$E$16:$L$215,3,0))","v":""},{"$f":"IF(R44=\"\",\"\",VLOOKUP($R44,ｴﾝﾄﾘｰ票!$E$16:$L$215,8,0))","v":""},{"$f":"IF(R44=\"\",\"\",VLOOKUP($R44,ｴﾝﾄﾘｰ票!$E$16:$L$215,6,0))","v":""}]
[66,45,{"$f":"IF(ISERROR(VLOOKUP(A45,ｴﾝﾄﾘｰ票!$A$16:$AH$215,5,0)),\"\",VLOOKUP(A45,ｴﾝﾄﾘｰ票!$A$16:$AH$215,5,0))","v":""},{"$f":"IF(C45=\"\",\"\",VLOOKUP($C45,ｴﾝﾄﾘｰ票!$E$16:$L$215,2,0))","v":""},{"$f":"IF(C45=\"\",\"\",VLOOKUP($C45,ｴﾝﾄﾘｰ票!$E$16:$L$215,3,0))","v":""},{"$f":"IF(C45=\"\",\"\",VLOOKUP($C45,ｴﾝﾄﾘｰ票!$E$16:$L$215,8,0))","v":""},{"$f":"IF(C45=\"\",\"\",VLOOKUP($C45,ｴﾝﾄﾘｰ票!$E$16:$L$215,6,0))","v":""},{"$f":"IF(ISERROR(VLOOKUP(A45+100,ｴﾝﾄﾘｰ票!$AU$16:$AZ$205,4,0)),\"\",VLOOKUP(A45+100,ｴﾝﾄﾘｰ票!$AU$16:$AZ$205,4,0))","v":""},{"$f":"IF(H45=\"\",\"\",VLOOKUP($H45,ｴﾝﾄﾘｰ票!$E$16:$L$215,2,0))","v":""},{"$f":"IF(H45=\"\",\"\",VLOOKUP($H45,ｴﾝﾄﾘｰ票!$E$16:$L$215,3,0))","v":""},{"$f":"IF(H45=\"\",\"\",VLOOKUP($H45,ｴﾝﾄﾘｰ票!$E$16:$L$215,8,0))","v":""},{"$f":"IF(H45=\"\",\"\",VLOOKUP($H45,ｴﾝﾄﾘｰ票!$E$16:$L$215,6,0))","v":""},{"$f":"IF(ISERROR(VLOOKUP(A45+200,ｴﾝﾄﾘｰ票!$BA$16:$BF$205,4,0)),\"\",VLOOKUP(A45+200,ｴﾝﾄﾘｰ票!$BA$16:$BF$205,4,0))","v":""},{"$f":"IF(M45=\"\",\"\",VLOOKUP($M45,ｴﾝﾄﾘｰ票!$E$16:$L$215,2,0))","v":""},{"$f":"IF(M45=\"\",\"\",VLOOKUP($M45,ｴﾝﾄﾘｰ票!$E$16:$L$215,3,0))","v":""},{"$f":"IF(M45=\"\",\"\",VLOOKUP($M45,ｴﾝﾄﾘｰ票!$E$16:$L$215,8,0))","v":""},{"$f":"IF(M45=\"\",\"\",VLOOKUP($M45,ｴﾝﾄﾘｰ票!$E$16:$L$215,6,0))","v":""},{"$f":"IF(ISERROR(VLOOKUP(A45+300,ｴﾝﾄﾘｰ票!$BG$16:$BL$205,4,0)),\"\",VLOOKUP(A45+300,ｴﾝﾄﾘｰ票!$BG$16:$BL$205,4,0))","v":""},{"$f":"IF(R45=\"\",\"\",VLOOKUP($R45,ｴﾝﾄﾘｰ票!$E$16:$L$215,2,0))","v":""},{"$f":"IF(R45=\"\",\"\",VLOOKUP($R45,ｴﾝﾄﾘｰ票!$E$16:$L$215,3,0))","v":""},{"$f":"IF(R45=\"\",\"\",VLOOKUP($R45,ｴﾝﾄﾘｰ票!$E$16:$L$215,8,0))","v":""},{"$f":"IF(R45=\"\",\"\",VLOOKUP($R45,ｴﾝﾄﾘｰ票!$E$16:$L$215,6,0))","v":""}]
[7,46,{"$f":"IF(ISERROR(VLOOKUP(A47,ｴﾝﾄﾘｰ票!$AO$16:$AT$205,6,0)),\"\",VLOOKUP(A47,ｴﾝﾄﾘｰ票!$AO$16:$AT$205,6,0))","v":""},"氏名",null,"性別","学年",{"$f":"IF(ISERROR(VLOOKUP(A47+100,ｴﾝﾄﾘｰ票!$AU$16:$AZ$205,6,0)),\"\",VLOOKUP(A47+100,ｴﾝﾄﾘｰ票!$AU$16:$AZ$205,6,0))","v":""},"氏名",null,"性別","学年",{"$f":"IF(ISERROR(VLOOKUP(A47+200,ｴﾝﾄﾘｰ票!$BA$16:$BF$205,6,0)),\"\",VLOOKUP(A47+200,ｴﾝﾄﾘｰ票!$BA$16:$BF$205,6,0))","v":""},"氏名",null,"性別","学年",{"$f":"IF(ISERROR(VLOOKUP(A47+300,ｴﾝﾄﾘｰ票!$BG$16:$BL$205,6,0)),\"\",VLOOKUP(A47+300,ｴﾝﾄﾘｰ票!$BG$16:$BL$205,6,0))","v":""},"氏名",null,"性別","学年"]
[71,47,{"$f":"IF(ISERROR(VLOOKUP(A47,ｴﾝﾄﾘｰ票!$A$16:$AH$215,5,0)),\"\",VLOOKUP(A47,ｴﾝﾄﾘｰ票!$A$16:$AH$215,5,0))","v":""},{"$f":"IF(C47=\"\",\"\",VLOOKUP($C47,ｴﾝﾄﾘｰ票!$E$16:$L$215,2,0))","v":""},{"$f":"IF(C47=\"\",\"\",VLOOKUP($C47,ｴﾝﾄﾘｰ票!$E$16:$L$215,3,0))","v":""},{"$f":"IF(C47=\"\",\"\",VLOOKUP($C47,ｴﾝﾄﾘｰ票!$E$16:$L$215,8,0))","v":""},{"$f":"IF(C47=\"\",\"\",VLOOKUP($C47,ｴﾝﾄﾘｰ票!$E$16:$L$215,6,0))","v":""},{"$f":"IF(ISERROR(VLOOKUP(A47+100,ｴﾝﾄﾘｰ票!$AU$16:$AZ$205,4,0)),\"\",VLOOKUP(A47+100,ｴﾝﾄﾘｰ票!$AU$16:$AZ$205,4,0))","v":""},{"$f":"IF(H47=\"\",\"\",VLOOKUP($H47,ｴﾝﾄﾘｰ票!$E$16:$L$215,2,0))","v":""},{"$f":"IF(H47=\"\",\"\",VLOOKUP($H47,ｴﾝﾄﾘｰ票!$E$16:$L$215,3,0))","v":""},{"$f":"IF(H47=\"\",\"\",VLOOKUP($H47,ｴﾝﾄﾘｰ票!$E$16:$L$215,8,0))","v":""},{"$f":"IF(H47=\"\",\"\",VLOOKUP($H47,ｴﾝﾄﾘｰ票!$E$16:$L$215,6,0))","v":""},{"$f":"IF(ISERROR(VLOOKUP(A47+200,ｴﾝﾄﾘｰ票!$BA$16:$BF$205,4,0)),\"\",VLOOKUP(A47+200,ｴﾝﾄﾘｰ票!$BA$16:$BF$205,4,0))","v":""},{"$f":"IF(M47=\"\",\"\",VLOOKUP($M47,ｴﾝﾄﾘｰ票!$E$16:$L$215,2,0))","v":""},{"$f":"IF(M47=\"\",\"\",VLOOKUP($M47,ｴﾝﾄﾘｰ票!$E$16:$L$215,3,0))","v":""},{"$f":"IF(M47=\"\",\"\",VLOOKUP($M47,ｴﾝﾄﾘｰ票!$E$16:$L$215,8,0))","v":""},{"$f":"IF(M47=\"\",\"\",VLOOKUP($M47,ｴﾝﾄﾘｰ票!$E$16:$L$215,6,0))","v":""},{"$f":"IF(ISERROR(VLOOKUP(A47+300,ｴﾝﾄﾘｰ票!$BG$16:$BL$205,4,0)),\"\",VLOOKUP(A47+300,ｴﾝﾄﾘｰ票!$BG$16:$BL$205,4,0))","v":""},{"$f":"IF(R47=\"\",\"\",VLOOKUP($R47,ｴﾝﾄﾘｰ票!$E$16:$L$215,2,0))","v":""},{"$f":"IF(R47=\"\",\"\",VLOOKUP($R47,ｴﾝﾄﾘｰ票!$E$16:$L$215,3,0))","v":""},{"$f":"IF(R47=\"\",\"\",VLOOKUP($R47,ｴﾝﾄﾘｰ票!$E$16:$L$215,8,0))","v":""},{"$f":"IF(R47=\"\",\"\",VLOOKUP($R47,ｴﾝﾄﾘｰ票!$E$16:$L$215,6,0))","v":""}]
[72,48,{"$f":"IF(ISERROR(VLOOKUP(A48,ｴﾝﾄﾘｰ票!$A$16:$AH$215,5,0)),\"\",VLOOKUP(A48,ｴﾝﾄﾘｰ票!$A$16:$AH$215,5,0))","v":""},{"$f":"IF(C48=\"\",\"\",VLOOKUP($C48,ｴﾝﾄﾘｰ票!$E$16:$L$215,2,0))","v":""},{"$f":"IF(C48=\"\",\"\",VLOOKUP($C48,ｴﾝﾄﾘｰ票!$E$16:$L$215,3,0))","v":""},{"$f":"IF(C48=\"\",\"\",VLOOKUP($C48,ｴﾝﾄﾘｰ票!$E$16:$L$215,8,0))","v":""},{"$f":"IF(C48=\"\",\"\",VLOOKUP($C48,ｴﾝﾄﾘｰ票!$E$16:$L$215,6,0))","v":""},{"$f":"IF(ISERROR(VLOOKUP(A48+100,ｴﾝﾄﾘｰ票!$AU$16:$AZ$205,4,0)),\"\",VLOOKUP(A48+100,ｴﾝﾄﾘｰ票!$AU$16:$AZ$205,4,0))","v":""},{"$f":"IF(H48=\"\",\"\",VLOOKUP($H48,ｴﾝﾄﾘｰ票!$E$16:$L$215,2,0))","v":""},{"$f":"IF(H48=\"\",\"\",VLOOKUP($H48,ｴﾝﾄﾘｰ票!$E$16:$L$215,3,0))","v":""},{"$f":"IF(H48=\"\",\"\",VLOOKUP($H48,ｴﾝﾄﾘｰ票!$E$16:$L$215,8,0))","v":""},{"$f":"IF(H48=\"\",\"\",VLOOKUP($H48,ｴﾝﾄﾘｰ票!$E$16:$L$215,6,0))","v":""},{"$f":"IF(ISERROR(VLOOKUP(A48+200,ｴﾝﾄﾘｰ票!$BA$16:$BF$205,4,0)),\"\",VLOOKUP(A48+200,ｴﾝﾄﾘｰ票!$BA$16:$BF$205,4,0))","v":""},{"$f":"IF(M48=\"\",\"\",VLOOKUP($M48,ｴﾝﾄﾘｰ票!$E$16:$L$215,2,0))","v":""},{"$f":"IF(M48=\"\",\"\",VLOOKUP($M48,ｴﾝﾄﾘｰ票!$E$16:$L$215,3,0))","v":""},{"$f":"IF(M48=\"\",\"\",VLOOKUP($M48,ｴﾝﾄﾘｰ票!$E$16:$L$215,8,0))","v":""},{"$f":"IF(M48=\"\",\"\",VLOOKUP($M48,ｴﾝﾄﾘｰ票!$E$16:$L$215,6,0))","v":""},{"$f":"IF(ISERROR(VLOOKUP(A48+300,ｴﾝﾄﾘｰ票!$BG$16:$BL$205,4,0)),\"\",VLOOKUP(A48+300,ｴﾝﾄﾘｰ票!$BG$16:$BL$205,4,0))","v":""},{"$f":"IF(R48=\"\",\"\",VLOOKUP($R48,ｴﾝﾄﾘｰ票!$E$16:$L$215,2,0))","v":""},{"$f":"IF(R48=\"\",\"\",VLOOKUP($R48,ｴﾝﾄﾘｰ票!$E$16:$L$215,3,0))","v":""},{"$f":"IF(R48=\"\",\"\",VLOOKUP($R48,ｴﾝﾄﾘｰ票!$E$16:$L$215,8,0))","v":""},{"$f":"IF(R48=\"\",\"\",VLOOKUP($R48,ｴﾝﾄﾘｰ票!$E$16:$L$215,6,0))","v":""}]
[73,49,{"$f":"IF(ISERROR(VLOOKUP(A49,ｴﾝﾄﾘｰ票!$A$16:$AH$215,5,0)),\"\",VLOOKUP(A49,ｴﾝﾄﾘｰ票!$A$16:$AH$215,5,0))","v":""},{"$f":"IF(C49=\"\",\"\",VLOOKUP($C49,ｴﾝﾄﾘｰ票!$E$16:$L$215,2,0))","v":""},{"$f":"IF(C49=\"\",\"\",VLOOKUP($C49,ｴﾝﾄﾘｰ票!$E$16:$L$215,3,0))","v":""},{"$f":"IF(C49=\"\",\"\",VLOOKUP($C49,ｴﾝﾄﾘｰ票!$E$16:$L$215,8,0))","v":""},{"$f":"IF(C49=\"\",\"\",VLOOKUP($C49,ｴﾝﾄﾘｰ票!$E$16:$L$215,6,0))","v":""},{"$f":"IF(ISERROR(VLOOKUP(A49+100,ｴﾝﾄﾘｰ票!$AU$16:$AZ$205,4,0)),\"\",VLOOKUP(A49+100,ｴﾝﾄﾘｰ票!$AU$16:$AZ$205,4,0))","v":""},{"$f":"IF(H49=\"\",\"\",VLOOKUP($H49,ｴﾝﾄﾘｰ票!$E$16:$L$215,2,0))","v":""},{"$f":"IF(H49=\"\",\"\",VLOOKUP($H49,ｴﾝﾄﾘｰ票!$E$16:$L$215,3,0))","v":""},{"$f":"IF(H49=\"\",\"\",VLOOKUP($H49,ｴﾝﾄﾘｰ票!$E$16:$L$215,8,0))","v":""},{"$f":"IF(H49=\"\",\"\",VLOOKUP($H49,ｴﾝﾄﾘｰ票!$E$16:$L$215,6,0))","v":""},{"$f":"IF(ISERROR(VLOOKUP(A49+200,ｴﾝﾄﾘｰ票!$BA$16:$BF$205,4,0)),\"\",VLOOKUP(A49+200,ｴﾝﾄﾘｰ票!$BA$16:$BF$205,4,0))","v":""},{"$f":"IF(M49=\"\",\"\",VLOOKUP($M49,ｴﾝﾄﾘｰ票!$E$16:$L$215,2,0))","v":""},{"$f":"IF(M49=\"\",\"\",VLOOKUP($M49,ｴﾝﾄﾘｰ票!$E$16:$L$215,3,0))","v":""},{"$f":"IF(M49=\"\",\"\",VLOOKUP($M49,ｴﾝﾄﾘｰ票!$E$16:$L$215,8,0))","v":""},{"$f":"IF(M49=\"\",\"\",VLOOKUP($M49,ｴﾝﾄﾘｰ票!$E$16:$L$215,6,0))","v":""},{"$f":"IF(ISERROR(VLOOKUP(A49+300,ｴﾝﾄﾘｰ票!$BG$16:$BL$205,4,0)),\"\",VLOOKUP(A49+300,ｴﾝﾄﾘｰ票!$BG$16:$BL$205,4,0))","v":""},{"$f":"IF(R49=\"\",\"\",VLOOKUP($R49,ｴﾝﾄﾘｰ票!$E$16:$L$215,2,0))","v":""},{"$f":"IF(R49=\"\",\"\",VLOOKUP($R49,ｴﾝﾄﾘｰ票!$E$16:$L$215,3,0))","v":""},{"$f":"IF(R49=\"\",\"\",VLOOKUP($R49,ｴﾝﾄﾘｰ票!$E$16:$L$215,8,0))","v":""},{"$f":"IF(R49=\"\",\"\",VLOOKUP($R49,ｴﾝﾄﾘｰ票!$E$16:$L$215,6,0))","v":""}]
[74,50,{"$f":"IF(ISERROR(VLOOKUP(A50,ｴﾝﾄﾘｰ票!$A$16:$AH$215,5,0)),\"\",VLOOKUP(A50,ｴﾝﾄﾘｰ票!$A$16:$AH$215,5,0))","v":""},{"$f":"IF(C50=\"\",\"\",VLOOKUP($C50,ｴﾝﾄﾘｰ票!$E$16:$L$215,2,0))","v":""},{"$f":"IF(C50=\"\",\"\",VLOOKUP($C50,ｴﾝﾄﾘｰ票!$E$16:$L$215,3,0))","v":""},{"$f":"IF(C50=\"\",\"\",VLOOKUP($C50,ｴﾝﾄﾘｰ票!$E$16:$L$215,8,0))","v":""},{"$f":"IF(C50=\"\",\"\",VLOOKUP($C50,ｴﾝﾄﾘｰ票!$E$16:$L$215,6,0))","v":""},{"$f":"IF(ISERROR(VLOOKUP(A50+100,ｴﾝﾄﾘｰ票!$AU$16:$AZ$205,4,0)),\"\",VLOOKUP(A50+100,ｴﾝﾄﾘｰ票!$AU$16:$AZ$205,4,0))","v":""},{"$f":"IF(H50=\"\",\"\",VLOOKUP($H50,ｴﾝﾄﾘｰ票!$E$16:$L$215,2,0))","v":""},{"$f":"IF(H50=\"\",\"\",VLOOKUP($H50,ｴﾝﾄﾘｰ票!$E$16:$L$215,3,0))","v":""},{"$f":"IF(H50=\"\",\"\",VLOOKUP($H50,ｴﾝﾄﾘｰ票!$E$16:$L$215,8,0))","v":""},{"$f":"IF(H50=\"\",\"\",VLOOKUP($H50,ｴﾝﾄﾘｰ票!$E$16:$L$215,6,0))","v":""},{"$f":"IF(ISERROR(VLOOKUP(A50+200,ｴﾝﾄﾘｰ票!$BA$16:$BF$205,4,0)),\"\",VLOOKUP(A50+200,ｴﾝﾄﾘｰ票!$BA$16:$BF$205,4,0))","v":""},{"$f":"IF(M50=\"\",\"\",VLOOKUP($M50,ｴﾝﾄﾘｰ票!$E$16:$L$215,2,0))","v":""},{"$f":"IF(M50=\"\",\"\",VLOOKUP($M50,ｴﾝﾄﾘｰ票!$E$16:$L$215,3,0))","v":""},{"$f":"IF(M50=\"\",\"\",VLOOKUP($M50,ｴﾝﾄﾘｰ票!$E$16:$L$215,8,0))","v":""},{"$f":"IF(M50=\"\",\"\",VLOOKUP($M50,ｴﾝﾄﾘｰ票!$E$16:$L$215,6,0))","v":""},{"$f":"IF(ISERROR(VLOOKUP(A50+300,ｴﾝﾄﾘｰ票!$BG$16:$BL$205,4,0)),\"\",VLOOKUP(A50+300,ｴﾝﾄﾘｰ票!$BG$16:$BL$205,4,0))","v":""},{"$f":"IF(R50=\"\",\"\",VLOOKUP($R50,ｴﾝﾄﾘｰ票!$E$16:$L$215,2,0))","v":""},{"$f":"IF(R50=\"\",\"\",VLOOKUP($R50,ｴﾝﾄﾘｰ票!$E$16:$L$215,3,0))","v":""},{"$f":"IF(R50=\"\",\"\",VLOOKUP($R50,ｴﾝﾄﾘｰ票!$E$16:$L$215,8,0))","v":""},{"$f":"IF(R50=\"\",\"\",VLOOKUP($R50,ｴﾝﾄﾘｰ票!$E$16:$L$215,6,0))","v":""}]
[75,51,{"$f":"IF(ISERROR(VLOOKUP(A51,ｴﾝﾄﾘｰ票!$A$16:$AH$215,5,0)),\"\",VLOOKUP(A51,ｴﾝﾄﾘｰ票!$A$16:$AH$215,5,0))","v":""},{"$f":"IF(C51=\"\",\"\",VLOOKUP($C51,ｴﾝﾄﾘｰ票!$E$16:$L$215,2,0))","v":""},{"$f":"IF(C51=\"\",\"\",VLOOKUP($C51,ｴﾝﾄﾘｰ票!$E$16:$L$215,3,0))","v":""},{"$f":"IF(C51=\"\",\"\",VLOOKUP($C51,ｴﾝﾄﾘｰ票!$E$16:$L$215,8,0))","v":""},{"$f":"IF(C51=\"\",\"\",VLOOKUP($C51,ｴﾝﾄﾘｰ票!$E$16:$L$215,6,0))","v":""},{"$f":"IF(ISERROR(VLOOKUP(A51+100,ｴﾝﾄﾘｰ票!$AU$16:$AZ$205,4,0)),\"\",VLOOKUP(A51+100,ｴﾝﾄﾘｰ票!$AU$16:$AZ$205,4,0))","v":""},{"$f":"IF(H51=\"\",\"\",VLOOKUP($H51,ｴﾝﾄﾘｰ票!$E$16:$L$215,2,0))","v":""},{"$f":"IF(H51=\"\",\"\",VLOOKUP($H51,ｴﾝﾄﾘｰ票!$E$16:$L$215,3,0))","v":""},{"$f":"IF(H51=\"\",\"\",VLOOKUP($H51,ｴﾝﾄﾘｰ票!$E$16:$L$215,8,0))","v":""},{"$f":"IF(H51=\"\",\"\",VLOOKUP($H51,ｴﾝﾄﾘｰ票!$E$16:$L$215,6,0))","v":""},{"$f":"IF(ISERROR(VLOOKUP(A51+200,ｴﾝﾄﾘｰ票!$BA$16:$BF$205,4,0)),\"\",VLOOKUP(A51+200,ｴﾝﾄﾘｰ票!$BA$16:$BF$205,4,0))","v":""},{"$f":"IF(M51=\"\",\"\",VLOOKUP($M51,ｴﾝﾄﾘｰ票!$E$16:$L$215,2,0))","v":""},{"$f":"IF(M51=\"\",\"\",VLOOKUP($M51,ｴﾝﾄﾘｰ票!$E$16:$L$215,3,0))","v":""},{"$f":"IF(M51=\"\",\"\",VLOOKUP($M51,ｴﾝﾄﾘｰ票!$E$16:$L$215,8,0))","v":""},{"$f":"IF(M51=\"\",\"\",VLOOKUP($M51,ｴﾝﾄﾘｰ票!$E$16:$L$215,6,0))","v":""},{"$f":"IF(ISERROR(VLOOKUP(A51+300,ｴﾝﾄﾘｰ票!$BG$16:$BL$205,4,0)),\"\",VLOOKUP(A51+300,ｴﾝﾄﾘｰ票!$BG$16:$BL$205,4,0))","v":""},{"$f":"IF(R51=\"\",\"\",VLOOKUP($R51,ｴﾝﾄﾘｰ票!$E$16:$L$215,2,0))","v":""},{"$f":"IF(R51=\"\",\"\",VLOOKUP($R51,ｴﾝﾄﾘｰ票!$E$16:$L$215,3,0))","v":""},{"$f":"IF(R51=\"\",\"\",VLOOKUP($R51,ｴﾝﾄﾘｰ票!$E$16:$L$215,8,0))","v":""},{"$f":"IF(R51=\"\",\"\",VLOOKUP($R51,ｴﾝﾄﾘｰ票!$E$16:$L$215,6,0))","v":""}]
[76,52,{"$f":"IF(ISERROR(VLOOKUP(A52,ｴﾝﾄﾘｰ票!$A$16:$AH$215,5,0)),\"\",VLOOKUP(A52,ｴﾝﾄﾘｰ票!$A$16:$AH$215,5,0))","v":""},{"$f":"IF(C52=\"\",\"\",VLOOKUP($C52,ｴﾝﾄﾘｰ票!$E$16:$L$215,2,0))","v":""},{"$f":"IF(C52=\"\",\"\",VLOOKUP($C52,ｴﾝﾄﾘｰ票!$E$16:$L$215,3,0))","v":""},{"$f":"IF(C52=\"\",\"\",VLOOKUP($C52,ｴﾝﾄﾘｰ票!$E$16:$L$215,8,0))","v":""},{"$f":"IF(C52=\"\",\"\",VLOOKUP($C52,ｴﾝﾄﾘｰ票!$E$16:$L$215,6,0))","v":""},{"$f":"IF(ISERROR(VLOOKUP(A52+100,ｴﾝﾄﾘｰ票!$AU$16:$AZ$205,4,0)),\"\",VLOOKUP(A52+100,ｴﾝﾄﾘｰ票!$AU$16:$AZ$205,4,0))","v":""},{"$f":"IF(H52=\"\",\"\",VLOOKUP($H52,ｴﾝﾄﾘｰ票!$E$16:$L$215,2,0))","v":""},{"$f":"IF(H52=\"\",\"\",VLOOKUP($H52,ｴﾝﾄﾘｰ票!$E$16:$L$215,3,0))","v":""},{"$f":"IF(H52=\"\",\"\",VLOOKUP($H52,ｴﾝﾄﾘｰ票!$E$16:$L$215,8,0))","v":""},{"$f":"IF(H52=\"\",\"\",VLOOKUP($H52,ｴﾝﾄﾘｰ票!$E$16:$L$215,6,0))","v":""},{"$f":"IF(ISERROR(VLOOKUP(A52+200,ｴﾝﾄﾘｰ票!$BA$16:$BF$205,4,0)),\"\",VLOOKUP(A52+200,ｴﾝﾄﾘｰ票!$BA$16:$BF$205,4,0))","v":""},{"$f":"IF(M52=\"\",\"\",VLOOKUP($M52,ｴﾝﾄﾘｰ票!$E$16:$L$215,2,0))","v":""},{"$f":"IF(M52=\"\",\"\",VLOOKUP($M52,ｴﾝﾄﾘｰ票!$E$16:$L$215,3,0))","v":""},{"$f":"IF(M52=\"\",\"\",VLOOKUP($M52,ｴﾝﾄﾘｰ票!$E$16:$L$215,8,0))","v":""},{"$f":"IF(M52=\"\",\"\",VLOOKUP($M52,ｴﾝﾄﾘｰ票!$E$16:$L$215,6,0))","v":""},{"$f":"IF(ISERROR(VLOOKUP(A52+300,ｴﾝﾄﾘｰ票!$BG$16:$BL$205,4,0)),\"\",VLOOKUP(A52+300,ｴﾝﾄﾘｰ票!$BG$16:$BL$205,4,0))","v":""},{"$f":"IF(R52=\"\",\"\",VLOOKUP($R52,ｴﾝﾄﾘｰ票!$E$16:$L$215,2,0))","v":""},{"$f":"IF(R52=\"\",\"\",VLOOKUP($R52,ｴﾝﾄﾘｰ票!$E$16:$L$215,3,0))","v":""},{"$f":"IF(R52=\"\",\"\",VLOOKUP($R52,ｴﾝﾄﾘｰ票!$E$16:$L$215,8,0))","v":""},{"$f":"IF(R52=\"\",\"\",VLOOKUP($R52,ｴﾝﾄﾘｰ票!$E$16:$L$215,6,0))","v":""}]
[8,53,{"$f":"IF(ISERROR(VLOOKUP(A54,ｴﾝﾄﾘｰ票!$AO$16:$AT$205,6,0)),\"\",VLOOKUP(A54,ｴﾝﾄﾘｰ票!$AO$16:$AT$205,6,0))","v":""},"氏名",null,"性別","学年",{"$f":"IF(ISERROR(VLOOKUP(A54+100,ｴﾝﾄﾘｰ票!$AU$16:$AZ$205,6,0)),\"\",VLOOKUP(A54+100,ｴﾝﾄﾘｰ票!$AU$16:$AZ$205,6,0))","v":""},"氏名",null,"性別","学年",{"$f":"IF(ISERROR(VLOOKUP(A54+200,ｴﾝﾄﾘｰ票!$BA$16:$BF$205,6,0)),\"\",VLOOKUP(A54+200,ｴﾝﾄﾘｰ票!$BA$16:$BF$205,6,0))","v":""},"氏名",null,"性別","学年",{"$f":"IF(ISERROR(VLOOKUP(A54+300,ｴﾝﾄﾘｰ票!$BG$16:$BL$205,6,0)),\"\",VLOOKUP(A54+300,ｴﾝﾄﾘｰ票!$BG$16:$BL$205,6,0))","v":""},"氏名",null,"性別","学年"]
[81,54,{"$f":"IF(ISERROR(VLOOKUP(A54,ｴﾝﾄﾘｰ票!$A$16:$AH$215,5,0)),\"\",VLOOKUP(A54,ｴﾝﾄﾘｰ票!$A$16:$AH$215,5,0))","v":""},{"$f":"IF(C54=\"\",\"\",VLOOKUP($C54,ｴﾝﾄﾘｰ票!$E$16:$L$215,2,0))","v":""},{"$f":"IF(C54=\"\",\"\",VLOOKUP($C54,ｴﾝﾄﾘｰ票!$E$16:$L$215,3,0))","v":""},{"$f":"IF(C54=\"\",\"\",VLOOKUP($C54,ｴﾝﾄﾘｰ票!$E$16:$L$215,8,0))","v":""},{"$f":"IF(C54=\"\",\"\",VLOOKUP($C54,ｴﾝﾄﾘｰ票!$E$16:$L$215,6,0))","v":""},{"$f":"IF(ISERROR(VLOOKUP(A54+100,ｴﾝﾄﾘｰ票!$AU$16:$AZ$205,4,0)),\"\",VLOOKUP(A54+100,ｴﾝﾄﾘｰ票!$AU$16:$AZ$205,4,0))","v":""},{"$f":"IF(H54=\"\",\"\",VLOOKUP($H54,ｴﾝﾄﾘｰ票!$E$16:$L$215,2,0))","v":""},{"$f":"IF(H54=\"\",\"\",VLOOKUP($H54,ｴﾝﾄﾘｰ票!$E$16:$L$215,3,0))","v":""},{"$f":"IF(H54=\"\",\"\",VLOOKUP($H54,ｴﾝﾄﾘｰ票!$E$16:$L$215,8,0))","v":""},{"$f":"IF(H54=\"\",\"\",VLOOKUP($H54,ｴﾝﾄﾘｰ票!$E$16:$L$215,6,0))","v":""},{"$f":"IF(ISERROR(VLOOKUP(A54+200,ｴﾝﾄﾘｰ票!$BA$16:$BF$205,4,0)),\"\",VLOOKUP(A54+200,ｴﾝﾄﾘｰ票!$BA$16:$BF$205,4,0))","v":""},{"$f":"IF(M54=\"\",\"\",VLOOKUP($M54,ｴﾝﾄﾘｰ票!$E$16:$L$215,2,0))","v":""},{"$f":"IF(M54=\"\",\"\",VLOOKUP($M54,ｴﾝﾄﾘｰ票!$E$16:$L$215,3,0))","v":""},{"$f":"IF(M54=\"\",\"\",VLOOKUP($M54,ｴﾝﾄﾘｰ票!$E$16:$L$215,8,0))","v":""},{"$f":"IF(M54=\"\",\"\",VLOOKUP($M54,ｴﾝﾄﾘｰ票!$E$16:$L$215,6,0))","v":""},{"$f":"IF(ISERROR(VLOOKUP(A54+300,ｴﾝﾄﾘｰ票!$BG$16:$BL$205,4,0)),\"\",VLOOKUP(A54+300,ｴﾝﾄﾘｰ票!$BG$16:$BL$205,4,0))","v":""},{"$f":"IF(R54=\"\",\"\",VLOOKUP($R54,ｴﾝﾄﾘｰ票!$E$16:$L$215,2,0))","v":""},{"$f":"IF(R54=\"\",\"\",VLOOKUP($R54,ｴﾝﾄﾘｰ票!$E$16:$L$215,3,0))","v":""},{"$f":"IF(R54=\"\",\"\",VLOOKUP($R54,ｴﾝﾄﾘｰ票!$E$16:$L$215,8,0))","v":""},{"$f":"IF(R54=\"\",\"\",VLOOKUP($R54,ｴﾝﾄﾘｰ票!$E$16:$L$215,6,0))","v":""}]
[82,55,{"$f":"IF(ISERROR(VLOOKUP(A55,ｴﾝﾄﾘｰ票!$A$16:$AH$215,5,0)),\"\",VLOOKUP(A55,ｴﾝﾄﾘｰ票!$A$16:$AH$215,5,0))","v":""},{"$f":"IF(C55=\"\",\"\",VLOOKUP($C55,ｴﾝﾄﾘｰ票!$E$16:$L$215,2,0))","v":""},{"$f":"IF(C55=\"\",\"\",VLOOKUP($C55,ｴﾝﾄﾘｰ票!$E$16:$L$215,3,0))","v":""},{"$f":"IF(C55=\"\",\"\",VLOOKUP($C55,ｴﾝﾄﾘｰ票!$E$16:$L$215,8,0))","v":""},{"$f":"IF(C55=\"\",\"\",VLOOKUP($C55,ｴﾝﾄﾘｰ票!$E$16:$L$215,6,0))","v":""},{"$f":"IF(ISERROR(VLOOKUP(A55+100,ｴﾝﾄﾘｰ票!$AU$16:$AZ$205,4,0)),\"\",VLOOKUP(A55+100,ｴﾝﾄﾘｰ票!$AU$16:$AZ$205,4,0))","v":""},{"$f":"IF(H55=\"\",\"\",VLOOKUP($H55,ｴﾝﾄﾘｰ票!$E$16:$L$215,2,0))","v":""},{"$f":"IF(H55=\"\",\"\",VLOOKUP($H55,ｴﾝﾄﾘｰ票!$E$16:$L$215,3,0))","v":""},{"$f":"IF(H55=\"\",\"\",VLOOKUP($H55,ｴﾝﾄﾘｰ票!$E$16:$L$215,8,0))","v":""},{"$f":"IF(H55=\"\",\"\",VLOOKUP($H55,ｴﾝﾄﾘｰ票!$E$16:$L$215,6,0))","v":""},{"$f":"IF(ISERROR(VLOOKUP(A55+200,ｴﾝﾄﾘｰ票!$BA$16:$BF$205,4,0)),\"\",VLOOKUP(A55+200,ｴﾝﾄﾘｰ票!$BA$16:$BF$205,4,0))","v":""},{"$f":"IF(M55=\"\",\"\",VLOOKUP($M55,ｴﾝﾄﾘｰ票!$E$16:$L$215,2,0))","v":""},{"$f":"IF(M55=\"\",\"\",VLOOKUP($M55,ｴﾝﾄﾘｰ票!$E$16:$L$215,3,0))","v":""},{"$f":"IF(M55=\"\",\"\",VLOOKUP($M55,ｴﾝﾄﾘｰ票!$E$16:$L$215,8,0))","v":""},{"$f":"IF(M55=\"\",\"\",VLOOKUP($M55,ｴﾝﾄﾘｰ票!$E$16:$L$215,6,0))","v":""},{"$f":"IF(ISERROR(VLOOKUP(A55+300,ｴﾝﾄﾘｰ票!$BG$16:$BL$205,4,0)),\"\",VLOOKUP(A55+300,ｴﾝﾄﾘｰ票!$BG$16:$BL$205,4,0))","v":""},{"$f":"IF(R55=\"\",\"\",VLOOKUP($R55,ｴﾝﾄﾘｰ票!$E$16:$L$215,2,0))","v":""},{"$f":"IF(R55=\"\",\"\",VLOOKUP($R55,ｴﾝﾄﾘｰ票!$E$16:$L$215,3,0))","v":""},{"$f":"IF(R55=\"\",\"\",VLOOKUP($R55,ｴﾝﾄﾘｰ票!$E$16:$L$215,8,0))","v":""},{"$f":"IF(R55=\"\",\"\",VLOOKUP($R55,ｴﾝﾄﾘｰ票!$E$16:$L$215,6,0))","v":""}]
[83,56,{"$f":"IF(ISERROR(VLOOKUP(A56,ｴﾝﾄﾘｰ票!$A$16:$AH$215,5,0)),\"\",VLOOKUP(A56,ｴﾝﾄﾘｰ票!$A$16:$AH$215,5,0))","v":""},{"$f":"IF(C56=\"\",\"\",VLOOKUP($C56,ｴﾝﾄﾘｰ票!$E$16:$L$215,2,0))","v":""},{"$f":"IF(C56=\"\",\"\",VLOOKUP($C56,ｴﾝﾄﾘｰ票!$E$16:$L$215,3,0))","v":""},{"$f":"IF(C56=\"\",\"\",VLOOKUP($C56,ｴﾝﾄﾘｰ票!$E$16:$L$215,8,0))","v":""},{"$f":"IF(C56=\"\",\"\",VLOOKUP($C56,ｴﾝﾄﾘｰ票!$E$16:$L$215,6,0))","v":""},{"$f":"IF(ISERROR(VLOOKUP(A56+100,ｴﾝﾄﾘｰ票!$AU$16:$AZ$205,4,0)),\"\",VLOOKUP(A56+100,ｴﾝﾄﾘｰ票!$AU$16:$AZ$205,4,0))","v":""},{"$f":"IF(H56=\"\",\"\",VLOOKUP($H56,ｴﾝﾄﾘｰ票!$E$16:$L$215,2,0))","v":""},{"$f":"IF(H56=\"\",\"\",VLOOKUP($H56,ｴﾝﾄﾘｰ票!$E$16:$L$215,3,0))","v":""},{"$f":"IF(H56=\"\",\"\",VLOOKUP($H56,ｴﾝﾄﾘｰ票!$E$16:$L$215,8,0))","v":""},{"$f":"IF(H56=\"\",\"\",VLOOKUP($H56,ｴﾝﾄﾘｰ票!$E$16:$L$215,6,0))","v":""},{"$f":"IF(ISERROR(VLOOKUP(A56+200,ｴﾝﾄﾘｰ票!$BA$16:$BF$205,4,0)),\"\",VLOOKUP(A56+200,ｴﾝﾄﾘｰ票!$BA$16:$BF$205,4,0))","v":""},{"$f":"IF(M56=\"\",\"\",VLOOKUP($M56,ｴﾝﾄﾘｰ票!$E$16:$L$215,2,0))","v":""},{"$f":"IF(M56=\"\",\"\",VLOOKUP($M56,ｴﾝﾄﾘｰ票!$E$16:$L$215,3,0))","v":""},{"$f":"IF(M56=\"\",\"\",VLOOKUP($M56,ｴﾝﾄﾘｰ票!$E$16:$L$215,8,0))","v":""},{"$f":"IF(M56=\"\",\"\",VLOOKUP($M56,ｴﾝﾄﾘｰ票!$E$16:$L$215,6,0))","v":""},{"$f":"IF(ISERROR(VLOOKUP(A56+300,ｴﾝﾄﾘｰ票!$BG$16:$BL$205,4,0)),\"\",VLOOKUP(A56+300,ｴﾝﾄﾘｰ票!$BG$16:$BL$205,4,0))","v":""},{"$f":"IF(R56=\"\",\"\",VLOOKUP($R56,ｴﾝﾄﾘｰ票!$E$16:$L$215,2,0))","v":""},{"$f":"IF(R56=\"\",\"\",VLOOKUP($R56,ｴﾝﾄﾘｰ票!$E$16:$L$215,3,0))","v":""},{"$f":"IF(R56=\"\",\"\",VLOOKUP($R56,ｴﾝﾄﾘｰ票!$E$16:$L$215,8,0))","v":""},{"$f":"IF(R56=\"\",\"\",VLOOKUP($R56,ｴﾝﾄﾘｰ票!$E$16:$L$215,6,0))","v":""}]
[84,57,{"$f":"IF(ISERROR(VLOOKUP(A57,ｴﾝﾄﾘｰ票!$A$16:$AH$215,5,0)),\"\",VLOOKUP(A57,ｴﾝﾄﾘｰ票!$A$16:$AH$215,5,0))","v":""},{"$f":"IF(C57=\"\",\"\",VLOOKUP($C57,ｴﾝﾄﾘｰ票!$E$16:$L$215,2,0))","v":""},{"$f":"IF(C57=\"\",\"\",VLOOKUP($C57,ｴﾝﾄﾘｰ票!$E$16:$L$215,3,0))","v":""},{"$f":"IF(C57=\"\",\"\",VLOOKUP($C57,ｴﾝﾄﾘｰ票!$E$16:$L$215,8,0))","v":""},{"$f":"IF(C57=\"\",\"\",VLOOKUP($C57,ｴﾝﾄﾘｰ票!$E$16:$L$215,6,0))","v":""},{"$f":"IF(ISERROR(VLOOKUP(A57+100,ｴﾝﾄﾘｰ票!$AU$16:$AZ$205,4,0)),\"\",VLOOKUP(A57+100,ｴﾝﾄﾘｰ票!$AU$16:$AZ$205,4,0))","v":""},{"$f":"IF(H57=\"\",\"\",VLOOKUP($H57,ｴﾝﾄﾘｰ票!$E$16:$L$215,2,0))","v":""},{"$f":"IF(H57=\"\",\"\",VLOOKUP($H57,ｴﾝﾄﾘｰ票!$E$16:$L$215,3,0))","v":""},{"$f":"IF(H57=\"\",\"\",VLOOKUP($H57,ｴﾝﾄﾘｰ票!$E$16:$L$215,8,0))","v":""},{"$f":"IF(H57=\"\",\"\",VLOOKUP($H57,ｴﾝﾄﾘｰ票!$E$16:$L$215,6,0))","v":""},{"$f":"IF(ISERROR(VLOOKUP(A57+200,ｴﾝﾄﾘｰ票!$BA$16:$BF$205,4,0)),\"\",VLOOKUP(A57+200,ｴﾝﾄﾘｰ票!$BA$16:$BF$205,4,0))","v":""},{"$f":"IF(M57=\"\",\"\",VLOOKUP($M57,ｴﾝﾄﾘｰ票!$E$16:$L$215,2,0))","v":""},{"$f":"IF(M57=\"\",\"\",VLOOKUP($M57,ｴﾝﾄﾘｰ票!$E$16:$L$215,3,0))","v":""},{"$f":"IF(M57=\"\",\"\",VLOOKUP($M57,ｴﾝﾄﾘｰ票!$E$16:$L$215,8,0))","v":""},{"$f":"IF(M57=\"\",\"\",VLOOKUP($M57,ｴﾝﾄﾘｰ票!$E$16:$L$215,6,0))","v":""},{"$f":"IF(ISERROR(VLOOKUP(A57+300,ｴﾝﾄﾘｰ票!$BG$16:$BL$205,4,0)),\"\",VLOOKUP(A57+300,ｴﾝﾄﾘｰ票!$BG$16:$BL$205,4,0))","v":""},{"$f":"IF(R57=\"\",\"\",VLOOKUP($R57,ｴﾝﾄﾘｰ票!$E$16:$L$215,2,0))","v":""},{"$f":"IF(R57=\"\",\"\",VLOOKUP($R57,ｴﾝﾄﾘｰ票!$E$16:$L$215,3,0))","v":""},{"$f":"IF(R57=\"\",\"\",VLOOKUP($R57,ｴﾝﾄﾘｰ票!$E$16:$L$215,8,0))","v":""},{"$f":"IF(R57=\"\",\"\",VLOOKUP($R57,ｴﾝﾄﾘｰ票!$E$16:$L$215,6,0))","v":""}]
[85,58,{"$f":"IF(ISERROR(VLOOKUP(A58,ｴﾝﾄﾘｰ票!$A$16:$AH$215,5,0)),\"\",VLOOKUP(A58,ｴﾝﾄﾘｰ票!$A$16:$AH$215,5,0))","v":""},{"$f":"IF(C58=\"\",\"\",VLOOKUP($C58,ｴﾝﾄﾘｰ票!$E$16:$L$215,2,0))","v":""},{"$f":"IF(C58=\"\",\"\",VLOOKUP($C58,ｴﾝﾄﾘｰ票!$E$16:$L$215,3,0))","v":""},{"$f":"IF(C58=\"\",\"\",VLOOKUP($C58,ｴﾝﾄﾘｰ票!$E$16:$L$215,8,0))","v":""},{"$f":"IF(C58=\"\",\"\",VLOOKUP($C58,ｴﾝﾄﾘｰ票!$E$16:$L$215,6,0))","v":""},{"$f":"IF(ISERROR(VLOOKUP(A58+100,ｴﾝﾄﾘｰ票!$AU$16:$AZ$205,4,0)),\"\",VLOOKUP(A58+100,ｴﾝﾄﾘｰ票!$AU$16:$AZ$205,4,0))","v":""},{"$f":"IF(H58=\"\",\"\",VLOOKUP($H58,ｴﾝﾄﾘｰ票!$E$16:$L$215,2,0))","v":""},{"$f":"IF(H58=\"\",\"\",VLOOKUP($H58,ｴﾝﾄﾘｰ票!$E$16:$L$215,3,0))","v":""},{"$f":"IF(H58=\"\",\"\",VLOOKUP($H58,ｴﾝﾄﾘｰ票!$E$16:$L$215,8,0))","v":""},{"$f":"IF(H58=\"\",\"\",VLOOKUP($H58,ｴﾝﾄﾘｰ票!$E$16:$L$215,6,0))","v":""},{"$f":"IF(ISERROR(VLOOKUP(A58+200,ｴﾝﾄﾘｰ票!$BA$16:$BF$205,4,0)),\"\",VLOOKUP(A58+200,ｴﾝﾄﾘｰ票!$BA$16:$BF$205,4,0))","v":""},{"$f":"IF(M58=\"\",\"\",VLOOKUP($M58,ｴﾝﾄﾘｰ票!$E$16:$L$215,2,0))","v":""},{"$f":"IF(M58=\"\",\"\",VLOOKUP($M58,ｴﾝﾄﾘｰ票!$E$16:$L$215,3,0))","v":""},{"$f":"IF(M58=\"\",\"\",VLOOKUP($M58,ｴﾝﾄﾘｰ票!$E$16:$L$215,8,0))","v":""},{"$f":"IF(M58=\"\",\"\",VLOOKUP($M58,ｴﾝﾄﾘｰ票!$E$16:$L$215,6,0))","v":""},{"$f":"IF(ISERROR(VLOOKUP(A58+300,ｴﾝﾄﾘｰ票!$BG$16:$BL$205,4,0)),\"\",VLOOKUP(A58+300,ｴﾝﾄﾘｰ票!$BG$16:$BL$205,4,0))","v":""},{"$f":"IF(R58=\"\",\"\",VLOOKUP($R58,ｴﾝﾄﾘｰ票!$E$16:$L$215,2,0))","v":""},{"$f":"IF(R58=\"\",\"\",VLOOKUP($R58,ｴﾝﾄﾘｰ票!$E$16:$L$215,3,0))","v":""},{"$f":"IF(R58=\"\",\"\",VLOOKUP($R58,ｴﾝﾄﾘｰ票!$E$16:$L$215,8,0))","v":""},{"$f":"IF(R58=\"\",\"\",VLOOKUP($R58,ｴﾝﾄﾘｰ票!$E$16:$L$215,6,0))","v":""}]
[86,59,{"$f":"IF(ISERROR(VLOOKUP(A59,ｴﾝﾄﾘｰ票!$A$16:$AH$215,5,0)),\"\",VLOOKUP(A59,ｴﾝﾄﾘｰ票!$A$16:$AH$215,5,0))","v":""},{"$f":"IF(C59=\"\",\"\",VLOOKUP($C59,ｴﾝﾄﾘｰ票!$E$16:$L$215,2,0))","v":""},{"$f":"IF(C59=\"\",\"\",VLOOKUP($C59,ｴﾝﾄﾘｰ票!$E$16:$L$215,3,0))","v":""},{"$f":"IF(C59=\"\",\"\",VLOOKUP($C59,ｴﾝﾄﾘｰ票!$E$16:$L$215,8,0))","v":""},{"$f":"IF(C59=\"\",\"\",VLOOKUP($C59,ｴﾝﾄﾘｰ票!$E$16:$L$215,6,0))","v":""},{"$f":"IF(ISERROR(VLOOKUP(A59+100,ｴﾝﾄﾘｰ票!$AU$16:$AZ$205,4,0)),\"\",VLOOKUP(A59+100,ｴﾝﾄﾘｰ票!$AU$16:$AZ$205,4,0))","v":""},{"$f":"IF(H59=\"\",\"\",VLOOKUP($H59,ｴﾝﾄﾘｰ票!$E$16:$L$215,2,0))","v":""},{"$f":"IF(H59=\"\",\"\",VLOOKUP($H59,ｴﾝﾄﾘｰ票!$E$16:$L$215,3,0))","v":""},{"$f":"IF(H59=\"\",\"\",VLOOKUP($H59,ｴﾝﾄﾘｰ票!$E$16:$L$215,8,0))","v":""},{"$f":"IF(H59=\"\",\"\",VLOOKUP($H59,ｴﾝﾄﾘｰ票!$E$16:$L$215,6,0))","v":""},{"$f":"IF(ISERROR(VLOOKUP(A59+200,ｴﾝﾄﾘｰ票!$BA$16:$BF$205,4,0)),\"\",VLOOKUP(A59+200,ｴﾝﾄﾘｰ票!$BA$16:$BF$205,4,0))","v":""},{"$f":"IF(M59=\"\",\"\",VLOOKUP($M59,ｴﾝﾄﾘｰ票!$E$16:$L$215,2,0))","v":""},{"$f":"IF(M59=\"\",\"\",VLOOKUP($M59,ｴﾝﾄﾘｰ票!$E$16:$L$215,3,0))","v":""},{"$f":"IF(M59=\"\",\"\",VLOOKUP($M59,ｴﾝﾄﾘｰ票!$E$16:$L$215,8,0))","v":""},{"$f":"IF(M59=\"\",\"\",VLOOKUP($M59,ｴﾝﾄﾘｰ票!$E$16:$L$215,6,0))","v":""},{"$f":"IF(ISERROR(VLOOKUP(A59+300,ｴﾝﾄﾘｰ票!$BG$16:$BL$205,4,0)),\"\",VLOOKUP(A59+300,ｴﾝﾄﾘｰ票!$BG$16:$BL$205,4,0))","v":""},{"$f":"IF(R59=\"\",\"\",VLOOKUP($R59,ｴﾝﾄﾘｰ票!$E$16:$L$215,2,0))","v":""},{"$f":"IF(R59=\"\",\"\",VLOOKUP($R59,ｴﾝﾄﾘｰ票!$E$16:$L$215,3,0))","v":""},{"$f":"IF(R59=\"\",\"\",VLOOKUP($R59,ｴﾝﾄﾘｰ票!$E$16:$L$215,8,0))","v":""},{"$f":"IF(R59=\"\",\"\",VLOOKUP($R59,ｴﾝﾄﾘｰ票!$E$16:$L$215,6,0))","v":""}]
[9,60,{"$f":"IF(ISERROR(VLOOKUP(A61,ｴﾝﾄﾘｰ票!$AO$16:$AT$205,6,0)),\"\",VLOOKUP(A61,ｴﾝﾄﾘｰ票!$AO$16:$AT$205,6,0))","v":""},"氏名",null,"性別","学年",{"$f":"IF(ISERROR(VLOOKUP(A61+100,ｴﾝﾄﾘｰ票!$AU$16:$AZ$205,6,0)),\"\",VLOOKUP(A61+100,ｴﾝﾄﾘｰ票!$AU$16:$AZ$205,6,0))","v":""},"氏名",null,"性別","学年",{"$f":"IF(ISERROR(VLOOKUP(A61+200,ｴﾝﾄﾘｰ票!$BA$16:$BF$205,6,0)),\"\",VLOOKUP(A61+200,ｴﾝﾄﾘｰ票!$BA$16:$BF$205,6,0))","v":""},"氏名",null,"性別","学年",{"$f":"IF(ISERROR(VLOOKUP(A61+300,ｴﾝﾄﾘｰ票!$BG$16:$BL$205,6,0)),\"\",VLOOKUP(A61+300,ｴﾝﾄﾘｰ票!$BG$16:$BL$205,6,0))","v":""},"氏名",null,"性別","学年"]
[91,61,{"$f":"IF(ISERROR(VLOOKUP(A61,ｴﾝﾄﾘｰ票!$A$16:$AH$215,5,0)),\"\",VLOOKUP(A61,ｴﾝﾄﾘｰ票!$A$16:$AH$215,5,0))","v":""},{"$f":"IF(C61=\"\",\"\",VLOOKUP($C61,ｴﾝﾄﾘｰ票!$E$16:$L$215,2,0))","v":""},{"$f":"IF(C61=\"\",\"\",VLOOKUP($C61,ｴﾝﾄﾘｰ票!$E$16:$L$215,3,0))","v":""},{"$f":"IF(C61=\"\",\"\",VLOOKUP($C61,ｴﾝﾄﾘｰ票!$E$16:$L$215,8,0))","v":""},{"$f":"IF(C61=\"\",\"\",VLOOKUP($C61,ｴﾝﾄﾘｰ票!$E$16:$L$215,6,0))","v":""},{"$f":"IF(ISERROR(VLOOKUP(A61+100,ｴﾝﾄﾘｰ票!$AU$16:$AZ$205,4,0)),\"\",VLOOKUP(A61+100,ｴﾝﾄﾘｰ票!$AU$16:$AZ$205,4,0))","v":""},{"$f":"IF(H61=\"\",\"\",VLOOKUP($H61,ｴﾝﾄﾘｰ票!$E$16:$L$215,2,0))","v":""},{"$f":"IF(H61=\"\",\"\",VLOOKUP($H61,ｴﾝﾄﾘｰ票!$E$16:$L$215,3,0))","v":""},{"$f":"IF(H61=\"\",\"\",VLOOKUP($H61,ｴﾝﾄﾘｰ票!$E$16:$L$215,8,0))","v":""},{"$f":"IF(H61=\"\",\"\",VLOOKUP($H61,ｴﾝﾄﾘｰ票!$E$16:$L$215,6,0))","v":""},{"$f":"IF(ISERROR(VLOOKUP(A61+200,ｴﾝﾄﾘｰ票!$BA$16:$BF$205,4,0)),\"\",VLOOKUP(A61+200,ｴﾝﾄﾘｰ票!$BA$16:$BF$205,4,0))","v":""},{"$f":"IF(M61=\"\",\"\",VLOOKUP($M61,ｴﾝﾄﾘｰ票!$E$16:$L$215,2,0))","v":""},{"$f":"IF(M61=\"\",\"\",VLOOKUP($M61,ｴﾝﾄﾘｰ票!$E$16:$L$215,3,0))","v":""},{"$f":"IF(M61=\"\",\"\",VLOOKUP($M61,ｴﾝﾄﾘｰ票!$E$16:$L$215,8,0))","v":""},{"$f":"IF(M61=\"\",\"\",VLOOKUP($M61,ｴﾝﾄﾘｰ票!$E$16:$L$215,6,0))","v":""},{"$f":"IF(ISERROR(VLOOKUP(A61+300,ｴﾝﾄﾘｰ票!$BG$16:$BL$205,4,0)),\"\",VLOOKUP(A61+300,ｴﾝﾄﾘｰ票!$BG$16:$BL$205,4,0))","v":""},{"$f":"IF(R61=\"\",\"\",VLOOKUP($R61,ｴﾝﾄﾘｰ票!$E$16:$L$215,2,0))","v":""},{"$f":"IF(R61=\"\",\"\",VLOOKUP($R61,ｴﾝﾄﾘｰ票!$E$16:$L$215,3,0))","v":""},{"$f":"IF(R61=\"\",\"\",VLOOKUP($R61,ｴﾝﾄﾘｰ票!$E$16:$L$215,8,0))","v":""},{"$f":"IF(R61=\"\",\"\",VLOOKUP($R61,ｴﾝﾄﾘｰ票!$E$16:$L$215,6,0))","v":""}]
[92,62,{"$f":"IF(ISERROR(VLOOKUP(A62,ｴﾝﾄﾘｰ票!$A$16:$AH$215,5,0)),\"\",VLOOKUP(A62,ｴﾝﾄﾘｰ票!$A$16:$AH$215,5,0))","v":""},{"$f":"IF(C62=\"\",\"\",VLOOKUP($C62,ｴﾝﾄﾘｰ票!$E$16:$L$215,2,0))","v":""},{"$f":"IF(C62=\"\",\"\",VLOOKUP($C62,ｴﾝﾄﾘｰ票!$E$16:$L$215,3,0))","v":""},{"$f":"IF(C62=\"\",\"\",VLOOKUP($C62,ｴﾝﾄﾘｰ票!$E$16:$L$215,8,0))","v":""},{"$f":"IF(C62=\"\",\"\",VLOOKUP($C62,ｴﾝﾄﾘｰ票!$E$16:$L$215,6,0))","v":""},{"$f":"IF(ISERROR(VLOOKUP(A62+100,ｴﾝﾄﾘｰ票!$AU$16:$AZ$205,4,0)),\"\",VLOOKUP(A62+100,ｴﾝﾄﾘｰ票!$AU$16:$AZ$205,4,0))","v":""},{"$f":"IF(H62=\"\",\"\",VLOOKUP($H62,ｴﾝﾄﾘｰ票!$E$16:$L$215,2,0))","v":""},{"$f":"IF(H62=\"\",\"\",VLOOKUP($H62,ｴﾝﾄﾘｰ票!$E$16:$L$215,3,0))","v":""},{"$f":"IF(H62=\"\",\"\",VLOOKUP($H62,ｴﾝﾄﾘｰ票!$E$16:$L$215,8,0))","v":""},{"$f":"IF(H62=\"\",\"\",VLOOKUP($H62,ｴﾝﾄﾘｰ票!$E$16:$L$215,6,0))","v":""},{"$f":"IF(ISERROR(VLOOKUP(A62+200,ｴﾝﾄﾘｰ票!$BA$16:$BF$205,4,0)),\"\",VLOOKUP(A62+200,ｴﾝﾄﾘｰ票!$BA$16:$BF$205,4,0))","v":""},{"$f":"IF(M62=\"\",\"\",VLOOKUP($M62,ｴﾝﾄﾘｰ票!$E$16:$L$215,2,0))","v":""},{"$f":"IF(M62=\"\",\"\",VLOOKUP($M62,ｴﾝﾄﾘｰ票!$E$16:$L$215,3,0))","v":""},{"$f":"IF(M62=\"\",\"\",VLOOKUP($M62,ｴﾝﾄﾘｰ票!$E$16:$L$215,8,0))","v":""},{"$f":"IF(M62=\"\",\"\",VLOOKUP($M62,ｴﾝﾄﾘｰ票!$E$16:$L$215,6,0))","v":""},{"$f":"IF(ISERROR(VLOOKUP(A62+300,ｴﾝﾄﾘｰ票!$BG$16:$BL$205,4,0)),\"\",VLOOKUP(A62+300,ｴﾝﾄﾘｰ票!$BG$16:$BL$205,4,0))","v":""},{"$f":"IF(R62=\"\",\"\",VLOOKUP($R62,ｴﾝﾄﾘｰ票!$E$16:$L$215,2,0))","v":""},{"$f":"IF(R62=\"\",\"\",VLOOKUP($R62,ｴﾝﾄﾘｰ票!$E$16:$L$215,3,0))","v":""},{"$f":"IF(R62=\"\",\"\",VLOOKUP($R62,ｴﾝﾄﾘｰ票!$E$16:$L$215,8,0))","v":""},{"$f":"IF(R62=\"\",\"\",VLOOKUP($R62,ｴﾝﾄﾘｰ票!$E$16:$L$215,6,0))","v":""}]
[93,63,{"$f":"IF(ISERROR(VLOOKUP(A63,ｴﾝﾄﾘｰ票!$A$16:$AH$215,5,0)),\"\",VLOOKUP(A63,ｴﾝﾄﾘｰ票!$A$16:$AH$215,5,0))","v":""},{"$f":"IF(C63=\"\",\"\",VLOOKUP($C63,ｴﾝﾄﾘｰ票!$E$16:$L$215,2,0))","v":""},{"$f":"IF(C63=\"\",\"\",VLOOKUP($C63,ｴﾝﾄﾘｰ票!$E$16:$L$215,3,0))","v":""},{"$f":"IF(C63=\"\",\"\",VLOOKUP($C63,ｴﾝﾄﾘｰ票!$E$16:$L$215,8,0))","v":""},{"$f":"IF(C63=\"\",\"\",VLOOKUP($C63,ｴﾝﾄﾘｰ票!$E$16:$L$215,6,0))","v":""},{"$f":"IF(ISERROR(VLOOKUP(A63+100,ｴﾝﾄﾘｰ票!$AU$16:$AZ$205,4,0)),\"\",VLOOKUP(A63+100,ｴﾝﾄﾘｰ票!$AU$16:$AZ$205,4,0))","v":""},{"$f":"IF(H63=\"\",\"\",VLOOKUP($H63,ｴﾝﾄﾘｰ票!$E$16:$L$215,2,0))","v":""},{"$f":"IF(H63=\"\",\"\",VLOOKUP($H63,ｴﾝﾄﾘｰ票!$E$16:$L$215,3,0))","v":""},{"$f":"IF(H63=\"\",\"\",VLOOKUP($H63,ｴﾝﾄﾘｰ票!$E$16:$L$215,8,0))","v":""},{"$f":"IF(H63=\"\",\"\",VLOOKUP($H63,ｴﾝﾄﾘｰ票!$E$16:$L$215,6,0))","v":""},{"$f":"IF(ISERROR(VLOOKUP(A63+200,ｴﾝﾄﾘｰ票!$BA$16:$BF$205,4,0)),\"\",VLOOKUP(A63+200,ｴﾝﾄﾘｰ票!$BA$16:$BF$205,4,0))","v":""},{"$f":"IF(M63=\"\",\"\",VLOOKUP($M63,ｴﾝﾄﾘｰ票!$E$16:$L$215,2,0))","v":""},{"$f":"IF(M63=\"\",\"\",VLOOKUP($M63,ｴﾝﾄﾘｰ票!$E$16:$L$215,3,0))","v":""},{"$f":"IF(M63=\"\",\"\",VLOOKUP($M63,ｴﾝﾄﾘｰ票!$E$16:$L$215,8,0))","v":""},{"$f":"IF(M63=\"\",\"\",VLOOKUP($M63,ｴﾝﾄﾘｰ票!$E$16:$L$215,6,0))","v":""},{"$f":"IF(ISERROR(VLOOKUP(A63+300,ｴﾝﾄﾘｰ票!$BG$16:$BL$205,4,0)),\"\",VLOOKUP(A63+300,ｴﾝﾄﾘｰ票!$BG$16:$BL$205,4,0))","v":""},{"$f":"IF(R63=\"\",\"\",VLOOKUP($R63,ｴﾝﾄﾘｰ票!$E$16:$L$215,2,0))","v":""},{"$f":"IF(R63=\"\",\"\",VLOOKUP($R63,ｴﾝﾄﾘｰ票!$E$16:$L$215,3,0))","v":""},{"$f":"IF(R63=\"\",\"\",VLOOKUP($R63,ｴﾝﾄﾘｰ票!$E$16:$L$215,8,0))","v":""},{"$f":"IF(R63=\"\",\"\",VLOOKUP($R63,ｴﾝﾄﾘｰ票!$E$16:$L$215,6,0))","v":""}]
[94,64,{"$f":"IF(ISERROR(VLOOKUP(A64,ｴﾝﾄﾘｰ票!$A$16:$AH$215,5,0)),\"\",VLOOKUP(A64,ｴﾝﾄﾘｰ票!$A$16:$AH$215,5,0))","v":""},{"$f":"IF(C64=\"\",\"\",VLOOKUP($C64,ｴﾝﾄﾘｰ票!$E$16:$L$215,2,0))","v":""},{"$f":"IF(C64=\"\",\"\",VLOOKUP($C64,ｴﾝﾄﾘｰ票!$E$16:$L$215,3,0))","v":""},{"$f":"IF(C64=\"\",\"\",VLOOKUP($C64,ｴﾝﾄﾘｰ票!$E$16:$L$215,8,0))","v":""},{"$f":"IF(C64=\"\",\"\",VLOOKUP($C64,ｴﾝﾄﾘｰ票!$E$16:$L$215,6,0))","v":""},{"$f":"IF(ISERROR(VLOOKUP(A64+100,ｴﾝﾄﾘｰ票!$AU$16:$AZ$205,4,0)),\"\",VLOOKUP(A64+100,ｴﾝﾄﾘｰ票!$AU$16:$AZ$205,4,0))","v":""},{"$f":"IF(H64=\"\",\"\",VLOOKUP($H64,ｴﾝﾄﾘｰ票!$E$16:$L$215,2,0))","v":""},{"$f":"IF(H64=\"\",\"\",VLOOKUP($H64,ｴﾝﾄﾘｰ票!$E$16:$L$215,3,0))","v":""},{"$f":"IF(H64=\"\",\"\",VLOOKUP($H64,ｴﾝﾄﾘｰ票!$E$16:$L$215,8,0))","v":""},{"$f":"IF(H64=\"\",\"\",VLOOKUP($H64,ｴﾝﾄﾘｰ票!$E$16:$L$215,6,0))","v":""},{"$f":"IF(ISERROR(VLOOKUP(A64+200,ｴﾝﾄﾘｰ票!$BA$16:$BF$205,4,0)),\"\",VLOOKUP(A64+200,ｴﾝﾄﾘｰ票!$BA$16:$BF$205,4,0))","v":""},{"$f":"IF(M64=\"\",\"\",VLOOKUP($M64,ｴﾝﾄﾘｰ票!$E$16:$L$215,2,0))","v":""},{"$f":"IF(M64=\"\",\"\",VLOOKUP($M64,ｴﾝﾄﾘｰ票!$E$16:$L$215,3,0))","v":""},{"$f":"IF(M64=\"\",\"\",VLOOKUP($M64,ｴﾝﾄﾘｰ票!$E$16:$L$215,8,0))","v":""},{"$f":"IF(M64=\"\",\"\",VLOOKUP($M64,ｴﾝﾄﾘｰ票!$E$16:$L$215,6,0))","v":""},{"$f":"IF(ISERROR(VLOOKUP(A64+300,ｴﾝﾄﾘｰ票!$BG$16:$BL$205,4,0)),\"\",VLOOKUP(A64+300,ｴﾝﾄﾘｰ票!$BG$16:$BL$205,4,0))","v":""},{"$f":"IF(R64=\"\",\"\",VLOOKUP($R64,ｴﾝﾄﾘｰ票!$E$16:$L$215,2,0))","v":""},{"$f":"IF(R64=\"\",\"\",VLOOKUP($R64,ｴﾝﾄﾘｰ票!$E$16:$L$215,3,0))","v":""},{"$f":"IF(R64=\"\",\"\",VLOOKUP($R64,ｴﾝﾄﾘｰ票!$E$16:$L$215,8,0))","v":""},{"$f":"IF(R64=\"\",\"\",VLOOKUP($R64,ｴﾝﾄﾘｰ票!$E$16:$L$215,6,0))","v":""}]
[95,65,{"$f":"IF(ISERROR(VLOOKUP(A65,ｴﾝﾄﾘｰ票!$A$16:$AH$215,5,0)),\"\",VLOOKUP(A65,ｴﾝﾄﾘｰ票!$A$16:$AH$215,5,0))","v":""},{"$f":"IF(C65=\"\",\"\",VLOOKUP($C65,ｴﾝﾄﾘｰ票!$E$16:$L$215,2,0))","v":""},{"$f":"IF(C65=\"\",\"\",VLOOKUP($C65,ｴﾝﾄﾘｰ票!$E$16:$L$215,3,0))","v":""},{"$f":"IF(C65=\"\",\"\",VLOOKUP($C65,ｴﾝﾄﾘｰ票!$E$16:$L$215,8,0))","v":""},{"$f":"IF(C65=\"\",\"\",VLOOKUP($C65,ｴﾝﾄﾘｰ票!$E$16:$L$215,6,0))","v":""},{"$f":"IF(ISERROR(VLOOKUP(A65+100,ｴﾝﾄﾘｰ票!$AU$16:$AZ$205,4,0)),\"\",VLOOKUP(A65+100,ｴﾝﾄﾘｰ票!$AU$16:$AZ$205,4,0))","v":""},{"$f":"IF(H65=\"\",\"\",VLOOKUP($H65,ｴﾝﾄﾘｰ票!$E$16:$L$215,2,0))","v":""},{"$f":"IF(H65=\"\",\"\",VLOOKUP($H65,ｴﾝﾄﾘｰ票!$E$16:$L$215,3,0))","v":""},{"$f":"IF(H65=\"\",\"\",VLOOKUP($H65,ｴﾝﾄﾘｰ票!$E$16:$L$215,8,0))","v":""},{"$f":"IF(H65=\"\",\"\",VLOOKUP($H65,ｴﾝﾄﾘｰ票!$E$16:$L$215,6,0))","v":""},{"$f":"IF(ISERROR(VLOOKUP(A65+200,ｴﾝﾄﾘｰ票!$BA$16:$BF$205,4,0)),\"\",VLOOKUP(A65+200,ｴﾝﾄﾘｰ票!$BA$16:$BF$205,4,0))","v":""},{"$f":"IF(M65=\"\",\"\",VLOOKUP($M65,ｴﾝﾄﾘｰ票!$E$16:$L$215,2,0))","v":""},{"$f":"IF(M65=\"\",\"\",VLOOKUP($M65,ｴﾝﾄﾘｰ票!$E$16:$L$215,3,0))","v":""},{"$f":"IF(M65=\"\",\"\",VLOOKUP($M65,ｴﾝﾄﾘｰ票!$E$16:$L$215,8,0))","v":""},{"$f":"IF(M65=\"\",\"\",VLOOKUP($M65,ｴﾝﾄﾘｰ票!$E$16:$L$215,6,0))","v":""},{"$f":"IF(ISERROR(VLOOKUP(A65+300,ｴﾝﾄﾘｰ票!$BG$16:$BL$205,4,0)),\"\",VLOOKUP(A65+300,ｴﾝﾄﾘｰ票!$BG$16:$BL$205,4,0))","v":""},{"$f":"IF(R65=\"\",\"\",VLOOKUP($R65,ｴﾝﾄﾘｰ票!$E$16:$L$215,2,0))","v":""},{"$f":"IF(R65=\"\",\"\",VLOOKUP($R65,ｴﾝﾄﾘｰ票!$E$16:$L$215,3,0))","v":""},{"$f":"IF(R65=\"\",\"\",VLOOKUP($R65,ｴﾝﾄﾘｰ票!$E$16:$L$215,8,0))","v":""},{"$f":"IF(R65=\"\",\"\",VLOOKUP($R65,ｴﾝﾄﾘｰ票!$E$16:$L$215,6,0))","v":""}]
[96,66,{"$f":"IF(ISERROR(VLOOKUP(A66,ｴﾝﾄﾘｰ票!$A$16:$AH$215,5,0)),\"\",VLOOKUP(A66,ｴﾝﾄﾘｰ票!$A$16:$AH$215,5,0))","v":""},{"$f":"IF(C66=\"\",\"\",VLOOKUP($C66,ｴﾝﾄﾘｰ票!$E$16:$L$215,2,0))","v":""},{"$f":"IF(C66=\"\",\"\",VLOOKUP($C66,ｴﾝﾄﾘｰ票!$E$16:$L$215,3,0))","v":""},{"$f":"IF(C66=\"\",\"\",VLOOKUP($C66,ｴﾝﾄﾘｰ票!$E$16:$L$215,8,0))","v":""},{"$f":"IF(C66=\"\",\"\",VLOOKUP($C66,ｴﾝﾄﾘｰ票!$E$16:$L$215,6,0))","v":""},{"$f":"IF(ISERROR(VLOOKUP(A66+100,ｴﾝﾄﾘｰ票!$AU$16:$AZ$205,4,0)),\"\",VLOOKUP(A66+100,ｴﾝﾄﾘｰ票!$AU$16:$AZ$205,4,0))","v":""},{"$f":"IF(H66=\"\",\"\",VLOOKUP($H66,ｴﾝﾄﾘｰ票!$E$16:$L$215,2,0))","v":""},{"$f":"IF(H66=\"\",\"\",VLOOKUP($H66,ｴﾝﾄﾘｰ票!$E$16:$L$215,3,0))","v":""},{"$f":"IF(H66=\"\",\"\",VLOOKUP($H66,ｴﾝﾄﾘｰ票!$E$16:$L$215,8,0))","v":""},{"$f":"IF(H66=\"\",\"\",VLOOKUP($H66,ｴﾝﾄﾘｰ票!$E$16:$L$215,6,0))","v":""},{"$f":"IF(ISERROR(VLOOKUP(A66+200,ｴﾝﾄﾘｰ票!$BA$16:$BF$205,4,0)),\"\",VLOOKUP(A66+200,ｴﾝﾄﾘｰ票!$BA$16:$BF$205,4,0))","v":""},{"$f":"IF(M66=\"\",\"\",VLOOKUP($M66,ｴﾝﾄﾘｰ票!$E$16:$L$215,2,0))","v":""},{"$f":"IF(M66=\"\",\"\",VLOOKUP($M66,ｴﾝﾄﾘｰ票!$E$16:$L$215,3,0))","v":""},{"$f":"IF(M66=\"\",\"\",VLOOKUP($M66,ｴﾝﾄﾘｰ票!$E$16:$L$215,8,0))","v":""},{"$f":"IF(M66=\"\",\"\",VLOOKUP($M66,ｴﾝﾄﾘｰ票!$E$16:$L$215,6,0))","v":""},{"$f":"IF(ISERROR(VLOOKUP(A66+300,ｴﾝﾄﾘｰ票!$BG$16:$BL$205,4,0)),\"\",VLOOKUP(A66+300,ｴﾝﾄﾘｰ票!$BG$16:$BL$205,4,0))","v":""},{"$f":"IF(R66=\"\",\"\",VLOOKUP($R66,ｴﾝﾄﾘｰ票!$E$16:$L$215,2,0))","v":""},{"$f":"IF(R66=\"\",\"\",VLOOKUP($R66,ｴﾝﾄﾘｰ票!$E$16:$L$215,3,0))","v":""},{"$f":"IF(R66=\"\",\"\",VLOOKUP($R66,ｴﾝﾄﾘｰ票!$E$16:$L$215,8,0))","v":""},{"$f":"IF(R66=\"\",\"\",VLOOKUP($R66,ｴﾝﾄﾘｰ票!$E$16:$L$215,6,0))","v":""}]
[10,67,{"$f":"IF(ISERROR(VLOOKUP(A68,ｴﾝﾄﾘｰ票!$AO$16:$AT$205,6,0)),\"\",VLOOKUP(A68,ｴﾝﾄﾘｰ票!$AO$16:$AT$205,6,0))","v":""},"氏名",null,"性別","学年",{"$f":"IF(ISERROR(VLOOKUP(A68+100,ｴﾝﾄﾘｰ票!$AU$16:$AZ$205,6,0)),\"\",VLOOKUP(A68+100,ｴﾝﾄﾘｰ票!$AU$16:$AZ$205,6,0))","v":""},"氏名",null,"性別","学年",{"$f":"IF(ISERROR(VLOOKUP(A68+200,ｴﾝﾄﾘｰ票!$BA$16:$BF$205,6,0)),\"\",VLOOKUP(A68+200,ｴﾝﾄﾘｰ票!$BA$16:$BF$205,6,0))","v":""},"氏名",null,"性別","学年",{"$f":"IF(ISERROR(VLOOKUP(A68+300,ｴﾝﾄﾘｰ票!$BG$16:$BL$205,6,0)),\"\",VLOOKUP(A68+300,ｴﾝﾄﾘｰ票!$BG$16:$BL$205,6,0))","v":""},"氏名",null,"性別","学年"]
[101,68,{"$f":"IF(ISERROR(VLOOKUP(A68,ｴﾝﾄﾘｰ票!$A$16:$AH$215,5,0)),\"\",VLOOKUP(A68,ｴﾝﾄﾘｰ票!$A$16:$AH$215,5,0))","v":""},{"$f":"IF(C68=\"\",\"\",VLOOKUP($C68,ｴﾝﾄﾘｰ票!$E$16:$L$215,2,0))","v":""},{"$f":"IF(C68=\"\",\"\",VLOOKUP($C68,ｴﾝﾄﾘｰ票!$E$16:$L$215,3,0))","v":""},{"$f":"IF(C68=\"\",\"\",VLOOKUP($C68,ｴﾝﾄﾘｰ票!$E$16:$L$215,8,0))","v":""},{"$f":"IF(C68=\"\",\"\",VLOOKUP($C68,ｴﾝﾄﾘｰ票!$E$16:$L$215,6,0))","v":""},{"$f":"IF(ISERROR(VLOOKUP(A68+100,ｴﾝﾄﾘｰ票!$AU$16:$AZ$205,4,0)),\"\",VLOOKUP(A68+100,ｴﾝﾄﾘｰ票!$AU$16:$AZ$205,4,0))","v":""},{"$f":"IF(H68=\"\",\"\",VLOOKUP($H68,ｴﾝﾄﾘｰ票!$E$16:$L$215,2,0))","v":""},{"$f":"IF(H68=\"\",\"\",VLOOKUP($H68,ｴﾝﾄﾘｰ票!$E$16:$L$215,3,0))","v":""},{"$f":"IF(H68=\"\",\"\",VLOOKUP($H68,ｴﾝﾄﾘｰ票!$E$16:$L$215,8,0))","v":""},{"$f":"IF(H68=\"\",\"\",VLOOKUP($H68,ｴﾝﾄﾘｰ票!$E$16:$L$215,6,0))","v":""},{"$f":"IF(ISERROR(VLOOKUP(A68+200,ｴﾝﾄﾘｰ票!$BA$16:$BF$205,4,0)),\"\",VLOOKUP(A68+200,ｴﾝﾄﾘｰ票!$BA$16:$BF$205,4,0))","v":""},{"$f":"IF(M68=\"\",\"\",VLOOKUP($M68,ｴﾝﾄﾘｰ票!$E$16:$L$215,2,0))","v":""},{"$f":"IF(M68=\"\",\"\",VLOOKUP($M68,ｴﾝﾄﾘｰ票!$E$16:$L$215,3,0))","v":""},{"$f":"IF(M68=\"\",\"\",VLOOKUP($M68,ｴﾝﾄﾘｰ票!$E$16:$L$215,8,0))","v":""},{"$f":"IF(M68=\"\",\"\",VLOOKUP($M68,ｴﾝﾄﾘｰ票!$E$16:$L$215,6,0))","v":""},{"$f":"IF(ISERROR(VLOOKUP(A68+300,ｴﾝﾄﾘｰ票!$BG$16:$BL$205,4,0)),\"\",VLOOKUP(A68+300,ｴﾝﾄﾘｰ票!$BG$16:$BL$205,4,0))","v":""},{"$f":"IF(R68=\"\",\"\",VLOOKUP($R68,ｴﾝﾄﾘｰ票!$E$16:$L$215,2,0))","v":""},{"$f":"IF(R68=\"\",\"\",VLOOKUP($R68,ｴﾝﾄﾘｰ票!$E$16:$L$215,3,0))","v":""},{"$f":"IF(R68=\"\",\"\",VLOOKUP($R68,ｴﾝﾄﾘｰ票!$E$16:$L$215,8,0))","v":""},{"$f":"IF(R68=\"\",\"\",VLOOKUP($R68,ｴﾝﾄﾘｰ票!$E$16:$L$215,6,0))","v":""}]
[102,69,{"$f":"IF(ISERROR(VLOOKUP(A69,ｴﾝﾄﾘｰ票!$A$16:$AH$215,5,0)),\"\",VLOOKUP(A69,ｴﾝﾄﾘｰ票!$A$16:$AH$215,5,0))","v":""},{"$f":"IF(C69=\"\",\"\",VLOOKUP($C69,ｴﾝﾄﾘｰ票!$E$16:$L$215,2,0))","v":""},{"$f":"IF(C69=\"\",\"\",VLOOKUP($C69,ｴﾝﾄﾘｰ票!$E$16:$L$215,3,0))","v":""},{"$f":"IF(C69=\"\",\"\",VLOOKUP($C69,ｴﾝﾄﾘｰ票!$E$16:$L$215,8,0))","v":""},{"$f":"IF(C69=\"\",\"\",VLOOKUP($C69,ｴﾝﾄﾘｰ票!$E$16:$L$215,6,0))","v":""},{"$f":"IF(ISERROR(VLOOKUP(A69+100,ｴﾝﾄﾘｰ票!$AU$16:$AZ$205,4,0)),\"\",VLOOKUP(A69+100,ｴﾝﾄﾘｰ票!$AU$16:$AZ$205,4,0))","v":""},{"$f":"IF(H69=\"\",\"\",VLOOKUP($H69,ｴﾝﾄﾘｰ票!$E$16:$L$215,2,0))","v":""},{"$f":"IF(H69=\"\",\"\",VLOOKUP($H69,ｴﾝﾄﾘｰ票!$E$16:$L$215,3,0))","v":""},{"$f":"IF(H69=\"\",\"\",VLOOKUP($H69,ｴﾝﾄﾘｰ票!$E$16:$L$215,8,0))","v":""},{"$f":"IF(H69=\"\",\"\",VLOOKUP($H69,ｴﾝﾄﾘｰ票!$E$16:$L$215,6,0))","v":""},{"$f":"IF(ISERROR(VLOOKUP(A69+200,ｴﾝﾄﾘｰ票!$BA$16:$BF$205,4,0)),\"\",VLOOKUP(A69+200,ｴﾝﾄﾘｰ票!$BA$16:$BF$205,4,0))","v":""},{"$f":"IF(M69=\"\",\"\",VLOOKUP($M69,ｴﾝﾄﾘｰ票!$E$16:$L$215,2,0))","v":""},{"$f":"IF(M69=\"\",\"\",VLOOKUP($M69,ｴﾝﾄﾘｰ票!$E$16:$L$215,3,0))","v":""},{"$f":"IF(M69=\"\",\"\",VLOOKUP($M69,ｴﾝﾄﾘｰ票!$E$16:$L$215,8,0))","v":""},{"$f":"IF(M69=\"\",\"\",VLOOKUP($M69,ｴﾝﾄﾘｰ票!$E$16:$L$215,6,0))","v":""},{"$f":"IF(ISERROR(VLOOKUP(A69+300,ｴﾝﾄﾘｰ票!$BG$16:$BL$205,4,0)),\"\",VLOOKUP(A69+300,ｴﾝﾄﾘｰ票!$BG$16:$BL$205,4,0))","v":""},{"$f":"IF(R69=\"\",\"\",VLOOKUP($R69,ｴﾝﾄﾘｰ票!$E$16:$L$215,2,0))","v":""},{"$f":"IF(R69=\"\",\"\",VLOOKUP($R69,ｴﾝﾄﾘｰ票!$E$16:$L$215,3,0))","v":""},{"$f":"IF(R69=\"\",\"\",VLOOKUP($R69,ｴﾝﾄﾘｰ票!$E$16:$L$215,8,0))","v":""},{"$f":"IF(R69=\"\",\"\",VLOOKUP($R69,ｴﾝﾄﾘｰ票!$E$16:$L$215,6,0))","v":""}]
[103,70,{"$f":"IF(ISERROR(VLOOKUP(A70,ｴﾝﾄﾘｰ票!$A$16:$AH$215,5,0)),\"\",VLOOKUP(A70,ｴﾝﾄﾘｰ票!$A$16:$AH$215,5,0))","v":""},{"$f":"IF(C70=\"\",\"\",VLOOKUP($C70,ｴﾝﾄﾘｰ票!$E$16:$L$215,2,0))","v":""},{"$f":"IF(C70=\"\",\"\",VLOOKUP($C70,ｴﾝﾄﾘｰ票!$E$16:$L$215,3,0))","v":""},{"$f":"IF(C70=\"\",\"\",VLOOKUP($C70,ｴﾝﾄﾘｰ票!$E$16:$L$215,8,0))","v":""},{"$f":"IF(C70=\"\",\"\",VLOOKUP($C70,ｴﾝﾄﾘｰ票!$E$16:$L$215,6,0))","v":""},{"$f":"IF(ISERROR(VLOOKUP(A70+100,ｴﾝﾄﾘｰ票!$AU$16:$AZ$205,4,0)),\"\",VLOOKUP(A70+100,ｴﾝﾄﾘｰ票!$AU$16:$AZ$205,4,0))","v":""},{"$f":"IF(H70=\"\",\"\",VLOOKUP($H70,ｴﾝﾄﾘｰ票!$E$16:$L$215,2,0))","v":""},{"$f":"IF(H70=\"\",\"\",VLOOKUP($H70,ｴﾝﾄﾘｰ票!$E$16:$L$215,3,0))","v":""},{"$f":"IF(H70=\"\",\"\",VLOOKUP($H70,ｴﾝﾄﾘｰ票!$E$16:$L$215,8,0))","v":""},{"$f":"IF(H70=\"\",\"\",VLOOKUP($H70,ｴﾝﾄﾘｰ票!$E$16:$L$215,6,0))","v":""},{"$f":"IF(ISERROR(VLOOKUP(A70+200,ｴﾝﾄﾘｰ票!$BA$16:$BF$205,4,0)),\"\",VLOOKUP(A70+200,ｴﾝﾄﾘｰ票!$BA$16:$BF$205,4,0))","v":""},{"$f":"IF(M70=\"\",\"\",VLOOKUP($M70,ｴﾝﾄﾘｰ票!$E$16:$L$215,2,0))","v":""},{"$f":"IF(M70=\"\",\"\",VLOOKUP($M70,ｴﾝﾄﾘｰ票!$E$16:$L$215,3,0))","v":""},{"$f":"IF(M70=\"\",\"\",VLOOKUP($M70,ｴﾝﾄﾘｰ票!$E$16:$L$215,8,0))","v":""},{"$f":"IF(M70=\"\",\"\",VLOOKUP($M70,ｴﾝﾄﾘｰ票!$E$16:$L$215,6,0))","v":""},{"$f":"IF(ISERROR(VLOOKUP(A70+300,ｴﾝﾄﾘｰ票!$BG$16:$BL$205,4,0)),\"\",VLOOKUP(A70+300,ｴﾝﾄﾘｰ票!$BG$16:$BL$205,4,0))","v":""},{"$f":"IF(R70=\"\",\"\",VLOOKUP($R70,ｴﾝﾄﾘｰ票!$E$16:$L$215,2,0))","v":""},{"$f":"IF(R70=\"\",\"\",VLOOKUP($R70,ｴﾝﾄﾘｰ票!$E$16:$L$215,3,0))","v":""},{"$f":"IF(R70=\"\",\"\",VLOOKUP($R70,ｴﾝﾄﾘｰ票!$E$16:$L$215,8,0))","v":""},{"$f":"IF(R70=\"\",\"\",VLOOKUP($R70,ｴﾝﾄﾘｰ票!$E$16:$L$215,6,0))","v":""}]
[104,71,{"$f":"IF(ISERROR(VLOOKUP(A71,ｴﾝﾄﾘｰ票!$A$16:$AH$215,5,0)),\"\",VLOOKUP(A71,ｴﾝﾄﾘｰ票!$A$16:$AH$215,5,0))","v":""},{"$f":"IF(C71=\"\",\"\",VLOOKUP($C71,ｴﾝﾄﾘｰ票!$E$16:$L$215,2,0))","v":""},{"$f":"IF(C71=\"\",\"\",VLOOKUP($C71,ｴﾝﾄﾘｰ票!$E$16:$L$215,3,0))","v":""},{"$f":"IF(C71=\"\",\"\",VLOOKUP($C71,ｴﾝﾄﾘｰ票!$E$16:$L$215,8,0))","v":""},{"$f":"IF(C71=\"\",\"\",VLOOKUP($C71,ｴﾝﾄﾘｰ票!$E$16:$L$215,6,0))","v":""},{"$f":"IF(ISERROR(VLOOKUP(A71+100,ｴﾝﾄﾘｰ票!$AU$16:$AZ$205,4,0)),\"\",VLOOKUP(A71+100,ｴﾝﾄﾘｰ票!$AU$16:$AZ$205,4,0))","v":""},{"$f":"IF(H71=\"\",\"\",VLOOKUP($H71,ｴﾝﾄﾘｰ票!$E$16:$L$215,2,0))","v":""},{"$f":"IF(H71=\"\",\"\",VLOOKUP($H71,ｴﾝﾄﾘｰ票!$E$16:$L$215,3,0))","v":""},{"$f":"IF(H71=\"\",\"\",VLOOKUP($H71,ｴﾝﾄﾘｰ票!$E$16:$L$215,8,0))","v":""},{"$f":"IF(H71=\"\",\"\",VLOOKUP($H71,ｴﾝﾄﾘｰ票!$E$16:$L$215,6,0))","v":""},{"$f":"IF(ISERROR(VLOOKUP(A71+200,ｴﾝﾄﾘｰ票!$BA$16:$BF$205,4,0)),\"\",VLOOKUP(A71+200,ｴﾝﾄﾘｰ票!$BA$16:$BF$205,4,0))","v":""},{"$f":"IF(M71=\"\",\"\",VLOOKUP($M71,ｴﾝﾄﾘｰ票!$E$16:$L$215,2,0))","v":""},{"$f":"IF(M71=\"\",\"\",VLOOKUP($M71,ｴﾝﾄﾘｰ票!$E$16:$L$215,3,0))","v":""},{"$f":"IF(M71=\"\",\"\",VLOOKUP($M71,ｴﾝﾄﾘｰ票!$E$16:$L$215,8,0))","v":""},{"$f":"IF(M71=\"\",\"\",VLOOKUP($M71,ｴﾝﾄﾘｰ票!$E$16:$L$215,6,0))","v":""},{"$f":"IF(ISERROR(VLOOKUP(A71+300,ｴﾝﾄﾘｰ票!$BG$16:$BL$205,4,0)),\"\",VLOOKUP(A71+300,ｴﾝﾄﾘｰ票!$BG$16:$BL$205,4,0))","v":""},{"$f":"IF(R71=\"\",\"\",VLOOKUP($R71,ｴﾝﾄﾘｰ票!$E$16:$L$215,2,0))","v":""},{"$f":"IF(R71=\"\",\"\",VLOOKUP($R71,ｴﾝﾄﾘｰ票!$E$16:$L$215,3,0))","v":""},{"$f":"IF(R71=\"\",\"\",VLOOKUP($R71,ｴﾝﾄﾘｰ票!$E$16:$L$215,8,0))","v":""},{"$f":"IF(R71=\"\",\"\",VLOOKUP($R71,ｴﾝﾄﾘｰ票!$E$16:$L$215,6,0))","v":""}]
[105,72,{"$f":"IF(ISERROR(VLOOKUP(A72,ｴﾝﾄﾘｰ票!$A$16:$AH$215,5,0)),\"\",VLOOKUP(A72,ｴﾝﾄﾘｰ票!$A$16:$AH$215,5,0))","v":""},{"$f":"IF(C72=\"\",\"\",VLOOKUP($C72,ｴﾝﾄﾘｰ票!$E$16:$L$215,2,0))","v":""},{"$f":"IF(C72=\"\",\"\",VLOOKUP($C72,ｴﾝﾄﾘｰ票!$E$16:$L$215,3,0))","v":""},{"$f":"IF(C72=\"\",\"\",VLOOKUP($C72,ｴﾝﾄﾘｰ票!$E$16:$L$215,8,0))","v":""},{"$f":"IF(C72=\"\",\"\",VLOOKUP($C72,ｴﾝﾄﾘｰ票!$E$16:$L$215,6,0))","v":""},{"$f":"IF(ISERROR(VLOOKUP(A72+100,ｴﾝﾄﾘｰ票!$AU$16:$AZ$205,4,0)),\"\",VLOOKUP(A72+100,ｴﾝﾄﾘｰ票!$AU$16:$AZ$205,4,0))","v":""},{"$f":"IF(H72=\"\",\"\",VLOOKUP($H72,ｴﾝﾄﾘｰ票!$E$16:$L$215,2,0))","v":""},{"$f":"IF(H72=\"\",\"\",VLOOKUP($H72,ｴﾝﾄﾘｰ票!$E$16:$L$215,3,0))","v":""},{"$f":"IF(H72=\"\",\"\",VLOOKUP($H72,ｴﾝﾄﾘｰ票!$E$16:$L$215,8,0))","v":""},{"$f":"IF(H72=\"\",\"\",VLOOKUP($H72,ｴﾝﾄﾘｰ票!$E$16:$L$215,6,0))","v":""},{"$f":"IF(ISERROR(VLOOKUP(A72+200,ｴﾝﾄﾘｰ票!$BA$16:$BF$205,4,0)),\"\",VLOOKUP(A72+200,ｴﾝﾄﾘｰ票!$BA$16:$BF$205,4,0))","v":""},{"$f":"IF(M72=\"\",\"\",VLOOKUP($M72,ｴﾝﾄﾘｰ票!$E$16:$L$215,2,0))","v":""},{"$f":"IF(M72=\"\",\"\",VLOOKUP($M72,ｴﾝﾄﾘｰ票!$E$16:$L$215,3,0))","v":""},{"$f":"IF(M72=\"\",\"\",VLOOKUP($M72,ｴﾝﾄﾘｰ票!$E$16:$L$215,8,0))","v":""},{"$f":"IF(M72=\"\",\"\",VLOOKUP($M72,ｴﾝﾄﾘｰ票!$E$16:$L$215,6,0))","v":""},{"$f":"IF(ISERROR(VLOOKUP(A72+300,ｴﾝﾄﾘｰ票!$BG$16:$BL$205,4,0)),\"\",VLOOKUP(A72+300,ｴﾝﾄﾘｰ票!$BG$16:$BL$205,4,0))","v":""},{"$f":"IF(R72=\"\",\"\",VLOOKUP($R72,ｴﾝﾄﾘｰ票!$E$16:$L$215,2,0))","v":""},{"$f":"IF(R72=\"\",\"\",VLOOKUP($R72,ｴﾝﾄﾘｰ票!$E$16:$L$215,3,0))","v":""},{"$f":"IF(R72=\"\",\"\",VLOOKUP($R72,ｴﾝﾄﾘｰ票!$E$16:$L$215,8,0))","v":""},{"$f":"IF(R72=\"\",\"\",VLOOKUP($R72,ｴﾝﾄﾘｰ票!$E$16:$L$215,6,0))","v":""}]
[106,73,{"$f":"IF(ISERROR(VLOOKUP(A73,ｴﾝﾄﾘｰ票!$A$16:$AH$215,5,0)),\"\",VLOOKUP(A73,ｴﾝﾄﾘｰ票!$A$16:$AH$215,5,0))","v":""},{"$f":"IF(C73=\"\",\"\",VLOOKUP($C73,ｴﾝﾄﾘｰ票!$E$16:$L$215,2,0))","v":""},{"$f":"IF(C73=\"\",\"\",VLOOKUP($C73,ｴﾝﾄﾘｰ票!$E$16:$L$215,3,0))","v":""},{"$f":"IF(C73=\"\",\"\",VLOOKUP($C73,ｴﾝﾄﾘｰ票!$E$16:$L$215,8,0))","v":""},{"$f":"IF(C73=\"\",\"\",VLOOKUP($C73,ｴﾝﾄﾘｰ票!$E$16:$L$215,6,0))","v":""},{"$f":"IF(ISERROR(VLOOKUP(A73+100,ｴﾝﾄﾘｰ票!$AU$16:$AZ$205,4,0)),\"\",VLOOKUP(A73+100,ｴﾝﾄﾘｰ票!$AU$16:$AZ$205,4,0))","v":""},{"$f":"IF(H73=\"\",\"\",VLOOKUP($H73,ｴﾝﾄﾘｰ票!$E$16:$L$215,2,0))","v":""},{"$f":"IF(H73=\"\",\"\",VLOOKUP($H73,ｴﾝﾄﾘｰ票!$E$16:$L$215,3,0))","v":""},{"$f":"IF(H73=\"\",\"\",VLOOKUP($H73,ｴﾝﾄﾘｰ票!$E$16:$L$215,8,0))","v":""},{"$f":"IF(H73=\"\",\"\",VLOOKUP($H73,ｴﾝﾄﾘｰ票!$E$16:$L$215,6,0))","v":""},{"$f":"IF(ISERROR(VLOOKUP(A73+200,ｴﾝﾄﾘｰ票!$BA$16:$BF$205,4,0)),\"\",VLOOKUP(A73+200,ｴﾝﾄﾘｰ票!$BA$16:$BF$205,4,0))","v":""},{"$f":"IF(M73=\"\",\"\",VLOOKUP($M73,ｴﾝﾄﾘｰ票!$E$16:$L$215,2,0))","v":""},{"$f":"IF(M73=\"\",\"\",VLOOKUP($M73,ｴﾝﾄﾘｰ票!$E$16:$L$215,3,0))","v":""},{"$f":"IF(M73=\"\",\"\",VLOOKUP($M73,ｴﾝﾄﾘｰ票!$E$16:$L$215,8,0))","v":""},{"$f":"IF(M73=\"\",\"\",VLOOKUP($M73,ｴﾝﾄﾘｰ票!$E$16:$L$215,6,0))","v":""},{"$f":"IF(ISERROR(VLOOKUP(A73+300,ｴﾝﾄﾘｰ票!$BG$16:$BL$205,4,0)),\"\",VLOOKUP(A73+300,ｴﾝﾄﾘｰ票!$BG$16:$BL$205,4,0))","v":""},{"$f":"IF(R73=\"\",\"\",VLOOKUP($R73,ｴﾝﾄﾘｰ票!$E$16:$L$215,2,0))","v":""},{"$f":"IF(R73=\"\",\"\",VLOOKUP($R73,ｴﾝﾄﾘｰ票!$E$16:$L$215,3,0))","v":""},{"$f":"IF(R73=\"\",\"\",VLOOKUP($R73,ｴﾝﾄﾘｰ票!$E$16:$L$215,8,0))","v":""},{"$f":"IF(R73=\"\",\"\",VLOOKUP($R73,ｴﾝﾄﾘｰ票!$E$16:$L$215,6,0))","v":""}]

{"sheet":"Ａ票男","index":6,"n_rows":132,"n_cols":17,"rows_kept":132,"cut":false,"hidden":false,"merged":[[128,14,128,15],[129,14,129,15],[130,14,130,15],[131,14,131,15],[118,14,118,15],[119,14,119,15],[120,14,120,15],[121,14,121,15],[122,14,122,15],[123,14,123,15],[124,14,124,15],[125,14,125,15],[126,14,126,15],[110,14,110,15],[111,14,111,15],[112,14,112,15],[113,14,113,15],[114,14,114,15],[115,14,115,15],[116,14,116,15],[117,14,117,15],[127,14,127,15],[101,14,101,15],[102,14,102,15],[103,14,103,15],[104,14,104,15],[105,14,105,15],[106,14,106,15],[107,14,107,15],[108,14,108,15],[109,14,109,15],[87,14,87,15],[96,9,96,10],[96,11,96,12],[96,14,96,15],[96,22,96,23],[97,14,97,15],[98,14,98,15],[99,14,99,15],[100,14,100,15],[78,14,78,15],[79,14,79,15],[80,14,80,15],[81,14,81,15],[82,14,82,15],[83,14,83,15],[84,14,84,15],[85,14,85,15],[86,14,86,15],[69,14,69,15],[70,14,70,15],[71,14,71,15],[72,14,72,15],[73,14,73,15],[74,14,74,15],[75,14,75,15],[76,14,76,15],[77,14,77,15],[60,14,60,15],[61,14,61,15],[62,14,62,15],[63,14,63,15],[64,14,64,15],[65,14,65,15],[66,14,66,15],[67,14,67,15],[68,14,68,15],[52,14,52,15],[52,22,52,23],[53,14,53,15],[54,14,54,15],[55,14,55,15],[56,14,56,15],[57,14,57,15],[58,14,58,15],[59,14,59,15],[42,2,42,3],[42,4,42,6],[42,7,42,9],[43,2,43,3],[43,5,43,6],[43,7,43,9],[43,10,43,11],[52,9,52,10],[52,11,52,12],[40,17,40,18],[40,19,40,20],[41,2,41,3],[41,4,41,6],[41,7,41,9],[41,13,41,14],[41,15,41,16],[41,17,41,18],[41,19,41,20],[32,14,32,15],[33,14,33,15],[34,14,34,15],[35,14,35,15],[36,14,36,15],[37,14,37,15],[38,14,38,15],[40,2,40,3],[40,4,40,6],[40,7,40,9],[40,13,40,14],[40,15,40,16],[23,14,23,15],[24,14,24,15],[25,14,25,15],[26,14,26,15],[27,14,27,15],[28,14,28,15],[29,14,29,15],[30,14,30,15],[31,14,31,15],[14,14,14,15],[15,14,15,15],[16,14,16,15],[17,14,17,15],[18,14,18,15],[19,14,19,15],[20,14,20,15],[21,14,21,15],[22,14,22,15],[8,9,8,10],[8,11,8,12],[8,14,8,15],[8,22,8,23],[9,14,9,15],[10,14,10,15],[11,14,11,15],[12,14,12,15],[13,14,13,15]]}
[null,{"$f":"ｴﾝﾄﾘｰ票!$G$1","v":"東京高体連陸上第4支部秋季競技会1"},null,null,null,null,null,null,null,null,null,null,null,null,null,null,"申込用紙(A票）"]
[{"$f":"ｴﾝﾄﾘｰ票!R1","v":"平成30年度"},null,null,null,null,null,null,null,null,null,null,null,null,null,"男子",null,"Ｎｏ．１"]
["学校名",null,{"$f":"ｴﾝﾄﾘｰ票!$G$2","v":0}]
["学校所在地",null,{"$f":"ｴﾝﾄﾘｰ票!$G$5","v":0}]
["学校長",null,{"$f":"ｴﾝﾄﾘｰ票!$G$4","v":0},null,null,null,null,null,null,"印",null,"顧問氏名",null,{"$f":"ｴﾝﾄﾘｰ票!$G$8","v":0},null,null,"印"]
["電話",null,{"$f":"ｴﾝﾄﾘｰ票!$G$6","v":"00:00:00"},null,null,null,"ＦＡＸ",{"$f":"ｴﾝﾄﾘｰ票!$G$7","v":0},null,null,null,"連絡先",null,{"$f":"ｴﾝﾄﾘｰ票!$G$9","v":0}]
[]
[null,null,null,null,null,null,null,null,null,null,null,null,null,"種目"]
[null,"番号","出場者氏名",null,null,null,null,"学年",null,"個人",null,"個人",null,"個人","4×100",null,"4×400"]
[1,{"$f":"IF(ISERROR(VLOOKUP(A10*10-9+2000,ｴﾝﾄﾘｰ票!C$15:AI$215,3,0)),\"\",VLOOKUP(A10*10-9+2000,ｴﾝﾄﾘｰ票!C$15:AI$215,3,0))","v":""},{"$f":"IF(B10=\"\",\"\",CONCATENATE(VLOOKUP(B10,ｴﾝﾄﾘｰ票!$E$16:$L$215,2,0),\"　\",VLOOKUP(B10,ｴﾝﾄﾘｰ票!$E$16:$L$215,3,0)))","v":""},null,null,null,null,{"$f":"IF(B10=\"\",\"\",VLOOKUP(B10,ｴﾝﾄﾘｰ票!$E$16:$L$215,6,0))","v":""},null,{"$f":"IF(B10=\"\",\"\",IF(VLOOKUP(B10,ｴﾝﾄﾘｰ票!$E$16:$Y$215,10,0)=\"\",\"\",VLOOKUP(B10,ｴﾝﾄﾘｰ票!$E$16:$Y$215,10,0)))","v":""},null,{"$f":"IF(B10=\"\",\"\",IF(VLOOKUP(B10,ｴﾝﾄﾘｰ票!$E$16:$Y$215,14,0)=\"\",\"\",VLOOKUP(B10,ｴﾝﾄﾘｰ票!$E$16:$Y$215,14,0)))","v":""},null,{"$f":"IF(B10=\"\",\"\",IF(VLOOKUP(B10,ｴﾝﾄﾘｰ票!$E$16:$Y$215,18,0)=\"\",\"\",VLOOKUP(B10,ｴﾝﾄﾘｰ票!$E$16:$Y$215,18,0)))","v":""},{"$f":"IF(B10=\"\",\"\",IF(ISERROR(VLOOKUP(B10,ｴﾝﾄﾘｰ票!$AR$16:$AT$205,1,0)),\"\",VLOOKUP(B10,ｴﾝﾄﾘｰ票!$AR$16:$AT$205,2,0)))","v":""},null,{"$f":"IF(B10=\"\",\"\",IF(ISERROR(VLOOKUP(B10,ｴﾝﾄﾘｰ票!$AX$16:$AZ$205,1,0)),\"\",VLOOKUP(B10,ｴﾝﾄﾘｰ票!$AX$16:$AZ$205,2,0)))","v":""}]
[2,{"$f":"IF(ISERROR(VLOOKUP(A11*10-9+2000,ｴﾝﾄﾘｰ票!C$15:AI$215,3,0)),\"\",VLOOKUP(A11*10-9+2000,ｴﾝﾄﾘｰ票!C$15:AI$215,3,0))","v":""},{"$f":"IF(B11=\"\",\"\",CONCATENATE(VLOOKUP(B11,ｴﾝﾄﾘｰ票!$E$16:$L$215,2,0),\"　\",VLOOKUP(B11,ｴﾝﾄﾘｰ票!$E$16:$L$215,3,0)))","v":""},null,null,null,null,{"$f":"IF(B11=\"\",\"\",VLOOKUP(B11,ｴﾝﾄﾘｰ票!$E$16:$L$215,6,0))","v":""},null,{"$f":"IF(B11=\"\",\"\",IF(VLOOKUP(B11,ｴﾝﾄﾘｰ票!$E$16:$Y$215,10,0)=\"\",\"\",VLOOKUP(B11,ｴﾝﾄﾘｰ票!$E$16:$Y$215,10,0)))","v":""},null,{"$f":"IF(B11=\"\",\"\",IF(VLOOKUP(B11,ｴﾝﾄﾘｰ票!$E$16:$Y$215,14,0)=\"\",\"\",VLOOKUP(B11,ｴﾝﾄﾘｰ票!$E$16:$Y$215,14,0)))","v":""},null,{"$f":"IF(B11=\"\",\"\",IF(VLOOKUP(B11,ｴﾝﾄﾘｰ票!$E$16:$Y$215,18,0)=\"\",\"\",VLOOKUP(B11,ｴﾝﾄﾘｰ票!$E$16:$Y$215,18,0)))","v":""},{"$f":"IF(B11=\"\",\"\",IF(ISERROR(VLOOKUP(B11,ｴﾝﾄﾘｰ票!$AR$16:$AT$205,1,0)),\"\",VLOOKUP(B11,ｴﾝﾄﾘｰ票!$AR$16:$AT$205,2,0)))","v":""},null,{"$f":"IF(B11=\"\",\"\",IF(ISERROR(VLOOKUP(B11,ｴﾝﾄﾘｰ票!$AX$16:$AZ$205,1,0)),\"\",VLOOKUP(B11,ｴﾝﾄﾘｰ票!$AX$16:$AZ$205,2,0)))","v":""}]
[3,{"$f":"IF(ISERROR(VLOOKUP(A12*10-9+2000,ｴﾝﾄﾘｰ票!C$15:AI$215,3,0)),\"\",VLOOKUP(A12*10-9+2000,ｴﾝﾄﾘｰ票!C$15:AI$215,3,0))","v":""},{"$f":"IF(B12=\"\",\"\",CONCATENATE(VLOOKUP(B12,ｴﾝﾄﾘｰ票!$E$16:$L$215,2,0),\"　\",VLOOKUP(B12,ｴﾝﾄﾘｰ票!$E$16:$L$215,3,0)))","v":""},null,null,null,null,{"$f":"IF(B12=\"\",\"\",VLOOKUP(B12,ｴﾝﾄﾘｰ票!$E$16:$L$215,6,0))","v":""},null,{"$f":"IF(B12=\"\",\"\",IF(VLOOKUP(B12,ｴﾝﾄﾘｰ票!$E$16:$Y$215,10,0)=\"\",\"\",VLOOKUP(B12,ｴﾝﾄﾘｰ票!$E$16:$Y$215,10,0)))","v":""},null,{"$f":"IF(B12=\"\",\"\",IF(VLOOKUP(B12,ｴﾝﾄﾘｰ票!$E$16:$Y$215,14,0)=\"\",\"\",VLOOKUP(B12,ｴﾝﾄﾘｰ票!$E$16:$Y$215,14,0)))","v":""},null,{"$f":"IF(B12=\"\",\"\",IF(VLOOKUP(B12,ｴﾝﾄﾘｰ票!$E$16:$Y$215,18,0)=\"\",\"\",VLOOKUP(B12,ｴﾝﾄﾘｰ票!$E$16:$Y$215,18,0)))","v":""},{"$f":"IF(B12=\"\",\"\",IF(ISERROR(VLOOKUP(B12,ｴﾝﾄﾘｰ票!$AR$16:$AT$205,1,0)),\"\",VLOOKUP(B12,ｴﾝﾄﾘｰ票!$AR$16:$AT$205,2,0)))","v":""},null,{"$f":"IF(B12=\"\",\"\",IF(ISERROR(VLOOKUP(B12,ｴﾝﾄﾘｰ票!$AX$16:$AZ$205,1,0)),\"\",VLOOKUP(B12,ｴﾝﾄﾘｰ票!$AX$16:$AZ$205,2,0)))","v":""}]
[4,{"$f":"IF(ISERROR(VLOOKUP(A13*10-9+2000,ｴﾝﾄﾘｰ票!C$15:AI$215,3,0)),\"\",VLOOKUP(A13*10-9+2000,ｴﾝﾄﾘｰ票!C$15:AI$215,3,0))","v":""},{"$f":"IF(B13=\"\",\"\",CONCATENATE(VLOOKUP(B13,ｴﾝﾄﾘｰ票!$E$16:$L$215,2,0),\"　\",VLOOKUP(B13,ｴﾝﾄﾘｰ票!$E$16:$L$215,3,0)))","v":""},null,null,null,null,{"$f":"IF(B13=\"\",\"\",VLOOKUP(B13,ｴﾝﾄﾘｰ票!$E$16:$L$215,6,0))","v":""},null,{"$f":"IF(B13=\"\",\"\",IF(VLOOKUP(B13,ｴﾝﾄﾘｰ票!$E$16:$Y$215,10,0)=\"\",\"\",VLOOKUP(B13,ｴﾝﾄﾘｰ票!$E$16:$Y$215,10,0)))","v":""},null,{"$f":"IF(B13=\"\",\"\",IF(VLOOKUP(B13,ｴﾝﾄﾘｰ票!$E$16:$Y$215,14,0)=\"\",\"\",VLOOKUP(B13,ｴﾝﾄﾘｰ票!$E$16:$Y$215,14,0)))","v":""},null,{"$f":"IF(B13=\"\",\"\",IF(VLOOKUP(B13,ｴﾝﾄﾘｰ票!$E$16:$Y$215,18,0)=\"\",\"\",VLOOKUP(B13,ｴﾝﾄﾘｰ票!$E$16:$Y$215,18,0)))","v":""},{"$f":"IF(B13=\"\",\"\",IF(ISERROR(VLOOKUP(B13,ｴﾝﾄﾘｰ票!$AR$16:$AT$205,1,0)),\"\",VLOOKUP(B13,ｴﾝﾄﾘｰ票!$AR$16:$AT$205,2,0)))","v":""},null,{"$f":"IF(B13=\"\",\"\",IF(ISERROR(VLOOKUP(B13,ｴﾝﾄﾘｰ票!$AX$16:$AZ$205,1,0)),\"\",VLOOKUP(B13,ｴﾝﾄﾘｰ票!$AX$16:$AZ$205,2,0)))","v":""}]
[5,{"$f":"IF(ISERROR(VLOOKUP(A14*10-9+2000,ｴﾝﾄﾘｰ票!C$15:AI$215,3,0)),\"\",VLOOKUP(A14*10-9+2000,ｴﾝﾄﾘｰ票!C$15:AI$215,3,0))","v":""},{"$f":"IF(B14=\"\",\"\",CONCATENATE(VLOOKUP(B14,ｴﾝﾄﾘｰ票!$E$16:$L$215,2,0),\"　\",VLOOKUP(B14,ｴﾝﾄﾘｰ票!$E$16:$L$215,3,0)))","v":""},null,null,null,null,{"$f":"IF(B14=\"\",\"\",VLOOKUP(B14,ｴﾝﾄﾘｰ票!$E$16:$L$215,6,0))","v":""},null,{"$f":"IF(B14=\"\",\"\",IF(VLOOKUP(B14,ｴﾝﾄﾘｰ票!$E$16:$Y$215,10,0)=\"\",\"\",VLOOKUP(B14,ｴﾝﾄﾘｰ票!$E$16:$Y$215,10,0)))","v":""},null,{"$f":"IF(B14=\"\",\"\",IF(VLOOKUP(B14,ｴﾝﾄﾘｰ票!$E$16:$Y$215,14,0)=\"\",\"\",VLOOKUP(B14,ｴﾝﾄﾘｰ票!$E$16:$Y$215,14,0)))","v":""},null,{"$f":"IF(B14=\"\",\"\",IF(VLOOKUP(B14,ｴﾝﾄﾘｰ票!$E$16:$Y$215,18,0)=\"\",\"\",VLOOKUP(B14,ｴﾝﾄﾘｰ票!$E$16:$Y$215,18,0)))","v":""},{"$f":"IF(B14=\"\",\"\",IF(ISERROR(VLOOKUP(B14,ｴﾝﾄﾘｰ票!$AR$16:$AT$205,1,0)),\"\",VLOOKUP(B14,ｴﾝﾄﾘｰ票!$AR$16:$AT$205,2,0)))","v":""},null,{"$f":"IF(B14=\"\",\"\",IF(ISERROR(VLOOKUP(B14,ｴﾝﾄﾘｰ票!$AX$16:$AZ$205,1,0)),\"\",VLOOKUP(B14,ｴﾝﾄﾘｰ票!$AX$16:$AZ$205,2,0)))","v":""}]
[6,{"$f":"IF(ISERROR(VLOOKUP(A15*10-9+2000,ｴﾝﾄﾘｰ票!C$15:AI$215,3,0)),\"\",VLOOKUP(A15*10-9+2000,ｴﾝﾄﾘｰ票!C$15:AI$215,3,0))","v":""},{"$f":"IF(B15=\"\",\"\",CONCATENATE(VLOOKUP(B15,ｴﾝﾄﾘｰ票!$E$16:$L$215,2,0),\"　\",VLOOKUP(B15,ｴﾝﾄﾘｰ票!$E$16:$L$215,3,0)))","v":""},null,null,null,null,{"$f":"IF(B15=\"\",\"\",VLOOKUP(B15,ｴﾝﾄﾘｰ票!$E$16:$L$215,6,0))","v":""},null,{"$f":"IF(B15=\"\",\"\",IF(VLOOKUP(B15,ｴﾝﾄﾘｰ票!$E$16:$Y$215,10,0)=\"\",\"\",VLOOKUP(B15,ｴﾝﾄﾘｰ票!$E$16:$Y$215,10,0)))","v":""},null,{"$f":"IF(B15=\"\",\"\",IF(VLOOKUP(B15,ｴﾝﾄﾘｰ票!$E$16:$Y$215,14,0)=\"\",\"\",VLOOKUP(B15,ｴﾝﾄﾘｰ票!$E$16:$Y$215,14,0)))","v":""},null,{"$f":"IF(B15=\"\",\"\",IF(VLOOKUP(B15,ｴﾝﾄﾘｰ票!$E$16:$Y$215,18,0)=\"\",\"\",VLOOKUP(B15,ｴﾝﾄﾘｰ票!$E$16:$Y$215,18,0)))","v":""},{"$f":"IF(B15=\"\",\"\",IF(ISERROR(VLOOKUP(B15,ｴﾝﾄﾘｰ票!$AR$16:$AT$205,1,0)),\"\",VLOOKUP(B15,ｴﾝﾄﾘｰ票!$AR$16:$AT$205,2,0)))","v":""},null,{"$f":"IF(B15=\"\",\"\",IF(ISERROR(VLOOKUP(B15,ｴﾝﾄﾘｰ票!$AX$16:$AZ$205,1,0)),\"\",VLOOKUP(B15,ｴﾝﾄﾘｰ票!$AX$16:$AZ$205,2,0)))","v":""}]
[7,{"$f":"IF(ISERROR(VLOOKUP(A16*10-9+2000,ｴﾝﾄﾘｰ票!C$15:AI$215,3,0)),\"\",VLOOKUP(A16*10-9+2000,ｴﾝﾄﾘｰ票!C$15:AI$215,3,0))","v":""},{"$f":"IF(B16=\"\",\"\",CONCATENATE(VLOOKUP(B16,ｴﾝﾄﾘｰ票!$E$16:$L$215,2,0),\"　\",VLOOKUP(B16,ｴﾝﾄﾘｰ票!$E$16:$L$215,3,0)))","v":""},null,null,null,null,{"$f":"IF(B16=\"\",\"\",VLOOKUP(B16,ｴﾝﾄﾘｰ票!$E$16:$L$215,6,0))","v":""},null,{"$f":"IF(B16=\"\",\"\",IF(VLOOKUP(B16,ｴﾝﾄﾘｰ票!$E$16:$Y$215,10,0)=\"\",\"\",VLOOKUP(B16,ｴﾝﾄﾘｰ票!$E$16:$Y$215,10,0)))","v":""},null,{"$f":"IF(B16=\"\",\"\",IF(VLOOKUP(B16,ｴﾝﾄﾘｰ票!$E$16:$Y$215,14,0)=\"\",\"\",VLOOKUP(B16,ｴﾝﾄﾘｰ票!$E$16:$Y$215,14,0)))","v":""},null,{"$f":"IF(B16=\"\",\"\",IF(VLOOKUP(B16,ｴﾝﾄﾘｰ票!$E$16:$Y$215,18,0)=\"\",\"\",VLOOKUP(B16,ｴﾝﾄﾘｰ票!$E$16:$Y$215,18,0)))","v":""},{"$f":"IF(B16=\"\",\"\",IF(ISERROR(VLOOKUP(B16,ｴﾝﾄﾘｰ票!$AR$16:$AT$205,1,0)),\"\",VLOOKUP(B16,ｴﾝﾄﾘｰ票!$AR$16:$AT$205,2,0)))","v":""},null,{"$f":"IF(B16=\"\",\"\",IF(ISERROR(VLOOKUP(B16,ｴﾝﾄﾘｰ票!$AX$16:$AZ$205,1,0)),\"\",VLOOKUP(B16,ｴﾝﾄﾘｰ票!$AX$16:$AZ$205,2,0)))","v":""}]
[8,{"$f":"IF(ISERROR(VLOOKUP(A17*10-9+2000,ｴﾝﾄﾘｰ票!C$15:AI$215,3,0)),\"\",VLOOKUP(A17*10-9+2000,ｴﾝﾄﾘｰ票!C$15:AI$215,3,0))","v":""},{"$f":"IF(B17=\"\",\"\",CONCATENATE(VLOOKUP(B17,ｴﾝﾄﾘｰ票!$E$16:$L$215,2,0),\"　\",VLOOKUP(B17,ｴﾝﾄﾘｰ票!$E$16:$L$215,3,0)))","v":""},null,null,null,null,{"$f":"IF(B17=\"\",\"\",VLOOKUP(B17,ｴﾝﾄﾘｰ票!$E$16:$L$215,6,0))","v":""},null,{"$f":"IF(B17=\"\",\"\",IF(VLOOKUP(B17,ｴﾝﾄﾘｰ票!$E$16:$Y$215,10,0)=\"\",\"\",VLOOKUP(B17,ｴﾝﾄﾘｰ票!$E$16:$Y$215,10,0)))","v":""},null,{"$f":"IF(B17=\"\",\"\",IF(VLOOKUP(B17,ｴﾝﾄﾘｰ票!$E$16:$Y$215,14,0)=\"\",\"\",VLOOKUP(B17,ｴﾝﾄﾘｰ票!$E$16:$Y$215,14,0)))","v":""},null,{"$f":"IF(B17=\"\",\"\",IF(VLOOKUP(B17,ｴﾝﾄﾘｰ票!$E$16:$Y$215,18,0)=\"\",\"\",VLOOKUP(B17,ｴﾝﾄﾘｰ票!$E$16:$Y$215,18,0)))","v":""},{"$f":"IF(B17=\"\",\"\",IF(ISERROR(VLOOKUP(B17,ｴﾝﾄﾘｰ票!$AR$16:$AT$205,1,0)),\"\",VLOOKUP(B17,ｴﾝﾄﾘｰ票!$AR$16:$AT$205,2,0)))","v":""},null,{"$f":"IF(B17=\"\",\"\",IF(ISERROR(VLOOKUP(B17,ｴﾝﾄﾘｰ票!$AX$16:$AZ$205,1,0)),\"\",VLOOKUP(B17,ｴﾝﾄﾘｰ票!$AX$16:$AZ$205,2,0)))","v":""}]
[9,{"$f":"IF(ISERROR(VLOOKUP(A18*10-9+2000,ｴﾝﾄﾘｰ票!C$15:AI$215,3,0)),\"\",VLOOKUP(A18*10-9+2000,ｴﾝﾄﾘｰ票!C$15:AI$215,3,0))","v":""},{"$f":"IF(B18=\"\",\"\",CONCATENATE(VLOOKUP(B18,ｴﾝﾄﾘｰ票!$E$16:$L$215,2,0),\"　\",VLOOKUP(B18,ｴﾝﾄﾘｰ票!$E$16:$L$215,3,0)))","v":""},null,null,null,null,{"$f":"IF(B18=\"\",\"\",VLOOKUP(B18,ｴﾝﾄﾘｰ票!$E$16:$L$215,6,0))","v":""},null,{"$f":"IF(B18=\"\",\"\",IF(VLOOKUP(B18,ｴﾝﾄﾘｰ票!$E$16:$Y$215,10,0)=\"\",\"\",VLOOKUP(B18,ｴﾝﾄﾘｰ票!$E$16:$Y$215,10,0)))","v":""},null,{"$f":"IF(B18=\"\",\"\",IF(VLOOKUP(B18,ｴﾝﾄﾘｰ票!$E$16:$Y$215,14,0)=\"\",\"\",VLOOKUP(B18,ｴﾝﾄﾘｰ票!$E$16:$Y$215,14,0)))","v":""},null,{"$f":"IF(B18=\"\",\"\",IF(VLOOKUP(B18,ｴﾝﾄﾘｰ票!$E$16:$Y$215,18,0)=\"\",\"\",VLOOKUP(B18,ｴﾝﾄﾘｰ票!$E$16:$Y$215,18,0)))","v":""},{"$f":"IF(B18=\"\",\"\",IF(ISERROR(VLOOKUP(B18,ｴﾝﾄﾘｰ票!$AR$16:$AT$205,1,0)),\"\",VLOOKUP(B18,ｴﾝﾄﾘｰ票!$AR$16:$AT$205,2,0)))","v":""},null,{"$f":"IF(B18=\"\",\"\",IF(ISERROR(VLOOKUP(B18,ｴﾝﾄﾘｰ票!$AX$16:$AZ$205,1,0)),\"\",VLOOKUP(B18,ｴﾝﾄﾘｰ票!$AX$16:$AZ$205,2,0)))","v":""}]
[10,{"$f":"IF(ISERROR(VLOOKUP(A19*10-9+2000,ｴﾝﾄﾘｰ票!C$15:AI$215,3,0)),\"\",VLOOKUP(A19*10-9+2000,ｴﾝﾄﾘｰ票!C$15:AI$215,3,0))","v":""},{"$f":"IF(B19=\"\",\"\",CONCATENATE(VLOOKUP(B19,ｴﾝﾄﾘｰ票!$E$16:$L$215,2,0),\"　\",VLOOKUP(B19,ｴﾝﾄﾘｰ票!$E$16:$L$215,3,0)))","v":""},null,null,null,null,{"$f":"IF(B19=\"\",\"\",VLOOKUP(B19,ｴﾝﾄﾘｰ票!$E$16:$L$215,6,0))","v":""},null,{"$f":"IF(B19=\"\",\"\",IF(VLOOKUP(B19,ｴﾝﾄﾘｰ票!$E$16:$Y$215,10,0)=\"\",\"\",VLOOKUP(B19,ｴﾝﾄﾘｰ票!$E$16:$Y$215,10,0)))","v":""},null,{"$f":"IF(B19=\"\",\"\",IF(VLOOKUP(B19,ｴﾝﾄﾘｰ票!$E$16:$Y$215,14,0)=\"\",\"\",VLOOKUP(B19,ｴﾝﾄﾘｰ票!$E$16:$Y$215,14,0)))","v":""},null,{"$f":"IF(B19=\"\",\"\",IF(VLOOKUP(B19,ｴﾝﾄﾘｰ票!$E$16:$Y$215,18,0)=\"\",\"\",VLOOKUP(B19,ｴﾝﾄﾘｰ票!$E$16:$Y$215,18,0)))","v":""},{"$f":"IF(B19=\"\",\"\",IF(ISERROR(VLOOKUP(B19,ｴﾝﾄﾘｰ票!$AR$16:$AT$205,1,0)),\"\",VLOOKUP(B19,ｴﾝﾄﾘｰ票!$AR$16:$AT$205,2,0)))","v":""},null,{"$f":"IF(B19=\"\",\"\",IF(ISERROR(VLOOKUP(B19,ｴﾝﾄﾘｰ票!$AX$16:$AZ$205,1,0)),\"\",VLOOKUP(B19,ｴﾝﾄﾘｰ票!$AX$16:$AZ$205,2,0)))","v":""}]
[11,{"$f":"IF(ISERROR(VLOOKUP(A20*10-9+2000,ｴﾝﾄﾘｰ票!C$15:AI$215,3,0)),\"\",VLOOKUP(A20*10-9+2000,ｴﾝﾄﾘｰ票!C$15:AI$215,3,0))","v":""},{"$f":"IF(B20=\"\",\"\",CONCATENATE(VLOOKUP(B20,ｴﾝﾄﾘｰ票!$E$16:$L$215,2,0),\"　\",VLOOKUP(B20,ｴﾝﾄﾘｰ票!$E$16:$L$215,3,0)))","v":""},null,null,null,null,{"$f":"IF(B20=\"\",\"\",VLOOKUP(B20,ｴﾝﾄﾘｰ票!$E$16:$L$215,6,0))","v":""},null,{"$f":"IF(B20=\"\",\"\",IF(VLOOKUP(B20,ｴﾝﾄﾘｰ票!$E$16:$Y$215,10,0)=\"\",\"\",VLOOKUP(B20,ｴﾝﾄﾘｰ票!$E$16:$Y$215,10,0)))","v":""},null,{"$f":"IF(B20=\"\",\"\",IF(VLOOKUP(B20,ｴﾝﾄﾘｰ票!$E$16:$Y$215,14,0)=\"\",\"\",VLOOKUP(B20,ｴﾝﾄﾘｰ票!$E$16:$Y$215,14,0)))","v":""},null,{"$f":"IF(B20=\"\",\"\",IF(VLOOKUP(B20,ｴﾝﾄﾘｰ票!$E$16:$Y$215,18,0)=\"\",\"\",VLOOKUP(B20,ｴﾝﾄﾘｰ票!$E$16:$Y$215,18,0)))","v":""},{"$f":"IF(B20=\"\",\"\",IF(ISERROR(VLOOKUP(B20,ｴﾝﾄﾘｰ票!$AR$16:$AT$205,1,0)),\"\",VLOOKUP(B20,ｴﾝﾄﾘｰ票!$AR$16:$AT$205,2,0)))","v":""},null,{"$f":"IF(B20=\"\",\"\",IF(ISERROR(VLOOKUP(B20,ｴﾝﾄﾘｰ票!$AX$16:$AZ$205,1,0)),\"\",VLOOKUP(B20,ｴﾝﾄﾘｰ票!$AX$16:$AZ$205,2,0)))","v":""}]
[12,{"$f":"IF(ISERROR(VLOOKUP(A21*10-9+2000,ｴﾝﾄﾘｰ票!C$15:AI$215,3,0)),\"\",VLOOKUP(A21*10-9+2000,ｴﾝﾄﾘｰ票!C$15:AI$215,3,0))","v":""},{"$f":"IF(B21=\"\",\"\",CONCATENATE(VLOOKUP(B21,ｴﾝﾄﾘｰ票!$E$16:$L$215,2,0),\"　\",VLOOKUP(B21,ｴﾝﾄﾘｰ票!$E$16:$L$215,3,0)))","v":""},null,null,null,null,{"$f":"IF(B21=\"\",\"\",VLOOKUP(B21,ｴﾝﾄﾘｰ票!$E$16:$L$215,6,0))","v":""},null,{"$f":"IF(B21=\"\",\"\",IF(VLOOKUP(B21,ｴﾝﾄﾘｰ票!$E$16:$Y$215,10,0)=\"\",\"\",VLOOKUP(B21,ｴﾝﾄﾘｰ票!$E$16:$Y$215,10,0)))","v":""},null,{"$f":"IF(B21=\"\",\"\",IF(VLOOKUP(B21,ｴﾝﾄﾘｰ票!$E$16:$Y$215,14,0)=\"\",\"\",VLOOKUP(B21,ｴﾝﾄﾘｰ票!$E$16:$Y$215,14,0)))","v":""},null,{"$f":"IF(B21=\"\",\"\",IF(VLOOKUP(B21,ｴﾝﾄﾘｰ票!$E$16:$Y$215,18,0)=\"\",\"\",VLOOKUP(B21,ｴﾝﾄﾘｰ票!$E$16:$Y$215,18,0)))","v":""},{"$f":"IF(B21=\"\",\"\",IF(ISERROR(VLOOKUP(B21,ｴﾝﾄﾘｰ票!$AR$16:$AT$205,1,0)),\"\",VLOOKUP(B21,ｴﾝﾄﾘｰ票!$AR$16:$AT$205,2,0)))","v":""},null,{"$f":"IF(B21=\"\",\"\",IF(ISERROR(VLOOKUP(B21,ｴﾝﾄﾘｰ票!$AX$16:$AZ$205,1,0)),\"\",VLOOKUP(B21,ｴﾝﾄﾘｰ票!$AX$16:$AZ$205,2,0)))","v":""}]
[13,{"$f":"IF(ISERROR(VLOOKUP(A22*10-9+2000,ｴﾝﾄﾘｰ票!C$15:AI$215,3,0)),\"\",VLOOKUP(A22*10-9+2000,ｴﾝﾄﾘｰ票!C$15:AI$215,3,0))","v":""},{"$f":"IF(B22=\"\",\"\",CONCATENATE(VLOOKUP(B22,ｴﾝﾄﾘｰ票!$E$16:$L$215,2,0),\"　\",VLOOKUP(B22,ｴﾝﾄﾘｰ票!$E$16:$L$215,3,0)))","v":""},null,null,null,null,{"$f":"IF(B22=\"\",\"\",VLOOKUP(B22,ｴﾝﾄﾘｰ票!$E$16:$L$215,6,0))","v":""},null,{"$f":"IF(B22=\"\",\"\",IF(VLOOKUP(B22,ｴﾝﾄﾘｰ票!$E$16:$Y$215,10,0)=\"\",\"\",VLOOKUP(B22,ｴﾝﾄﾘｰ票!$E$16:$Y$215,10,0)))","v":""},null,{"$f":"IF(B22=\"\",\"\",IF(VLOOKUP(B22,ｴﾝﾄﾘｰ票!$E$16:$Y$215,14,0)=\"\",\"\",VLOOKUP(B22,ｴﾝﾄﾘｰ票!$E$16:$Y$215,14,0)))","v":""},null,{"$f":"IF(B22=\"\",\"\",IF(VLOOKUP(B22,ｴﾝﾄﾘｰ票!$E$16:$Y$215,18,0)=\"\",\"\",VLOOKUP(B22,ｴﾝﾄﾘｰ票!$E$16:$Y$215,18,0)))","v":""},{"$f":"IF(B22=\"\",\"\",IF(ISERROR(VLOOKUP(B22,ｴﾝﾄﾘｰ票!$AR$16:$AT$205,1,0)),\"\",VLOOKUP(B22,ｴﾝﾄﾘｰ票!$AR$16:$AT$205,2,0)))","v":""},null,{"$f":"IF(B22=\"\",\"\",IF(ISERROR(VLOOKUP(B22,ｴﾝﾄﾘｰ票!$AX$16:$AZ$205,1,0)),\"\",VLOOKUP(B22,ｴﾝﾄﾘｰ票!$AX$16:$AZ$205,2,0)))","v":""}]
[14,{"$f":"IF(ISERROR(VLOOKUP(A23*10-9+2000,ｴﾝﾄﾘｰ票!C$15:AI$215,3,0)),\"\",VLOOKUP(A23*10-9+2000,ｴﾝﾄﾘｰ票!C$15:AI$215,3,0))","v":""},{"$f":"IF(B23=\"\",\"\",CONCATENATE(VLOOKUP(B23,ｴﾝﾄﾘｰ票!$E$16:$L$215,2,0),\"　\",VLOOKUP(B23,ｴﾝﾄﾘｰ票!$E$16:$L$215,3,0)))","v":""},null,null,null,null,{"$f":"IF(B23=\"\",\"\",VLOOKUP(B23,ｴﾝﾄﾘｰ票!$E$16:$L$215,6,0))","v":""},null,{"$f":"IF(B23=\"\",\"\",IF(VLOOKUP(B23,ｴﾝﾄﾘｰ票!$E$16:$Y$215,10,0)=\"\",\"\",VLOOKUP(B23,ｴﾝﾄﾘｰ票!$E$16:$Y$215,10,0)))","v":""},null,{"$f":"IF(B23=\"\",\"\",IF(VLOOKUP(B23,ｴﾝﾄﾘｰ票!$E$16:$Y$215,14,0)=\"\",\"\",VLOOKUP(B23,ｴﾝﾄﾘｰ票!$E$16:$Y$215,14,0)))","v":""},null,{"$f":"IF(B23=\"\",\"\",IF(VLOOKUP(B23,ｴﾝﾄﾘｰ票!$E$16:$Y$215,18,0)=\"\",\"\",VLOOKUP(B23,ｴﾝﾄﾘｰ票!$E$16:$Y$215,18,0)))","v":""},{"$f":"IF(B23=\"\",\"\",IF(ISERROR(VLOOKUP(B23,ｴﾝﾄﾘｰ票!$AR$16:$AT$205,1,0)),\"\",VLOOKUP(B23,ｴﾝﾄﾘｰ票!$AR$16:$AT$205,2,0)))","v":""},null,{"$f":"IF(B23=\"\",\"\",IF(ISERROR(VLOOKUP(B23,ｴﾝﾄﾘｰ票!$AX$16:$AZ$205,1,0)),\"\",VLOOKUP(B23,ｴﾝﾄﾘｰ票!$AX$16:$AZ$205,2,0)))","v":""}]
[15,{"$f":"IF(ISERROR(VLOOKUP(A24*10-9+2000,ｴﾝﾄﾘｰ票!C$15:AI$215,3,0)),\"\",VLOOKUP(A24*10-9+2000,ｴﾝﾄﾘｰ票!C$15:AI$215,3,0))","v":""},{"$f":"IF(B24=\"\",\"\",CONCATENATE(VLOOKUP(B24,ｴﾝﾄﾘｰ票!$E$16:$L$215,2,0),\"　\",VLOOKUP(B24,ｴﾝﾄﾘｰ票!$E$16:$L$215,3,0)))","v":""},null,null,null,null,{"$f":"IF(B24=\"\",\"\",VLOOKUP(B24,ｴﾝﾄﾘｰ票!$E$16:$L$215,6,0))","v":""},null,{"$f":"IF(B24=\"\",\"\",IF(VLOOKUP(B24,ｴﾝﾄﾘｰ票!$E$16:$Y$215,10,0)=\"\",\"\",VLOOKUP(B24,ｴﾝﾄﾘｰ票!$E$16:$Y$215,10,0)))","v":""},null,{"$f":"IF(B24=\"\",\"\",IF(VLOOKUP(B24,ｴﾝﾄﾘｰ票!$E$16:$Y$215,14,0)=\"\",\"\",VLOOKUP(B24,ｴﾝﾄﾘｰ票!$E$16:$Y$215,14,0)))","v":""},null,{"$f":"IF(B24=\"\",\"\",IF(VLOOKUP(B24,ｴﾝﾄﾘｰ票!$E$16:$Y$215,18,0)=\"\",\"\",VLOOKUP(B24,ｴﾝﾄﾘｰ票!$E$16:$Y$215,18,0)))","v":""},{"$f":"IF(B24=\"\",\"\",IF(ISERROR(VLOOKUP(B24,ｴﾝﾄﾘｰ票!$AR$16:$AT$205,1,0)),\"\",VLOOKUP(B24,ｴﾝﾄﾘｰ票!$AR$16:$AT$205,2,0)))","v":""},null,{"$f":"IF(B24=\"\",\"\",IF(ISERROR(VLOOKUP(B24,ｴﾝﾄﾘｰ票!$AX$16:$AZ$205,1,0)),\"\",VLOOKUP(B24,ｴﾝﾄﾘｰ票!$AX$16:$AZ$205,2,0)))","v":""}]
[16,{"$f":"IF(ISERROR(VLOOKUP(A25*10-9+2000,ｴﾝﾄﾘｰ票!C$15:AI$215,3,0)),\"\",VLOOKUP(A25*10-9+2000,ｴﾝﾄﾘｰ票!C$15:AI$215,3,0))","v":""},{"$f":"IF(B25=\"\",\"\",CONCATENATE(VLOOKUP(B25,ｴﾝﾄﾘｰ票!$E$16:$L$215,2,0),\"　\",VLOOKUP(B25,ｴﾝﾄﾘｰ票!$E$16:$L$215,3,0)))","v":""},null,null,null,null,{"$f":"IF(B25=\"\",\"\",VLOOKUP(B25,ｴﾝﾄﾘｰ票!$E$16:$L$215,6,0))","v":""},null,{"$f":"IF(B25=\"\",\"\",IF(VLOOKUP(B25,ｴﾝﾄﾘｰ票!$E$16:$Y$215,10,0)=\"\",\"\",VLOOKUP(B25,ｴﾝﾄﾘｰ票!$E$16:$Y$215,10,0)))","v":""},null,{"$f":"IF(B25=\"\",\"\",IF(VLOOKUP(B25,ｴﾝﾄﾘｰ票!$E$16:$Y$215,14,0)=\"\",\"\",VLOOKUP(B25,ｴﾝﾄﾘｰ票!$E$16:$Y$215,14,0)))","v":""},null,{"$f":"IF(B25=\"\",\"\",IF(VLOOKUP(B25,ｴﾝﾄﾘｰ票!$E$16:$Y$215,18,0)=\"\",\"\",VLOOKUP(B25,ｴﾝﾄﾘｰ票!$E$16:$Y$215,18,0)))","v":""},{"$f":"IF(B25=\"\",\"\",IF(ISERROR(VLOOKUP(B25,ｴﾝﾄﾘｰ票!$AR$16:$AT$205,1,0)),\"\",VLOOKUP(B25,ｴﾝﾄﾘｰ票!$AR$16:$AT$205,2,0)))","v":""},null,{"$f":"IF(B25=\"\",\"\",IF(ISERROR(VLOOKUP(B25,ｴﾝﾄﾘｰ票!$AX$16:$AZ$205,1,0)),\"\",VLOOKUP(B25,ｴﾝﾄﾘｰ票!$AX$16:$AZ$205,2,0)))","v":""}]
[17,{"$f":"IF(ISERROR(VLOOKUP(A26*10-9+2000,ｴﾝﾄﾘｰ票!C$15:AI$215,3,0)),\"\",VLOOKUP(A26*10-9+2000,ｴﾝﾄﾘｰ票!C$15:AI$215,3,0))","v":""},{"$f":"IF(B26=\"\",\"\",CONCATENATE(VLOOKUP(B26,ｴﾝﾄﾘｰ票!$E$16:$L$215,2,0),\"　\",VLOOKUP(B26,ｴﾝﾄﾘｰ票!$E$16:$L$215,3,0)))","v":""},null,null,null,null,{"$f":"IF(B26=\"\",\"\",VLOOKUP(B26,ｴﾝﾄﾘｰ票!$E$16:$L$215,6,0))","v":""},null,{"$f":"IF(B26=\"\",\"\",IF(VLOOKUP(B26,ｴﾝﾄﾘｰ票!$E$16:$Y$215,10,0)=\"\",\"\",VLOOKUP(B26,ｴﾝﾄﾘｰ票!$E$16:$Y$215,10,0)))","v":""},null,{"$f":"IF(B26=\"\",\"\",IF(VLOOKUP(B26,ｴﾝﾄﾘｰ票!$E$16:$Y$215,14,0)=\"\",\"\",VLOOKUP(B26,ｴﾝﾄﾘｰ票!$E$16:$Y$215,14,0)))","v":""},null,{"$f":"IF(B26=\"\",\"\",IF(VLOOKUP(B26,ｴﾝﾄﾘｰ票!$E$16:$Y$215,18,0)=\"\",\"\",VLOOKUP(B26,ｴﾝﾄﾘｰ票!$E$16:$Y$215,18,0)))","v":""},{"$f":"IF(B26=\"\",\"\",IF(ISERROR(VLOOKUP(B26,ｴﾝﾄﾘｰ票!$AR$16:$AT$205,1,0)),\"\",VLOOKUP(B26,ｴﾝﾄﾘｰ票!$AR$16:$AT$205,2,0)))","v":""},null,{"$f":"IF(B26=\"\",\"\",IF(ISERROR(VLOOKUP(B26,ｴﾝﾄﾘｰ票!$AX$16:$AZ$205,1,0)),\"\",VLOOKUP(B26,ｴﾝﾄﾘｰ票!$AX$16:$AZ$205,2,0)))","v":""}]
[18,{"$f":"IF(ISERROR(VLOOKUP(A27*10-9+2000,ｴﾝﾄﾘｰ票!C$15:AI$215,3,0)),\"\",VLOOKUP(A27*10-9+2000,ｴﾝﾄﾘｰ票!C$15:AI$215,3,0))","v":""},{"$f":"IF(B27=\"\",\"\",CONCATENATE(VLOOKUP(B27,ｴﾝﾄﾘｰ票!$E$16:$L$215,2,0),\"　\",VLOOKUP(B27,ｴﾝﾄﾘｰ票!$E$16:$L$215,3,0)))","v":""},null,null,null,null,{"$f":"IF(B27=\"\",\"\",VLOOKUP(B27,ｴﾝﾄﾘｰ票!$E$16:$L$215,6,0))","v":""},null,{"$f":"IF(B27=\"\",\"\",IF(VLOOKUP(B27,ｴﾝﾄﾘｰ票!$E$16:$Y$215,10,0)=\"\",\"\",VLOOKUP(B27,ｴﾝﾄﾘｰ票!$E$16:$Y$215,10,0)))","v":""},null,{"$f":"IF(B27=\"\",\"\",IF(VLOOKUP(B27,ｴﾝﾄﾘｰ票!$E$16:$Y$215,14,0)=\"\",\"\",VLOOKUP(B27,ｴﾝﾄﾘｰ票!$E$16:$Y$215,14,0)))","v":""},null,{"$f":"IF(B27=\"\",\"\",IF(VLOOKUP(B27,ｴﾝﾄﾘｰ票!$E$16:$Y$215,18,0)=\"\",\"\",VLOOKUP(B27,ｴﾝﾄﾘｰ票!$E$16:$Y$215,18,0)))","v":""},{"$f":"IF(B27=\"\",\"\",IF(ISERROR(VLOOKUP(B27,ｴﾝﾄﾘｰ票!$AR$16:$AT$205,1,0)),\"\",VLOOKUP(B27,ｴﾝﾄﾘｰ票!$AR$16:$AT$205,2,0)))","v":""},null,{"$f":"IF(B27=\"\",\"\",IF(ISERROR(VLOOKUP(B27,ｴﾝﾄﾘｰ票!$AX$16:$AZ$205,1,0)),\"\",VLOOKUP(B27,ｴﾝﾄﾘｰ票!$AX$16:$AZ$205,2,0)))","v":""}]
[19,{"$f":"IF(ISERROR(VLOOKUP(A28*10-9+2000,ｴﾝﾄﾘｰ票!C$15:AI$215,3,0)),\"\",VLOOKUP(A28*10-9+2000,ｴﾝﾄﾘｰ票!C$15:AI$215,3,0))","v":""},{"$f":"IF(B28=\"\",\"\",CONCATENATE(VLOOKUP(B28,ｴﾝﾄﾘｰ票!$E$16:$L$215,2,0),\"　\",VLOOKUP(B28,ｴﾝﾄﾘｰ票!$E$16:$L$215,3,0)))","v":""},null,null,null,null,{"$f":"IF(B28=\"\",\"\",VLOOKUP(B28,ｴﾝﾄﾘｰ票!$E$16:$L$215,6,0))","v":""},null,{"$f":"IF(B28=\"\",\"\",IF(VLOOKUP(B28,ｴﾝﾄﾘｰ票!$E$16:$Y$215,10,0)=\"\",\"\",VLOOKUP(B28,ｴﾝﾄﾘｰ票!$E$16:$Y$215,10,0)))","v":""},null,{"$f":"IF(B28=\"\",\"\",IF(VLOOKUP(B28,ｴﾝﾄﾘｰ票!$E$16:$Y$215,14,0)=\"\",\"\",VLOOKUP(B28,ｴﾝﾄﾘｰ票!$E$16:$Y$215,14,0)))","v":""},null,{"$f":"IF(B28=\"\",\"\",IF(VLOOKUP(B28,ｴﾝﾄﾘｰ票!$E$16:$Y$215,18,0)=\"\",\"\",VLOOKUP(B28,ｴﾝﾄﾘｰ票!$E$16:$Y$215,18,0)))","v":""},{"$f":"IF(B28=\"\",\"\",IF(ISERROR(VLOOKUP(B28,ｴﾝﾄﾘｰ票!$AR$16:$AT$205,1,0)),\"\",VLOOKUP(B28,ｴﾝﾄﾘｰ票!$AR$16:$AT$205,2,0)))","v":""},null,{"$f":"IF(B28=\"\",\"\",IF(ISERROR(VLOOKUP(B28,ｴﾝﾄﾘｰ票!$AX$16:$AZ$205,1,0)),\"\",VLOOKUP(B28,ｴﾝﾄﾘｰ票!$AX$16:$AZ$205,2,0)))","v":""}]
[20,{"$f":"IF(ISERROR(VLOOKUP(A29*10-9+2000,ｴﾝﾄﾘｰ票!C$15:AI$215,3,0)),\"\",VLOOKUP(A29*10-9+2000,ｴﾝﾄﾘｰ票!C$15:AI$215,3,0))","v":""},{"$f":"IF(B29=\"\",\"\",CONCATENATE(VLOOKUP(B29,ｴﾝﾄﾘｰ票!$E$16:$L$215,2,0),\"　\",VLOOKUP(B29,ｴﾝﾄﾘｰ票!$E$16:$L$215,3,0)))","v":""},null,null,null,null,{"$f":"IF(B29=\"\",\"\",VLOOKUP(B29,ｴﾝﾄﾘｰ票!$E$16:$L$215,6,0))","v":""},null,{"$f":"IF(B29=\"\",\"\",IF(VLOOKUP(B29,ｴﾝﾄﾘｰ票!$E$16:$Y$215,10,0)=\"\",\"\",VLOOKUP(B29,ｴﾝﾄﾘｰ票!$E$16:$Y$215,10,0)))","v":""},null,{"$f":"IF(B29=\"\",\"\",IF(VLOOKUP(B29,ｴﾝﾄﾘｰ票!$E$16:$Y$215,14,0)=\"\",\"\",VLOOKUP(B29,ｴﾝﾄﾘｰ票!$E$16:$Y$215,14,0)))","v":""},null,{"$f":"IF(B29=\"\",\"\",IF(VLOOKUP(B29,ｴﾝﾄﾘｰ票!$E$16:$Y$215,18,0)=\"\",\"\",VLOOKUP(B29,ｴﾝﾄﾘｰ票!$E$16:$Y$215,18,0)))","v":""},{"$f":"IF(B29=\"\",\"\",IF(ISERROR(VLOOKUP(B29,ｴﾝﾄﾘｰ票!$AR$16:$AT$205,1,0)),\"\",VLOOKUP(B29,ｴﾝﾄﾘｰ票!$AR$16:$AT$205,2,0)))","v":""},null,{"$f":"IF(B29=\"\",\"\",IF(ISERROR(VLOOKUP(B29,ｴﾝﾄﾘｰ票!$AX$16:$AZ$205,1,0)),\"\",VLOOKUP(B29,ｴﾝﾄﾘｰ票!$AX$16:$AZ$205,2,0)))","v":""}]
[21,{"$f":"IF(ISERROR(VLOOKUP(A30*10-9+2000,ｴﾝﾄﾘｰ票!C$15:AI$215,3,0)),\"\",VLOOKUP(A30*10-9+2000,ｴﾝﾄﾘｰ票!C$15:AI$215,3,0))","v":""},{"$f":"IF(B30=\"\",\"\",CONCATENATE(VLOOKUP(B30,ｴﾝﾄﾘｰ票!$E$16:$L$215,2,0),\"　\",VLOOKUP(B30,ｴﾝﾄﾘｰ票!$E$16:$L$215,3,0)))","v":""},null,null,null,null,{"$f":"IF(B30=\"\",\"\",VLOOKUP(B30,ｴﾝﾄﾘｰ票!$E$16:$L$215,6,0))","v":""},null,{"$f":"IF(B30=\"\",\"\",IF(VLOOKUP(B30,ｴﾝﾄﾘｰ票!$E$16:$Y$215,10,0)=\"\",\"\",VLOOKUP(B30,ｴﾝﾄﾘｰ票!$E$16:$Y$215,10,0)))","v":""},null,{"$f":"IF(B30=\"\",\"\",IF(VLOOKUP(B30,ｴﾝﾄﾘｰ票!$E$16:$Y$215,14,0)=\"\",\"\",VLOOKUP(B30,ｴﾝﾄﾘｰ票!$E$16:$Y$215,14,0)))","v":""},null,{"$f":"IF(B30=\"\",\"\",IF(VLOOKUP(B30,ｴﾝﾄﾘｰ票!$E$16:$Y$215,18,0)=\"\",\"\",VLOOKUP(B30,ｴﾝﾄﾘｰ票!$E$16:$Y$215,18,0)))","v":""},{"$f":"IF(B30=\"\",\"\",IF(ISERROR(VLOOKUP(B30,ｴﾝﾄﾘｰ票!$AR$16:$AT$205,1,0)),\"\",VLOOKUP(B30,ｴﾝﾄﾘｰ票!$AR$16:$AT$205,2,0)))","v":""},null,{"$f":"IF(B30=\"\",\"\",IF(ISERROR(VLOOKUP(B30,ｴﾝﾄﾘｰ票!$AX$16:$AZ$205,1,0)),\"\",VLOOKUP(B30,ｴﾝﾄﾘｰ票!$AX$16:$AZ$205,2,0)))","v":""}]
[22,{"$f":"IF(ISERROR(VLOOKUP(A31*10-9+2000,ｴﾝﾄﾘｰ票!C$15:AI$215,3,0)),\"\",VLOOKUP(A31*10-9+2000,ｴﾝﾄﾘｰ票!C$15:AI$215,3,0))","v":""},{"$f":"IF(B31=\"\",\"\",CONCATENATE(VLOOKUP(B31,ｴﾝﾄﾘｰ票!$E$16:$L$215,2,0),\"　\",VLOOKUP(B31,ｴﾝﾄﾘｰ票!$E$16:$L$215,3,0)))","v":""},null,null,null,null,{"$f":"IF(B31=\"\",\"\",VLOOKUP(B31,ｴﾝﾄﾘｰ票!$E$16:$L$215,6,0))","v":""},null,{"$f":"IF(B31=\"\",\"\",IF(VLOOKUP(B31,ｴﾝﾄﾘｰ票!$E$16:$Y$215,10,0)=\"\",\"\",VLOOKUP(B31,ｴﾝﾄﾘｰ票!$E$16:$Y$215,10,0)))","v":""},null,{"$f":"IF(B31=\"\",\"\",IF(VLOOKUP(B31,ｴﾝﾄﾘｰ票!$E$16:$Y$215,14,0)=\"\",\"\",VLOOKUP(B31,ｴﾝﾄﾘｰ票!$E$16:$Y$215,14,0)))","v":""},null,{"$f":"IF(B31=\"\",\"\",IF(VLOOKUP(B31,ｴﾝﾄﾘｰ票!$E$16:$Y$215,18,0)=\"\",\"\",VLOOKUP(B31,ｴﾝﾄﾘｰ票!$E$16:$Y$215,18,0)))","v":""},{"$f":"IF(B31=\"\",\"\",IF(ISERROR(VLOOKUP(B31,ｴﾝﾄﾘｰ票!$AR$16:$AT$205,1,0)),\"\",VLOOKUP(B31,ｴﾝﾄﾘｰ票!$AR$16:$AT$205,2,0)))","v":""},null,{"$f":"IF(B31=\"\",\"\",IF(ISERROR(VLOOKUP(B31,ｴﾝﾄﾘｰ票!$AX$16:$AZ$205,1,0)),\"\",VLOOKUP(B31,ｴﾝﾄﾘｰ票!$AX$16:$AZ$205,2,0)))","v":""}]
[23,{"$f":"IF(ISERROR(VLOOKUP(A32*10-9+2000,ｴﾝﾄﾘｰ票!C$15:AI$215,3,0)),\"\",VLOOKUP(A32*10-9+2000,ｴﾝﾄﾘｰ票!C$15:AI$215,3,0))","v":""},{"$f":"IF(B32=\"\",\"\",CONCATENATE(VLOOKUP(B32,ｴﾝﾄﾘｰ票!$E$16:$L$215,2,0),\"　\",VLOOKUP(B32,ｴﾝﾄﾘｰ票!$E$16:$L$215,3,0)))","v":""},null,null,null,null,{"$f":"IF(B32=\"\",\"\",VLOOKUP(B32,ｴﾝﾄﾘｰ票!$E$16:$L$215,6,0))","v":""},null,{"$f":"IF(B32=\"\",\"\",IF(VLOOKUP(B32,ｴﾝﾄﾘｰ票!$E$16:$Y$215,10,0)=\"\",\"\",VLOOKUP(B32,ｴﾝﾄﾘｰ票!$E$16:$Y$215,10,0)))","v":""},null,{"$f":"IF(B32=\"\",\"\",IF(VLOOKUP(B32,ｴﾝﾄﾘｰ票!$E$16:$Y$215,14,0)=\"\",\"\",VLOOKUP(B32,ｴﾝﾄﾘｰ票!$E$16:$Y$215,14,0)))","v":""},null,{"$f":"IF(B32=\"\",\"\",IF(VLOOKUP(B32,ｴﾝﾄﾘｰ票!$E$16:$Y$215,18,0)=\"\",\"\",VLOOKUP(B32,ｴﾝﾄﾘｰ票!$E$16:$Y$215,18,0)))","v":""},{"$f":"IF(B32=\"\",\"\",IF(ISERROR(VLOOKUP(B32,ｴﾝﾄﾘｰ票!$AR$16:$AT$205,1,0)),\"\",VLOOKUP(B32,ｴﾝﾄﾘｰ票!$AR$16:$AT$205,2,0)))","v":""},null,{"$f":"IF(B32=\"\",\"\",IF(ISERROR(VLOOKUP(B32,ｴﾝﾄﾘｰ票!$AX$16:$AZ$205,1,0)),\"\",VLOOKUP(B32,ｴﾝﾄﾘｰ票!$AX$16:$AZ$205,2,0)))","v":""}]
[24,{"$f":"IF(ISERROR(VLOOKUP(A33*10-9+2000,ｴﾝﾄﾘｰ票!C$15:AI$215,3,0)),\"\",VLOOKUP(A33*10-9+2000,ｴﾝﾄﾘｰ票!C$15:AI$215,3,0))","v":""},{"$f":"IF(B33=\"\",\"\",CONCATENATE(VLOOKUP(B33,ｴﾝﾄﾘｰ票!$E$16:$L$215,2,0),\"　\",VLOOKUP(B33,ｴﾝﾄﾘｰ票!$E$16:$L$215,3,0)))","v":""},null,null,null,null,{"$f":"IF(B33=\"\",\"\",VLOOKUP(B33,ｴﾝﾄﾘｰ票!$E$16:$L$215,6,0))","v":""},null,{"$f":"IF(B33=\"\",\"\",IF(VLOOKUP(B33,ｴﾝﾄﾘｰ票!$E$16:$Y$215,10,0)=\"\",\"\",VLOOKUP(B33,ｴﾝﾄﾘｰ票!$E$16:$Y$215,10,0)))","v":""},null,{"$f":"IF(B33=\"\",\"\",IF(VLOOKUP(B33,ｴﾝﾄﾘｰ票!$E$16:$Y$215,14,0)=\"\",\"\",VLOOKUP(B33,ｴﾝﾄﾘｰ票!$E$16:$Y$215,14,0)))","v":""},null,{"$f":"IF(B33=\"\",\"\",IF(VLOOKUP(B33,ｴﾝﾄﾘｰ票!$E$16:$Y$215,18,0)=\"\",\"\",VLOOKUP(B33,ｴﾝﾄﾘｰ票!$E$16:$Y$215,18,0)))","v":""},{"$f":"IF(B33=\"\",\"\",IF(ISERROR(VLOOKUP(B33,ｴﾝﾄﾘｰ票!$AR$16:$AT$205,1,0)),\"\",VLOOKUP(B33,ｴﾝﾄﾘｰ票!$AR$16:$AT$205,2,0)))","v":""},null,{"$f":"IF(B33=\"\",\"\",IF(ISERROR(VLOOKUP(B33,ｴﾝﾄﾘｰ票!$AX$16:$AZ$205,1,0)),\"\",VLOOKUP(B33,ｴﾝﾄﾘｰ票!$AX$16:$AZ$205,2,0)))","v":""}]
[25,{"$f":"IF(ISERROR(VLOOKUP(A34*10-9+2000,ｴﾝﾄﾘｰ票!C$15:AI$215,3,0)),\"\",VLOOKUP(A34*10-9+2000,ｴﾝﾄﾘｰ票!C$15:AI$215,3,0))","v":""},{"$f":"IF(B34=\"\",\"\",CONCATENATE(VLOOKUP(B34,ｴﾝﾄﾘｰ票!$E$16:$L$215,2,0),\"　\",VLOOKUP(B34,ｴﾝﾄﾘｰ票!$E$16:$L$215,3,0)))","v":""},null,null,null,null,{"$f":"IF(B34=\"\",\"\",VLOOKUP(B34,ｴﾝﾄﾘｰ票!$E$16:$L$215,6,0))","v":""},null,{"$f":"IF(B34=\"\",\"\",IF(VLOOKUP(B34,ｴﾝﾄﾘｰ票!$E$16:$Y$215,10,0)=\"\",\"\",VLOOKUP(B34,ｴﾝﾄﾘｰ票!$E$16:$Y$215,10,0)))","v":""},null,{"$f":"IF(B34=\"\",\"\",IF(VLOOKUP(B34,ｴﾝﾄﾘｰ票!$E$16:$Y$215,14,0)=\"\",\"\",VLOOKUP(B34,ｴﾝﾄﾘｰ票!$E$16:$Y$215,14,0)))","v":""},null,{"$f":"IF(B34=\"\",\"\",IF(VLOOKUP(B34,ｴﾝﾄﾘｰ票!$E$16:$Y$215,18,0)=\"\",\"\",VLOOKUP(B34,ｴﾝﾄﾘｰ票!$E$16:$Y$215,18,0)))","v":""},{"$f":"IF(B34=\"\",\"\",IF(ISERROR(VLOOKUP(B34,ｴﾝﾄﾘｰ票!$AR$16:$AT$205,1,0)),\"\",VLOOKUP(B34,ｴﾝﾄﾘｰ票!$AR$16:$AT$205,2,0)))","v":""},null,{"$f":"IF(B34=\"\",\"\",IF(ISERROR(VLOOKUP(B34,ｴﾝﾄﾘｰ票!$AX$16:$AZ$205,1,0)),\"\",VLOOKUP(B34,ｴﾝﾄﾘｰ票!$AX$16:$AZ$205,2,0)))","v":""}]
[26,{"$f":"IF(ISERROR(VLOOKUP(A35*10-9+2000,ｴﾝﾄﾘｰ票!C$15:AI$215,3,0)),\"\",VLOOKUP(A35*10-9+2000,ｴﾝﾄﾘｰ票!C$15:AI$215,3,0))","v":""},{"$f":"IF(B35=\"\",\"\",CONCATENATE(VLOOKUP(B35,ｴﾝﾄﾘｰ票!$E$16:$L$215,2,0),\"　\",VLOOKUP(B35,ｴﾝﾄﾘｰ票!$E$16:$L$215,3,0)))","v":""},null,null,null,null,{"$f":"IF(B35=\"\",\"\",VLOOKUP(B35,ｴﾝﾄﾘｰ票!$E$16:$L$215,6,0))","v":""},null,{"$f":"IF(B35=\"\",\"\",IF(VLOOKUP(B35,ｴﾝﾄﾘｰ票!$E$16:$Y$215,10,0)=\"\",\"\",VLOOKUP(B35,ｴﾝﾄﾘｰ票!$E$16:$Y$215,10,0)))","v":""},null,{"$f":"IF(B35=\"\",\"\",IF(VLOOKUP(B35,ｴﾝﾄﾘｰ票!$E$16:$Y$215,14,0)=\"\",\"\",VLOOKUP(B35,ｴﾝﾄﾘｰ票!$E$16:$Y$215,14,0)))","v":""},null,{"$f":"IF(B35=\"\",\"\",IF(VLOOKUP(B35,ｴﾝﾄﾘｰ票!$E$16:$Y$215,18,0)=\"\",\"\",VLOOKUP(B35,ｴﾝﾄﾘｰ票!$E$16:$Y$215,18,0)))","v":""},{"$f":"IF(B35=\"\",\"\",IF(ISERROR(VLOOKUP(B35,ｴﾝﾄﾘｰ票!$AR$16:$AT$205,1,0)),\"\",VLOOKUP(B35,ｴﾝﾄﾘｰ票!$AR$16:$AT$205,2,0)))","v":""},null,{"$f":"IF(B35=\"\",\"\",IF(ISERROR(VLOOKUP(B35,ｴﾝﾄﾘｰ票!$AX$16:$AZ$205,1,0)),\"\",VLOOKUP(B35,ｴﾝﾄﾘｰ票!$AX$16:$AZ$205,2,0)))","v":""}]
[27,{"$f":"IF(ISERROR(VLOOKUP(A36*10-9+2000,ｴﾝﾄﾘｰ票!C$15:AI$215,3,0)),\"\",VLOOKUP(A36*10-9+2000,ｴﾝﾄﾘｰ票!C$15:AI$215,3,0))","v":""},{"$f":"IF(B36=\"\",\"\",CONCATENATE(VLOOKUP(B36,ｴﾝﾄﾘｰ票!$E$16:$L$215,2,0),\"　\",VLOOKUP(B36,ｴﾝﾄﾘｰ票!$E$16:$L$215,3,0)))","v":""},null,null,null,null,{"$f":"IF(B36=\"\",\"\",VLOOKUP(B36,ｴﾝﾄﾘｰ票!$E$16:$L$215,6,0))","v":""},null,{"$f":"IF(B36=\"\",\"\",IF(VLOOKUP(B36,ｴﾝﾄﾘｰ票!$E$16:$Y$215,10,0)=\"\",\"\",VLOOKUP(B36,ｴﾝﾄﾘｰ票!$E$16:$Y$215,10,0)))","v":""},null,{"$f":"IF(B36=\"\",\"\",IF(VLOOKUP(B36,ｴﾝﾄﾘｰ票!$E$16:$Y$215,14,0)=\"\",\"\",VLOOKUP(B36,ｴﾝﾄﾘｰ票!$E$16:$Y$215,14,0)))","v":""},null,{"$f":"IF(B36=\"\",\"\",IF(VLOOKUP(B36,ｴﾝﾄﾘｰ票!$E$16:$Y$215,18,0)=\"\",\"\",VLOOKUP(B36,ｴﾝﾄﾘｰ票!$E$16:$Y$215,18,0)))","v":""},{"$f":"IF(B36=\"\",\"\",IF(ISERROR(VLOOKUP(B36,ｴﾝﾄﾘｰ票!$AR$16:$AT$205,1,0)),\"\",VLOOKUP(B36,ｴﾝﾄﾘｰ票!$AR$16:$AT$205,2,0)))","v":""},null,{"$f":"IF(B36=\"\",\"\",IF(ISERROR(VLOOKUP(B36,ｴﾝﾄﾘｰ票!$AX$16:$AZ$205,1,0)),\"\",VLOOKUP(B36,ｴﾝﾄﾘｰ票!$AX$16:$AZ$205,2,0)))","v":""}]
[28,{"$f":"IF(ISERROR(VLOOKUP(A37*10-9+2000,ｴﾝﾄﾘｰ票!C$15:AI$215,3,0)),\"\",VLOOKUP(A37*10-9+2000,ｴﾝﾄﾘｰ票!C$15:AI$215,3,0))","v":""},{"$f":"IF(B37=\"\",\"\",CONCATENATE(VLOOKUP(B37,ｴﾝﾄﾘｰ票!$E$16:$L$215,2,0),\"　\",VLOOKUP(B37,ｴﾝﾄﾘｰ票!$E$16:$L$215,3,0)))","v":""},null,null,null,null,{"$f":"IF(B37=\"\",\"\",VLOOKUP(B37,ｴﾝﾄﾘｰ票!$E$16:$L$215,6,0))","v":""},null,{"$f":"IF(B37=\"\",\"\",IF(VLOOKUP(B37,ｴﾝﾄﾘｰ票!$E$16:$Y$215,10,0)=\"\",\"\",VLOOKUP(B37,ｴﾝﾄﾘｰ票!$E$16:$Y$215,10,0)))","v":""},null,{"$f":"IF(B37=\"\",\"\",IF(VLOOKUP(B37,ｴﾝﾄﾘｰ票!$E$16:$Y$215,14,0)=\"\",\"\",VLOOKUP(B37,ｴﾝﾄﾘｰ票!$E$16:$Y$215,14,0)))","v":""},null,{"$f":"IF(B37=\"\",\"\",IF(VLOOKUP(B37,ｴﾝﾄﾘｰ票!$E$16:$Y$215,18,0)=\"\",\"\",VLOOKUP(B37,ｴﾝﾄﾘｰ票!$E$16:$Y$215,18,0)))","v":""},{"$f":"IF(B37=\"\",\"\",IF(ISERROR(VLOOKUP(B37,ｴﾝﾄﾘｰ票!$AR$16:$AT$205,1,0)),\"\",VLOOKUP(B37,ｴﾝﾄﾘｰ票!$AR$16:$AT$205,2,0)))","v":""},null,{"$f":"IF(B37=\"\",\"\",IF(ISERROR(VLOOKUP(B37,ｴﾝﾄﾘｰ票!$AX$16:$AZ$205,1,0)),\"\",VLOOKUP(B37,ｴﾝﾄﾘｰ票!$AX$16:$AZ$205,2,0)))","v":""}]
[29,{"$f":"IF(ISERROR(VLOOKUP(A38*10-9+2000,ｴﾝﾄﾘｰ票!C$15:AI$215,3,0)),\"\",VLOOKUP(A38*10-9+2000,ｴﾝﾄﾘｰ票!C$15:AI$215,3,0))","v":""},{"$f":"IF(B38=\"\",\"\",CONCATENATE(VLOOKUP(B38,ｴﾝﾄﾘｰ票!$E$16:$L$215,2,0),\"　\",VLOOKUP(B38,ｴﾝﾄﾘｰ票!$E$16:$L$215,3,0)))","v":""},null,null,null,null,{"$f":"IF(B38=\"\",\"\",VLOOKUP(B38,ｴﾝﾄﾘｰ票!$E$16:$L$215,6,0))","v":""},null,{"$f":"IF(B38=\"\",\"\",IF(VLOOKUP(B38,ｴﾝﾄﾘｰ票!$E$16:$Y$215,10,0)=\"\",\"\",VLOOKUP(B38,ｴﾝﾄﾘｰ票!$E$16:$Y$215,10,0)))","v":""},null,{"$f":"IF(B38=\"\",\"\",IF(VLOOKUP(B38,ｴﾝﾄﾘｰ票!$E$16:$Y$215,14,0)=\"\",\"\",VLOOKUP(B38,ｴﾝﾄﾘｰ票!$E$16:$Y$215,14,0)))","v":""},null,{"$f":"IF(B38=\"\",\"\",IF(VLOOKUP(B38,ｴﾝﾄﾘｰ票!$E$16:$Y$215,18,0)=\"\",\"\",VLOOKUP(B38,ｴﾝﾄﾘｰ票!$E$16:$Y$215,18,0)))","v":""},{"$f":"IF(B38=\"\",\"\",IF(ISERROR(VLOOKUP(B38,ｴﾝﾄﾘｰ票!$AR$16:$AT$205,1,0)),\"\",VLOOKUP(B38,ｴﾝﾄﾘｰ票!$AR$16:$AT$205,2,0)))","v":""},null,{"$f":"IF(B38=\"\",\"\",IF(ISERROR(VLOOKUP(B38,ｴﾝﾄﾘｰ票!$AX$16:$AZ$205,1,0)),\"\",VLOOKUP(B38,ｴﾝﾄﾘｰ票!$AX$16:$AZ$205,2,0)))","v":""}]
[30,{"$f":"IF(ISERROR(VLOOKUP(A39*10-9+2000,ｴﾝﾄﾘｰ票!C$15:AI$215,3,0)),\"\",VLOOKUP(A39*10-9+2000,ｴﾝﾄﾘｰ票!C$15:AI$215,3,0))","v":""},{"$f":"IF(B39=\"\",\"\",CONCATENATE(VLOOKUP(B39,ｴﾝﾄﾘｰ票!$E$16:$L$215,2,0),\"　\",VLOOKUP(B39,ｴﾝﾄﾘｰ票!$E$16:$L$215,3,0)))","v":""},null,null,null,null,{"$f":"IF(B39=\"\",\"\",VLOOKUP(B39,ｴﾝﾄﾘｰ票!$E$16:$L$215,6,0))","v":""},null,{"$f":"IF(B39=\"\",\"\",IF(VLOOKUP(B39,ｴﾝﾄﾘｰ票!$E$16:$Y$215,10,0)=\"\",\"\",VLOOKUP(B39,ｴﾝﾄﾘｰ票!$E$16:$Y$215,10,0)))","v":""},null,{"$f":"IF(B39=\"\",\"\",IF(VLOOKUP(B39,ｴﾝﾄﾘｰ票!$E$16:$Y$215,14,0)=\"\",\"\",VLOOKUP(B39,ｴﾝﾄﾘｰ票!$E$16:$Y$215,14,0)))","v":""},null,{"$f":"IF(B39=\"\",\"\",IF(VLOOKUP(B39,ｴﾝﾄﾘｰ票!$E$16:$Y$215,18,0)=\"\",\"\",VLOOKUP(B39,ｴﾝﾄﾘｰ票!$E$16:$Y$215,18,0)))","v":""},{"$f":"IF(B39=\"\",\"\",IF(ISERROR(VLOOKUP(B39,ｴﾝﾄﾘｰ票!$AR$16:$AT$205,1,0)),\"\",VLOOKUP(B39,ｴﾝﾄﾘｰ票!$AR$16:$AT$205,2,0)))","v":""},null,{"$f":"IF(B39=\"\",\"\",IF(ISERROR(VLOOKUP(B39,ｴﾝﾄﾘｰ票!$AX$16:$AZ$205,1,0)),\"\",VLOOKUP(B39,ｴﾝﾄﾘｰ票!$AX$16:$AZ$205,2,0)))","v":""}]
[]
[null,null,"個人",null,"ﾘﾚｰ",null,null,"プログラム"]
[null,null,"@600円",null,"＠1200円",null,null,"＠600円"]
[null,null,{"$f":"500-COUNTBLANK(J10:N39)-COUNTBLANK(J54:N88)-COUNTBLANK(J98:N132)","v":0},null,{"$f":"ｴﾝﾄﾘｰ票!Z11+ｴﾝﾄﾘｰ票!AA11","v":0},null,null,{"$f":"ｴﾝﾄﾘｰ票!AC11","v":0},null,null,null,"合計"]
[null,null,{"$f":"C43*600","v":0},null,null,{"$f":"E43*1200","v":0},null,{"$f":"H43*600","v":0},null,null,{"$f":"C44+F44+H44","v":0}]
[null,{"$f":"ｴﾝﾄﾘｰ票!$G$1","v":"東京高体連陸上第4支部秋季競技会1"},null,null,null,null,null,null,null,null,null,null,null,null,null,null,"申込用紙(A票）"]
[{"$f":"A2","v":"平成30年度"},null,null,null,null,null,null,null,null,null,null,null,null,null,"男子",null,"Ｎｏ．2"]
["学校名",null,{"$f":"ｴﾝﾄﾘｰ票!$G$2","v":0}]
["学校所在地",null,{"$f":"ｴﾝﾄﾘｰ票!$G$5","v":0}]
["学校長",null,{"$f":"ｴﾝﾄﾘｰ票!$G$4","v":0},null,null,null,null,null,null,"印",null,"顧問氏名",null,{"$f":"ｴﾝﾄﾘｰ票!$G$8","v":0},null,null,"印"]
["電話",null,{"$f":"ｴﾝﾄﾘｰ票!$G$6","v":"00:00:00"},null,null,null,"ＦＡＸ",{"$f":"ｴﾝﾄﾘｰ票!$G$7","v":0},null,null,null,"連絡先",null,{"$f":"ｴﾝﾄﾘｰ票!$G$9","v":0}]
[]
[null,null,null,null,null,null,null,null,null,null,null,null,null,"種目"]
[null,"番号","出場者氏名",null,null,null,null,"学年",null,"個人",null,"個人",null,"個人","4×100",null,"4×400"]
[31,{"$f":"IF(ISERROR(VLOOKUP(A54*10-9+2000,ｴﾝﾄﾘｰ票!C$15:AI$215,3,0)),\"\",VLOOKUP(A54*10-9+2000,ｴﾝﾄﾘｰ票!C$15:AI$215,3,0))","v":""},{"$f":"IF(B54=\"\",\"\",CONCATENATE(VLOOKUP(B54,ｴﾝﾄﾘｰ票!$E$16:$L$215,2,0),\"　\",VLOOKUP(B54,ｴﾝﾄﾘｰ票!$E$16:$L$215,3,0)))","v":""},null,null,null,null,{"$f":"IF(B54=\"\",\"\",VLOOKUP(B54,ｴﾝﾄﾘｰ票!$E$16:$L$215,6,0))","v":""},null,{"$f":"IF(B54=\"\",\"\",IF(VLOOKUP(B54,ｴﾝﾄﾘｰ票!$E$16:$Y$215,10,0)=\"\",\"\",VLOOKUP(B54,ｴﾝﾄﾘｰ票!$E$16:$Y$215,10,0)))","v":""},null,{"$f":"IF(B54=\"\",\"\",IF(VLOOKUP(B54,ｴﾝﾄﾘｰ票!$E$16:$Y$215,14,0)=\"\",\"\",VLOOKUP(B54,ｴﾝﾄﾘｰ票!$E$16:$Y$215,14,0)))","v":""},null,{"$f":"IF(B54=\"\",\"\",IF(VLOOKUP(B54,ｴﾝﾄﾘｰ票!$E$16:$Y$215,18,0)=\"\",\"\",VLOOKUP(B54,ｴﾝﾄﾘｰ票!$E$16:$Y$215,18,0)))","v":""},{"$f":"IF(B54=\"\",\"\",IF(ISERROR(VLOOKUP(B54,ｴﾝﾄﾘｰ票!$AR$16:$AT$205,1,0)),\"\",VLOOKUP(B54,ｴﾝﾄﾘｰ票!$AR$16:$AT$205,2,0)))","v":""},null,{"$f":"IF(B54=\"\",\"\",IF(ISERROR(VLOOKUP(B54,ｴﾝﾄﾘｰ票!$AX$16:$AZ$205,1,0)),\"\",VLOOKUP(B54,ｴﾝﾄﾘｰ票!$AX$16:$AZ$205,2,0)))","v":""}]
[32,{"$f":"IF(ISERROR(VLOOKUP(A55*10-9+2000,ｴﾝﾄﾘｰ票!C$15:AI$215,3,0)),\"\",VLOOKUP(A55*10-9+2000,ｴﾝﾄﾘｰ票!C$15:AI$215,3,0))","v":""},{"$f":"IF(B55=\"\",\"\",CONCATENATE(VLOOKUP(B55,ｴﾝﾄﾘｰ票!$E$16:$L$215,2,0),\"　\",VLOOKUP(B55,ｴﾝﾄﾘｰ票!$E$16:$L$215,3,0)))","v":""},null,null,null,null,{"$f":"IF(B55=\"\",\"\",VLOOKUP(B55,ｴﾝﾄﾘｰ票!$E$16:$L$215,6,0))","v":""},null,{"$f":"IF(B55=\"\",\"\",IF(VLOOKUP(B55,ｴﾝﾄﾘｰ票!$E$16:$Y$215,10,0)=\"\",\"\",VLOOKUP(B55,ｴﾝﾄﾘｰ票!$E$16:$Y$215,10,0)))","v":""},null,{"$f":"IF(B55=\"\",\"\",IF(VLOOKUP(B55,ｴﾝﾄﾘｰ票!$E$16:$Y$215,14,0)=\"\",\"\",VLOOKUP(B55,ｴﾝﾄﾘｰ票!$E$16:$Y$215,14,0)))","v":""},null,{"$f":"IF(B55=\"\",\"\",IF(VLOOKUP(B55,ｴﾝﾄﾘｰ票!$E$16:$Y$215,18,0)=\"\",\"\",VLOOKUP(B55,ｴﾝﾄﾘｰ票!$E$16:$Y$215,18,0)))","v":""},{"$f":"IF(B55=\"\",\"\",IF(ISERROR(VLOOKUP(B55,ｴﾝﾄﾘｰ票!$AR$16:$AT$205,1,0)),\"\",VLOOKUP(B55,ｴﾝﾄﾘｰ票!$AR$16:$AT$205,2,0)))","v":""},null,{"$f":"IF(B55=\"\",\"\",IF(ISERROR(VLOOKUP(B55,ｴﾝﾄﾘｰ票!$AX$16:$AZ$205,1,0)),\"\",VLOOKUP(B55,ｴﾝﾄﾘｰ票!$AX$16:$AZ$205,2,0)))","v":""}]
[33,{"$f":"IF(ISERROR(VLOOKUP(A56*10-9+2000,ｴﾝﾄﾘｰ票!C$15:AI$215,3,0)),\"\",VLOOKUP(A56*10-9+2000,ｴﾝﾄﾘｰ票!C$15:AI$215,3,0))","v":""},{"$f":"IF(B56=\"\",\"\",CONCATENATE(VLOOKUP(B56,ｴﾝﾄﾘｰ票!$E$16:$L$215,2,0),\"　\",VLOOKUP(B56,ｴﾝﾄﾘｰ票!$E$16:$L$215,3,0)))","v":""},null,null,null,null,{"$f":"IF(B56=\"\",\"\",VLOOKUP(B56,ｴﾝﾄﾘｰ票!$E$16:$L$215,6,0))","v":""},null,{"$f":"IF(B56=\"\",\"\",IF(VLOOKUP(B56,ｴﾝﾄﾘｰ票!$E$16:$Y$215,10,0)=\"\",\"\",VLOOKUP(B56,ｴﾝﾄﾘｰ票!$E$16:$Y$215,10,0)))","v":""},null,{"$f":"IF(B56=\"\",\"\",IF(VLOOKUP(B56,ｴﾝﾄﾘｰ票!$E$16:$Y$215,14,0)=\"\",\"\",VLOOKUP(B56,ｴﾝﾄﾘｰ票!$E$16:$Y$215,14,0)))","v":""},null,{"$f":"IF(B56=\"\",\"\",IF(VLOOKUP(B56,ｴﾝﾄﾘｰ票!$E$16:$Y$215,18,0)=\"\",\"\",VLOOKUP(B56,ｴﾝﾄﾘｰ票!$E$16:$Y$215,18,0)))","v":""},{"$f":"IF(B56=\"\",\"\",IF(ISERROR(VLOOKUP(B56,ｴﾝﾄﾘｰ票!$AR$16:$AT$205,1,0)),\"\",VLOOKUP(B56,ｴﾝﾄﾘｰ票!$AR$16:$AT$205,2,0)))","v":""},null,{"$f":"IF(B56=\"\",\"\",IF(ISERROR(VLOOKUP(B56,ｴﾝﾄﾘｰ票!$AX$16:$AZ$205,1,0)),\"\",VLOOKUP(B56,ｴﾝﾄﾘｰ票!$AX$16:$AZ$205,2,0)))","v":""}]
[34,{"$f":"IF(ISERROR(VLOOKUP(A57*10-9+2000,ｴﾝﾄﾘｰ票!C$15:AI$215,3,0)),\"\",VLOOKUP(A57*10-9+2000,ｴﾝﾄﾘｰ票!C$15:AI$215,3,0))","v":""},{"$f":"IF(B57=\"\",\"\",CONCATENATE(VLOOKUP(B57,ｴﾝﾄﾘｰ票!$E$16:$L$215,2,0),\"　\",VLOOKUP(B57,ｴﾝﾄﾘｰ票!$E$16:$L$215,3,0)))","v":""},null,null,null,null,{"$f":"IF(B57=\"\",\"\",VLOOKUP(B57,ｴﾝﾄﾘｰ票!$E$16:$L$215,6,0))","v":""},null,{"$f":"IF(B57=\"\",\"\",IF(VLOOKUP(B57,ｴﾝﾄﾘｰ票!$E$16:$Y$215,10,0)=\"\",\"\",VLOOKUP(B57,ｴﾝﾄﾘｰ票!$E$16:$Y$215,10,0)))","v":""},null,{"$f":"IF(B57=\"\",\"\",IF(VLOOKUP(B57,ｴﾝﾄﾘｰ票!$E$16:$Y$215,14,0)=\"\",\"\",VLOOKUP(B57,ｴﾝﾄﾘｰ票!$E$16:$Y$215,14,0)))","v":""},null,{"$f":"IF(B57=\"\",\"\",IF(VLOOKUP(B57,ｴﾝﾄﾘｰ票!$E$16:$Y$215,18,0)=\"\",\"\",VLOOKUP(B57,ｴﾝﾄﾘｰ票!$E$16:$Y$215,18,0)))","v":""},{"$f":"IF(B57=\"\",\"\",IF(ISERROR(VLOOKUP(B57,ｴﾝﾄﾘｰ票!$AR$16:$AT$205,1,0)),\"\",VLOOKUP(B57,ｴﾝﾄﾘｰ票!$AR$16:$AT$205,2,0)))","v":""},null,{"$f":"IF(B57=\"\",\"\",IF(ISERROR(VLOOKUP(B57,ｴﾝﾄﾘｰ票!$AX$16:$AZ$205,1,0)),\"\",VLOOKUP(B57,ｴﾝﾄﾘｰ票!$AX$16:$AZ$205,2,0)))","v":""}]
[35,{"$f":"IF(ISERROR(VLOOKUP(A58*10-9+2000,ｴﾝﾄﾘｰ票!C$15:AI$215,3,0)),\"\",VLOOKUP(A58*10-9+2000,ｴﾝﾄﾘｰ票!C$15:AI$215,3,0))","v":""},{"$f":"IF(B58=\"\",\"\",CONCATENATE(VLOOKUP(B58,ｴﾝﾄﾘｰ票!$E$16:$L$215,2,0),\"　\",VLOOKUP(B58,ｴﾝﾄﾘｰ票!$E$16:$L$215,3,0)))","v":""},null,null,null,null,{"$f":"IF(B58=\"\",\"\",VLOOKUP(B58,ｴﾝﾄﾘｰ票!$E$16:$L$215,6,0))","v":""},null,{"$f":"IF(B58=\"\",\"\",IF(VLOOKUP(B58,ｴﾝﾄﾘｰ票!$E$16:$Y$215,10,0)=\"\",\"\",VLOOKUP(B58,ｴﾝﾄﾘｰ票!$E$16:$Y$215,10,0)))","v":""},null,{"$f":"IF(B58=\"\",\"\",IF(VLOOKUP(B58,ｴﾝﾄﾘｰ票!$E$16:$Y$215,14,0)=\"\",\"\",VLOOKUP(B58,ｴﾝﾄﾘｰ票!$E$16:$Y$215,14,0)))","v":""},null,{"$f":"IF(B58=\"\",\"\",IF(VLOOKUP(B58,ｴﾝﾄﾘｰ票!$E$16:$Y$215,18,0)=\"\",\"\",VLOOKUP(B58,ｴﾝﾄﾘｰ票!$E$16:$Y$215,18,0)))","v":""},{"$f":"IF(B58=\"\",\"\",IF(ISERROR(VLOOKUP(B58,ｴﾝﾄﾘｰ票!$AR$16:$AT$205,1,0)),\"\",VLOOKUP(B58,ｴﾝﾄﾘｰ票!$AR$16:$AT$205,2,0)))","v":""},null,{"$f":"IF(B58=\"\",\"\",IF(ISERROR(VLOOKUP(B58,ｴﾝﾄﾘｰ票!$AX$16:$AZ$205,1,0)),\"\",VLOOKUP(B58,ｴﾝﾄﾘｰ票!$AX$16:$AZ$205,2,0)))","v":""}]
[36,{"$f":"IF(ISERROR(VLOOKUP(A59*10-9+2000,ｴﾝﾄﾘｰ票!C$15:AI$215,3,0)),\"\",VLOOKUP(A59*10-9+2000,ｴﾝﾄﾘｰ票!C$15:AI$215,3,0))","v":""},{"$f":"IF(B59=\"\",\"\",CONCATENATE(VLOOKUP(B59,ｴﾝﾄﾘｰ票!$E$16:$L$215,2,0),\"　\",VLOOKUP(B59,ｴﾝﾄﾘｰ票!$E$16:$L$215,3,0)))","v":""},null,null,null,null,{"$f":"IF(B59=\"\",\"\",VLOOKUP(B59,ｴﾝﾄﾘｰ票!$E$16:$L$215,6,0))","v":""},null,{"$f":"IF(B59=\"\",\"\",IF(VLOOKUP(B59,ｴﾝﾄﾘｰ票!$E$16:$Y$215,10,0)=\"\",\"\",VLOOKUP(B59,ｴﾝﾄﾘｰ票!$E$16:$Y$215,10,0)))","v":""},null,{"$f":"IF(B59=\"\",\"\",IF(VLOOKUP(B59,ｴﾝﾄﾘｰ票!$E$16:$Y$215,14,0)=\"\",\"\",VLOOKUP(B59,ｴﾝﾄﾘｰ票!$E$16:$Y$215,14,0)))","v":""},null,{"$f":"IF(B59=\"\",\"\",IF(VLOOKUP(B59,ｴﾝﾄﾘｰ票!$E$16:$Y$215,18,0)=\"\",\"\",VLOOKUP(B59,ｴﾝﾄﾘｰ票!$E$16:$Y$215,18,0)))","v":""},{"$f":"IF(B59=\"\",\"\",IF(ISERROR(VLOOKUP(B59,ｴﾝﾄﾘｰ票!$AR$16:$AT$205,1,0)),\"\",VLOOKUP(B59,ｴﾝﾄﾘｰ票!$AR$16:$AT$205,2,0)))","v":""},null,{"$f":"IF(B59=\"\",\"\",IF(ISERROR(VLOOKUP(B59,ｴﾝﾄﾘｰ票!$AX$16:$AZ$205,1,0)),\"\",VLOOKUP(B59,ｴﾝﾄﾘｰ票!$AX$16:$AZ$205,2,0)))","v":""}]
[37,{"$f":"IF(ISERROR(VLOOKUP(A60*10-9+2000,ｴﾝﾄﾘｰ票!C$15:AI$215,3,0)),\"\",VLOOKUP(A60*10-9+2000,ｴﾝﾄﾘｰ票!C$15:AI$215,3,0))","v":""},{"$f":"IF(B60=\"\",\"\",CONCATENATE(VLOOKUP(B60,ｴﾝﾄﾘｰ票!$E$16:$L$215,2,0),\"　\",VLOOKUP(B60,ｴﾝﾄﾘｰ票!$E$16:$L$215,3,0)))","v":""},null,null,null,null,{"$f":"IF(B60=\"\",\"\",VLOOKUP(B60,ｴﾝﾄﾘｰ票!$E$16:$L$215,6,0))","v":""},null,{"$f":"IF(B60=\"\",\"\",IF(VLOOKUP(B60,ｴﾝﾄﾘｰ票!$E$16:$Y$215,10,0)=\"\",\"\",VLOOKUP(B60,ｴﾝﾄﾘｰ票!$E$16:$Y$215,10,0)))","v":""},null,{"$f":"IF(B60=\"\",\"\",IF(VLOOKUP(B60,ｴﾝﾄﾘｰ票!$E$16:$Y$215,14,0)=\"\",\"\",VLOOKUP(B60,ｴﾝﾄﾘｰ票!$E$16:$Y$215,14,0)))","v":""},null,{"$f":"IF(B60=\"\",\"\",IF(VLOOKUP(B60,ｴﾝﾄﾘｰ票!$E$16:$Y$215,18,0)=\"\",\"\",VLOOKUP(B60,ｴﾝﾄﾘｰ票!$E$16:$Y$215,18,0)))","v":""},{"$f":"IF(B60=\"\",\"\",IF(ISERROR(VLOOKUP(B60,ｴﾝﾄﾘｰ票!$AR$16:$AT$205,1,0)),\"\",VLOOKUP(B60,ｴﾝﾄﾘｰ票!$AR$16:$AT$205,2,0)))","v":""},null,{"$f":"IF(B60=\"\",\"\",IF(ISERROR(VLOOKUP(B60,ｴﾝﾄﾘｰ票!$AX$16:$AZ$205,1,0)),\"\",VLOOKUP(B60,ｴﾝﾄﾘｰ票!$AX$16:$AZ$205,2,0)))","v":""}]
[38,{"$f":"IF(ISERROR(VLOOKUP(A61*10-9+2000,ｴﾝﾄﾘｰ票!C$15:AI$215,3,0)),\"\",VLOOKUP(A61*10-9+2000,ｴﾝﾄﾘｰ票!C$15:AI$215,3,0))","v":""},{"$f":"IF(B61=\"\",\"\",CONCATENATE(VLOOKUP(B61,ｴﾝﾄﾘｰ票!$E$16:$L$215,2,0),\"　\",VLOOKUP(B61,ｴﾝﾄﾘｰ票!$E$16:$L$215,3,0)))","v":""},null,null,null,null,{"$f":"IF(B61=\"\",\"\",VLOOKUP(B61,ｴﾝﾄﾘｰ票!$E$16:$L$215,6,0))","v":""},null,{"$f":"IF(B61=\"\",\"\",IF(VLOOKUP(B61,ｴﾝﾄﾘｰ票!$E$16:$Y$215,10,0)=\"\",\"\",VLOOKUP(B61,ｴﾝﾄﾘｰ票!$E$16:$Y$215,10,0)))","v":""},null,{"$f":"IF(B61=\"\",\"\",IF(VLOOKUP(B61,ｴﾝﾄﾘｰ票!$E$16:$Y$215,14,0)=\"\",\"\",VLOOKUP(B61,ｴﾝﾄﾘｰ票!$E$16:$Y$215,14,0)))","v":""},null,{"$f":"IF(B61=\"\",\"\",IF(VLOOKUP(B61,ｴﾝﾄﾘｰ票!$E$16:$Y$215,18,0)=\"\",\"\",VLOOKUP(B61,ｴﾝﾄﾘｰ票!$E$16:$Y$215,18,0)))","v":""},{"$f":"IF(B61=\"\",\"\",IF(ISERROR(VLOOKUP(B61,ｴﾝﾄﾘｰ票!$AR$16:$AT$205,1,0)),\"\",VLOOKUP(B61,ｴﾝﾄﾘｰ票!$AR$16:$AT$205,2,0)))","v":""},null,{"$f":"IF(B61=\"\",\"\",IF(ISERROR(VLOOKUP(B61,ｴﾝﾄﾘｰ票!$AX$16:$AZ$205,1,0)),\"\",VLOOKUP(B61,ｴﾝﾄﾘｰ票!$AX$16:$AZ$205,2,0)))","v":""}]
[39,{"$f":"IF(ISERROR(VLOOKUP(A62*10-9+2000,ｴﾝﾄﾘｰ票!C$15:AI$215,3,0)),\"\",VLOOKUP(A62*10-9+2000,ｴﾝﾄﾘｰ票!C$15:AI$215,3,0))","v":""},{"$f":"IF(B62=\"\",\"\",CONCATENATE(VLOOKUP(B62,ｴﾝﾄﾘｰ票!$E$16:$L$215,2,0),\"　\",VLOOKUP(B62,ｴﾝﾄﾘｰ票!$E$16:$L$215,3,0)))","v":""},null,null,null,null,{"$f":"IF(B62=\"\",\"\",VLOOKUP(B62,ｴﾝﾄﾘｰ票!$E$16:$L$215,6,0))","v":""},null,{"$f":"IF(B62=\"\",\"\",IF(VLOOKUP(B62,ｴﾝﾄﾘｰ票!$E$16:$Y$215,10,0)=\"\",\"\",VLOOKUP(B62,ｴﾝﾄﾘｰ票!$E$16:$Y$215,10,0)))","v":""},null,{"$f":"IF(B62=\"\",\"\",IF(VLOOKUP(B62,ｴﾝﾄﾘｰ票!$E$16:$Y$215,14,0)=\"\",\"\",VLOOKUP(B62,ｴﾝﾄﾘｰ票!$E$16:$Y$215,14,0)))","v":""},null,{"$f":"IF(B62=\"\",\"\",IF(VLOOKUP(B62,ｴﾝﾄﾘｰ票!$E$16:$Y$215,18,0)=\"\",\"\",VLOOKUP(B62,ｴﾝﾄﾘｰ票!$E$16:$Y$215,18,0)))","v":""},{"$f":"IF(B62=\"\",\"\",IF(ISERROR(VLOOKUP(B62,ｴﾝﾄﾘｰ票!$AR$16:$AT$205,1,0)),\"\",VLOOKUP(B62,ｴﾝﾄﾘｰ票!$AR$16:$AT$205,2,0)))","v":""},null,{"$f":"IF(B62=\"\",\"\",IF(ISERROR(VLOOKUP(B62,ｴﾝﾄﾘｰ票!$AX$16:$AZ$205,1,0)),\"\",VLOOKUP(B62,ｴﾝﾄﾘｰ票!$AX$16:$AZ$205,2,0)))","v":""}]
[40,{"$f":"IF(ISERROR(VLOOKUP(A63*10-9+2000,ｴﾝﾄﾘｰ票!C$15:AI$215,3,0)),\"\",VLOOKUP(A63*10-9+2000,ｴﾝﾄﾘｰ票!C$15:AI$215,3,0))","v":""},{"$f":"IF(B63=\"\",\"\",CONCATENATE(VLOOKUP(B63,ｴﾝﾄﾘｰ票!$E$16:$L$215,2,0),\"　\",VLOOKUP(B63,ｴﾝﾄﾘｰ票!$E$16:$L$215,3,0)))","v":""},null,null,null,null,{"$f":"IF(B63=\"\",\"\",VLOOKUP(B63,ｴﾝﾄﾘｰ票!$E$16:$L$215,6,0))","v":""},null,{"$f":"IF(B63=\"\",\"\",IF(VLOOKUP(B63,ｴﾝﾄﾘｰ票!$E$16:$Y$215,10,0)=\"\",\"\",VLOOKUP(B63,ｴﾝﾄﾘｰ票!$E$16:$Y$215,10,0)))","v":""},null,{"$f":"IF(B63=\"\",\"\",IF(VLOOKUP(B63,ｴﾝﾄﾘｰ票!$E$16:$Y$215,14,0)=\"\",\"\",VLOOKUP(B63,ｴﾝﾄﾘｰ票!$E$16:$Y$215,14,0)))","v":""},null,{"$f":"IF(B63=\"\",\"\",IF(VLOOKUP(B63,ｴﾝﾄﾘｰ票!$E$16:$Y$215,18,0)=\"\",\"\",VLOOKUP(B63,ｴﾝﾄﾘｰ票!$E$16:$Y$215,18,0)))","v":""},{"$f":"IF(B63=\"\",\"\",IF(ISERROR(VLOOKUP(B63,ｴﾝﾄﾘｰ票!$AR$16:$AT$205,1,0)),\"\",VLOOKUP(B63,ｴﾝﾄﾘｰ票!$AR$16:$AT$205,2,0)))","v":""},null,{"$f":"IF(B63=\"\",\"\",IF(ISERROR(VLOOKUP(B63,ｴﾝﾄﾘｰ票!$AX$16:$AZ$205,1,0)),\"\",VLOOKUP(B63,ｴﾝﾄﾘｰ票!$AX$16:$AZ$205,2,0)))","v":""}]
[41,{"$f":"IF(ISERROR(VLOOKUP(A64*10-9+2000,ｴﾝﾄﾘｰ票!C$15:AI$215,3,0)),\"\",VLOOKUP(A64*10-9+2000,ｴﾝﾄﾘｰ票!C$15:AI$215,3,0))","v":""},{"$f":"IF(B64=\"\",\"\",CONCATENATE(VLOOKUP(B64,ｴﾝﾄﾘｰ票!$E$16:$L$215,2,0),\"　\",VLOOKUP(B64,ｴﾝﾄﾘｰ票!$E$16:$L$215,3,0)))","v":""},null,null,null,null,{"$f":"IF(B64=\"\",\"\",VLOOKUP(B64,ｴﾝﾄﾘｰ票!$E$16:$L$215,6,0))","v":""},null,{"$f":"IF(B64=\"\",\"\",IF(VLOOKUP(B64,ｴﾝﾄﾘｰ票!$E$16:$Y$215,10,0)=\"\",\"\",VLOOKUP(B64,ｴﾝﾄﾘｰ票!$E$16:$Y$215,10,0)))","v":""},null,{"$f":"IF(B64=\"\",\"\",IF(VLOOKUP(B64,ｴﾝﾄﾘｰ票!$E$16:$Y$215,14,0)=\"\",\"\",VLOOKUP(B64,ｴﾝﾄﾘｰ票!$E$16:$Y$215,14,0)))","v":""},null,{"$f":"IF(B64=\"\",\"\",IF(VLOOKUP(B64,ｴﾝﾄﾘｰ票!$E$16:$Y$215,18,0)=\"\",\"\",VLOOKUP(B64,ｴﾝﾄﾘｰ票!$E$16:$Y$215,18,0)))","v":""},{"$f":"IF(B64=\"\",\"\",IF(ISERROR(VLOOKUP(B64,ｴﾝﾄﾘｰ票!$AR$16:$AT$205,1,0)),\"\",VLOOKUP(B64,ｴﾝﾄﾘｰ票!$AR$16:$AT$205,2,0)))","v":""},null,{"$f":"IF(B64=\"\",\"\",IF(ISERROR(VLOOKUP(B64,ｴﾝﾄﾘｰ票!$AX$16:$AZ$205,1,0)),\"\",VLOOKUP(B64,ｴﾝﾄﾘｰ票!$AX$16:$AZ$205,2,0)))","v":""}]
[42,{"$f":"IF(ISERROR(VLOOKUP(A65*10-9+2000,ｴﾝﾄﾘｰ票!C$15:AI$215,3,0)),\"\",VLOOKUP(A65*10-9+2000,ｴﾝﾄﾘｰ票!C$15:AI$215,3,0))","v":""},{"$f":"IF(B65=\"\",\"\",CONCATENATE(VLOOKUP(B65,ｴﾝﾄﾘｰ票!$E$16:$L$215,2,0),\"　\",VLOOKUP(B65,ｴﾝﾄﾘｰ票!$E$16:$L$215,3,0)))","v":""},null,null,null,null,{"$f":"IF(B65=\"\",\"\",VLOOKUP(B65,ｴﾝﾄﾘｰ票!$E$16:$L$215,6,0))","v":""},null,{"$f":"IF(B65=\"\",\"\",IF(VLOOKUP(B65,ｴﾝﾄﾘｰ票!$E$16:$Y$215,10,0)=\"\",\"\",VLOOKUP(B65,ｴﾝﾄﾘｰ票!$E$16:$Y$215,10,0)))","v":""},null,{"$f":"IF(B65=\"\",\"\",IF(VLOOKUP(B65,ｴﾝﾄﾘｰ票!$E$16:$Y$215,14,0)=\"\",\"\",VLOOKUP(B65,ｴﾝﾄﾘｰ票!$E$16:$Y$215,14,0)))","v":""},null,{"$f":"IF(B65=\"\",\"\",IF(VLOOKUP(B65,ｴﾝﾄﾘｰ票!$E$16:$Y$215,18,0)=\"\",\"\",VLOOKUP(B65,ｴﾝﾄﾘｰ票!$E$16:$Y$215,18,0)))","v":""},{"$f":"IF(B65=\"\",\"\",IF(ISERROR(VLOOKUP(B65,ｴﾝﾄﾘｰ票!$AR$16:$AT$205,1,0)),\"\",VLOOKUP(B65,ｴﾝﾄﾘｰ票!$AR$16:$AT$205,2,0)))","v":""},null,{"$f":"IF(B65=\"\",\"\",IF(ISERROR(VLOOKUP(B65,ｴﾝﾄﾘｰ票!$AX$16:$AZ$205,1,0)),\"\",VLOOKUP(B65,ｴﾝﾄﾘｰ票!$AX$16:$AZ$205,2,0)))","v":""}]
[43,{"$f":"IF(ISERROR(VLOOKUP(A66*10-9+2000,ｴﾝﾄﾘｰ票!C$15:AI$215,3,0)),\"\",VLOOKUP(A66*10-9+2000,ｴﾝﾄﾘｰ票!C$15:AI$215,3,0))","v":""},{"$f":"IF(B66=\"\",\"\",CONCATENATE(VLOOKUP(B66,ｴﾝﾄﾘｰ票!$E$16:$L$215,2,0),\"　\",VLOOKUP(B66,ｴﾝﾄﾘｰ票!$E$16:$L$215,3,0)))","v":""},null,null,null,null,{"$f":"IF(B66=\"\",\"\",VLOOKUP(B66,ｴﾝﾄﾘｰ票!$E$16:$L$215,6,0))","v":""},null,{"$f":"IF(B66=\"\",\"\",IF(VLOOKUP(B66,ｴﾝﾄﾘｰ票!$E$16:$Y$215,10,0)=\"\",\"\",VLOOKUP(B66,ｴﾝﾄﾘｰ票!$E$16:$Y$215,10,0)))","v":""},null,{"$f":"IF(B66=\"\",\"\",IF(VLOOKUP(B66,ｴﾝﾄﾘｰ票!$E$16:$Y$215,14,0)=\"\",\"\",VLOOKUP(B66,ｴﾝﾄﾘｰ票!$E$16:$Y$215,14,0)))","v":""},null,{"$f":"IF(B66=\"\",\"\",IF(VLOOKUP(B66,ｴﾝﾄﾘｰ票!$E$16:$Y$215,18,0)=\"\",\"\",VLOOKUP(B66,ｴﾝﾄﾘｰ票!$E$16:$Y$215,18,0)))","v":""},{"$f":"IF(B66=\"\",\"\",IF(ISERROR(VLOOKUP(B66,ｴﾝﾄﾘｰ票!$AR$16:$AT$205,1,0)),\"\",VLOOKUP(B66,ｴﾝﾄﾘｰ票!$AR$16:$AT$205,2,0)))","v":""},null,{"$f":"IF(B66=\"\",\"\",IF(ISERROR(VLOOKUP(B66,ｴﾝﾄﾘｰ票!$AX$16:$AZ$205,1,0)),\"\",VLOOKUP(B66,ｴﾝﾄﾘｰ票!$AX$16:$AZ$205,2,0)))","v":""}]
[44,{"$f":"IF(ISERROR(VLOOKUP(A67*10-9+2000,ｴﾝﾄﾘｰ票!C$15:AI$215,3,0)),\"\",VLOOKUP(A67*10-9+2000,ｴﾝﾄﾘｰ票!C$15:AI$215,3,0))","v":""},{"$f":"IF(B67=\"\",\"\",CONCATENATE(VLOOKUP(B67,ｴﾝﾄﾘｰ票!$E$16:$L$215,2,0),\"　\",VLOOKUP(B67,ｴﾝﾄﾘｰ票!$E$16:$L$215,3,0)))","v":""},null,null,null,null,{"$f":"IF(B67=\"\",\"\",VLOOKUP(B67,ｴﾝﾄﾘｰ票!$E$16:$L$215,6,0))","v":""},null,{"$f":"IF(B67=\"\",\"\",IF(VLOOKUP(B67,ｴﾝﾄﾘｰ票!$E$16:$Y$215,10,0)=\"\",\"\",VLOOKUP(B67,ｴﾝﾄﾘｰ票!$E$16:$Y$215,10,0)))","v":""},null,{"$f":"IF(B67=\"\",\"\",IF(VLOOKUP(B67,ｴﾝﾄﾘｰ票!$E$16:$Y$215,14,0)=\"\",\"\",VLOOKUP(B67,ｴﾝﾄﾘｰ票!$E$16:$Y$215,14,0)))","v":""},null,{"$f":"IF(B67=\"\",\"\",IF(VLOOKUP(B67,ｴﾝﾄﾘｰ票!$E$16:$Y$215,18,0)=\"\",\"\",VLOOKUP(B67,ｴﾝﾄﾘｰ票!$E$16:$Y$215,18,0)))","v":""},{"$f":"IF(B67=\"\",\"\",IF(ISERROR(VLOOKUP(B67,ｴﾝﾄﾘｰ票!$AR$16:$AT$205,1,0)),\"\",VLOOKUP(B67,ｴﾝﾄﾘｰ票!$AR$16:$AT$205,2,0)))","v":""},null,{"$f":"IF(B67=\"\",\"\",IF(ISERROR(VLOOKUP(B67,ｴﾝﾄﾘｰ票!$AX$16:$AZ$205,1,0)),\"\",VLOOKUP(B67,ｴﾝﾄﾘｰ票!$AX$16:$AZ$205,2,0)))","v":""}]
[45,{"$f":"IF(ISERROR(VLOOKUP(A68*10-9+2000,ｴﾝﾄﾘｰ票!C$15:AI$215,3,0)),\"\",VLOOKUP(A68*10-9+2000,ｴﾝﾄﾘｰ票!C$15:AI$215,3,0))","v":""},{"$f":"IF(B68=\"\",\"\",CONCATENATE(VLOOKUP(B68,ｴﾝﾄﾘｰ票!$E$16:$L$215,2,0),\"　\",VLOOKUP(B68,ｴﾝﾄﾘｰ票!$E$16:$L$215,3,0)))","v":""},null,null,null,null,{"$f":"IF(B68=\"\",\"\",VLOOKUP(B68,ｴﾝﾄﾘｰ票!$E$16:$L$215,6,0))","v":""},null,{"$f":"IF(B68=\"\",\"\",IF(VLOOKUP(B68,ｴﾝﾄﾘｰ票!$E$16:$Y$215,10,0)=\"\",\"\",VLOOKUP(B68,ｴﾝﾄﾘｰ票!$E$16:$Y$215,10,0)))","v":""},null,{"$f":"IF(B68=\"\",\"\",IF(VLOOKUP(B68,ｴﾝﾄﾘｰ票!$E$16:$Y$215,14,0)=\"\",\"\",VLOOKUP(B68,ｴﾝﾄﾘｰ票!$E$16:$Y$215,14,0)))","v":""},null,{"$f":"IF(B68=\"\",\"\",IF(VLOOKUP(B68,ｴﾝﾄﾘｰ票!$E$16:$Y$215,18,0)=\"\",\"\",VLOOKUP(B68,ｴﾝﾄﾘｰ票!$E$16:$Y$215,18,0)))","v":""},{"$f":"IF(B68=\"\",\"\",IF(ISERROR(VLOOKUP(B68,ｴﾝﾄﾘｰ票!$AR$16:$AT$205,1,0)),\"\",VLOOKUP(B68,ｴﾝﾄﾘｰ票!$AR$16:$AT$205,2,0)))","v":""},null,{"$f":"IF(B68=\"\",\"\",IF(ISERROR(VLOOKUP(B68,ｴﾝﾄﾘｰ票!$AX$16:$AZ$205,1,0)),\"\",VLOOKUP(B68,ｴﾝﾄﾘｰ票!$AX$16:$AZ$205,2,0)))","v":""}]
[46,{"$f":"IF(ISERROR(VLOOKUP(A69*10-9+2000,ｴﾝﾄﾘｰ票!C$15:AI$215,3,0)),\"\",VLOOKUP(A69*10-9+2000,ｴﾝﾄﾘｰ票!C$15:AI$215,3,0))","v":""},{"$f":"IF(B69=\"\",\"\",CONCATENATE(VLOOKUP(B69,ｴﾝﾄﾘｰ票!$E$16:$L$215,2,0),\"　\",VLOOKUP(B69,ｴﾝﾄﾘｰ票!$E$16:$L$215,3,0)))","v":""},null,null,null,null,{"$f":"IF(B69=\"\",\"\",VLOOKUP(B69,ｴﾝﾄﾘｰ票!$E$16:$L$215,6,0))","v":""},null,{"$f":"IF(B69=\"\",\"\",IF(VLOOKUP(B69,ｴﾝﾄﾘｰ票!$E$16:$Y$215,10,0)=\"\",\"\",VLOOKUP(B69,ｴﾝﾄﾘｰ票!$E$16:$Y$215,10,0)))","v":""},null,{"$f":"IF(B69=\"\",\"\",IF(VLOOKUP(B69,ｴﾝﾄﾘｰ票!$E$16:$Y$215,14,0)=\"\",\"\",VLOOKUP(B69,ｴﾝﾄﾘｰ票!$E$16:$Y$215,14,0)))","v":""},null,{"$f":"IF(B69=\"\",\"\",IF(VLOOKUP(B69,ｴﾝﾄﾘｰ票!$E$16:$Y$215,18,0)=\"\",\"\",VLOOKUP(B69,ｴﾝﾄﾘｰ票!$E$16:$Y$215,18,0)))","v":""},{"$f":"IF(B69=\"\",\"\",IF(ISERROR(VLOOKUP(B69,ｴﾝﾄﾘｰ票!$AR$16:$AT$205,1,0)),\"\",VLOOKUP(B69,ｴﾝﾄﾘｰ票!$AR$16:$AT$205,2,0)))","v":""},null,{"$f":"IF(B69=\"\",\"\",IF(ISERROR(VLOOKUP(B69,ｴﾝﾄﾘｰ票!$AX$16:$AZ$205,1,0)),\"\",VLOOKUP(B69,ｴﾝﾄﾘｰ票!$AX$16:$AZ$205,2,0)))","v":""}]
[47,{"$f":"IF(ISERROR(VLOOKUP(A70*10-9+2000,ｴﾝﾄﾘｰ票!C$15:AI$215,3,0)),\"\",VLOOKUP(A70*10-9+2000,ｴﾝﾄﾘｰ票!C$15:AI$215,3,0))","v":""},{"$f":"IF(B70=\"\",\"\",CONCATENATE(VLOOKUP(B70,ｴﾝﾄﾘｰ票!$E$16:$L$215,2,0),\"　\",VLOOKUP(B70,ｴﾝﾄﾘｰ票!$E$16:$L$215,3,0)))","v":""},null,null,null,null,{"$f":"IF(B70=\"\",\"\",VLOOKUP(B70,ｴﾝﾄﾘｰ票!$E$16:$L$215,6,0))","v":""},null,{"$f":"IF(B70=\"\",\"\",IF(VLOOKUP(B70,ｴﾝﾄﾘｰ票!$E$16:$Y$215,10,0)=\"\",\"\",VLOOKUP(B70,ｴﾝﾄﾘｰ票!$E$16:$Y$215,10,0)))","v":""},null,{"$f":"IF(B70=\"\",\"\",IF(VLOOKUP(B70,ｴﾝﾄﾘｰ票!$E$16:$Y$215,14,0)=\"\",\"\",VLOOKUP(B70,ｴﾝﾄﾘｰ票!$E$16:$Y$215,14,0)))","v":""},null,{"$f":"IF(B70=\"\",\"\",IF(VLOOKUP(B70,ｴﾝﾄﾘｰ票!$E$16:$Y$215,18,0)=\"\",\"\",VLOOKUP(B70,ｴﾝﾄﾘｰ票!$E$16:$Y$215,18,0)))","v":""},{"$f":"IF(B70=\"\",\"\",IF(ISERROR(VLOOKUP(B70,ｴﾝﾄﾘｰ票!$AR$16:$AT$205,1,0)),\"\",VLOOKUP(B70,ｴﾝﾄﾘｰ票!$AR$16:$AT$205,2,0)))","v":""},null,{"$f":"IF(B70=\"\",\"\",IF(ISERROR(VLOOKUP(B70,ｴﾝﾄﾘｰ票!$AX$16:$AZ$205,1,0)),\"\",VLOOKUP(B70,ｴﾝﾄﾘｰ票!$AX$16:$AZ$205,2,0)))","v":""}]
[48,{"$f":"IF(ISERROR(VLOOKUP(A71*10-9+2000,ｴﾝﾄﾘｰ票!C$15:AI$215,3,0)),\"\",VLOOKUP(A71*10-9+2000,ｴﾝﾄﾘｰ票!C$15:AI$215,3,0))","v":""},{"$f":"IF(B71=\"\",\"\",CONCATENATE(VLOOKUP(B71,ｴﾝﾄﾘｰ票!$E$16:$L$215,2,0),\"　\",VLOOKUP(B71,ｴﾝﾄﾘｰ票!$E$16:$L$215,3,0)))","v":""},null,null,null,null,{"$f":"IF(B71=\"\",\"\",VLOOKUP(B71,ｴﾝﾄﾘｰ票!$E$16:$L$215,6,0))","v":""},null,{"$f":"IF(B71=\"\",\"\",IF(VLOOKUP(B71,ｴﾝﾄﾘｰ票!$E$16:$Y$215,10,0)=\"\",\"\",VLOOKUP(B71,ｴﾝﾄﾘｰ票!$E$16:$Y$215,10,0)))","v":""},null,{"$f":"IF(B71=\"\",\"\",IF(VLOOKUP(B71,ｴﾝﾄﾘｰ票!$E$16:$Y$215,14,0)=\"\",\"\",VLOOKUP(B71,ｴﾝﾄﾘｰ票!$E$16:$Y$215,14,0)))","v":""},null,{"$f":"IF(B71=\"\",\"\",IF(VLOOKUP(B71,ｴﾝﾄﾘｰ票!$E$16:$Y$215,18,0)=\"\",\"\",VLOOKUP(B71,ｴﾝﾄﾘｰ票!$E$16:$Y$215,18,0)))","v":""},{"$f":"IF(B71=\"\",\"\",IF(ISERROR(VLOOKUP(B71,ｴﾝﾄﾘｰ票!$AR$16:$AT$205,1,0)),\"\",VLOOKUP(B71,ｴﾝﾄﾘｰ票!$AR$16:$AT$205,2,0)))","v":""},null,{"$f":"IF(B71=\"\",\"\",IF(ISERROR(VLOOKUP(B71,ｴﾝﾄﾘｰ票!$AX$16:$AZ$205,1,0)),\"\",VLOOKUP(B71,ｴﾝﾄﾘｰ票!$AX$16:$AZ$205,2,0)))","v":""}]
[49,{"$f":"IF(ISERROR(VLOOKUP(A72*10-9+2000,ｴﾝﾄﾘｰ票!C$15:AI$215,3,0)),\"\",VLOOKUP(A72*10-9+2000,ｴﾝﾄﾘｰ票!C$15:AI$215,3,0))","v":""},{"$f":"IF(B72=\"\",\"\",CONCATENATE(VLOOKUP(B72,ｴﾝﾄﾘｰ票!$E$16:$L$215,2,0),\"　\",VLOOKUP(B72,ｴﾝﾄﾘｰ票!$E$16:$L$215,3,0)))","v":""},null,null,null,null,{"$f":"IF(B72=\"\",\"\",VLOOKUP(B72,ｴﾝﾄﾘｰ票!$E$16:$L$215,6,0))","v":""},null,{"$f":"IF(B72=\"\",\"\",IF(VLOOKUP(B72,ｴﾝﾄﾘｰ票!$E$16:$Y$215,10,0)=\"\",\"\",VLOOKUP(B72,ｴﾝﾄﾘｰ票!$E$16:$Y$215,10,0)))","v":""},null,{"$f":"IF(B72=\"\",\"\",IF(VLOOKUP(B72,ｴﾝﾄﾘｰ票!$E$16:$Y$215,14,0)=\"\",\"\",VLOOKUP(B72,ｴﾝﾄﾘｰ票!$E$16:$Y$215,14,0)))","v":""},null,{"$f":"IF(B72=\"\",\"\",IF(VLOOKUP(B72,ｴﾝﾄﾘｰ票!$E$16:$Y$215,18,0)=\"\",\"\",VLOOKUP(B72,ｴﾝﾄﾘｰ票!$E$16:$Y$215,18,0)))","v":""},{"$f":"IF(B72=\"\",\"\",IF(ISERROR(VLOOKUP(B72,ｴﾝﾄﾘｰ票!$AR$16:$AT$205,1,0)),\"\",VLOOKUP(B72,ｴﾝﾄﾘｰ票!$AR$16:$AT$205,2,0)))","v":""},null,{"$f":"IF(B72=\"\",\"\",IF(ISERROR(VLOOKUP(B72,ｴﾝﾄﾘｰ票!$AX$16:$AZ$205,1,0)),\"\",VLOOKUP(B72,ｴﾝﾄﾘｰ票!$AX$16:$AZ$205,2,0)))","v":""}]
[50,{"$f":"IF(ISERROR(VLOOKUP(A73*10-9+2000,ｴﾝﾄﾘｰ票!C$15:AI$215,3,0)),\"\",VLOOKUP(A73*10-9+2000,ｴﾝﾄﾘｰ票!C$15:AI$215,3,0))","v":""},{"$f":"IF(B73=\"\",\"\",CONCATENATE(VLOOKUP(B73,ｴﾝﾄﾘｰ票!$E$16:$L$215,2,0),\"　\",VLOOKUP(B73,ｴﾝﾄﾘｰ票!$E$16:$L$215,3,0)))","v":""},null,null,null,null,{"$f":"IF(B73=\"\",\"\",VLOOKUP(B73,ｴﾝﾄﾘｰ票!$E$16:$L$215,6,0))","v":""},null,{"$f":"IF(B73=\"\",\"\",IF(VLOOKUP(B73,ｴﾝﾄﾘｰ票!$E$16:$Y$215,10,0)=\"\",\"\",VLOOKUP(B73,ｴﾝﾄﾘｰ票!$E$16:$Y$215,10,0)))","v":""},null,{"$f":"IF(B73=\"\",\"\",IF(VLOOKUP(B73,ｴﾝﾄﾘｰ票!$E$16:$Y$215,14,0)=\"\",\"\",VLOOKUP(B73,ｴﾝﾄﾘｰ票!$E$16:$Y$215,14,0)))","v":""},null,{"$f":"IF(B73=\"\",\"\",IF(VLOOKUP(B73,ｴﾝﾄﾘｰ票!$E$16:$Y$215,18,0)=\"\",\"\",VLOOKUP(B73,ｴﾝﾄﾘｰ票!$E$16:$Y$215,18,0)))","v":""},{"$f":"IF(B73=\"\",\"\",IF(ISERROR(VLOOKUP(B73,ｴﾝﾄﾘｰ票!$AR$16:$AT$205,1,0)),\"\",VLOOKUP(B73,ｴﾝﾄﾘｰ票!$AR$16:$AT$205,2,0)))","v":""},null,{"$f":"IF(B73=\"\",\"\",IF(ISERROR(VLOOKUP(B73,ｴﾝﾄﾘｰ票!$AX$16:$AZ$205,1,0)),\"\",VLOOKUP(B73,ｴﾝﾄﾘｰ票!$AX$16:$AZ$205,2,0)))","v":""}]
[51,{"$f":"IF(ISERROR(VLOOKUP(A74*10-9+2000,ｴﾝﾄﾘｰ票!C$15:AI$215,3,0)),\"\",VLOOKUP(A74*10-9+2000,ｴﾝﾄﾘｰ票!C$15:AI$215,3,0))","v":""},{"$f":"IF(B74=\"\",\"\",CONCATENATE(VLOOKUP(B74,ｴﾝﾄﾘｰ票!$E$16:$L$215,2,0),\"　\",VLOOKUP(B74,ｴﾝﾄﾘｰ票!$E$16:$L$215,3,0)))","v":""},null,null,null,null,{"$f":"IF(B74=\"\",\"\",VLOOKUP(B74,ｴﾝﾄﾘｰ票!$E$16:$L$215,6,0))","v":""},null,{"$f":"IF(B74=\"\",\"\",IF(VLOOKUP(B74,ｴﾝﾄﾘｰ票!$E$16:$Y$215,10,0)=\"\",\"\",VLOOKUP(B74,ｴﾝﾄﾘｰ票!$E$16:$Y$215,10,0)))","v":""},null,{"$f":"IF(B74=\"\",\"\",IF(VLOOKUP(B74,ｴﾝﾄﾘｰ票!$E$16:$Y$215,14,0)=\"\",\"\",VLOOKUP(B74,ｴﾝﾄﾘｰ票!$E$16:$Y$215,14,0)))","v":""},null,{"$f":"IF(B74=\"\",\"\",IF(VLOOKUP(B74,ｴﾝﾄﾘｰ票!$E$16:$Y$215,18,0)=\"\",\"\",VLOOKUP(B74,ｴﾝﾄﾘｰ票!$E$16:$Y$215,18,0)))","v":""},{"$f":"IF(B74=\"\",\"\",IF(ISERROR(VLOOKUP(B74,ｴﾝﾄﾘｰ票!$AR$16:$AT$205,1,0)),\"\",VLOOKUP(B74,ｴﾝﾄﾘｰ票!$AR$16:$AT$205,2,0)))","v":""},null,{"$f":"IF(B74=\"\",\"\",IF(ISERROR(VLOOKUP(B74,ｴﾝﾄﾘｰ票!$AX$16:$AZ$205,1,0)),\"\",VLOOKUP(B74,ｴﾝﾄﾘｰ票!$AX$16:$AZ$205,2,0)))","v":""}]
[52,{"$f":"IF(ISERROR(VLOOKUP(A75*10-9+2000,ｴﾝﾄﾘｰ票!C$15:AI$215,3,0)),\"\",VLOOKUP(A75*10-9+2000,ｴﾝﾄﾘｰ票!C$15:AI$215,3,0))","v":""},{"$f":"IF(B75=\"\",\"\",CONCATENATE(VLOOKUP(B75,ｴﾝﾄﾘｰ票!$E$16:$L$215,2,0),\"　\",VLOOKUP(B75,ｴﾝﾄﾘｰ票!$E$16:$L$215,3,0)))","v":""},null,null,null,null,{"$f":"IF(B75=\"\",\"\",VLOOKUP(B75,ｴﾝﾄﾘｰ票!$E$16:$L$215,6,0))","v":""},null,{"$f":"IF(B75=\"\",\"\",IF(VLOOKUP(B75,ｴﾝﾄﾘｰ票!$E$16:$Y$215,10,0)=\"\",\"\",VLOOKUP(B75,ｴﾝﾄﾘｰ票!$E$16:$Y$215,10,0)))","v":""},null,{"$f":"IF(B75=\"\",\"\",IF(VLOOKUP(B75,ｴﾝﾄﾘｰ票!$E$16:$Y$215,14,0)=\"\",\"\",VLOOKUP(B75,ｴﾝﾄﾘｰ票!$E$16:$Y$215,14,0)))","v":""},null,{"$f":"IF(B75=\"\",\"\",IF(VLOOKUP(B75,ｴﾝﾄﾘｰ票!$E$16:$Y$215,18,0)=\"\",\"\",VLOOKUP(B75,ｴﾝﾄﾘｰ票!$E$16:$Y$215,18,0)))","v":""},{"$f":"IF(B75=\"\",\"\",IF(ISERROR(VLOOKUP(B75,ｴﾝﾄﾘｰ票!$AR$16:$AT$205,1,0)),\"\",VLOOKUP(B75,ｴﾝﾄﾘｰ票!$AR$16:$AT$205,2,0)))","v":""},null,{"$f":"IF(B75=\"\",\"\",IF(ISERROR(VLOOKUP(B75,ｴﾝﾄﾘｰ票!$AX$16:$AZ$205,1,0)),\"\",VLOOKUP(B75,ｴﾝﾄﾘｰ票!$AX$16:$AZ$205,2,0)))","v":""}]
[53,{"$f":"IF(ISERROR(VLOOKUP(A76*10-9+2000,ｴﾝﾄﾘｰ票!C$15:AI$215,3,0)),\"\",VLOOKUP(A76*10-9+2000,ｴﾝﾄﾘｰ票!C$15:AI$215,3,0))","v":""},{"$f":"IF(B76=\"\",\"\",CONCATENATE(VLOOKUP(B76,ｴﾝﾄﾘｰ票!$E$16:$L$215,2,0),\"　\",VLOOKUP(B76,ｴﾝﾄﾘｰ票!$E$16:$L$215,3,0)))","v":""},null,null,null,null,{"$f":"IF(B76=\"\",\"\",VLOOKUP(B76,ｴﾝﾄﾘｰ票!$E$16:$L$215,6,0))","v":""},null,{"$f":"IF(B76=\"\",\"\",IF(VLOOKUP(B76,ｴﾝﾄﾘｰ票!$E$16:$Y$215,10,0)=\"\",\"\",VLOOKUP(B76,ｴﾝﾄﾘｰ票!$E$16:$Y$215,10,0)))","v":""},null,{"$f":"IF(B76=\"\",\"\",IF(VLOOKUP(B76,ｴﾝﾄﾘｰ票!$E$16:$Y$215,14,0)=\"\",\"\",VLOOKUP(B76,ｴﾝﾄﾘｰ票!$E$16:$Y$215,14,0)))","v":""},null,{"$f":"IF(B76=\"\",\"\",IF(VLOOKUP(B76,ｴﾝﾄﾘｰ票!$E$16:$Y$215,18,0)=\"\",\"\",VLOOKUP(B76,ｴﾝﾄﾘｰ票!$E$16:$Y$215,18,0)))","v":""},{"$f":"IF(B76=\"\",\"\",IF(ISERROR(VLOOKUP(B76,ｴﾝﾄﾘｰ票!$AR$16:$AT$205,1,0)),\"\",VLOOKUP(B76,ｴﾝﾄﾘｰ票!$AR$16:$AT$205,2,0)))","v":""},null,{"$f":"IF(B76=\"\",\"\",IF(ISERROR(VLOOKUP(B76,ｴﾝﾄﾘｰ票!$AX$16:$AZ$205,1,0)),\"\",VLOOKUP(B76,ｴﾝﾄﾘｰ票!$AX$16:$AZ$205,2,0)))","v":""}]
[54,{"$f":"IF(ISERROR(VLOOKUP(A77*10-9+2000,ｴﾝﾄﾘｰ票!C$15:AI$215,3,0)),\"\",VLOOKUP(A77*10-9+2000,ｴﾝﾄﾘｰ票!C$15:AI$215,3,0))","v":""},{"$f":"IF(B77=\"\",\"\",CONCATENATE(VLOOKUP(B77,ｴﾝﾄﾘｰ票!$E$16:$L$215,2,0),\"　\",VLOOKUP(B77,ｴﾝﾄﾘｰ票!$E$16:$L$215,3,0)))","v":""},null,null,null,null,{"$f":"IF(B77=\"\",\"\",VLOOKUP(B77,ｴﾝﾄﾘｰ票!$E$16:$L$215,6,0))","v":""},null,{"$f":"IF(B77=\"\",\"\",IF(VLOOKUP(B77,ｴﾝﾄﾘｰ票!$E$16:$Y$215,10,0)=\"\",\"\",VLOOKUP(B77,ｴﾝﾄﾘｰ票!$E$16:$Y$215,10,0)))","v":""},null,{"$f":"IF(B77=\"\",\"\",IF(VLOOKUP(B77,ｴﾝﾄﾘｰ票!$E$16:$Y$215,14,0)=\"\",\"\",VLOOKUP(B77,ｴﾝﾄﾘｰ票!$E$16:$Y$215,14,0)))","v":""},null,{"$f":"IF(B77=\"\",\"\",IF(VLOOKUP(B77,ｴﾝﾄﾘｰ票!$E$16:$Y$215,18,0)=\"\",\"\",VLOOKUP(B77,ｴﾝﾄﾘｰ票!$E$16:$Y$215,18,0)))","v":""},{"$f":"IF(B77=\"\",\"\",IF(ISERROR(VLOOKUP(B77,ｴﾝﾄﾘｰ票!$AR$16:$AT$205,1,0)),\"\",VLOOKUP(B77,ｴﾝﾄﾘｰ票!$AR$16:$AT$205,2,0)))","v":""},null,{"$f":"IF(B77=\"\",\"\",IF(ISERROR(VLOOKUP(B77,ｴﾝﾄﾘｰ票!$AX$16:$AZ$205,1,0)),\"\",VLOOKUP(B77,ｴﾝﾄﾘｰ票!$AX$16:$AZ$205,2,0)))","v":""}]
[55,{"$f":"IF(ISERROR(VLOOKUP(A78*10-9+2000,ｴﾝﾄﾘｰ票!C$15:AI$215,3,0)),\"\",VLOOKUP(A78*10-9+2000,ｴﾝﾄﾘｰ票!C$15:AI$215,3,0))","v":""},{"$f":"IF(B78=\"\",\"\",CONCATENATE(VLOOKUP(B78,ｴﾝﾄﾘｰ票!$E$16:$L$215,2,0),\"　\",VLOOKUP(B78,ｴﾝﾄﾘｰ票!$E$16:$L$215,3,0)))","v":""},null,null,null,null,{"$f":"IF(B78=\"\",\"\",VLOOKUP(B78,ｴﾝﾄﾘｰ票!$E$16:$L$215,6,0))","v":""},null,{"$f":"IF(B78=\"\",\"\",IF(VLOOKUP(B78,ｴﾝﾄﾘｰ票!$E$16:$Y$215,10,0)=\"\",\"\",VLOOKUP(B78,ｴﾝﾄﾘｰ票!$E$16:$Y$215,10,0)))","v":""},null,{"$f":"IF(B78=\"\",\"\",IF(VLOOKUP(B78,ｴﾝﾄﾘｰ票!$E$16:$Y$215,14,0)=\"\",\"\",VLOOKUP(B78,ｴﾝﾄﾘｰ票!$E$16:$Y$215,14,0)))","v":""},null,{"$f":"IF(B78=\"\",\"\",IF(VLOOKUP(B78,ｴﾝﾄﾘｰ票!$E$16:$Y$215,18,0)=\"\",\"\",VLOOKUP(B78,ｴﾝﾄﾘｰ票!$E$16:$Y$215,18,0)))","v":""},{"$f":"IF(B78=\"\",\"\",IF(ISERROR(VLOOKUP(B78,ｴﾝﾄﾘｰ票!$AR$16:$AT$205,1,0)),\"\",VLOOKUP(B78,ｴﾝﾄﾘｰ票!$AR$16:$AT$205,2,0)))","v":""},null,{"$f":"IF(B78=\"\",\"\",IF(ISERROR(VLOOKUP(B78,ｴﾝﾄﾘｰ票!$AX$16:$AZ$205,1,0)),\"\",VLOOKUP(B78,ｴﾝﾄﾘｰ票!$AX$16:$AZ$205,2,0)))","v":""}]
[56,{"$f":"IF(ISERROR(VLOOKUP(A79*10-9+2000,ｴﾝﾄﾘｰ票!C$15:AI$215,3,0)),\"\",VLOOKUP(A79*10-9+2000,ｴﾝﾄﾘｰ票!C$15:AI$215,3,0))","v":""},{"$f":"IF(B79=\"\",\"\",CONCATENATE(VLOOKUP(B79,ｴﾝﾄﾘｰ票!$E$16:$L$215,2,0),\"　\",VLOOKUP(B79,ｴﾝﾄﾘｰ票!$E$16:$L$215,3,0)))","v":""},null,null,null,null,{"$f":"IF(B79=\"\",\"\",VLOOKUP(B79,ｴﾝﾄﾘｰ票!$E$16:$L$215,6,0))","v":""},null,{"$f":"IF(B79=\"\",\"\",IF(VLOOKUP(B79,ｴﾝﾄﾘｰ票!$E$16:$Y$215,10,0)=\"\",\"\",VLOOKUP(B79,ｴﾝﾄﾘｰ票!$E$16:$Y$215,10,0)))","v":""},null,{"$f":"IF(B79=\"\",\"\",IF(VLOOKUP(B79,ｴﾝﾄﾘｰ票!$E$16:$Y$215,14,0)=\"\",\"\",VLOOKUP(B79,ｴﾝﾄﾘｰ票!$E$16:$Y$215,14,0)))","v":""},null,{"$f":"IF(B79=\"\",\"\",IF(VLOOKUP(B79,ｴﾝﾄﾘｰ票!$E$16:$Y$215,18,0)=\"\",\"\",VLOOKUP(B79,ｴﾝﾄﾘｰ票!$E$16:$Y$215,18,0)))","v":""},{"$f":"IF(B79=\"\",\"\",IF(ISERROR(VLOOKUP(B79,ｴﾝﾄﾘｰ票!$AR$16:$AT$205,1,0)),\"\",VLOOKUP(B79,ｴﾝﾄﾘｰ票!$AR$16:$AT$205,2,0)))","v":""},null,{"$f":"IF(B79=\"\",\"\",IF(ISERROR(VLOOKUP(B79,ｴﾝﾄﾘｰ票!$AX$16:$AZ$205,1,0)),\"\",VLOOKUP(B79,ｴﾝﾄﾘｰ票!$AX$16:$AZ$205,2,0)))","v":""}]
[57,{"$f":"IF(ISERROR(VLOOKUP(A80*10-9+2000,ｴﾝﾄﾘｰ票!C$15:AI$215,3,0)),\"\",VLOOKUP(A80*10-9+2000,ｴﾝﾄﾘｰ票!C$15:AI$215,3,0))","v":""},{"$f":"IF(B80=\"\",\"\",CONCATENATE(VLOOKUP(B80,ｴﾝﾄﾘｰ票!$E$16:$L$215,2,0),\"　\",VLOOKUP(B80,ｴﾝﾄﾘｰ票!$E$16:$L$215,3,0)))","v":""},null,null,null,null,{"$f":"IF(B80=\"\",\"\",VLOOKUP(B80,ｴﾝﾄﾘｰ票!$E$16:$L$215,6,0))","v":""},null,{"$f":"IF(B80=\"\",\"\",IF(VLOOKUP(B80,ｴﾝﾄﾘｰ票!$E$16:$Y$215,10,0)=\"\",\"\",VLOOKUP(B80,ｴﾝﾄﾘｰ票!$E$16:$Y$215,10,0)))","v":""},null,{"$f":"IF(B80=\"\",\"\",IF(VLOOKUP(B80,ｴﾝﾄﾘｰ票!$E$16:$Y$215,14,0)=\"\",\"\",VLOOKUP(B80,ｴﾝﾄﾘｰ票!$E$16:$Y$215,14,0)))","v":""},null,{"$f":"IF(B80=\"\",\"\",IF(VLOOKUP(B80,ｴﾝﾄﾘｰ票!$E$16:$Y$215,18,0)=\"\",\"\",VLOOKUP(B80,ｴﾝﾄﾘｰ票!$E$16:$Y$215,18,0)))","v":""},{"$f":"IF(B80=\"\",\"\",IF(ISERROR(VLOOKUP(B80,ｴﾝﾄﾘｰ票!$AR$16:$AT$205,1,0)),\"\",VLOOKUP(B80,ｴﾝﾄﾘｰ票!$AR$16:$AT$205,2,0)))","v":""},null,{"$f":"IF(B80=\"\",\"\",IF(ISERROR(VLOOKUP(B80,ｴﾝﾄﾘｰ票!$AX$16:$AZ$205,1,0)),\"\",VLOOKUP(B80,ｴﾝﾄﾘｰ票!$AX$16:$AZ$205,2,0)))","v":""}]
[58,{"$f":"IF(ISERROR(VLOOKUP(A81*10-9+2000,ｴﾝﾄﾘｰ票!C$15:AI$215,3,0)),\"\",VLOOKUP(A81*10-9+2000,ｴﾝﾄﾘｰ票!C$15:AI$215,3,0))","v":""},{"$f":"IF(B81=\"\",\"\",CONCATENATE(VLOOKUP(B81,ｴﾝﾄﾘｰ票!$E$16:$L$215,2,0),\"　\",VLOOKUP(B81,ｴﾝﾄﾘｰ票!$E$16:$L$215,3,0)))","v":""},null,null,null,null,{"$f":"IF(B81=\"\",\"\",VLOOKUP(B81,ｴﾝﾄﾘｰ票!$E$16:$L$215,6,0))","v":""},null,{"$f":"IF(B81=\"\",\"\",IF(VLOOKUP(B81,ｴﾝﾄﾘｰ票!$E$16:$Y$215,10,0)=\"\",\"\",VLOOKUP(B81,ｴﾝﾄﾘｰ票!$E$16:$Y$215,10,0)))","v":""},null,{"$f":"IF(B81=\"\",\"\",IF(VLOOKUP(B81,ｴﾝﾄﾘｰ票!$E$16:$Y$215,14,0)=\"\",\"\",VLOOKUP(B81,ｴﾝﾄﾘｰ票!$E$16:$Y$215,14,0)))","v":""},null,{"$f":"IF(B81=\"\",\"\",IF(VLOOKUP(B81,ｴﾝﾄﾘｰ票!$E$16:$Y$215,18,0)=\"\",\"\",VLOOKUP(B81,ｴﾝﾄﾘｰ票!$E$16:$Y$215,18,0)))","v":""},{"$f":"IF(B81=\"\",\"\",IF(ISERROR(VLOOKUP(B81,ｴﾝﾄﾘｰ票!$AR$16:$AT$205,1,0)),\"\",VLOOKUP(B81,ｴﾝﾄﾘｰ票!$AR$16:$AT$205,2,0)))","v":""},null,{"$f":"IF(B81=\"\",\"\",IF(ISERROR(VLOOKUP(B81,ｴﾝﾄﾘｰ票!$AX$16:$AZ$205,1,0)),\"\",VLOOKUP(B81,ｴﾝﾄﾘｰ票!$AX$16:$AZ$205,2,0)))","v":""}]
[59,{"$f":"IF(ISERROR(VLOOKUP(A82*10-9+2000,ｴﾝﾄﾘｰ票!C$15:AI$215,3,0)),\"\",VLOOKUP(A82*10-9+2000,ｴﾝﾄﾘｰ票!C$15:AI$215,3,0))","v":""},{"$f":"IF(B82=\"\",\"\",CONCATENATE(VLOOKUP(B82,ｴﾝﾄﾘｰ票!$E$16:$L$215,2,0),\"　\",VLOOKUP(B82,ｴﾝﾄﾘｰ票!$E$16:$L$215,3,0)))","v":""},null,null,null,null,{"$f":"IF(B82=\"\",\"\",VLOOKUP(B82,ｴﾝﾄﾘｰ票!$E$16:$L$215,6,0))","v":""},null,{"$f":"IF(B82=\"\",\"\",IF(VLOOKUP(B82,ｴﾝﾄﾘｰ票!$E$16:$Y$215,10,0)=\"\",\"\",VLOOKUP(B82,ｴﾝﾄﾘｰ票!$E$16:$Y$215,10,0)))","v":""},null,{"$f":"IF(B82=\"\",\"\",IF(VLOOKUP(B82,ｴﾝﾄﾘｰ票!$E$16:$Y$215,14,0)=\"\",\"\",VLOOKUP(B82,ｴﾝﾄﾘｰ票!$E$16:$Y$215,14,0)))","v":""},null,{"$f":"IF(B82=\"\",\"\",IF(VLOOKUP(B82,ｴﾝﾄﾘｰ票!$E$16:$Y$215,18,0)=\"\",\"\",VLOOKUP(B82,ｴﾝﾄﾘｰ票!$E$16:$Y$215,18,0)))","v":""},{"$f":"IF(B82=\"\",\"\",IF(ISERROR(VLOOKUP(B82,ｴﾝﾄﾘｰ票!$AR$16:$AT$205,1,0)),\"\",VLOOKUP(B82,ｴﾝﾄﾘｰ票!$AR$16:$AT$205,2,0)))","v":""},null,{"$f":"IF(B82=\"\",\"\",IF(ISERROR(VLOOKUP(B82,ｴﾝﾄﾘｰ票!$AX$16:$AZ$205,1,0)),\"\",VLOOKUP(B82,ｴﾝﾄﾘｰ票!$AX$16:$AZ$205,2,0)))","v":""}]
[60,{"$f":"IF(ISERROR(VLOOKUP(A83*10-9+2000,ｴﾝﾄﾘｰ票!C$15:AI$215,3,0)),\"\",VLOOKUP(A83*10-9+2000,ｴﾝﾄﾘｰ票!C$15:AI$215,3,0))","v":""},{"$f":"IF(B83=\"\",\"\",CONCATENATE(VLOOKUP(B83,ｴﾝﾄﾘｰ票!$E$16:$L$215,2,0),\"　\",VLOOKUP(B83,ｴﾝﾄﾘｰ票!$E$16:$L$215,3,0)))","v":""},null,null,null,null,{"$f":"IF(B83=\"\",\"\",VLOOKUP(B83,ｴﾝﾄﾘｰ票!$E$16:$L$215,6,0))","v":""},null,{"$f":"IF(B83=\"\",\"\",IF(VLOOKUP(B83,ｴﾝﾄﾘｰ票!$E$16:$Y$215,10,0)=\"\",\"\",VLOOKUP(B83,ｴﾝﾄﾘｰ票!$E$16:$Y$215,10,0)))","v":""},null,{"$f":"IF(B83=\"\",\"\",IF(VLOOKUP(B83,ｴﾝﾄﾘｰ票!$E$16:$Y$215,14,0)=\"\",\"\",VLOOKUP(B83,ｴﾝﾄﾘｰ票!$E$16:$Y$215,14,0)))","v":""},null,{"$f":"IF(B83=\"\",\"\",IF(VLOOKUP(B83,ｴﾝﾄﾘｰ票!$E$16:$Y$215,18,0)=\"\",\"\",VLOOKUP(B83,ｴﾝﾄﾘｰ票!$E$16:$Y$215,18,0)))","v":""},{"$f":"IF(B83=\"\",\"\",IF(ISERROR(VLOOKUP(B83,ｴﾝﾄﾘｰ票!$AR$16:$AT$205,1,0)),\"\",VLOOKUP(B83,ｴﾝﾄﾘｰ票!$AR$16:$AT$205,2,0)))","v":""},null,{"$f":"IF(B83=\"\",\"\",IF(ISERROR(VLOOKUP(B83,ｴﾝﾄﾘｰ票!$AX$16:$AZ$205,1,0)),\"\",VLOOKUP(B83,ｴﾝﾄﾘｰ票!$AX$16:$AZ$205,2,0)))","v":""}]
[61,{"$f":"IF(ISERROR(VLOOKUP(A84*10-9+2000,ｴﾝﾄﾘｰ票!C$15:AI$215,3,0)),\"\",VLOOKUP(A84*10-9+2000,ｴﾝﾄﾘｰ票!C$15:AI$215,3,0))","v":""},{"$f":"IF(B84=\"\",\"\",CONCATENATE(VLOOKUP(B84,ｴﾝﾄﾘｰ票!$E$16:$L$215,2,0),\"　\",VLOOKUP(B84,ｴﾝﾄﾘｰ票!$E$16:$L$215,3,0)))","v":""},null,null,null,null,{"$f":"IF(B84=\"\",\"\",VLOOKUP(B84,ｴﾝﾄﾘｰ票!$E$16:$L$215,6,0))","v":""},null,{"$f":"IF(B84=\"\",\"\",IF(VLOOKUP(B84,ｴﾝﾄﾘｰ票!$E$16:$Y$215,10,0)=\"\",\"\",VLOOKUP(B84,ｴﾝﾄﾘｰ票!$E$16:$Y$215,10,0)))","v":""},null,{"$f":"IF(B84=\"\",\"\",IF(VLOOKUP(B84,ｴﾝﾄﾘｰ票!$E$16:$Y$215,14,0)=\"\",\"\",VLOOKUP(B84,ｴﾝﾄﾘｰ票!$E$16:$Y$215,14,0)))","v":""},null,{"$f":"IF(B84=\"\",\"\",IF(VLOOKUP(B84,ｴﾝﾄﾘｰ票!$E$16:$Y$215,18,0)=\"\",\"\",VLOOKUP(B84,ｴﾝﾄﾘｰ票!$E$16:$Y$215,18,0)))","v":""},{"$f":"IF(B84=\"\",\"\",IF(ISERROR(VLOOKUP(B84,ｴﾝﾄﾘｰ票!$AR$16:$AT$205,1,0)),\"\",VLOOKUP(B84,ｴﾝﾄﾘｰ票!$AR$16:$AT$205,2,0)))","v":""},null,{"$f":"IF(B84=\"\",\"\",IF(ISERROR(VLOOKUP(B84,ｴﾝﾄﾘｰ票!$AX$16:$AZ$205,1,0)),\"\",VLOOKUP(B84,ｴﾝﾄﾘｰ票!$AX$16:$AZ$205,2,0)))","v":""}]
[62,{"$f":"IF(ISERROR(VLOOKUP(A85*10-9+2000,ｴﾝﾄﾘｰ票!C$15:AI$215,3,0)),\"\",VLOOKUP(A85*10-9+2000,ｴﾝﾄﾘｰ票!C$15:AI$215,3,0))","v":""},{"$f":"IF(B85=\"\",\"\",CONCATENATE(VLOOKUP(B85,ｴﾝﾄﾘｰ票!$E$16:$L$215,2,0),\"　\",VLOOKUP(B85,ｴﾝﾄﾘｰ票!$E$16:$L$215,3,0)))","v":""},null,null,null,null,{"$f":"IF(B85=\"\",\"\",VLOOKUP(B85,ｴﾝﾄﾘｰ票!$E$16:$L$215,6,0))","v":""},null,{"$f":"IF(B85=\"\",\"\",IF(VLOOKUP(B85,ｴﾝﾄﾘｰ票!$E$16:$Y$215,10,0)=\"\",\"\",VLOOKUP(B85,ｴﾝﾄﾘｰ票!$E$16:$Y$215,10,0)))","v":""},null,{"$f":"IF(B85=\"\",\"\",IF(VLOOKUP(B85,ｴﾝﾄﾘｰ票!$E$16:$Y$215,14,0)=\"\",\"\",VLOOKUP(B85,ｴﾝﾄﾘｰ票!$E$16:$Y$215,14,0)))","v":""},null,{"$f":"IF(B85=\"\",\"\",IF(VLOOKUP(B85,ｴﾝﾄﾘｰ票!$E$16:$Y$215,18,0)=\"\",\"\",VLOOKUP(B85,ｴﾝﾄﾘｰ票!$E$16:$Y$215,18,0)))","v":""},{"$f":"IF(B85=\"\",\"\",IF(ISERROR(VLOOKUP(B85,ｴﾝﾄﾘｰ票!$AR$16:$AT$205,1,0)),\"\",VLOOKUP(B85,ｴﾝﾄﾘｰ票!$AR$16:$AT$205,2,0)))","v":""},null,{"$f":"IF(B85=\"\",\"\",IF(ISERROR(VLOOKUP(B85,ｴﾝﾄﾘｰ票!$AX$16:$AZ$205,1,0)),\"\",VLOOKUP(B85,ｴﾝﾄﾘｰ票!$AX$16:$AZ$205,2,0)))","v":""}]
[63,{"$f":"IF(ISERROR(VLOOKUP(A86*10-9+2000,ｴﾝﾄﾘｰ票!C$15:AI$215,3,0)),\"\",VLOOKUP(A86*10-9+2000,ｴﾝﾄﾘｰ票!C$15:AI$215,3,0))","v":""},{"$f":"IF(B86=\"\",\"\",CONCATENATE(VLOOKUP(B86,ｴﾝﾄﾘｰ票!$E$16:$L$215,2,0),\"　\",VLOOKUP(B86,ｴﾝﾄﾘｰ票!$E$16:$L$215,3,0)))","v":""},null,null,null,null,{"$f":"IF(B86=\"\",\"\",VLOOKUP(B86,ｴﾝﾄﾘｰ票!$E$16:$L$215,6,0))","v":""},null,{"$f":"IF(B86=\"\",\"\",IF(VLOOKUP(B86,ｴﾝﾄﾘｰ票!$E$16:$Y$215,10,0)=\"\",\"\",VLOOKUP(B86,ｴﾝﾄﾘｰ票!$E$16:$Y$215,10,0)))","v":""},null,{"$f":"IF(B86=\"\",\"\",IF(VLOOKUP(B86,ｴﾝﾄﾘｰ票!$E$16:$Y$215,14,0)=\"\",\"\",VLOOKUP(B86,ｴﾝﾄﾘｰ票!$E$16:$Y$215,14,0)))","v":""},null,{"$f":"IF(B86=\"\",\"\",IF(VLOOKUP(B86,ｴﾝﾄﾘｰ票!$E$16:$Y$215,18,0)=\"\",\"\",VLOOKUP(B86,ｴﾝﾄﾘｰ票!$E$16:$Y$215,18,0)))","v":""},{"$f":"IF(B86=\"\",\"\",IF(ISERROR(VLOOKUP(B86,ｴﾝﾄﾘｰ票!$AR$16:$AT$205,1,0)),\"\",VLOOKUP(B86,ｴﾝﾄﾘｰ票!$AR$16:$AT$205,2,0)))","v":""},null,{"$f":"IF(B86=\"\",\"\",IF(ISERROR(VLOOKUP(B86,ｴﾝﾄﾘｰ票!$AX$16:$AZ$205,1,0)),\"\",VLOOKUP(B86,ｴﾝﾄﾘｰ票!$AX$16:$AZ$205,2,0)))","v":""}]
[64,{"$f":"IF(ISERROR(VLOOKUP(A87*10-9+2000,ｴﾝﾄﾘｰ票!C$15:AI$215,3,0)),\"\",VLOOKUP(A87*10-9+2000,ｴﾝﾄﾘｰ票!C$15:AI$215,3,0))","v":""},{"$f":"IF(B87=\"\",\"\",CONCATENATE(VLOOKUP(B87,ｴﾝﾄﾘｰ票!$E$16:$L$215,2,0),\"　\",VLOOKUP(B87,ｴﾝﾄﾘｰ票!$E$16:$L$215,3,0)))","v":""},null,null,null,null,{"$f":"IF(B87=\"\",\"\",VLOOKUP(B87,ｴﾝﾄﾘｰ票!$E$16:$L$215,6,0))","v":""},null,{"$f":"IF(B87=\"\",\"\",IF(VLOOKUP(B87,ｴﾝﾄﾘｰ票!$E$16:$Y$215,10,0)=\"\",\"\",VLOOKUP(B87,ｴﾝﾄﾘｰ票!$E$16:$Y$215,10,0)))","v":""},null,{"$f":"IF(B87=\"\",\"\",IF(VLOOKUP(B87,ｴﾝﾄﾘｰ票!$E$16:$Y$215,14,0)=\"\",\"\",VLOOKUP(B87,ｴﾝﾄﾘｰ票!$E$16:$Y$215,14,0)))","v":""},null,{"$f":"IF(B87=\"\",\"\",IF(VLOOKUP(B87,ｴﾝﾄﾘｰ票!$E$16:$Y$215,18,0)=\"\",\"\",VLOOKUP(B87,ｴﾝﾄﾘｰ票!$E$16:$Y$215,18,0)))","v":""},{"$f":"IF(B87=\"\",\"\",IF(ISERROR(VLOOKUP(B87,ｴﾝﾄﾘｰ票!$AR$16:$AT$205,1,0)),\"\",VLOOKUP(B87,ｴﾝﾄﾘｰ票!$AR$16:$AT$205,2,0)))","v":""},null,{"$f":"IF(B87=\"\",\"\",IF(ISERROR(VLOOKUP(B87,ｴﾝﾄﾘｰ票!$AX$16:$AZ$205,1,0)),\"\",VLOOKUP(B87,ｴﾝﾄﾘｰ票!$AX$16:$AZ$205,2,0)))","v":""}]
[65,{"$f":"IF(ISERROR(VLOOKUP(A88*10-9+2000,ｴﾝﾄﾘｰ票!C$15:AI$215,3,0)),\"\",VLOOKUP(A88*10-9+2000,ｴﾝﾄﾘｰ票!C$15:AI$215,3,0))","v":""},{"$f":"IF(B88=\"\",\"\",CONCATENATE(VLOOKUP(B88,ｴﾝﾄﾘｰ票!$E$16:$L$215,2,0),\"　\",VLOOKUP(B88,ｴﾝﾄﾘｰ票!$E$16:$L$215,3,0)))","v":""},null,null,null,null,{"$f":"IF(B88=\"\",\"\",VLOOKUP(B88,ｴﾝﾄﾘｰ票!$E$16:$L$215,6,0))","v":""},null,{"$f":"IF(B88=\"\",\"\",IF(VLOOKUP(B88,ｴﾝﾄﾘｰ票!$E$16:$Y$215,10,0)=\"\",\"\",VLOOKUP(B88,ｴﾝﾄﾘｰ票!$E$16:$Y$215,10,0)))","v":""},null,{"$f":"IF(B88=\"\",\"\",IF(VLOOKUP(B88,ｴﾝﾄﾘｰ票!$E$16:$Y$215,14,0)=\"\",\"\",VLOOKUP(B88,ｴﾝﾄﾘｰ票!$E$16:$Y$215,14,0)))","v":""},null,{"$f":"IF(B88=\"\",\"\",IF(VLOOKUP(B88,ｴﾝﾄﾘｰ票!$E$16:$Y$215,18,0)=\"\",\"\",VLOOKUP(B88,ｴﾝﾄﾘｰ票!$E$16:$Y$215,18,0)))","v":""},{"$f":"IF(B88=\"\",\"\",IF(ISERROR(VLOOKUP(B88,ｴﾝﾄﾘｰ票!$AR$16:$AT$205,1,0)),\"\",VLOOKUP(B88,ｴﾝﾄﾘｰ票!$AR$16:$AT$205,2,0)))","v":""},null,{"$f":"IF(B88=\"\",\"\",IF(ISERROR(VLOOKUP(B88,ｴﾝﾄﾘｰ票!$AX$16:$AZ$205,1,0)),\"\",VLOOKUP(B88,ｴﾝﾄﾘｰ票!$AX$16:$AZ$205,2,0)))","v":""}]
[null,{"$f":"ｴﾝﾄﾘｰ票!$G$1","v":"東京高体連陸上第4支部秋季競技会1"},null,null,null,null,null,null,null,null,null,null,null,null,null,null,"申込用紙(A票）"]
[{"$f":"A2","v":"平成30年度"},null,null,null,null,null,null,null,null,null,null,null,null,null,"男子",null,"Ｎｏ．3"]
["学校名",null,{"$f":"ｴﾝﾄﾘｰ票!$G$2","v":0}]
["学校所在地",null,{"$f":"ｴﾝﾄﾘｰ票!$G$5","v":0}]
["学校長",null,{"$f":"ｴﾝﾄﾘｰ票!$G$4","v":0},null,null,null,null,null,null,"印",null,"顧問氏名",null,{"$f":"ｴﾝﾄﾘｰ票!$G$8","v":0},null,null,"印"]
["電話",null,{"$f":"ｴﾝﾄﾘｰ票!$G$6","v":"00:00:00"},null,null,null,"ＦＡＸ",{"$f":"ｴﾝﾄﾘｰ票!$G$7","v":0},null,null,null,"連絡先",null,{"$f":"ｴﾝﾄﾘｰ票!$G$9","v":0}]
[]
[null,null,null,null,null,null,null,null,null,null,null,null,null,"種目"]
[null,"番号","出場者氏名",null,null,null,null,"学年",null,"個人",null,"個人",null,"個人","4×100",null,"4×400"]
[66,{"$f":"IF(ISERROR(VLOOKUP(A98*10-9+2000,ｴﾝﾄﾘｰ票!C$15:AI$215,3,0)),\"\",VLOOKUP(A98*10-9+2000,ｴﾝﾄﾘｰ票!C$15:AI$215,3,0))","v":""},{"$f":"IF(B98=\"\",\"\",CONCATENATE(VLOOKUP(B98,ｴﾝﾄﾘｰ票!$E$16:$L$215,2,0),\"　\",VLOOKUP(B98,ｴﾝﾄﾘｰ票!$E$16:$L$215,3,0)))","v":""},null,null,null,null,{"$f":"IF(B98=\"\",\"\",VLOOKUP(B98,ｴﾝﾄﾘｰ票!$E$16:$L$215,6,0))","v":""},null,{"$f":"IF(B98=\"\",\"\",IF(VLOOKUP(B98,ｴﾝﾄﾘｰ票!$E$16:$Y$215,10,0)=\"\",\"\",VLOOKUP(B98,ｴﾝﾄﾘｰ票!$E$16:$Y$215,10,0)))","v":""},null,{"$f":"IF(B98=\"\",\"\",IF(VLOOKUP(B98,ｴﾝﾄﾘｰ票!$E$16:$Y$215,14,0)=\"\",\"\",VLOOKUP(B98,ｴﾝﾄﾘｰ票!$E$16:$Y$215,14,0)))","v":""},null,{"$f":"IF(B98=\"\",\"\",IF(VLOOKUP(B98,ｴﾝﾄﾘｰ票!$E$16:$Y$215,18,0)=\"\",\"\",VLOOKUP(B98,ｴﾝﾄﾘｰ票!$E$16:$Y$215,18,0)))","v":""},{"$f":"IF(B98=\"\",\"\",IF(ISERROR(VLOOKUP(B98,ｴﾝﾄﾘｰ票!$AR$16:$AT$205,1,0)),\"\",VLOOKUP(B98,ｴﾝﾄﾘｰ票!$AR$16:$AT$205,2,0)))","v":""},null,{"$f":"IF(B98=\"\",\"\",IF(ISERROR(VLOOKUP(B98,ｴﾝﾄﾘｰ票!$AX$16:$AZ$205,1,0)),\"\",VLOOKUP(B98,ｴﾝﾄﾘｰ票!$AX$16:$AZ$205,2,0)))","v":""}]
[67,{"$f":"IF(ISERROR(VLOOKUP(A99*10-9+2000,ｴﾝﾄﾘｰ票!C$15:AI$215,3,0)),\"\",VLOOKUP(A99*10-9+2000,ｴﾝﾄﾘｰ票!C$15:AI$215,3,0))","v":""},{"$f":"IF(B99=\"\",\"\",CONCATENATE(VLOOKUP(B99,ｴﾝﾄﾘｰ票!$E$16:$L$215,2,0),\"　\",VLOOKUP(B99,ｴﾝﾄﾘｰ票!$E$16:$L$215,3,0)))","v":""},null,null,null,null,{"$f":"IF(B99=\"\",\"\",VLOOKUP(B99,ｴﾝﾄﾘｰ票!$E$16:$L$215,6,0))","v":""},null,{"$f":"IF(B99=\"\",\"\",IF(VLOOKUP(B99,ｴﾝﾄﾘｰ票!$E$16:$Y$215,10,0)=\"\",\"\",VLOOKUP(B99,ｴﾝﾄﾘｰ票!$E$16:$Y$215,10,0)))","v":""},null,{"$f":"IF(B99=\"\",\"\",IF(VLOOKUP(B99,ｴﾝﾄﾘｰ票!$E$16:$Y$215,14,0)=\"\",\"\",VLOOKUP(B99,ｴﾝﾄﾘｰ票!$E$16:$Y$215,14,0)))","v":""},null,{"$f":"IF(B99=\"\",\"\",IF(VLOOKUP(B99,ｴﾝﾄﾘｰ票!$E$16:$Y$215,18,0)=\"\",\"\",VLOOKUP(B99,ｴﾝﾄﾘｰ票!$E$16:$Y$215,18,0)))","v":""},{"$f":"IF(B99=\"\",\"\",IF(ISERROR(VLOOKUP(B99,ｴﾝﾄﾘｰ票!$AR$16:$AT$205,1,0)),\"\",VLOOKUP(B99,ｴﾝﾄﾘｰ票!$AR$16:$AT$205,2,0)))","v":""},null,{"$f":"IF(B99=\"\",\"\",IF(ISERROR(VLOOKUP(B99,ｴﾝﾄﾘｰ票!$AX$16:$AZ$205,1,0)),\"\",VLOOKUP(B99,ｴﾝﾄﾘｰ票!$AX$16:$AZ$205,2,0)))","v":""}]
[68,{"$f":"IF(ISERROR(VLOOKUP(A100*10-9+2000,ｴﾝﾄﾘｰ票!C$15:AI$215,3,0)),\"\",VLOOKUP(A100*10-9+2000,ｴﾝﾄﾘｰ票!C$15:AI$215,3,0))","v":""},{"$f":"IF(B100=\"\",\"\",CONCATENATE(VLOOKUP(B100,ｴﾝﾄﾘｰ票!$E$16:$L$215,2,0),\"　\",VLOOKUP(B100,ｴﾝﾄﾘｰ票!$E$16:$L$215,3,0)))","v":""},null,null,null,null,{"$f":"IF(B100=\"\",\"\",VLOOKUP(B100,ｴﾝﾄﾘｰ票!$E$16:$L$215,6,0))","v":""},null,{"$f":"IF(B100=\"\",\"\",IF(VLOOKUP(B100,ｴﾝﾄﾘｰ票!$E$16:$Y$215,10,0)=\"\",\"\",VLOOKUP(B100,ｴﾝﾄﾘｰ票!$E$16:$Y$215,10,0)))","v":""},null,{"$f":"IF(B100=\"\",\"\",IF(VLOOKUP(B100,ｴﾝﾄﾘｰ票!$E$16:$Y$215,14,0)=\"\",\"\",VLOOKUP(B100,ｴﾝﾄﾘｰ票!$E$16:$Y$215,14,0)))","v":""},null,{"$f":"IF(B100=\"\",\"\",IF(VLOOKUP(B100,ｴﾝﾄﾘｰ票!$E$16:$Y$215,18,0)=\"\",\"\",VLOOKUP(B100,ｴﾝﾄﾘｰ票!$E$16:$Y$215,18,0)))","v":""},{"$f":"IF(B100=\"\",\"\",IF(ISERROR(VLOOKUP(B100,ｴﾝﾄﾘｰ票!$AR$16:$AT$205,1,0)),\"\",VLOOKUP(B100,ｴﾝﾄﾘｰ票!$AR$16:$AT$205,2,0)))","v":""},null,{"$f":"IF(B100=\"\",\"\",IF(ISERROR(VLOOKUP(B100,ｴﾝﾄﾘｰ票!$AX$16:$AZ$205,1,0)),\"\",VLOOKUP(B100,ｴﾝﾄﾘｰ票!$AX$16:$AZ$205,2,0)))","v":""}]
[69,{"$f":"IF(ISERROR(VLOOKUP(A101*10-9+2000,ｴﾝﾄﾘｰ票!C$15:AI$215,3,0)),\"\",VLOOKUP(A101*10-9+2000,ｴﾝﾄﾘｰ票!C$15:AI$215,3,0))","v":""},{"$f":"IF(B101=\"\",\"\",CONCATENATE(VLOOKUP(B101,ｴﾝﾄﾘｰ票!$E$16:$L$215,2,0),\"　\",VLOOKUP(B101,ｴﾝﾄﾘｰ票!$E$16:$L$215,3,0)))","v":""},null,null,null,null,{"$f":"IF(B101=\"\",\"\",VLOOKUP(B101,ｴﾝﾄﾘｰ票!$E$16:$L$215,6,0))","v":""},null,{"$f":"IF(B101=\"\",\"\",IF(VLOOKUP(B101,ｴﾝﾄﾘｰ票!$E$16:$Y$215,10,0)=\"\",\"\",VLOOKUP(B101,ｴﾝﾄﾘｰ票!$E$16:$Y$215,10,0)))","v":""},null,{"$f":"IF(B101=\"\",\"\",IF(VLOOKUP(B101,ｴﾝﾄﾘｰ票!$E$16:$Y$215,14,0)=\"\",\"\",VLOOKUP(B101,ｴﾝﾄﾘｰ票!$E$16:$Y$215,14,0)))","v":""},null,{"$f":"IF(B101=\"\",\"\",IF(VLOOKUP(B101,ｴﾝﾄﾘｰ票!$E$16:$Y$215,18,0)=\"\",\"\",VLOOKUP(B101,ｴﾝﾄﾘｰ票!$E$16:$Y$215,18,0)))","v":""},{"$f":"IF(B101=\"\",\"\",IF(ISERROR(VLOOKUP(B101,ｴﾝﾄﾘｰ票!$AR$16:$AT$205,1,0)),\"\",VLOOKUP(B101,ｴﾝﾄﾘｰ票!$AR$16:$AT$205,2,0)))","v":""},null,{"$f":"IF(B101=\"\",\"\",IF(ISERROR(VLOOKUP(B101,ｴﾝﾄﾘｰ票!$AX$16:$AZ$205,1,0)),\"\",VLOOKUP(B101,ｴﾝﾄﾘｰ票!$AX$16:$AZ$205,2,0)))","v":""}]
[70,{"$f":"IF(ISERROR(VLOOKUP(A102*10-9+2000,ｴﾝﾄﾘｰ票!C$15:AI$215,3,0)),\"\",VLOOKUP(A102*10-9+2000,ｴﾝﾄﾘｰ票!C$15:AI$215,3,0))","v":""},{"$f":"IF(B102=\"\",\"\",CONCATENATE(VLOOKUP(B102,ｴﾝﾄﾘｰ票!$E$16:$L$215,2,0),\"　\",VLOOKUP(B102,ｴﾝﾄﾘｰ票!$E$16:$L$215,3,0)))","v":""},null,null,null,null,{"$f":"IF(B102=\"\",\"\",VLOOKUP(B102,ｴﾝﾄﾘｰ票!$E$16:$L$215,6,0))","v":""},null,{"$f":"IF(B102=\"\",\"\",IF(VLOOKUP(B102,ｴﾝﾄﾘｰ票!$E$16:$Y$215,10,0)=\"\",\"\",VLOOKUP(B102,ｴﾝﾄﾘｰ票!$E$16:$Y$215,10,0)))","v":""},null,{"$f":"IF(B102=\"\",\"\",IF(VLOOKUP(B102,ｴﾝﾄﾘｰ票!$E$16:$Y$215,14,0)=\"\",\"\",VLOOKUP(B102,ｴﾝﾄﾘｰ票!$E$16:$Y$215,14,0)))","v":""},null,{"$f":"IF(B102=\"\",\"\",IF(VLOOKUP(B102,ｴﾝﾄﾘｰ票!$E$16:$Y$215,18,0)=\"\",\"\",VLOOKUP(B102,ｴﾝﾄﾘｰ票!$E$16:$Y$215,18,0)))","v":""},{"$f":"IF(B102=\"\",\"\",IF(ISERROR(VLOOKUP(B102,ｴﾝﾄﾘｰ票!$AR$16:$AT$205,1,0)),\"\",VLOOKUP(B102,ｴﾝﾄﾘｰ票!$AR$16:$AT$205,2,0)))","v":""},null,{"$f":"IF(B102=\"\",\"\",IF(ISERROR(VLOOKUP(B102,ｴﾝﾄﾘｰ票!$AX$16:$AZ$205,1,0)),\"\",VLOOKUP(B102,ｴﾝﾄﾘｰ票!$AX$16:$AZ$205,2,0)))","v":""}]
[71,{"$f":"IF(ISERROR(VLOOKUP(A103*10-9+2000,ｴﾝﾄﾘｰ票!C$15:AI$215,3,0)),\"\",VLOOKUP(A103*10-9+2000,ｴﾝﾄﾘｰ票!C$15:AI$215,3,0))","v":""},{"$f":"IF(B103=\"\",\"\",CONCATENATE(VLOOKUP(B103,ｴﾝﾄﾘｰ票!$E$16:$L$215,2,0),\"　\",VLOOKUP(B103,ｴﾝﾄﾘｰ票!$E$16:$L$215,3,0)))","v":""},null,null,null,null,{"$f":"IF(B103=\"\",\"\",VLOOKUP(B103,ｴﾝﾄﾘｰ票!$E$16:$L$215,6,0))","v":""},null,{"$f":"IF(B103=\"\",\"\",IF(VLOOKUP(B103,ｴﾝﾄﾘｰ票!$E$16:$Y$215,10,0)=\"\",\"\",VLOOKUP(B103,ｴﾝﾄﾘｰ票!$E$16:$Y$215,10,0)))","v":""},null,{"$f":"IF(B103=\"\",\"\",IF(VLOOKUP(B103,ｴﾝﾄﾘｰ票!$E$16:$Y$215,14,0)=\"\",\"\",VLOOKUP(B103,ｴﾝﾄﾘｰ票!$E$16:$Y$215,14,0)))","v":""},null,{"$f":"IF(B103=\"\",\"\",IF(VLOOKUP(B103,ｴﾝﾄﾘｰ票!$E$16:$Y$215,18,0)=\"\",\"\",VLOOKUP(B103,ｴﾝﾄﾘｰ票!$E$16:$Y$215,18,0)))","v":""},{"$f":"IF(B103=\"\",\"\",IF(ISERROR(VLOOKUP(B103,ｴﾝﾄﾘｰ票!$AR$16:$AT$205,1,0)),\"\",VLOOKUP(B103,ｴﾝﾄﾘｰ票!$AR$16:$AT$205,2,0)))","v":""},null,{"$f":"IF(B103=\"\",\"\",IF(ISERROR(VLOOKUP(B103,ｴﾝﾄﾘｰ票!$AX$16:$AZ$205,1,0)),\"\",VLOOKUP(B103,ｴﾝﾄﾘｰ票!$AX$16:$AZ$205,2,0)))","v":""}]
[72,{"$f":"IF(ISERROR(VLOOKUP(A104*10-9+2000,ｴﾝﾄﾘｰ票!C$15:AI$215,3,0)),\"\",VLOOKUP(A104*10-9+2000,ｴﾝﾄﾘｰ票!C$15:AI$215,3,0))","v":""},{"$f":"IF(B104=\"\",\"\",CONCATENATE(VLOOKUP(B104,ｴﾝﾄﾘｰ票!$E$16:$L$215,2,0),\"　\",VLOOKUP(B104,ｴﾝﾄﾘｰ票!$E$16:$L$215,3,0)))","v":""},null,null,null,null,{"$f":"IF(B104=\"\",\"\",VLOOKUP(B104,ｴﾝﾄﾘｰ票!$E$16:$L$215,6,0))","v":""},null,{"$f":"IF(B104=\"\",\"\",IF(VLOOKUP(B104,ｴﾝﾄﾘｰ票!$E$16:$Y$215,10,0)=\"\",\"\",VLOOKUP(B104,ｴﾝﾄﾘｰ票!$E$16:$Y$215,10,0)))","v":""},null,{"$f":"IF(B104=\"\",\"\",IF(VLOOKUP(B104,ｴﾝﾄﾘｰ票!$E$16:$Y$215,14,0)=\"\",\"\",VLOOKUP(B104,ｴﾝﾄﾘｰ票!$E$16:$Y$215,14,0)))","v":""},null,{"$f":"IF(B104=\"\",\"\",IF(VLOOKUP(B104,ｴﾝﾄﾘｰ票!$E$16:$Y$215,18,0)=\"\",\"\",VLOOKUP(B104,ｴﾝﾄﾘｰ票!$E$16:$Y$215,18,0)))","v":""},{"$f":"IF(B104=\"\",\"\",IF(ISERROR(VLOOKUP(B104,ｴﾝﾄﾘｰ票!$AR$16:$AT$205,1,0)),\"\",VLOOKUP(B104,ｴﾝﾄﾘｰ票!$AR$16:$AT$205,2,0)))","v":""},null,{"$f":"IF(B104=\"\",\"\",IF(ISERROR(VLOOKUP(B104,ｴﾝﾄﾘｰ票!$AX$16:$AZ$205,1,0)),\"\",VLOOKUP(B104,ｴﾝﾄﾘｰ票!$AX$16:$AZ$205,2,0)))","v":""}]
[73,{"$f":"IF(ISERROR(VLOOKUP(A105*10-9+2000,ｴﾝﾄﾘｰ票!C$15:AI$215,3,0)),\"\",VLOOKUP(A105*10-9+2000,ｴﾝﾄﾘｰ票!C$15:AI$215,3,0))","v":""},{"$f":"IF(B105=\"\",\"\",CONCATENATE(VLOOKUP(B105,ｴﾝﾄﾘｰ票!$E$16:$L$215,2,0),\"　\",VLOOKUP(B105,ｴﾝﾄﾘｰ票!$E$16:$L$215,3,0)))","v":""},null,null,null,null,{"$f":"IF(B105=\"\",\"\",VLOOKUP(B105,ｴﾝﾄﾘｰ票!$E$16:$L$215,6,0))","v":""},null,{"$f":"IF(B105=\"\",\"\",IF(VLOOKUP(B105,ｴﾝﾄﾘｰ票!$E$16:$Y$215,10,0)=\"\",\"\",VLOOKUP(B105,ｴﾝﾄﾘｰ票!$E$16:$Y$215,10,0)))","v":""},null,{"$f":"IF(B105=\"\",\"\",IF(VLOOKUP(B105,ｴﾝﾄﾘｰ票!$E$16:$Y$215,14,0)=\"\",\"\",VLOOKUP(B105,ｴﾝﾄﾘｰ票!$E$16:$Y$215,14,0)))","v":""},null,{"$f":"IF(B105=\"\",\"\",IF(VLOOKUP(B105,ｴﾝﾄﾘｰ票!$E$16:$Y$215,18,0)=\"\",\"\",VLOOKUP(B105,ｴﾝﾄﾘｰ票!$E$16:$Y$215,18,0)))","v":""},{"$f":"IF(B105=\"\",\"\",IF(ISERROR(VLOOKUP(B105,ｴﾝﾄﾘｰ票!$AR$16:$AT$205,1,0)),\"\",VLOOKUP(B105,ｴﾝﾄﾘｰ票!$AR$16:$AT$205,2,0)))","v":""},null,{"$f":"IF(B105=\"\",\"\",IF(ISERROR(VLOOKUP(B105,ｴﾝﾄﾘｰ票!$AX$16:$AZ$205,1,0)),\"\",VLOOKUP(B105,ｴﾝﾄﾘｰ票!$AX$16:$AZ$205,2,0)))","v":""}]
[74,{"$f":"IF(ISERROR(VLOOKUP(A106*10-9+2000,ｴﾝﾄﾘｰ票!C$15:AI$215,3,0)),\"\",VLOOKUP(A106*10-9+2000,ｴﾝﾄﾘｰ票!C$15:AI$215,3,0))","v":""},{"$f":"IF(B106=\"\",\"\",CONCATENATE(VLOOKUP(B106,ｴﾝﾄﾘｰ票!$E$16:$L$215,2,0),\"　\",VLOOKUP(B106,ｴﾝﾄﾘｰ票!$E$16:$L$215,3,0)))","v":""},null,null,null,null,{"$f":"IF(B106=\"\",\"\",VLOOKUP(B106,ｴﾝﾄﾘｰ票!$E$16:$L$215,6,0))","v":""},null,{"$f":"IF(B106=\"\",\"\",IF(VLOOKUP(B106,ｴﾝﾄﾘｰ票!$E$16:$Y$215,10,0)=\"\",\"\",VLOOKUP(B106,ｴﾝﾄﾘｰ票!$E$16:$Y$215,10,0)))","v":""},null,{"$f":"IF(B106=\"\",\"\",IF(VLOOKUP(B106,ｴﾝﾄﾘｰ票!$E$16:$Y$215,14,0)=\"\",\"\",VLOOKUP(B106,ｴﾝﾄﾘｰ票!$E$16:$Y$215,14,0)))","v":""},null,{"$f":"IF(B106=\"\",\"\",IF(VLOOKUP(B106,ｴﾝﾄﾘｰ票!$E$16:$Y$215,18,0)=\"\",\"\",VLOOKUP(B106,ｴﾝﾄﾘｰ票!$E$16:$Y$215,18,0)))","v":""},{"$f":"IF(B106=\"\",\"\",IF(ISERROR(VLOOKUP(B106,ｴﾝﾄﾘｰ票!$AR$16:$AT$205,1,0)),\"\",VLOOKUP(B106,ｴﾝﾄﾘｰ票!$AR$16:$AT$205,2,0)))","v":""},null,{"$f":"IF(B106=\"\",\"\",IF(ISERROR(VLOOKUP(B106,ｴﾝﾄﾘｰ票!$AX$16:$AZ$205,1,0)),\"\",VLOOKUP(B106,ｴﾝﾄﾘｰ票!$AX$16:$AZ$205,2,0)))","v":""}]
[75,{"$f":"IF(ISERROR(VLOOKUP(A107*10-9+2000,ｴﾝﾄﾘｰ票!C$15:AI$215,3,0)),\"\",VLOOKUP(A107*10-9+2000,ｴﾝﾄﾘｰ票!C$15:AI$215,3,0))","v":""},{"$f":"IF(B107=\"\",\"\",CONCATENATE(VLOOKUP(B107,ｴﾝﾄﾘｰ票!$E$16:$L$215,2,0),\"　\",VLOOKUP(B107,ｴﾝﾄﾘｰ票!$E$16:$L$215,3,0)))","v":""},null,null,null,null,{"$f":"IF(B107=\"\",\"\",VLOOKUP(B107,ｴﾝﾄﾘｰ票!$E$16:$L$215,6,0))","v":""},null,{"$f":"IF(B107=\"\",\"\",IF(VLOOKUP(B107,ｴﾝﾄﾘｰ票!$E$16:$Y$215,10,0)=\"\",\"\",VLOOKUP(B107,ｴﾝﾄﾘｰ票!$E$16:$Y$215,10,0)))","v":""},null,{"$f":"IF(B107=\"\",\"\",IF(VLOOKUP(B107,ｴﾝﾄﾘｰ票!$E$16:$Y$215,14,0)=\"\",\"\",VLOOKUP(B107,ｴﾝﾄﾘｰ票!$E$16:$Y$215,14,0)))","v":""},null,{"$f":"IF(B107=\"\",\"\",IF(VLOOKUP(B107,ｴﾝﾄﾘｰ票!$E$16:$Y$215,18,0)=\"\",\"\",VLOOKUP(B107,ｴﾝﾄﾘｰ票!$E$16:$Y$215,18,0)))","v":""},{"$f":"IF(B107=\"\",\"\",IF(ISERROR(VLOOKUP(B107,ｴﾝﾄﾘｰ票!$AR$16:$AT$205,1,0)),\"\",VLOOKUP(B107,ｴﾝﾄﾘｰ票!$AR$16:$AT$205,2,0)))","v":""},null,{"$f":"IF(B107=\"\",\"\",IF(ISERROR(VLOOKUP(B107,ｴﾝﾄﾘｰ票!$AX$16:$AZ$205,1,0)),\"\",VLOOKUP(B107,ｴﾝﾄﾘｰ票!$AX$16:$AZ$205,2,0)))","v":""}]
[76,{"$f":"IF(ISERROR(VLOOKUP(A108*10-9+2000,ｴﾝﾄﾘｰ票!C$15:AI$215,3,0)),\"\",VLOOKUP(A108*10-9+2000,ｴﾝﾄﾘｰ票!C$15:AI$215,3,0))","v":""},{"$f":"IF(B108=\"\",\"\",CONCATENATE(VLOOKUP(B108,ｴﾝﾄﾘｰ票!$E$16:$L$215,2,0),\"　\",VLOOKUP(B108,ｴﾝﾄﾘｰ票!$E$16:$L$215,3,0)))","v":""},null,null,null,null,{"$f":"IF(B108=\"\",\"\",VLOOKUP(B108,ｴﾝﾄﾘｰ票!$E$16:$L$215,6,0))","v":""},null,{"$f":"IF(B108=\"\",\"\",IF(VLOOKUP(B108,ｴﾝﾄﾘｰ票!$E$16:$Y$215,10,0)=\"\",\"\",VLOOKUP(B108,ｴﾝﾄﾘｰ票!$E$16:$Y$215,10,0)))","v":""},null,{"$f":"IF(B108=\"\",\"\",IF(VLOOKUP(B108,ｴﾝﾄﾘｰ票!$E$16:$Y$215,14,0)=\"\",\"\",VLOOKUP(B108,ｴﾝﾄﾘｰ票!$E$16:$Y$215,14,0)))","v":""},null,{"$f":"IF(B108=\"\",\"\",IF(VLOOKUP(B108,ｴﾝﾄﾘｰ票!$E$16:$Y$215,18,0)=\"\",\"\",VLOOKUP(B108,ｴﾝﾄﾘｰ票!$E$16:$Y$215,18,0)))","v":""},{"$f":"IF(B108=\"\",\"\",IF(ISERROR(VLOOKUP(B108,ｴﾝﾄﾘｰ票!$AR$16:$AT$205,1,0)),\"\",VLOOKUP(B108,ｴﾝﾄﾘｰ票!$AR$16:$AT$205,2,0)))","v":""},null,{"$f":"IF(B108=\"\",\"\",IF(ISERROR(VLOOKUP(B108,ｴﾝﾄﾘｰ票!$AX$16:$AZ$205,1,0)),\"\",VLOOKUP(B108,ｴﾝﾄﾘｰ票!$AX$16:$AZ$205,2,0)))","v":""}]
[77,{"$f":"IF(ISERROR(VLOOKUP(A109*10-9+2000,ｴﾝﾄﾘｰ票!C$15:AI$215,3,0)),\"\",VLOOKUP(A109*10-9+2000,ｴﾝﾄﾘｰ票!C$15:AI$215,3,0))","v":""},{"$f":"IF(B109=\"\",\"\",CONCATENATE(VLOOKUP(B109,ｴﾝﾄﾘｰ票!$E$16:$L$215,2,0),\"　\",VLOOKUP(B109,ｴﾝﾄﾘｰ票!$E$16:$L$215,3,0)))","v":""},null,null,null,null,{"$f":"IF(B109=\"\",\"\",VLOOKUP(B109,ｴﾝﾄﾘｰ票!$E$16:$L$215,6,0))","v":""},null,{"$f":"IF(B109=\"\",\"\",IF(VLOOKUP(B109,ｴﾝﾄﾘｰ票!$E$16:$Y$215,10,0)=\"\",\"\",VLOOKUP(B109,ｴﾝﾄﾘｰ票!$E$16:$Y$215,10,0)))","v":""},null,{"$f":"IF(B109=\"\",\"\",IF(VLOOKUP(B109,ｴﾝﾄﾘｰ票!$E$16:$Y$215,14,0)=\"\",\"\",VLOOKUP(B109,ｴﾝﾄﾘｰ票!$E$16:$Y$215,14,0)))","v":""},null,{"$f":"IF(B109=\"\",\"\",IF(VLOOKUP(B109,ｴﾝﾄﾘｰ票!$E$16:$Y$215,18,0)=\"\",\"\",VLOOKUP(B109,ｴﾝﾄﾘｰ票!$E$16:$Y$215,18,0)))","v":""},{"$f":"IF(B109=\"\",\"\",IF(ISERROR(VLOOKUP(B109,ｴﾝﾄﾘｰ票!$AR$16:$AT$205,1,0)),\"\",VLOOKUP(B109,ｴﾝﾄﾘｰ票!$AR$16:$AT$205,2,0)))","v":""},null,{"$f":"IF(B109=\"\",\"\",IF(ISERROR(VLOOKUP(B109,ｴﾝﾄﾘｰ票!$AX$16:$AZ$205,1,0)),\"\",VLOOKUP(B109,ｴﾝﾄﾘｰ票!$AX$16:$AZ$205,2,0)))","v":""}]
[78,{"$f":"IF(ISERROR(VLOOKUP(A110*10-9+2000,ｴﾝﾄﾘｰ票!C$15:AI$215,3,0)),\"\",VLOOKUP(A110*10-9+2000,ｴﾝﾄﾘｰ票!C$15:AI$215,3,0))","v":""},{"$f":"IF(B110=\"\",\"\",CONCATENATE(VLOOKUP(B110,ｴﾝﾄﾘｰ票!$E$16:$L$215,2,0),\"　\",VLOOKUP(B110,ｴﾝﾄﾘｰ票!$E$16:$L$215,3,0)))","v":""},null,null,null,null,{"$f":"IF(B110=\"\",\"\",VLOOKUP(B110,ｴﾝﾄﾘｰ票!$E$16:$L$215,6,0))","v":""},null,{"$f":"IF(B110=\"\",\"\",IF(VLOOKUP(B110,ｴﾝﾄﾘｰ票!$E$16:$Y$215,10,0)=\"\",\"\",VLOOKUP(B110,ｴﾝﾄﾘｰ票!$E$16:$Y$215,10,0)))","v":""},null,{"$f":"IF(B110=\"\",\"\",IF(VLOOKUP(B110,ｴﾝﾄﾘｰ票!$E$16:$Y$215,14,0)=\"\",\"\",VLOOKUP(B110,ｴﾝﾄﾘｰ票!$E$16:$Y$215,14,0)))","v":""},null,{"$f":"IF(B110=\"\",\"\",IF(VLOOKUP(B110,ｴﾝﾄﾘｰ票!$E$16:$Y$215,18,0)=\"\",\"\",VLOOKUP(B110,ｴﾝﾄﾘｰ票!$E$16:$Y$215,18,0)))","v":""},{"$f":"IF(B110=\"\",\"\",IF(ISERROR(VLOOKUP(B110,ｴﾝﾄﾘｰ票!$AR$16:$AT$205,1,0)),\"\",VLOOKUP(B110,ｴﾝﾄﾘｰ票!$AR$16:$AT$205,2,0)))","v":""},null,{"$f":"IF(B110=\"\",\"\",IF(ISERROR(VLOOKUP(B110,ｴﾝﾄﾘｰ票!$AX$16:$AZ$205,1,0)),\"\",VLOOKUP(B110,ｴﾝﾄﾘｰ票!$AX$16:$AZ$205,2,0)))","v":""}]
[79,{"$f":"IF(ISERROR(VLOOKUP(A111*10-9+2000,ｴﾝﾄﾘｰ票!C$15:AI$215,3,0)),\"\",VLOOKUP(A111*10-9+2000,ｴﾝﾄﾘｰ票!C$15:AI$215,3,0))","v":""},{"$f":"IF(B111=\"\",\"\",CONCATENATE(VLOOKUP(B111,ｴﾝﾄﾘｰ票!$E$16:$L$215,2,0),\"　\",VLOOKUP(B111,ｴﾝﾄﾘｰ票!$E$16:$L$215,3,0)))","v":""},null,null,null,null,{"$f":"IF(B111=\"\",\"\",VLOOKUP(B111,ｴﾝﾄﾘｰ票!$E$16:$L$215,6,0))","v":""},null,{"$f":"IF(B111=\"\",\"\",IF(VLOOKUP(B111,ｴﾝﾄﾘｰ票!$E$16:$Y$215,10,0)=\"\",\"\",VLOOKUP(B111,ｴﾝﾄﾘｰ票!$E$16:$Y$215,10,0)))","v":""},null,{"$f":"IF(B111=\"\",\"\",IF(VLOOKUP(B111,ｴﾝﾄﾘｰ票!$E$16:$Y$215,14,0)=\"\",\"\",VLOOKUP(B111,ｴﾝﾄﾘｰ票!$E$16:$Y$215,14,0)))","v":""},null,{"$f":"IF(B111=\"\",\"\",IF(VLOOKUP(B111,ｴﾝﾄﾘｰ票!$E$16:$Y$215,18,0)=\"\",\"\",VLOOKUP(B111,ｴﾝﾄﾘｰ票!$E$16:$Y$215,18,0)))","v":""},{"$f":"IF(B111=\"\",\"\",IF(ISERROR(VLOOKUP(B111,ｴﾝﾄﾘｰ票!$AR$16:$AT$205,1,0)),\"\",VLOOKUP(B111,ｴﾝﾄﾘｰ票!$AR$16:$AT$205,2,0)))","v":""},null,{"$f":"IF(B111=\"\",\"\",IF(ISERROR(VLOOKUP(B111,ｴﾝﾄﾘｰ票!$AX$16:$AZ$205,1,0)),\"\",VLOOKUP(B111,ｴﾝﾄﾘｰ票!$AX$16:$AZ$205,2,0)))","v":""}]
[80,{"$f":"IF(ISERROR(VLOOKUP(A112*10-9+2000,ｴﾝﾄﾘｰ票!C$15:AI$215,3,0)),\"\",VLOOKUP(A112*10-9+2000,ｴﾝﾄﾘｰ票!C$15:AI$215,3,0))","v":""},{"$f":"IF(B112=\"\",\"\",CONCATENATE(VLOOKUP(B112,ｴﾝﾄﾘｰ票!$E$16:$L$215,2,0),\"　\",VLOOKUP(B112,ｴﾝﾄﾘｰ票!$E$16:$L$215,3,0)))","v":""},null,null,null,null,{"$f":"IF(B112=\"\",\"\",VLOOKUP(B112,ｴﾝﾄﾘｰ票!$E$16:$L$215,6,0))","v":""},null,{"$f":"IF(B112=\"\",\"\",IF(VLOOKUP(B112,ｴﾝﾄﾘｰ票!$E$16:$Y$215,10,0)=\"\",\"\",VLOOKUP(B112,ｴﾝﾄﾘｰ票!$E$16:$Y$215,10,0)))","v":""},null,{"$f":"IF(B112=\"\",\"\",IF(VLOOKUP(B112,ｴﾝﾄﾘｰ票!$E$16:$Y$215,14,0)=\"\",\"\",VLOOKUP(B112,ｴﾝﾄﾘｰ票!$E$16:$Y$215,14,0)))","v":""},null,{"$f":"IF(B112=\"\",\"\",IF(VLOOKUP(B112,ｴﾝﾄﾘｰ票!$E$16:$Y$215,18,0)=\"\",\"\",VLOOKUP(B112,ｴﾝﾄﾘｰ票!$E$16:$Y$215,18,0)))","v":""},{"$f":"IF(B112=\"\",\"\",IF(ISERROR(VLOOKUP(B112,ｴﾝﾄﾘｰ票!$AR$16:$AT$205,1,0)),\"\",VLOOKUP(B112,ｴﾝﾄﾘｰ票!$AR$16:$AT$205,2,0)))","v":""},null,{"$f":"IF(B112=\"\",\"\",IF(ISERROR(VLOOKUP(B112,ｴﾝﾄﾘｰ票!$AX$16:$AZ$205,1,0)),\"\",VLOOKUP(B112,ｴﾝﾄﾘｰ票!$AX$16:$AZ$205,2,0)))","v":""}]
[81,{"$f":"IF(ISERROR(VLOOKUP(A113*10-9+2000,ｴﾝﾄﾘｰ票!C$15:AI$215,3,0)),\"\",VLOOKUP(A113*10-9+2000,ｴﾝﾄﾘｰ票!C$15:AI$215,3,0))","v":""},{"$f":"IF(B113=\"\",\"\",CONCATENATE(VLOOKUP(B113,ｴﾝﾄﾘｰ票!$E$16:$L$215,2,0),\"　\",VLOOKUP(B113,ｴﾝﾄﾘｰ票!$E$16:$L$215,3,0)))","v":""},null,null,null,null,{"$f":"IF(B113=\"\",\"\",VLOOKUP(B113,ｴﾝﾄﾘｰ票!$E$16:$L$215,6,0))","v":""},null,{"$f":"IF(B113=\"\",\"\",IF(VLOOKUP(B113,ｴﾝﾄﾘｰ票!$E$16:$Y$215,10,0)=\"\",\"\",VLOOKUP(B113,ｴﾝﾄﾘｰ票!$E$16:$Y$215,10,0)))","v":""},null,{"$f":"IF(B113=\"\",\"\",IF(VLOOKUP(B113,ｴﾝﾄﾘｰ票!$E$16:$Y$215,14,0)=\"\",\"\",VLOOKUP(B113,ｴﾝﾄﾘｰ票!$E$16:$Y$215,14,0)))","v":""},null,{"$f":"IF(B113=\"\",\"\",IF(VLOOKUP(B113,ｴﾝﾄﾘｰ票!$E$16:$Y$215,18,0)=\"\",\"\",VLOOKUP(B113,ｴﾝﾄﾘｰ票!$E$16:$Y$215,18,0)))","v":""},{"$f":"IF(B113=\"\",\"\",IF(ISERROR(VLOOKUP(B113,ｴﾝﾄﾘｰ票!$AR$16:$AT$205,1,0)),\"\",VLOOKUP(B113,ｴﾝﾄﾘｰ票!$AR$16:$AT$205,2,0)))","v":""},null,{"$f":"IF(B113=\"\",\"\",IF(ISERROR(VLOOKUP(B113,ｴﾝﾄﾘｰ票!$AX$16:$AZ$205,1,0)),\"\",VLOOKUP(B113,ｴﾝﾄﾘｰ票!$AX$16:$AZ$205,2,0)))","v":""}]
[82,{"$f":"IF(ISERROR(VLOOKUP(A114*10-9+2000,ｴﾝﾄﾘｰ票!C$15:AI$215,3,0)),\"\",VLOOKUP(A114*10-9+2000,ｴﾝﾄﾘｰ票!C$15:AI$215,3,0))","v":""},{"$f":"IF(B114=\"\",\"\",CONCATENATE(VLOOKUP(B114,ｴﾝﾄﾘｰ票!$E$16:$L$215,2,0),\"　\",VLOOKUP(B114,ｴﾝﾄﾘｰ票!$E$16:$L$215,3,0)))","v":""},null,null,null,null,{"$f":"IF(B114=\"\",\"\",VLOOKUP(B114,ｴﾝﾄﾘｰ票!$E$16:$L$215,6,0))","v":""},null,{"$f":"IF(B114=\"\",\"\",IF(VLOOKUP(B114,ｴﾝﾄﾘｰ票!$E$16:$Y$215,10,0)=\"\",\"\",VLOOKUP(B114,ｴﾝﾄﾘｰ票!$E$16:$Y$215,10,0)))","v":""},null,{"$f":"IF(B114=\"\",\"\",IF(VLOOKUP(B114,ｴﾝﾄﾘｰ票!$E$16:$Y$215,14,0)=\"\",\"\",VLOOKUP(B114,ｴﾝﾄﾘｰ票!$E$16:$Y$215,14,0)))","v":""},null,{"$f":"IF(B114=\"\",\"\",IF(VLOOKUP(B114,ｴﾝﾄﾘｰ票!$E$16:$Y$215,18,0)=\"\",\"\",VLOOKUP(B114,ｴﾝﾄﾘｰ票!$E$16:$Y$215,18,0)))","v":""},{"$f":"IF(B114=\"\",\"\",IF(ISERROR(VLOOKUP(B114,ｴﾝﾄﾘｰ票!$AR$16:$AT$205,1,0)),\"\",VLOOKUP(B114,ｴﾝﾄﾘｰ票!$AR$16:$AT$205,2,0)))","v":""},null,{"$f":"IF(B114=\"\",\"\",IF(ISERROR(VLOOKUP(B114,ｴﾝﾄﾘｰ票!$AX$16:$AZ$205,1,0)),\"\",VLOOKUP(B114,ｴﾝﾄﾘｰ票!$AX$16:$AZ$205,2,0)))","v":""}]
[83,{"$f":"IF(ISERROR(VLOOKUP(A115*10-9+2000,ｴﾝﾄﾘｰ票!C$15:AI$215,3,0)),\"\",VLOOKUP(A115*10-9+2000,ｴﾝﾄﾘｰ票!C$15:AI$215,3,0))","v":""},{"$f":"IF(B115=\"\",\"\",CONCATENATE(VLOOKUP(B115,ｴﾝﾄﾘｰ票!$E$16:$L$215,2,0),\"　\",VLOOKUP(B115,ｴﾝﾄﾘｰ票!$E$16:$L$215,3,0)))","v":""},null,null,null,null,{"$f":"IF(B115=\"\",\"\",VLOOKUP(B115,ｴﾝﾄﾘｰ票!$E$16:$L$215,6,0))","v":""},null,{"$f":"IF(B115=\"\",\"\",IF(VLOOKUP(B115,ｴﾝﾄﾘｰ票!$E$16:$Y$215,10,0)=\"\",\"\",VLOOKUP(B115,ｴﾝﾄﾘｰ票!$E$16:$Y$215,10,0)))","v":""},null,{"$f":"IF(B115=\"\",\"\",IF(VLOOKUP(B115,ｴﾝﾄﾘｰ票!$E$16:$Y$215,14,0)=\"\",\"\",VLOOKUP(B115,ｴﾝﾄﾘｰ票!$E$16:$Y$215,14,0)))","v":""},null,{"$f":"IF(B115=\"\",\"\",IF(VLOOKUP(B115,ｴﾝﾄﾘｰ票!$E$16:$Y$215,18,0)=\"\",\"\",VLOOKUP(B115,ｴﾝﾄﾘｰ票!$E$16:$Y$215,18,0)))","v":""},{"$f":"IF(B115=\"\",\"\",IF(ISERROR(VLOOKUP(B115,ｴﾝﾄﾘｰ票!$AR$16:$AT$205,1,0)),\"\",VLOOKUP(B115,ｴﾝﾄﾘｰ票!$AR$16:$AT$205,2,0)))","v":""},null,{"$f":"IF(B115=\"\",\"\",IF(ISERROR(VLOOKUP(B115,ｴﾝﾄﾘｰ票!$AX$16:$AZ$205,1,0)),\"\",VLOOKUP(B115,ｴﾝﾄﾘｰ票!$AX$16:$AZ$205,2,0)))","v":""}]
[84,{"$f":"IF(ISERROR(VLOOKUP(A116*10-9+2000,ｴﾝﾄﾘｰ票!C$15:AI$215,3,0)),\"\",VLOOKUP(A116*10-9+2000,ｴﾝﾄﾘｰ票!C$15:AI$215,3,0))","v":""},{"$f":"IF(B116=\"\",\"\",CONCATENATE(VLOOKUP(B116,ｴﾝﾄﾘｰ票!$E$16:$L$215,2,0),\"　\",VLOOKUP(B116,ｴﾝﾄﾘｰ票!$E$16:$L$215,3,0)))","v":""},null,null,null,null,{"$f":"IF(B116=\"\",\"\",VLOOKUP(B116,ｴﾝﾄﾘｰ票!$E$16:$L$215,6,0))","v":""},null,{"$f":"IF(B116=\"\",\"\",IF(VLOOKUP(B116,ｴﾝﾄﾘｰ票!$E$16:$Y$215,10,0)=\"\",\"\",VLOOKUP(B116,ｴﾝﾄﾘｰ票!$E$16:$Y$215,10,0)))","v":""},null,{"$f":"IF(B116=\"\",\"\",IF(VLOOKUP(B116,ｴﾝﾄﾘｰ票!$E$16:$Y$215,14,0)=\"\",\"\",VLOOKUP(B116,ｴﾝﾄﾘｰ票!$E$16:$Y$215,14,0)))","v":""},null,{"$f":"IF(B116=\"\",\"\",IF(VLOOKUP(B116,ｴﾝﾄﾘｰ票!$E$16:$Y$215,18,0)=\"\",\"\",VLOOKUP(B116,ｴﾝﾄﾘｰ票!$E$16:$Y$215,18,0)))","v":""},{"$f":"IF(B116=\"\",\"\",IF(ISERROR(VLOOKUP(B116,ｴﾝﾄﾘｰ票!$AR$16:$AT$205,1,0)),\"\",VLOOKUP(B116,ｴﾝﾄﾘｰ票!$AR$16:$AT$205,2,0)))","v":""},null,{"$f":"IF(B116=\"\",\"\",IF(ISERROR(VLOOKUP(B116,ｴﾝﾄﾘｰ票!$AX$16:$AZ$205,1,0)),\"\",VLOOKUP(B116,ｴﾝﾄﾘｰ票!$AX$16:$AZ$205,2,0)))","v":""}]
[85,{"$f":"IF(ISERROR(VLOOKUP(A117*10-9+2000,ｴﾝﾄﾘｰ票!C$15:AI$215,3,0)),\"\",VLOOKUP(A117*10-9+2000,ｴﾝﾄﾘｰ票!C$15:AI$215,3,0))","v":""},{"$f":"IF(B117=\"\",\"\",CONCATENATE(VLOOKUP(B117,ｴﾝﾄﾘｰ票!$E$16:$L$215,2,0),\"　\",VLOOKUP(B117,ｴﾝﾄﾘｰ票!$E$16:$L$215,3,0)))","v":""},null,null,null,null,{"$f":"IF(B117=\"\",\"\",VLOOKUP(B117,ｴﾝﾄﾘｰ票!$E$16:$L$215,6,0))","v":""},null,{"$f":"IF(B117=\"\",\"\",IF(VLOOKUP(B117,ｴﾝﾄﾘｰ票!$E$16:$Y$215,10,0)=\"\",\"\",VLOOKUP(B117,ｴﾝﾄﾘｰ票!$E$16:$Y$215,10,0)))","v":""},null,{"$f":"IF(B117=\"\",\"\",IF(VLOOKUP(B117,ｴﾝﾄﾘｰ票!$E$16:$Y$215,14,0)=\"\",\"\",VLOOKUP(B117,ｴﾝﾄﾘｰ票!$E$16:$Y$215,14,0)))","v":""},null,{"$f":"IF(B117=\"\",\"\",IF(VLOOKUP(B117,ｴﾝﾄﾘｰ票!$E$16:$Y$215,18,0)=\"\",\"\",VLOOKUP(B117,ｴﾝﾄﾘｰ票!$E$16:$Y$215,18,0)))","v":""},{"$f":"IF(B117=\"\",\"\",IF(ISERROR(VLOOKUP(B117,ｴﾝﾄﾘｰ票!$AR$16:$AT$205,1,0)),\"\",VLOOKUP(B117,ｴﾝﾄﾘｰ票!$AR$16:$AT$205,2,0)))","v":""},null,{"$f":"IF(B117=\"\",\"\",IF(ISERROR(VLOOKUP(B117,ｴﾝﾄﾘｰ票!$AX$16:$AZ$205,1,0)),\"\",VLOOKUP(B117,ｴﾝﾄﾘｰ票!$AX$16:$AZ$205,2,0)))","v":""}]
[86,{"$f":"IF(ISERROR(VLOOKUP(A118*10-9+2000,ｴﾝﾄﾘｰ票!C$15:AI$215,3,0)),\"\",VLOOKUP(A118*10-9+2000,ｴﾝﾄﾘｰ票!C$15:AI$215,3,0))","v":""},{"$f":"IF(B118=\"\",\"\",CONCATENATE(VLOOKUP(B118,ｴﾝﾄﾘｰ票!$E$16:$L$215,2,0),\"　\",VLOOKUP(B118,ｴﾝﾄﾘｰ票!$E$16:$L$215,3,0)))","v":""},null,null,null,null,{"$f":"IF(B118=\"\",\"\",VLOOKUP(B118,ｴﾝﾄﾘｰ票!$E$16:$L$215,6,0))","v":""},null,{"$f":"IF(B118=\"\",\"\",IF(VLOOKUP(B118,ｴﾝﾄﾘｰ票!$E$16:$Y$215,10,0)=\"\",\"\",VLOOKUP(B118,ｴﾝﾄﾘｰ票!$E$16:$Y$215,10,0)))","v":""},null,{"$f":"IF(B118=\"\",\"\",IF(VLOOKUP(B118,ｴﾝﾄﾘｰ票!$E$16:$Y$215,14,0)=\"\",\"\",VLOOKUP(B118,ｴﾝﾄﾘｰ票!$E$16:$Y$215,14,0)))","v":""},null,{"$f":"IF(B118=\"\",\"\",IF(VLOOKUP(B118,ｴﾝﾄﾘｰ票!$E$16:$Y$215,18,0)=\"\",\"\",VLOOKUP(B118,ｴﾝﾄﾘｰ票!$E$16:$Y$215,18,0)))","v":""},{"$f":"IF(B118=\"\",\"\",IF(ISERROR(VLOOKUP(B118,ｴﾝﾄﾘｰ票!$AR$16:$AT$205,1,0)),\"\",VLOOKUP(B118,ｴﾝﾄﾘｰ票!$AR$16:$AT$205,2,0)))","v":""},null,{"$f":"IF(B118=\"\",\"\",IF(ISERROR(VLOOKUP(B118,ｴﾝﾄﾘｰ票!$AX$16:$AZ$205,1,0)),\"\",VLOOKUP(B118,ｴﾝﾄﾘｰ票!$AX$16:$AZ$205,2,0)))","v":""}]
[87,{"$f":"IF(ISERROR(VLOOKUP(A119*10-9+2000,ｴﾝﾄﾘｰ票!C$15:AI$215,3,0)),\"\",VLOOKUP(A119*10-9+2000,ｴﾝﾄﾘｰ票!C$15:AI$215,3,0))","v":""},{"$f":"IF(B119=\"\",\"\",CONCATENATE(VLOOKUP(B119,ｴﾝﾄﾘｰ票!$E$16:$L$215,2,0),\"　\",VLOOKUP(B119,ｴﾝﾄﾘｰ票!$E$16:$L$215,3,0)))","v":""},null,null,null,null,{"$f":"IF(B119=\"\",\"\",VLOOKUP(B119,ｴﾝﾄﾘｰ票!$E$16:$L$215,6,0))","v":""},null,{"$f":"IF(B119=\"\",\"\",IF(VLOOKUP(B119,ｴﾝﾄﾘｰ票!$E$16:$Y$215,10,0)=\"\",\"\",VLOOKUP(B119,ｴﾝﾄﾘｰ票!$E$16:$Y$215,10,0)))","v":""},null,{"$f":"IF(B119=\"\",\"\",IF(VLOOKUP(B119,ｴﾝﾄﾘｰ票!$E$16:$Y$215,14,0)=\"\",\"\",VLOOKUP(B119,ｴﾝﾄﾘｰ票!$E$16:$Y$215,14,0)))","v":""},null,{"$f":"IF(B119=\"\",\"\",IF(VLOOKUP(B119,ｴﾝﾄﾘｰ票!$E$16:$Y$215,18,0)=\"\",\"\",VLOOKUP(B119,ｴﾝﾄﾘｰ票!$E$16:$Y$215,18,0)))","v":""},{"$f":"IF(B119=\"\",\"\",IF(ISERROR(VLOOKUP(B119,ｴﾝﾄﾘｰ票!$AR$16:$AT$205,1,0)),\"\",VLOOKUP(B119,ｴﾝﾄﾘｰ票!$AR$16:$AT$205,2,0)))","v":""},null,{"$f":"IF(B119=\"\",\"\",IF(ISERROR(VLOOKUP(B119,ｴﾝﾄﾘｰ票!$AX$16:$AZ$205,1,0)),\"\",VLOOKUP(B119,ｴﾝﾄﾘｰ票!$AX$16:$AZ$205,2,0)))","v":""}]
[88,{"$f":"IF(ISERROR(VLOOKUP(A120*10-9+2000,ｴﾝﾄﾘｰ票!C$15:AI$215,3,0)),\"\",VLOOKUP(A120*10-9+2000,ｴﾝﾄﾘｰ票!C$15:AI$215,3,0))","v":""},{"$f":"IF(B120=\"\",\"\",CONCATENATE(VLOOKUP(B120,ｴﾝﾄﾘｰ票!$E$16:$L$215,2,0),\"　\",VLOOKUP(B120,ｴﾝﾄﾘｰ票!$E$16:$L$215,3,0)))","v":""},null,null,null,null,{"$f":"IF(B120=\"\",\"\",VLOOKUP(B120,ｴﾝﾄﾘｰ票!$E$16:$L$215,6,0))","v":""},null,{"$f":"IF(B120=\"\",\"\",IF(VLOOKUP(B120,ｴﾝﾄﾘｰ票!$E$16:$Y$215,10,0)=\"\",\"\",VLOOKUP(B120,ｴﾝﾄﾘｰ票!$E$16:$Y$215,10,0)))","v":""},null,{"$f":"IF(B120=\"\",\"\",IF(VLOOKUP(B120,ｴﾝﾄﾘｰ票!$E$16:$Y$215,14,0)=\"\",\"\",VLOOKUP(B120,ｴﾝﾄﾘｰ票!$E$16:$Y$215,14,0)))","v":""},null,{"$f":"IF(B120=\"\",\"\",IF(VLOOKUP(B120,ｴﾝﾄﾘｰ票!$E$16:$Y$215,18,0)=\"\",\"\",VLOOKUP(B120,ｴﾝﾄﾘｰ票!$E$16:$Y$215,18,0)))","v":""},{"$f":"IF(B120=\"\",\"\",IF(ISERROR(VLOOKUP(B120,ｴﾝﾄﾘｰ票!$AR$16:$AT$205,1,0)),\"\",VLOOKUP(B120,ｴﾝﾄﾘｰ票!$AR$16:$AT$205,2,0)))","v":""},null,{"$f":"IF(B120=\"\",\"\",IF(ISERROR(VLOOKUP(B120,ｴﾝﾄﾘｰ票!$AX$16:$AZ$205,1,0)),\"\",VLOOKUP(B120,ｴﾝﾄﾘｰ票!$AX$16:$AZ$205,2,0)))","v":""}]
[89,{"$f":"IF(ISERROR(VLOOKUP(A121*10-9+2000,ｴﾝﾄﾘｰ票!C$15:AI$215,3,0)),\"\",VLOOKUP(A121*10-9+2000,ｴﾝﾄﾘｰ票!C$15:AI$215,3,0))","v":""},{"$f":"IF(B121=\"\",\"\",CONCATENATE(VLOOKUP(B121,ｴﾝﾄﾘｰ票!$E$16:$L$215,2,0),\"　\",VLOOKUP(B121,ｴﾝﾄﾘｰ票!$E$16:$L$215,3,0)))","v":""},null,null,null,null,{"$f":"IF(B121=\"\",\"\",VLOOKUP(B121,ｴﾝﾄﾘｰ票!$E$16:$L$215,6,0))","v":""},null,{"$f":"IF(B121=\"\",\"\",IF(VLOOKUP(B121,ｴﾝﾄﾘｰ票!$E$16:$Y$215,10,0)=\"\",\"\",VLOOKUP(B121,ｴﾝﾄﾘｰ票!$E$16:$Y$215,10,0)))","v":""},null,{"$f":"IF(B121=\"\",\"\",IF(VLOOKUP(B121,ｴﾝﾄﾘｰ票!$E$16:$Y$215,14,0)=\"\",\"\",VLOOKUP(B121,ｴﾝﾄﾘｰ票!$E$16:$Y$215,14,0)))","v":""},null,{"$f":"IF(B121=\"\",\"\",IF(VLOOKUP(B121,ｴﾝﾄﾘｰ票!$E$16:$Y$215,18,0)=\"\",\"\",VLOOKUP(B121,ｴﾝﾄﾘｰ票!$E$16:$Y$215,18,0)))","v":""},{"$f":"IF(B121=\"\",\"\",IF(ISERROR(VLOOKUP(B121,ｴﾝﾄﾘｰ票!$AR$16:$AT$205,1,0)),\"\",VLOOKUP(B121,ｴﾝﾄﾘｰ票!$AR$16:$AT$205,2,0)))","v":""},null,{"$f":"IF(B121=\"\",\"\",IF(ISERROR(VLOOKUP(B121,ｴﾝﾄﾘｰ票!$AX$16:$AZ$205,1,0)),\"\",VLOOKUP(B121,ｴﾝﾄﾘｰ票!$AX$16:$AZ$205,2,0)))","v":""}]
[90,{"$f":"IF(ISERROR(VLOOKUP(A122*10-9+2000,ｴﾝﾄﾘｰ票!C$15:AI$215,3,0)),\"\",VLOOKUP(A122*10-9+2000,ｴﾝﾄﾘｰ票!C$15:AI$215,3,0))","v":""},{"$f":"IF(B122=\"\",\"\",CONCATENATE(VLOOKUP(B122,ｴﾝﾄﾘｰ票!$E$16:$L$215,2,0),\"　\",VLOOKUP(B122,ｴﾝﾄﾘｰ票!$E$16:$L$215,3,0)))","v":""},null,null,null,null,{"$f":"IF(B122=\"\",\"\",VLOOKUP(B122,ｴﾝﾄﾘｰ票!$E$16:$L$215,6,0))","v":""},null,{"$f":"IF(B122=\"\",\"\",IF(VLOOKUP(B122,ｴﾝﾄﾘｰ票!$E$16:$Y$215,10,0)=\"\",\"\",VLOOKUP(B122,ｴﾝﾄﾘｰ票!$E$16:$Y$215,10,0)))","v":""},null,{"$f":"IF(B122=\"\",\"\",IF(VLOOKUP(B122,ｴﾝﾄﾘｰ票!$E$16:$Y$215,14,0)=\"\",\"\",VLOOKUP(B122,ｴﾝﾄﾘｰ票!$E$16:$Y$215,14,0)))","v":""},null,{"$f":"IF(B122=\"\",\"\",IF(VLOOKUP(B122,ｴﾝﾄﾘｰ票!$E$16:$Y$215,18,0)=\"\",\"\",VLOOKUP(B122,ｴﾝﾄﾘｰ票!$E$16:$Y$215,18,0)))","v":""},{"$f":"IF(B122=\"\",\"\",IF(ISERROR(VLOOKUP(B122,ｴﾝﾄﾘｰ票!$AR$16:$AT$205,1,0)),\"\",VLOOKUP(B122,ｴﾝﾄﾘｰ票!$AR$16:$AT$205,2,0)))","v":""},null,{"$f":"IF(B122=\"\",\"\",IF(ISERROR(VLOOKUP(B122,ｴﾝﾄﾘｰ票!$AX$16:$AZ$205,1,0)),\"\",VLOOKUP(B122,ｴﾝﾄﾘｰ票!$AX$16:$AZ$205,2,0)))","v":""}]
[91,{"$f":"IF(ISERROR(VLOOKUP(A123*10-9+2000,ｴﾝﾄﾘｰ票!C$15:AI$215,3,0)),\"\",VLOOKUP(A123*10-9+2000,ｴﾝﾄﾘｰ票!C$15:AI$215,3,0))","v":""},{"$f":"IF(B123=\"\",\"\",CONCATENATE(VLOOKUP(B123,ｴﾝﾄﾘｰ票!$E$16:$L$215,2,0),\"　\",VLOOKUP(B123,ｴﾝﾄﾘｰ票!$E$16:$L$215,3,0)))","v":""},null,null,null,null,{"$f":"IF(B123=\"\",\"\",VLOOKUP(B123,ｴﾝﾄﾘｰ票!$E$16:$L$215,6,0))","v":""},null,{"$f":"IF(B123=\"\",\"\",IF(VLOOKUP(B123,ｴﾝﾄﾘｰ票!$E$16:$Y$215,10,0)=\"\",\"\",VLOOKUP(B123,ｴﾝﾄﾘｰ票!$E$16:$Y$215,10,0)))","v":""},null,{"$f":"IF(B123=\"\",\"\",IF(VLOOKUP(B123,ｴﾝﾄﾘｰ票!$E$16:$Y$215,14,0)=\"\",\"\",VLOOKUP(B123,ｴﾝﾄﾘｰ票!$E$16:$Y$215,14,0)))","v":""},null,{"$f":"IF(B123=\"\",\"\",IF(VLOOKUP(B123,ｴﾝﾄﾘｰ票!$E$16:$Y$215,18,0)=\"\",\"\",VLOOKUP(B123,ｴﾝﾄﾘｰ票!$E$16:$Y$215,18,0)))","v":""},{"$f":"IF(B123=\"\",\"\",IF(ISERROR(VLOOKUP(B123,ｴﾝﾄﾘｰ票!$AR$16:$AT$205,1,0)),\"\",VLOOKUP(B123,ｴﾝﾄﾘｰ票!$AR$16:$AT$205,2,0)))","v":""},null,{"$f":"IF(B123=\"\",\"\",IF(ISERROR(VLOOKUP(B123,ｴﾝﾄﾘｰ票!$AX$16:$AZ$205,1,0)),\"\",VLOOKUP(B123,ｴﾝﾄﾘｰ票!$AX$16:$AZ$205,2,0)))","v":""}]
[92,{"$f":"IF(ISERROR(VLOOKUP(A124*10-9+2000,ｴﾝﾄﾘｰ票!C$15:AI$215,3,0)),\"\",VLOOKUP(A124*10-9+2000,ｴﾝﾄﾘｰ票!C$15:AI$215,3,0))","v":""},{"$f":"IF(B124=\"\",\"\",CONCATENATE(VLOOKUP(B124,ｴﾝﾄﾘｰ票!$E$16:$L$215,2,0),\"　\",VLOOKUP(B124,ｴﾝﾄﾘｰ票!$E$16:$L$215,3,0)))","v":""},null,null,null,null,{"$f":"IF(B124=\"\",\"\",VLOOKUP(B124,ｴﾝﾄﾘｰ票!$E$16:$L$215,6,0))","v":""},null,{"$f":"IF(B124=\"\",\"\",IF(VLOOKUP(B124,ｴﾝﾄﾘｰ票!$E$16:$Y$215,10,0)=\"\",\"\",VLOOKUP(B124,ｴﾝﾄﾘｰ票!$E$16:$Y$215,10,0)))","v":""},null,{"$f":"IF(B124=\"\",\"\",IF(VLOOKUP(B124,ｴﾝﾄﾘｰ票!$E$16:$Y$215,14,0)=\"\",\"\",VLOOKUP(B124,ｴﾝﾄﾘｰ票!$E$16:$Y$215,14,0)))","v":""},null,{"$f":"IF(B124=\"\",\"\",IF(VLOOKUP(B124,ｴﾝﾄﾘｰ票!$E$16:$Y$215,18,0)=\"\",\"\",VLOOKUP(B124,ｴﾝﾄﾘｰ票!$E$16:$Y$215,18,0)))","v":""},{"$f":"IF(B124=\"\",\"\",IF(ISERROR(VLOOKUP(B124,ｴﾝﾄﾘｰ票!$AR$16:$AT$205,1,0)),\"\",VLOOKUP(B124,ｴﾝﾄﾘｰ票!$AR$16:$AT$205,2,0)))","v":""},null,{"$f":"IF(B124=\"\",\"\",IF(ISERROR(VLOOKUP(B124,ｴﾝﾄﾘｰ票!$AX$16:$AZ$205,1,0)),\"\",VLOOKUP(B124,ｴﾝﾄﾘｰ票!$AX$16:$AZ$205,2,0)))","v":""}]
[93,{"$f":"IF(ISERROR(VLOOKUP(A125*10-9+2000,ｴﾝﾄﾘｰ票!C$15:AI$215,3,0)),\"\",VLOOKUP(A125*10-9+2000,ｴﾝﾄﾘｰ票!C$15:AI$215,3,0))","v":""},{"$f":"IF(B125=\"\",\"\",CONCATENATE(VLOOKUP(B125,ｴﾝﾄﾘｰ票!$E$16:$L$215,2,0),\"　\",VLOOKUP(B125,ｴﾝﾄﾘｰ票!$E$16:$L$215,3,0)))","v":""},null,null,null,null,{"$f":"IF(B125=\"\",\"\",VLOOKUP(B125,ｴﾝﾄﾘｰ票!$E$16:$L$215,6,0))","v":""},null,{"$f":"IF(B125=\"\",\"\",IF(VLOOKUP(B125,ｴﾝﾄﾘｰ票!$E$16:$Y$215,10,0)=\"\",\"\",VLOOKUP(B125,ｴﾝﾄﾘｰ票!$E$16:$Y$215,10,0)))","v":""},null,{"$f":"IF(B125=\"\",\"\",IF(VLOOKUP(B125,ｴﾝﾄﾘｰ票!$E$16:$Y$215,14,0)=\"\",\"\",VLOOKUP(B125,ｴﾝﾄﾘｰ票!$E$16:$Y$215,14,0)))","v":""},null,{"$f":"IF(B125=\"\",\"\",IF(VLOOKUP(B125,ｴﾝﾄﾘｰ票!$E$16:$Y$215,18,0)=\"\",\"\",VLOOKUP(B125,ｴﾝﾄﾘｰ票!$E$16:$Y$215,18,0)))","v":""},{"$f":"IF(B125=\"\",\"\",IF(ISERROR(VLOOKUP(B125,ｴﾝﾄﾘｰ票!$AR$16:$AT$205,1,0)),\"\",VLOOKUP(B125,ｴﾝﾄﾘｰ票!$AR$16:$AT$205,2,0)))","v":""},null,{"$f":"IF(B125=\"\",\"\",IF(ISERROR(VLOOKUP(B125,ｴﾝﾄﾘｰ票!$AX$16:$AZ$205,1,0)),\"\",VLOOKUP(B125,ｴﾝﾄﾘｰ票!$AX$16:$AZ$205,2,0)))","v":""}]
[94,{"$f":"IF(ISERROR(VLOOKUP(A126*10-9+2000,ｴﾝﾄﾘｰ票!C$15:AI$215,3,0)),\"\",VLOOKUP(A126*10-9+2000,ｴﾝﾄﾘｰ票!C$15:AI$215,3,0))","v":""},{"$f":"IF(B126=\"\",\"\",CONCATENATE(VLOOKUP(B126,ｴﾝﾄﾘｰ票!$E$16:$L$215,2,0),\"　\",VLOOKUP(B126,ｴﾝﾄﾘｰ票!$E$16:$L$215,3,0)))","v":""},null,null,null,null,{"$f":"IF(B126=\"\",\"\",VLOOKUP(B126,ｴﾝﾄﾘｰ票!$E$16:$L$215,6,0))","v":""},null,{"$f":"IF(B126=\"\",\"\",IF(VLOOKUP(B126,ｴﾝﾄﾘｰ票!$E$16:$Y$215,10,0)=\"\",\"\",VLOOKUP(B126,ｴﾝﾄﾘｰ票!$E$16:$Y$215,10,0)))","v":""},null,{"$f":"IF(B126=\"\",\"\",IF(VLOOKUP(B126,ｴﾝﾄﾘｰ票!$E$16:$Y$215,14,0)=\"\",\"\",VLOOKUP(B126,ｴﾝﾄﾘｰ票!$E$16:$Y$215,14,0)))","v":""},null,{"$f":"IF(B126=\"\",\"\",IF(VLOOKUP(B126,ｴﾝﾄﾘｰ票!$E$16:$Y$215,18,0)=\"\",\"\",VLOOKUP(B126,ｴﾝﾄﾘｰ票!$E$16:$Y$215,18,0)))","v":""},{"$f":"IF(B126=\"\",\"\",IF(ISERROR(VLOOKUP(B126,ｴﾝﾄﾘｰ票!$AR$16:$AT$205,1,0)),\"\",VLOOKUP(B126,ｴﾝﾄﾘｰ票!$AR$16:$AT$205,2,0)))","v":""},null,{"$f":"IF(B126=\"\",\"\",IF(ISERROR(VLOOKUP(B126,ｴﾝﾄﾘｰ票!$AX$16:$AZ$205,1,0)),\"\",VLOOKUP(B126,ｴﾝﾄﾘｰ票!$AX$16:$AZ$205,2,0)))","v":""}]
[95,{"$f":"IF(ISERROR(VLOOKUP(A127*10-9+2000,ｴﾝﾄﾘｰ票!C$15:AI$215,3,0)),\"\",VLOOKUP(A127*10-9+2000,ｴﾝﾄﾘｰ票!C$15:AI$215,3,0))","v":""},{"$f":"IF(B127=\"\",\"\",CONCATENATE(VLOOKUP(B127,ｴﾝﾄﾘｰ票!$E$16:$L$215,2,0),\"　\",VLOOKUP(B127,ｴﾝﾄﾘｰ票!$E$16:$L$215,3,0)))","v":""},null,null,null,null,{"$f":"IF(B127=\"\",\"\",VLOOKUP(B127,ｴﾝﾄﾘｰ票!$E$16:$L$215,6,0))","v":""},null,{"$f":"IF(B127=\"\",\"\",IF(VLOOKUP(B127,ｴﾝﾄﾘｰ票!$E$16:$Y$215,10,0)=\"\",\"\",VLOOKUP(B127,ｴﾝﾄﾘｰ票!$E$16:$Y$215,10,0)))","v":""},null,{"$f":"IF(B127=\"\",\"\",IF(VLOOKUP(B127,ｴﾝﾄﾘｰ票!$E$16:$Y$215,14,0)=\"\",\"\",VLOOKUP(B127,ｴﾝﾄﾘｰ票!$E$16:$Y$215,14,0)))","v":""},null,{"$f":"IF(B127=\"\",\"\",IF(VLOOKUP(B127,ｴﾝﾄﾘｰ票!$E$16:$Y$215,18,0)=\"\",\"\",VLOOKUP(B127,ｴﾝﾄﾘｰ票!$E$16:$Y$215,18,0)))","v":""},{"$f":"IF(B127=\"\",\"\",IF(ISERROR(VLOOKUP(B127,ｴﾝﾄﾘｰ票!$AR$16:$AT$205,1,0)),\"\",VLOOKUP(B127,ｴﾝﾄﾘｰ票!$AR$16:$AT$205,2,0)))","v":""},null,{"$f":"IF(B127=\"\",\"\",IF(ISERROR(VLOOKUP(B127,ｴﾝﾄﾘｰ票!$AX$16:$AZ$205,1,0)),\"\",VLOOKUP(B127,ｴﾝﾄﾘｰ票!$AX$16:$AZ$205,2,0)))","v":""}]
[96,{"$f":"IF(ISERROR(VLOOKUP(A128*10-9+2000,ｴﾝﾄﾘｰ票!C$15:AI$215,3,0)),\"\",VLOOKUP(A128*10-9+2000,ｴﾝﾄﾘｰ票!C$15:AI$215,3,0))","v":""},{"$f":"IF(B128=\"\",\"\",CONCATENATE(VLOOKUP(B128,ｴﾝﾄﾘｰ票!$E$16:$L$215,2,0),\"　\",VLOOKUP(B128,ｴﾝﾄﾘｰ票!$E$16:$L$215,3,0)))","v":""},null,null,null,null,{"$f":"IF(B128=\"\",\"\",VLOOKUP(B128,ｴﾝﾄﾘｰ票!$E$16:$L$215,6,0))","v":""},null,{"$f":"IF(B128=\"\",\"\",IF(VLOOKUP(B128,ｴﾝﾄﾘｰ票!$E$16:$Y$215,10,0)=\"\",\"\",VLOOKUP(B128,ｴﾝﾄﾘｰ票!$E$16:$Y$215,10,0)))","v":""},null,{"$f":"IF(B128=\"\",\"\",IF(VLOOKUP(B128,ｴﾝﾄﾘｰ票!$E$16:$Y$215,14,0)=\"\",\"\",VLOOKUP(B128,ｴﾝﾄﾘｰ票!$E$16:$Y$215,14,0)))","v":""},null,{"$f":"IF(B128=\"\",\"\",IF(VLOOKUP(B128,ｴﾝﾄﾘｰ票!$E$16:$Y$215,18,0)=\"\",\"\",VLOOKUP(B128,ｴﾝﾄﾘｰ票!$E$16:$Y$215,18,0)))","v":""},{"$f":"IF(B128=\"\",\"\",IF(ISERROR(VLOOKUP(B128,ｴﾝﾄﾘｰ票!$AR$16:$AT$205,1,0)),\"\",VLOOKUP(B128,ｴﾝﾄﾘｰ票!$AR$16:$AT$205,2,0)))","v":""},null,{"$f":"IF(B128=\"\",\"\",IF(ISERROR(VLOOKUP(B128,ｴﾝﾄﾘｰ票!$AX$16:$AZ$205,1,0)),\"\",VLOOKUP(B128,ｴﾝﾄﾘｰ票!$AX$16:$AZ$205,2,0)))","v":""}]
[97,{"$f":"IF(ISERROR(VLOOKUP(A129*10-9+2000,ｴﾝﾄﾘｰ票!C$15:AI$215,3,0)),\"\",VLOOKUP(A129*10-9+2000,ｴﾝﾄﾘｰ票!C$15:AI$215,3,0))","v":""},{"$f":"IF(B129=\"\",\"\",CONCATENATE(VLOOKUP(B129,ｴﾝﾄﾘｰ票!$E$16:$L$215,2,0),\"　\",VLOOKUP(B129,ｴﾝﾄﾘｰ票!$E$16:$L$215,3,0)))","v":""},null,null,null,null,{"$f":"IF(B129=\"\",\"\",VLOOKUP(B129,ｴﾝﾄﾘｰ票!$E$16:$L$215,6,0))","v":""},null,{"$f":"IF(B129=\"\",\"\",IF(VLOOKUP(B129,ｴﾝﾄﾘｰ票!$E$16:$Y$215,10,0)=\"\",\"\",VLOOKUP(B129,ｴﾝﾄﾘｰ票!$E$16:$Y$215,10,0)))","v":""},null,{"$f":"IF(B129=\"\",\"\",IF(VLOOKUP(B129,ｴﾝﾄﾘｰ票!$E$16:$Y$215,14,0)=\"\",\"\",VLOOKUP(B129,ｴﾝﾄﾘｰ票!$E$16:$Y$215,14,0)))","v":""},null,{"$f":"IF(B129=\"\",\"\",IF(VLOOKUP(B129,ｴﾝﾄﾘｰ票!$E$16:$Y$215,18,0)=\"\",\"\",VLOOKUP(B129,ｴﾝﾄﾘｰ票!$E$16:$Y$215,18,0)))","v":""},{"$f":"IF(B129=\"\",\"\",IF(ISERROR(VLOOKUP(B129,ｴﾝﾄﾘｰ票!$AR$16:$AT$205,1,0)),\"\",VLOOKUP(B129,ｴﾝﾄﾘｰ票!$AR$16:$AT$205,2,0)))","v":""},null,{"$f":"IF(B129=\"\",\"\",IF(ISERROR(VLOOKUP(B129,ｴﾝﾄﾘｰ票!$AX$16:$AZ$205,1,0)),\"\",VLOOKUP(B129,ｴﾝﾄﾘｰ票!$AX$16:$AZ$205,2,0)))","v":""}]
[98,{"$f":"IF(ISERROR(VLOOKUP(A130*10-9+2000,ｴﾝﾄﾘｰ票!C$15:AI$215,3,0)),\"\",VLOOKUP(A130*10-9+2000,ｴﾝﾄﾘｰ票!C$15:AI$215,3,0))","v":""},{"$f":"IF(B130=\"\",\"\",CONCATENATE(VLOOKUP(B130,ｴﾝﾄﾘｰ票!$E$16:$L$215,2,0),\"　\",VLOOKUP(B130,ｴﾝﾄﾘｰ票!$E$16:$L$215,3,0)))","v":""},null,null,null,null,{"$f":"IF(B130=\"\",\"\",VLOOKUP(B130,ｴﾝﾄﾘｰ票!$E$16:$L$215,6,0))","v":""},null,{"$f":"IF(B130=\"\",\"\",IF(VLOOKUP(B130,ｴﾝﾄﾘｰ票!$E$16:$Y$215,10,0)=\"\",\"\",VLOOKUP(B130,ｴﾝﾄﾘｰ票!$E$16:$Y$215,10,0)))","v":""},null,{"$f":"IF(B130=\"\",\"\",IF(VLOOKUP(B130,ｴﾝﾄﾘｰ票!$E$16:$Y$215,14,0)=\"\",\"\",VLOOKUP(B130,ｴﾝﾄﾘｰ票!$E$16:$Y$215,14,0)))","v":""},null,{"$f":"IF(B130=\"\",\"\",IF(VLOOKUP(B130,ｴﾝﾄﾘｰ票!$E$16:$Y$215,18,0)=\"\",\"\",VLOOKUP(B130,ｴﾝﾄﾘｰ票!$E$16:$Y$215,18,0)))","v":""},{"$f":"IF(B130=\"\",\"\",IF(ISERROR(VLOOKUP(B130,ｴﾝﾄﾘｰ票!$AR$16:$AT$205,1,0)),\"\",VLOOKUP(B130,ｴﾝﾄﾘｰ票!$AR$16:$AT$205,2,0)))","v":""},null,{"$f":"IF(B130=\"\",\"\",IF(ISERROR(VLOOKUP(B130,ｴﾝﾄﾘｰ票!$AX$16:$AZ$205,1,0)),\"\",VLOOKUP(B130,ｴﾝﾄﾘｰ票!$AX$16:$AZ$205,2,0)))","v":""}]
[99,{"$f":"IF(ISERROR(VLOOKUP(A131*10-9+2000,ｴﾝﾄﾘｰ票!C$15:AI$215,3,0)),\"\",VLOOKUP(A131*10-9+2000,ｴﾝﾄﾘｰ票!C$15:AI$215,3,0))","v":""},{"$f":"IF(B131=\"\",\"\",CONCATENATE(VLOOKUP(B131,ｴﾝﾄﾘｰ票!$E$16:$L$215,2,0),\"　\",VLOOKUP(B131,ｴﾝﾄﾘｰ票!$E$16:$L$215,3,0)))","v":""},null,null,null,null,{"$f":"IF(B131=\"\",\"\",VLOOKUP(B131,ｴﾝﾄﾘｰ票!$E$16:$L$215,6,0))","v":""},null,{"$f":"IF(B131=\"\",\"\",IF(VLOOKUP(B131,ｴﾝﾄﾘｰ票!$E$16:$Y$215,10,0)=\"\",\"\",VLOOKUP(B131,ｴﾝﾄﾘｰ票!$E$16:$Y$215,10,0)))","v":""},null,{"$f":"IF(B131=\"\",\"\",IF(VLOOKUP(B131,ｴﾝﾄﾘｰ票!$E$16:$Y$215,14,0)=\"\",\"\",VLOOKUP(B131,ｴﾝﾄﾘｰ票!$E$16:$Y$215,14,0)))","v":""},null,{"$f":"IF(B131=\"\",\"\",IF(VLOOKUP(B131,ｴﾝﾄﾘｰ票!$E$16:$Y$215,18,0)=\"\",\"\",VLOOKUP(B131,ｴﾝﾄﾘｰ票!$E$16:$Y$215,18,0)))","v":""},{"$f":"IF(B131=\"\",\"\",IF(ISERROR(VLOOKUP(B131,ｴﾝﾄﾘｰ票!$AR$16:$AT$205,1,0)),\"\",VLOOKUP(B131,ｴﾝﾄﾘｰ票!$AR$16:$AT$205,2,0)))","v":""},null,{"$f":"IF(B131=\"\",\"\",IF(ISERROR(VLOOKUP(B131,ｴﾝﾄﾘｰ票!$AX$16:$AZ$205,1,0)),\"\",VLOOKUP(B131,ｴﾝﾄﾘｰ票!$AX$16:$AZ$205,2,0)))","v":""}]
[100,{"$f":"IF(ISERROR(VLOOKUP(A132*10-9+2000,ｴﾝﾄﾘｰ票!C$15:AI$215,3,0)),\"\",VLOOKUP(A132*10-9+2000,ｴﾝﾄﾘｰ票!C$15:AI$215,3,0))","v":""},{"$f":"IF(B132=\"\",\"\",CONCATENATE(VLOOKUP(B132,ｴﾝﾄﾘｰ票!$E$16:$L$215,2,0),\"　\",VLOOKUP(B132,ｴﾝﾄﾘｰ票!$E$16:$L$215,3,0)))","v":""},null,null,null,null,{"$f":"IF(B132=\"\",\"\",VLOOKUP(B132,ｴﾝﾄﾘｰ票!$E$16:$L$215,6,0))","v":""},null,{"$f":"IF(B132=\"\",\"\",IF(VLOOKUP(B132,ｴﾝﾄﾘｰ票!$E$16:$Y$215,10,0)=\"\",\"\",VLOOKUP(B132,ｴﾝﾄﾘｰ票!$E$16:$Y$215,10,0)))","v":""},null,{"$f":"IF(B132=\"\",\"\",IF(VLOOKUP(B132,ｴﾝﾄﾘｰ票!$E$16:$Y$215,14,0)=\"\",\"\",VLOOKUP(B132,ｴﾝﾄﾘｰ票!$E$16:$Y$215,14,0)))","v":""},null,{"$f":"IF(B132=\"\",\"\",IF(VLOOKUP(B132,ｴﾝﾄﾘｰ票!$E$16:$Y$215,18,0)=\"\",\"\",VLOOKUP(B132,ｴﾝﾄﾘｰ票!$E$16:$Y$215,18,0)))","v":""},{"$f":"IF(B132=\"\",\"\",IF(ISERROR(VLOOKUP(B132,ｴﾝﾄﾘｰ票!$AR$16:$AT$205,1,0)),\"\",VLOOKUP(B132,ｴﾝﾄﾘｰ票!$AR$16:$AT$205,2,0)))","v":""},null,{"$f":"IF(B132=\"\",\"\",IF(ISERROR(VLOOKUP(B132,ｴﾝﾄﾘｰ票!$AX$16:$AZ$205,1,0)),\"\",VLOOKUP(B132,ｴﾝﾄﾘｰ票!$AX$16:$AZ$205,2,0)))","v":""}]

{"sheet":"Ａ票女","index":7,"n_rows":132,"n_cols":17,"rows_kept":132,"cut":false,"hidden":false,"merged":[[8,22,8,23],[9,14,9,15],[14,14,14,15],[15,14,15,15],[10,14,10,15],[11,14,11,15],[12,14,12,15],[13,14,13,15],[18,14,18,15],[8,9,8,10],[8,11,8,12],[8,14,8,15],[31,14,31,15],[24,14,24,15],[25,14,25,15],[23,14,23,15],[26,14,26,15],[19,14,19,15],[28,14,28,15],[22,14,22,15],[30,14,30,15],[20,14,20,15],[21,14,21,15],[27,14,27,15],[16,14,16,15],[17,14,17,15],[38,14,38,15],[40,15,40,16],[32,14,32,15],[33,14,33,15],[29,14,29,15],[34,14,34,15],[35,14,35,15],[36,14,36,15],[37,14,37,15],[43,2,43,3],[43,5,43,6],[43,7,43,9],[43,10,43,11],[40,2,40,3],[40,4,40,6],[40,7,40,9],[40,13,40,14],[41,19,41,20],[42,2,42,3],[42,4,42,6],[42,7,42,9],[41,2,41,3],[41,4,41,6],[41,7,41,9],[41,13,41,14],[41,15,41,16],[41,17,41,18],[40,17,40,18],[40,19,40,20],[96,22,96,23],[52,9,52,10],[52,11,52,12],[96,9,96,10],[96,11,96,12],[76,14,76,15],[72,14,72,15],[52,22,52,23],[69,14,69,15],[74,14,74,15],[71,14,71,15],[66,14,66,15],[67,14,67,15],[73,14,73,15],[70,14,70,15],[62,14,62,15],[87,14,87,15],[81,14,81,15],[86,14,86,15],[82,14,82,15],[85,14,85,15],[84,14,84,15],[52,14,52,15],[53,14,53,15],[54,14,54,15],[55,14,55,15],[78,14,78,15],[79,14,79,15],[56,14,56,15],[57,14,57,15],[75,14,75,15],[83,14,83,15],[77,14,77,15],[80,14,80,15],[58,14,58,15],[59,14,59,15],[60,14,60,15],[61,14,61,15],[63,14,63,15],[64,14,64,15],[65,14,65,15],[68,14,68,15],[118,14,118,15],[119,14,119,15],[113,14,113,15],[114,14,114,15],[117,14,117,15],[131,14,131,15],[129,14,129,15],[130,14,130,15],[128,14,128,15],[127,14,127,15],[120,14,120,15],[126,14,126,15],[123,14,123,15],[125,14,125,15],[121,14,121,15],[122,14,122,15],[124,14,124,15],[105,14,105,15],[106,14,106,15],[112,14,112,15],[116,14,116,15],[115,14,115,15],[96,14,96,15],[97,14,97,15],[98,14,98,15],[99,14,99,15],[103,14,103,15],[104,14,104,15],[102,14,102,15],[101,14,101,15],[107,14,107,15],[108,14,108,15],[110,14,110,15],[111,14,111,15],[109,14,109,15],[100,14,100,15]]}
[null,{"$f":"ｴﾝﾄﾘｰ票!$G$1","v":"東京高体連陸上第4支部秋季競技会1"},null,null,null,null,null,null,null,null,null,null,null,null,null,null,"申込用紙(A票）"]
[{"$f":"ｴﾝﾄﾘｰ票!R1","v":"平成30年度"},null,null,null,null,null,null,null,null,null,null,null,null,null,"女子",null,"Ｎｏ．１"]
["学校名",null,{"$f":"ｴﾝﾄﾘｰ票!$G$2","v":0}]
["学校所在地",null,{"$f":"ｴﾝﾄﾘｰ票!$G$5","v":0}]
["学校長",null,{"$f":"ｴﾝﾄﾘｰ票!$G$4","v":0},null,null,null,null,null,null,"印",null,"顧問氏名",null,{"$f":"ｴﾝﾄﾘｰ票!$G$8","v":0},null,null,"印"]
["電話",null,{"$f":"ｴﾝﾄﾘｰ票!$G$6","v":"00:00:00"},null,null,null,"ＦＡＸ",{"$f":"ｴﾝﾄﾘｰ票!$G$7","v":0},null,null,null,"連絡先",null,{"$f":"ｴﾝﾄﾘｰ票!$G$9","v":0}]
[]
[null,null,null,null,null,null,null,null,null,null,null,null,null,"種目"]
[null,"番号","出場者氏名",null,null,null,null,"学年",null,"個人",null,"個人",null,"個人","4×100",null,"4×400"]
[1,{"$f":"IF(ISERROR(VLOOKUP(A10*10-9+6000,ｴﾝﾄﾘｰ票!C$15:AI$215,3,0)),\"\",VLOOKUP(A10*10-9+6000,ｴﾝﾄﾘｰ票!C$15:AI$215,3,0))","v":""},{"$f":"IF(B10=\"\",\"\",CONCATENATE(VLOOKUP(B10,ｴﾝﾄﾘｰ票!$E$16:$L$215,2,0),\"　\",VLOOKUP(B10,ｴﾝﾄﾘｰ票!$E$16:$L$215,3,0)))","v":""},null,null,null,null,{"$f":"IF(B10=\"\",\"\",VLOOKUP(B10,ｴﾝﾄﾘｰ票!$E$16:$L$215,6,0))","v":""},null,{"$f":"IF(B10=\"\",\"\",IF(VLOOKUP(B10,ｴﾝﾄﾘｰ票!$E$16:$Y$215,10,0)=\"\",\"\",VLOOKUP(B10,ｴﾝﾄﾘｰ票!$E$16:$Y$215,10,0)))","v":""},null,{"$f":"IF(B10=\"\",\"\",IF(VLOOKUP(B10,ｴﾝﾄﾘｰ票!$E$16:$Y$215,14,0)=\"\",\"\",VLOOKUP(B10,ｴﾝﾄﾘｰ票!$E$16:$Y$215,14,0)))","v":""},null,{"$f":"IF(B10=\"\",\"\",IF(VLOOKUP(B10,ｴﾝﾄﾘｰ票!$E$16:$Y$215,18,0)=\"\",\"\",VLOOKUP(B10,ｴﾝﾄﾘｰ票!$E$16:$Y$215,18,0)))","v":""},{"$f":"IF(B10=\"\",\"\",IF(ISERROR(VLOOKUP(B10,ｴﾝﾄﾘｰ票!$BD$16:$BE$205,1,0)),\"\",VLOOKUP(B10,ｴﾝﾄﾘｰ票!$BD$16:$BE$205,2,0)))","v":""},null,{"$f":"IF(B10=\"\",\"\",IF(ISERROR(VLOOKUP(B10,ｴﾝﾄﾘｰ票!$BJ$16:$BK$205,1,0)),\"\",VLOOKUP(B10,ｴﾝﾄﾘｰ票!$BJ$16:$BK$205,2,0)))","v":""}]
[2,{"$f":"IF(ISERROR(VLOOKUP(A11*10-9+6000,ｴﾝﾄﾘｰ票!C$15:AI$215,3,0)),\"\",VLOOKUP(A11*10-9+6000,ｴﾝﾄﾘｰ票!C$15:AI$215,3,0))","v":""},{"$f":"IF(B11=\"\",\"\",CONCATENATE(VLOOKUP(B11,ｴﾝﾄﾘｰ票!$E$16:$L$215,2,0),\"　\",VLOOKUP(B11,ｴﾝﾄﾘｰ票!$E$16:$L$215,3,0)))","v":""},null,null,null,null,{"$f":"IF(B11=\"\",\"\",VLOOKUP(B11,ｴﾝﾄﾘｰ票!$E$16:$L$215,6,0))","v":""},null,{"$f":"IF(B11=\"\",\"\",IF(VLOOKUP(B11,ｴﾝﾄﾘｰ票!$E$16:$Y$215,10,0)=\"\",\"\",VLOOKUP(B11,ｴﾝﾄﾘｰ票!$E$16:$Y$215,10,0)))","v":""},null,{"$f":"IF(B11=\"\",\"\",IF(VLOOKUP(B11,ｴﾝﾄﾘｰ票!$E$16:$Y$215,14,0)=\"\",\"\",VLOOKUP(B11,ｴﾝﾄﾘｰ票!$E$16:$Y$215,14,0)))","v":""},null,{"$f":"IF(B11=\"\",\"\",IF(VLOOKUP(B11,ｴﾝﾄﾘｰ票!$E$16:$Y$215,18,0)=\"\",\"\",VLOOKUP(B11,ｴﾝﾄﾘｰ票!$E$16:$Y$215,18,0)))","v":""},{"$f":"IF(B11=\"\",\"\",IF(ISERROR(VLOOKUP(B11,ｴﾝﾄﾘｰ票!$BD$16:$BE$205,1,0)),\"\",VLOOKUP(B11,ｴﾝﾄﾘｰ票!$BD$16:$BE$205,2,0)))","v":""},null,{"$f":"IF(B11=\"\",\"\",IF(ISERROR(VLOOKUP(B11,ｴﾝﾄﾘｰ票!$BJ$16:$BK$205,1,0)),\"\",VLOOKUP(B11,ｴﾝﾄﾘｰ票!$BJ$16:$BK$205,2,0)))","v":""}]
[3,{"$f":"IF(ISERROR(VLOOKUP(A12*10-9+6000,ｴﾝﾄﾘｰ票!C$15:AI$215,3,0)),\"\",VLOOKUP(A12*10-9+6000,ｴﾝﾄﾘｰ票!C$15:AI$215,3,0))","v":""},{"$f":"IF(B12=\"\",\"\",CONCATENATE(VLOOKUP(B12,ｴﾝﾄﾘｰ票!$E$16:$L$215,2,0),\"　\",VLOOKUP(B12,ｴﾝﾄﾘｰ票!$E$16:$L$215,3,0)))","v":""},null,null,null,null,{"$f":"IF(B12=\"\",\"\",VLOOKUP(B12,ｴﾝﾄﾘｰ票!$E$16:$L$215,6,0))","v":""},null,{"$f":"IF(B12=\"\",\"\",IF(VLOOKUP(B12,ｴﾝﾄﾘｰ票!$E$16:$Y$215,10,0)=\"\",\"\",VLOOKUP(B12,ｴﾝﾄﾘｰ票!$E$16:$Y$215,10,0)))","v":""},null,{"$f":"IF(B12=\"\",\"\",IF(VLOOKUP(B12,ｴﾝﾄﾘｰ票!$E$16:$Y$215,14,0)=\"\",\"\",VLOOKUP(B12,ｴﾝﾄﾘｰ票!$E$16:$Y$215,14,0)))","v":""},null,{"$f":"IF(B12=\"\",\"\",IF(VLOOKUP(B12,ｴﾝﾄﾘｰ票!$E$16:$Y$215,18,0)=\"\",\"\",VLOOKUP(B12,ｴﾝﾄﾘｰ票!$E$16:$Y$215,18,0)))","v":""},{"$f":"IF(B12=\"\",\"\",IF(ISERROR(VLOOKUP(B12,ｴﾝﾄﾘｰ票!$BD$16:$BE$205,1,0)),\"\",VLOOKUP(B12,ｴﾝﾄﾘｰ票!$BD$16:$BE$205,2,0)))","v":""},null,{"$f":"IF(B12=\"\",\"\",IF(ISERROR(VLOOKUP(B12,ｴﾝﾄﾘｰ票!$BJ$16:$BK$205,1,0)),\"\",VLOOKUP(B12,ｴﾝﾄﾘｰ票!$BJ$16:$BK$205,2,0)))","v":""}]
[4,{"$f":"IF(ISERROR(VLOOKUP(A13*10-9+6000,ｴﾝﾄﾘｰ票!C$15:AI$215,3,0)),\"\",VLOOKUP(A13*10-9+6000,ｴﾝﾄﾘｰ票!C$15:AI$215,3,0))","v":""},{"$f":"IF(B13=\"\",\"\",CONCATENATE(VLOOKUP(B13,ｴﾝﾄﾘｰ票!$E$16:$L$215,2,0),\"　\",VLOOKUP(B13,ｴﾝﾄﾘｰ票!$E$16:$L$215,3,0)))","v":""},null,null,null,null,{"$f":"IF(B13=\"\",\"\",VLOOKUP(B13,ｴﾝﾄﾘｰ票!$E$16:$L$215,6,0))","v":""},null,{"$f":"IF(B13=\"\",\"\",IF(VLOOKUP(B13,ｴﾝﾄﾘｰ票!$E$16:$Y$215,10,0)=\"\",\"\",VLOOKUP(B13,ｴﾝﾄﾘｰ票!$E$16:$Y$215,10,0)))","v":""},null,{"$f":"IF(B13=\"\",\"\",IF(VLOOKUP(B13,ｴﾝﾄﾘｰ票!$E$16:$Y$215,14,0)=\"\",\"\",VLOOKUP(B13,ｴﾝﾄﾘｰ票!$E$16:$Y$215,14,0)))","v":""},null,{"$f":"IF(B13=\"\",\"\",IF(VLOOKUP(B13,ｴﾝﾄﾘｰ票!$E$16:$Y$215,18,0)=\"\",\"\",VLOOKUP(B13,ｴﾝﾄﾘｰ票!$E$16:$Y$215,18,0)))","v":""},{"$f":"IF(B13=\"\",\"\",IF(ISERROR(VLOOKUP(B13,ｴﾝﾄﾘｰ票!$BD$16:$BE$205,1,0)),\"\",VLOOKUP(B13,ｴﾝﾄﾘｰ票!$BD$16:$BE$205,2,0)))","v":""},null,{"$f":"IF(B13=\"\",\"\",IF(ISERROR(VLOOKUP(B13,ｴﾝﾄﾘｰ票!$BJ$16:$BK$205,1,0)),\"\",VLOOKUP(B13,ｴﾝﾄﾘｰ票!$BJ$16:$BK$205,2,0)))","v":""}]
[5,{"$f":"IF(ISERROR(VLOOKUP(A14*10-9+6000,ｴﾝﾄﾘｰ票!C$15:AI$215,3,0)),\"\",VLOOKUP(A14*10-9+6000,ｴﾝﾄﾘｰ票!C$15:AI$215,3,0))","v":""},{"$f":"IF(B14=\"\",\"\",CONCATENATE(VLOOKUP(B14,ｴﾝﾄﾘｰ票!$E$16:$L$215,2,0),\"　\",VLOOKUP(B14,ｴﾝﾄﾘｰ票!$E$16:$L$215,3,0)))","v":""},null,null,null,null,{"$f":"IF(B14=\"\",\"\",VLOOKUP(B14,ｴﾝﾄﾘｰ票!$E$16:$L$215,6,0))","v":""},null,{"$f":"IF(B14=\"\",\"\",IF(VLOOKUP(B14,ｴﾝﾄﾘｰ票!$E$16:$Y$215,10,0)=\"\",\"\",VLOOKUP(B14,ｴﾝﾄﾘｰ票!$E$16:$Y$215,10,0)))","v":""},null,{"$f":"IF(B14=\"\",\"\",IF(VLOOKUP(B14,ｴﾝﾄﾘｰ票!$E$16:$Y$215,14,0)=\"\",\"\",VLOOKUP(B14,ｴﾝﾄﾘｰ票!$E$16:$Y$215,14,0)))","v":""},null,{"$f":"IF(B14=\"\",\"\",IF(VLOOKUP(B14,ｴﾝﾄﾘｰ票!$E$16:$Y$215,18,0)=\"\",\"\",VLOOKUP(B14,ｴﾝﾄﾘｰ票!$E$16:$Y$215,18,0)))","v":""},{"$f":"IF(B14=\"\",\"\",IF(ISERROR(VLOOKUP(B14,ｴﾝﾄﾘｰ票!$BD$16:$BE$205,1,0)),\"\",VLOOKUP(B14,ｴﾝﾄﾘｰ票!$BD$16:$BE$205,2,0)))","v":""},null,{"$f":"IF(B14=\"\",\"\",IF(ISERROR(VLOOKUP(B14,ｴﾝﾄﾘｰ票!$BJ$16:$BK$205,1,0)),\"\",VLOOKUP(B14,ｴﾝﾄﾘｰ票!$BJ$16:$BK$205,2,0)))","v":""}]
[6,{"$f":"IF(ISERROR(VLOOKUP(A15*10-9+6000,ｴﾝﾄﾘｰ票!C$15:AI$215,3,0)),\"\",VLOOKUP(A15*10-9+6000,ｴﾝﾄﾘｰ票!C$15:AI$215,3,0))","v":""},{"$f":"IF(B15=\"\",\"\",CONCATENATE(VLOOKUP(B15,ｴﾝﾄﾘｰ票!$E$16:$L$215,2,0),\"　\",VLOOKUP(B15,ｴﾝﾄﾘｰ票!$E$16:$L$215,3,0)))","v":""},null,null,null,null,{"$f":"IF(B15=\"\",\"\",VLOOKUP(B15,ｴﾝﾄﾘｰ票!$E$16:$L$215,6,0))","v":""},null,{"$f":"IF(B15=\"\",\"\",IF(VLOOKUP(B15,ｴﾝﾄﾘｰ票!$E$16:$Y$215,10,0)=\"\",\"\",VLOOKUP(B15,ｴﾝﾄﾘｰ票!$E$16:$Y$215,10,0)))","v":""},null,{"$f":"IF(B15=\"\",\"\",IF(VLOOKUP(B15,ｴﾝﾄﾘｰ票!$E$16:$Y$215,14,0)=\"\",\"\",VLOOKUP(B15,ｴﾝﾄﾘｰ票!$E$16:$Y$215,14,0)))","v":""},null,{"$f":"IF(B15=\"\",\"\",IF(VLOOKUP(B15,ｴﾝﾄﾘｰ票!$E$16:$Y$215,18,0)=\"\",\"\",VLOOKUP(B15,ｴﾝﾄﾘｰ票!$E$16:$Y$215,18,0)))","v":""},{"$f":"IF(B15=\"\",\"\",IF(ISERROR(VLOOKUP(B15,ｴﾝﾄﾘｰ票!$BD$16:$BE$205,1,0)),\"\",VLOOKUP(B15,ｴﾝﾄﾘｰ票!$BD$16:$BE$205,2,0)))","v":""},null,{"$f":"IF(B15=\"\",\"\",IF(ISERROR(VLOOKUP(B15,ｴﾝﾄﾘｰ票!$BJ$16:$BK$205,1,0)),\"\",VLOOKUP(B15,ｴﾝﾄﾘｰ票!$BJ$16:$BK$205,2,0)))","v":""}]
[7,{"$f":"IF(ISERROR(VLOOKUP(A16*10-9+6000,ｴﾝﾄﾘｰ票!C$15:AI$215,3,0)),\"\",VLOOKUP(A16*10-9+6000,ｴﾝﾄﾘｰ票!C$15:AI$215,3,0))","v":""},{"$f":"IF(B16=\"\",\"\",CONCATENATE(VLOOKUP(B16,ｴﾝﾄﾘｰ票!$E$16:$L$215,2,0),\"　\",VLOOKUP(B16,ｴﾝﾄﾘｰ票!$E$16:$L$215,3,0)))","v":""},null,null,null,null,{"$f":"IF(B16=\"\",\"\",VLOOKUP(B16,ｴﾝﾄﾘｰ票!$E$16:$L$215,6,0))","v":""},null,{"$f":"IF(B16=\"\",\"\",IF(VLOOKUP(B16,ｴﾝﾄﾘｰ票!$E$16:$Y$215,10,0)=\"\",\"\",VLOOKUP(B16,ｴﾝﾄﾘｰ票!$E$16:$Y$215,10,0)))","v":""},null,{"$f":"IF(B16=\"\",\"\",IF(VLOOKUP(B16,ｴﾝﾄﾘｰ票!$E$16:$Y$215,14,0)=\"\",\"\",VLOOKUP(B16,ｴﾝﾄﾘｰ票!$E$16:$Y$215,14,0)))","v":""},null,{"$f":"IF(B16=\"\",\"\",IF(VLOOKUP(B16,ｴﾝﾄﾘｰ票!$E$16:$Y$215,18,0)=\"\",\"\",VLOOKUP(B16,ｴﾝﾄﾘｰ票!$E$16:$Y$215,18,0)))","v":""},{"$f":"IF(B16=\"\",\"\",IF(ISERROR(VLOOKUP(B16,ｴﾝﾄﾘｰ票!$BD$16:$BE$205,1,0)),\"\",VLOOKUP(B16,ｴﾝﾄﾘｰ票!$BD$16:$BE$205,2,0)))","v":""},null,{"$f":"IF(B16=\"\",\"\",IF(ISERROR(VLOOKUP(B16,ｴﾝﾄﾘｰ票!$BJ$16:$BK$205,1,0)),\"\",VLOOKUP(B16,ｴﾝﾄﾘｰ票!$BJ$16:$BK$205,2,0)))","v":""}]
[8,{"$f":"IF(ISERROR(VLOOKUP(A17*10-9+6000,ｴﾝﾄﾘｰ票!C$15:AI$215,3,0)),\"\",VLOOKUP(A17*10-9+6000,ｴﾝﾄﾘｰ票!C$15:AI$215,3,0))","v":""},{"$f":"IF(B17=\"\",\"\",CONCATENATE(VLOOKUP(B17,ｴﾝﾄﾘｰ票!$E$16:$L$215,2,0),\"　\",VLOOKUP(B17,ｴﾝﾄﾘｰ票!$E$16:$L$215,3,0)))","v":""},null,null,null,null,{"$f":"IF(B17=\"\",\"\",VLOOKUP(B17,ｴﾝﾄﾘｰ票!$E$16:$L$215,6,0))","v":""},null,{"$f":"IF(B17=\"\",\"\",IF(VLOOKUP(B17,ｴﾝﾄﾘｰ票!$E$16:$Y$215,10,0)=\"\",\"\",VLOOKUP(B17,ｴﾝﾄﾘｰ票!$E$16:$Y$215,10,0)))","v":""},null,{"$f":"IF(B17=\"\",\"\",IF(VLOOKUP(B17,ｴﾝﾄﾘｰ票!$E$16:$Y$215,14,0)=\"\",\"\",VLOOKUP(B17,ｴﾝﾄﾘｰ票!$E$16:$Y$215,14,0)))","v":""},null,{"$f":"IF(B17=\"\",\"\",IF(VLOOKUP(B17,ｴﾝﾄﾘｰ票!$E$16:$Y$215,18,0)=\"\",\"\",VLOOKUP(B17,ｴﾝﾄﾘｰ票!$E$16:$Y$215,18,0)))","v":""},{"$f":"IF(B17=\"\",\"\",IF(ISERROR(VLOOKUP(B17,ｴﾝﾄﾘｰ票!$BD$16:$BE$205,1,0)),\"\",VLOOKUP(B17,ｴﾝﾄﾘｰ票!$BD$16:$BE$205,2,0)))","v":""},null,{"$f":"IF(B17=\"\",\"\",IF(ISERROR(VLOOKUP(B17,ｴﾝﾄﾘｰ票!$BJ$16:$BK$205,1,0)),\"\",VLOOKUP(B17,ｴﾝﾄﾘｰ票!$BJ$16:$BK$205,2,0)))","v":""}]
[9,{"$f":"IF(ISERROR(VLOOKUP(A18*10-9+6000,ｴﾝﾄﾘｰ票!C$15:AI$215,3,0)),\"\",VLOOKUP(A18*10-9+6000,ｴﾝﾄﾘｰ票!C$15:AI$215,3,0))","v":""},{"$f":"IF(B18=\"\",\"\",CONCATENATE(VLOOKUP(B18,ｴﾝﾄﾘｰ票!$E$16:$L$215,2,0),\"　\",VLOOKUP(B18,ｴﾝﾄﾘｰ票!$E$16:$L$215,3,0)))","v":""},null,null,null,null,{"$f":"IF(B18=\"\",\"\",VLOOKUP(B18,ｴﾝﾄﾘｰ票!$E$16:$L$215,6,0))","v":""},null,{"$f":"IF(B18=\"\",\"\",IF(VLOOKUP(B18,ｴﾝﾄﾘｰ票!$E$16:$Y$215,10,0)=\"\",\"\",VLOOKUP(B18,ｴﾝﾄﾘｰ票!$E$16:$Y$215,10,0)))","v":""},null,{"$f":"IF(B18=\"\",\"\",IF(VLOOKUP(B18,ｴﾝﾄﾘｰ票!$E$16:$Y$215,14,0)=\"\",\"\",VLOOKUP(B18,ｴﾝﾄﾘｰ票!$E$16:$Y$215,14,0)))","v":""},null,{"$f":"IF(B18=\"\",\"\",IF(VLOOKUP(B18,ｴﾝﾄﾘｰ票!$E$16:$Y$215,18,0)=\"\",\"\",VLOOKUP(B18,ｴﾝﾄﾘｰ票!$E$16:$Y$215,18,0)))","v":""},{"$f":"IF(B18=\"\",\"\",IF(ISERROR(VLOOKUP(B18,ｴﾝﾄﾘｰ票!$BD$16:$BE$205,1,0)),\"\",VLOOKUP(B18,ｴﾝﾄﾘｰ票!$BD$16:$BE$205,2,0)))","v":""},null,{"$f":"IF(B18=\"\",\"\",IF(ISERROR(VLOOKUP(B18,ｴﾝﾄﾘｰ票!$BJ$16:$BK$205,1,0)),\"\",VLOOKUP(B18,ｴﾝﾄﾘｰ票!$BJ$16:$BK$205,2,0)))","v":""}]
[10,{"$f":"IF(ISERROR(VLOOKUP(A19*10-9+6000,ｴﾝﾄﾘｰ票!C$15:AI$215,3,0)),\"\",VLOOKUP(A19*10-9+6000,ｴﾝﾄﾘｰ票!C$15:AI$215,3,0))","v":""},{"$f":"IF(B19=\"\",\"\",CONCATENATE(VLOOKUP(B19,ｴﾝﾄﾘｰ票!$E$16:$L$215,2,0),\"　\",VLOOKUP(B19,ｴﾝﾄﾘｰ票!$E$16:$L$215,3,0)))","v":""},null,null,null,null,{"$f":"IF(B19=\"\",\"\",VLOOKUP(B19,ｴﾝﾄﾘｰ票!$E$16:$L$215,6,0))","v":""},null,{"$f":"IF(B19=\"\",\"\",IF(VLOOKUP(B19,ｴﾝﾄﾘｰ票!$E$16:$Y$215,10,0)=\"\",\"\",VLOOKUP(B19,ｴﾝﾄﾘｰ票!$E$16:$Y$215,10,0)))","v":""},null,{"$f":"IF(B19=\"\",\"\",IF(VLOOKUP(B19,ｴﾝﾄﾘｰ票!$E$16:$Y$215,14,0)=\"\",\"\",VLOOKUP(B19,ｴﾝﾄﾘｰ票!$E$16:$Y$215,14,0)))","v":""},null,{"$f":"IF(B19=\"\",\"\",IF(VLOOKUP(B19,ｴﾝﾄﾘｰ票!$E$16:$Y$215,18,0)=\"\",\"\",VLOOKUP(B19,ｴﾝﾄﾘｰ票!$E$16:$Y$215,18,0)))","v":""},{"$f":"IF(B19=\"\",\"\",IF(ISERROR(VLOOKUP(B19,ｴﾝﾄﾘｰ票!$BD$16:$BE$205,1,0)),\"\",VLOOKUP(B19,ｴﾝﾄﾘｰ票!$BD$16:$BE$205,2,0)))","v":""},null,{"$f":"IF(B19=\"\",\"\",IF(ISERROR(VLOOKUP(B19,ｴﾝﾄﾘｰ票!$BJ$16:$BK$205,1,0)),\"\",VLOOKUP(B19,ｴﾝﾄﾘｰ票!$BJ$16:$BK$205,2,0)))","v":""}]
[11,{"$f":"IF(ISERROR(VLOOKUP(A20*10-9+6000,ｴﾝﾄﾘｰ票!C$15:AI$215,3,0)),\"\",VLOOKUP(A20*10-9+6000,ｴﾝﾄﾘｰ票!C$15:AI$215,3,0))","v":""},{"$f":"IF(B20=\"\",\"\",CONCATENATE(VLOOKUP(B20,ｴﾝﾄﾘｰ票!$E$16:$L$215,2,0),\"　\",VLOOKUP(B20,ｴﾝﾄﾘｰ票!$E$16:$L$215,3,0)))","v":""},null,null,null,null,{"$f":"IF(B20=\"\",\"\",VLOOKUP(B20,ｴﾝﾄﾘｰ票!$E$16:$L$215,6,0))","v":""},null,{"$f":"IF(B20=\"\",\"\",IF(VLOOKUP(B20,ｴﾝﾄﾘｰ票!$E$16:$Y$215,10,0)=\"\",\"\",VLOOKUP(B20,ｴﾝﾄﾘｰ票!$E$16:$Y$215,10,0)))","v":""},null,{"$f":"IF(B20=\"\",\"\",IF(VLOOKUP(B20,ｴﾝﾄﾘｰ票!$E$16:$Y$215,14,0)=\"\",\"\",VLOOKUP(B20,ｴﾝﾄﾘｰ票!$E$16:$Y$215,14,0)))","v":""},null,{"$f":"IF(B20=\"\",\"\",IF(VLOOKUP(B20,ｴﾝﾄﾘｰ票!$E$16:$Y$215,18,0)=\"\",\"\",VLOOKUP(B20,ｴﾝﾄﾘｰ票!$E$16:$Y$215,18,0)))","v":""},{"$f":"IF(B20=\"\",\"\",IF(ISERROR(VLOOKUP(B20,ｴﾝﾄﾘｰ票!$BD$16:$BE$205,1,0)),\"\",VLOOKUP(B20,ｴﾝﾄﾘｰ票!$BD$16:$BE$205,2,0)))","v":""},null,{"$f":"IF(B20=\"\",\"\",IF(ISERROR(VLOOKUP(B20,ｴﾝﾄﾘｰ票!$BJ$16:$BK$205,1,0)),\"\",VLOOKUP(B20,ｴﾝﾄﾘｰ票!$BJ$16:$BK$205,2,0)))","v":""}]
[12,{"$f":"IF(ISERROR(VLOOKUP(A21*10-9+6000,ｴﾝﾄﾘｰ票!C$15:AI$215,3,0)),\"\",VLOOKUP(A21*10-9+6000,ｴﾝﾄﾘｰ票!C$15:AI$215,3,0))","v":""},{"$f":"IF(B21=\"\",\"\",CONCATENATE(VLOOKUP(B21,ｴﾝﾄﾘｰ票!$E$16:$L$215,2,0),\"　\",VLOOKUP(B21,ｴﾝﾄﾘｰ票!$E$16:$L$215,3,0)))","v":""},null,null,null,null,{"$f":"IF(B21=\"\",\"\",VLOOKUP(B21,ｴﾝﾄﾘｰ票!$E$16:$L$215,6,0))","v":""},null,{"$f":"IF(B21=\"\",\"\",IF(VLOOKUP(B21,ｴﾝﾄﾘｰ票!$E$16:$Y$215,10,0)=\"\",\"\",VLOOKUP(B21,ｴﾝﾄﾘｰ票!$E$16:$Y$215,10,0)))","v":""},null,{"$f":"IF(B21=\"\",\"\",IF(VLOOKUP(B21,ｴﾝﾄﾘｰ票!$E$16:$Y$215,14,0)=\"\",\"\",VLOOKUP(B21,ｴﾝﾄﾘｰ票!$E$16:$Y$215,14,0)))","v":""},null,{"$f":"IF(B21=\"\",\"\",IF(VLOOKUP(B21,ｴﾝﾄﾘｰ票!$E$16:$Y$215,18,0)=\"\",\"\",VLOOKUP(B21,ｴﾝﾄﾘｰ票!$E$16:$Y$215,18,0)))","v":""},{"$f":"IF(B21=\"\",\"\",IF(ISERROR(VLOOKUP(B21,ｴﾝﾄﾘｰ票!$BD$16:$BE$205,1,0)),\"\",VLOOKUP(B21,ｴﾝﾄﾘｰ票!$BD$16:$BE$205,2,0)))","v":""},null,{"$f":"IF(B21=\"\",\"\",IF(ISERROR(VLOOKUP(B21,ｴﾝﾄﾘｰ票!$BJ$16:$BK$205,1,0)),\"\",VLOOKUP(B21,ｴﾝﾄﾘｰ票!$BJ$16:$BK$205,2,0)))","v":""}]
[13,{"$f":"IF(ISERROR(VLOOKUP(A22*10-9+6000,ｴﾝﾄﾘｰ票!C$15:AI$215,3,0)),\"\",VLOOKUP(A22*10-9+6000,ｴﾝﾄﾘｰ票!C$15:AI$215,3,0))","v":""},{"$f":"IF(B22=\"\",\"\",CONCATENATE(VLOOKUP(B22,ｴﾝﾄﾘｰ票!$E$16:$L$215,2,0),\"　\",VLOOKUP(B22,ｴﾝﾄﾘｰ票!$E$16:$L$215,3,0)))","v":""},null,null,null,null,{"$f":"IF(B22=\"\",\"\",VLOOKUP(B22,ｴﾝﾄﾘｰ票!$E$16:$L$215,6,0))","v":""},null,{"$f":"IF(B22=\"\",\"\",IF(VLOOKUP(B22,ｴﾝﾄﾘｰ票!$E$16:$Y$215,10,0)=\"\",\"\",VLOOKUP(B22,ｴﾝﾄﾘｰ票!$E$16:$Y$215,10,0)))","v":""},null,{"$f":"IF(B22=\"\",\"\",IF(VLOOKUP(B22,ｴﾝﾄﾘｰ票!$E$16:$Y$215,14,0)=\"\",\"\",VLOOKUP(B22,ｴﾝﾄﾘｰ票!$E$16:$Y$215,14,0)))","v":""},null,{"$f":"IF(B22=\"\",\"\",IF(VLOOKUP(B22,ｴﾝﾄﾘｰ票!$E$16:$Y$215,18,0)=\"\",\"\",VLOOKUP(B22,ｴﾝﾄﾘｰ票!$E$16:$Y$215,18,0)))","v":""},{"$f":"IF(B22=\"\",\"\",IF(ISERROR(VLOOKUP(B22,ｴﾝﾄﾘｰ票!$BD$16:$BE$205,1,0)),\"\",VLOOKUP(B22,ｴﾝﾄﾘｰ票!$BD$16:$BE$205,2,0)))","v":""},null,{"$f":"IF(B22=\"\",\"\",IF(ISERROR(VLOOKUP(B22,ｴﾝﾄﾘｰ票!$BJ$16:$BK$205,1,0)),\"\",VLOOKUP(B22,ｴﾝﾄﾘｰ票!$BJ$16:$BK$205,2,0)))","v":""}]
[14,{"$f":"IF(ISERROR(VLOOKUP(A23*10-9+6000,ｴﾝﾄﾘｰ票!C$15:AI$215,3,0)),\"\",VLOOKUP(A23*10-9+6000,ｴﾝﾄﾘｰ票!C$15:AI$215,3,0))","v":""},{"$f":"IF(B23=\"\",\"\",CONCATENATE(VLOOKUP(B23,ｴﾝﾄﾘｰ票!$E$16:$L$215,2,0),\"　\",VLOOKUP(B23,ｴﾝﾄﾘｰ票!$E$16:$L$215,3,0)))","v":""},null,null,null,null,{"$f":"IF(B23=\"\",\"\",VLOOKUP(B23,ｴﾝﾄﾘｰ票!$E$16:$L$215,6,0))","v":""},null,{"$f":"IF(B23=\"\",\"\",IF(VLOOKUP(B23,ｴﾝﾄﾘｰ票!$E$16:$Y$215,10,0)=\"\",\"\",VLOOKUP(B23,ｴﾝﾄﾘｰ票!$E$16:$Y$215,10,0)))","v":""},null,{"$f":"IF(B23=\"\",\"\",IF(VLOOKUP(B23,ｴﾝﾄﾘｰ票!$E$16:$Y$215,14,0)=\"\",\"\",VLOOKUP(B23,ｴﾝﾄﾘｰ票!$E$16:$Y$215,14,0)))","v":""},null,{"$f":"IF(B23=\"\",\"\",IF(VLOOKUP(B23,ｴﾝﾄﾘｰ票!$E$16:$Y$215,18,0)=\"\",\"\",VLOOKUP(B23,ｴﾝﾄﾘｰ票!$E$16:$Y$215,18,0)))","v":""},{"$f":"IF(B23=\"\",\"\",IF(ISERROR(VLOOKUP(B23,ｴﾝﾄﾘｰ票!$BD$16:$BE$205,1,0)),\"\",VLOOKUP(B23,ｴﾝﾄﾘｰ票!$BD$16:$BE$205,2,0)))","v":""},null,{"$f":"IF(B23=\"\",\"\",IF(ISERROR(VLOOKUP(B23,ｴﾝﾄﾘｰ票!$BJ$16:$BK$205,1,0)),\"\",VLOOKUP(B23,ｴﾝﾄﾘｰ票!$BJ$16:$BK$205,2,0)))","v":""}]
[15,{"$f":"IF(ISERROR(VLOOKUP(A24*10-9+6000,ｴﾝﾄﾘｰ票!C$15:AI$215,3,0)),\"\",VLOOKUP(A24*10-9+6000,ｴﾝﾄﾘｰ票!C$15:AI$215,3,0))","v":""},{"$f":"IF(B24=\"\",\"\",CONCATENATE(VLOOKUP(B24,ｴﾝﾄﾘｰ票!$E$16:$L$215,2,0),\"　\",VLOOKUP(B24,ｴﾝﾄﾘｰ票!$E$16:$L$215,3,0)))","v":""},null,null,null,null,{"$f":"IF(B24=\"\",\"\",VLOOKUP(B24,ｴﾝﾄﾘｰ票!$E$16:$L$215,6,0))","v":""},null,{"$f":"IF(B24=\"\",\"\",IF(VLOOKUP(B24,ｴﾝﾄﾘｰ票!$E$16:$Y$215,10,0)=\"\",\"\",VLOOKUP(B24,ｴﾝﾄﾘｰ票!$E$16:$Y$215,10,0)))","v":""},null,{"$f":"IF(B24=\"\",\"\",IF(VLOOKUP(B24,ｴﾝﾄﾘｰ票!$E$16:$Y$215,14,0)=\"\",\"\",VLOOKUP(B24,ｴﾝﾄﾘｰ票!$E$16:$Y$215,14,0)))","v":""},null,{"$f":"IF(B24=\"\",\"\",IF(VLOOKUP(B24,ｴﾝﾄﾘｰ票!$E$16:$Y$215,18,0)=\"\",\"\",VLOOKUP(B24,ｴﾝﾄﾘｰ票!$E$16:$Y$215,18,0)))","v":""},{"$f":"IF(B24=\"\",\"\",IF(ISERROR(VLOOKUP(B24,ｴﾝﾄﾘｰ票!$BD$16:$BE$205,1,0)),\"\",VLOOKUP(B24,ｴﾝﾄﾘｰ票!$BD$16:$BE$205,2,0)))","v":""},null,{"$f":"IF(B24=\"\",\"\",IF(ISERROR(VLOOKUP(B24,ｴﾝﾄﾘｰ票!$BJ$16:$BK$205,1,0)),\"\",VLOOKUP(B24,ｴﾝﾄﾘｰ票!$BJ$16:$BK$205,2,0)))","v":""}]
[16,{"$f":"IF(ISERROR(VLOOKUP(A25*10-9+6000,ｴﾝﾄﾘｰ票!C$15:AI$215,3,0)),\"\",VLOOKUP(A25*10-9+6000,ｴﾝﾄﾘｰ票!C$15:AI$215,3,0))","v":""},{"$f":"IF(B25=\"\",\"\",CONCATENATE(VLOOKUP(B25,ｴﾝﾄﾘｰ票!$E$16:$L$215,2,0),\"　\",VLOOKUP(B25,ｴﾝﾄﾘｰ票!$E$16:$L$215,3,0)))","v":""},null,null,null,null,{"$f":"IF(B25=\"\",\"\",VLOOKUP(B25,ｴﾝﾄﾘｰ票!$E$16:$L$215,6,0))","v":""},null,{"$f":"IF(B25=\"\",\"\",IF(VLOOKUP(B25,ｴﾝﾄﾘｰ票!$E$16:$Y$215,10,0)=\"\",\"\",VLOOKUP(B25,ｴﾝﾄﾘｰ票!$E$16:$Y$215,10,0)))","v":""},null,{"$f":"IF(B25=\"\",\"\",IF(VLOOKUP(B25,ｴﾝﾄﾘｰ票!$E$16:$Y$215,14,0)=\"\",\"\",VLOOKUP(B25,ｴﾝﾄﾘｰ票!$E$16:$Y$215,14,0)))","v":""},null,{"$f":"IF(B25=\"\",\"\",IF(VLOOKUP(B25,ｴﾝﾄﾘｰ票!$E$16:$Y$215,18,0)=\"\",\"\",VLOOKUP(B25,ｴﾝﾄﾘｰ票!$E$16:$Y$215,18,0)))","v":""},{"$f":"IF(B25=\"\",\"\",IF(ISERROR(VLOOKUP(B25,ｴﾝﾄﾘｰ票!$BD$16:$BE$205,1,0)),\"\",VLOOKUP(B25,ｴﾝﾄﾘｰ票!$BD$16:$BE$205,2,0)))","v":""},null,{"$f":"IF(B25=\"\",\"\",IF(ISERROR(VLOOKUP(B25,ｴﾝﾄﾘｰ票!$BJ$16:$BK$205,1,0)),\"\",VLOOKUP(B25,ｴﾝﾄﾘｰ票!$BJ$16:$BK$205,2,0)))","v":""}]
[17,{"$f":"IF(ISERROR(VLOOKUP(A26*10-9+6000,ｴﾝﾄﾘｰ票!C$15:AI$215,3,0)),\"\",VLOOKUP(A26*10-9+6000,ｴﾝﾄﾘｰ票!C$15:AI$215,3,0))","v":""},{"$f":"IF(B26=\"\",\"\",CONCATENATE(VLOOKUP(B26,ｴﾝﾄﾘｰ票!$E$16:$L$215,2,0),\"　\",VLOOKUP(B26,ｴﾝﾄﾘｰ票!$E$16:$L$215,3,0)))","v":""},null,null,null,null,{"$f":"IF(B26=\"\",\"\",VLOOKUP(B26,ｴﾝﾄﾘｰ票!$E$16:$L$215,6,0))","v":""},null,{"$f":"IF(B26=\"\",\"\",IF(VLOOKUP(B26,ｴﾝﾄﾘｰ票!$E$16:$Y$215,10,0)=\"\",\"\",VLOOKUP(B26,ｴﾝﾄﾘｰ票!$E$16:$Y$215,10,0)))","v":""},null,{"$f":"IF(B26=\"\",\"\",IF(VLOOKUP(B26,ｴﾝﾄﾘｰ票!$E$16:$Y$215,14,0)=\"\",\"\",VLOOKUP(B26,ｴﾝﾄﾘｰ票!$E$16:$Y$215,14,0)))","v":""},null,{"$f":"IF(B26=\"\",\"\",IF(VLOOKUP(B26,ｴﾝﾄﾘｰ票!$E$16:$Y$215,18,0)=\"\",\"\",VLOOKUP(B26,ｴﾝﾄﾘｰ票!$E$16:$Y$215,18,0)))","v":""},{"$f":"IF(B26=\"\",\"\",IF(ISERROR(VLOOKUP(B26,ｴﾝﾄﾘｰ票!$BD$16:$BE$205,1,0)),\"\",VLOOKUP(B26,ｴﾝﾄﾘｰ票!$BD$16:$BE$205,2,0)))","v":""},null,{"$f":"IF(B26=\"\",\"\",IF(ISERROR(VLOOKUP(B26,ｴﾝﾄﾘｰ票!$BJ$16:$BK$205,1,0)),\"\",VLOOKUP(B26,ｴﾝﾄﾘｰ票!$BJ$16:$BK$205,2,0)))","v":""}]
[18,{"$f":"IF(ISERROR(VLOOKUP(A27*10-9+6000,ｴﾝﾄﾘｰ票!C$15:AI$215,3,0)),\"\",VLOOKUP(A27*10-9+6000,ｴﾝﾄﾘｰ票!C$15:AI$215,3,0))","v":""},{"$f":"IF(B27=\"\",\"\",CONCATENATE(VLOOKUP(B27,ｴﾝﾄﾘｰ票!$E$16:$L$215,2,0),\"　\",VLOOKUP(B27,ｴﾝﾄﾘｰ票!$E$16:$L$215,3,0)))","v":""},null,null,null,null,{"$f":"IF(B27=\"\",\"\",VLOOKUP(B27,ｴﾝﾄﾘｰ票!$E$16:$L$215,6,0))","v":""},null,{"$f":"IF(B27=\"\",\"\",IF(VLOOKUP(B27,ｴﾝﾄﾘｰ票!$E$16:$Y$215,10,0)=\"\",\"\",VLOOKUP(B27,ｴﾝﾄﾘｰ票!$E$16:$Y$215,10,0)))","v":""},null,{"$f":"IF(B27=\"\",\"\",IF(VLOOKUP(B27,ｴﾝﾄﾘｰ票!$E$16:$Y$215,14,0)=\"\",\"\",VLOOKUP(B27,ｴﾝﾄﾘｰ票!$E$16:$Y$215,14,0)))","v":""},null,{"$f":"IF(B27=\"\",\"\",IF(VLOOKUP(B27,ｴﾝﾄﾘｰ票!$E$16:$Y$215,18,0)=\"\",\"\",VLOOKUP(B27,ｴﾝﾄﾘｰ票!$E$16:$Y$215,18,0)))","v":""},{"$f":"IF(B27=\"\",\"\",IF(ISERROR(VLOOKUP(B27,ｴﾝﾄﾘｰ票!$BD$16:$BE$205,1,0)),\"\",VLOOKUP(B27,ｴﾝﾄﾘｰ票!$BD$16:$BE$205,2,0)))","v":""},null,{"$f":"IF(B27=\"\",\"\",IF(ISERROR(VLOOKUP(B27,ｴﾝﾄﾘｰ票!$BJ$16:$BK$205,1,0)),\"\",VLOOKUP(B27,ｴﾝﾄﾘｰ票!$BJ$16:$BK$205,2,0)))","v":""}]
[19,{"$f":"IF(ISERROR(VLOOKUP(A28*10-9+6000,ｴﾝﾄﾘｰ票!C$15:AI$215,3,0)),\"\",VLOOKUP(A28*10-9+6000,ｴﾝﾄﾘｰ票!C$15:AI$215,3,0))","v":""},{"$f":"IF(B28=\"\",\"\",CONCATENATE(VLOOKUP(B28,ｴﾝﾄﾘｰ票!$E$16:$L$215,2,0),\"　\",VLOOKUP(B28,ｴﾝﾄﾘｰ票!$E$16:$L$215,3,0)))","v":""},null,null,null,null,{"$f":"IF(B28=\"\",\"\",VLOOKUP(B28,ｴﾝﾄﾘｰ票!$E$16:$L$215,6,0))","v":""},null,{"$f":"IF(B28=\"\",\"\",IF(VLOOKUP(B28,ｴﾝﾄﾘｰ票!$E$16:$Y$215,10,0)=\"\",\"\",VLOOKUP(B28,ｴﾝﾄﾘｰ票!$E$16:$Y$215,10,0)))","v":""},null,{"$f":"IF(B28=\"\",\"\",IF(VLOOKUP(B28,ｴﾝﾄﾘｰ票!$E$16:$Y$215,14,0)=\"\",\"\",VLOOKUP(B28,ｴﾝﾄﾘｰ票!$E$16:$Y$215,14,0)))","v":""},null,{"$f":"IF(B28=\"\",\"\",IF(VLOOKUP(B28,ｴﾝﾄﾘｰ票!$E$16:$Y$215,18,0)=\"\",\"\",VLOOKUP(B28,ｴﾝﾄﾘｰ票!$E$16:$Y$215,18,0)))","v":""},{"$f":"IF(B28=\"\",\"\",IF(ISERROR(VLOOKUP(B28,ｴﾝﾄﾘｰ票!$BD$16:$BE$205,1,0)),\"\",VLOOKUP(B28,ｴﾝﾄﾘｰ票!$BD$16:$BE$205,2,0)))","v":""},null,{"$f":"IF(B28=\"\",\"\",IF(ISERROR(VLOOKUP(B28,ｴﾝﾄﾘｰ票!$BJ$16:$BK$205,1,0)),\"\",VLOOKUP(B28,ｴﾝﾄﾘｰ票!$BJ$16:$BK$205,2,0)))","v":""}]
[20,{"$f":"IF(ISERROR(VLOOKUP(A29*10-9+6000,ｴﾝﾄﾘｰ票!C$15:AI$215,3,0)),\"\",VLOOKUP(A29*10-9+6000,ｴﾝﾄﾘｰ票!C$15:AI$215,3,0))","v":""},{"$f":"IF(B29=\"\",\"\",CONCATENATE(VLOOKUP(B29,ｴﾝﾄﾘｰ票!$E$16:$L$215,2,0),\"　\",VLOOKUP(B29,ｴﾝﾄﾘｰ票!$E$16:$L$215,3,0)))","v":""},null,null,null,null,{"$f":"IF(B29=\"\",\"\",VLOOKUP(B29,ｴﾝﾄﾘｰ票!$E$16:$L$215,6,0))","v":""},null,{"$f":"IF(B29=\"\",\"\",IF(VLOOKUP(B29,ｴﾝﾄﾘｰ票!$E$16:$Y$215,10,0)=\"\",\"\",VLOOKUP(B29,ｴﾝﾄﾘｰ票!$E$16:$Y$215,10,0)))","v":""},null,{"$f":"IF(B29=\"\",\"\",IF(VLOOKUP(B29,ｴﾝﾄﾘｰ票!$E$16:$Y$215,14,0)=\"\",\"\",VLOOKUP(B29,ｴﾝﾄﾘｰ票!$E$16:$Y$215,14,0)))","v":""},null,{"$f":"IF(B29=\"\",\"\",IF(VLOOKUP(B29,ｴﾝﾄﾘｰ票!$E$16:$Y$215,18,0)=\"\",\"\",VLOOKUP(B29,ｴﾝﾄﾘｰ票!$E$16:$Y$215,18,0)))","v":""},{"$f":"IF(B29=\"\",\"\",IF(ISERROR(VLOOKUP(B29,ｴﾝﾄﾘｰ票!$BD$16:$BE$205,1,0)),\"\",VLOOKUP(B29,ｴﾝﾄﾘｰ票!$BD$16:$BE$205,2,0)))","v":""},null,{"$f":"IF(B29=\"\",\"\",IF(ISERROR(VLOOKUP(B29,ｴﾝﾄﾘｰ票!$BJ$16:$BK$205,1,0)),\"\",VLOOKUP(B29,ｴﾝﾄﾘｰ票!$BJ$16:$BK$205,2,0)))","v":""}]
[21,{"$f":"IF(ISERROR(VLOOKUP(A30*10-9+6000,ｴﾝﾄﾘｰ票!C$15:AI$215,3,0)),\"\",VLOOKUP(A30*10-9+6000,ｴﾝﾄﾘｰ票!C$15:AI$215,3,0))","v":""},{"$f":"IF(B30=\"\",\"\",CONCATENATE(VLOOKUP(B30,ｴﾝﾄﾘｰ票!$E$16:$L$215,2,0),\"　\",VLOOKUP(B30,ｴﾝﾄﾘｰ票!$E$16:$L$215,3,0)))","v":""},null,null,null,null,{"$f":"IF(B30=\"\",\"\",VLOOKUP(B30,ｴﾝﾄﾘｰ票!$E$16:$L$215,6,0))","v":""},null,{"$f":"IF(B30=\"\",\"\",IF(VLOOKUP(B30,ｴﾝﾄﾘｰ票!$E$16:$Y$215,10,0)=\"\",\"\",VLOOKUP(B30,ｴﾝﾄﾘｰ票!$E$16:$Y$215,10,0)))","v":""},null,{"$f":"IF(B30=\"\",\"\",IF(VLOOKUP(B30,ｴﾝﾄﾘｰ票!$E$16:$Y$215,14,0)=\"\",\"\",VLOOKUP(B30,ｴﾝﾄﾘｰ票!$E$16:$Y$215,14,0)))","v":""},null,{"$f":"IF(B30=\"\",\"\",IF(VLOOKUP(B30,ｴﾝﾄﾘｰ票!$E$16:$Y$215,18,0)=\"\",\"\",VLOOKUP(B30,ｴﾝﾄﾘｰ票!$E$16:$Y$215,18,0)))","v":""},{"$f":"IF(B30=\"\",\"\",IF(ISERROR(VLOOKUP(B30,ｴﾝﾄﾘｰ票!$BD$16:$BE$205,1,0)),\"\",VLOOKUP(B30,ｴﾝﾄﾘｰ票!$BD$16:$BE$205,2,0)))","v":""},null,{"$f":"IF(B30=\"\",\"\",IF(ISERROR(VLOOKUP(B30,ｴﾝﾄﾘｰ票!$BJ$16:$BK$205,1,0)),\"\",VLOOKUP(B30,ｴﾝﾄﾘｰ票!$BJ$16:$BK$205,2,0)))","v":""}]
[22,{"$f":"IF(ISERROR(VLOOKUP(A31*10-9+6000,ｴﾝﾄﾘｰ票!C$15:AI$215,3,0)),\"\",VLOOKUP(A31*10-9+6000,ｴﾝﾄﾘｰ票!C$15:AI$215,3,0))","v":""},{"$f":"IF(B31=\"\",\"\",CONCATENATE(VLOOKUP(B31,ｴﾝﾄﾘｰ票!$E$16:$L$215,2,0),\"　\",VLOOKUP(B31,ｴﾝﾄﾘｰ票!$E$16:$L$215,3,0)))","v":""},null,null,null,null,{"$f":"IF(B31=\"\",\"\",VLOOKUP(B31,ｴﾝﾄﾘｰ票!$E$16:$L$215,6,0))","v":""},null,{"$f":"IF(B31=\"\",\"\",IF(VLOOKUP(B31,ｴﾝﾄﾘｰ票!$E$16:$Y$215,10,0)=\"\",\"\",VLOOKUP(B31,ｴﾝﾄﾘｰ票!$E$16:$Y$215,10,0)))","v":""},null,{"$f":"IF(B31=\"\",\"\",IF(VLOOKUP(B31,ｴﾝﾄﾘｰ票!$E$16:$Y$215,14,0)=\"\",\"\",VLOOKUP(B31,ｴﾝﾄﾘｰ票!$E$16:$Y$215,14,0)))","v":""},null,{"$f":"IF(B31=\"\",\"\",IF(VLOOKUP(B31,ｴﾝﾄﾘｰ票!$E$16:$Y$215,18,0)=\"\",\"\",VLOOKUP(B31,ｴﾝﾄﾘｰ票!$E$16:$Y$215,18,0)))","v":""},{"$f":"IF(B31=\"\",\"\",IF(ISERROR(VLOOKUP(B31,ｴﾝﾄﾘｰ票!$BD$16:$BE$205,1,0)),\"\",VLOOKUP(B31,ｴﾝﾄﾘｰ票!$BD$16:$BE$205,2,0)))","v":""},null,{"$f":"IF(B31=\"\",\"\",IF(ISERROR(VLOOKUP(B31,ｴﾝﾄﾘｰ票!$BJ$16:$BK$205,1,0)),\"\",VLOOKUP(B31,ｴﾝﾄﾘｰ票!$BJ$16:$BK$205,2,0)))","v":""}]
[23,{"$f":"IF(ISERROR(VLOOKUP(A32*10-9+6000,ｴﾝﾄﾘｰ票!C$15:AI$215,3,0)),\"\",VLOOKUP(A32*10-9+6000,ｴﾝﾄﾘｰ票!C$15:AI$215,3,0))","v":""},{"$f":"IF(B32=\"\",\"\",CONCATENATE(VLOOKUP(B32,ｴﾝﾄﾘｰ票!$E$16:$L$215,2,0),\"　\",VLOOKUP(B32,ｴﾝﾄﾘｰ票!$E$16:$L$215,3,0)))","v":""},null,null,null,null,{"$f":"IF(B32=\"\",\"\",VLOOKUP(B32,ｴﾝﾄﾘｰ票!$E$16:$L$215,6,0))","v":""},null,{"$f":"IF(B32=\"\",\"\",IF(VLOOKUP(B32,ｴﾝﾄﾘｰ票!$E$16:$Y$215,10,0)=\"\",\"\",VLOOKUP(B32,ｴﾝﾄﾘｰ票!$E$16:$Y$215,10,0)))","v":""},null,{"$f":"IF(B32=\"\",\"\",IF(VLOOKUP(B32,ｴﾝﾄﾘｰ票!$E$16:$Y$215,14,0)=\"\",\"\",VLOOKUP(B32,ｴﾝﾄﾘｰ票!$E$16:$Y$215,14,0)))","v":""},null,{"$f":"IF(B32=\"\",\"\",IF(VLOOKUP(B32,ｴﾝﾄﾘｰ票!$E$16:$Y$215,18,0)=\"\",\"\",VLOOKUP(B32,ｴﾝﾄﾘｰ票!$E$16:$Y$215,18,0)))","v":""},{"$f":"IF(B32=\"\",\"\",IF(ISERROR(VLOOKUP(B32,ｴﾝﾄﾘｰ票!$BD$16:$BE$205,1,0)),\"\",VLOOKUP(B32,ｴﾝﾄﾘｰ票!$BD$16:$BE$205,2,0)))","v":""},null,{"$f":"IF(B32=\"\",\"\",IF(ISERROR(VLOOKUP(B32,ｴﾝﾄﾘｰ票!$BJ$16:$BK$205,1,0)),\"\",VLOOKUP(B32,ｴﾝﾄﾘｰ票!$BJ$16:$BK$205,2,0)))","v":""}]
[24,{"$f":"IF(ISERROR(VLOOKUP(A33*10-9+6000,ｴﾝﾄﾘｰ票!C$15:AI$215,3,0)),\"\",VLOOKUP(A33*10-9+6000,ｴﾝﾄﾘｰ票!C$15:AI$215,3,0))","v":""},{"$f":"IF(B33=\"\",\"\",CONCATENATE(VLOOKUP(B33,ｴﾝﾄﾘｰ票!$E$16:$L$215,2,0),\"　\",VLOOKUP(B33,ｴﾝﾄﾘｰ票!$E$16:$L$215,3,0)))","v":""},null,null,null,null,{"$f":"IF(B33=\"\",\"\",VLOOKUP(B33,ｴﾝﾄﾘｰ票!$E$16:$L$215,6,0))","v":""},null,{"$f":"IF(B33=\"\",\"\",IF(VLOOKUP(B33,ｴﾝﾄﾘｰ票!$E$16:$Y$215,10,0)=\"\",\"\",VLOOKUP(B33,ｴﾝﾄﾘｰ票!$E$16:$Y$215,10,0)))","v":""},null,{"$f":"IF(B33=\"\",\"\",IF(VLOOKUP(B33,ｴﾝﾄﾘｰ票!$E$16:$Y$215,14,0)=\"\",\"\",VLOOKUP(B33,ｴﾝﾄﾘｰ票!$E$16:$Y$215,14,0)))","v":""},null,{"$f":"IF(B33=\"\",\"\",IF(VLOOKUP(B33,ｴﾝﾄﾘｰ票!$E$16:$Y$215,18,0)=\"\",\"\",VLOOKUP(B33,ｴﾝﾄﾘｰ票!$E$16:$Y$215,18,0)))","v":""},{"$f":"IF(B33=\"\",\"\",IF(ISERROR(VLOOKUP(B33,ｴﾝﾄﾘｰ票!$BD$16:$BE$205,1,0)),\"\",VLOOKUP(B33,ｴﾝﾄﾘｰ票!$BD$16:$BE$205,2,0)))","v":""},null,{"$f":"IF(B33=\"\",\"\",IF(ISERROR(VLOOKUP(B33,ｴﾝﾄﾘｰ票!$BJ$16:$BK$205,1,0)),\"\",VLOOKUP(B33,ｴﾝﾄﾘｰ票!$BJ$16:$BK$205,2,0)))","v":""}]
[25,{"$f":"IF(ISERROR(VLOOKUP(A34*10-9+6000,ｴﾝﾄﾘｰ票!C$15:AI$215,3,0)),\"\",VLOOKUP(A34*10-9+6000,ｴﾝﾄﾘｰ票!C$15:AI$215,3,0))","v":""},{"$f":"IF(B34=\"\",\"\",CONCATENATE(VLOOKUP(B34,ｴﾝﾄﾘｰ票!$E$16:$L$215,2,0),\"　\",VLOOKUP(B34,ｴﾝﾄﾘｰ票!$E$16:$L$215,3,0)))","v":""},null,null,null,null,{"$f":"IF(B34=\"\",\"\",VLOOKUP(B34,ｴﾝﾄﾘｰ票!$E$16:$L$215,6,0))","v":""},null,{"$f":"IF(B34=\"\",\"\",IF(VLOOKUP(B34,ｴﾝﾄﾘｰ票!$E$16:$Y$215,10,0)=\"\",\"\",VLOOKUP(B34,ｴﾝﾄﾘｰ票!$E$16:$Y$215,10,0)))","v":""},null,{"$f":"IF(B34=\"\",\"\",IF(VLOOKUP(B34,ｴﾝﾄﾘｰ票!$E$16:$Y$215,14,0)=\"\",\"\",VLOOKUP(B34,ｴﾝﾄﾘｰ票!$E$16:$Y$215,14,0)))","v":""},null,{"$f":"IF(B34=\"\",\"\",IF(VLOOKUP(B34,ｴﾝﾄﾘｰ票!$E$16:$Y$215,18,0)=\"\",\"\",VLOOKUP(B34,ｴﾝﾄﾘｰ票!$E$16:$Y$215,18,0)))","v":""},{"$f":"IF(B34=\"\",\"\",IF(ISERROR(VLOOKUP(B34,ｴﾝﾄﾘｰ票!$BD$16:$BE$205,1,0)),\"\",VLOOKUP(B34,ｴﾝﾄﾘｰ票!$BD$16:$BE$205,2,0)))","v":""},null,{"$f":"IF(B34=\"\",\"\",IF(ISERROR(VLOOKUP(B34,ｴﾝﾄﾘｰ票!$BJ$16:$BK$205,1,0)),\"\",VLOOKUP(B34,ｴﾝﾄﾘｰ票!$BJ$16:$BK$205,2,0)))","v":""}]
[26,{"$f":"IF(ISERROR(VLOOKUP(A35*10-9+6000,ｴﾝﾄﾘｰ票!C$15:AI$215,3,0)),\"\",VLOOKUP(A35*10-9+6000,ｴﾝﾄﾘｰ票!C$15:AI$215,3,0))","v":""},{"$f":"IF(B35=\"\",\"\",CONCATENATE(VLOOKUP(B35,ｴﾝﾄﾘｰ票!$E$16:$L$215,2,0),\"　\",VLOOKUP(B35,ｴﾝﾄﾘｰ票!$E$16:$L$215,3,0)))","v":""},null,null,null,null,{"$f":"IF(B35=\"\",\"\",VLOOKUP(B35,ｴﾝﾄﾘｰ票!$E$16:$L$215,6,0))","v":""},null,{"$f":"IF(B35=\"\",\"\",IF(VLOOKUP(B35,ｴﾝﾄﾘｰ票!$E$16:$Y$215,10,0)=\"\",\"\",VLOOKUP(B35,ｴﾝﾄﾘｰ票!$E$16:$Y$215,10,0)))","v":""},null,{"$f":"IF(B35=\"\",\"\",IF(VLOOKUP(B35,ｴﾝﾄﾘｰ票!$E$16:$Y$215,14,0)=\"\",\"\",VLOOKUP(B35,ｴﾝﾄﾘｰ票!$E$16:$Y$215,14,0)))","v":""},null,{"$f":"IF(B35=\"\",\"\",IF(VLOOKUP(B35,ｴﾝﾄﾘｰ票!$E$16:$Y$215,18,0)=\"\",\"\",VLOOKUP(B35,ｴﾝﾄﾘｰ票!$E$16:$Y$215,18,0)))","v":""},{"$f":"IF(B35=\"\",\"\",IF(ISERROR(VLOOKUP(B35,ｴﾝﾄﾘｰ票!$BD$16:$BE$205,1,0)),\"\",VLOOKUP(B35,ｴﾝﾄﾘｰ票!$BD$16:$BE$205,2,0)))","v":""},null,{"$f":"IF(B35=\"\",\"\",IF(ISERROR(VLOOKUP(B35,ｴﾝﾄﾘｰ票!$BJ$16:$BK$205,1,0)),\"\",VLOOKUP(B35,ｴﾝﾄﾘｰ票!$BJ$16:$BK$205,2,0)))","v":""}]
[27,{"$f":"IF(ISERROR(VLOOKUP(A36*10-9+6000,ｴﾝﾄﾘｰ票!C$15:AI$215,3,0)),\"\",VLOOKUP(A36*10-9+6000,ｴﾝﾄﾘｰ票!C$15:AI$215,3,0))","v":""},{"$f":"IF(B36=\"\",\"\",CONCATENATE(VLOOKUP(B36,ｴﾝﾄﾘｰ票!$E$16:$L$215,2,0),\"　\",VLOOKUP(B36,ｴﾝﾄﾘｰ票!$E$16:$L$215,3,0)))","v":""},null,null,null,null,{"$f":"IF(B36=\"\",\"\",VLOOKUP(B36,ｴﾝﾄﾘｰ票!$E$16:$L$215,6,0))","v":""},null,{"$f":"IF(B36=\"\",\"\",IF(VLOOKUP(B36,ｴﾝﾄﾘｰ票!$E$16:$Y$215,10,0)=\"\",\"\",VLOOKUP(B36,ｴﾝﾄﾘｰ票!$E$16:$Y$215,10,0)))","v":""},null,{"$f":"IF(B36=\"\",\"\",IF(VLOOKUP(B36,ｴﾝﾄﾘｰ票!$E$16:$Y$215,14,0)=\"\",\"\",VLOOKUP(B36,ｴﾝﾄﾘｰ票!$E$16:$Y$215,14,0)))","v":""},null,{"$f":"IF(B36=\"\",\"\",IF(VLOOKUP(B36,ｴﾝﾄﾘｰ票!$E$16:$Y$215,18,0)=\"\",\"\",VLOOKUP(B36,ｴﾝﾄﾘｰ票!$E$16:$Y$215,18,0)))","v":""},{"$f":"IF(B36=\"\",\"\",IF(ISERROR(VLOOKUP(B36,ｴﾝﾄﾘｰ票!$BD$16:$BE$205,1,0)),\"\",VLOOKUP(B36,ｴﾝﾄﾘｰ票!$BD$16:$BE$205,2,0)))","v":""},null,{"$f":"IF(B36=\"\",\"\",IF(ISERROR(VLOOKUP(B36,ｴﾝﾄﾘｰ票!$BJ$16:$BK$205,1,0)),\"\",VLOOKUP(B36,ｴﾝﾄﾘｰ票!$BJ$16:$BK$205,2,0)))","v":""}]
[28,{"$f":"IF(ISERROR(VLOOKUP(A37*10-9+6000,ｴﾝﾄﾘｰ票!C$15:AI$215,3,0)),\"\",VLOOKUP(A37*10-9+6000,ｴﾝﾄﾘｰ票!C$15:AI$215,3,0))","v":""},{"$f":"IF(B37=\"\",\"\",CONCATENATE(VLOOKUP(B37,ｴﾝﾄﾘｰ票!$E$16:$L$215,2,0),\"　\",VLOOKUP(B37,ｴﾝﾄﾘｰ票!$E$16:$L$215,3,0)))","v":""},null,null,null,null,{"$f":"IF(B37=\"\",\"\",VLOOKUP(B37,ｴﾝﾄﾘｰ票!$E$16:$L$215,6,0))","v":""},null,{"$f":"IF(B37=\"\",\"\",IF(VLOOKUP(B37,ｴﾝﾄﾘｰ票!$E$16:$Y$215,10,0)=\"\",\"\",VLOOKUP(B37,ｴﾝﾄﾘｰ票!$E$16:$Y$215,10,0)))","v":""},null,{"$f":"IF(B37=\"\",\"\",IF(VLOOKUP(B37,ｴﾝﾄﾘｰ票!$E$16:$Y$215,14,0)=\"\",\"\",VLOOKUP(B37,ｴﾝﾄﾘｰ票!$E$16:$Y$215,14,0)))","v":""},null,{"$f":"IF(B37=\"\",\"\",IF(VLOOKUP(B37,ｴﾝﾄﾘｰ票!$E$16:$Y$215,18,0)=\"\",\"\",VLOOKUP(B37,ｴﾝﾄﾘｰ票!$E$16:$Y$215,18,0)))","v":""},{"$f":"IF(B37=\"\",\"\",IF(ISERROR(VLOOKUP(B37,ｴﾝﾄﾘｰ票!$BD$16:$BE$205,1,0)),\"\",VLOOKUP(B37,ｴﾝﾄﾘｰ票!$BD$16:$BE$205,2,0)))","v":""},null,{"$f":"IF(B37=\"\",\"\",IF(ISERROR(VLOOKUP(B37,ｴﾝﾄﾘｰ票!$BJ$16:$BK$205,1,0)),\"\",VLOOKUP(B37,ｴﾝﾄﾘｰ票!$BJ$16:$BK$205,2,0)))","v":""}]
[29,{"$f":"IF(ISERROR(VLOOKUP(A38*10-9+6000,ｴﾝﾄﾘｰ票!C$15:AI$215,3,0)),\"\",VLOOKUP(A38*10-9+6000,ｴﾝﾄﾘｰ票!C$15:AI$215,3,0))","v":""},{"$f":"IF(B38=\"\",\"\",CONCATENATE(VLOOKUP(B38,ｴﾝﾄﾘｰ票!$E$16:$L$215,2,0),\"　\",VLOOKUP(B38,ｴﾝﾄﾘｰ票!$E$16:$L$215,3,0)))","v":""},null,null,null,null,{"$f":"IF(B38=\"\",\"\",VLOOKUP(B38,ｴﾝﾄﾘｰ票!$E$16:$L$215,6,0))","v":""},null,{"$f":"IF(B38=\"\",\"\",IF(VLOOKUP(B38,ｴﾝﾄﾘｰ票!$E$16:$Y$215,10,0)=\"\",\"\",VLOOKUP(B38,ｴﾝﾄﾘｰ票!$E$16:$Y$215,10,0)))","v":""},null,{"$f":"IF(B38=\"\",\"\",IF(VLOOKUP(B38,ｴﾝﾄﾘｰ票!$E$16:$Y$215,14,0)=\"\",\"\",VLOOKUP(B38,ｴﾝﾄﾘｰ票!$E$16:$Y$215,14,0)))","v":""},null,{"$f":"IF(B38=\"\",\"\",IF(VLOOKUP(B38,ｴﾝﾄﾘｰ票!$E$16:$Y$215,18,0)=\"\",\"\",VLOOKUP(B38,ｴﾝﾄﾘｰ票!$E$16:$Y$215,18,0)))","v":""},{"$f":"IF(B38=\"\",\"\",IF(ISERROR(VLOOKUP(B38,ｴﾝﾄﾘｰ票!$BD$16:$BE$205,1,0)),\"\",VLOOKUP(B38,ｴﾝﾄﾘｰ票!$BD$16:$BE$205,2,0)))","v":""},null,{"$f":"IF(B38=\"\",\"\",IF(ISERROR(VLOOKUP(B38,ｴﾝﾄﾘｰ票!$BJ$16:$BK$205,1,0)),\"\",VLOOKUP(B38,ｴﾝﾄﾘｰ票!$BJ$16:$BK$205,2,0)))","v":""}]
[30,{"$f":"IF(ISERROR(VLOOKUP(A39*10-9+6000,ｴﾝﾄﾘｰ票!C$15:AI$215,3,0)),\"\",VLOOKUP(A39*10-9+6000,ｴﾝﾄﾘｰ票!C$15:AI$215,3,0))","v":""},{"$f":"IF(B39=\"\",\"\",CONCATENATE(VLOOKUP(B39,ｴﾝﾄﾘｰ票!$E$16:$L$215,2,0),\"　\",VLOOKUP(B39,ｴﾝﾄﾘｰ票!$E$16:$L$215,3,0)))","v":""},null,null,null,null,{"$f":"IF(B39=\"\",\"\",VLOOKUP(B39,ｴﾝﾄﾘｰ票!$E$16:$L$215,6,0))","v":""},null,{"$f":"IF(B39=\"\",\"\",IF(VLOOKUP(B39,ｴﾝﾄﾘｰ票!$E$16:$Y$215,10,0)=\"\",\"\",VLOOKUP(B39,ｴﾝﾄﾘｰ票!$E$16:$Y$215,10,0)))","v":""},null,{"$f":"IF(B39=\"\",\"\",IF(VLOOKUP(B39,ｴﾝﾄﾘｰ票!$E$16:$Y$215,14,0)=\"\",\"\",VLOOKUP(B39,ｴﾝﾄﾘｰ票!$E$16:$Y$215,14,0)))","v":""},null,{"$f":"IF(B39=\"\",\"\",IF(VLOOKUP(B39,ｴﾝﾄﾘｰ票!$E$16:$Y$215,18,0)=\"\",\"\",VLOOKUP(B39,ｴﾝﾄﾘｰ票!$E$16:$Y$215,18,0)))","v":""},{"$f":"IF(B39=\"\",\"\",IF(ISERROR(VLOOKUP(B39,ｴﾝﾄﾘｰ票!$BD$16:$BE$205,1,0)),\"\",VLOOKUP(B39,ｴﾝﾄﾘｰ票!$BD$16:$BE$205,2,0)))","v":""},null,{"$f":"IF(B39=\"\",\"\",IF(ISERROR(VLOOKUP(B39,ｴﾝﾄﾘｰ票!$BJ$16:$BK$205,1,0)),\"\",VLOOKUP(B39,ｴﾝﾄﾘｰ票!$BJ$16:$BK$205,2,0)))","v":""}]
[]
[null,null,"個人",null,"ﾘﾚｰ",null,null,"プログラム"]
[null,null,"@600円",null,"＠1200円",null,null,"＠600円"]
[null,null,{"$f":"500-COUNTBLANK(J10:N39)-COUNTBLANK(J54:N88)-COUNTBLANK(J98:N132)","v":0},null,{"$f":"ｴﾝﾄﾘｰ票!Z12+ｴﾝﾄﾘｰ票!AA12","v":0},null,null,{"$f":"ｴﾝﾄﾘｰ票!AC12","v":0},null,null,null,"合計"]
[null,null,{"$f":"C43*600","v":0},null,null,{"$f":"E43*1200","v":0},null,{"$f":"H43*600","v":0},null,null,{"$f":"C44+F44+H44","v":0}]
[null,{"$f":"ｴﾝﾄﾘｰ票!$G$1","v":"東京高体連陸上第4支部秋季競技会1"},null,null,null,null,null,null,null,null,null,null,null,null,null,null,"申込用紙(A票）"]
[{"$f":"A2","v":"平成30年度"},null,null,null,null,null,null,null,null,null,null,null,null,null,"女子",null,"Ｎｏ．２"]
["学校名",null,{"$f":"ｴﾝﾄﾘｰ票!$G$2","v":0}]
["学校所在地",null,{"$f":"ｴﾝﾄﾘｰ票!$G$5","v":0}]
["学校長",null,{"$f":"ｴﾝﾄﾘｰ票!$G$4","v":0},null,null,null,null,null,null,"印",null,"顧問氏名",null,{"$f":"ｴﾝﾄﾘｰ票!$G$8","v":0},null,null,"印"]
["電話",null,{"$f":"ｴﾝﾄﾘｰ票!$G$6","v":"00:00:00"},null,null,null,"ＦＡＸ",{"$f":"ｴﾝﾄﾘｰ票!$G$7","v":0},null,null,null,"連絡先",null,{"$f":"ｴﾝﾄﾘｰ票!$G$9","v":0}]
[]
[null,null,null,null,null,null,null,null,null,null,null,null,null,"種目"]
[null,"番号","出場者氏名",null,null,null,null,"学年",null,"個人",null,"個人",null,"個人","4×100",null,"4×400"]
[31,{"$f":"IF(ISERROR(VLOOKUP(A54*10-9+6000,ｴﾝﾄﾘｰ票!C$15:AI$215,3,0)),\"\",VLOOKUP(A54*10-9+6000,ｴﾝﾄﾘｰ票!C$15:AI$215,3,0))","v":""},{"$f":"IF(B54=\"\",\"\",CONCATENATE(VLOOKUP(B54,ｴﾝﾄﾘｰ票!$E$16:$L$215,2,0),\"　\",VLOOKUP(B54,ｴﾝﾄﾘｰ票!$E$16:$L$215,3,0)))","v":""},null,null,null,null,{"$f":"IF(B54=\"\",\"\",VLOOKUP(B54,ｴﾝﾄﾘｰ票!$E$16:$L$215,6,0))","v":""},null,{"$f":"IF(B54=\"\",\"\",IF(VLOOKUP(B54,ｴﾝﾄﾘｰ票!$E$16:$Y$215,10,0)=\"\",\"\",VLOOKUP(B54,ｴﾝﾄﾘｰ票!$E$16:$Y$215,10,0)))","v":""},null,{"$f":"IF(B54=\"\",\"\",IF(VLOOKUP(B54,ｴﾝﾄﾘｰ票!$E$16:$Y$215,14,0)=\"\",\"\",VLOOKUP(B54,ｴﾝﾄﾘｰ票!$E$16:$Y$215,14,0)))","v":""},null,{"$f":"IF(B54=\"\",\"\",IF(VLOOKUP(B54,ｴﾝﾄﾘｰ票!$E$16:$Y$215,18,0)=\"\",\"\",VLOOKUP(B54,ｴﾝﾄﾘｰ票!$E$16:$Y$215,18,0)))","v":""},{"$f":"IF(B54=\"\",\"\",IF(ISERROR(VLOOKUP(B54,ｴﾝﾄﾘｰ票!$BD$16:$BE$205,1,0)),\"\",VLOOKUP(B54,ｴﾝﾄﾘｰ票!$BD$16:$BE$205,2,0)))","v":""},null,{"$f":"IF(B54=\"\",\"\",IF(ISERROR(VLOOKUP(B54,ｴﾝﾄﾘｰ票!$BJ$16:$BK$205,1,0)),\"\",VLOOKUP(B54,ｴﾝﾄﾘｰ票!$BJ$16:$BK$205,2,0)))","v":""}]
[32,{"$f":"IF(ISERROR(VLOOKUP(A55*10-9+6000,ｴﾝﾄﾘｰ票!C$15:AI$215,3,0)),\"\",VLOOKUP(A55*10-9+6000,ｴﾝﾄﾘｰ票!C$15:AI$215,3,0))","v":""},{"$f":"IF(B55=\"\",\"\",CONCATENATE(VLOOKUP(B55,ｴﾝﾄﾘｰ票!$E$16:$L$215,2,0),\"　\",VLOOKUP(B55,ｴﾝﾄﾘｰ票!$E$16:$L$215,3,0)))","v":""},null,null,null,null,{"$f":"IF(B55=\"\",\"\",VLOOKUP(B55,ｴﾝﾄﾘｰ票!$E$16:$L$215,6,0))","v":""},null,{"$f":"IF(B55=\"\",\"\",IF(VLOOKUP(B55,ｴﾝﾄﾘｰ票!$E$16:$Y$215,10,0)=\"\",\"\",VLOOKUP(B55,ｴﾝﾄﾘｰ票!$E$16:$Y$215,10,0)))","v":""},null,{"$f":"IF(B55=\"\",\"\",IF(VLOOKUP(B55,ｴﾝﾄﾘｰ票!$E$16:$Y$215,14,0)=\"\",\"\",VLOOKUP(B55,ｴﾝﾄﾘｰ票!$E$16:$Y$215,14,0)))","v":""},null,{"$f":"IF(B55=\"\",\"\",IF(VLOOKUP(B55,ｴﾝﾄﾘｰ票!$E$16:$Y$215,18,0)=\"\",\"\",VLOOKUP(B55,ｴﾝﾄﾘｰ票!$E$16:$Y$215,18,0)))","v":""},{"$f":"IF(B55=\"\",\"\",IF(ISERROR(VLOOKUP(B55,ｴﾝﾄﾘｰ票!$BD$16:$BE$205,1,0)),\"\",VLOOKUP(B55,ｴﾝﾄﾘｰ票!$BD$16:$BE$205,2,0)))","v":""},null,{"$f":"IF(B55=\"\",\"\",IF(ISERROR(VLOOKUP(B55,ｴﾝﾄﾘｰ票!$BJ$16:$BK$205,1,0)),\"\",VLOOKUP(B55,ｴﾝﾄﾘｰ票!$BJ$16:$BK$205,2,0)))","v":""}]
[33,{"$f":"IF(ISERROR(VLOOKUP(A56*10-9+6000,ｴﾝﾄﾘｰ票!C$15:AI$215,3,0)),\"\",VLOOKUP(A56*10-9+6000,ｴﾝﾄﾘｰ票!C$15:AI$215,3,0))","v":""},{"$f":"IF(B56=\"\",\"\",CONCATENATE(VLOOKUP(B56,ｴﾝﾄﾘｰ票!$E$16:$L$215,2,0),\"　\",VLOOKUP(B56,ｴﾝﾄﾘｰ票!$E$16:$L$215,3,0)))","v":""},null,null,null,null,{"$f":"IF(B56=\"\",\"\",VLOOKUP(B56,ｴﾝﾄﾘｰ票!$E$16:$L$215,6,0))","v":""},null,{"$f":"IF(B56=\"\",\"\",IF(VLOOKUP(B56,ｴﾝﾄﾘｰ票!$E$16:$Y$215,10,0)=\"\",\"\",VLOOKUP(B56,ｴﾝﾄﾘｰ票!$E$16:$Y$215,10,0)))","v":""},null,{"$f":"IF(B56=\"\",\"\",IF(VLOOKUP(B56,ｴﾝﾄﾘｰ票!$E$16:$Y$215,14,0)=\"\",\"\",VLOOKUP(B56,ｴﾝﾄﾘｰ票!$E$16:$Y$215,14,0)))","v":""},null,{"$f":"IF(B56=\"\",\"\",IF(VLOOKUP(B56,ｴﾝﾄﾘｰ票!$E$16:$Y$215,18,0)=\"\",\"\",VLOOKUP(B56,ｴﾝﾄﾘｰ票!$E$16:$Y$215,18,0)))","v":""},{"$f":"IF(B56=\"\",\"\",IF(ISERROR(VLOOKUP(B56,ｴﾝﾄﾘｰ票!$BD$16:$BE$205,1,0)),\"\",VLOOKUP(B56,ｴﾝﾄﾘｰ票!$BD$16:$BE$205,2,0)))","v":""},null,{"$f":"IF(B56=\"\",\"\",IF(ISERROR(VLOOKUP(B56,ｴﾝﾄﾘｰ票!$BJ$16:$BK$205,1,0)),\"\",VLOOKUP(B56,ｴﾝﾄﾘｰ票!$BJ$16:$BK$205,2,0)))","v":""}]
[34,{"$f":"IF(ISERROR(VLOOKUP(A57*10-9+6000,ｴﾝﾄﾘｰ票!C$15:AI$215,3,0)),\"\",VLOOKUP(A57*10-9+6000,ｴﾝﾄﾘｰ票!C$15:AI$215,3,0))","v":""},{"$f":"IF(B57=\"\",\"\",CONCATENATE(VLOOKUP(B57,ｴﾝﾄﾘｰ票!$E$16:$L$215,2,0),\"　\",VLOOKUP(B57,ｴﾝﾄﾘｰ票!$E$16:$L$215,3,0)))","v":""},null,null,null,null,{"$f":"IF(B57=\"\",\"\",VLOOKUP(B57,ｴﾝﾄﾘｰ票!$E$16:$L$215,6,0))","v":""},null,{"$f":"IF(B57=\"\",\"\",IF(VLOOKUP(B57,ｴﾝﾄﾘｰ票!$E$16:$Y$215,10,0)=\"\",\"\",VLOOKUP(B57,ｴﾝﾄﾘｰ票!$E$16:$Y$215,10,0)))","v":""},null,{"$f":"IF(B57=\"\",\"\",IF(VLOOKUP(B57,ｴﾝﾄﾘｰ票!$E$16:$Y$215,14,0)=\"\",\"\",VLOOKUP(B57,ｴﾝﾄﾘｰ票!$E$16:$Y$215,14,0)))","v":""},null,{"$f":"IF(B57=\"\",\"\",IF(VLOOKUP(B57,ｴﾝﾄﾘｰ票!$E$16:$Y$215,18,0)=\"\",\"\",VLOOKUP(B57,ｴﾝﾄﾘｰ票!$E$16:$Y$215,18,0)))","v":""},{"$f":"IF(B57=\"\",\"\",IF(ISERROR(VLOOKUP(B57,ｴﾝﾄﾘｰ票!$BD$16:$BE$205,1,0)),\"\",VLOOKUP(B57,ｴﾝﾄﾘｰ票!$BD$16:$BE$205,2,0)))","v":""},null,{"$f":"IF(B57=\"\",\"\",IF(ISERROR(VLOOKUP(B57,ｴﾝﾄﾘｰ票!$BJ$16:$BK$205,1,0)),\"\",VLOOKUP(B57,ｴﾝﾄﾘｰ票!$BJ$16:$BK$205,2,0)))","v":""}]
[35,{"$f":"IF(ISERROR(VLOOKUP(A58*10-9+6000,ｴﾝﾄﾘｰ票!C$15:AI$215,3,0)),\"\",VLOOKUP(A58*10-9+6000,ｴﾝﾄﾘｰ票!C$15:AI$215,3,0))","v":""},{"$f":"IF(B58=\"\",\"\",CONCATENATE(VLOOKUP(B58,ｴﾝﾄﾘｰ票!$E$16:$L$215,2,0),\"　\",VLOOKUP(B58,ｴﾝﾄﾘｰ票!$E$16:$L$215,3,0)))","v":""},null,null,null,null,{"$f":"IF(B58=\"\",\"\",VLOOKUP(B58,ｴﾝﾄﾘｰ票!$E$16:$L$215,6,0))","v":""},null,{"$f":"IF(B58=\"\",\"\",IF(VLOOKUP(B58,ｴﾝﾄﾘｰ票!$E$16:$Y$215,10,0)=\"\",\"\",VLOOKUP(B58,ｴﾝﾄﾘｰ票!$E$16:$Y$215,10,0)))","v":""},null,{"$f":"IF(B58=\"\",\"\",IF(VLOOKUP(B58,ｴﾝﾄﾘｰ票!$E$16:$Y$215,14,0)=\"\",\"\",VLOOKUP(B58,ｴﾝﾄﾘｰ票!$E$16:$Y$215,14,0)))","v":""},null,{"$f":"IF(B58=\"\",\"\",IF(VLOOKUP(B58,ｴﾝﾄﾘｰ票!$E$16:$Y$215,18,0)=\"\",\"\",VLOOKUP(B58,ｴﾝﾄﾘｰ票!$E$16:$Y$215,18,0)))","v":""},{"$f":"IF(B58=\"\",\"\",IF(ISERROR(VLOOKUP(B58,ｴﾝﾄﾘｰ票!$BD$16:$BE$205,1,0)),\"\",VLOOKUP(B58,ｴﾝﾄﾘｰ票!$BD$16:$BE$205,2,0)))","v":""},null,{"$f":"IF(B58=\"\",\"\",IF(ISERROR(VLOOKUP(B58,ｴﾝﾄﾘｰ票!$BJ$16:$BK$205,1,0)),\"\",VLOOKUP(B58,ｴﾝﾄﾘｰ票!$BJ$16:$BK$205,2,0)))","v":""}]
[36,{"$f":"IF(ISERROR(VLOOKUP(A59*10-9+6000,ｴﾝﾄﾘｰ票!C$15:AI$215,3,0)),\"\",VLOOKUP(A59*10-9+6000,ｴﾝﾄﾘｰ票!C$15:AI$215,3,0))","v":""},{"$f":"IF(B59=\"\",\"\",CONCATENATE(VLOOKUP(B59,ｴﾝﾄﾘｰ票!$E$16:$L$215,2,0),\"　\",VLOOKUP(B59,ｴﾝﾄﾘｰ票!$E$16:$L$215,3,0)))","v":""},null,null,null,null,{"$f":"IF(B59=\"\",\"\",VLOOKUP(B59,ｴﾝﾄﾘｰ票!$E$16:$L$215,6,0))","v":""},null,{"$f":"IF(B59=\"\",\"\",IF(VLOOKUP(B59,ｴﾝﾄﾘｰ票!$E$16:$Y$215,10,0)=\"\",\"\",VLOOKUP(B59,ｴﾝﾄﾘｰ票!$E$16:$Y$215,10,0)))","v":""},null,{"$f":"IF(B59=\"\",\"\",IF(VLOOKUP(B59,ｴﾝﾄﾘｰ票!$E$16:$Y$215,14,0)=\"\",\"\",VLOOKUP(B59,ｴﾝﾄﾘｰ票!$E$16:$Y$215,14,0)))","v":""},null,{"$f":"IF(B59=\"\",\"\",IF(VLOOKUP(B59,ｴﾝﾄﾘｰ票!$E$16:$Y$215,18,0)=\"\",\"\",VLOOKUP(B59,ｴﾝﾄﾘｰ票!$E$16:$Y$215,18,0)))","v":""},{"$f":"IF(B59=\"\",\"\",IF(ISERROR(VLOOKUP(B59,ｴﾝﾄﾘｰ票!$BD$16:$BE$205,1,0)),\"\",VLOOKUP(B59,ｴﾝﾄﾘｰ票!$BD$16:$BE$205,2,0)))","v":""},null,{"$f":"IF(B59=\"\",\"\",IF(ISERROR(VLOOKUP(B59,ｴﾝﾄﾘｰ票!$BJ$16:$BK$205,1,0)),\"\",VLOOKUP(B59,ｴﾝﾄﾘｰ票!$BJ$16:$BK$205,2,0)))","v":""}]
[37,{"$f":"IF(ISERROR(VLOOKUP(A60*10-9+6000,ｴﾝﾄﾘｰ票!C$15:AI$215,3,0)),\"\",VLOOKUP(A60*10-9+6000,ｴﾝﾄﾘｰ票!C$15:AI$215,3,0))","v":""},{"$f":"IF(B60=\"\",\"\",CONCATENATE(VLOOKUP(B60,ｴﾝﾄﾘｰ票!$E$16:$L$215,2,0),\"　\",VLOOKUP(B60,ｴﾝﾄﾘｰ票!$E$16:$L$215,3,0)))","v":""},null,null,null,null,{"$f":"IF(B60=\"\",\"\",VLOOKUP(B60,ｴﾝﾄﾘｰ票!$E$16:$L$215,6,0))","v":""},null,{"$f":"IF(B60=\"\",\"\",IF(VLOOKUP(B60,ｴﾝﾄﾘｰ票!$E$16:$Y$215,10,0)=\"\",\"\",VLOOKUP(B60,ｴﾝﾄﾘｰ票!$E$16:$Y$215,10,0)))","v":""},null,{"$f":"IF(B60=\"\",\"\",IF(VLOOKUP(B60,ｴﾝﾄﾘｰ票!$E$16:$Y$215,14,0)=\"\",\"\",VLOOKUP(B60,ｴﾝﾄﾘｰ票!$E$16:$Y$215,14,0)))","v":""},null,{"$f":"IF(B60=\"\",\"\",IF(VLOOKUP(B60,ｴﾝﾄﾘｰ票!$E$16:$Y$215,18,0)=\"\",\"\",VLOOKUP(B60,ｴﾝﾄﾘｰ票!$E$16:$Y$215,18,0)))","v":""},{"$f":"IF(B60=\"\",\"\",IF(ISERROR(VLOOKUP(B60,ｴﾝﾄﾘｰ票!$BD$16:$BE$205,1,0)),\"\",VLOOKUP(B60,ｴﾝﾄﾘｰ票!$BD$16:$BE$205,2,0)))","v":""},null,{"$f":"IF(B60=\"\",\"\",IF(ISERROR(VLOOKUP(B60,ｴﾝﾄﾘｰ票!$BJ$16:$BK$205,1,0)),\"\",VLOOKUP(B60,ｴﾝﾄﾘｰ票!$BJ$16:$BK$205,2,0)))","v":""}]
[38,{"$f":"IF(ISERROR(VLOOKUP(A61*10-9+6000,ｴﾝﾄﾘｰ票!C$15:AI$215,3,0)),\"\",VLOOKUP(A61*10-9+6000,ｴﾝﾄﾘｰ票!C$15:AI$215,3,0))","v":""},{"$f":"IF(B61=\"\",\"\",CONCATENATE(VLOOKUP(B61,ｴﾝﾄﾘｰ票!$E$16:$L$215,2,0),\"　\",VLOOKUP(B61,ｴﾝﾄﾘｰ票!$E$16:$L$215,3,0)))","v":""},null,null,null,null,{"$f":"IF(B61=\"\",\"\",VLOOKUP(B61,ｴﾝﾄﾘｰ票!$E$16:$L$215,6,0))","v":""},null,{"$f":"IF(B61=\"\",\"\",IF(VLOOKUP(B61,ｴﾝﾄﾘｰ票!$E$16:$Y$215,10,0)=\"\",\"\",VLOOKUP(B61,ｴﾝﾄﾘｰ票!$E$16:$Y$215,10,0)))","v":""},null,{"$f":"IF(B61=\"\",\"\",IF(VLOOKUP(B61,ｴﾝﾄﾘｰ票!$E$16:$Y$215,14,0)=\"\",\"\",VLOOKUP(B61,ｴﾝﾄﾘｰ票!$E$16:$Y$215,14,0)))","v":""},null,{"$f":"IF(B61=\"\",\"\",IF(VLOOKUP(B61,ｴﾝﾄﾘｰ票!$E$16:$Y$215,18,0)=\"\",\"\",VLOOKUP(B61,ｴﾝﾄﾘｰ票!$E$16:$Y$215,18,0)))","v":""},{"$f":"IF(B61=\"\",\"\",IF(ISERROR(VLOOKUP(B61,ｴﾝﾄﾘｰ票!$BD$16:$BE$205,1,0)),\"\",VLOOKUP(B61,ｴﾝﾄﾘｰ票!$BD$16:$BE$205,2,0)))","v":""},null,{"$f":"IF(B61=\"\",\"\",IF(ISERROR(VLOOKUP(B61,ｴﾝﾄﾘｰ票!$BJ$16:$BK$205,1,0)),\"\",VLOOKUP(B61,ｴﾝﾄﾘｰ票!$BJ$16:$BK$205,2,0)))","v":""}]
[39,{"$f":"IF(ISERROR(VLOOKUP(A62*10-9+6000,ｴﾝﾄﾘｰ票!C$15:AI$215,3,0)),\"\",VLOOKUP(A62*10-9+6000,ｴﾝﾄﾘｰ票!C$15:AI$215,3,0))","v":""},{"$f":"IF(B62=\"\",\"\",CONCATENATE(VLOOKUP(B62,ｴﾝﾄﾘｰ票!$E$16:$L$215,2,0),\"　\",VLOOKUP(B62,ｴﾝﾄﾘｰ票!$E$16:$L$215,3,0)))","v":""},null,null,null,null,{"$f":"IF(B62=\"\",\"\",VLOOKUP(B62,ｴﾝﾄﾘｰ票!$E$16:$L$215,6,0))","v":""},null,{"$f":"IF(B62=\"\",\"\",IF(VLOOKUP(B62,ｴﾝﾄﾘｰ票!$E$16:$Y$215,10,0)=\"\",\"\",VLOOKUP(B62,ｴﾝﾄﾘｰ票!$E$16:$Y$215,10,0)))","v":""},null,{"$f":"IF(B62=\"\",\"\",IF(VLOOKUP(B62,ｴﾝﾄﾘｰ票!$E$16:$Y$215,14,0)=\"\",\"\",VLOOKUP(B62,ｴﾝﾄﾘｰ票!$E$16:$Y$215,14,0)))","v":""},null,{"$f":"IF(B62=\"\",\"\",IF(VLOOKUP(B62,ｴﾝﾄﾘｰ票!$E$16:$Y$215,18,0)=\"\",\"\",VLOOKUP(B62,ｴﾝﾄﾘｰ票!$E$16:$Y$215,18,0)))","v":""},{"$f":"IF(B62=\"\",\"\",IF(ISERROR(VLOOKUP(B62,ｴﾝﾄﾘｰ票!$BD$16:$BE$205,1,0)),\"\",VLOOKUP(B62,ｴﾝﾄﾘｰ票!$BD$16:$BE$205,2,0)))","v":""},null,{"$f":"IF(B62=\"\",\"\",IF(ISERROR(VLOOKUP(B62,ｴﾝﾄﾘｰ票!$BJ$16:$BK$205,1,0)),\"\",VLOOKUP(B62,ｴﾝﾄﾘｰ票!$BJ$16:$BK$205,2,0)))","v":""}]
[40,{"$f":"IF(ISERROR(VLOOKUP(A63*10-9+6000,ｴﾝﾄﾘｰ票!C$15:AI$215,3,0)),\"\",VLOOKUP(A63*10-9+6000,ｴﾝﾄﾘｰ票!C$15:AI$215,3,0))","v":""},{"$f":"IF(B63=\"\",\"\",CONCATENATE(VLOOKUP(B63,ｴﾝﾄﾘｰ票!$E$16:$L$215,2,0),\"　\",VLOOKUP(B63,ｴﾝﾄﾘｰ票!$E$16:$L$215,3,0)))","v":""},null,null,null,null,{"$f":"IF(B63=\"\",\"\",VLOOKUP(B63,ｴﾝﾄﾘｰ票!$E$16:$L$215,6,0))","v":""},null,{"$f":"IF(B63=\"\",\"\",IF(VLOOKUP(B63,ｴﾝﾄﾘｰ票!$E$16:$Y$215,10,0)=\"\",\"\",VLOOKUP(B63,ｴﾝﾄﾘｰ票!$E$16:$Y$215,10,0)))","v":""},null,{"$f":"IF(B63=\"\",\"\",IF(VLOOKUP(B63,ｴﾝﾄﾘｰ票!$E$16:$Y$215,14,0)=\"\",\"\",VLOOKUP(B63,ｴﾝﾄﾘｰ票!$E$16:$Y$215,14,0)))","v":""},null,{"$f":"IF(B63=\"\",\"\",IF(VLOOKUP(B63,ｴﾝﾄﾘｰ票!$E$16:$Y$215,18,0)=\"\",\"\",VLOOKUP(B63,ｴﾝﾄﾘｰ票!$E$16:$Y$215,18,0)))","v":""},{"$f":"IF(B63=\"\",\"\",IF(ISERROR(VLOOKUP(B63,ｴﾝﾄﾘｰ票!$BD$16:$BE$205,1,0)),\"\",VLOOKUP(B63,ｴﾝﾄﾘｰ票!$BD$16:$BE$205,2,0)))","v":""},null,{"$f":"IF(B63=\"\",\"\",IF(ISERROR(VLOOKUP(B63,ｴﾝﾄﾘｰ票!$BJ$16:$BK$205,1,0)),\"\",VLOOKUP(B63,ｴﾝﾄﾘｰ票!$BJ$16:$BK$205,2,0)))","v":""}]
[41,{"$f":"IF(ISERROR(VLOOKUP(A64*10-9+6000,ｴﾝﾄﾘｰ票!C$15:AI$215,3,0)),\"\",VLOOKUP(A64*10-9+6000,ｴﾝﾄﾘｰ票!C$15:AI$215,3,0))","v":""},{"$f":"IF(B64=\"\",\"\",CONCATENATE(VLOOKUP(B64,ｴﾝﾄﾘｰ票!$E$16:$L$215,2,0),\"　\",VLOOKUP(B64,ｴﾝﾄﾘｰ票!$E$16:$L$215,3,0)))","v":""},null,null,null,null,{"$f":"IF(B64=\"\",\"\",VLOOKUP(B64,ｴﾝﾄﾘｰ票!$E$16:$L$215,6,0))","v":""},null,{"$f":"IF(B64=\"\",\"\",IF(VLOOKUP(B64,ｴﾝﾄﾘｰ票!$E$16:$Y$215,10,0)=\"\",\"\",VLOOKUP(B64,ｴﾝﾄﾘｰ票!$E$16:$Y$215,10,0)))","v":""},null,{"$f":"IF(B64=\"\",\"\",IF(VLOOKUP(B64,ｴﾝﾄﾘｰ票!$E$16:$Y$215,14,0)=\"\",\"\",VLOOKUP(B64,ｴﾝﾄﾘｰ票!$E$16:$Y$215,14,0)))","v":""},null,{"$f":"IF(B64=\"\",\"\",IF(VLOOKUP(B64,ｴﾝﾄﾘｰ票!$E$16:$Y$215,18,0)=\"\",\"\",VLOOKUP(B64,ｴﾝﾄﾘｰ票!$E$16:$Y$215,18,0)))","v":""},{"$f":"IF(B64=\"\",\"\",IF(ISERROR(VLOOKUP(B64,ｴﾝﾄﾘｰ票!$BD$16:$BE$205,1,0)),\"\",VLOOKUP(B64,ｴﾝﾄﾘｰ票!$BD$16:$BE$205,2,0)))","v":""},null,{"$f":"IF(B64=\"\",\"\",IF(ISERROR(VLOOKUP(B64,ｴﾝﾄﾘｰ票!$BJ$16:$BK$205,1,0)),\"\",VLOOKUP(B64,ｴﾝﾄﾘｰ票!$BJ$16:$BK$205,2,0)))","v":""}]
[42,{"$f":"IF(ISERROR(VLOOKUP(A65*10-9+6000,ｴﾝﾄﾘｰ票!C$15:AI$215,3,0)),\"\",VLOOKUP(A65*10-9+6000,ｴﾝﾄﾘｰ票!C$15:AI$215,3,0))","v":""},{"$f":"IF(B65=\"\",\"\",CONCATENATE(VLOOKUP(B65,ｴﾝﾄﾘｰ票!$E$16:$L$215,2,0),\"　\",VLOOKUP(B65,ｴﾝﾄﾘｰ票!$E$16:$L$215,3,0)))","v":""},null,null,null,null,{"$f":"IF(B65=\"\",\"\",VLOOKUP(B65,ｴﾝﾄﾘｰ票!$E$16:$L$215,6,0))","v":""},null,{"$f":"IF(B65=\"\",\"\",IF(VLOOKUP(B65,ｴﾝﾄﾘｰ票!$E$16:$Y$215,10,0)=\"\",\"\",VLOOKUP(B65,ｴﾝﾄﾘｰ票!$E$16:$Y$215,10,0)))","v":""},null,{"$f":"IF(B65=\"\",\"\",IF(VLOOKUP(B65,ｴﾝﾄﾘｰ票!$E$16:$Y$215,14,0)=\"\",\"\",VLOOKUP(B65,ｴﾝﾄﾘｰ票!$E$16:$Y$215,14,0)))","v":""},null,{"$f":"IF(B65=\"\",\"\",IF(VLOOKUP(B65,ｴﾝﾄﾘｰ票!$E$16:$Y$215,18,0)=\"\",\"\",VLOOKUP(B65,ｴﾝﾄﾘｰ票!$E$16:$Y$215,18,0)))","v":""},{"$f":"IF(B65=\"\",\"\",IF(ISERROR(VLOOKUP(B65,ｴﾝﾄﾘｰ票!$BD$16:$BE$205,1,0)),\"\",VLOOKUP(B65,ｴﾝﾄﾘｰ票!$BD$16:$BE$205,2,0)))","v":""},null,{"$f":"IF(B65=\"\",\"\",IF(ISERROR(VLOOKUP(B65,ｴﾝﾄﾘｰ票!$BJ$16:$BK$205,1,0)),\"\",VLOOKUP(B65,ｴﾝﾄﾘｰ票!$BJ$16:$BK$205,2,0)))","v":""}]
[43,{"$f":"IF(ISERROR(VLOOKUP(A66*10-9+6000,ｴﾝﾄﾘｰ票!C$15:AI$215,3,0)),\"\",VLOOKUP(A66*10-9+6000,ｴﾝﾄﾘｰ票!C$15:AI$215,3,0))","v":""},{"$f":"IF(B66=\"\",\"\",CONCATENATE(VLOOKUP(B66,ｴﾝﾄﾘｰ票!$E$16:$L$215,2,0),\"　\",VLOOKUP(B66,ｴﾝﾄﾘｰ票!$E$16:$L$215,3,0)))","v":""},null,null,null,null,{"$f":"IF(B66=\"\",\"\",VLOOKUP(B66,ｴﾝﾄﾘｰ票!$E$16:$L$215,6,0))","v":""},null,{"$f":"IF(B66=\"\",\"\",IF(VLOOKUP(B66,ｴﾝﾄﾘｰ票!$E$16:$Y$215,10,0)=\"\",\"\",VLOOKUP(B66,ｴﾝﾄﾘｰ票!$E$16:$Y$215,10,0)))","v":""},null,{"$f":"IF(B66=\"\",\"\",IF(VLOOKUP(B66,ｴﾝﾄﾘｰ票!$E$16:$Y$215,14,0)=\"\",\"\",VLOOKUP(B66,ｴﾝﾄﾘｰ票!$E$16:$Y$215,14,0)))","v":""},null,{"$f":"IF(B66=\"\",\"\",IF(VLOOKUP(B66,ｴﾝﾄﾘｰ票!$E$16:$Y$215,18,0)=\"\",\"\",VLOOKUP(B66,ｴﾝﾄﾘｰ票!$E$16:$Y$215,18,0)))","v":""},{"$f":"IF(B66=\"\",\"\",IF(ISERROR(VLOOKUP(B66,ｴﾝﾄﾘｰ票!$BD$16:$BE$205,1,0)),\"\",VLOOKUP(B66,ｴﾝﾄﾘｰ票!$BD$16:$BE$205,2,0)))","v":""},null,{"$f":"IF(B66=\"\",\"\",IF(ISERROR(VLOOKUP(B66,ｴﾝﾄﾘｰ票!$BJ$16:$BK$205,1,0)),\"\",VLOOKUP(B66,ｴﾝﾄﾘｰ票!$BJ$16:$BK$205,2,0)))","v":""}]
[44,{"$f":"IF(ISERROR(VLOOKUP(A67*10-9+6000,ｴﾝﾄﾘｰ票!C$15:AI$215,3,0)),\"\",VLOOKUP(A67*10-9+6000,ｴﾝﾄﾘｰ票!C$15:AI$215,3,0))","v":""},{"$f":"IF(B67=\"\",\"\",CONCATENATE(VLOOKUP(B67,ｴﾝﾄﾘｰ票!$E$16:$L$215,2,0),\"　\",VLOOKUP(B67,ｴﾝﾄﾘｰ票!$E$16:$L$215,3,0)))","v":""},null,null,null,null,{"$f":"IF(B67=\"\",\"\",VLOOKUP(B67,ｴﾝﾄﾘｰ票!$E$16:$L$215,6,0))","v":""},null,{"$f":"IF(B67=\"\",\"\",IF(VLOOKUP(B67,ｴﾝﾄﾘｰ票!$E$16:$Y$215,10,0)=\"\",\"\",VLOOKUP(B67,ｴﾝﾄﾘｰ票!$E$16:$Y$215,10,0)))","v":""},null,{"$f":"IF(B67=\"\",\"\",IF(VLOOKUP(B67,ｴﾝﾄﾘｰ票!$E$16:$Y$215,14,0)=\"\",\"\",VLOOKUP(B67,ｴﾝﾄﾘｰ票!$E$16:$Y$215,14,0)))","v":""},null,{"$f":"IF(B67=\"\",\"\",IF(VLOOKUP(B67,ｴﾝﾄﾘｰ票!$E$16:$Y$215,18,0)=\"\",\"\",VLOOKUP(B67,ｴﾝﾄﾘｰ票!$E$16:$Y$215,18,0)))","v":""},{"$f":"IF(B67=\"\",\"\",IF(ISERROR(VLOOKUP(B67,ｴﾝﾄﾘｰ票!$BD$16:$BE$205,1,0)),\"\",VLOOKUP(B67,ｴﾝﾄﾘｰ票!$BD$16:$BE$205,2,0)))","v":""},null,{"$f":"IF(B67=\"\",\"\",IF(ISERROR(VLOOKUP(B67,ｴﾝﾄﾘｰ票!$BJ$16:$BK$205,1,0)),\"\",VLOOKUP(B67,ｴﾝﾄﾘｰ票!$BJ$16:$BK$205,2,0)))","v":""}]
[45,{"$f":"IF(ISERROR(VLOOKUP(A68*10-9+6000,ｴﾝﾄﾘｰ票!C$15:AI$215,3,0)),\"\",VLOOKUP(A68*10-9+6000,ｴﾝﾄﾘｰ票!C$15:AI$215,3,0))","v":""},{"$f":"IF(B68=\"\",\"\",CONCATENATE(VLOOKUP(B68,ｴﾝﾄﾘｰ票!$E$16:$L$215,2,0),\"　\",VLOOKUP(B68,ｴﾝﾄﾘｰ票!$E$16:$L$215,3,0)))","v":""},null,null,null,null,{"$f":"IF(B68=\"\",\"\",VLOOKUP(B68,ｴﾝﾄﾘｰ票!$E$16:$L$215,6,0))","v":""},null,{"$f":"IF(B68=\"\",\"\",IF(VLOOKUP(B68,ｴﾝﾄﾘｰ票!$E$16:$Y$215,10,0)=\"\",\"\",VLOOKUP(B68,ｴﾝﾄﾘｰ票!$E$16:$Y$215,10,0)))","v":""},null,{"$f":"IF(B68=\"\",\"\",IF(VLOOKUP(B68,ｴﾝﾄﾘｰ票!$E$16:$Y$215,14,0)=\"\",\"\",VLOOKUP(B68,ｴﾝﾄﾘｰ票!$E$16:$Y$215,14,0)))","v":""},null,{"$f":"IF(B68=\"\",\"\",IF(VLOOKUP(B68,ｴﾝﾄﾘｰ票!$E$16:$Y$215,18,0)=\"\",\"\",VLOOKUP(B68,ｴﾝﾄﾘｰ票!$E$16:$Y$215,18,0)))","v":""},{"$f":"IF(B68=\"\",\"\",IF(ISERROR(VLOOKUP(B68,ｴﾝﾄﾘｰ票!$BD$16:$BE$205,1,0)),\"\",VLOOKUP(B68,ｴﾝﾄﾘｰ票!$BD$16:$BE$205,2,0)))","v":""},null,{"$f":"IF(B68=\"\",\"\",IF(ISERROR(VLOOKUP(B68,ｴﾝﾄﾘｰ票!$BJ$16:$BK$205,1,0)),\"\",VLOOKUP(B68,ｴﾝﾄﾘｰ票!$BJ$16:$BK$205,2,0)))","v":""}]
[46,{"$f":"IF(ISERROR(VLOOKUP(A69*10-9+6000,ｴﾝﾄﾘｰ票!C$15:AI$215,3,0)),\"\",VLOOKUP(A69*10-9+6000,ｴﾝﾄﾘｰ票!C$15:AI$215,3,0))","v":""},{"$f":"IF(B69=\"\",\"\",CONCATENATE(VLOOKUP(B69,ｴﾝﾄﾘｰ票!$E$16:$L$215,2,0),\"　\",VLOOKUP(B69,ｴﾝﾄﾘｰ票!$E$16:$L$215,3,0)))","v":""},null,null,null,null,{"$f":"IF(B69=\"\",\"\",VLOOKUP(B69,ｴﾝﾄﾘｰ票!$E$16:$L$215,6,0))","v":""},null,{"$f":"IF(B69=\"\",\"\",IF(VLOOKUP(B69,ｴﾝﾄﾘｰ票!$E$16:$Y$215,10,0)=\"\",\"\",VLOOKUP(B69,ｴﾝﾄﾘｰ票!$E$16:$Y$215,10,0)))","v":""},null,{"$f":"IF(B69=\"\",\"\",IF(VLOOKUP(B69,ｴﾝﾄﾘｰ票!$E$16:$Y$215,14,0)=\"\",\"\",VLOOKUP(B69,ｴﾝﾄﾘｰ票!$E$16:$Y$215,14,0)))","v":""},null,{"$f":"IF(B69=\"\",\"\",IF(VLOOKUP(B69,ｴﾝﾄﾘｰ票!$E$16:$Y$215,18,0)=\"\",\"\",VLOOKUP(B69,ｴﾝﾄﾘｰ票!$E$16:$Y$215,18,0)))","v":""},{"$f":"IF(B69=\"\",\"\",IF(ISERROR(VLOOKUP(B69,ｴﾝﾄﾘｰ票!$BD$16:$BE$205,1,0)),\"\",VLOOKUP(B69,ｴﾝﾄﾘｰ票!$BD$16:$BE$205,2,0)))","v":""},null,{"$f":"IF(B69=\"\",\"\",IF(ISERROR(VLOOKUP(B69,ｴﾝﾄﾘｰ票!$BJ$16:$BK$205,1,0)),\"\",VLOOKUP(B69,ｴﾝﾄﾘｰ票!$BJ$16:$BK$205,2,0)))","v":""}]
[47,{"$f":"IF(ISERROR(VLOOKUP(A70*10-9+6000,ｴﾝﾄﾘｰ票!C$15:AI$215,3,0)),\"\",VLOOKUP(A70*10-9+6000,ｴﾝﾄﾘｰ票!C$15:AI$215,3,0))","v":""},{"$f":"IF(B70=\"\",\"\",CONCATENATE(VLOOKUP(B70,ｴﾝﾄﾘｰ票!$E$16:$L$215,2,0),\"　\",VLOOKUP(B70,ｴﾝﾄﾘｰ票!$E$16:$L$215,3,0)))","v":""},null,null,null,null,{"$f":"IF(B70=\"\",\"\",VLOOKUP(B70,ｴﾝﾄﾘｰ票!$E$16:$L$215,6,0))","v":""},null,{"$f":"IF(B70=\"\",\"\",IF(VLOOKUP(B70,ｴﾝﾄﾘｰ票!$E$16:$Y$215,10,0)=\"\",\"\",VLOOKUP(B70,ｴﾝﾄﾘｰ票!$E$16:$Y$215,10,0)))","v":""},null,{"$f":"IF(B70=\"\",\"\",IF(VLOOKUP(B70,ｴﾝﾄﾘｰ票!$E$16:$Y$215,14,0)=\"\",\"\",VLOOKUP(B70,ｴﾝﾄﾘｰ票!$E$16:$Y$215,14,0)))","v":""},null,{"$f":"IF(B70=\"\",\"\",IF(VLOOKUP(B70,ｴﾝﾄﾘｰ票!$E$16:$Y$215,18,0)=\"\",\"\",VLOOKUP(B70,ｴﾝﾄﾘｰ票!$E$16:$Y$215,18,0)))","v":""},{"$f":"IF(B70=\"\",\"\",IF(ISERROR(VLOOKUP(B70,ｴﾝﾄﾘｰ票!$BD$16:$BE$205,1,0)),\"\",VLOOKUP(B70,ｴﾝﾄﾘｰ票!$BD$16:$BE$205,2,0)))","v":""},null,{"$f":"IF(B70=\"\",\"\",IF(ISERROR(VLOOKUP(B70,ｴﾝﾄﾘｰ票!$BJ$16:$BK$205,1,0)),\"\",VLOOKUP(B70,ｴﾝﾄﾘｰ票!$BJ$16:$BK$205,2,0)))","v":""}]
[48,{"$f":"IF(ISERROR(VLOOKUP(A71*10-9+6000,ｴﾝﾄﾘｰ票!C$15:AI$215,3,0)),\"\",VLOOKUP(A71*10-9+6000,ｴﾝﾄﾘｰ票!C$15:AI$215,3,0))","v":""},{"$f":"IF(B71=\"\",\"\",CONCATENATE(VLOOKUP(B71,ｴﾝﾄﾘｰ票!$E$16:$L$215,2,0),\"　\",VLOOKUP(B71,ｴﾝﾄﾘｰ票!$E$16:$L$215,3,0)))","v":""},null,null,null,null,{"$f":"IF(B71=\"\",\"\",VLOOKUP(B71,ｴﾝﾄﾘｰ票!$E$16:$L$215,6,0))","v":""},null,{"$f":"IF(B71=\"\",\"\",IF(VLOOKUP(B71,ｴﾝﾄﾘｰ票!$E$16:$Y$215,10,0)=\"\",\"\",VLOOKUP(B71,ｴﾝﾄﾘｰ票!$E$16:$Y$215,10,0)))","v":""},null,{"$f":"IF(B71=\"\",\"\",IF(VLOOKUP(B71,ｴﾝﾄﾘｰ票!$E$16:$Y$215,14,0)=\"\",\"\",VLOOKUP(B71,ｴﾝﾄﾘｰ票!$E$16:$Y$215,14,0)))","v":""},null,{"$f":"IF(B71=\"\",\"\",IF(VLOOKUP(B71,ｴﾝﾄﾘｰ票!$E$16:$Y$215,18,0)=\"\",\"\",VLOOKUP(B71,ｴﾝﾄﾘｰ票!$E$16:$Y$215,18,0)))","v":""},{"$f":"IF(B71=\"\",\"\",IF(ISERROR(VLOOKUP(B71,ｴﾝﾄﾘｰ票!$BD$16:$BE$205,1,0)),\"\",VLOOKUP(B71,ｴﾝﾄﾘｰ票!$BD$16:$BE$205,2,0)))","v":""},null,{"$f":"IF(B71=\"\",\"\",IF(ISERROR(VLOOKUP(B71,ｴﾝﾄﾘｰ票!$BJ$16:$BK$205,1,0)),\"\",VLOOKUP(B71,ｴﾝﾄﾘｰ票!$BJ$16:$BK$205,2,0)))","v":""}]
[49,{"$f":"IF(ISERROR(VLOOKUP(A72*10-9+6000,ｴﾝﾄﾘｰ票!C$15:AI$215,3,0)),\"\",VLOOKUP(A72*10-9+6000,ｴﾝﾄﾘｰ票!C$15:AI$215,3,0))","v":""},{"$f":"IF(B72=\"\",\"\",CONCATENATE(VLOOKUP(B72,ｴﾝﾄﾘｰ票!$E$16:$L$215,2,0),\"　\",VLOOKUP(B72,ｴﾝﾄﾘｰ票!$E$16:$L$215,3,0)))","v":""},null,null,null,null,{"$f":"IF(B72=\"\",\"\",VLOOKUP(B72,ｴﾝﾄﾘｰ票!$E$16:$L$215,6,0))","v":""},null,{"$f":"IF(B72=\"\",\"\",IF(VLOOKUP(B72,ｴﾝﾄﾘｰ票!$E$16:$Y$215,10,0)=\"\",\"\",VLOOKUP(B72,ｴﾝﾄﾘｰ票!$E$16:$Y$215,10,0)))","v":""},null,{"$f":"IF(B72=\"\",\"\",IF(VLOOKUP(B72,ｴﾝﾄﾘｰ票!$E$16:$Y$215,14,0)=\"\",\"\",VLOOKUP(B72,ｴﾝﾄﾘｰ票!$E$16:$Y$215,14,0)))","v":""},null,{"$f":"IF(B72=\"\",\"\",IF(VLOOKUP(B72,ｴﾝﾄﾘｰ票!$E$16:$Y$215,18,0)=\"\",\"\",VLOOKUP(B72,ｴﾝﾄﾘｰ票!$E$16:$Y$215,18,0)))","v":""},{"$f":"IF(B72=\"\",\"\",IF(ISERROR(VLOOKUP(B72,ｴﾝﾄﾘｰ票!$BD$16:$BE$205,1,0)),\"\",VLOOKUP(B72,ｴﾝﾄﾘｰ票!$BD$16:$BE$205,2,0)))","v":""},null,{"$f":"IF(B72=\"\",\"\",IF(ISERROR(VLOOKUP(B72,ｴﾝﾄﾘｰ票!$BJ$16:$BK$205,1,0)),\"\",VLOOKUP(B72,ｴﾝﾄﾘｰ票!$BJ$16:$BK$205,2,0)))","v":""}]
[50,{"$f":"IF(ISERROR(VLOOKUP(A73*10-9+6000,ｴﾝﾄﾘｰ票!C$15:AI$215,3,0)),\"\",VLOOKUP(A73*10-9+6000,ｴﾝﾄﾘｰ票!C$15:AI$215,3,0))","v":""},{"$f":"IF(B73=\"\",\"\",CONCATENATE(VLOOKUP(B73,ｴﾝﾄﾘｰ票!$E$16:$L$215,2,0),\"　\",VLOOKUP(B73,ｴﾝﾄﾘｰ票!$E$16:$L$215,3,0)))","v":""},null,null,null,null,{"$f":"IF(B73=\"\",\"\",VLOOKUP(B73,ｴﾝﾄﾘｰ票!$E$16:$L$215,6,0))","v":""},null,{"$f":"IF(B73=\"\",\"\",IF(VLOOKUP(B73,ｴﾝﾄﾘｰ票!$E$16:$Y$215,10,0)=\"\",\"\",VLOOKUP(B73,ｴﾝﾄﾘｰ票!$E$16:$Y$215,10,0)))","v":""},null,{"$f":"IF(B73=\"\",\"\",IF(VLOOKUP(B73,ｴﾝﾄﾘｰ票!$E$16:$Y$215,14,0)=\"\",\"\",VLOOKUP(B73,ｴﾝﾄﾘｰ票!$E$16:$Y$215,14,0)))","v":""},null,{"$f":"IF(B73=\"\",\"\",IF(VLOOKUP(B73,ｴﾝﾄﾘｰ票!$E$16:$Y$215,18,0)=\"\",\"\",VLOOKUP(B73,ｴﾝﾄﾘｰ票!$E$16:$Y$215,18,0)))","v":""},{"$f":"IF(B73=\"\",\"\",IF(ISERROR(VLOOKUP(B73,ｴﾝﾄﾘｰ票!$BD$16:$BE$205,1,0)),\"\",VLOOKUP(B73,ｴﾝﾄﾘｰ票!$BD$16:$BE$205,2,0)))","v":""},null,{"$f":"IF(B73=\"\",\"\",IF(ISERROR(VLOOKUP(B73,ｴﾝﾄﾘｰ票!$BJ$16:$BK$205,1,0)),\"\",VLOOKUP(B73,ｴﾝﾄﾘｰ票!$BJ$16:$BK$205,2,0)))","v":""}]
[51,{"$f":"IF(ISERROR(VLOOKUP(A74*10-9+6000,ｴﾝﾄﾘｰ票!C$15:AI$215,3,0)),\"\",VLOOKUP(A74*10-9+6000,ｴﾝﾄﾘｰ票!C$15:AI$215,3,0))","v":""},{"$f":"IF(B74=\"\",\"\",CONCATENATE(VLOOKUP(B74,ｴﾝﾄﾘｰ票!$E$16:$L$215,2,0),\"　\",VLOOKUP(B74,ｴﾝﾄﾘｰ票!$E$16:$L$215,3,0)))","v":""},null,null,null,null,{"$f":"IF(B74=\"\",\"\",VLOOKUP(B74,ｴﾝﾄﾘｰ票!$E$16:$L$215,6,0))","v":""},null,{"$f":"IF(B74=\"\",\"\",IF(VLOOKUP(B74,ｴﾝﾄﾘｰ票!$E$16:$Y$215,10,0)=\"\",\"\",VLOOKUP(B74,ｴﾝﾄﾘｰ票!$E$16:$Y$215,10,0)))","v":""},null,{"$f":"IF(B74=\"\",\"\",IF(VLOOKUP(B74,ｴﾝﾄﾘｰ票!$E$16:$Y$215,14,0)=\"\",\"\",VLOOKUP(B74,ｴﾝﾄﾘｰ票!$E$16:$Y$215,14,0)))","v":""},null,{"$f":"IF(B74=\"\",\"\",IF(VLOOKUP(B74,ｴﾝﾄﾘｰ票!$E$16:$Y$215,18,0)=\"\",\"\",VLOOKUP(B74,ｴﾝﾄﾘｰ票!$E$16:$Y$215,18,0)))","v":""},{"$f":"IF(B74=\"\",\"\",IF(ISERROR(VLOOKUP(B74,ｴﾝﾄﾘｰ票!$BD$16:$BE$205,1,0)),\"\",VLOOKUP(B74,ｴﾝﾄﾘｰ票!$BD$16:$BE$205,2,0)))","v":""},null,{"$f":"IF(B74=\"\",\"\",IF(ISERROR(VLOOKUP(B74,ｴﾝﾄﾘｰ票!$BJ$16:$BK$205,1,0)),\"\",VLOOKUP(B74,ｴﾝﾄﾘｰ票!$BJ$16:$BK$205,2,0)))","v":""}]
[52,{"$f":"IF(ISERROR(VLOOKUP(A75*10-9+6000,ｴﾝﾄﾘｰ票!C$15:AI$215,3,0)),\"\",VLOOKUP(A75*10-9+6000,ｴﾝﾄﾘｰ票!C$15:AI$215,3,0))","v":""},{"$f":"IF(B75=\"\",\"\",CONCATENATE(VLOOKUP(B75,ｴﾝﾄﾘｰ票!$E$16:$L$215,2,0),\"　\",VLOOKUP(B75,ｴﾝﾄﾘｰ票!$E$16:$L$215,3,0)))","v":""},null,null,null,null,{"$f":"IF(B75=\"\",\"\",VLOOKUP(B75,ｴﾝﾄﾘｰ票!$E$16:$L$215,6,0))","v":""},null,{"$f":"IF(B75=\"\",\"\",IF(VLOOKUP(B75,ｴﾝﾄﾘｰ票!$E$16:$Y$215,10,0)=\"\",\"\",VLOOKUP(B75,ｴﾝﾄﾘｰ票!$E$16:$Y$215,10,0)))","v":""},null,{"$f":"IF(B75=\"\",\"\",IF(VLOOKUP(B75,ｴﾝﾄﾘｰ票!$E$16:$Y$215,14,0)=\"\",\"\",VLOOKUP(B75,ｴﾝﾄﾘｰ票!$E$16:$Y$215,14,0)))","v":""},null,{"$f":"IF(B75=\"\",\"\",IF(VLOOKUP(B75,ｴﾝﾄﾘｰ票!$E$16:$Y$215,18,0)=\"\",\"\",VLOOKUP(B75,ｴﾝﾄﾘｰ票!$E$16:$Y$215,18,0)))","v":""},{"$f":"IF(B75=\"\",\"\",IF(ISERROR(VLOOKUP(B75,ｴﾝﾄﾘｰ票!$BD$16:$BE$205,1,0)),\"\",VLOOKUP(B75,ｴﾝﾄﾘｰ票!$BD$16:$BE$205,2,0)))","v":""},null,{"$f":"IF(B75=\"\",\"\",IF(ISERROR(VLOOKUP(B75,ｴﾝﾄﾘｰ票!$BJ$16:$BK$205,1,0)),\"\",VLOOKUP(B75,ｴﾝﾄﾘｰ票!$BJ$16:$BK$205,2,0)))","v":""}]
[53,{"$f":"IF(ISERROR(VLOOKUP(A76*10-9+6000,ｴﾝﾄﾘｰ票!C$15:AI$215,3,0)),\"\",VLOOKUP(A76*10-9+6000,ｴﾝﾄﾘｰ票!C$15:AI$215,3,0))","v":""},{"$f":"IF(B76=\"\",\"\",CONCATENATE(VLOOKUP(B76,ｴﾝﾄﾘｰ票!$E$16:$L$215,2,0),\"　\",VLOOKUP(B76,ｴﾝﾄﾘｰ票!$E$16:$L$215,3,0)))","v":""},null,null,null,null,{"$f":"IF(B76=\"\",\"\",VLOOKUP(B76,ｴﾝﾄﾘｰ票!$E$16:$L$215,6,0))","v":""},null,{"$f":"IF(B76=\"\",\"\",IF(VLOOKUP(B76,ｴﾝﾄﾘｰ票!$E$16:$Y$215,10,0)=\"\",\"\",VLOOKUP(B76,ｴﾝﾄﾘｰ票!$E$16:$Y$215,10,0)))","v":""},null,{"$f":"IF(B76=\"\",\"\",IF(VLOOKUP(B76,ｴﾝﾄﾘｰ票!$E$16:$Y$215,14,0)=\"\",\"\",VLOOKUP(B76,ｴﾝﾄﾘｰ票!$E$16:$Y$215,14,0)))","v":""},null,{"$f":"IF(B76=\"\",\"\",IF(VLOOKUP(B76,ｴﾝﾄﾘｰ票!$E$16:$Y$215,18,0)=\"\",\"\",VLOOKUP(B76,ｴﾝﾄﾘｰ票!$E$16:$Y$215,18,0)))","v":""},{"$f":"IF(B76=\"\",\"\",IF(ISERROR(VLOOKUP(B76,ｴﾝﾄﾘｰ票!$BD$16:$BE$205,1,0)),\"\",VLOOKUP(B76,ｴﾝﾄﾘｰ票!$BD$16:$BE$205,2,0)))","v":""},null,{"$f":"IF(B76=\"\",\"\",IF(ISERROR(VLOOKUP(B76,ｴﾝﾄﾘｰ票!$BJ$16:$BK$205,1,0)),\"\",VLOOKUP(B76,ｴﾝﾄﾘｰ票!$BJ$16:$BK$205,2,0)))","v":""}]
[54,{"$f":"IF(ISERROR(VLOOKUP(A77*10-9+6000,ｴﾝﾄﾘｰ票!C$15:AI$215,3,0)),\"\",VLOOKUP(A77*10-9+6000,ｴﾝﾄﾘｰ票!C$15:AI$215,3,0))","v":""},{"$f":"IF(B77=\"\",\"\",CONCATENATE(VLOOKUP(B77,ｴﾝﾄﾘｰ票!$E$16:$L$215,2,0),\"　\",VLOOKUP(B77,ｴﾝﾄﾘｰ票!$E$16:$L$215,3,0)))","v":""},null,null,null,null,{"$f":"IF(B77=\"\",\"\",VLOOKUP(B77,ｴﾝﾄﾘｰ票!$E$16:$L$215,6,0))","v":""},null,{"$f":"IF(B77=\"\",\"\",IF(VLOOKUP(B77,ｴﾝﾄﾘｰ票!$E$16:$Y$215,10,0)=\"\",\"\",VLOOKUP(B77,ｴﾝﾄﾘｰ票!$E$16:$Y$215,10,0)))","v":""},null,{"$f":"IF(B77=\"\",\"\",IF(VLOOKUP(B77,ｴﾝﾄﾘｰ票!$E$16:$Y$215,14,0)=\"\",\"\",VLOOKUP(B77,ｴﾝﾄﾘｰ票!$E$16:$Y$215,14,0)))","v":""},null,{"$f":"IF(B77=\"\",\"\",IF(VLOOKUP(B77,ｴﾝﾄﾘｰ票!$E$16:$Y$215,18,0)=\"\",\"\",VLOOKUP(B77,ｴﾝﾄﾘｰ票!$E$16:$Y$215,18,0)))","v":""},{"$f":"IF(B77=\"\",\"\",IF(ISERROR(VLOOKUP(B77,ｴﾝﾄﾘｰ票!$BD$16:$BE$205,1,0)),\"\",VLOOKUP(B77,ｴﾝﾄﾘｰ票!$BD$16:$BE$205,2,0)))","v":""},null,{"$f":"IF(B77=\"\",\"\",IF(ISERROR(VLOOKUP(B77,ｴﾝﾄﾘｰ票!$BJ$16:$BK$205,1,0)),\"\",VLOOKUP(B77,ｴﾝﾄﾘｰ票!$BJ$16:$BK$205,2,0)))","v":""}]
[55,{"$f":"IF(ISERROR(VLOOKUP(A78*10-9+6000,ｴﾝﾄﾘｰ票!C$15:AI$215,3,0)),\"\",VLOOKUP(A78*10-9+6000,ｴﾝﾄﾘｰ票!C$15:AI$215,3,0))","v":""},{"$f":"IF(B78=\"\",\"\",CONCATENATE(VLOOKUP(B78,ｴﾝﾄﾘｰ票!$E$16:$L$215,2,0),\"　\",VLOOKUP(B78,ｴﾝﾄﾘｰ票!$E$16:$L$215,3,0)))","v":""},null,null,null,null,{"$f":"IF(B78=\"\",\"\",VLOOKUP(B78,ｴﾝﾄﾘｰ票!$E$16:$L$215,6,0))","v":""},null,{"$f":"IF(B78=\"\",\"\",IF(VLOOKUP(B78,ｴﾝﾄﾘｰ票!$E$16:$Y$215,10,0)=\"\",\"\",VLOOKUP(B78,ｴﾝﾄﾘｰ票!$E$16:$Y$215,10,0)))","v":""},null,{"$f":"IF(B78=\"\",\"\",IF(VLOOKUP(B78,ｴﾝﾄﾘｰ票!$E$16:$Y$215,14,0)=\"\",\"\",VLOOKUP(B78,ｴﾝﾄﾘｰ票!$E$16:$Y$215,14,0)))","v":""},null,{"$f":"IF(B78=\"\",\"\",IF(VLOOKUP(B78,ｴﾝﾄﾘｰ票!$E$16:$Y$215,18,0)=\"\",\"\",VLOOKUP(B78,ｴﾝﾄﾘｰ票!$E$16:$Y$215,18,0)))","v":""},{"$f":"IF(B78=\"\",\"\",IF(ISERROR(VLOOKUP(B78,ｴﾝﾄﾘｰ票!$BD$16:$BE$205,1,0)),\"\",VLOOKUP(B78,ｴﾝﾄﾘｰ票!$BD$16:$BE$205,2,0)))","v":""},null,{"$f":"IF(B78=\"\",\"\",IF(ISERROR(VLOOKUP(B78,ｴﾝﾄﾘｰ票!$BJ$16:$BK$205,1,0)),\"\",VLOOKUP(B78,ｴﾝﾄﾘｰ票!$BJ$16:$BK$205,2,0)))","v":""}]
[56,{"$f":"IF(ISERROR(VLOOKUP(A79*10-9+6000,ｴﾝﾄﾘｰ票!C$15:AI$215,3,0)),\"\",VLOOKUP(A79*10-9+6000,ｴﾝﾄﾘｰ票!C$15:AI$215,3,0))","v":""},{"$f":"IF(B79=\"\",\"\",CONCATENATE(VLOOKUP(B79,ｴﾝﾄﾘｰ票!$E$16:$L$215,2,0),\"　\",VLOOKUP(B79,ｴﾝﾄﾘｰ票!$E$16:$L$215,3,0)))","v":""},null,null,null,null,{"$f":"IF(B79=\"\",\"\",VLOOKUP(B79,ｴﾝﾄﾘｰ票!$E$16:$L$215,6,0))","v":""},null,{"$f":"IF(B79=\"\",\"\",IF(VLOOKUP(B79,ｴﾝﾄﾘｰ票!$E$16:$Y$215,10,0)=\"\",\"\",VLOOKUP(B79,ｴﾝﾄﾘｰ票!$E$16:$Y$215,10,0)))","v":""},null,{"$f":"IF(B79=\"\",\"\",IF(VLOOKUP(B79,ｴﾝﾄﾘｰ票!$E$16:$Y$215,14,0)=\"\",\"\",VLOOKUP(B79,ｴﾝﾄﾘｰ票!$E$16:$Y$215,14,0)))","v":""},null,{"$f":"IF(B79=\"\",\"\",IF(VLOOKUP(B79,ｴﾝﾄﾘｰ票!$E$16:$Y$215,18,0)=\"\",\"\",VLOOKUP(B79,ｴﾝﾄﾘｰ票!$E$16:$Y$215,18,0)))","v":""},{"$f":"IF(B79=\"\",\"\",IF(ISERROR(VLOOKUP(B79,ｴﾝﾄﾘｰ票!$BD$16:$BE$205,1,0)),\"\",VLOOKUP(B79,ｴﾝﾄﾘｰ票!$BD$16:$BE$205,2,0)))","v":""},null,{"$f":"IF(B79=\"\",\"\",IF(ISERROR(VLOOKUP(B79,ｴﾝﾄﾘｰ票!$BJ$16:$BK$205,1,0)),\"\",VLOOKUP(B79,ｴﾝﾄﾘｰ票!$BJ$16:$BK$205,2,0)))","v":""}]
[57,{"$f":"IF(ISERROR(VLOOKUP(A80*10-9+6000,ｴﾝﾄﾘｰ票!C$15:AI$215,3,0)),\"\",VLOOKUP(A80*10-9+6000,ｴﾝﾄﾘｰ票!C$15:AI$215,3,0))","v":""},{"$f":"IF(B80=\"\",\"\",CONCATENATE(VLOOKUP(B80,ｴﾝﾄﾘｰ票!$E$16:$L$215,2,0),\"　\",VLOOKUP(B80,ｴﾝﾄﾘｰ票!$E$16:$L$215,3,0)))","v":""},null,null,null,null,{"$f":"IF(B80=\"\",\"\",VLOOKUP(B80,ｴﾝﾄﾘｰ票!$E$16:$L$215,6,0))","v":""},null,{"$f":"IF(B80=\"\",\"\",IF(VLOOKUP(B80,ｴﾝﾄﾘｰ票!$E$16:$Y$215,10,0)=\"\",\"\",VLOOKUP(B80,ｴﾝﾄﾘｰ票!$E$16:$Y$215,10,0)))","v":""},null,{"$f":"IF(B80=\"\",\"\",IF(VLOOKUP(B80,ｴﾝﾄﾘｰ票!$E$16:$Y$215,14,0)=\"\",\"\",VLOOKUP(B80,ｴﾝﾄﾘｰ票!$E$16:$Y$215,14,0)))","v":""},null,{"$f":"IF(B80=\"\",\"\",IF(VLOOKUP(B80,ｴﾝﾄﾘｰ票!$E$16:$Y$215,18,0)=\"\",\"\",VLOOKUP(B80,ｴﾝﾄﾘｰ票!$E$16:$Y$215,18,0)))","v":""},{"$f":"IF(B80=\"\",\"\",IF(ISERROR(VLOOKUP(B80,ｴﾝﾄﾘｰ票!$BD$16:$BE$205,1,0)),\"\",VLOOKUP(B80,ｴﾝﾄﾘｰ票!$BD$16:$BE$205,2,0)))","v":""},null,{"$f":"IF(B80=\"\",\"\",IF(ISERROR(VLOOKUP(B80,ｴﾝﾄﾘｰ票!$BJ$16:$BK$205,1,0)),\"\",VLOOKUP(B80,ｴﾝﾄﾘｰ票!$BJ$16:$BK$205,2,0)))","v":""}]
[58,{"$f":"IF(ISERROR(VLOOKUP(A81*10-9+6000,ｴﾝﾄﾘｰ票!C$15:AI$215,3,0)),\"\",VLOOKUP(A81*10-9+6000,ｴﾝﾄﾘｰ票!C$15:AI$215,3,0))","v":""},{"$f":"IF(B81=\"\",\"\",CONCATENATE(VLOOKUP(B81,ｴﾝﾄﾘｰ票!$E$16:$L$215,2,0),\"　\",VLOOKUP(B81,ｴﾝﾄﾘｰ票!$E$16:$L$215,3,0)))","v":""},null,null,null,null,{"$f":"IF(B81=\"\",\"\",VLOOKUP(B81,ｴﾝﾄﾘｰ票!$E$16:$L$215,6,0))","v":""},null,{"$f":"IF(B81=\"\",\"\",IF(VLOOKUP(B81,ｴﾝﾄﾘｰ票!$E$16:$Y$215,10,0)=\"\",\"\",VLOOKUP(B81,ｴﾝﾄﾘｰ票!$E$16:$Y$215,10,0)))","v":""},null,{"$f":"IF(B81=\"\",\"\",IF(VLOOKUP(B81,ｴﾝﾄﾘｰ票!$E$16:$Y$215,14,0)=\"\",\"\",VLOOKUP(B81,ｴﾝﾄﾘｰ票!$E$16:$Y$215,14,0)))","v":""},null,{"$f":"IF(B81=\"\",\"\",IF(VLOOKUP(B81,ｴﾝﾄﾘｰ票!$E$16:$Y$215,18,0)=\"\",\"\",VLOOKUP(B81,ｴﾝﾄﾘｰ票!$E$16:$Y$215,18,0)))","v":""},{"$f":"IF(B81=\"\",\"\",IF(ISERROR(VLOOKUP(B81,ｴﾝﾄﾘｰ票!$BD$16:$BE$205,1,0)),\"\",VLOOKUP(B81,ｴﾝﾄﾘｰ票!$BD$16:$BE$205,2,0)))","v":""},null,{"$f":"IF(B81=\"\",\"\",IF(ISERROR(VLOOKUP(B81,ｴﾝﾄﾘｰ票!$BJ$16:$BK$205,1,0)),\"\",VLOOKUP(B81,ｴﾝﾄﾘｰ票!$BJ$16:$BK$205,2,0)))","v":""}]
[59,{"$f":"IF(ISERROR(VLOOKUP(A82*10-9+6000,ｴﾝﾄﾘｰ票!C$15:AI$215,3,0)),\"\",VLOOKUP(A82*10-9+6000,ｴﾝﾄﾘｰ票!C$15:AI$215,3,0))","v":""},{"$f":"IF(B82=\"\",\"\",CONCATENATE(VLOOKUP(B82,ｴﾝﾄﾘｰ票!$E$16:$L$215,2,0),\"　\",VLOOKUP(B82,ｴﾝﾄﾘｰ票!$E$16:$L$215,3,0)))","v":""},null,null,null,null,{"$f":"IF(B82=\"\",\"\",VLOOKUP(B82,ｴﾝﾄﾘｰ票!$E$16:$L$215,6,0))","v":""},null,{"$f":"IF(B82=\"\",\"\",IF(VLOOKUP(B82,ｴﾝﾄﾘｰ票!$E$16:$Y$215,10,0)=\"\",\"\",VLOOKUP(B82,ｴﾝﾄﾘｰ票!$E$16:$Y$215,10,0)))","v":""},null,{"$f":"IF(B82=\"\",\"\",IF(VLOOKUP(B82,ｴﾝﾄﾘｰ票!$E$16:$Y$215,14,0)=\"\",\"\",VLOOKUP(B82,ｴﾝﾄﾘｰ票!$E$16:$Y$215,14,0)))","v":""},null,{"$f":"IF(B82=\"\",\"\",IF(VLOOKUP(B82,ｴﾝﾄﾘｰ票!$E$16:$Y$215,18,0)=\"\",\"\",VLOOKUP(B82,ｴﾝﾄﾘｰ票!$E$16:$Y$215,18,0)))","v":""},{"$f":"IF(B82=\"\",\"\",IF(ISERROR(VLOOKUP(B82,ｴﾝﾄﾘｰ票!$BD$16:$BE$205,1,0)),\"\",VLOOKUP(B82,ｴﾝﾄﾘｰ票!$BD$16:$BE$205,2,0)))","v":""},null,{"$f":"IF(B82=\"\",\"\",IF(ISERROR(VLOOKUP(B82,ｴﾝﾄﾘｰ票!$BJ$16:$BK$205,1,0)),\"\",VLOOKUP(B82,ｴﾝﾄﾘｰ票!$BJ$16:$BK$205,2,0)))","v":""}]
[60,{"$f":"IF(ISERROR(VLOOKUP(A83*10-9+6000,ｴﾝﾄﾘｰ票!C$15:AI$215,3,0)),\"\",VLOOKUP(A83*10-9+6000,ｴﾝﾄﾘｰ票!C$15:AI$215,3,0))","v":""},{"$f":"IF(B83=\"\",\"\",CONCATENATE(VLOOKUP(B83,ｴﾝﾄﾘｰ票!$E$16:$L$215,2,0),\"　\",VLOOKUP(B83,ｴﾝﾄﾘｰ票!$E$16:$L$215,3,0)))","v":""},null,null,null,null,{"$f":"IF(B83=\"\",\"\",VLOOKUP(B83,ｴﾝﾄﾘｰ票!$E$16:$L$215,6,0))","v":""},null,{"$f":"IF(B83=\"\",\"\",IF(VLOOKUP(B83,ｴﾝﾄﾘｰ票!$E$16:$Y$215,10,0)=\"\",\"\",VLOOKUP(B83,ｴﾝﾄﾘｰ票!$E$16:$Y$215,10,0)))","v":""},null,{"$f":"IF(B83=\"\",\"\",IF(VLOOKUP(B83,ｴﾝﾄﾘｰ票!$E$16:$Y$215,14,0)=\"\",\"\",VLOOKUP(B83,ｴﾝﾄﾘｰ票!$E$16:$Y$215,14,0)))","v":""},null,{"$f":"IF(B83=\"\",\"\",IF(VLOOKUP(B83,ｴﾝﾄﾘｰ票!$E$16:$Y$215,18,0)=\"\",\"\",VLOOKUP(B83,ｴﾝﾄﾘｰ票!$E$16:$Y$215,18,0)))","v":""},{"$f":"IF(B83=\"\",\"\",IF(ISERROR(VLOOKUP(B83,ｴﾝﾄﾘｰ票!$BD$16:$BE$205,1,0)),\"\",VLOOKUP(B83,ｴﾝﾄﾘｰ票!$BD$16:$BE$205,2,0)))","v":""},null,{"$f":"IF(B83=\"\",\"\",IF(ISERROR(VLOOKUP(B83,ｴﾝﾄﾘｰ票!$BJ$16:$BK$205,1,0)),\"\",VLOOKUP(B83,ｴﾝﾄﾘｰ票!$BJ$16:$BK$205,2,0)))","v":""}]
[61,{"$f":"IF(ISERROR(VLOOKUP(A84*10-9+6000,ｴﾝﾄﾘｰ票!C$15:AI$215,3,0)),\"\",VLOOKUP(A84*10-9+6000,ｴﾝﾄﾘｰ票!C$15:AI$215,3,0))","v":""},{"$f":"IF(B84=\"\",\"\",CONCATENATE(VLOOKUP(B84,ｴﾝﾄﾘｰ票!$E$16:$L$215,2,0),\"　\",VLOOKUP(B84,ｴﾝﾄﾘｰ票!$E$16:$L$215,3,0)))","v":""},null,null,null,null,{"$f":"IF(B84=\"\",\"\",VLOOKUP(B84,ｴﾝﾄﾘｰ票!$E$16:$L$215,6,0))","v":""},null,{"$f":"IF(B84=\"\",\"\",IF(VLOOKUP(B84,ｴﾝﾄﾘｰ票!$E$16:$Y$215,10,0)=\"\",\"\",VLOOKUP(B84,ｴﾝﾄﾘｰ票!$E$16:$Y$215,10,0)))","v":""},null,{"$f":"IF(B84=\"\",\"\",IF(VLOOKUP(B84,ｴﾝﾄﾘｰ票!$E$16:$Y$215,14,0)=\"\",\"\",VLOOKUP(B84,ｴﾝﾄﾘｰ票!$E$16:$Y$215,14,0)))","v":""},null,{"$f":"IF(B84=\"\",\"\",IF(VLOOKUP(B84,ｴﾝﾄﾘｰ票!$E$16:$Y$215,18,0)=\"\",\"\",VLOOKUP(B84,ｴﾝﾄﾘｰ票!$E$16:$Y$215,18,0)))","v":""},{"$f":"IF(B84=\"\",\"\",IF(ISERROR(VLOOKUP(B84,ｴﾝﾄﾘｰ票!$BD$16:$BE$205,1,0)),\"\",VLOOKUP(B84,ｴﾝﾄﾘｰ票!$BD$16:$BE$205,2,0)))","v":""},null,{"$f":"IF(B84=\"\",\"\",IF(ISERROR(VLOOKUP(B84,ｴﾝﾄﾘｰ票!$BJ$16:$BK$205,1,0)),\"\",VLOOKUP(B84,ｴﾝﾄﾘｰ票!$BJ$16:$BK$205,2,0)))","v":""}]
[62,{"$f":"IF(ISERROR(VLOOKUP(A85*10-9+6000,ｴﾝﾄﾘｰ票!C$15:AI$215,3,0)),\"\",VLOOKUP(A85*10-9+6000,ｴﾝﾄﾘｰ票!C$15:AI$215,3,0))","v":""},{"$f":"IF(B85=\"\",\"\",CONCATENATE(VLOOKUP(B85,ｴﾝﾄﾘｰ票!$E$16:$L$215,2,0),\"　\",VLOOKUP(B85,ｴﾝﾄﾘｰ票!$E$16:$L$215,3,0)))","v":""},null,null,null,null,{"$f":"IF(B85=\"\",\"\",VLOOKUP(B85,ｴﾝﾄﾘｰ票!$E$16:$L$215,6,0))","v":""},null,{"$f":"IF(B85=\"\",\"\",IF(VLOOKUP(B85,ｴﾝﾄﾘｰ票!$E$16:$Y$215,10,0)=\"\",\"\",VLOOKUP(B85,ｴﾝﾄﾘｰ票!$E$16:$Y$215,10,0)))","v":""},null,{"$f":"IF(B85=\"\",\"\",IF(VLOOKUP(B85,ｴﾝﾄﾘｰ票!$E$16:$Y$215,14,0)=\"\",\"\",VLOOKUP(B85,ｴﾝﾄﾘｰ票!$E$16:$Y$215,14,0)))","v":""},null,{"$f":"IF(B85=\"\",\"\",IF(VLOOKUP(B85,ｴﾝﾄﾘｰ票!$E$16:$Y$215,18,0)=\"\",\"\",VLOOKUP(B85,ｴﾝﾄﾘｰ票!$E$16:$Y$215,18,0)))","v":""},{"$f":"IF(B85=\"\",\"\",IF(ISERROR(VLOOKUP(B85,ｴﾝﾄﾘｰ票!$BD$16:$BE$205,1,0)),\"\",VLOOKUP(B85,ｴﾝﾄﾘｰ票!$BD$16:$BE$205,2,0)))","v":""},null,{"$f":"IF(B85=\"\",\"\",IF(ISERROR(VLOOKUP(B85,ｴﾝﾄﾘｰ票!$BJ$16:$BK$205,1,0)),\"\",VLOOKUP(B85,ｴﾝﾄﾘｰ票!$BJ$16:$BK$205,2,0)))","v":""}]
[63,{"$f":"IF(ISERROR(VLOOKUP(A86*10-9+6000,ｴﾝﾄﾘｰ票!C$15:AI$215,3,0)),\"\",VLOOKUP(A86*10-9+6000,ｴﾝﾄﾘｰ票!C$15:AI$215,3,0))","v":""},{"$f":"IF(B86=\"\",\"\",CONCATENATE(VLOOKUP(B86,ｴﾝﾄﾘｰ票!$E$16:$L$215,2,0),\"　\",VLOOKUP(B86,ｴﾝﾄﾘｰ票!$E$16:$L$215,3,0)))","v":""},null,null,null,null,{"$f":"IF(B86=\"\",\"\",VLOOKUP(B86,ｴﾝﾄﾘｰ票!$E$16:$L$215,6,0))","v":""},null,{"$f":"IF(B86=\"\",\"\",IF(VLOOKUP(B86,ｴﾝﾄﾘｰ票!$E$16:$Y$215,10,0)=\"\",\"\",VLOOKUP(B86,ｴﾝﾄﾘｰ票!$E$16:$Y$215,10,0)))","v":""},null,{"$f":"IF(B86=\"\",\"\",IF(VLOOKUP(B86,ｴﾝﾄﾘｰ票!$E$16:$Y$215,14,0)=\"\",\"\",VLOOKUP(B86,ｴﾝﾄﾘｰ票!$E$16:$Y$215,14,0)))","v":""},null,{"$f":"IF(B86=\"\",\"\",IF(VLOOKUP(B86,ｴﾝﾄﾘｰ票!$E$16:$Y$215,18,0)=\"\",\"\",VLOOKUP(B86,ｴﾝﾄﾘｰ票!$E$16:$Y$215,18,0)))","v":""},{"$f":"IF(B86=\"\",\"\",IF(ISERROR(VLOOKUP(B86,ｴﾝﾄﾘｰ票!$BD$16:$BE$205,1,0)),\"\",VLOOKUP(B86,ｴﾝﾄﾘｰ票!$BD$16:$BE$205,2,0)))","v":""},null,{"$f":"IF(B86=\"\",\"\",IF(ISERROR(VLOOKUP(B86,ｴﾝﾄﾘｰ票!$BJ$16:$BK$205,1,0)),\"\",VLOOKUP(B86,ｴﾝﾄﾘｰ票!$BJ$16:$BK$205,2,0)))","v":""}]
[64,{"$f":"IF(ISERROR(VLOOKUP(A87*10-9+6000,ｴﾝﾄﾘｰ票!C$15:AI$215,3,0)),\"\",VLOOKUP(A87*10-9+6000,ｴﾝﾄﾘｰ票!C$15:AI$215,3,0))","v":""},{"$f":"IF(B87=\"\",\"\",CONCATENATE(VLOOKUP(B87,ｴﾝﾄﾘｰ票!$E$16:$L$215,2,0),\"　\",VLOOKUP(B87,ｴﾝﾄﾘｰ票!$E$16:$L$215,3,0)))","v":""},null,null,null,null,{"$f":"IF(B87=\"\",\"\",VLOOKUP(B87,ｴﾝﾄﾘｰ票!$E$16:$L$215,6,0))","v":""},null,{"$f":"IF(B87=\"\",\"\",IF(VLOOKUP(B87,ｴﾝﾄﾘｰ票!$E$16:$Y$215,10,0)=\"\",\"\",VLOOKUP(B87,ｴﾝﾄﾘｰ票!$E$16:$Y$215,10,0)))","v":""},null,{"$f":"IF(B87=\"\",\"\",IF(VLOOKUP(B87,ｴﾝﾄﾘｰ票!$E$16:$Y$215,14,0)=\"\",\"\",VLOOKUP(B87,ｴﾝﾄﾘｰ票!$E$16:$Y$215,14,0)))","v":""},null,{"$f":"IF(B87=\"\",\"\",IF(VLOOKUP(B87,ｴﾝﾄﾘｰ票!$E$16:$Y$215,18,0)=\"\",\"\",VLOOKUP(B87,ｴﾝﾄﾘｰ票!$E$16:$Y$215,18,0)))","v":""},{"$f":"IF(B87=\"\",\"\",IF(ISERROR(VLOOKUP(B87,ｴﾝﾄﾘｰ票!$BD$16:$BE$205,1,0)),\"\",VLOOKUP(B87,ｴﾝﾄﾘｰ票!$BD$16:$BE$205,2,0)))","v":""},null,{"$f":"IF(B87=\"\",\"\",IF(ISERROR(VLOOKUP(B87,ｴﾝﾄﾘｰ票!$BJ$16:$BK$205,1,0)),\"\",VLOOKUP(B87,ｴﾝﾄﾘｰ票!$BJ$16:$BK$205,2,0)))","v":""}]
[65,{"$f":"IF(ISERROR(VLOOKUP(A88*10-9+6000,ｴﾝﾄﾘｰ票!C$15:AI$215,3,0)),\"\",VLOOKUP(A88*10-9+6000,ｴﾝﾄﾘｰ票!C$15:AI$215,3,0))","v":""},{"$f":"IF(B88=\"\",\"\",CONCATENATE(VLOOKUP(B88,ｴﾝﾄﾘｰ票!$E$16:$L$215,2,0),\"　\",VLOOKUP(B88,ｴﾝﾄﾘｰ票!$E$16:$L$215,3,0)))","v":""},null,null,null,null,{"$f":"IF(B88=\"\",\"\",VLOOKUP(B88,ｴﾝﾄﾘｰ票!$E$16:$L$215,6,0))","v":""},null,{"$f":"IF(B88=\"\",\"\",IF(VLOOKUP(B88,ｴﾝﾄﾘｰ票!$E$16:$Y$215,10,0)=\"\",\"\",VLOOKUP(B88,ｴﾝﾄﾘｰ票!$E$16:$Y$215,10,0)))","v":""},null,{"$f":"IF(B88=\"\",\"\",IF(VLOOKUP(B88,ｴﾝﾄﾘｰ票!$E$16:$Y$215,14,0)=\"\",\"\",VLOOKUP(B88,ｴﾝﾄﾘｰ票!$E$16:$Y$215,14,0)))","v":""},null,{"$f":"IF(B88=\"\",\"\",IF(VLOOKUP(B88,ｴﾝﾄﾘｰ票!$E$16:$Y$215,18,0)=\"\",\"\",VLOOKUP(B88,ｴﾝﾄﾘｰ票!$E$16:$Y$215,18,0)))","v":""},{"$f":"IF(B88=\"\",\"\",IF(ISERROR(VLOOKUP(B88,ｴﾝﾄﾘｰ票!$BD$16:$BE$205,1,0)),\"\",VLOOKUP(B88,ｴﾝﾄﾘｰ票!$BD$16:$BE$205,2,0)))","v":""},null,{"$f":"IF(B88=\"\",\"\",IF(ISERROR(VLOOKUP(B88,ｴﾝﾄﾘｰ票!$BJ$16:$BK$205,1,0)),\"\",VLOOKUP(B88,ｴﾝﾄﾘｰ票!$BJ$16:$BK$205,2,0)))","v":""}]
[null,{"$f":"ｴﾝﾄﾘｰ票!$G$1","v":"東京高体連陸上第4支部秋季競技会1"},null,null,null,null,null,null,null,null,null,null,null,null,null,null,"申込用紙(A票）"]
[{"$f":"A2","v":"平成30年度"},null,null,null,null,null,null,null,null,null,null,null,null,null,"女子",null,"Ｎｏ．３"]
["学校名",null,{"$f":"ｴﾝﾄﾘｰ票!$G$2","v":0}]
["学校所在地",null,{"$f":"ｴﾝﾄﾘｰ票!$G$5","v":0}]
["学校長",null,{"$f":"ｴﾝﾄﾘｰ票!$G$4","v":0},null,null,null,null,null,null,"印",null,"顧問氏名",null,{"$f":"ｴﾝﾄﾘｰ票!$G$8","v":0},null,null,"印"]
["電話",null,{"$f":"ｴﾝﾄﾘｰ票!$G$6","v":"00:00:00"},null,null,null,"ＦＡＸ",{"$f":"ｴﾝﾄﾘｰ票!$G$7","v":0},null,null,null,"連絡先",null,{"$f":"ｴﾝﾄﾘｰ票!$G$9","v":0}]
[]
[null,null,null,null,null,null,null,null,null,null,null,null,null,"種目"]
[null,"番号","出場者氏名",null,null,null,null,"学年",null,"個人",null,"個人",null,"個人","4×100",null,"4×400"]
[66,{"$f":"IF(ISERROR(VLOOKUP(A98*10-9+6000,ｴﾝﾄﾘｰ票!C$15:AI$215,3,0)),\"\",VLOOKUP(A98*10-9+6000,ｴﾝﾄﾘｰ票!C$15:AI$215,3,0))","v":""},{"$f":"IF(B98=\"\",\"\",CONCATENATE(VLOOKUP(B98,ｴﾝﾄﾘｰ票!$E$16:$L$215,2,0),\"　\",VLOOKUP(B98,ｴﾝﾄﾘｰ票!$E$16:$L$215,3,0)))","v":""},null,null,null,null,{"$f":"IF(B98=\"\",\"\",VLOOKUP(B98,ｴﾝﾄﾘｰ票!$E$16:$L$215,6,0))","v":""},null,{"$f":"IF(B98=\"\",\"\",IF(VLOOKUP(B98,ｴﾝﾄﾘｰ票!$E$16:$Y$215,10,0)=\"\",\"\",VLOOKUP(B98,ｴﾝﾄﾘｰ票!$E$16:$Y$215,10,0)))","v":""},null,{"$f":"IF(B98=\"\",\"\",IF(VLOOKUP(B98,ｴﾝﾄﾘｰ票!$E$16:$Y$215,14,0)=\"\",\"\",VLOOKUP(B98,ｴﾝﾄﾘｰ票!$E$16:$Y$215,14,0)))","v":""},null,{"$f":"IF(B98=\"\",\"\",IF(VLOOKUP(B98,ｴﾝﾄﾘｰ票!$E$16:$Y$215,18,0)=\"\",\"\",VLOOKUP(B98,ｴﾝﾄﾘｰ票!$E$16:$Y$215,18,0)))","v":""},{"$f":"IF(B98=\"\",\"\",IF(ISERROR(VLOOKUP(B98,ｴﾝﾄﾘｰ票!$BD$16:$BE$205,1,0)),\"\",VLOOKUP(B98,ｴﾝﾄﾘｰ票!$BD$16:$BE$205,2,0)))","v":""},null,{"$f":"IF(B98=\"\",\"\",IF(ISERROR(VLOOKUP(B98,ｴﾝﾄﾘｰ票!$BJ$16:$BK$205,1,0)),\"\",VLOOKUP(B98,ｴﾝﾄﾘｰ票!$BJ$16:$BK$205,2,0)))","v":""}]
[67,{"$f":"IF(ISERROR(VLOOKUP(A99*10-9+6000,ｴﾝﾄﾘｰ票!C$15:AI$215,3,0)),\"\",VLOOKUP(A99*10-9+6000,ｴﾝﾄﾘｰ票!C$15:AI$215,3,0))","v":""},{"$f":"IF(B99=\"\",\"\",CONCATENATE(VLOOKUP(B99,ｴﾝﾄﾘｰ票!$E$16:$L$215,2,0),\"　\",VLOOKUP(B99,ｴﾝﾄﾘｰ票!$E$16:$L$215,3,0)))","v":""},null,null,null,null,{"$f":"IF(B99=\"\",\"\",VLOOKUP(B99,ｴﾝﾄﾘｰ票!$E$16:$L$215,6,0))","v":""},null,{"$f":"IF(B99=\"\",\"\",IF(VLOOKUP(B99,ｴﾝﾄﾘｰ票!$E$16:$Y$215,10,0)=\"\",\"\",VLOOKUP(B99,ｴﾝﾄﾘｰ票!$E$16:$Y$215,10,0)))","v":""},null,{"$f":"IF(B99=\"\",\"\",IF(VLOOKUP(B99,ｴﾝﾄﾘｰ票!$E$16:$Y$215,14,0)=\"\",\"\",VLOOKUP(B99,ｴﾝﾄﾘｰ票!$E$16:$Y$215,14,0)))","v":""},null,{"$f":"IF(B99=\"\",\"\",IF(VLOOKUP(B99,ｴﾝﾄﾘｰ票!$E$16:$Y$215,18,0)=\"\",\"\",VLOOKUP(B99,ｴﾝﾄﾘｰ票!$E$16:$Y$215,18,0)))","v":""},{"$f":"IF(B99=\"\",\"\",IF(ISERROR(VLOOKUP(B99,ｴﾝﾄﾘｰ票!$BD$16:$BE$205,1,0)),\"\",VLOOKUP(B99,ｴﾝﾄﾘｰ票!$BD$16:$BE$205,2,0)))","v":""},null,{"$f":"IF(B99=\"\",\"\",IF(ISERROR(VLOOKUP(B99,ｴﾝﾄﾘｰ票!$BJ$16:$BK$205,1,0)),\"\",VLOOKUP(B99,ｴﾝﾄﾘｰ票!$BJ$16:$BK$205,2,0)))","v":""}]
[68,{"$f":"IF(ISERROR(VLOOKUP(A100*10-9+6000,ｴﾝﾄﾘｰ票!C$15:AI$215,3,0)),\"\",VLOOKUP(A100*10-9+6000,ｴﾝﾄﾘｰ票!C$15:AI$215,3,0))","v":""},{"$f":"IF(B100=\"\",\"\",CONCATENATE(VLOOKUP(B100,ｴﾝﾄﾘｰ票!$E$16:$L$215,2,0),\"　\",VLOOKUP(B100,ｴﾝﾄﾘｰ票!$E$16:$L$215,3,0)))","v":""},null,null,null,null,{"$f":"IF(B100=\"\",\"\",VLOOKUP(B100,ｴﾝﾄﾘｰ票!$E$16:$L$215,6,0))","v":""},null,{"$f":"IF(B100=\"\",\"\",IF(VLOOKUP(B100,ｴﾝﾄﾘｰ票!$E$16:$Y$215,10,0)=\"\",\"\",VLOOKUP(B100,ｴﾝﾄﾘｰ票!$E$16:$Y$215,10,0)))","v":""},null,{"$f":"IF(B100=\"\",\"\",IF(VLOOKUP(B100,ｴﾝﾄﾘｰ票!$E$16:$Y$215,14,0)=\"\",\"\",VLOOKUP(B100,ｴﾝﾄﾘｰ票!$E$16:$Y$215,14,0)))","v":""},null,{"$f":"IF(B100=\"\",\"\",IF(VLOOKUP(B100,ｴﾝﾄﾘｰ票!$E$16:$Y$215,18,0)=\"\",\"\",VLOOKUP(B100,ｴﾝﾄﾘｰ票!$E$16:$Y$215,18,0)))","v":""},{"$f":"IF(B100=\"\",\"\",IF(ISERROR(VLOOKUP(B100,ｴﾝﾄﾘｰ票!$BD$16:$BE$205,1,0)),\"\",VLOOKUP(B100,ｴﾝﾄﾘｰ票!$BD$16:$BE$205,2,0)))","v":""},null,{"$f":"IF(B100=\"\",\"\",IF(ISERROR(VLOOKUP(B100,ｴﾝﾄﾘｰ票!$BJ$16:$BK$205,1,0)),\"\",VLOOKUP(B100,ｴﾝﾄﾘｰ票!$BJ$16:$BK$205,2,0)))","v":""}]
[69,{"$f":"IF(ISERROR(VLOOKUP(A101*10-9+6000,ｴﾝﾄﾘｰ票!C$15:AI$215,3,0)),\"\",VLOOKUP(A101*10-9+6000,ｴﾝﾄﾘｰ票!C$15:AI$215,3,0))","v":""},{"$f":"IF(B101=\"\",\"\",CONCATENATE(VLOOKUP(B101,ｴﾝﾄﾘｰ票!$E$16:$L$215,2,0),\"　\",VLOOKUP(B101,ｴﾝﾄﾘｰ票!$E$16:$L$215,3,0)))","v":""},null,null,null,null,{"$f":"IF(B101=\"\",\"\",VLOOKUP(B101,ｴﾝﾄﾘｰ票!$E$16:$L$215,6,0))","v":""},null,{"$f":"IF(B101=\"\",\"\",IF(VLOOKUP(B101,ｴﾝﾄﾘｰ票!$E$16:$Y$215,10,0)=\"\",\"\",VLOOKUP(B101,ｴﾝﾄﾘｰ票!$E$16:$Y$215,10,0)))","v":""},null,{"$f":"IF(B101=\"\",\"\",IF(VLOOKUP(B101,ｴﾝﾄﾘｰ票!$E$16:$Y$215,14,0)=\"\",\"\",VLOOKUP(B101,ｴﾝﾄﾘｰ票!$E$16:$Y$215,14,0)))","v":""},null,{"$f":"IF(B101=\"\",\"\",IF(VLOOKUP(B101,ｴﾝﾄﾘｰ票!$E$16:$Y$215,18,0)=\"\",\"\",VLOOKUP(B101,ｴﾝﾄﾘｰ票!$E$16:$Y$215,18,0)))","v":""},{"$f":"IF(B101=\"\",\"\",IF(ISERROR(VLOOKUP(B101,ｴﾝﾄﾘｰ票!$BD$16:$BE$205,1,0)),\"\",VLOOKUP(B101,ｴﾝﾄﾘｰ票!$BD$16:$BE$205,2,0)))","v":""},null,{"$f":"IF(B101=\"\",\"\",IF(ISERROR(VLOOKUP(B101,ｴﾝﾄﾘｰ票!$BJ$16:$BK$205,1,0)),\"\",VLOOKUP(B101,ｴﾝﾄﾘｰ票!$BJ$16:$BK$205,2,0)))","v":""}]
[70,{"$f":"IF(ISERROR(VLOOKUP(A102*10-9+6000,ｴﾝﾄﾘｰ票!C$15:AI$215,3,0)),\"\",VLOOKUP(A102*10-9+6000,ｴﾝﾄﾘｰ票!C$15:AI$215,3,0))","v":""},{"$f":"IF(B102=\"\",\"\",CONCATENATE(VLOOKUP(B102,ｴﾝﾄﾘｰ票!$E$16:$L$215,2,0),\"　\",VLOOKUP(B102,ｴﾝﾄﾘｰ票!$E$16:$L$215,3,0)))","v":""},null,null,null,null,{"$f":"IF(B102=\"\",\"\",VLOOKUP(B102,ｴﾝﾄﾘｰ票!$E$16:$L$215,6,0))","v":""},null,{"$f":"IF(B102=\"\",\"\",IF(VLOOKUP(B102,ｴﾝﾄﾘｰ票!$E$16:$Y$215,10,0)=\"\",\"\",VLOOKUP(B102,ｴﾝﾄﾘｰ票!$E$16:$Y$215,10,0)))","v":""},null,{"$f":"IF(B102=\"\",\"\",IF(VLOOKUP(B102,ｴﾝﾄﾘｰ票!$E$16:$Y$215,14,0)=\"\",\"\",VLOOKUP(B102,ｴﾝﾄﾘｰ票!$E$16:$Y$215,14,0)))","v":""},null,{"$f":"IF(B102=\"\",\"\",IF(VLOOKUP(B102,ｴﾝﾄﾘｰ票!$E$16:$Y$215,18,0)=\"\",\"\",VLOOKUP(B102,ｴﾝﾄﾘｰ票!$E$16:$Y$215,18,0)))","v":""},{"$f":"IF(B102=\"\",\"\",IF(ISERROR(VLOOKUP(B102,ｴﾝﾄﾘｰ票!$BD$16:$BE$205,1,0)),\"\",VLOOKUP(B102,ｴﾝﾄﾘｰ票!$BD$16:$BE$205,2,0)))","v":""},null,{"$f":"IF(B102=\"\",\"\",IF(ISERROR(VLOOKUP(B102,ｴﾝﾄﾘｰ票!$BJ$16:$BK$205,1,0)),\"\",VLOOKUP(B102,ｴﾝﾄﾘｰ票!$BJ$16:$BK$205,2,0)))","v":""}]
[71,{"$f":"IF(ISERROR(VLOOKUP(A103*10-9+6000,ｴﾝﾄﾘｰ票!C$15:AI$215,3,0)),\"\",VLOOKUP(A103*10-9+6000,ｴﾝﾄﾘｰ票!C$15:AI$215,3,0))","v":""},{"$f":"IF(B103=\"\",\"\",CONCATENATE(VLOOKUP(B103,ｴﾝﾄﾘｰ票!$E$16:$L$215,2,0),\"　\",VLOOKUP(B103,ｴﾝﾄﾘｰ票!$E$16:$L$215,3,0)))","v":""},null,null,null,null,{"$f":"IF(B103=\"\",\"\",VLOOKUP(B103,ｴﾝﾄﾘｰ票!$E$16:$L$215,6,0))","v":""},null,{"$f":"IF(B103=\"\",\"\",IF(VLOOKUP(B103,ｴﾝﾄﾘｰ票!$E$16:$Y$215,10,0)=\"\",\"\",VLOOKUP(B103,ｴﾝﾄﾘｰ票!$E$16:$Y$215,10,0)))","v":""},null,{"$f":"IF(B103=\"\",\"\",IF(VLOOKUP(B103,ｴﾝﾄﾘｰ票!$E$16:$Y$215,14,0)=\"\",\"\",VLOOKUP(B103,ｴﾝﾄﾘｰ票!$E$16:$Y$215,14,0)))","v":""},null,{"$f":"IF(B103=\"\",\"\",IF(VLOOKUP(B103,ｴﾝﾄﾘｰ票!$E$16:$Y$215,18,0)=\"\",\"\",VLOOKUP(B103,ｴﾝﾄﾘｰ票!$E$16:$Y$215,18,0)))","v":""},{"$f":"IF(B103=\"\",\"\",IF(ISERROR(VLOOKUP(B103,ｴﾝﾄﾘｰ票!$BD$16:$BE$205,1,0)),\"\",VLOOKUP(B103,ｴﾝﾄﾘｰ票!$BD$16:$BE$205,2,0)))","v":""},null,{"$f":"IF(B103=\"\",\"\",IF(ISERROR(VLOOKUP(B103,ｴﾝﾄﾘｰ票!$BJ$16:$BK$205,1,0)),\"\",VLOOKUP(B103,ｴﾝﾄﾘｰ票!$BJ$16:$BK$205,2,0)))","v":""}]
[72,{"$f":"IF(ISERROR(VLOOKUP(A104*10-9+6000,ｴﾝﾄﾘｰ票!C$15:AI$215,3,0)),\"\",VLOOKUP(A104*10-9+6000,ｴﾝﾄﾘｰ票!C$15:AI$215,3,0))","v":""},{"$f":"IF(B104=\"\",\"\",CONCATENATE(VLOOKUP(B104,ｴﾝﾄﾘｰ票!$E$16:$L$215,2,0),\"　\",VLOOKUP(B104,ｴﾝﾄﾘｰ票!$E$16:$L$215,3,0)))","v":""},null,null,null,null,{"$f":"IF(B104=\"\",\"\",VLOOKUP(B104,ｴﾝﾄﾘｰ票!$E$16:$L$215,6,0))","v":""},null,{"$f":"IF(B104=\"\",\"\",IF(VLOOKUP(B104,ｴﾝﾄﾘｰ票!$E$16:$Y$215,10,0)=\"\",\"\",VLOOKUP(B104,ｴﾝﾄﾘｰ票!$E$16:$Y$215,10,0)))","v":""},null,{"$f":"IF(B104=\"\",\"\",IF(VLOOKUP(B104,ｴﾝﾄﾘｰ票!$E$16:$Y$215,14,0)=\"\",\"\",VLOOKUP(B104,ｴﾝﾄﾘｰ票!$E$16:$Y$215,14,0)))","v":""},null,{"$f":"IF(B104=\"\",\"\",IF(VLOOKUP(B104,ｴﾝﾄﾘｰ票!$E$16:$Y$215,18,0)=\"\",\"\",VLOOKUP(B104,ｴﾝﾄﾘｰ票!$E$16:$Y$215,18,0)))","v":""},{"$f":"IF(B104=\"\",\"\",IF(ISERROR(VLOOKUP(B104,ｴﾝﾄﾘｰ票!$BD$16:$BE$205,1,0)),\"\",VLOOKUP(B104,ｴﾝﾄﾘｰ票!$BD$16:$BE$205,2,0)))","v":""},null,{"$f":"IF(B104=\"\",\"\",IF(ISERROR(VLOOKUP(B104,ｴﾝﾄﾘｰ票!$BJ$16:$BK$205,1,0)),\"\",VLOOKUP(B104,ｴﾝﾄﾘｰ票!$BJ$16:$BK$205,2,0)))","v":""}]
[73,{"$f":"IF(ISERROR(VLOOKUP(A105*10-9+6000,ｴﾝﾄﾘｰ票!C$15:AI$215,3,0)),\"\",VLOOKUP(A105*10-9+6000,ｴﾝﾄﾘｰ票!C$15:AI$215,3,0))","v":""},{"$f":"IF(B105=\"\",\"\",CONCATENATE(VLOOKUP(B105,ｴﾝﾄﾘｰ票!$E$16:$L$215,2,0),\"　\",VLOOKUP(B105,ｴﾝﾄﾘｰ票!$E$16:$L$215,3,0)))","v":""},null,null,null,null,{"$f":"IF(B105=\"\",\"\",VLOOKUP(B105,ｴﾝﾄﾘｰ票!$E$16:$L$215,6,0))","v":""},null,{"$f":"IF(B105=\"\",\"\",IF(VLOOKUP(B105,ｴﾝﾄﾘｰ票!$E$16:$Y$215,10,0)=\"\",\"\",VLOOKUP(B105,ｴﾝﾄﾘｰ票!$E$16:$Y$215,10,0)))","v":""},null,{"$f":"IF(B105=\"\",\"\",IF(VLOOKUP(B105,ｴﾝﾄﾘｰ票!$E$16:$Y$215,14,0)=\"\",\"\",VLOOKUP(B105,ｴﾝﾄﾘｰ票!$E$16:$Y$215,14,0)))","v":""},null,{"$f":"IF(B105=\"\",\"\",IF(VLOOKUP(B105,ｴﾝﾄﾘｰ票!$E$16:$Y$215,18,0)=\"\",\"\",VLOOKUP(B105,ｴﾝﾄﾘｰ票!$E$16:$Y$215,18,0)))","v":""},{"$f":"IF(B105=\"\",\"\",IF(ISERROR(VLOOKUP(B105,ｴﾝﾄﾘｰ票!$BD$16:$BE$205,1,0)),\"\",VLOOKUP(B105,ｴﾝﾄﾘｰ票!$BD$16:$BE$205,2,0)))","v":""},null,{"$f":"IF(B105=\"\",\"\",IF(ISERROR(VLOOKUP(B105,ｴﾝﾄﾘｰ票!$BJ$16:$BK$205,1,0)),\"\",VLOOKUP(B105,ｴﾝﾄﾘｰ票!$BJ$16:$BK$205,2,0)))","v":""}]
[74,{"$f":"IF(ISERROR(VLOOKUP(A106*10-9+6000,ｴﾝﾄﾘｰ票!C$15:AI$215,3,0)),\"\",VLOOKUP(A106*10-9+6000,ｴﾝﾄﾘｰ票!C$15:AI$215,3,0))","v":""},{"$f":"IF(B106=\"\",\"\",CONCATENATE(VLOOKUP(B106,ｴﾝﾄﾘｰ票!$E$16:$L$215,2,0),\"　\",VLOOKUP(B106,ｴﾝﾄﾘｰ票!$E$16:$L$215,3,0)))","v":""},null,null,null,null,{"$f":"IF(B106=\"\",\"\",VLOOKUP(B106,ｴﾝﾄﾘｰ票!$E$16:$L$215,6,0))","v":""},null,{"$f":"IF(B106=\"\",\"\",IF(VLOOKUP(B106,ｴﾝﾄﾘｰ票!$E$16:$Y$215,10,0)=\"\",\"\",VLOOKUP(B106,ｴﾝﾄﾘｰ票!$E$16:$Y$215,10,0)))","v":""},null,{"$f":"IF(B106=\"\",\"\",IF(VLOOKUP(B106,ｴﾝﾄﾘｰ票!$E$16:$Y$215,14,0)=\"\",\"\",VLOOKUP(B106,ｴﾝﾄﾘｰ票!$E$16:$Y$215,14,0)))","v":""},null,{"$f":"IF(B106=\"\",\"\",IF(VLOOKUP(B106,ｴﾝﾄﾘｰ票!$E$16:$Y$215,18,0)=\"\",\"\",VLOOKUP(B106,ｴﾝﾄﾘｰ票!$E$16:$Y$215,18,0)))","v":""},{"$f":"IF(B106=\"\",\"\",IF(ISERROR(VLOOKUP(B106,ｴﾝﾄﾘｰ票!$BD$16:$BE$205,1,0)),\"\",VLOOKUP(B106,ｴﾝﾄﾘｰ票!$BD$16:$BE$205,2,0)))","v":""},null,{"$f":"IF(B106=\"\",\"\",IF(ISERROR(VLOOKUP(B106,ｴﾝﾄﾘｰ票!$BJ$16:$BK$205,1,0)),\"\",VLOOKUP(B106,ｴﾝﾄﾘｰ票!$BJ$16:$BK$205,2,0)))","v":""}]
[75,{"$f":"IF(ISERROR(VLOOKUP(A107*10-9+6000,ｴﾝﾄﾘｰ票!C$15:AI$215,3,0)),\"\",VLOOKUP(A107*10-9+6000,ｴﾝﾄﾘｰ票!C$15:AI$215,3,0))","v":""},{"$f":"IF(B107=\"\",\"\",CONCATENATE(VLOOKUP(B107,ｴﾝﾄﾘｰ票!$E$16:$L$215,2,0),\"　\",VLOOKUP(B107,ｴﾝﾄﾘｰ票!$E$16:$L$215,3,0)))","v":""},null,null,null,null,{"$f":"IF(B107=\"\",\"\",VLOOKUP(B107,ｴﾝﾄﾘｰ票!$E$16:$L$215,6,0))","v":""},null,{"$f":"IF(B107=\"\",\"\",IF(VLOOKUP(B107,ｴﾝﾄﾘｰ票!$E$16:$Y$215,10,0)=\"\",\"\",VLOOKUP(B107,ｴﾝﾄﾘｰ票!$E$16:$Y$215,10,0)))","v":""},null,{"$f":"IF(B107=\"\",\"\",IF(VLOOKUP(B107,ｴﾝﾄﾘｰ票!$E$16:$Y$215,14,0)=\"\",\"\",VLOOKUP(B107,ｴﾝﾄﾘｰ票!$E$16:$Y$215,14,0)))","v":""},null,{"$f":"IF(B107=\"\",\"\",IF(VLOOKUP(B107,ｴﾝﾄﾘｰ票!$E$16:$Y$215,18,0)=\"\",\"\",VLOOKUP(B107,ｴﾝﾄﾘｰ票!$E$16:$Y$215,18,0)))","v":""},{"$f":"IF(B107=\"\",\"\",IF(ISERROR(VLOOKUP(B107,ｴﾝﾄﾘｰ票!$BD$16:$BE$205,1,0)),\"\",VLOOKUP(B107,ｴﾝﾄﾘｰ票!$BD$16:$BE$205,2,0)))","v":""},null,{"$f":"IF(B107=\"\",\"\",IF(ISERROR(VLOOKUP(B107,ｴﾝﾄﾘｰ票!$BJ$16:$BK$205,1,0)),\"\",VLOOKUP(B107,ｴﾝﾄﾘｰ票!$BJ$16:$BK$205,2,0)))","v":""}]
[76,{"$f":"IF(ISERROR(VLOOKUP(A108*10-9+6000,ｴﾝﾄﾘｰ票!C$15:AI$215,3,0)),\"\",VLOOKUP(A108*10-9+6000,ｴﾝﾄﾘｰ票!C$15:AI$215,3,0))","v":""},{"$f":"IF(B108=\"\",\"\",CONCATENATE(VLOOKUP(B108,ｴﾝﾄﾘｰ票!$E$16:$L$215,2,0),\"　\",VLOOKUP(B108,ｴﾝﾄﾘｰ票!$E$16:$L$215,3,0)))","v":""},null,null,null,null,{"$f":"IF(B108=\"\",\"\",VLOOKUP(B108,ｴﾝﾄﾘｰ票!$E$16:$L$215,6,0))","v":""},null,{"$f":"IF(B108=\"\",\"\",IF(VLOOKUP(B108,ｴﾝﾄﾘｰ票!$E$16:$Y$215,10,0)=\"\",\"\",VLOOKUP(B108,ｴﾝﾄﾘｰ票!$E$16:$Y$215,10,0)))","v":""},null,{"$f":"IF(B108=\"\",\"\",IF(VLOOKUP(B108,ｴﾝﾄﾘｰ票!$E$16:$Y$215,14,0)=\"\",\"\",VLOOKUP(B108,ｴﾝﾄﾘｰ票!$E$16:$Y$215,14,0)))","v":""},null,{"$f":"IF(B108=\"\",\"\",IF(VLOOKUP(B108,ｴﾝﾄﾘｰ票!$E$16:$Y$215,18,0)=\"\",\"\",VLOOKUP(B108,ｴﾝﾄﾘｰ票!$E$16:$Y$215,18,0)))","v":""},{"$f":"IF(B108=\"\",\"\",IF(ISERROR(VLOOKUP(B108,ｴﾝﾄﾘｰ票!$BD$16:$BE$205,1,0)),\"\",VLOOKUP(B108,ｴﾝﾄﾘｰ票!$BD$16:$BE$205,2,0)))","v":""},null,{"$f":"IF(B108=\"\",\"\",IF(ISERROR(VLOOKUP(B108,ｴﾝﾄﾘｰ票!$BJ$16:$BK$205,1,0)),\"\",VLOOKUP(B108,ｴﾝﾄﾘｰ票!$BJ$16:$BK$205,2,0)))","v":""}]
[77,{"$f":"IF(ISERROR(VLOOKUP(A109*10-9+6000,ｴﾝﾄﾘｰ票!C$15:AI$215,3,0)),\"\",VLOOKUP(A109*10-9+6000,ｴﾝﾄﾘｰ票!C$15:AI$215,3,0))","v":""},{"$f":"IF(B109=\"\",\"\",CONCATENATE(VLOOKUP(B109,ｴﾝﾄﾘｰ票!$E$16:$L$215,2,0),\"　\",VLOOKUP(B109,ｴﾝﾄﾘｰ票!$E$16:$L$215,3,0)))","v":""},null,null,null,null,{"$f":"IF(B109=\"\",\"\",VLOOKUP(B109,ｴﾝﾄﾘｰ票!$E$16:$L$215,6,0))","v":""},null,{"$f":"IF(B109=\"\",\"\",IF(VLOOKUP(B109,ｴﾝﾄﾘｰ票!$E$16:$Y$215,10,0)=\"\",\"\",VLOOKUP(B109,ｴﾝﾄﾘｰ票!$E$16:$Y$215,10,0)))","v":""},null,{"$f":"IF(B109=\"\",\"\",IF(VLOOKUP(B109,ｴﾝﾄﾘｰ票!$E$16:$Y$215,14,0)=\"\",\"\",VLOOKUP(B109,ｴﾝﾄﾘｰ票!$E$16:$Y$215,14,0)))","v":""},null,{"$f":"IF(B109=\"\",\"\",IF(VLOOKUP(B109,ｴﾝﾄﾘｰ票!$E$16:$Y$215,18,0)=\"\",\"\",VLOOKUP(B109,ｴﾝﾄﾘｰ票!$E$16:$Y$215,18,0)))","v":""},{"$f":"IF(B109=\"\",\"\",IF(ISERROR(VLOOKUP(B109,ｴﾝﾄﾘｰ票!$BD$16:$BE$205,1,0)),\"\",VLOOKUP(B109,ｴﾝﾄﾘｰ票!$BD$16:$BE$205,2,0)))","v":""},null,{"$f":"IF(B109=\"\",\"\",IF(ISERROR(VLOOKUP(B109,ｴﾝﾄﾘｰ票!$BJ$16:$BK$205,1,0)),\"\",VLOOKUP(B109,ｴﾝﾄﾘｰ票!$BJ$16:$BK$205,2,0)))","v":""}]
[78,{"$f":"IF(ISERROR(VLOOKUP(A110*10-9+6000,ｴﾝﾄﾘｰ票!C$15:AI$215,3,0)),\"\",VLOOKUP(A110*10-9+6000,ｴﾝﾄﾘｰ票!C$15:AI$215,3,0))","v":""},{"$f":"IF(B110=\"\",\"\",CONCATENATE(VLOOKUP(B110,ｴﾝﾄﾘｰ票!$E$16:$L$215,2,0),\"　\",VLOOKUP(B110,ｴﾝﾄﾘｰ票!$E$16:$L$215,3,0)))","v":""},null,null,null,null,{"$f":"IF(B110=\"\",\"\",VLOOKUP(B110,ｴﾝﾄﾘｰ票!$E$16:$L$215,6,0))","v":""},null,{"$f":"IF(B110=\"\",\"\",IF(VLOOKUP(B110,ｴﾝﾄﾘｰ票!$E$16:$Y$215,10,0)=\"\",\"\",VLOOKUP(B110,ｴﾝﾄﾘｰ票!$E$16:$Y$215,10,0)))","v":""},null,{"$f":"IF(B110=\"\",\"\",IF(VLOOKUP(B110,ｴﾝﾄﾘｰ票!$E$16:$Y$215,14,0)=\"\",\"\",VLOOKUP(B110,ｴﾝﾄﾘｰ票!$E$16:$Y$215,14,0)))","v":""},null,{"$f":"IF(B110=\"\",\"\",IF(VLOOKUP(B110,ｴﾝﾄﾘｰ票!$E$16:$Y$215,18,0)=\"\",\"\",VLOOKUP(B110,ｴﾝﾄﾘｰ票!$E$16:$Y$215,18,0)))","v":""},{"$f":"IF(B110=\"\",\"\",IF(ISERROR(VLOOKUP(B110,ｴﾝﾄﾘｰ票!$BD$16:$BE$205,1,0)),\"\",VLOOKUP(B110,ｴﾝﾄﾘｰ票!$BD$16:$BE$205,2,0)))","v":""},null,{"$f":"IF(B110=\"\",\"\",IF(ISERROR(VLOOKUP(B110,ｴﾝﾄﾘｰ票!$BJ$16:$BK$205,1,0)),\"\",VLOOKUP(B110,ｴﾝﾄﾘｰ票!$BJ$16:$BK$205,2,0)))","v":""}]
[79,{"$f":"IF(ISERROR(VLOOKUP(A111*10-9+6000,ｴﾝﾄﾘｰ票!C$15:AI$215,3,0)),\"\",VLOOKUP(A111*10-9+6000,ｴﾝﾄﾘｰ票!C$15:AI$215,3,0))","v":""},{"$f":"IF(B111=\"\",\"\",CONCATENATE(VLOOKUP(B111,ｴﾝﾄﾘｰ票!$E$16:$L$215,2,0),\"　\",VLOOKUP(B111,ｴﾝﾄﾘｰ票!$E$16:$L$215,3,0)))","v":""},null,null,null,null,{"$f":"IF(B111=\"\",\"\",VLOOKUP(B111,ｴﾝﾄﾘｰ票!$E$16:$L$215,6,0))","v":""},null,{"$f":"IF(B111=\"\",\"\",IF(VLOOKUP(B111,ｴﾝﾄﾘｰ票!$E$16:$Y$215,10,0)=\"\",\"\",VLOOKUP(B111,ｴﾝﾄﾘｰ票!$E$16:$Y$215,10,0)))","v":""},null,{"$f":"IF(B111=\"\",\"\",IF(VLOOKUP(B111,ｴﾝﾄﾘｰ票!$E$16:$Y$215,14,0)=\"\",\"\",VLOOKUP(B111,ｴﾝﾄﾘｰ票!$E$16:$Y$215,14,0)))","v":""},null,{"$f":"IF(B111=\"\",\"\",IF(VLOOKUP(B111,ｴﾝﾄﾘｰ票!$E$16:$Y$215,18,0)=\"\",\"\",VLOOKUP(B111,ｴﾝﾄﾘｰ票!$E$16:$Y$215,18,0)))","v":""},{"$f":"IF(B111=\"\",\"\",IF(ISERROR(VLOOKUP(B111,ｴﾝﾄﾘｰ票!$BD$16:$BE$205,1,0)),\"\",VLOOKUP(B111,ｴﾝﾄﾘｰ票!$BD$16:$BE$205,2,0)))","v":""},null,{"$f":"IF(B111=\"\",\"\",IF(ISERROR(VLOOKUP(B111,ｴﾝﾄﾘｰ票!$BJ$16:$BK$205,1,0)),\"\",VLOOKUP(B111,ｴﾝﾄﾘｰ票!$BJ$16:$BK$205,2,0)))","v":""}]
[80,{"$f":"IF(ISERROR(VLOOKUP(A112*10-9+6000,ｴﾝﾄﾘｰ票!C$15:AI$215,3,0)),\"\",VLOOKUP(A112*10-9+6000,ｴﾝﾄﾘｰ票!C$15:AI$215,3,0))","v":""},{"$f":"IF(B112=\"\",\"\",CONCATENATE(VLOOKUP(B112,ｴﾝﾄﾘｰ票!$E$16:$L$215,2,0),\"　\",VLOOKUP(B112,ｴﾝﾄﾘｰ票!$E$16:$L$215,3,0)))","v":""},null,null,null,null,{"$f":"IF(B112=\"\",\"\",VLOOKUP(B112,ｴﾝﾄﾘｰ票!$E$16:$L$215,6,0))","v":""},null,{"$f":"IF(B112=\"\",\"\",IF(VLOOKUP(B112,ｴﾝﾄﾘｰ票!$E$16:$Y$215,10,0)=\"\",\"\",VLOOKUP(B112,ｴﾝﾄﾘｰ票!$E$16:$Y$215,10,0)))","v":""},null,{"$f":"IF(B112=\"\",\"\",IF(VLOOKUP(B112,ｴﾝﾄﾘｰ票!$E$16:$Y$215,14,0)=\"\",\"\",VLOOKUP(B112,ｴﾝﾄﾘｰ票!$E$16:$Y$215,14,0)))","v":""},null,{"$f":"IF(B112=\"\",\"\",IF(VLOOKUP(B112,ｴﾝﾄﾘｰ票!$E$16:$Y$215,18,0)=\"\",\"\",VLOOKUP(B112,ｴﾝﾄﾘｰ票!$E$16:$Y$215,18,0)))","v":""},{"$f":"IF(B112=\"\",\"\",IF(ISERROR(VLOOKUP(B112,ｴﾝﾄﾘｰ票!$BD$16:$BE$205,1,0)),\"\",VLOOKUP(B112,ｴﾝﾄﾘｰ票!$BD$16:$BE$205,2,0)))","v":""},null,{"$f":"IF(B112=\"\",\"\",IF(ISERROR(VLOOKUP(B112,ｴﾝﾄﾘｰ票!$BJ$16:$BK$205,1,0)),\"\",VLOOKUP(B112,ｴﾝﾄﾘｰ票!$BJ$16:$BK$205,2,0)))","v":""}]
[81,{"$f":"IF(ISERROR(VLOOKUP(A113*10-9+6000,ｴﾝﾄﾘｰ票!C$15:AI$215,3,0)),\"\",VLOOKUP(A113*10-9+6000,ｴﾝﾄﾘｰ票!C$15:AI$215,3,0))","v":""},{"$f":"IF(B113=\"\",\"\",CONCATENATE(VLOOKUP(B113,ｴﾝﾄﾘｰ票!$E$16:$L$215,2,0),\"　\",VLOOKUP(B113,ｴﾝﾄﾘｰ票!$E$16:$L$215,3,0)))","v":""},null,null,null,null,{"$f":"IF(B113=\"\",\"\",VLOOKUP(B113,ｴﾝﾄﾘｰ票!$E$16:$L$215,6,0))","v":""},null,{"$f":"IF(B113=\"\",\"\",IF(VLOOKUP(B113,ｴﾝﾄﾘｰ票!$E$16:$Y$215,10,0)=\"\",\"\",VLOOKUP(B113,ｴﾝﾄﾘｰ票!$E$16:$Y$215,10,0)))","v":""},null,{"$f":"IF(B113=\"\",\"\",IF(VLOOKUP(B113,ｴﾝﾄﾘｰ票!$E$16:$Y$215,14,0)=\"\",\"\",VLOOKUP(B113,ｴﾝﾄﾘｰ票!$E$16:$Y$215,14,0)))","v":""},null,{"$f":"IF(B113=\"\",\"\",IF(VLOOKUP(B113,ｴﾝﾄﾘｰ票!$E$16:$Y$215,18,0)=\"\",\"\",VLOOKUP(B113,ｴﾝﾄﾘｰ票!$E$16:$Y$215,18,0)))","v":""},{"$f":"IF(B113=\"\",\"\",IF(ISERROR(VLOOKUP(B113,ｴﾝﾄﾘｰ票!$BD$16:$BE$205,1,0)),\"\",VLOOKUP(B113,ｴﾝﾄﾘｰ票!$BD$16:$BE$205,2,0)))","v":""},null,{"$f":"IF(B113=\"\",\"\",IF(ISERROR(VLOOKUP(B113,ｴﾝﾄﾘｰ票!$BJ$16:$BK$205,1,0)),\"\",VLOOKUP(B113,ｴﾝﾄﾘｰ票!$BJ$16:$BK$205,2,0)))","v":""}]
[82,{"$f":"IF(ISERROR(VLOOKUP(A114*10-9+6000,ｴﾝﾄﾘｰ票!C$15:AI$215,3,0)),\"\",VLOOKUP(A114*10-9+6000,ｴﾝﾄﾘｰ票!C$15:AI$215,3,0))","v":""},{"$f":"IF(B114=\"\",\"\",CONCATENATE(VLOOKUP(B114,ｴﾝﾄﾘｰ票!$E$16:$L$215,2,0),\"　\",VLOOKUP(B114,ｴﾝﾄﾘｰ票!$E$16:$L$215,3,0)))","v":""},null,null,null,null,{"$f":"IF(B114=\"\",\"\",VLOOKUP(B114,ｴﾝﾄﾘｰ票!$E$16:$L$215,6,0))","v":""},null,{"$f":"IF(B114=\"\",\"\",IF(VLOOKUP(B114,ｴﾝﾄﾘｰ票!$E$16:$Y$215,10,0)=\"\",\"\",VLOOKUP(B114,ｴﾝﾄﾘｰ票!$E$16:$Y$215,10,0)))","v":""},null,{"$f":"IF(B114=\"\",\"\",IF(VLOOKUP(B114,ｴﾝﾄﾘｰ票!$E$16:$Y$215,14,0)=\"\",\"\",VLOOKUP(B114,ｴﾝﾄﾘｰ票!$E$16:$Y$215,14,0)))","v":""},null,{"$f":"IF(B114=\"\",\"\",IF(VLOOKUP(B114,ｴﾝﾄﾘｰ票!$E$16:$Y$215,18,0)=\"\",\"\",VLOOKUP(B114,ｴﾝﾄﾘｰ票!$E$16:$Y$215,18,0)))","v":""},{"$f":"IF(B114=\"\",\"\",IF(ISERROR(VLOOKUP(B114,ｴﾝﾄﾘｰ票!$BD$16:$BE$205,1,0)),\"\",VLOOKUP(B114,ｴﾝﾄﾘｰ票!$BD$16:$BE$205,2,0)))","v":""},null,{"$f":"IF(B114=\"\",\"\",IF(ISERROR(VLOOKUP(B114,ｴﾝﾄﾘｰ票!$BJ$16:$BK$205,1,0)),\"\",VLOOKUP(B114,ｴﾝﾄﾘｰ票!$BJ$16:$BK$205,2,0)))","v":""}]
[83,{"$f":"IF(ISERROR(VLOOKUP(A115*10-9+6000,ｴﾝﾄﾘｰ票!C$15:AI$215,3,0)),\"\",VLOOKUP(A115*10-9+6000,ｴﾝﾄﾘｰ票!C$15:AI$215,3,0))","v":""},{"$f":"IF(B115=\"\",\"\",CONCATENATE(VLOOKUP(B115,ｴﾝﾄﾘｰ票!$E$16:$L$215,2,0),\"　\",VLOOKUP(B115,ｴﾝﾄﾘｰ票!$E$16:$L$215,3,0)))","v":""},null,null,null,null,{"$f":"IF(B115=\"\",\"\",VLOOKUP(B115,ｴﾝﾄﾘｰ票!$E$16:$L$215,6,0))","v":""},null,{"$f":"IF(B115=\"\",\"\",IF(VLOOKUP(B115,ｴﾝﾄﾘｰ票!$E$16:$Y$215,10,0)=\"\",\"\",VLOOKUP(B115,ｴﾝﾄﾘｰ票!$E$16:$Y$215,10,0)))","v":""},null,{"$f":"IF(B115=\"\",\"\",IF(VLOOKUP(B115,ｴﾝﾄﾘｰ票!$E$16:$Y$215,14,0)=\"\",\"\",VLOOKUP(B115,ｴﾝﾄﾘｰ票!$E$16:$Y$215,14,0)))","v":""},null,{"$f":"IF(B115=\"\",\"\",IF(VLOOKUP(B115,ｴﾝﾄﾘｰ票!$E$16:$Y$215,18,0)=\"\",\"\",VLOOKUP(B115,ｴﾝﾄﾘｰ票!$E$16:$Y$215,18,0)))","v":""},{"$f":"IF(B115=\"\",\"\",IF(ISERROR(VLOOKUP(B115,ｴﾝﾄﾘｰ票!$BD$16:$BE$205,1,0)),\"\",VLOOKUP(B115,ｴﾝﾄﾘｰ票!$BD$16:$BE$205,2,0)))","v":""},null,{"$f":"IF(B115=\"\",\"\",IF(ISERROR(VLOOKUP(B115,ｴﾝﾄﾘｰ票!$BJ$16:$BK$205,1,0)),\"\",VLOOKUP(B115,ｴﾝﾄﾘｰ票!$BJ$16:$BK$205,2,0)))","v":""}]
[84,{"$f":"IF(ISERROR(VLOOKUP(A116*10-9+6000,ｴﾝﾄﾘｰ票!C$15:AI$215,3,0)),\"\",VLOOKUP(A116*10-9+6000,ｴﾝﾄﾘｰ票!C$15:AI$215,3,0))","v":""},{"$f":"IF(B116=\"\",\"\",CONCATENATE(VLOOKUP(B116,ｴﾝﾄﾘｰ票!$E$16:$L$215,2,0),\"　\",VLOOKUP(B116,ｴﾝﾄﾘｰ票!$E$16:$L$215,3,0)))","v":""},null,null,null,null,{"$f":"IF(B116=\"\",\"\",VLOOKUP(B116,ｴﾝﾄﾘｰ票!$E$16:$L$215,6,0))","v":""},null,{"$f":"IF(B116=\"\",\"\",IF(VLOOKUP(B116,ｴﾝﾄﾘｰ票!$E$16:$Y$215,10,0)=\"\",\"\",VLOOKUP(B116,ｴﾝﾄﾘｰ票!$E$16:$Y$215,10,0)))","v":""},null,{"$f":"IF(B116=\"\",\"\",IF(VLOOKUP(B116,ｴﾝﾄﾘｰ票!$E$16:$Y$215,14,0)=\"\",\"\",VLOOKUP(B116,ｴﾝﾄﾘｰ票!$E$16:$Y$215,14,0)))","v":""},null,{"$f":"IF(B116=\"\",\"\",IF(VLOOKUP(B116,ｴﾝﾄﾘｰ票!$E$16:$Y$215,18,0)=\"\",\"\",VLOOKUP(B116,ｴﾝﾄﾘｰ票!$E$16:$Y$215,18,0)))","v":""},{"$f":"IF(B116=\"\",\"\",IF(ISERROR(VLOOKUP(B116,ｴﾝﾄﾘｰ票!$BD$16:$BE$205,1,0)),\"\",VLOOKUP(B116,ｴﾝﾄﾘｰ票!$BD$16:$BE$205,2,0)))","v":""},null,{"$f":"IF(B116=\"\",\"\",IF(ISERROR(VLOOKUP(B116,ｴﾝﾄﾘｰ票!$BJ$16:$BK$205,1,0)),\"\",VLOOKUP(B116,ｴﾝﾄﾘｰ票!$BJ$16:$BK$205,2,0)))","v":""}]
[85,{"$f":"IF(ISERROR(VLOOKUP(A117*10-9+6000,ｴﾝﾄﾘｰ票!C$15:AI$215,3,0)),\"\",VLOOKUP(A117*10-9+6000,ｴﾝﾄﾘｰ票!C$15:AI$215,3,0))","v":""},{"$f":"IF(B117=\"\",\"\",CONCATENATE(VLOOKUP(B117,ｴﾝﾄﾘｰ票!$E$16:$L$215,2,0),\"　\",VLOOKUP(B117,ｴﾝﾄﾘｰ票!$E$16:$L$215,3,0)))","v":""},null,null,null,null,{"$f":"IF(B117=\"\",\"\",VLOOKUP(B117,ｴﾝﾄﾘｰ票!$E$16:$L$215,6,0))","v":""},null,{"$f":"IF(B117=\"\",\"\",IF(VLOOKUP(B117,ｴﾝﾄﾘｰ票!$E$16:$Y$215,10,0)=\"\",\"\",VLOOKUP(B117,ｴﾝﾄﾘｰ票!$E$16:$Y$215,10,0)))","v":""},null,{"$f":"IF(B117=\"\",\"\",IF(VLOOKUP(B117,ｴﾝﾄﾘｰ票!$E$16:$Y$215,14,0)=\"\",\"\",VLOOKUP(B117,ｴﾝﾄﾘｰ票!$E$16:$Y$215,14,0)))","v":""},null,{"$f":"IF(B117=\"\",\"\",IF(VLOOKUP(B117,ｴﾝﾄﾘｰ票!$E$16:$Y$215,18,0)=\"\",\"\",VLOOKUP(B117,ｴﾝﾄﾘｰ票!$E$16:$Y$215,18,0)))","v":""},{"$f":"IF(B117=\"\",\"\",IF(ISERROR(VLOOKUP(B117,ｴﾝﾄﾘｰ票!$BD$16:$BE$205,1,0)),\"\",VLOOKUP(B117,ｴﾝﾄﾘｰ票!$BD$16:$BE$205,2,0)))","v":""},null,{"$f":"IF(B117=\"\",\"\",IF(ISERROR(VLOOKUP(B117,ｴﾝﾄﾘｰ票!$BJ$16:$BK$205,1,0)),\"\",VLOOKUP(B117,ｴﾝﾄﾘｰ票!$BJ$16:$BK$205,2,0)))","v":""}]
[86,{"$f":"IF(ISERROR(VLOOKUP(A118*10-9+6000,ｴﾝﾄﾘｰ票!C$15:AI$215,3,0)),\"\",VLOOKUP(A118*10-9+6000,ｴﾝﾄﾘｰ票!C$15:AI$215,3,0))","v":""},{"$f":"IF(B118=\"\",\"\",CONCATENATE(VLOOKUP(B118,ｴﾝﾄﾘｰ票!$E$16:$L$215,2,0),\"　\",VLOOKUP(B118,ｴﾝﾄﾘｰ票!$E$16:$L$215,3,0)))","v":""},null,null,null,null,{"$f":"IF(B118=\"\",\"\",VLOOKUP(B118,ｴﾝﾄﾘｰ票!$E$16:$L$215,6,0))","v":""},null,{"$f":"IF(B118=\"\",\"\",IF(VLOOKUP(B118,ｴﾝﾄﾘｰ票!$E$16:$Y$215,10,0)=\"\",\"\",VLOOKUP(B118,ｴﾝﾄﾘｰ票!$E$16:$Y$215,10,0)))","v":""},null,{"$f":"IF(B118=\"\",\"\",IF(VLOOKUP(B118,ｴﾝﾄﾘｰ票!$E$16:$Y$215,14,0)=\"\",\"\",VLOOKUP(B118,ｴﾝﾄﾘｰ票!$E$16:$Y$215,14,0)))","v":""},null,{"$f":"IF(B118=\"\",\"\",IF(VLOOKUP(B118,ｴﾝﾄﾘｰ票!$E$16:$Y$215,18,0)=\"\",\"\",VLOOKUP(B118,ｴﾝﾄﾘｰ票!$E$16:$Y$215,18,0)))","v":""},{"$f":"IF(B118=\"\",\"\",IF(ISERROR(VLOOKUP(B118,ｴﾝﾄﾘｰ票!$BD$16:$BE$205,1,0)),\"\",VLOOKUP(B118,ｴﾝﾄﾘｰ票!$BD$16:$BE$205,2,0)))","v":""},null,{"$f":"IF(B118=\"\",\"\",IF(ISERROR(VLOOKUP(B118,ｴﾝﾄﾘｰ票!$BJ$16:$BK$205,1,0)),\"\",VLOOKUP(B118,ｴﾝﾄﾘｰ票!$BJ$16:$BK$205,2,0)))","v":""}]
[87,{"$f":"IF(ISERROR(VLOOKUP(A119*10-9+6000,ｴﾝﾄﾘｰ票!C$15:AI$215,3,0)),\"\",VLOOKUP(A119*10-9+6000,ｴﾝﾄﾘｰ票!C$15:AI$215,3,0))","v":""},{"$f":"IF(B119=\"\",\"\",CONCATENATE(VLOOKUP(B119,ｴﾝﾄﾘｰ票!$E$16:$L$215,2,0),\"　\",VLOOKUP(B119,ｴﾝﾄﾘｰ票!$E$16:$L$215,3,0)))","v":""},null,null,null,null,{"$f":"IF(B119=\"\",\"\",VLOOKUP(B119,ｴﾝﾄﾘｰ票!$E$16:$L$215,6,0))","v":""},null,{"$f":"IF(B119=\"\",\"\",IF(VLOOKUP(B119,ｴﾝﾄﾘｰ票!$E$16:$Y$215,10,0)=\"\",\"\",VLOOKUP(B119,ｴﾝﾄﾘｰ票!$E$16:$Y$215,10,0)))","v":""},null,{"$f":"IF(B119=\"\",\"\",IF(VLOOKUP(B119,ｴﾝﾄﾘｰ票!$E$16:$Y$215,14,0)=\"\",\"\",VLOOKUP(B119,ｴﾝﾄﾘｰ票!$E$16:$Y$215,14,0)))","v":""},null,{"$f":"IF(B119=\"\",\"\",IF(VLOOKUP(B119,ｴﾝﾄﾘｰ票!$E$16:$Y$215,18,0)=\"\",\"\",VLOOKUP(B119,ｴﾝﾄﾘｰ票!$E$16:$Y$215,18,0)))","v":""},{"$f":"IF(B119=\"\",\"\",IF(ISERROR(VLOOKUP(B119,ｴﾝﾄﾘｰ票!$BD$16:$BE$205,1,0)),\"\",VLOOKUP(B119,ｴﾝﾄﾘｰ票!$BD$16:$BE$205,2,0)))","v":""},null,{"$f":"IF(B119=\"\",\"\",IF(ISERROR(VLOOKUP(B119,ｴﾝﾄﾘｰ票!$BJ$16:$BK$205,1,0)),\"\",VLOOKUP(B119,ｴﾝﾄﾘｰ票!$BJ$16:$BK$205,2,0)))","v":""}]
[88,{"$f":"IF(ISERROR(VLOOKUP(A120*10-9+6000,ｴﾝﾄﾘｰ票!C$15:AI$215,3,0)),\"\",VLOOKUP(A120*10-9+6000,ｴﾝﾄﾘｰ票!C$15:AI$215,3,0))","v":""},{"$f":"IF(B120=\"\",\"\",CONCATENATE(VLOOKUP(B120,ｴﾝﾄﾘｰ票!$E$16:$L$215,2,0),\"　\",VLOOKUP(B120,ｴﾝﾄﾘｰ票!$E$16:$L$215,3,0)))","v":""},null,null,null,null,{"$f":"IF(B120=\"\",\"\",VLOOKUP(B120,ｴﾝﾄﾘｰ票!$E$16:$L$215,6,0))","v":""},null,{"$f":"IF(B120=\"\",\"\",IF(VLOOKUP(B120,ｴﾝﾄﾘｰ票!$E$16:$Y$215,10,0)=\"\",\"\",VLOOKUP(B120,ｴﾝﾄﾘｰ票!$E$16:$Y$215,10,0)))","v":""},null,{"$f":"IF(B120=\"\",\"\",IF(VLOOKUP(B120,ｴﾝﾄﾘｰ票!$E$16:$Y$215,14,0)=\"\",\"\",VLOOKUP(B120,ｴﾝﾄﾘｰ票!$E$16:$Y$215,14,0)))","v":""},null,{"$f":"IF(B120=\"\",\"\",IF(VLOOKUP(B120,ｴﾝﾄﾘｰ票!$E$16:$Y$215,18,0)=\"\",\"\",VLOOKUP(B120,ｴﾝﾄﾘｰ票!$E$16:$Y$215,18,0)))","v":""},{"$f":"IF(B120=\"\",\"\",IF(ISERROR(VLOOKUP(B120,ｴﾝﾄﾘｰ票!$BD$16:$BE$205,1,0)),\"\",VLOOKUP(B120,ｴﾝﾄﾘｰ票!$BD$16:$BE$205,2,0)))","v":""},null,{"$f":"IF(B120=\"\",\"\",IF(ISERROR(VLOOKUP(B120,ｴﾝﾄﾘｰ票!$BJ$16:$BK$205,1,0)),\"\",VLOOKUP(B120,ｴﾝﾄﾘｰ票!$BJ$16:$BK$205,2,0)))","v":""}]
[89,{"$f":"IF(ISERROR(VLOOKUP(A121*10-9+6000,ｴﾝﾄﾘｰ票!C$15:AI$215,3,0)),\"\",VLOOKUP(A121*10-9+6000,ｴﾝﾄﾘｰ票!C$15:AI$215,3,0))","v":""},{"$f":"IF(B121=\"\",\"\",CONCATENATE(VLOOKUP(B121,ｴﾝﾄﾘｰ票!$E$16:$L$215,2,0),\"　\",VLOOKUP(B121,ｴﾝﾄﾘｰ票!$E$16:$L$215,3,0)))","v":""},null,null,null,null,{"$f":"IF(B121=\"\",\"\",VLOOKUP(B121,ｴﾝﾄﾘｰ票!$E$16:$L$215,6,0))","v":""},null,{"$f":"IF(B121=\"\",\"\",IF(VLOOKUP(B121,ｴﾝﾄﾘｰ票!$E$16:$Y$215,10,0)=\"\",\"\",VLOOKUP(B121,ｴﾝﾄﾘｰ票!$E$16:$Y$215,10,0)))","v":""},null,{"$f":"IF(B121=\"\",\"\",IF(VLOOKUP(B121,ｴﾝﾄﾘｰ票!$E$16:$Y$215,14,0)=\"\",\"\",VLOOKUP(B121,ｴﾝﾄﾘｰ票!$E$16:$Y$215,14,0)))","v":""},null,{"$f":"IF(B121=\"\",\"\",IF(VLOOKUP(B121,ｴﾝﾄﾘｰ票!$E$16:$Y$215,18,0)=\"\",\"\",VLOOKUP(B121,ｴﾝﾄﾘｰ票!$E$16:$Y$215,18,0)))","v":""},{"$f":"IF(B121=\"\",\"\",IF(ISERROR(VLOOKUP(B121,ｴﾝﾄﾘｰ票!$BD$16:$BE$205,1,0)),\"\",VLOOKUP(B121,ｴﾝﾄﾘｰ票!$BD$16:$BE$205,2,0)))","v":""},null,{"$f":"IF(B121=\"\",\"\",IF(ISERROR(VLOOKUP(B121,ｴﾝﾄﾘｰ票!$BJ$16:$BK$205,1,0)),\"\",VLOOKUP(B121,ｴﾝﾄﾘｰ票!$BJ$16:$BK$205,2,0)))","v":""}]
[90,{"$f":"IF(ISERROR(VLOOKUP(A122*10-9+6000,ｴﾝﾄﾘｰ票!C$15:AI$215,3,0)),\"\",VLOOKUP(A122*10-9+6000,ｴﾝﾄﾘｰ票!C$15:AI$215,3,0))","v":""},{"$f":"IF(B122=\"\",\"\",CONCATENATE(VLOOKUP(B122,ｴﾝﾄﾘｰ票!$E$16:$L$215,2,0),\"　\",VLOOKUP(B122,ｴﾝﾄﾘｰ票!$E$16:$L$215,3,0)))","v":""},null,null,null,null,{"$f":"IF(B122=\"\",\"\",VLOOKUP(B122,ｴﾝﾄﾘｰ票!$E$16:$L$215,6,0))","v":""},null,{"$f":"IF(B122=\"\",\"\",IF(VLOOKUP(B122,ｴﾝﾄﾘｰ票!$E$16:$Y$215,10,0)=\"\",\"\",VLOOKUP(B122,ｴﾝﾄﾘｰ票!$E$16:$Y$215,10,0)))","v":""},null,{"$f":"IF(B122=\"\",\"\",IF(VLOOKUP(B122,ｴﾝﾄﾘｰ票!$E$16:$Y$215,14,0)=\"\",\"\",VLOOKUP(B122,ｴﾝﾄﾘｰ票!$E$16:$Y$215,14,0)))","v":""},null,{"$f":"IF(B122=\"\",\"\",IF(VLOOKUP(B122,ｴﾝﾄﾘｰ票!$E$16:$Y$215,18,0)=\"\",\"\",VLOOKUP(B122,ｴﾝﾄﾘｰ票!$E$16:$Y$215,18,0)))","v":""},{"$f":"IF(B122=\"\",\"\",IF(ISERROR(VLOOKUP(B122,ｴﾝﾄﾘｰ票!$BD$16:$BE$205,1,0)),\"\",VLOOKUP(B122,ｴﾝﾄﾘｰ票!$BD$16:$BE$205,2,0)))","v":""},null,{"$f":"IF(B122=\"\",\"\",IF(ISERROR(VLOOKUP(B122,ｴﾝﾄﾘｰ票!$BJ$16:$BK$205,1,0)),\"\",VLOOKUP(B122,ｴﾝﾄﾘｰ票!$BJ$16:$BK$205,2,0)))","v":""}]
[91,{"$f":"IF(ISERROR(VLOOKUP(A123*10-9+6000,ｴﾝﾄﾘｰ票!C$15:AI$215,3,0)),\"\",VLOOKUP(A123*10-9+6000,ｴﾝﾄﾘｰ票!C$15:AI$215,3,0))","v":""},{"$f":"IF(B123=\"\",\"\",CONCATENATE(VLOOKUP(B123,ｴﾝﾄﾘｰ票!$E$16:$L$215,2,0),\"　\",VLOOKUP(B123,ｴﾝﾄﾘｰ票!$E$16:$L$215,3,0)))","v":""},null,null,null,null,{"$f":"IF(B123=\"\",\"\",VLOOKUP(B123,ｴﾝﾄﾘｰ票!$E$16:$L$215,6,0))","v":""},null,{"$f":"IF(B123=\"\",\"\",IF(VLOOKUP(B123,ｴﾝﾄﾘｰ票!$E$16:$Y$215,10,0)=\"\",\"\",VLOOKUP(B123,ｴﾝﾄﾘｰ票!$E$16:$Y$215,10,0)))","v":""},null,{"$f":"IF(B123=\"\",\"\",IF(VLOOKUP(B123,ｴﾝﾄﾘｰ票!$E$16:$Y$215,14,0)=\"\",\"\",VLOOKUP(B123,ｴﾝﾄﾘｰ票!$E$16:$Y$215,14,0)))","v":""},null,{"$f":"IF(B123=\"\",\"\",IF(VLOOKUP(B123,ｴﾝﾄﾘｰ票!$E$16:$Y$215,18,0)=\"\",\"\",VLOOKUP(B123,ｴﾝﾄﾘｰ票!$E$16:$Y$215,18,0)))","v":""},{"$f":"IF(B123=\"\",\"\",IF(ISERROR(VLOOKUP(B123,ｴﾝﾄﾘｰ票!$BD$16:$BE$205,1,0)),\"\",VLOOKUP(B123,ｴﾝﾄﾘｰ票!$BD$16:$BE$205,2,0)))","v":""},null,{"$f":"IF(B123=\"\",\"\",IF(ISERROR(VLOOKUP(B123,ｴﾝﾄﾘｰ票!$BJ$16:$BK$205,1,0)),\"\",VLOOKUP(B123,ｴﾝﾄﾘｰ票!$BJ$16:$BK$205,2,0)))","v":""}]
[92,{"$f":"IF(ISERROR(VLOOKUP(A124*10-9+6000,ｴﾝﾄﾘｰ票!C$15:AI$215,3,0)),\"\",VLOOKUP(A124*10-9+6000,ｴﾝﾄﾘｰ票!C$15:AI$215,3,0))","v":""},{"$f":"IF(B124=\"\",\"\",CONCATENATE(VLOOKUP(B124,ｴﾝﾄﾘｰ票!$E$16:$L$215,2,0),\"　\",VLOOKUP(B124,ｴﾝﾄﾘｰ票!$E$16:$L$215,3,0)))","v":""},null,null,null,null,{"$f":"IF(B124=\"\",\"\",VLOOKUP(B124,ｴﾝﾄﾘｰ票!$E$16:$L$215,6,0))","v":""},null,{"$f":"IF(B124=\"\",\"\",IF(VLOOKUP(B124,ｴﾝﾄﾘｰ票!$E$16:$Y$215,10,0)=\"\",\"\",VLOOKUP(B124,ｴﾝﾄﾘｰ票!$E$16:$Y$215,10,0)))","v":""},null,{"$f":"IF(B124=\"\",\"\",IF(VLOOKUP(B124,ｴﾝﾄﾘｰ票!$E$16:$Y$215,14,0)=\"\",\"\",VLOOKUP(B124,ｴﾝﾄﾘｰ票!$E$16:$Y$215,14,0)))","v":""},null,{"$f":"IF(B124=\"\",\"\",IF(VLOOKUP(B124,ｴﾝﾄﾘｰ票!$E$16:$Y$215,18,0)=\"\",\"\",VLOOKUP(B124,ｴﾝﾄﾘｰ票!$E$16:$Y$215,18,0)))","v":""},{"$f":"IF(B124=\"\",\"\",IF(ISERROR(VLOOKUP(B124,ｴﾝﾄﾘｰ票!$BD$16:$BE$205,1,0)),\"\",VLOOKUP(B124,ｴﾝﾄﾘｰ票!$BD$16:$BE$205,2,0)))","v":""},null,{"$f":"IF(B124=\"\",\"\",IF(ISERROR(VLOOKUP(B124,ｴﾝﾄﾘｰ票!$BJ$16:$BK$205,1,0)),\"\",VLOOKUP(B124,ｴﾝﾄﾘｰ票!$BJ$16:$BK$205,2,0)))","v":""}]
[93,{"$f":"IF(ISERROR(VLOOKUP(A125*10-9+6000,ｴﾝﾄﾘｰ票!C$15:AI$215,3,0)),\"\",VLOOKUP(A125*10-9+6000,ｴﾝﾄﾘｰ票!C$15:AI$215,3,0))","v":""},{"$f":"IF(B125=\"\",\"\",CONCATENATE(VLOOKUP(B125,ｴﾝﾄﾘｰ票!$E$16:$L$215,2,0),\"　\",VLOOKUP(B125,ｴﾝﾄﾘｰ票!$E$16:$L$215,3,0)))","v":""},null,null,null,null,{"$f":"IF(B125=\"\",\"\",VLOOKUP(B125,ｴﾝﾄﾘｰ票!$E$16:$L$215,6,0))","v":""},null,{"$f":"IF(B125=\"\",\"\",IF(VLOOKUP(B125,ｴﾝﾄﾘｰ票!$E$16:$Y$215,10,0)=\"\",\"\",VLOOKUP(B125,ｴﾝﾄﾘｰ票!$E$16:$Y$215,10,0)))","v":""},null,{"$f":"IF(B125=\"\",\"\",IF(VLOOKUP(B125,ｴﾝﾄﾘｰ票!$E$16:$Y$215,14,0)=\"\",\"\",VLOOKUP(B125,ｴﾝﾄﾘｰ票!$E$16:$Y$215,14,0)))","v":""},null,{"$f":"IF(B125=\"\",\"\",IF(VLOOKUP(B125,ｴﾝﾄﾘｰ票!$E$16:$Y$215,18,0)=\"\",\"\",VLOOKUP(B125,ｴﾝﾄﾘｰ票!$E$16:$Y$215,18,0)))","v":""},{"$f":"IF(B125=\"\",\"\",IF(ISERROR(VLOOKUP(B125,ｴﾝﾄﾘｰ票!$BD$16:$BE$205,1,0)),\"\",VLOOKUP(B125,ｴﾝﾄﾘｰ票!$BD$16:$BE$205,2,0)))","v":""},null,{"$f":"IF(B125=\"\",\"\",IF(ISERROR(VLOOKUP(B125,ｴﾝﾄﾘｰ票!$BJ$16:$BK$205,1,0)),\"\",VLOOKUP(B125,ｴﾝﾄﾘｰ票!$BJ$16:$BK$205,2,0)))","v":""}]
[94,{"$f":"IF(ISERROR(VLOOKUP(A126*10-9+6000,ｴﾝﾄﾘｰ票!C$15:AI$215,3,0)),\"\",VLOOKUP(A126*10-9+6000,ｴﾝﾄﾘｰ票!C$15:AI$215,3,0))","v":""},{"$f":"IF(B126=\"\",\"\",CONCATENATE(VLOOKUP(B126,ｴﾝﾄﾘｰ票!$E$16:$L$215,2,0),\"　\",VLOOKUP(B126,ｴﾝﾄﾘｰ票!$E$16:$L$215,3,0)))","v":""},null,null,null,null,{"$f":"IF(B126=\"\",\"\",VLOOKUP(B126,ｴﾝﾄﾘｰ票!$E$16:$L$215,6,0))","v":""},null,{"$f":"IF(B126=\"\",\"\",IF(VLOOKUP(B126,ｴﾝﾄﾘｰ票!$E$16:$Y$215,10,0)=\"\",\"\",VLOOKUP(B126,ｴﾝﾄﾘｰ票!$E$16:$Y$215,10,0)))","v":""},null,{"$f":"IF(B126=\"\",\"\",IF(VLOOKUP(B126,ｴﾝﾄﾘｰ票!$E$16:$Y$215,14,0)=\"\",\"\",VLOOKUP(B126,ｴﾝﾄﾘｰ票!$E$16:$Y$215,14,0)))","v":""},null,{"$f":"IF(B126=\"\",\"\",IF(VLOOKUP(B126,ｴﾝﾄﾘｰ票!$E$16:$Y$215,18,0)=\"\",\"\",VLOOKUP(B126,ｴﾝﾄﾘｰ票!$E$16:$Y$215,18,0)))","v":""},{"$f":"IF(B126=\"\",\"\",IF(ISERROR(VLOOKUP(B126,ｴﾝﾄﾘｰ票!$BD$16:$BE$205,1,0)),\"\",VLOOKUP(B126,ｴﾝﾄﾘｰ票!$BD$16:$BE$205,2,0)))","v":""},null,{"$f":"IF(B126=\"\",\"\",IF(ISERROR(VLOOKUP(B126,ｴﾝﾄﾘｰ票!$BJ$16:$BK$205,1,0)),\"\",VLOOKUP(B126,ｴﾝﾄﾘｰ票!$BJ$16:$BK$205,2,0)))","v":""}]
[95,{"$f":"IF(ISERROR(VLOOKUP(A127*10-9+6000,ｴﾝﾄﾘｰ票!C$15:AI$215,3,0)),\"\",VLOOKUP(A127*10-9+6000,ｴﾝﾄﾘｰ票!C$15:AI$215,3,0))","v":""},{"$f":"IF(B127=\"\",\"\",CONCATENATE(VLOOKUP(B127,ｴﾝﾄﾘｰ票!$E$16:$L$215,2,0),\"　\",VLOOKUP(B127,ｴﾝﾄﾘｰ票!$E$16:$L$215,3,0)))","v":""},null,null,null,null,{"$f":"IF(B127=\"\",\"\",VLOOKUP(B127,ｴﾝﾄﾘｰ票!$E$16:$L$215,6,0))","v":""},null,{"$f":"IF(B127=\"\",\"\",IF(VLOOKUP(B127,ｴﾝﾄﾘｰ票!$E$16:$Y$215,10,0)=\"\",\"\",VLOOKUP(B127,ｴﾝﾄﾘｰ票!$E$16:$Y$215,10,0)))","v":""},null,{"$f":"IF(B127=\"\",\"\",IF(VLOOKUP(B127,ｴﾝﾄﾘｰ票!$E$16:$Y$215,14,0)=\"\",\"\",VLOOKUP(B127,ｴﾝﾄﾘｰ票!$E$16:$Y$215,14,0)))","v":""},null,{"$f":"IF(B127=\"\",\"\",IF(VLOOKUP(B127,ｴﾝﾄﾘｰ票!$E$16:$Y$215,18,0)=\"\",\"\",VLOOKUP(B127,ｴﾝﾄﾘｰ票!$E$16:$Y$215,18,0)))","v":""},{"$f":"IF(B127=\"\",\"\",IF(ISERROR(VLOOKUP(B127,ｴﾝﾄﾘｰ票!$BD$16:$BE$205,1,0)),\"\",VLOOKUP(B127,ｴﾝﾄﾘｰ票!$BD$16:$BE$205,2,0)))","v":""},null,{"$f":"IF(B127=\"\",\"\",IF(ISERROR(VLOOKUP(B127,ｴﾝﾄﾘｰ票!$BJ$16:$BK$205,1,0)),\"\",VLOOKUP(B127,ｴﾝﾄﾘｰ票!$BJ$16:$BK$205,2,0)))","v":""}]
[96,{"$f":"IF(ISERROR(VLOOKUP(A128*10-9+6000,ｴﾝﾄﾘｰ票!C$15:AI$215,3,0)),\"\",VLOOKUP(A128*10-9+6000,ｴﾝﾄﾘｰ票!C$15:AI$215,3,0))","v":""},{"$f":"IF(B128=\"\",\"\",CONCATENATE(VLOOKUP(B128,ｴﾝﾄﾘｰ票!$E$16:$L$215,2,0),\"　\",VLOOKUP(B128,ｴﾝﾄﾘｰ票!$E$16:$L$215,3,0)))","v":""},null,null,null,null,{"$f":"IF(B128=\"\",\"\",VLOOKUP(B128,ｴﾝﾄﾘｰ票!$E$16:$L$215,6,0))","v":""},null,{"$f":"IF(B128=\"\",\"\",IF(VLOOKUP(B128,ｴﾝﾄﾘｰ票!$E$16:$Y$215,10,0)=\"\",\"\",VLOOKUP(B128,ｴﾝﾄﾘｰ票!$E$16:$Y$215,10,0)))","v":""},null,{"$f":"IF(B128=\"\",\"\",IF(VLOOKUP(B128,ｴﾝﾄﾘｰ票!$E$16:$Y$215,14,0)=\"\",\"\",VLOOKUP(B128,ｴﾝﾄﾘｰ票!$E$16:$Y$215,14,0)))","v":""},null,{"$f":"IF(B128=\"\",\"\",IF(VLOOKUP(B128,ｴﾝﾄﾘｰ票!$E$16:$Y$215,18,0)=\"\",\"\",VLOOKUP(B128,ｴﾝﾄﾘｰ票!$E$16:$Y$215,18,0)))","v":""},{"$f":"IF(B128=\"\",\"\",IF(ISERROR(VLOOKUP(B128,ｴﾝﾄﾘｰ票!$BD$16:$BE$205,1,0)),\"\",VLOOKUP(B128,ｴﾝﾄﾘｰ票!$BD$16:$BE$205,2,0)))","v":""},null,{"$f":"IF(B128=\"\",\"\",IF(ISERROR(VLOOKUP(B128,ｴﾝﾄﾘｰ票!$BJ$16:$BK$205,1,0)),\"\",VLOOKUP(B128,ｴﾝﾄﾘｰ票!$BJ$16:$BK$205,2,0)))","v":""}]
[97,{"$f":"IF(ISERROR(VLOOKUP(A129*10-9+6000,ｴﾝﾄﾘｰ票!C$15:AI$215,3,0)),\"\",VLOOKUP(A129*10-9+6000,ｴﾝﾄﾘｰ票!C$15:AI$215,3,0))","v":""},{"$f":"IF(B129=\"\",\"\",CONCATENATE(VLOOKUP(B129,ｴﾝﾄﾘｰ票!$E$16:$L$215,2,0),\"　\",VLOOKUP(B129,ｴﾝﾄﾘｰ票!$E$16:$L$215,3,0)))","v":""},null,null,null,null,{"$f":"IF(B129=\"\",\"\",VLOOKUP(B129,ｴﾝﾄﾘｰ票!$E$16:$L$215,6,0))","v":""},null,{"$f":"IF(B129=\"\",\"\",IF(VLOOKUP(B129,ｴﾝﾄﾘｰ票!$E$16:$Y$215,10,0)=\"\",\"\",VLOOKUP(B129,ｴﾝﾄﾘｰ票!$E$16:$Y$215,10,0)))","v":""},null,{"$f":"IF(B129=\"\",\"\",IF(VLOOKUP(B129,ｴﾝﾄﾘｰ票!$E$16:$Y$215,14,0)=\"\",\"\",VLOOKUP(B129,ｴﾝﾄﾘｰ票!$E$16:$Y$215,14,0)))","v":""},null,{"$f":"IF(B129=\"\",\"\",IF(VLOOKUP(B129,ｴﾝﾄﾘｰ票!$E$16:$Y$215,18,0)=\"\",\"\",VLOOKUP(B129,ｴﾝﾄﾘｰ票!$E$16:$Y$215,18,0)))","v":""},{"$f":"IF(B129=\"\",\"\",IF(ISERROR(VLOOKUP(B129,ｴﾝﾄﾘｰ票!$BD$16:$BE$205,1,0)),\"\",VLOOKUP(B129,ｴﾝﾄﾘｰ票!$BD$16:$BE$205,2,0)))","v":""},null,{"$f":"IF(B129=\"\",\"\",IF(ISERROR(VLOOKUP(B129,ｴﾝﾄﾘｰ票!$BJ$16:$BK$205,1,0)),\"\",VLOOKUP(B129,ｴﾝﾄﾘｰ票!$BJ$16:$BK$205,2,0)))","v":""}]
[98,{"$f":"IF(ISERROR(VLOOKUP(A130*10-9+6000,ｴﾝﾄﾘｰ票!C$15:AI$215,3,0)),\"\",VLOOKUP(A130*10-9+6000,ｴﾝﾄﾘｰ票!C$15:AI$215,3,0))","v":""},{"$f":"IF(B130=\"\",\"\",CONCATENATE(VLOOKUP(B130,ｴﾝﾄﾘｰ票!$E$16:$L$215,2,0),\"　\",VLOOKUP(B130,ｴﾝﾄﾘｰ票!$E$16:$L$215,3,0)))","v":""},null,null,null,null,{"$f":"IF(B130=\"\",\"\",VLOOKUP(B130,ｴﾝﾄﾘｰ票!$E$16:$L$215,6,0))","v":""},null,{"$f":"IF(B130=\"\",\"\",IF(VLOOKUP(B130,ｴﾝﾄﾘｰ票!$E$16:$Y$215,10,0)=\"\",\"\",VLOOKUP(B130,ｴﾝﾄﾘｰ票!$E$16:$Y$215,10,0)))","v":""},null,{"$f":"IF(B130=\"\",\"\",IF(VLOOKUP(B130,ｴﾝﾄﾘｰ票!$E$16:$Y$215,14,0)=\"\",\"\",VLOOKUP(B130,ｴﾝﾄﾘｰ票!$E$16:$Y$215,14,0)))","v":""},null,{"$f":"IF(B130=\"\",\"\",IF(VLOOKUP(B130,ｴﾝﾄﾘｰ票!$E$16:$Y$215,18,0)=\"\",\"\",VLOOKUP(B130,ｴﾝﾄﾘｰ票!$E$16:$Y$215,18,0)))","v":""},{"$f":"IF(B130=\"\",\"\",IF(ISERROR(VLOOKUP(B130,ｴﾝﾄﾘｰ票!$BD$16:$BE$205,1,0)),\"\",VLOOKUP(B130,ｴﾝﾄﾘｰ票!$BD$16:$BE$205,2,0)))","v":""},null,{"$f":"IF(B130=\"\",\"\",IF(ISERROR(VLOOKUP(B130,ｴﾝﾄﾘｰ票!$BJ$16:$BK$205,1,0)),\"\",VLOOKUP(B130,ｴﾝﾄﾘｰ票!$BJ$16:$BK$205,2,0)))","v":""}]
[99,{"$f":"IF(ISERROR(VLOOKUP(A131*10-9+6000,ｴﾝﾄﾘｰ票!C$15:AI$215,3,0)),\"\",VLOOKUP(A131*10-9+6000,ｴﾝﾄﾘｰ票!C$15:AI$215,3,0))","v":""},{"$f":"IF(B131=\"\",\"\",CONCATENATE(VLOOKUP(B131,ｴﾝﾄﾘｰ票!$E$16:$L$215,2,0),\"　\",VLOOKUP(B131,ｴﾝﾄﾘｰ票!$E$16:$L$215,3,0)))","v":""},null,null,null,null,{"$f":"IF(B131=\"\",\"\",VLOOKUP(B131,ｴﾝﾄﾘｰ票!$E$16:$L$215,6,0))","v":""},null,{"$f":"IF(B131=\"\",\"\",IF(VLOOKUP(B131,ｴﾝﾄﾘｰ票!$E$16:$Y$215,10,0)=\"\",\"\",VLOOKUP(B131,ｴﾝﾄﾘｰ票!$E$16:$Y$215,10,0)))","v":""},null,{"$f":"IF(B131=\"\",\"\",IF(VLOOKUP(B131,ｴﾝﾄﾘｰ票!$E$16:$Y$215,14,0)=\"\",\"\",VLOOKUP(B131,ｴﾝﾄﾘｰ票!$E$16:$Y$215,14,0)))","v":""},null,{"$f":"IF(B131=\"\",\"\",IF(VLOOKUP(B131,ｴﾝﾄﾘｰ票!$E$16:$Y$215,18,0)=\"\",\"\",VLOOKUP(B131,ｴﾝﾄﾘｰ票!$E$16:$Y$215,18,0)))","v":""},{"$f":"IF(B131=\"\",\"\",IF(ISERROR(VLOOKUP(B131,ｴﾝﾄﾘｰ票!$BD$16:$BE$205,1,0)),\"\",VLOOKUP(B131,ｴﾝﾄﾘｰ票!$BD$16:$BE$205,2,0)))","v":""},null,{"$f":"IF(B131=\"\",\"\",IF(ISERROR(VLOOKUP(B131,ｴﾝﾄﾘｰ票!$BJ$16:$BK$205,1,0)),\"\",VLOOKUP(B131,ｴﾝﾄﾘｰ票!$BJ$16:$BK$205,2,0)))","v":""}]
[100,{"$f":"IF(ISERROR(VLOOKUP(A132*10-9+6000,ｴﾝﾄﾘｰ票!C$15:AI$215,3,0)),\"\",VLOOKUP(A132*10-9+6000,ｴﾝﾄﾘｰ票!C$15:AI$215,3,0))","v":""},{"$f":"IF(B132=\"\",\"\",CONCATENATE(VLOOKUP(B132,ｴﾝﾄﾘｰ票!$E$16:$L$215,2,0),\"　\",VLOOKUP(B132,ｴﾝﾄﾘｰ票!$E$16:$L$215,3,0)))","v":""},null,null,null,null,{"$f":"IF(B132=\"\",\"\",VLOOKUP(B132,ｴﾝﾄﾘｰ票!$E$16:$L$215,6,0))","v":""},null,{"$f":"IF(B132=\"\",\"\",IF(VLOOKUP(B132,ｴﾝﾄﾘｰ票!$E$16:$Y$215,10,0)=\"\",\"\",VLOOKUP(B132,ｴﾝﾄﾘｰ票!$E$16:$Y$215,10,0)))","v":""},null,{"$f":"IF(B132=\"\",\"\",IF(VLOOKUP(B132,ｴﾝﾄﾘｰ票!$E$16:$Y$215,14,0)=\"\",\"\",VLOOKUP(B132,ｴﾝﾄﾘｰ票!$E$16:$Y$215,14,0)))","v":""},null,{"$f":"IF(B132=\"\",\"\",IF(VLOOKUP(B132,ｴﾝﾄﾘｰ票!$E$16:$Y$215,18,0)=\"\",\"\",VLOOKUP(B132,ｴﾝﾄﾘｰ票!$E$16:$Y$215,18,0)))","v":""},{"$f":"IF(B132=\"\",\"\",IF(ISERROR(VLOOKUP(B132,ｴﾝﾄﾘｰ票!$BD$16:$BE$205,1,0)),\"\",VLOOKUP(B132,ｴﾝﾄﾘｰ票!$BD$16:$BE$205,2,0)))","v":""},null,{"$f":"IF(B132=\"\",\"\",IF(ISERROR(VLOOKUP(B132,ｴﾝﾄﾘｰ票!$BJ$16:$BK$205,1,0)),\"\",VLOOKUP(B132,ｴﾝﾄﾘｰ票!$BJ$16:$BK$205,2,0)))","v":""}]

{"sheet":"氏名ﾃﾞｰﾀ","index":8,"n_rows":1297,"n_cols":14,"rows_kept":1297,"cut":false,"hidden":true,"merged":[]}
[0,"氏名データ"]
[0]
[0,"５桁","姓","名","ﾌﾘｶﾞﾅ（姓）","ﾌﾘｶﾞﾅ（名）","性別",null,"学年",null,null,{"$f":"LEFT(H3,4)","v":""},{"$f":"MID(H3,5,2)","v":""},{"$f":"RIGHT(H3,2)","v":""}]
[1,40106,"小林","広人","コバヤシ","ヒロト","男",null,3]
[2,40107,"田中","亮也","タナカ","リョウヤ","男",null,3]
[3,40108,"佐々木","薫","ササキ","カオル","男",null,3]
[4,40109,"中村","龍之介","ナカムラ","リュウノスケ","男",null,3]
[5,40110,"仲嶋","裕希","ナカジマ","ヒロキ","男",null,3]
[6,40111,"金子","晃大","カネコ","アキヒロ","男",null,3]
[7,40112,"恩田","健吾","オンダ","ケンゴ","男",null,3]
[8,40113,"倪","啓源","ニイ","チイゲン","男",null,3]
[9,40114,"浮谷","英典","ウキヤ","ヒデノリ","男",null,3]
[10,40115,"高橋","涼","タカハシ","リョウ","男",null,3]
[11,40116,"野村","海斗","ノムラ","カイト","男",null,3]
[12,40117,"小松","俊介","コマツ","シュンスケ","男",null,2]
[13,40118,"西原","隆大","ニシハラ","リュウダイ","男",null,2]
[14,40119,"奥田","大統","オクダ","ヒロト","男",null,2]
[15,40120,"増田","翼","マスダ","ツバサ","男",null,2]
[16,40121,"小野田","吉兆","オノダ","キヨシ","男",null,2]
[17,40122,"山﨑","貴之","ヤマザキ","タカユキ","男",null,2]
[18,40123,"畠山","裕亮","ハタケヤマ","ユウスケ","男",null,2]
[19,40124,"稲垣","怜","イナガキ","レイ","男",null,2]
[20,40125,"欧張","沢世","オウチョウ","タクヨ","男",null,2]
[21,40126,"香山","怜太","カヤマ","リョウタ","男",null,2]
[22,40127,"種房","豪","タネフサ","ゴウ","男",null,3]
[23,40128,"丸田","将太郎","マルタ","ショウタロウ","男",null,3]
[24,40129,"上田","楽","ウエダ","ガク","男",null,1]
[25,40130,"佐野","小次郎","サノ","コジロウ","男",null,1]
[26,40131,"下出","大智","シモデ","ダイチ","男",null,1]
[27,40132,"成田","楽","ナリタ","ガク","男",null,1]
[28,40133,"松村","薫","マツムラ","カオル","男",null,1]
[29,40134,"中西","凛","ナカニシ","リン","男",null,2]
[30,40201,"荻野","雄渡","オギノ","ユウト","男",null,1]
[31,40202,"岸田","拓馬","キシダ","タクマ","男",null,1]
[32,40203,"高橋","優希","タカハシ","ユウキ","男",null,1]
[33,40237,"奥山","暢公","オクヤマ","ノブキ","男",null,3]
[34,40238,"佐藤","宏樹","サトウ","ヒロキ","男",null,3]
[35,40241,"山本","将大","ヤマモト","ショウタ","男",null,3]
[36,40242,"青柳","俊吾","アオヤギ","シュンゴ","男",null,2]
[37,40243,"池端","諒治","イケバタ","リョウジ","男",null,2]
[38,40245,"國分","裕介","コクブン","ユウスケ","男",null,2]
[39,40246,"近藤","智隆","コンドウ","トモタカ","男",null,2]
[40,40247,"佐藤","一也","サトウ","イチヤ","男",null,2]
[41,40248,"高山","兼輔","タカヤマ","ケンスケ","男",null,2]
[42,40250,"渡邊","英世","ワタナベ","ヒデヨ","男",null,2]
[43,40251,"居川","三美","イカワ","ミミ","女",null,2]
[44,40252,"上田","笑鈴","ウエダ","エミ","女",null,2]
[45,40253,"折方","結月","オリカタ","ユヅキ","女",null,2]
[46,40254,"渡辺","美月","ワタナベ","ミツキ","女",null,2]
[47,40255,"石澤","みの里","イシザワ","ミノリ","女",null,1]
[48,40256,"松崎","花乃","マツザキ","カノ","女",null,1]
[49,40257,"川瀬","湖夏","カワセ","コナツ","女",null,1]
[50,40294,"関口","真央","セキグチ","マオ","女",null,3]
[51,40296,"内田","花凜","ウチダ","カリン","女",null,3]
[52,40297,"倉林","ひかる","クラバヤシ","ヒカル","女",null,3]
[53,40501,"伊藤","基希","イトウ","モトキ","男",null,1]
[54,40502,"遠藤","誠也","エンドウ","セイヤ","男",null,1]
[55,40503,"金子","陽空","カネコ","ハルク","男",null,1]
[56,40504,"前場","直人","マエバ","ナオト","男",null,1]
[57,40536,"西山","耕太","ニシヤマ","コウタ","男",null,3]
[58,40537,"細田","光翼","ホソダ","ツバサ","男",null,3]
[59,40541,"石河","輝一","イシカワ","キイチ","男",null,3]
[60,40545,"東","耀太","ヒガシ","ヨウタ","男",null,3]
[61,40546,"木所","大起","キドコロ","ダイキ","男",null,2]
[62,40547,"菅田","雄大","スゲタ","ユウダイ","男",null,2]
[63,40548,"岸田","洵太","キシダ","ジュンタ","男",null,2]
[64,40551,"小田","花乃","オダ","カノ","女",null,3]
[65,40552,"森重","叶星","モリシゲ","カナセ","女",null,2]
[66,40553,"奥井","ゆりあ","オクイ","ユリア","女",null,1]
[67,40554,"高橋","凛","タカハシ","リン","女",null,1]
[68,40555,"萩谷","萌梨","ハギヤ","モエリ","女",null,1]
[69,40556,"吉田","真衣","ヨシダ","マイ","女",null,3]
[70,40601,"大野","健太郎","オオノ","ケンタロウ","男",null,1]
[71,40602,"工藤","広揮","クドウ","ヒロキ","男",null,1]
[72,40603,"本田","士英","ホンダ","ジェイ","男",null,1]
[73,40604,"峯岸","太朗","ミネギシ","タロウ","男",null,1]
[74,40605,"山口","蓮太","ヤマグチ","レンタ","男",null,1]
[75,40606,"横田","博貴","ヨコタ","ヒロキ","男",null,1]
[76,40610,"伊藤","大将","イトウ","ダイスケ","男",null,3]
[77,40611,"吉野","雄太","ヨシノ","ユウタ","男",null,3]
[78,40612,"山田","遥輝","ヤマダ","ハルキ","男",null,3]
[79,40613,"山中","謙吾","ヤマナカ","ケンゴ","男",null,3]
[80,40614,"吉光寺","健介","キッコウジ","ケンスケ","男",null,3]
[81,40616,"狩俣","竜馬","カリマタ","リョウマ","男",null,3]
[82,40621,"岩城","啓吾","イワキ","ケイゴ","男",null,2]
[83,40622,"中里","浩太","ナカザト","コウタ","男",null,2]
[84,40623,"杉山","豪","スギヤマ","ゴウ","男",null,2]
[85,40624,"五十嵐","伸","イガラシ","シン","男",null,2]
[86,40625,"吉永","湧也","ヨシナガ","ユウヤ","男",null,2]
[87,40626,"山本","康生","ヤマモト","コウセイ","男",null,2]
[88,40627,"宮下","裕翔","ミヤシタ","ユウショウ","男",null,2]
[89,40628,"福井","歩","フクイ","アユム","男",null,2]
[90,40629,"門馬","由翔","モンマ","ユイト","男",null,2]
[91,40630,"國場","浩生","クニバ","コウセイ","男",null,2]
[92,40631,"池田","琉斗","イケダ","リュウト","男",null,2]
[93,40632,"郡司","卓磨","グンジ","タクマ","男",null,2]
[94,40633,"高石","明良","タカイシ","アキラ","男",null,2]
[95,40651,"大場","愛鈴","オオバ","アイリン","女",null,1]
[96,40670,"大根","汐菜","オオネ","シオナ","女",null,3]
[97,40671,"松橋","明里","マツハシ","アカリ","女",null,3]
[98,40691,"瀬戸","やや","セト","ヤヤ","女",null,2]
[99,40692,"氏家","彩優莉","ウジイエ","アユリ","女",null,2]
[100,40693,"中西","杏梨","ナカニシ","アンリ","女",null,2]
[101,40910,"川口","琉聖","カワグチ","リュウセイ","男",null,1]
[102,40911,"諏訪戸","皇","スワト","アツキ","男",null,1]
[103,40912,"計良","颯","ケイラ","ハヤト","男",null,1]
[104,40913,"藤原","心路","フジワラ","ココロ","男",null,1]
[105,40914,"深澤","怜","フカサワ","レイ","男",null,1]
[106,40915,"和智","路博","ワチ","ミチヒロ","男",null,1]
[107,40916,"永野","幸輝","ナガノ","コウキ","男",null,3]
[108,40920,"宮本","幹士","ミヤモト","カント","男",null,2]
[109,40921,"千葉","大寛","チバ","トモヒロ","男",null,2]
[110,40922,"藤野","悠斗","フジノ","ユウト","男",null,2]
[111,40925,"太田","流空","オオタ","リク","男",null,2]
[112,40951,"穴吹","愛子","アナブキ","アイコ","女",null,1]
[113,40952,"武藤","碧輝","ムトウ","タマキ","女",null,1]
[114,40955,"金田","珠莉","カネダ","ジュリ","女",null,3]
[115,41010,"小澤","隼也","オザワ","ジュンヤ","男",null,3]
[116,41012,"板倉","伶太","イタクラ","レイタ","男",null,3]
[117,41013,"中谷","友亮","ナカタニ","ユウスケ","男",null,3]
[118,41014,"黒野","神太","クロノ","カンタ","男",null,3]
[119,41015,"井上","欣己","イノウエ","ヨシキ","男",null,3]
[120,41016,"島田","翔","シマダ","ショウ","男",null,3]
[121,41018,"小川","大輔","オガワ","ダイスケ","男",null,3]
[122,41019,"小林","隼也","コバヤシ","シュンヤ","男",null,3]
[123,41020,"山田","啓翔","ヤマダ","ケイト","男",null,2]
[124,41021,"足立","拓也","アダチ","タクヤ","男",null,2]
[125,41022,"大森","瑛樹","オオモリ","エイジュ","男",null,2]
[126,41023,"原","福人","ハラ","フクト","男",null,2]
[127,41024,"佐久間","共平","サクマ","キョウヘイ","男",null,2]
[128,41025,"細野","眞平","ホソノ","シンペイ","男",null,2]
[129,41026,"佐藤","桜典","サトウ","オウスケ","男",null,1]
[130,41027,"原","陽太","ハラ","ヨウタ","男",null,1]
[131,41028,"轟","歩巳","トドロキ","アユミ","男",null,1]
[132,41029,"秋山","祥汰","アキヤマ","ショウタ","男",null,1]
[133,41030,"若槻","大翔","ワカツキ","ヒロト","男",null,1]
[134,41058,"浦野","珠緒","ウラノ","タマオ","女",null,3]
[135,41059,"梅野","智子","ウメノ","サトコ","女",null,3]
[136,41060,"瀬畑","悠","セバタ","ハルカ","女",null,3]
[137,41061,"小牧","華","コマキ","ハナ","女",null,3]
[138,41062,"石塚","碧","イシヅカ","アオイ","女",null,3]
[139,41063,"中川","万葉","ナカガワ","マヨ","女",null,3]
[140,41064,"山田","ひろか","ヤマダ","ヒロカ","女",null,2]
[141,41065,"松田","涼花","マツダ","スズカ","女",null,2]
[142,41066,"廣瀬","花","ヒロセ","ハナ","女",null,2]
[143,41067,"古賀","ゆりの","コガ","ユリノ","女",null,2]
[144,41068,"キッド","映恋","キッド","エレン","女",null,2]
[145,41069,"藤倉","由菜","フジクラ","ユナ","女",null,3]
[146,41070,"三浦","友","ミウラ","トモ","女",null,1]
[147,41071,"柳田","夏希","ヤナギダ","ナツキ","女",null,1]
[148,41072,"小野田","美咲","オノダ","ミサキ","女",null,1]
[149,41073,"泉","琴美","イズミ","コトミ","女",null,1]
[150,41074,"牟田","夏菜","ムタ","カナ","女",null,1]
[151,41075,"小路","真穂","コウジ","マホ","女",null,1]
[152,41076,"伊藤","凜","イトウ","リン","女",null,1]
[153,41077,"小倉","樹音","オグラ","ジュネ","女",null,1]
[154,41078,"坂本","香菜子","サカモト","カナコ","女",null,1]
[155,41079,"石森","花奈","イシモリ","ハナナ","女",null,1]
[156,41080,"遠藤","茉柚子","エンドウ","マユコ","女",null,1]
[157,41081,"岡本","明日香","オカモト","アスカ","女",null,1]
[158,41082,"野口","遥加","ノグチ","ハルカ","女",null,1]
[159,41083,"北島","樹里","キタジマ","ジュリ","女",null,2]
[160,41113,"森田","隼大","モリタ","ハヤト","男",null,3]
[161,41114,"山田","聖樹","ヤマダ","セイジュ","男",null,3]
[162,41115,"浅野","智紀","アサノ","トモキ","男",null,2]
[163,41117,"片桐","七海","カタギリ","ナナミ","男",null,2]
[164,41118,"白熊","大義","シラクマ","ヒロヨシ","男",null,2]
[165,41119,"髙木","賢","タカギ","ケン","男",null,2]
[166,41120,"古谷","祐太","フルヤ","ユウタ","男",null,2]
[167,41121,"山村","翔","ヤマムラ","ショウ","男",null,2]
[168,41122,"秋山","広樹","アキヤマ","ヒロキ","男",null,1]
[169,41123,"東","晃三","アズマ","コウゾウ","男",null,1]
[170,41124,"小西","薫汰","コニシ","クンタ","男",null,1]
[171,41125,"冨田","秀寿","トミタ","ヒデトシ","男",null,1]
[172,41166,"古川","優里","フルカワ","ユウリ","女",null,3]
[173,41167,"坂倉","優実","サカクラ","ユウミ","女",null,2]
[174,41168,"栗原","日向葵","クリハラ","ヒナタ","女",null,1]
[175,41451,"小笠原","柚佳","オガサワラ","ユカ","女",null,1]
[176,41452,"崎村","美夢","サキムラ","ミユ","女",null,1]
[177,41453,"荘司","多綺","ショウジ","タキ","女",null,1]
[178,41454,"戸松","沙英","トマツ","サエ","女",null,1]
[179,41455,"内藤","美歩","ナイトウ","ミホ","女",null,1]
[180,41456,"西山","茉帆香","ニシヤマ","マホカ","女",null,1]
[181,41457,"蜂須賀","優里","ハチスカ","ユウリ","女",null,1]
[182,41458,"三木","はるか","ミキ","ハルカ","女",null,1]
[183,41481,"飯田","はるか","イイダ","ハルカ","女",null,2]
[184,41482,"加藤","遥香","カトウ","ハルカ","女",null,2]
[185,41483,"河野","紋佳","カワノ","アヤカ","女",null,2]
[186,41484,"鬼頭","舞子","キトウ","マコ","女",null,2]
[187,41485,"小杉","佳穂","コスギ","カホ","女",null,2]
[188,41486,"小林","春奈","コバヤシ","ハルナ","女",null,2]
[189,41488,"定山","愛梨","サダヤマ","アイリ","女",null,2]
[190,41489,"鈴木","栄","スズキ","サカエ","女",null,2]
[191,41490,"須田","わか子","スダ","ワカコ","女",null,2]
[192,41491,"古橋","美玖","フルハシ","ミク","女",null,2]
[193,41492,"桃井","映美里","モモイ","エミリ","女",null,2]
[194,41501,"吾郷","宜哉","アゴウ","ヨシヤ","男",null,3]
[195,41502,"市田","太一","イチダ","タイチ","男",null,3]
[196,41503,"川村","龍馬","カワムラ","リョウマ","男",null,3]
[197,41504,"水田","英吾","ミズタ","エイゴ","男",null,3]
[198,41505,"山本","健太","ヤマモト","ケンタ","男",null,3]
[199,41506,"安宅","海生","アタカ","カイセイ","男",null,2]
[200,41507,"小池","光輝","コイケ","コウキ","男",null,2]
[201,41508,"武久","右京","タケヒサ","ウキョウ","男",null,2]
[202,41509,"山本","真輝","ヤマモト","マキ","男",null,2]
[203,41510,"五十嵐","悠宇","イガラシ","ユウ","男",null,1]
[204,41511,"石田","龍成","イシダ","リュウセイ","男",null,1]
[205,41512,"木村","悠冴","キムラ","ユウゴ","男",null,1]
[206,41513,"熊本","健吾","クマモト","ケンゴ","男",null,1]
[207,41514,"才藤","幸太","サイトウ","コウタ","男",null,1]
[208,41515,"田中","暎義","タナカ","ヒデヨシ","男",null,1]
[209,41516,"西本","青空","ニシモト","ソラ","男",null,1]
[210,41517,"増本","大樹","マスモト","タイキ","男",null,1]
[211,41518,"柳田","将汰","ヤナギダ","ショウタ","男",null,1]
[212,41751,"門田","奈津実","カドタ","ナツミ","女",null,3]
[213,41752,"髙野","珠里","タカノ","ジュリ","女",null,3]
[214,41753,"福井","優里香","フクイ","ユリカ","女",null,3]
[215,41754,"二岡","沙羅","フタオカ","サラ","女",null,3]
[216,41755,"宮内","萌音","ミヤウチ","モネ","女",null,3]
[217,41756,"渡辺","彩葉","ワタナベ","アヤハ","女",null,3]
[218,41757,"中戸川","沙理","ナカトガワ","サリ","女",null,3]
[219,41758,"田村","優菜","タムラ","ユウナ","女",null,3]
[220,41759,"Matlok","Fiona","マトルック","フィオナ","女",null,2]
[221,41760,"荒井","雛子","アライ","ヒナコ","女",null,2]
[222,41762,"米田","希","ヨネタ","ノゾミ","女",null,2]
[223,41791,"高柳","萌","タカヤナギ","モエ","女",null,1]
[224,41792,"石渡","都","イシワタ","ミヤコ","女",null,1]
[225,41793,"岡垣","茉莉","オカガキ","マリ","女",null,1]
[226,41794,"鈴木","涼香","スズキ","リョウカ","女",null,1]
[227,41795,"草深","有理","クサフカ","ユリ","女",null,1]
[228,41796,"伊藤","花鈴","イトウ","カリン","女",null,1]
[229,41797,"丸山","真奈","マルヤマ","マナ","女",null,1]
[230,41798,"堤","あかり","ツツミ","アカリ","女",null,1]
[231,41863,"小原","千加","コハラ","チカ","女",null,3]
[232,41864,"土屋","穂香","ツチヤ","ホノカ","女",null,3]
[233,41865,"荒木","玲香","アラキ","レイカ","女",null,3]
[234,41866,"船曳","有彩","カナビキ","アリサ","女",null,3]
[235,41867,"渡邊","亜美","ワタナベ","アミ","女",null,3]
[236,41868,"髙橋","さつき","タカハシ","サツキ","女",null,2]
[237,41869,"秋山","千種","アキヤマ","チグサ","女",null,2]
[238,41870,"加藤","美海","カトウ","ウミ","女",null,2]
[239,41871,"川原","南美","カワハラ","ミナミ","女",null,2]
[240,41872,"北原","綾","キタハラ","リョウ","女",null,2]
[241,41961,"赤坂","ひのき","アカサカ","ヒノキ","女",null,2]
[242,41962,"栗岡","章代","クリオカ","アキヨ","女",null,2]
[243,41963,"中山","穂春","ナカヤマ","ホハル","女",null,2]
[244,41964,"保坂","亜希","ホサカ","アキ","女",null,2]
[245,41965,"奥","南々帆","オク","ナナホ","女",null,1]
[246,41966,"小林","柚希","コバヤシ","ユズキ","女",null,1]
[247,41967,"宮尾","幸乃","ミヤオ","ユキノ","女",null,1]
[248,41968,"三浦","菜々華","ミウラ","ナナカ","女",null,1]
[249,42001,"安藤","広海","アンドウ","ヒロミ","男",null,2]
[250,42002,"若林","樹","ワカバヤシ","イツキ","男",null,2]
[251,42003,"岩本","景星","イワモト","ケイセイ","男",null,1]
[252,42004,"古田島","直希","コタジマ","ナオキ","男",null,2]
[253,42005,"田中","友喜","タナカ","ユウキ","男",null,2]
[254,42006,"内田","賢利","ウチダ","ケント","男",null,2]
[255,42007,"江澤","幸紀","エザワ","ユキノリ","男",null,2]
[256,42008,"西山","哲平","ニシヤマ","テッペイ","男",null,2]
[257,42009,"大橋","陸","オオハシ","リク","男",null,2]
[258,42010,"片渕","良太","カタブチ","リョウタ","男",null,2]
[259,42011,"北村","陽音","キタムラ","ハルト","男",null,2]
[260,42012,"佐藤","勇介","サトウ","ユウスケ","男",null,2]
[261,42013,"澤田","和也","サワダ","カズヤ","男",null,2]
[262,42014,"小山","颯太","コヤマ","ソウタ","男",null,1]
[263,42015,"太田","智輝","オオタ","トモキ","男",null,2]
[264,42016,"岡本","駿平","オカモト","シュンペイ","男",null,1]
[265,42017,"山﨑","浩作","ヤマザキ","コウサク","男",null,2]
[266,42018,"潮田","大晟","ウシオダ","タイセイ","男",null,2]
[267,42019,"松島","健留","マツシマ","タケル","男",null,2]
[268,42020,"田村","諒","タムラ","リョウ","男",null,1]
[269,42021,"田丸","颯","タマル","ソウ","男",null,1]
[270,42022,"金谷","紘大","カナヤ","コウタ","男",null,1]
[271,42023,"根本","勇紀","ネモト","ユウキ","男",null,1]
[272,42024,"鎌谷","翔太","カマタニ","ショウタ","男",null,1]
[273,42025,"浅井","諒","アサイ","リョウ","男",null,1]
[274,42026,"齋藤","薫","サイトウ","カオル","男",null,1]
[275,42027,"與古田","葵京","ヨコタ","キキョウ","男",null,1]
[276,42028,"柴田","賢吾","シバタ","ケンゴ","男",null,3]
[277,42029,"間壁","之英瑠","マカベ","ノエル","男",null,3]
[278,42030,"川野","秀虎","カワノ","ヒデトラ","男",null,3]
[279,42031,"梅舘","壮真","ウメダテ","ソウマ","男",null,3]
[280,42032,"肥田","圭太","ヒダ","ケイタ","男",null,1]
[281,42033,"皆木","晴","ミナキ","ハル","男",null,3]
[282,42034,"吉永","澪希","ヨシナガ","レキ","男",null,3]
[283,42035,"鳴海","友哉","ナルミ","トモヤ","男",null,3]
[284,42036,"市來","太勢","イチキ","タイセイ","男",null,3]
[285,42037,"大田","滉貴","オオタ","コウキ","男",null,1]
[286,42038,"粕谷","豪","カスヤ","ゴウ","男",null,3]
[287,42039,"権守","凌","ゴンモリ","リョウ","男",null,3]
[288,42040,"田畑","功之介","タバタ","コウノスケ","男",null,3]
[289,42041,"尾形","俊介","オガタ","シュンスケ","男",null,3]
[290,42042,"小島","楓","コジマ","カエデ","男",null,1]
[291,42043,"松田","龍之介","マツダ","リュウノスケ","男",null,1]
[292,42044,"内田","智也","ウチダ","トモヤ","男",null,3]
[293,42045,"石松","大輝","イシマツ","ダイキ","男",null,1]
[294,42046,"小野","貴海","オノ","アツミ","男",null,1]
[295,42047,"加藤","蒼麻","カトウ","ソウマ","男",null,1]
[296,42048,"大関","杏慈","オオゼキ","アンジ","男",null,1]
[297,42049,"佐野","慎之介","サノ","シンノスケ","男",null,1]
[298,42057,"井坂","友香","イサカ","ユカ","女",null,3]
[299,42058,"佐竹","知夏","サタケ","チナツ","女",null,3]
[300,42059,"田口","茉弥","タグチ","マヤ","女",null,3]
[301,42060,"大塚","琳","オオツカ","リン","女",null,3]
[302,42061,"渡邉","友梨","ワタナベ","ユウリ","女",null,3]
[303,42062,"蕪木","沙耶","カブラギ","サヤ","女",null,3]
[304,42063,"渡邊","麻友子","ワタナベ","マユコ","女",null,3]
[305,42064,"北澤","遥香","キタザワ","ハルカ","女",null,3]
[306,42067,"中野","なみち","ナカノ","ナミチ","女",null,2]
[307,42068,"笹岡","未咲","ササオカ","ミサキ","女",null,2]
[308,42069,"村","朋香","ムラ","トモカ","女",null,2]
[309,42070,"渡邉","帆南","ワタナベ","ホナミ","女",null,2]
[310,42072,"須藤","櫻","スドウ","サクラ","女",null,2]
[311,42073,"深澤","実鈴","フカサワ","ミスズ","女",null,2]
[312,42074,"浅香","夏央","アサカ","ナオ","女",null,2]
[313,42076,"根岸","舞佳","ネギシ","マイカ","女",null,1]
[314,42077,"篠山","結夏","シノヤマ","ユナ","女",null,1]
[315,42078,"府川","未来","フカワ","ミク","女",null,1]
[316,42079,"北澤","彩香","キタザワ","アヤカ","女",null,1]
[317,42080,"平野","渚","ヒラノ","ナギサ","女",null,1]
[318,42081,"小寺","和華","コデラ","ワカ","女",null,1]
[319,42082,"渡部","春雅","ワタベ","カスガ","女",null,1]
[320,42083,"杉山","藍","スギヤマ","アイ","女",null,1]
[321,42084,"賀川","瑛梨","カガワ","エリ","女",null,1]
[322,42086,"阿部","恵梨沙","アベ","エリサ","女",null,1]
[323,42087,"阿部","百花","アベ","モモカ","女",null,1]
[324,42088,"武井","真子","タケイ","マコ","女",null,1]
[325,42128,"清水","功市","シミズ","コウイチ","男",null,3]
[326,42129,"西崎","礼胤","ニシザキ","レイ","男",null,3]
[327,42130,"宮田","瑞樹","ミヤタ","ミズキ","男",null,3]
[328,42131,"浅川","峻太朗","アサカワ","シュンタロウ","男",null,2]
[329,42132,"阿部","隼士","アベ","シュンシ","男",null,2]
[330,42133,"石川","洸太","イシカワ","コウタ","男",null,2]
[331,42134,"恩田","大地","オンダ","ダイチ","男",null,2]
[332,42135,"佐藤","舞音","サトウ","マオ","男",null,2]
[333,42136,"青柳","希歩","アオヤギ","マナト","男",null,2]
[334,42137,"有竹","康平","アリタケ","コウヘイ","男",null,1]
[335,42138,"雨宮","亮","アメミヤ","リョウ","男",null,2]
[336,42139,"岩﨑","優貴","イワサキ","ユウキ","男",null,1]
[337,42140,"伊藤","碧透","イトウ","アオト","男",null,2]
[338,42141,"小野木","秀","オノギ","シュウ","男",null,2]
[339,42163,"内間","千晴","ウチマ","チハル","女",null,3]
[340,42164,"小野塚","水希","オノヅカ","ミズキ","女",null,3]
[341,42166,"新開","梨絵","シンカイ","リエ","女",null,3]
[342,42167,"今井","歩美","イマイ","アユミ","女",null,3]
[343,42168,"梅原","瑞生","ウメハラ","ミズキ","女",null,3]
[344,42171,"佐藤","眞衣子","サトウ","マイコ","女",null,2]
[345,42172,"中島","透子","ナカジマ","トウコ","女",null,2]
[346,42173,"赤峰","実栞","アカミネ","ミカン","女",null,1]
[347,42174,"髙木","咲希","タカギ","サキ","女",null,1]
[348,42175,"村山","モモ","ムラヤマ","モモ","女",null,1]
[349,42176,"川原","里穂","カワハラ","リホ","女",null,1]
[350,42206,"山崎","皇司郎","ヤマサキ","コウシロウ","男",null,3]
[351,42207,"岩本","匡史","イワモト","マサシ","男",null,3]
[352,42211,"中平","葵","ナカヒラ","マモル","男",null,3]
[353,42214,"赤坂","恵祐","アカサカ","ケイスケ","男",null,2]
[354,42215,"天野","修吾","アマノ","シュウゴ","男",null,2]
[355,42216,"石田","慶","イシダ","ケイ","男",null,2]
[356,42217,"井原","健太","イハラ","ケンタ","男",null,2]
[357,42218,"生方","涼太","ウブカタ","リョウタ","男",null,2]
[358,42219,"岡部","逸巳","オカベ","イヅミ","男",null,2]
[359,42220,"小高","拓巳","オダカ","タクミ","男",null,2]
[360,42221,"川久保","樹","カワクボ","イツキ","男",null,2]
[361,42222,"津村","恵太郎","ツムラ","ケイタロウ","男",null,2]
[362,42223,"徳永","海土","トクナガ","カイト","男",null,2]
[363,42224,"豊田","優喜","トヨダ","ユウキ","男",null,2]
[364,42225,"平松","泰樹","ヒラマツ","タイキ","男",null,2]
[365,42226,"松本","隆太郎","マツモト","リュウタロウ","男",null,2]
[366,42227,"若林","直季","ワカバヤシ","ナオキ","男",null,2]
[367,42228,"江尾","祐哉","エビ","ユウヤ","男",null,1]
[368,42229,"大川","虎之介","オオカワ","トラノスケ","男",null,1]
[369,42230,"川原","慧也","カワハラ","ケイヤ","男",null,1]
[370,42231,"久保","洸太朗","クボ","コウタロウ","男",null,1]
[371,42232,"須磨","健太郎","スマ","ケンタロウ","男",null,1]
[372,42233,"高橋","温人","タカハシ","ハルト","男",null,1]
[373,42234,"高見","勇希","タカミ","ユウキ","男",null,1]
[374,42235,"竹下","寛人","タケシタ","ヒロト","男",null,1]
[375,42236,"田辺","航輝","タナベ","コウキ","男",null,1]
[376,42237,"舟木","大地","フナキ","ダイチ","男",null,1]
[377,42238,"松本","将太","マツモト","ショウタ","男",null,1]
[378,42486,"沖田","佳穗","オキタ","カホ","女",null,3]
[379,42488,"富永","真央","トミナガ","マオ","女",null,3]
[380,42490,"丸山","香菜子","マルヤマ","カナコ","女",null,3]
[381,42491,"山下","葵","ヤマシタ","アオイ","女",null,3]
[382,42492,"荒木","那月","アラキ","ナツキ","女",null,2]
[383,42493,"石山","友衣","イシヤマ","ユイ","女",null,2]
[384,42494,"髙橋","紀子","タカハシ","ノリコ","女",null,2]
[385,42495,"鳥越","瑞生","トリゴエ","ミズキ","女",null,2]
[386,42496,"矢野","梨織","ヤノ","リオ","女",null,2]
[387,42497,"田崎","澪","タサキ","レイ","女",null,1]
[388,42498,"西田","雪花","ニシダ","ユキカ","女",null,1]
[389,42499,"橋本","莉奈","ハシモト","リナ","女",null,1]
[390,42501,"青木","心海","アオキ","ミウ","男",null,2]
[391,42502,"合田","篤慶","ゴウダ","アツノリ","男",null,2]
[392,42503,"関口","遥希","セキグチ","ハルキ","男",null,2]
[393,42504,"冨永","響樹","トミナガ","ヒビキ","男",null,2]
[394,42510,"白澤","隼祐","シラサワ","シュンスケ","男",null,3]
[395,42512,"倉橋","孟甫","クラハシ","タケトシ","男",null,3]
[396,42520,"相澤","侑我","アイザワ","ユウガ","男",null,1]
[397,42521,"赤久保","晴樹","アカクボ","ハルキ","男",null,1]
[398,42522,"岩垂","樹","イワダレ","タツキ","男",null,1]
[399,42523,"金井","蒼汰","カナイ","ソウタ","男",null,1]
[400,42524,"田中","陽尊","タナカ","ハルタカ","男",null,1]
[401,42525,"成田","良道","ナリタ","ヨシミチ","男",null,1]
[402,42526,"大久保","利宏","オオクボ","トシヒロ","男",null,1]
[403,42550,"髙田","里々子","タカダ","リリコ","女",null,1]
[404,42551,"外山","純麗","トヤマ","スミレ","女",null,1]
[405,42552,"日向","万由子","ヒナタ","マユコ","女",null,1]
[406,42553,"村田","里美","ムラタ","サトミ","女",null,1]
[407,42554,"佐藤","麻里亜","サトウ","マリア","女",null,1]
[408,42555,"関谷","光","セキヤ","ヒカル","女",null,1]
[409,42560,"高田","夏子","タカタ","ナツコ","女",null,3]
[410,42561,"丸岡","由莉絵","マルオカ","ユリエ","女",null,3]
[411,42564,"泰樂","千紘","タイラク","チヒロ","女",null,3]
[412,42570,"野田","一華","ノダ","イチカ","女",null,2]
[413,42816,"蒔田","翔吾","マキタ","ショウゴ","男",null,3]
[414,42824,"片山","健","カタヤマ","タケル","男",null,3]
[415,42825,"柴田","拓馬","シバタ","タクマ","男",null,2]
[416,42826,"笠原","晴輝","カサハラ","ハルキ","男",null,2]
[417,42827,"上路","達也","ウエジ","タツヤ","男",null,2]
[418,42828,"鳴嶋","大朗","ナルシマ","タロウ","男",null,2]
[419,42829,"小島","知大","コジマ","トモヒロ","男",null,2]
[420,42830,"上田","礼一","ウエダ","レイイチ","男",null,2]
[421,42831,"松井","大悟","マツイ","ダイゴ","男",null,2]
[422,42832,"佐藤","駿ノ佑","サトウ","シュンノスケ","男",null,2]
[423,42833,"矢田部","祐爾","ヤタベ","ユウジ","男",null,1]
[424,42834,"川畑","陽平","カワバタ","ヨウヘイ","男",null,1]
[425,42835,"谷口","隼太","タニグチ","ハヤタ","男",null,1]
[426,42836,"毛利","丈瑠","モウリ","タケル","男",null,1]
[427,42837,"一瀬","敦大","イチノセ","アツヒロ","男",null,1]
[428,42838,"小林","紳一","コバヤシ","シンイチ","男",null,1]
[429,42839,"吉岡","達哉","ヨシオカ","タツヤ","男",null,1]
[430,42840,"能勢","英伸","ノセ","ヒデノブ","男",null,1]
[431,42841,"片岡","祐貴","カタオカ","ユウキ","男",null,1]
[432,42842,"永田","柊弥","ナガタ","ヨウヤ","男",null,1]
[433,43001,"遠藤","雅也","エンドウ","マサヤ","男",null,3]
[434,43002,"平田","瑶","ヒラタ","ヨウ","男",null,3]
[435,43003,"上海","誠志","ジョウカイ","セイジ","男",null,3]
[436,43005,"捧","幸一郎","ササゲ","コウイチロウ","男",null,3]
[437,43006,"西山","鷹二","ニシヤマ","ヨウジ","男",null,3]
[438,43007,"サカラ","ダリソ","サカラ","ダリソ","男",null,3]
[439,43008,"藤尾","高寛","フジオ","タカヒロ","男",null,3]
[440,43010,"菊池","浩平","キクチ","コウヘイ","男",null,2]
[441,43011,"持田","真希","モチダ","マサキ","男",null,2]
[442,43012,"後藤","潤","ゴトウ","ジュン","男",null,1]
[443,43013,"瀬川","隼悠","セガワ","ハヤユキ","男",null,1]
[444,43014,"草野","魁人","クサノ","カイト","男",null,2]
[445,43201,"松本","共喜","マツモト","トモキ","男",null,3]
[446,43202,"青柳","駿之介","アオヤギ","シュンノスケ","男",null,3]
[447,43203,"秋葉","晃佑","アキバ","コウスケ","男",null,1]
[448,43255,"正野","りえ","マサノ","リエ","女",null,3]
[449,43258,"森山","華桜","モリヤマ","カオウ","女",null,1]
[450,43259,"梶原","莉子","カジワラ","リコ","女",null,1]
[451,43301,"數野","大樹","カズノ","ヒロキ","男",null,2]
[452,43302,"直井","優弥","ナオイ","ユウヤ","男",null,2]
[453,43303,"関","和貴","セキ","カズキ","男",null,2]
[454,43304,"足達","栄信","アダチ","シゲノブ","男",null,2]
[455,43305,"石塚","理暉","イシヅカ","リキ","男",null,2]
[456,43306,"土屋","鼓太郎","ツチヤ","コタロウ","男",null,2]
[457,43307,"伊藤","誠真","イトウ","セイマ","男",null,2]
[458,43309,"下田","真生","シモダ","マオ","男",null,1]
[459,43309,"高柳","直温","タカヤナギ","ナオマサ","男",null,2]
[460,43310,"滝上","知大","タキガミ","トモヒロ","男",null,1]
[461,43311,"守安","勇人","モリヤス","ハヤト","男",null,1]
[462,43312,"高橋","悠馬","タカハシ","ユウマ","男",null,1]
[463,43313,"小林","秀彰","コバヤシ","ヒデアキ","男",null,1]
[464,43314,"小西","璃空","コニシ","リク","男",null,1]
[465,43315,"田原","快","タハラ","カイ","男",null,1]
[466,43316,"上田","名音","ウエダ","ナオ","男",null,1]
[467,43317,"志村","怜音","シムラ","レオ","男",null,1]
[468,43318,"橋川","颯","ハシカワ","ソウ","男",null,1]
[469,43319,"松島","幸平","マツシマ","コウヘイ","男",null,1]
[470,43320,"久保田","結都","クボタ","ユイト","男",null,1]
[471,43321,"篠原","慧","シノハラ","サトシ","男",null,1]
[472,43322,"本郷","尚","ホンゴウ","ナオ","男",null,1]
[473,43333,"辻","邦雄","ツジ","クニオ","男",null,3]
[474,43334,"三輪","友誠","ミワ","ユウセイ","男",null,3]
[475,43335,"佐川","涼哉","サガワ","リョウヤ","男",null,3]
[476,43336,"山辺","太嗣","ヤマベ","タイシ","男",null,3]
[477,43337,"花澤","松之輔","ハナザワ","ショウノスケ","男",null,3]
[478,43338,"荻野","友也","オギノ","トモヤ","男",null,3]
[479,43339,"野田","理央","ノダ","リオ","男",null,3]
[480,43340,"平沢","竜介","ヒラサワ","リュウスケ","男",null,3]
[481,43341,"本間","光","ホンマ","ヒカル","男",null,3]
[482,43343,"山本","雄貴","ヤマモト","ユウキ","男",null,3]
[483,43344,"村尾","優介","ムラオ","ユウスケ","男",null,3]
[484,43363,"木下","彩花","キノシタ","アヤカ","女",null,3]
[485,43364,"篠﨑","夕記望","シノザキ","ユキミ","女",null,3]
[486,43366,"長谷川","彩佳","ハセガワ","アヤカ","女",null,2]
[487,43367,"大川戸","香織","オオカワド","カオリ","女",null,2]
[488,43368,"東浦","芽以","ヒガシウラ","メイ","女",null,2]
[489,43369,"松永","萌子","マツナガ","モエコ","女",null,2]
[490,43370,"大原","和奏","オオハラ","ワカナ","女",null,2]
[491,43371,"田村","花奈","タムラ","カナ","女",null,1]
[492,43372,"枝元","彩花","エダモト","アヤカ","女",null,1]
[493,43373,"根本","聖唯佳","ネモト","セイカ","女",null,1]
[494,43374,"野口","日菜多","ノグチ","ヒナタ","女",null,1]
[495,43375,"永島","未晴","ナガシマ","ミハル","女",null,1]
[496,43376,"吉川","穂香","キッカワ","ホノカ","女",null,1]
[497,43415,"重岡","周","シゲオカ","シュウ","男",null,3]
[498,43416,"柴田","優太郎","シバタ","ユウタロウ","男",null,3]
[499,43417,"高橋","滉利","タカハシ","アキト","男",null,3]
[500,43418,"平田","拓輝","ヒラタ","タクキ","男",null,3]
[501,43419,"久保","法揮","クボ","ノリキ","男",null,3]
[502,43421,"根岸","航汰","ネギシ","コウタ","男",null,3]
[503,43422,"堀江","優太郎","ホリエ","ユウタロウ","男",null,3]
[504,43424,"池永","海","イケナガ","カイ","男",null,3]
[505,43426,"東田","啓汰","ヒガシダ","ケイタ","男",null,1]
[506,43427,"富塚","健太","トミヅカ","ケンタ","男",null,1]
[507,43428,"中西","仁","ナカニシ","ジン","男",null,1]
[508,43429,"増田","優斗","マスダ","ユウト","男",null,1]
[509,43430,"宗田","佳典","ムネタ","ヨシノリ","男",null,1]
[510,43451,"神田","葵子","カンダ","アオイコ","女",null,1]
[511,43452,"澤井","怜音","サワイ","レオン","女",null,1]
[512,43453,"松浦","愛莉","マツウラ","アイリ","女",null,1]
[513,43551,"河田","早織","カワタ","サオリ","女",null,3]
[514,43552,"北山","奈々夏","キタヤマ","ナナカ","女",null,3]
[515,43553,"名倉","真美","ナグラ","マミ","女",null,3]
[516,43554,"西野","もゆる","ニシノ","モユル","女",null,3]
[517,43555,"熊谷","遥未","クマガエ","ハルミ","女",null,2]
[518,43556,"合田","佳乃","ゴウダ","カノ","女",null,2]
[519,43557,"原","彩実","ハラ","アヤミ","女",null,2]
[520,43558,"佐藤","心実","サトウ","ミノリ","女",null,1]
[521,43651,"渡邉","こはく","ワタナベ","コハク","女",null,1]
[522,43652,"林","遥香","ハヤシ","ハルカ","女",null,1]
[523,43653,"糸数","利亜","イトカズ","リア","女",null,1]
[524,43685,"篠原","瑞季","シノハラ","ミズキ","女",null,3]
[525,43686,"信時","史佳","ノブトキ","フミカ","女",null,3]
[526,43687,"阿部","月姫","アベ","ツキメ","女",null,2]
[527,43688,"上原","夕季","ウエハラ","ユキ","女",null,2]
[528,43689,"浦野","美和","ウラノ","ミワ","女",null,2]
[529,43690,"佐藤","涼香","サトウ","スズカ","女",null,2]
[530,43691,"久島","美代子","ヒサジマ","ミヨコ","女",null,2]
[531,43694,"小林","花恋","コバヤシ","カレン","女",null,2]
[532,43695,"鈴木","紗奈","スズキ","サナ","女",null,1]
[533,43696,"大久保","瀬奈","オオクボ","セナ","女",null,1]
[534,43697,"空閑","ななみ","クガ","ナナミ","女",null,1]
[535,43698,"細野","あいり","ホソノ","アイリ","女",null,1]
[536,43699,"武藤","萌果","ムトウ","モカ","女",null,1]
[537,43702,"岩田","拓樹","イワタ","ヒロキ","男",null,3]
[538,43704,"山﨑","大史","ヤマサキ","タイシ","男",null,3]
[539,43705,"仲眞","慈晏","ナカマ","ジアン","男",null,3]
[540,43706,"大賀","グレゴリードーネル","オオガ","グレゴリードーネル","男",null,3]
[541,43707,"阿部","秀友希","アベ","ヒデユキ","男",null,3]
[542,43708,"小池","太一","コイケ","タイチ","男",null,3]
[543,43710,"北島","翔","キタジマ","カケル","男",null,3]
[544,43711,"沼田","直宏","ヌマタ","ナオヒロ","男",null,3]
[545,43712,"杉山","友祥","スギヤマ","トモヨシ","男",null,3]
[546,43719,"本木","颯人","モトキ","ハヤト","男",null,1]
[547,43720,"田中","真偉人","タナカ","マイト","男",null,1]
[548,43721,"塚田","濯","ツカダ","アロウ","男",null,1]
[549,43722,"岡田","柊恩","オカダ","シオン","男",null,1]
[550,43801,"河野","真輝","コウノ","マサキ","男",null,1]
[551,43802,"飯塚","亮太","イイヅカ","リョウタ","男",null,1]
[552,43818,"平山","和樹","ヒラヤマ","カズキ","男",null,3]
[553,43819,"隈本","主計","クマモト","カズエ","男",null,3]
[554,43820,"宮川","悠汰","ミヤガワ","ユウタ","男",null,3]
[555,43821,"小代","智央","オジロ","トモヒロ","男",null,3]
[556,43822,"飯野","律希","イイノ","リツキ","男",null,3]
[557,43824,"折田","大和","オリタ","ヒロカズ","男",null,3]
[558,43826,"丹羽","純平","ニワ","ジュンペイ","男",null,3]
[559,43827,"今野","陽太","コンノ","ヨウタ","男",null,2]
[560,43828,"米澤","快人","ヨネザワ","カイト","男",null,2]
[561,43829,"浅井","駿来","アサイ","カケル","男",null,2]
[562,43830,"小板橋","拳介","コイタバシ","ケンスケ","男",null,2]
[563,43831,"東","海斗","ヒガシ","カイト","男",null,2]
[564,43832,"小島","圭悟","コジマ","ケイゴ","男",null,2]
[565,43833,"増田","功太郎","マスダ","コウタロウ","男",null,2]
[566,43834,"松井","琢巳","マツイ","タクミ","男",null,2]
[567,43836,"吉澤","采佑","ヨシザワ","サスケ","男",null,2]
[568,43838,"野口","透","ノグチ","トオル","男",null,2]
[569,43839,"伊藤","英助","イトウ","エイスケ","男",null,2]
[570,43841,"青木","智哉","アオキ","トモヤ","男",null,2]
[571,43842,"金本","昌樹","カネモト","マサキ","男",null,1]
[572,43843,"政田","幸輝","マサダ","コウキ","男",null,1]
[573,43844,"和田","知樹","ワダ","トモキ","男",null,1]
[574,43845,"上田","真基人","ウエダ","マキト","男",null,1]
[575,43846,"澤永","直毅","サワナガ","ナオキ","男",null,1]
[576,43847,"下田","礼稀","シモダ","ライキ","男",null,1]
[577,43848,"宮川","航","ミヤガワ","ワタル","男",null,1]
[578,43849,"芦川","魁星","アシカワ","カイセイ","男",null,1]
[579,43850,"菅谷","雄大","スガヤ","ユウダイ","男",null,1]
[580,43873,"加藤","ゆらら","カトウ","ユララ","女",null,3]
[581,43875,"佐田","百子","サダ","モモコ","女",null,3]
[582,43876,"中田","佳菜美","ナカタ","カナミ","女",null,3]
[583,43877,"竹内","優絵","タケウチ","ユエ","女",null,3]
[584,43879,"井澤","弥紀","イサワ","ミノリ","女",null,3]
[585,43880,"並木","理紗","ナミキ","リサ","女",null,3]
[586,43881,"川村","優佳","カワムラ","ユウカ","女",null,2]
[587,43882,"君塚","早","キミヅカ","サキ","女",null,2]
[588,43883,"山嵜","素音","ヤマザキ","モネ","女",null,2]
[589,43884,"片岡","千咲","カタオカ","チサキ","女",null,2]
[590,43885,"栗谷","佳奈","クリタニ","カナ","女",null,2]
[591,43887,"浅井","理紗子","アサイ","リサコ","女",null,2]
[592,43888,"山﨑","真美","ヤマザキ","マミ","女",null,1]
[593,43889,"石田","夏帆","イシダ","カホ","女",null,1]
[594,43890,"上野","楓","ウエノ","カエデ","女",null,1]
[595,43891,"和知","美郷","ワチ","ミサト","女",null,1]
[596,43892,"吉澤","りち","ヨシザワ","リチ","女",null,1]
[597,43893,"杉山","日菜","スギヤマ","ヒナ","女",null,1]
[598,43894,"新谷","舞子","ニイヤ","マイコ","女",null,1]
[599,43895,"渡辺","祐衣","ワタナベ","ユイ","女",null,1]
[600,43896,"土倉","凜々","トクラ","リリ","女",null,1]
[601,43922,"野口","悠人","ノグチ","ユウト","男",null,3]
[602,43926,"西村","友汰","ニシムラ","ユウタ","男",null,3]
[603,43928,"荒川","弘己","アラカワ","ヒロキ","男",null,1]
[604,43930,"大野","航輝","オオノ","コウキ","男",null,2]
[605,43932,"薩摩","定士","サツマ","サダヒト","男",null,2]
[606,43933,"中尾","亮介","ナカオ","リョウスケ","男",null,2]
[607,43934,"森口","遼太","モリグチ","リョウタ","男",null,2]
[608,43936,"瓜生","慶登","ウリウ","ケイト","男",null,1]
[609,43937,"榎島","直毅","エノシマ","ナオキ","男",null,1]
[610,43938,"狩野","晃寿","カノウ","テルトシ","男",null,1]
[611,43939,"神田","笙吾","カンダ","ショウゴ","男",null,1]
[612,43940,"伊藤","大翔","イトウ","ヒロト","男",null,1]
[613,43941,"中山","英寿","ナカヤマ","ヒデトシ","男",null,1]
[614,43942,"嶺井","俊","ミネイ","シュン","男",null,1]
[615,43943,"磯部","陸","イソベ","リク","男",null,1]
[616,43944,"大沼","朋樹","オオヌマ","トモキ","男",null,1]
[617,43945,"田辺","英寿","タナベ","ヒデトシ","男",null,1]
[618,43946,"藤井","大海","フジイ","ヒロミ","男",null,1]
[619,44116,"片岡","寿憲","カタオカ","ヒサトシ","男",null,3]
[620,44117,"甲木","彪太郎","カツキ","トラタロウ","男",null,3]
[621,44118,"甲木","悠太郎","カツキ","ユウタロウ","男",null,3]
[622,44120,"田中","陽星","タナカ","ヨウセイ","男",null,3]
[623,44122,"室山","怜太","ムロヤマ","リョウタ","男",null,3]
[624,44124,"佐藤","壮多","サトウ","ソウタ","男",null,2]
[625,44125,"髙柳","勲平","タカヤナギ","クンペイ","男",null,2]
[626,44126,"谷口","南月","タニグチ","ナツキ","男",null,2]
[627,44128,"菊池","光祐","キクチ","コウスケ","男",null,1]
[628,44129,"麻生","英寿","アソウ","ヒデトシ","男",null,1]
[629,44130,"斎藤","碧","サイトウ","アオイ","男",null,1]
[630,44151,"石黒","利奈","イシグロ","リナ","女",null,2]
[631,44152,"木暮","知佳","コグレ","チカ","女",null,2]
[632,44153,"永島","沙羅","ナガシマ","サラ","女",null,2]
[633,44154,"山田","樹里","ヤマダ","ジュリ","女",null,2]
[634,44155,"木村","真実","キムラ","マミ","女",null,2]
[635,44156,"大原","せい","オオハラ","セイ","女",null,2]
[636,44158,"岩本","鈴音","イワモト","リン","女",null,1]
[637,44159,"大井川","和心","オオイガワ","ヒトミ","女",null,1]
[638,44160,"加藤","多笑","カトウ","タエ","女",null,1]
[639,44161,"栗原","唯","クリハラ","ユイ","女",null,1]
[640,44162,"杉﨑","千亜希","スギザキ","チアキ","女",null,1]
[641,44163,"日改","理加","ヒガイ","リカ","女",null,1]
[642,44164,"山田","千尋","ヤマダ","チヒロ","女",null,1]
[643,44196,"大澤","実紗","オオサワ","ミサ","女",null,3]
[644,44197,"小熊","純月","オグマ","シヅキ","女",null,3]
[645,44198,"田島","史織","タジマ","シオリ","女",null,3]
[646,44351,"宮本","愛美","ミヤモト","マナミ","女",null,2]
[647,44404,"岡部","弘祐","オカベ","コウスケ","男",null,3]
[648,44405,"吉澤","一馬","ヨシザワ","カズマ","男",null,2]
[649,44406,"土岐","建介","トキ","ケンスケ","男",null,3]
[650,44407,"坂木","幹","サカキ","ミキ","男",null,3]
[651,44408,"江川","国男","エガワ","クニオ","男",null,3]
[652,44409,"小楠","陸斗","オグス","リクト","男",null,3]
[653,44410,"田口","利希","タグチ","リキ","男",null,2]
[654,44411,"駒野","祐大","コマノ","ユウダイ","男",null,2]
[655,44412,"土屋","瑛輝","ツチヤ","エイキ","男",null,2]
[656,44413,"鈴木","朴哉","スズキ","ナオヤ","男",null,1]
[657,44414,"浅井","竜也","アサイ","タツヤ","男",null,1]
[658,44415,"藤嶋","凌大","フジシマ","リョウタ","男",null,1]
[659,44449,"長谷川","智一","ハセガワ","トモカズ","男",null,2]
[660,44450,"堀口","大輔","ホリグチ","ダイスケ","男",null,2]
[661,44451,"梅沢","萌々香","ウメザワ","モモカ","女",null,1]
[662,44452,"下村","倫子","シモムラ","リンコ","女",null,1]
[663,44453,"大塚","悠歌","オオツカ","ハルカ","女",null,1]
[664,44454,"後藤","真渚","ゴトウ","マナ","女",null,1]
[665,44455,"吉島","さくら","ヨシジマ","サクラ","女",null,1]
[666,44456,"島田","彩希","シマダ","サキ","女",null,1]
[667,44483,"山本","涼乃","ヤマモト","スズノ","女",null,3]
[668,44484,"丹羽","祐美子","ニワ","ユミコ","女",null,3]
[669,44485,"山崎","莉歩","ヤマザキ","リホ","女",null,3]
[670,44486,"小池","千加奈","コイケ","チカナ","女",null,3]
[671,44487,"石垣","亜由美","イシガキ","アユミ","女",null,3]
[672,44488,"井上","海南子","イノウエ","ミナコ","女",null,3]
[673,44490,"鈴木","慧","スズキ","ケイ","女",null,3]
[674,44491,"大久保","綺更","オオクボ","キサラ","女",null,2]
[675,44492,"渡辺","里美","ワタナベ","リミ","女",null,2]
[676,44493,"大和田","泉","オオワダ","イズミ","女",null,2]
[677,44494,"村上","芽依","ムラカミ","メイ","女",null,2]
[678,44495,"藤原","愛佳","フジワラ","アイカ","女",null,2]
[679,44496,"佐田","陽菜","サダ","ヒナ","女",null,2]
[680,44497,"中野","治香","ナカノ","ハルカ","女",null,2]
[681,44498,"伊藤","楓","イトウ","カエデ","女",null,1]
[682,44499,"中山","花月","ナカヤマ","ハナツキ","女",null,1]
[683,44501,"石曽根","亮","イシゾネ","リョウ","男",null,3]
[684,44502,"榎本","翼","エノモト","ツバサ","男",null,3]
[685,44503,"小野","健太郎","オノ","ケンタロウ","男",null,3]
[686,44504,"澁川","凌","シブカワ","リョウ","男",null,3]
[687,44506,"野木","幸輔","ノギ","コウスケ","男",null,3]
[688,44507,"布留川","竜矢","フルカワ","リュウヤ","男",null,3]
[689,44508,"浅井","拓途","アサイ","タクト","男",null,3]
[690,44509,"梅田","優真","ウメダ","ユウマ","男",null,2]
[691,44510,"後藤","裕一郎","ゴトウ","ユウイチロウ","男",null,2]
[692,44511,"酒井","恒介","サカイ","コウスケ","男",null,2]
[693,44512,"田浪","悠芽","タナミ","ユウガ","男",null,2]
[694,44513,"中村","勝","ナカムラ","マサル","男",null,2]
[695,44514,"吉野","吏雄","ヨシノ","リオン","男",null,2]
[696,44515,"井村","響","イムラ","キョウ","男",null,1]
[697,44516,"勝見","颯人","カツミ","ハヤト","男",null,1]
[698,44517,"大塚","一馬","オオツカ","カズマ","男",null,1]
[699,44518,"宇井","大晴","ウイ","ヒロハル","男",null,1]
[700,44571,"鈴木","華奈","スズキ","ハルナ","女",null,3]
[701,44572,"西田","理紗","ニシダ","リサ","女",null,2]
[702,44573,"後藤","未来","ゴトウ","ミライ","女",null,1]
[703,44805,"徳田","幹瑠","トクダ","ミキル","男",null,3]
[704,44806,"蓮見","海人","ハスミ","カイト","男",null,3]
[705,44811,"田中","航太","タナカ","コウタ","男",null,3]
[706,44813,"永野","風雅","ナガノ","フウガ","男",null,3]
[707,44819,"内藤","優","ナイトウ","ユウ","男",null,3]
[708,44821,"石井","大夢","イシイ","ヒロム","男",null,2]
[709,44822,"小川","慧士","オガワ","ケイシ","男",null,2]
[710,44823,"鈴木","倭","スズキ","ヤマト","男",null,2]
[711,44824,"香西","秀昭","コウザイ","ヒデアキ","男",null,2]
[712,44825,"本橋","太郎","モトハシ","タロウ","男",null,2]
[713,44826,"米澤","颯斗","ヨネザワ","ハヤト","男",null,2]
[714,44827,"一色","諒真","イッシキ","リョウマ","男",null,2]
[715,44829,"和田","直也","ワダ","ナオヤ","男",null,2]
[716,44830,"鈴木","智哉","スズキ","トモヤ","男",null,2]
[717,44831,"小紫","嘉己","コムラサキ","ヒロキ","男",null,2]
[718,44832,"坂東","央真","バンドウ","オオマ","男",null,2]
[719,44833,"加納","泰陽","カノウ","タイヨウ","男",null,1]
[720,44834,"松村","優大","マツムラ","ユウダイ","男",null,1]
[721,44835,"高橋","優斗","タカハシ","ユウト","男",null,1]
[722,44836,"鍛","将太","キタイ","ショウタ","男",null,1]
[723,44837,"瀬戸","航太","セト","コウタ","男",null,1]
[724,44838,"山口","拓海","ヤマグチ","タクミ","男",null,1]
[725,44839,"金内","海斗","カネウチ","カイト","男",null,1]
[726,44840,"金田","岳斗","カネダ","ヤマト","男",null,1]
[727,44841,"近郷","功次朗","キンゴウ","コウジロウ","男",null,1]
[728,44842,"佐々木","柊弥","ササキ","シュウヤ","男",null,1]
[729,44843,"塚田","了仁","ツカダ","アキヒト","男",null,1]
[730,44844,"山下","遼","ヤマシタ","リョウ","男",null,1]
[731,44845,"鶴岡","勇輔","ツルオカ","ユウスケ","男",null,1]
[732,44846,"手塚","崚","テヅカ","リョウ","男",null,1]
[733,44869,"清水","佑奈","シミズ","ユウナ","女",null,2]
[734,44870,"根津","佑奈","ネズ","ユウナ","女",null,2]
[735,44871,"橋本","芽依","ハシモト","メイ","女",null,2]
[736,44873,"上野","桃世","ウエノ","モモヨ","女",null,2]
[737,44874,"中山","友希","ナカヤマ","ユウキ","女",null,2]
[738,44875,"藤原","帆乃香","フジワラ","ホノカ","女",null,1]
[739,44876,"安藤","秋音","アンドウ","アカネ","女",null,1]
[740,44877,"吉野","まほら","ヨシノ","マホラ","女",null,1]
[741,44878,"飯嶋","柚葵","イイジマ","ユキ","女",null,1]
[742,44879,"武田","若菜","タケダ","ワカナ","女",null,1]
[743,44880,"秋長","好花","アキナガ","コノカ","女",null,2]
[744,44902,"今泉","文冶","イマイズミ","フミヤ","男",null,3]
[745,44903,"丸山","陽光","マルヤマ","ハルヒ","男",null,3]
[746,44906,"小林","隼斗","コバヤシ","ハヤト","男",null,3]
[747,44909,"山口","遥己","ヤマグチ","ハルキ","男",null,3]
[748,44910,"石井","和慶","イシイ","カズヨシ","男",null,2]
[749,44911,"伊藤","卓真","イトウ","タクマ","男",null,3]
[750,44912,"平林","意織","ヒラバヤシ","イオリ","男",null,2]
[751,44913,"足澤","弘哉","タルサワ","ヒロヤ","男",null,2]
[752,44914,"伊藤","諒河","イトウ","リョウガ","男",null,2]
[753,44915,"門倉","承音","カドクラ","ショウイン","男",null,2]
[754,44916,"東海","和真","トウカイ","カズマ","男",null,2]
[755,44917,"吉田","篤矢","ヨシダ","アツヤ","男",null,2]
[756,44918,"亀田","航生","カメダ","コウキ","男",null,2]
[757,44919,"前川","優太郎","マエカワ","ユウタロウ","男",null,3]
[758,44921,"今野","祐吾","コンノ","ユウゴ","男",null,2]
[759,44922,"天野","瑠人","アマノ","リュウト","男",null,1]
[760,44923,"谷口","俊輔","タニグチ","シュンスケ","男",null,1]
[761,44924,"西川","翔","ニシカワ","ショウ","男",null,1]
[762,44925,"佐藤","心","サトウ","シン","男",null,1]
[763,44926,"横田","将也","ヨコタ","ショウヤ","男",null,1]
[764,44927,"前田","和輝","マエダ","カズキ","男",null,1]
[765,44928,"神田","大輝","カンダ","ダイキ","男",null,1]
[766,44929,"渡邉","健介","ワタナベ","ケンスケ","男",null,1]
[767,44930,"山代屋","敦","ヤマシロヤ","アツシ","男",null,1]
[768,44931,"岡田","直人","オカダ","ナオト","男",null,1]
[769,44932,"時任","翼","トキトウ","ツバサ","男",null,1]
[770,44947,"藤井","辰朗","フジイ","タツロウ","男",null,3]
[771,44948,"菊池","亮太","キクチ","リョウタ","男",null,3]
[772,44951,"藤屋","杏奈","フジヤ","アンナ","女",null,1]
[773,44952,"伊藤","和佳奈","イトウ","ワカナ","女",null,1]
[774,44990,"須永","夏海","スナガ","ナツミ","女",null,3]
[775,44991,"横山","実佳","ヨコヤマ","ミカ","女",null,3]
[776,44993,"佐藤","奈々子","サトウ","ナナコ","女",null,3]
[777,44994,"清水","飛鳥","シミズ","アスカ","女",null,2]
[778,44995,"松村","瑞希","マツムラ","ミズキ","女",null,2]
[779,44996,"本間","陽依","ホンマ","ヒヨリ","女",null,2]
[780,44997,"駒木","桃子","コマキ","モモコ","女",null,1]
[781,44998,"宮所","さち","ミヤドコロ","サチ","女",null,1]
[782,44999,"白川","凛","シラカワ","リン","女",null,1]
[783,45134,"柴田","瑞貴","シバタ","ミズキ","男",null,3]
[784,45135,"板津","康太郎","イタツ","コウタロウ","男",null,2]
[785,45136,"北村","嘉都","キタムラ","ヒロサト","男",null,2]
[786,45137,"八田","怜央","ハッタ","レオ","男",null,2]
[787,45138,"大橋","夏生","オオハシ","ナツキ","男",null,2]
[788,45139,"渡邊","彬人","ワタナベ","アキト","男",null,2]
[789,45140,"阿部","亮太","アベ","リョウタ","男",null,1]
[790,45141,"菅原","圭悟","スガワラ","ケイゴ","男",null,1]
[791,45142,"河津","壮哉","カワヅ","ソウヤ","男",null,1]
[792,45143,"金原","郁弥","キンパラ","イクミ","男",null,1]
[793,45144,"中塚","嵩","ナカツカ","シュウ","男",null,1]
[794,45145,"横山","大起","ヨコヤマ","ダイキ","男",null,1]
[795,45146,"李","哲明","リ","テツアキ","男",null,1]
[796,45185,"風見","真梨依","カザミ","マリイ","女",null,2]
[797,45186,"三橋","和華","ミツハシ","ワカ","女",null,1]
[798,45187,"古田","ゆめ","フルタ","ユメ","女",null,1]
[799,45188,"程塚","理菜","ホドヅカ","リナ","女",null,1]
[800,45189,"松本","和","マツモト","ヤマト","女",null,1]
[801,45190,"丹野","響子","タンノ","キョウコ","女",null,1]
[802,45201,"本橋","大地","モトハシ","ダイチ","男",null,2]
[803,45202,"上杉","丞","ウエスギ","ショウ","男",null,2]
[804,45203,"勝倉","泰輝","カツクラ","タイキ","男",null,2]
[805,45204,"青木","里空","アオキ","リク","男",null,2]
[806,45205,"土方","祐人","ヒジカタ","ユウト","男",null,2]
[807,45206,"下司","浩大","ゲシ","コウタ","男",null,2]
[808,45207,"黒川","知哉","クロカワ","トモヤ","男",null,2]
[809,45208,"蒲田","純也","カマタ","ジュンヤ","男",null,1]
[810,45209,"川合","唯翔","カワイ","ユイト","男",null,1]
[811,45210,"川本","敬祐","カワモト","ケイスケ","男",null,1]
[812,45211,"小島","大ポール","コジマ","ダイポール","男",null,1]
[813,45212,"田中","祐希","タナカ","ユウキ","男",null,1]
[814,45213,"中村","拓海","ナカムラ","タクミ","男",null,1]
[815,45214,"仁宮","陸","ニノミヤ","リク","男",null,1]
[816,45215,"松﨑","善輝","マツザキ","ヨシキ","男",null,1]
[817,45216,"並木","力也","ナミキ","リキヤ","男",null,1]
[818,45218,"鶴岡","慧","ツルオカ","ケイ","男",null,3]
[819,45219,"吉田","寛汰","ヨシダ","カンタ","男",null,3]
[820,45220,"福島","遼介","フクシマ","リョウスケ","男",null,3]
[821,45221,"安部","和希","アベ","カズキ","男",null,3]
[822,45222,"岡村","将吾","オカムラ","ショウゴ","男",null,3]
[823,45223,"山﨑","大輝","ヤマザキ","ダイキ","男",null,3]
[824,45224,"飯塚","一平","イイヅカ","イッペイ","男",null,3]
[825,45225,"村上","翔","ムラカミ","ショウ","男",null,2]
[826,45251,"内山","夢叶","ウチヤマ","ユカ","女",null,3]
[827,45252,"吉川","綾香","ヨシカワ","アヤカ","女",null,1]
[828,45301,"蒲生","晟也","ガモウ","セイヤ","男",null,3]
[829,45303,"相澤","日向","アイザワ","ヒュウガ","男",null,3]
[830,45305,"茂木","文哉","モギ","フミヤ","男",null,3]
[831,45307,"伊藤","諒人","イトウ","アキト","男",null,3]
[832,45309,"齋藤","篤志","サイトウ","アツシ","男",null,3]
[833,45310,"渡邊","颯一郎","ワタナベ","ソウイチロウ","男",null,3]
[834,45311,"岡田","学時","オカダ","ガクジ","男",null,3]
[835,45312,"今給黎","知弥","イマキイレ","トモヤ","男",null,3]
[836,45314,"坂本","光汰朗","サカモト","コウタロウ","男",null,3]
[837,45325,"古川","和晶","フルカワ","カズアキ","男",null,3]
[838,45327,"東","幸河","ヒガシ","コウガ","男",null,1]
[839,45329,"大津","祐介","オオツ","ユウスケ","男",null,1]
[840,45330,"石原","康太","イシハラ","コウタ","男",null,2]
[841,45331,"風祭","直仁","カザマツリ","ナオト","男",null,2]
[842,45332,"板倉","弘明","イタクラ","ヒロアキ","男",null,2]
[843,45333,"鏑木","尭","カブラギ","タカシ","男",null,2]
[844,45334,"奥山","裕介","オクヤマ","ユウスケ","男",null,2]
[845,45335,"生田","悠貴","イクタ","ユウキ","男",null,2]
[846,45336,"石橋","弦","イシバシ","ゲン","男",null,2]
[847,45337,"藤谷","海","フジヤ","カイ","男",null,2]
[848,45338,"原田","学","ハラダ","マナブ","男",null,2]
[849,45339,"小野","翔生","オノ","ショウセイ","男",null,2]
[850,45340,"安河","伊織","ヤスカワ","イオリ","男",null,1]
[851,45341,"下山","拳汰","シモヤマ","ケンタ","男",null,1]
[852,45342,"石本","朋也","イシモト","トモヤ","男",null,1]
[853,45343,"田邉","陽哉","タナベ","ハルヤ","男",null,1]
[854,45344,"大坪","京史","オオツボ","アツシ","男",null,1]
[855,45345,"北隅","優汰","キタズミ","ユウタ","男",null,1]
[856,45346,"小椋","翔","オグラ","ショウ","男",null,1]
[857,45347,"長井","勢吾","ナガイ","セイゴ","男",null,1]
[858,45348,"梶川","俊太郎","カジカワ","シュンタロウ","男",null,1]
[859,45349,"清松","怜央","キヨマツ","レオ","男",null,1]
[860,45402,"河野","孝光","コウノ","タカミツ","男",null,3]
[861,45403,"佐藤","綜二","サトウ","ソウジ","男",null,3]
[862,45404,"岩本","凛玖","イワモト","リンク","男",null,3]
[863,45405,"西川","眞矢","ニシカワ","シンヤ","男",null,3]
[864,45406,"宮野","楓真","ミヤノ","フウマ","男",null,3]
[865,45410,"沖野","諒","オキノ","リョウ","男",null,3]
[866,45411,"杉田","宇宙","スギタ","ソラ","男",null,3]
[867,45412,"程内","太心","ホドウチ","タイシン","男",null,2]
[868,45413,"田島","知希","タジマ","トモキ","男",null,2]
[869,45414,"岩瀬","晃太郎","イワセ","コウタロウ","男",null,2]
[870,45415,"千田","諒","チダ","リョウ","男",null,2]
[871,45416,"古森","典明","コモリ","ノリアキ","男",null,3]
[872,45417,"大塚","玲於","オオツカ","レオ","男",null,2]
[873,45418,"佐竹","洸紀","サタケ","ヒロキ","男",null,2]
[874,45419,"土方","起樹","ヒジカタ","タツキ","男",null,2]
[875,45420,"隅田","勝","スミダ","マサル","男",null,1]
[876,45421,"上松","毅史","ウエマツ","ツヨシ","男",null,1]
[877,45422,"坂和","太陽","サカワ","タイヨウ","男",null,1]
[878,45451,"小島","渉","コジマ","アユミ","女",null,3]
[879,45452,"高橋","幸恵","タカハシ","サチエ","女",null,3]
[880,45453,"菊池","楓","キクチ","カエデ","女",null,3]
[881,45455,"小林","未来","コバヤシ","ミライ","女",null,2]
[882,45456,"鹿島田","虹美","カシマダ","ナナミ","女",null,2]
[883,45457,"五十嵐","純果","イガラシ","ジュンカ","女",null,2]
[884,45622,"小泉","遥王","コイズミ","ハルキ","男",null,3]
[885,45623,"小沼","耕太","コヌマ","コウタ","男",null,3]
[886,45624,"清水","純汰","シミズ","ジュンタ","男",null,3]
[887,45625,"寺田","優輝","テラダ","ユウキ","男",null,3]
[888,45628,"中川","琥太郎","ナカガワ","コタロウ","男",null,1]
[889,45680,"石川","瑠花","イシカワ","ルカ","女",null,2]
[890,45683,"渡邊","月美","ワタナベ","ツクミ","女",null,2]
[891,45684,"中澤","愛","ナカザワ","アイ","女",null,1]
[892,45685,"松永","怜","マツナガ","レイ","女",null,1]
[893,45722,"塚本","駿介","ツカモト","シュンスケ","男",null,3]
[894,45723,"広末","玲樹","ヒロスエ","レイジュ","男",null,3]
[895,45725,"早乙女","誠","サオトメ","マコト","男",null,3]
[896,45727,"佐藤","裕一","サトウ","ユウイチ","男",null,2]
[897,45728,"上西","凌平","ジョウニシ","リョウヘイ","男",null,2]
[898,45729,"城田","庸樹","シロタ","ユウキ","男",null,2]
[899,45730,"牧野","駿斗","マキノ","ハヤト","男",null,2]
[900,45731,"宮川","晟","ミヤガワ","セイ","男",null,2]
[901,45732,"若林","茂道","ワカバヤシ","シゲミチ","男",null,2]
[902,45733,"大友","千宙","オオトモ","チヒロ","男",null,2]
[903,45734,"齋藤","達也","サイトウ","タツヤ","男",null,2]
[904,45735,"森田","律","モリタ","リツ","男",null,1]
[905,45736,"山下","颯馬","ヤマシタ","ソウマ","男",null,1]
[906,45737,"島木","涼太","シマキ","リョウタ","男",null,1]
[907,45738,"白澤","唯斗","シラサワ","ユイト","男",null,1]
[908,45739,"伴","拓音","バン","タクト","男",null,1]
[909,45740,"関根","玄","セキネ","ゲン","男",null,1]
[910,45755,"片桐","汐莉","カタギリ","シオリ","女",null,2]
[911,45766,"戸田","季希","トダ","キキ","女",null,2]
[912,45773,"田島","菜穂","タジマ","ナホ","女",null,3]
[913,45774,"佐藤","楓花","サトウ","フウカ","女",null,3]
[914,45775,"菅野","麻佳","カンノ","アサカ","女",null,1]
[915,45776,"吉村","美秋","ヨシムラ","ミアキ","女",null,1]
[916,45777,"五十嵐","理沙","イガラシ","リサ","女",null,1]
[917,45801,"梶原","悠希","カジワラ","ハルキ","男",null,1]
[918,45802,"鈴木","磊","スズキ","ライ","男",null,1]
[919,45803,"辻","那槻","ツジ","ナツキ","男",null,1]
[920,45824,"笹子","浩貴","ササコ","ヒロキ","男",null,2]
[921,45825,"米倉","滉人","ヨネクラ","アキト","男",null,2]
[922,45826,"髙草木","希","タカクサキ","ノゾム","男",null,2]
[923,45901,"濱","智怜","ハマ","チサト","男",null,2]
[924,45902,"高月","基","タカツキ","ハジメ","男",null,2]
[925,45903,"市川","輝","イチカワ","ヒカル","男",null,1]
[926,45904,"菅原","輝","スガハラ","ヒカル","男",null,1]
[927,45905,"谷口","哲也","タニグチ","テツヤ","男",null,1]
[928,45906,"俵木","聖弥","ヒョウキ","セイヤ","男",null,1]
[929,45907,"渡部","拓馬","ワタナベ","タクマ","男",null,1]
[930,45908,"豊川","椋平","トヨカワ","リョウヘイ","男",null,1]
[931,45909,"谷内田","望夢","ヤチダ","ノゾム","男",null,1]
[932,45910,"古谷","一輝","フルヤ","カズキ","男",null,1]
[933,45911,"河村","凌雅","カワムラ","リョウガ","男",null,1]
[934,45912,"山西","望夢","ヤマニシ","ノゾム","男",null,1]
[935,45938,"中川","俊成","ナカガワ","トシナリ","男",null,3]
[936,45939,"山本","陽一朗","ヤマモト","ヨウイチロウ","男",null,3]
[937,45941,"中村","文哉","ナカムラ","フミヤ","男",null,3]
[938,45942,"佐々木","温","ササキ","アツシ","男",null,3]
[939,45944,"野村","絃太","ノムラ","ゲンタ","男",null,3]
[940,45945,"大森","太陽","オオモリ","タイヨウ","男",null,3]
[941,45946,"福島","龍聖","フクシマ","リュウセイ","男",null,3]
[942,45947,"松原","和馬","マツバラ","カズマ","男",null,3]
[943,45948,"鶴見","光基","ツルミ","コウキ","男",null,2]
[944,45949,"伊藤","良太","イトウ","リョウタ","男",null,2]
[945,45950,"佐藤","凌","サトウ","リョウ","男",null,2]
[946,45974,"市川","花","イチカワ","ハナ","女",null,3]
[947,45975,"廣井","桃子","ヒロイ","モモコ","女",null,3]
[948,45976,"玉手","佳那子","タマテ","カナコ","女",null,3]
[949,45977,"菅井","夏月","スガイ","ナツキ","女",null,3]
[950,45978,"吉原","明音","ヨシハラ","アカネ","女",null,3]
[951,45980,"安本","佳乃子","ヤスモト","カノコ","女",null,2]
[952,45981,"上原","嘉乃","ウエハラ","カノ","女",null,2]
[953,45983,"青木","ちひろ","アオキ","チヒロ","女",null,1]
[954,45984,"藤郷","雪乃","トウゴウ","ユキノ","女",null,1]
[955,45985,"吉原","志乃沙","ヨシハラ","シノア","女",null,1]
[956,45986,"岡田","未夢","オカダ","ミユ","女",null,1]
[957,45987,"岡嵜","香奈子","オカザキ","カナコ","女",null,1]
[958,46026,"原","賢人","ハラ","ケント","男",null,3]
[959,46027,"山田","健人","ヤマダ","ケント","男",null,3]
[960,46028,"西牟田","潤","ニシムタ","ジュン","男",null,3]
[961,46029,"吉岡","一靖","ヨシオカ","イッセイ","男",null,3]
[962,46030,"丸山","慧之","マルヤマ","サトシ","男",null,3]
[963,46031,"飯淵","尚哉","イイブチ","ナオヤ","男",null,3]
[964,46032,"鈴木","智也","スズキ","トモヤ","男",null,3]
[965,46033,"荻原","俊介","オギハラ","シュンスケ","男",null,3]
[966,46035,"安東","芳高","アンドウ","ヨシタカ","男",null,3]
[967,46037,"馬越","智也","ウマコシ","トモヤ","男",null,2]
[968,46038,"河本","航志","カワモト","コウジ","男",null,2]
[969,46039,"安藤","太郎","アンドウ","タロウ","男",null,2]
[970,46040,"蓮見","慎","ハスミ","シン","男",null,2]
[971,46041,"箱崎","太一","ハコザキ","タイチ","男",null,2]
[972,46042,"中村","宏平","ナカムラ","コウヘイ","男",null,2]
[973,46043,"横田","陸","ヨコタ","リク","男",null,2]
[974,46045,"小田","昴次朗","オダ","コウジロウ","男",null,2]
[975,46046,"鈴木","詢將","スズキ","シュント","男",null,1]
[976,46047,"岡本","直己","オカモト","ナオキ","男",null,1]
[977,46048,"加藤","雅也","カトウ","マサヤ","男",null,1]
[978,46049,"齋藤","遼","サイトウ","リョウ","男",null,1]
[979,46050,"豊田","凌平","トヨダ","リョウヘイ","男",null,1]
[980,46076,"有馬","早紀","アリマ","サキ","女",null,3]
[981,46078,"柳内","友里","ヤナイ","ユリ","女",null,3]
[982,46080,"矢﨑","あかり","ヤザキ","アカリ","女",null,2]
[983,46081,"恩田","はな","オンダ","ハナ","女",null,2]
[984,46082,"花村","美咲","ハナムラ","ミサキ","女",null,2]
[985,46083,"鈴木","七星","スズキ","ナナセ","女",null,2]
[986,46084,"水内","彩心","ミズウチ","イロハ","女",null,1]
[987,46085,"髙橋","莉央","タカハシ","リオ","女",null,1]
[988,46086,"菊池","愛","キクチ","イト","女",null,1]
[989,46087,"福海","千紘","フクウミ","チヒロ","女",null,1]
[990,46088,"中島","朝子","ナカジマ","アサコ","女",null,1]
[991,46089,"青栁","侑寿","アオヤギ","ユズ","女",null,1]
[992,46121,"石井","大貴","イシイ","ダイキ","男",null,3]
[993,46122,"清水","竜哉","シミズ","リュウヤ","男",null,3]
[994,46123,"古山","海輝","フルヤマ","カイキ","男",null,3]
[995,46124,"川上","海斗","カワカミ","カイト","男",null,3]
[996,46126,"田好","基生","タヨシ","キオ","男",null,2]
[997,46127,"平野","孝拓","ヒラノ","コウタク","男",null,2]
[998,46128,"福元","鴻之介","フクモト","コウノスケ","男",null,3]
[999,46401,"栗本","士","クリモト","ツカサ","男",null,1]
[1000,46402,"青盛","倭也","アオモリ","シズナリ","男",null,1]
[1001,46403,"野々口","卓矢","ノノグチ","タクヤ","男",null,1]
[1002,46404,"西山","智陽","ニシヤマ","トモハル","男",null,1]
[1003,46438,"田中","準也","タナカ","ジュンヤ","男",null,3]
[1004,46439,"荘司","和輝","ショウジ","カズキ","男",null,3]
[1005,46440,"澤口","隆生","サワグチ","リュウセイ","男",null,3]
[1006,46441,"星野","海比古","ホシノ","ウミヒコ","男",null,3]
[1007,46442,"弓削","直暉","ユゲ","ナオキ","男",null,3]
[1008,46443,"佐々木","龍之介","ササキ","リュウノスケ","男",null,3]
[1009,46444,"鈴木","達也","スズキ","タツヤ","男",null,3]
[1010,46446,"小林","義和","コバヤシ","ヨシカズ","男",null,3]
[1011,46448,"遠藤","祐輝","エンドウ","ユウキ","男",null,2]
[1012,46449,"高林","克光","タカバヤシ","カツミ","男",null,1]
[1013,46450,"野田","哲平","ノダ","テッペイ","男",null,1]
[1014,46501,"阿部","優樹","アベ","ユウキ","男",null,2]
[1015,46502,"大芝","健人","オオシバ","タケト","男",null,3]
[1016,46503,"圓谷","光佑","ツブラヤ","コウスケ","男",null,3]
[1017,46504,"伊東","大翔","イトウ","ヒロト","男",null,2]
[1018,46505,"安部","柚作","アベ","ユウサク","男",null,2]
[1019,46506,"関口","絢太","セキグチ","ケンタ","男",null,2]
[1020,46507,"丸山","知己","マルヤマ","トモキ","男",null,3]
[1021,46508,"菅原","梨矩","スガワラ","リク","男",null,2]
[1022,46509,"宮澤","徹","ミヤザワ","トオル","男",null,2]
[1023,46510,"村野","裕次郎","ムラノ","ユウジロウ","男",null,3]
[1024,46511,"中野","大地","ナカノ","ダイチ","男",null,3]
[1025,46512,"後藤","瞭太","ゴトウ","リョウタ","男",null,3]
[1026,46513,"浅川","恵司","アサカワ","ケイジ","男",null,2]
[1027,46514,"大澤","太我","オオサワ","タイガ","男",null,3]
[1028,46515,"荻野","新","オギノ","シン","男",null,3]
[1029,46516,"小野","鼓太郎","オノ","コタロウ","男",null,3]
[1030,46517,"久松","啓真","ヒサマツ","ケイマ","男",null,3]
[1031,46518,"林","遼太郎","ハヤシ","リョウタロウ","男",null,3]
[1032,46519,"吉野","光太朗","ヨシノ","コウタロウ","男",null,3]
[1033,46520,"中西","洸貴","ナカニシ","コウキ","男",null,1]
[1034,46521,"浦田","優斗","ウラタ","ユウト","男",null,1]
[1035,46522,"内田","杜和","ウチダ","トワ","男",null,1]
[1036,46523,"茅野","友翔","カヤノ","ユウト","男",null,1]
[1037,46524,"沼井","優斗","ヌマイ","ユウト","男",null,1]
[1038,46525,"新井","俊祐","アライ","シュンスケ","男",null,2]
[1039,46526,"富田","翔","トミタ","ショウ","男",null,1]
[1040,46527,"村瀬","広晃","ムラセ","ヒロアキ","男",null,1]
[1041,46529,"星野","圭吾","ホシノ","ケイゴ","男",null,2]
[1042,46530,"佐野","眞斗","サノ","マナト","男",null,1]
[1043,46531,"小泉","樹","コイズミ","イツキ","男",null,1]
[1044,46534,"玉井","遼太","タマイ","リョウタ","男",null,2]
[1045,46535,"蜂巣","翔陽","ハチス","ショウヨウ","男",null,2]
[1046,46536,"伊藤","開","イトウ","カイ","男",null,1]
[1047,46537,"新井","晴文","アライ","ハルフミ","男",null,1]
[1048,46538,"和田","朋之","ワダ","トモユキ","男",null,2]
[1049,46539,"橋本","章央","ハシモト","アキオ","男",null,2]
[1050,46540,"伊勢","侑一郎","イセ","ユウイチロウ","男",null,1]
[1051,46541,"久保木","廉","クボキ","レン","男",null,1]
[1052,46542,"村上","大洋","ムラカミ","タイヨウ","男",null,1]
[1053,46543,"松本","創紀","マツモト","ソウキ","男",null,2]
[1054,46544,"古川","達基","フルカワ","タツキ","男",null,1]
[1055,46545,"北山","雅之","キタヤマ","マサユキ","男",null,3]
[1056,46546,"尾﨑","凌斗","オザキ","リョウト","男",null,3]
[1057,46547,"野村","健太","ノムラ","ケンタ","男",null,3]
[1058,46548,"原","壮多","ハラ","ソウタ","男",null,3]
[1059,46549,"山﨑","一輝","ヤマザキ","カズキ","男",null,3]
[1060,46550,"宮﨑","瑠安","ミヤザキ","ルアン","男",null,2]
[1061,46551,"小林","葵","コバヤシ","アオイ","女",null,2]
[1062,46552,"土屋","優芽","ツチヤ","ユメ","女",null,2]
[1063,46553,"藤田","咲季","フジタ","サキ","女",null,2]
[1064,46554,"坂井","伶名","サカイ","レイナ","女",null,1]
[1065,46555,"底","花音","ソコ","カノン","女",null,2]
[1066,46556,"大谷","晴香","オオタニ","ハルカ","女",null,3]
[1067,46557,"堀","ひかる","ホリ","ヒカル","女",null,3]
[1068,46558,"松本","希美","マツモト","ノゾミ","女",null,3]
[1069,46559,"古賀","環","コガ","タマキ","女",null,1]
[1070,46561,"佐藤","来夢","サトウ","ライム","女",null,3]
[1071,46562,"桒垣","匠","クワガキ","タクミ","男",null,2]
[1072,46563,"岡島","未奈","オカジマ","ミナ","女",null,1]
[1073,46564,"北岡","怜実","キタオカ","レミ","女",null,1]
[1074,46565,"川口","由貴","カワグチ","ユキ","女",null,1]
[1075,46566,"太田","賀子","オオタ","カコ","女",null,1]
[1076,46567,"岡田","拓","オカダ","タク","男",null,2]
[1077,46568,"森下","紹里","モリシタ","ツグリ","女",null,2]
[1078,46569,"内田","朋花","ウチダ","トモカ","女",null,1]
[1079,46572,"秋山","ヒカル","アキヤマ","ヒカル","女",null,1]
[1080,46573,"小平","苑子","コダイラ","ソノコ","女",null,2]
[1081,46575,"徳富","優太","トクトミ","ユウタ","男",null,3]
[1082,46576,"平岩","佳夏","ヒライワ","カナ","女",null,2]
[1083,46577,"白土","桃子","シラト","モモコ","女",null,1]
[1084,46578,"板東","萌","バンドウ","モエ","女",null,1]
[1085,46579,"藤本","真帆","フジモト","マホ","女",null,1]
[1086,46580,"井指","晴貴","イサシ","ハルキ","男",null,1]
[1087,46581,"横田","龍之助","ヨコタ","リュウノスケ","男",null,1]
[1088,46701,"中山","海晴","ナカヤマ","カイセイ","男",null,1]
[1089,46702,"根本","光","ネモト","ヒカル","男",null,1]
[1090,46721,"上原","諒","ウエハラ","リョウ","男",null,3]
[1091,46722,"小池","悠太","コイケ","ユウタ","男",null,3]
[1092,46723,"佐藤","健登","サトウ","ケント","男",null,3]
[1093,46724,"田川","竜ノ介","タガワ","リュウノスケ","男",null,3]
[1094,46725,"山田","拓海","ヤマダ","タクミ","男",null,3]
[1095,46726,"金子","明日翔","カネコ","アスカ","男",null,2]
[1096,46727,"京墓","凌","キョウヅカ","リョウ","男",null,2]
[1097,46728,"佐藤","蓮","サトウ","レン","男",null,2]
[1098,46729,"下田","倖輝","シモダ","コウキ","男",null,2]
[1099,46730,"鈴木","康世","スズキ","コウセイ","男",null,2]
[1100,46731,"鈴木","雄貴","スズキ","ユウキ","男",null,2]
[1101,46732,"髙城","優輝","タカギ","ユウキ","男",null,2]
[1102,46733,"高田","峻輔","タカダ","シュンスケ","男",null,2]
[1103,46734,"高田","尚貴","タカダ","ナオキ","男",null,2]
[1104,46735,"船津","拓斗","フナツ","タクト","男",null,2]
[1105,46736,"星野","航汰","ホシノ","コウタ","男",null,2]
[1106,46737,"水落","浩人","ミズオチ","ヒロト","男",null,2]
[1107,46738,"宮澤","将人","ミヤザワ","マサト","男",null,2]
[1108,46739,"山田","健太","ヤマダ","ケンタ","男",null,2]
[1109,46740,"井口","真之介","イグチ","シンノスケ","男",null,1]
[1110,46741,"金井","輝","カナイ","ヒカル","男",null,1]
[1111,46742,"細谷","柊真","ホソヤ","シュウマ","男",null,1]
[1112,46743,"阿藤","宏朗","アトウ","ヒロアキ","男",null,1]
[1113,46744,"市村","優太","イチムラ","ユウタ","男",null,1]
[1114,46745,"岩下","勇輝","イワシタ","ユウキ","男",null,1]
[1115,46746,"河原","悠馬","カワハラ","ユウマ","男",null,1]
[1116,46747,"末吉","裕","スエヨシ","ユウ","男",null,1]
[1117,46748,"髙橋","龍之介","タカハシ","リュウノスケ","男",null,1]
[1118,46749,"寺田","康太","テラダ","コウタ","男",null,1]
[1119,46750,"中村","秀敏","ナカムラ","ヒデトシ","男",null,1]
[1120,46775,"宮下","理那","ミヤシタ","リナ","女",null,3]
[1121,46777,"小坂","清楓","コサカ","サヤカ","女",null,3]
[1122,46778,"小林","さくら","コバヤシ","サクラ","女",null,3]
[1123,46779,"瀧口","真代","タキグチ","マシロ","女",null,3]
[1124,46780,"能勢","七海","ノセ","ナナミ","女",null,3]
[1125,46781,"平野","唯香","ヒラノ","ユイカ","女",null,3]
[1126,46782,"宮城","佳歩","ミヤギ","カホ","女",null,3]
[1127,46784,"渡辺","宣子","ワタナベ","ノリコ","女",null,3]
[1128,46785,"田上","珠里","タノウエ","ジュリ","女",null,2]
[1129,46786,"田島","くるみ","タジマ","クルミ","女",null,2]
[1130,46787,"佐藤","未歩","サトウ","ミホ","女",null,3]
[1131,46791,"細田","優希","ホソダ","ユウキ","女",null,2]
[1132,46792,"松本","実夏","マツモト","ミカ","女",null,2]
[1133,46793,"横田","果歩","ヨコタ","カホ","女",null,2]
[1134,46794,"野口","香乃","ノグチ","カノ","女",null,1]
[1135,46795,"恩田","希美","オンダ","ノゾミ","女",null,1]
[1136,46796,"黒川","緋乃","クロカワ","ヒナ","女",null,1]
[1137,46813,"岩見","良祐","イワミ","リョウスケ","男",null,3]
[1138,46814,"楠見","燎平","クスミ","リョウヘイ","男",null,3]
[1139,46815,"佐藤","快哉","サトウ","カイヤ","男",null,3]
[1140,46816,"高橋","渚","タカハシ","ナギサ","男",null,3]
[1141,46817,"松沢","和樹","マツザワ","カズキ","男",null,3]
[1142,46818,"山澤","佳季","ヤマザワ","ヨシキ","男",null,3]
[1143,46820,"大塚","晃誠","オオツカ","コウセイ","男",null,2]
[1144,46821,"須藤","廉生","ストウ","レンセイ","男",null,2]
[1145,46822,"山本","慎太朗","ヤマモト","シンタロウ","男",null,2]
[1146,46823,"上野","駿介","ウエノ","シュンスケ","男",null,1]
[1147,46824,"浦田","蓮太郎","ウラタ","レンタロウ","男",null,1]
[1148,46825,"内海","元希","ウツミ","モトキ","男",null,1]
[1149,46826,"奥冨","竜也","オクトミ","タツヤ","男",null,1]
[1150,46828,"佐久間","竜聖","サクマ","リュウセイ","男",null,1]
[1151,46829,"南部","颯太","ナンブ","ソウタ","男",null,1]
[1152,46830,"林","健太","ハヤシ","ケンタ","男",null,1]
[1153,46831,"林","耕佐","ハヤシ","コウスケ","男",null,1]
[1154,46832,"藤原","太一","フジワラ","タイチ","男",null,1]
[1155,46833,"松崎","壮也","マツザキ","ソウヤ","男",null,1]
[1156,46834,"宮本","秀人","ミヤモト","シュウト","男",null,1]
[1157,46873,"小栁","友里","コヤナギ","ユウリ","女",null,3]
[1158,46874,"石坂","明日香","イシザカ","アスカ","女",null,2]
[1159,46875,"池原","唯純","イケハラ","イズミ","女",null,2]
[1160,46878,"鈴木","南都子","スズキ","ナツコ","女",null,1]
[1161,46879,"渕上","倭圭","フチガミ","ワカ","女",null,1]
[1162,46880,"水庭","夕香子","ミズニワ","ユカコ","女",null,1]
[1163,46901,"五味","大樹","ゴミ","タイキ","男",null,2]
[1164,46902,"北折","駿之祐","キタオリ","シュンノスケ","男",null,2]
[1165,46903,"斎藤","晃央","サイトウ","コオ","男",null,2]
[1166,46904,"堀井","亮成","ホリイ","リョウセイ","男",null,2]
[1167,46905,"菅野","耕作","スガノ","コウサク","男",null,2]
[1168,46906,"桂","一晴","カツラ","イッセイ","男",null,1]
[1169,46907,"宇田川","康平","ウダガワ","コウヘイ","男",null,2]
[1170,46936,"青山","直史","アオヤマ","ナオフミ","男",null,3]
[1171,46939,"辻","悠斗","ツジ","ユウト","男",null,3]
[1172,46940,"大出","裕士","オオデ","ヒロシ","男",null,3]
[1173,46941,"山本","将大","ヤマモト","マサヒロ","男",null,3]
[1174,46942,"小倉","泰海","オグラ","タイガ","男",null,3]
[1175,46943,"中島","秀斗","ナカジマ","シュウト","男",null,3]
[1176,46944,"渡部","祥司朗","ワタベ","ショウジロウ","男",null,3]
[1177,46945,"田代","駿之真","タシロ","シュンノシン","男",null,2]
[1178,46946,"三木","啓太","ミキ","ケイタ","男",null,2]
[1179,46947,"平野","岳","ヒラノ","ガク","男",null,2]
[1180,46948,"伊藤","雄大","イトウ","ユウダイ","男",null,2]
[1181,46949,"菊地","慧","キクチ","ケイ","男",null,2]
[1182,46950,"大澤","颯太","オオサワ","ソウタ","男",null,2]
[1183,46966,"大嶋","里菜","オオシマ","リナ","女",null,3]
[1184,46968,"笠原","未遥","カサハラ","ミハル","女",null,3]
[1185,46969,"鳥居","奈々","トリイ","ナナ","女",null,3]
[1186,46970,"小杉","茉由","コスギ","マユ","女",null,1]
[1187,46971,"深澤","美南","フカザワ","ミナミ","女",null,1]
[1188,47013,"原","彰吾","ハラ","ショウゴ","男",null,3]
[1189,47014,"藤田","仁","フジタ","ジン","男",null,3]
[1190,47015,"齋藤","辰弥","サイトウ","タツヤ","男",null,3]
[1191,47016,"小野寺","恒","オノデラ","ヒサシ","男",null,3]
[1192,47017,"黒木","颯平","クロキ","ソウヘイ","男",null,3]
[1193,47018,"千葉","貴裕","チバ","タカヒロ","男",null,3]
[1194,47020,"藤森","俊也","フジモリ","シュンヤ","男",null,3]
[1195,47021,"飯塚","仁希太","イイヅカ","ニキタ","男",null,2]
[1196,47022,"香山","竜之介","カヤマ","リュウノスケ","男",null,2]
[1197,47023,"川崎","奨央","カワサキ","ショウオウ","男",null,2]
[1198,47024,"高倉","悠伸","タカクラ","ユウシン","男",null,2]
[1199,47025,"小野寺","優朗","オノデラ","マサアキ","男",null,2]
[1200,47026,"中野","俊","ナカノ","シュン","男",null,2]
[1201,47027,"三枝","将人","サエグサ","マサト","男",null,2]
[1202,47028,"後藤","伊央利","ゴトウ","イオリ","男",null,1]
[1203,47029,"新川","翔貴","シンカワ","ショウキ","男",null,1]
[1204,47030,"今村","恵祐","イマムラ","ケイスケ","男",null,1]
[1205,47031,"片野","里駆","カタノ","リク","男",null,1]
[1206,47032,"山口","陸斗","ヤマグチ","リクト","男",null,1]
[1207,47033,"蒲","龍樹","カバ","リュウジュ","男",null,1]
[1208,47034,"古田","蓮武","フルタ","レン","男",null,1]
[1209,47035,"松岡","蒼透","マツオカ","アオト","男",null,1]
[1210,47036,"金岡","一樹","カナオカ","カズキ","男",null,1]
[1211,47037,"竹内","大和","タケウチ","ヤマト","男",null,1]
[1212,47038,"三宅","昭輝","ミヤケ","ハルキ","男",null,1]
[1213,47069,"秋山","鈴奈","アキヤマ","レイナ","女",null,3]
[1214,47070,"天野","景衣","アマノ","ケイ","女",null,3]
[1215,47071,"大濵","百花","オオハマ","モモカ","女",null,3]
[1216,47072,"香取","由真","カトリ","ユマ","女",null,3]
[1217,47073,"間渕","桃奈","マブチ","モモナ","女",null,3]
[1218,47074,"山﨑","円香","ヤマザキ","マドカ","女",null,3]
[1219,47075,"吉岡","なな","ヨシオカ","ナナ","女",null,3]
[1220,47076,"長谷川","吉子","ハセガワ","サチコ","女",null,3]
[1221,47077,"木澤","七海","キザワ","ナナミ","女",null,3]
[1222,47078,"清水","優美花","シミズ","ユミカ","女",null,3]
[1223,47079,"大塚","怜音","オオツカ","レオン","女",null,3]
[1224,47081,"小栗","愛海","オグリ","マナミ","女",null,2]
[1225,47082,"小松","遥","コマツ","ハルカ","女",null,2]
[1226,47083,"山口","明日香","ヤマグチ","アスカ","女",null,2]
[1227,47084,"藤原","ゆうか","フジワラ","ユウカ","女",null,2]
[1228,47085,"堀井","颯空","ホリイ","ソラ","女",null,2]
[1229,47086,"本橋","夏希","モトハシ","ナツキ","女",null,2]
[1230,47087,"竹内","栞萌","タケウチ","カホ","女",null,1]
[1231,47088,"山本","菜奈葉","ヤマモト","ナナハ","女",null,1]
[1232,47089,"虻川","瑞希","アブカワ","ミズキ","女",null,1]
[1233,47090,"柴沼","夏奈","シバヌマ","カナ","女",null,1]
[1234,47091,"宮","三怜","ミヤ","ミレイ","女",null,1]
[1235,47092,"四郎丸","幸海","シロウマル","ユキミ","女",null,1]
[1236,47093,"久保田","京花","クボタ","キョウカ","女",null,1]
[1237,47094,"落合","理名","オチアイ","リナ","女",null,1]
[1238,47095,"桑田","夏帆","クワタ","カホ","女",null,1]
[1239,47096,"堤","麻柚子","ツツミ","マユコ","女",null,1]
[1240,47113,"池濱","翼","イケハマ","ツバサ","男",null,3]
[1241,47116,"小川","晃生","オガワ","コウキ","男",null,2]
[1242,47117,"久保田","瑶生","クボタ","ヨウセイ","男",null,2]
[1243,47118,"長谷川","由","ハセガワ","ユウ","男",null,2]
[1244,47119,"阿出川","嵩","アデガワ","シュウ","男",null,2]
[1245,47120,"大高","尚輝","オオタカ","ナオキ","男",null,2]
[1246,47121,"髙橋","陽南","タカハシ","ヒナタ","男",null,2]
[1247,47123,"礒津","良太","イソヅ","リョウタ","男",null,1]
[1248,47124,"内田","颯一郎","ウチダ","ソウイチロウ","男",null,1]
[1249,47125,"櫻井","晴","サクライ","ハル","男",null,1]
[1250,47126,"辻井","亮羽","ツジイ","リョウ","男",null,1]
[1251,47127,"長澤","壮大","ナガサワ","ソウタ","男",null,1]
[1252,47128,"野澤","雅治","ノザワ","マサハル","男",null,1]
[1253,47129,"圓山","律平","マルヤマ","リッペイ","男",null,1]
[1254,47130,"工藤","真宙","クドウ","マヒロ","男",null,1]
[1255,47152,"野中","かおり","ノナカ","カオリ","女",null,2]
[1256,47155,"阿部","百花","アベ","モモカ","女",null,1]
[1257,47156,"川住","伊代","カワスミ","イヨ","女",null,1]
[1258,47157,"宮澤","希々","ミヤザワ","ネネ","女",null,1]
[1259,47158,"矢部","恵子","ヤベ","ケイコ","女",null,1]
[1260,47159,"簔口","優奈","ミノグチ","ユウナ","女",null,1]
[1261,47188,"井上","京香","イノウエ","キョウカ","女",null,3]
[1262,47189,"久保田","凪沙","クボタ","ナギサ","女",null,3]
[1263,47190,"若杉","栞南","ワカスギ","カンナ","女",null,3]
[1264,47191,"宇田川","真優","ウダガワ","マユ","女",null,3]
[1265,47192,"佐藤","緑彩","サトウ","ツカサ","女",null,3]
[1266,47193,"常山","ほのか","ツネヤマ","ホノカ","女",null,3]
[1267,47194,"河邊","咲","カワベ","サキ","女",null,2]
[1268,47195,"髙橋","怜","タカハシ","レイ","女",null,2]
[1269,47199,"吉野","萌","ヨシノ","モエ","女",null,2]
[1270,47252,"西田","あすか","ニシダ","アスカ","女",null,3]
[1271,47254,"西貝","美羽","ニシガイ","ミハ","女",null,3]
[1272,47255,"本名","未歩","ホンナ","ミホ","女",null,3]
[1273,47256,"小八重","結香","コヤエ","ユイカ","女",null,2]
[1274,47259,"石田","絵莉","イシダ","エリ","女",null,2]
[1275,47260,"大坪","碧良","オオツボ","ソラ","女",null,1]
[1276,47261,"内藤","凜乃","ナイトウ","リンノ","女",null,1]
[1277,47262,"渡辺","春乃","ワタナベ","ハルノ","女",null,1]
[1278,47373,"後藤","遥希","ゴトウ","ハルキ","女",null,2]
[1279,47374,"谷","愛央","タニ","マナオ","女",null,2]
[1280,47375,"寺田","彩夏","テラダ","アヤカ","女",null,2]
[1281,47378,"村田","桃萌","ムラタ","モモエ","女",null,2]
[1282,47379,"山越","采佳","ヤマゴシ","アヤカ","女",null,2]
[1283,47380,"酒井","萌花","サカイ","モカ","女",null,1]
[1284,47381,"丹野","咲羽子","タンノ","サワコ","女",null,1]
[1285,47382,"加藤","未宇","カトウ","ミウ","女",null,1]
[1286,47383,"田口","真理子","タグチ","マリコ","女",null,1]
[1287,47384,"壬生","まほ","ミブ","マホ","女",null,1]
[1288,47385,"八木","沙和","ヤギ","サワ","女",null,1]
[1289,47514,"望月","拓朗","モチヅキ","タクロウ","男",null,3]
[1290,47516,"田中","快治","タナカ","ヨシハル","男",null,1]
[1291,47517,"原","英司","ハラ","エイジ","男",null,1]
[1292,47567,"田村","彩七","タムラ","アヤナ","女",null,3]
[1293,47568,"畠山","貴圭","ハタケヤマ","アツカ","女",null,3]
[1294,47569,"濵島","祐貴子","ハマシマ","ユキコ","女",null,2]

{"sheet":"ﾃﾞｰﾀ","index":9,"n_rows":62,"n_cols":17,"rows_kept":62,"cut":false,"hidden":true,"merged":[]}
[null,"ｺｰﾄﾞ",null,null,null,"ﾘﾚｰ","男",null,"女",null,null,null,"元"]
["種目","男","女",null,null,null,"4×100","4×400","4×100","4×400",null,"種目","男","女"]
["200m",1002,2002,2,null,"A1",11,111,211,311,null,"100m",1001,2001,1,null,"○"]
["400m",1004,2004,3,null,"A2",12,112,212,312,null,"200m",1002,2002,2]
["800m",1008,2008,4,null,"A3",13,113,213,313,null,"400m",1004,2004,3]
["1500m",1015,2015,5,null,"A4",14,114,214,314,null,"800m",1008,2008,4]
["110mH",1201,null,9,null,"A5",15,115,215,315,null,"1500m",1015,2015,5]
["400mH",1204,2204,10,null,"A6",16,116,216,316,null,"3000m",1030,2030,6]
["走高跳",1801,2801,13,null,"B1",21,121,221,321,null,"5000m",1050,2050,7]
["棒高跳",1802,2802,14,null,"B2",22,122,222,322,null,"100mH",null,2201,8]
["砲丸投",1901,2901,17,null,"B3",23,123,223,323,null,"110mH",1201,null,9]
["男中学砲丸投",5901,5902,18,null,"B4",24,124,224,324,null,"400mH",1204,2204,10]
["円盤投",1902,2902,20,null,"B5",25,125,225,325,null,"3000mSC",1230,null,11]
["やり投",1904,2904,22,null,"B6",26,126,226,326,null,"5000mW",1250,1250,12]
["200m",1002,2002,2,null,"C1",31,131,231,331,null,"走高跳",1801,2801,13]
["400m",1004,2004,3,null,"C2",32,132,232,332,null,"棒高跳",1802,2802,14]
["800m",1008,2008,4,null,"C3",33,133,233,333,null,"走幅跳",1803,2803,15]
["1500m",1015,2015,5,null,"C4",34,134,234,334,null,"三段跳",1804,2804,16]
["100mH",null,2201,8,null,"C5",35,135,235,335,null,"砲丸投",1901,2901,17]
["400mH",1204,2204,10,null,"C6",36,136,236,336,null,"円盤投",1902,2902,20]
["走高跳",1801,2801,13,null,"D1",41,141,241,341,null,"ﾊﾝﾏｰ投",1903,2903,21]
["棒高跳",1802,2802,14,null,"D2",42,142,242,342,null,"やり投",1904,2904,22]
["砲丸投",1901,2901,17,null,"D3",43,143,243,343,null,"男4×100",1400,null,21]
["女中学砲丸投",5902,5902,19,null,"D4",44,144,244,344,null,"男4×400",1600,null,22]
["円盤投",1902,2902,20,null,"D5",45,145,245,345,null,"100m",1001,2001,1]
["やり投",1904,2904,22,null,"D6",46,146,246,346,null,"200m",1002,2002,2]
[null,null,null,null,null,"E1",51,151,251,351,null,"400m",1004,2004,3]
[null,null,null,null,null,"E2",52,152,252,352,null,"800m",1008,2008,4]
[null,null,null,null,null,"E3",53,153,253,353,null,"1500m",1015,2015,5]
[null,null,null,null,null,"E4",54,154,254,354,null,"3000m",1030,2030,6]
[null,null,null,null,null,"E5",55,155,255,355,null,"5000m",1050,2050,7]
[null,null,null,null,null,"E6",56,156,256,356,null,"100mH",null,2201,8]
[null,null,null,null,null,"F1",61,161,261,361,null,"110mH",1201,null,9]
[null,null,null,null,null,"F2",62,162,262,362,null,"400mH",1204,2204,10]
[null,null,null,null,null,"F3",63,163,263,363,null,"3000mSC",1230,null,11]
[null,null,null,null,null,"F4",64,164,264,364,null,"5000mW",1250,1250,12]
[null,null,null,null,null,"F5",65,165,265,365,null,"走高跳",1801,2801,13]
[null,null,null,null,null,"F6",66,166,266,366,null,"棒高跳",1802,2802,14]
[null,null,null,null,null,"G1",71,171,271,371,null,"走幅跳",1803,2803,15]
[null,null,null,null,null,"G2",72,172,272,372,null,"三段跳",1804,2804,16]
[null,null,null,null,null,"G3",73,173,273,373,null,"砲丸投",1901,2901,17]
[null,null,null,null,null,"G4",74,174,274,374,null,"円盤投",1902,2902,20]
[null,null,null,null,null,"G5",75,175,275,375,null,"ﾊﾝﾏｰ投",1903,2903,21]
[null,null,null,null,null,"G6",76,176,276,376,null,"やり投",1904,2904,22]
[null,null,null,null,null,"H1",81,181,281,381,null,"女4×100",null,2400]
[null,null,null,null,null,"H2",82,182,282,382,null,"女4×400",null,2600]
[null,null,null,null,null,"H3",83,183,283,383,null,"男中学砲丸投",5901,5902,18]
[null,null,null,null,null,"H4",84,184,284,384,null,"女中学砲丸投",5902,5902,19]
[null,null,null,null,null,"H5",85,185,285,385]
[null,null,null,null,null,"H6",86,186,286,386]
[null,null,null,null,null,"I1",91,191,291,391]
[null,null,null,null,null,"I2",92,192,292,392]
[null,null,null,null,null,"I3",93,193,293,393]
[null,null,null,null,null,"I4",94,194,294,394]
[null,null,null,null,null,"I5",95,195,295,395]
[null,null,null,null,null,"I6",96,196,296,396]
[null,null,null,null,null,"J1",101,201,301,401]
[null,null,null,null,null,"J2",102,202,302,402]
[null,null,null,null,null,"J3",103,203,303,403]
[null,null,null,null,null,"J4",104,204,304,404]
[null,null,null,null,null,"J5",105,205,305,405]
[null,null,null,null,null,"J6",106,206,306,406]