{"text_format":"1","workbook":"xlsx","n_sheets":9,"sheets":["入力方法","新規登録","ｴﾝﾄﾘｰ票","会計シート","リレー確認","Ａ票男(都予選)","Ａ票女(都予選)","氏名ﾃﾞｰﾀ","ﾃﾞｰﾀ"],"not_rendered":{"charts":0,"images":0,"macros":1,"external_links":0,"defined_names":8,"comments":0,"pivot_tables":0},"unopened":[],"bounds":{"document_bytes":16777216,"sheet_cells":100000,"rows_first":2000,"rows_last":500,"rows_between":2000,"halvings":0,"cell_chars":16384,"cell_head_chars":4096},"cells_cut":0,"cells_raw":0,"read":"whole","date_system":"1900"}

{"sheet":"入力方法","index":0,"n_rows":71,"n_cols":28,"rows_kept":71,"cut":false,"hidden":false,"merged":[]}
[null,null,"手順"]
["C:\\Users\\TK5\\Desktop"]
[]
[]
[null,null,null,null,null,null,null,null,null,null,null,null,null,null,null,null,null,null,null,null,null,null,null,null,null,null,null,"こ"]
[null,null,null,null,null,null,null,null,null,null,null,null,null,null,null,null,null,null,null,null,null,null,null,null,null,null,null,"こ"]
[null,null,"①新規登録",null,null,null,null,null,null,null,null,null,null,null,null,null,null,null,null,null,null,null,null,null,null,null,null,"ま"]
[null,null,null,null,"↓色つきの部分に数値や文字を入力をしてくだい。A票、B票にリンクしています。",null,null,null,null,null,null,null,null,null,null,null,null,null,null,null,null,null,null,null,null,null,null,"で"]
[null,null,"5桁","氏名","全角","ﾌﾘｶﾞﾅ",null,"半角",null,"学年",null,"省略校名",null,null,"性別"]
[null,null,"半角","姓","名","姓",null,"名",null,"半角",null,"６文字　全角",null,null,"全角"]
[null,null,41001,"秋本","嘉一","ｱｷﾓﾄ",null,"ﾖｼｶｽﾞ",null,2,null,"都芦花",null,null,"男"]
[null,null,40201,"高野","淳子","ﾀｶﾉ",null,"ｼﾞｭﾝｺ",null,2,null,"学大附",null,null,"女"]
[null,null,48135,"今村","量子","ｲﾏﾑﾗ",null,"ﾘｮｳｺ",null,"Ｊ1",null,"昭和女子中",null,null,"女"]
[]
[]
[null,null,"②ｴﾝﾄﾘｰB票"]
[]
[null,null,"競技会名",null,"東京高体連陸上第４支部春季競技会"]
[null,null,"学校名（正式名称）",null,"東京都阿佐ヶ谷南高等学校",null,null,null,null,null,null,null,null,null,null,null,null,null,null,null,null,null,null,null,null,null,null,"こ"]
[null,null,"略称学校名",null,"都阿佐ヶ谷南",null,null,null,null,null,null,null,null,null,null,null,null,null,null,null,null,null,null,null,null,null,null,"こ"]
[null,null,"学校長名",null,"陸上　駅伝",null,null,null,null,null,null,null,null,null,null,null,null,null,null,null,null,null,null,null,null,null,null,"ま"]
[null,null,"学校所在地",null,"東京都杉並区南阿佐ヶ谷１－２３－４５",null,null,null,null,null,null,null,null,null,null,null,null,null,null,null,null,null,null,null,null,null,null,"で"]
[null,null,null,"電話番号","０３－３３９２－１２３４",null,null,null,null,null,null,null,null,null,null,null,null,null,"支部","学校番号"]
[null,null,null,"ＦＡＸ番号","０３－３３９２－１２３４",null,null,null,null,null,null,null,null,null,null,null,null,null,4,72]
[null,null,"顧問氏名",null,"陸上　投擲",null,null,null,null,null,null,null,null,null,null,null,null,null,"↑半角で入力します↓"]
[null,null,"連絡先",null,"０９０－００００－００００",null,null,null,null,null,null,null,null,null,null,null,null,null,"ﾘﾚｰ出場ﾁｰﾑ数",null,null,"ﾌﾟﾛｸﾞﾗﾑ"]
[null,null,null,null,null,null,null,null,null,null,null,null,null,null,null,null,null,null,"4×100","4×400"]
[null,null,null,null,null,null,null,null,null,null,null,null,null,null,null,null,null,"男子",1,1,"ﾁｰﾑ",0,"冊",null,null,null,null,"こ"]
[null,null,null,null,null,null,null,null,null,null,null,null,null,null,null,null,null,"女子",0,2,"ﾁｰﾑ",0,"冊",null,null,null,null,"こ"]
[null,null,"番号","氏名",null,"性別","種目１","最高記録　半角",null,null,"種目２","最高記録　半角",null,null,"種目３","最高記録　半角",null,null,"4×100","最高記録　半角",null,null,"4×400","最高記録　半角",null,null,null,"ま"]
[null,null,"半角","姓","名","全角",null,"分","秒",null,null,"分","秒",null,null,"分","秒",null,"走順","分","秒",null,"走順","分","秒",null,null,"で"]
[null,null,"5桁","全角","全角",null,"ﾘｽﾄから入力",null,"ｍ","ｃｍ","ﾘｽﾄから入力",null,"ｍ","ｃｍ","ﾘｽﾄから入力",null,"ｍ","ｃｍ","リストから入力",null,"ｍ","ｃｍ","リストから入力",null,"ｍ","ｃｍ"]
["",1,47201,"宇野","走一郎","男","100m",null,"12","34","砲丸投",null,"12","43","400mH","1","23","45","A1",null,"45","67","A3","3","45","67"]
["",2,47202,"加藤","走次郎","男","走幅跳",null,"5","43","走高跳",null,"00","00",null,null,null,null,"A2",null,"45","67"]
["",3,47203,"金田","走太","男","5000m","17","23","89",null,null,null,null,null,null,null,null,null,null,null,null,"A1","3","45","67"]
["",4,47204,"佐藤","投太","男"]
["",5,47205,"鈴木","跳太","男"]
["",6,47251,"駒沢","文子","女","100m",null,"14","32",null,null,null,null,null,null,null,null,null,null,null,null,"A1","00","00","00"]
["",7,47252,"大井","大子","女","400mH","1","23","45"]
["",8,47253,"世田谷","杉子","女","砲丸投",null,"6","78",null,null,null,null,null,null,null,null,null,null,null,null,"B1",null,"56","78"]
["",9,47254,"上柚木","並子","女","3000m","10","23","45","円盤投",null,"00","00",null,null,null,null,null,null,null,null,"A2","00","00","00"]
["",10,47255,"夢島","高子","女",null,null,null,null,null,null,null,null,null,null,null,null,null,null,null,null,"A3","00","00","00"]
[null,11,47256,"江戸川","中子","女",null,null,null,null,null,null,null,null,null,null,null,null,null,null,null,null,"A4","00","00","00"]
[null,12,null,null,null,null,null,null,null,null,null,null,null,null,null,null,null,null,null,null,null,null,null,null,null,null,null,"こ"]
[null,13,null,null,null,null,null,null,null,null,null,null,null,null,null,null,null,null,null,null,null,null,null,null,null,null,null,"こ"]
[null,14,null,"","","",null,null,null,null,null,null,null,null,null,null,null,null,null,null,null,null,null,null,null,null,null,"ま"]
[null,null,null,null,null,null,null,null,null,null,null,null,null,null,null,null,null,null,null,null,null,null,null,null,null,null,null,"で"]
[]
[]
[]
[]
[]
[null,null,null,null,null,null,"100m",null,null,null,null,null,null,null,null,null,null,null,null,null,null,null,null,null,null,null,null,"こ"]
[null,null,null,null,null,null,"200m",null,null,null,null,null,null,null,null,null,null,null,null,null,null,null,null,null,null,null,null,"こ"]
[null,null,null,null,null,null,"400m",null,null,null,null,null,null,null,null,null,null,null,null,null,null,null,null,null,null,null,null,"ま"]
[null,null,null,null,null,null,"800m","←例です",null,null,null,null,null,null,null,null,null,null,null,null,null,null,null,null,null,null,null,"で"]
[null,null,null,null,null,null,"1500m"]
[null,null,null,null,null,null,"3000m"]
[null,null,null,null,null,null,"5000m"]
[null,null,null,null,null,null,"100mH"]
[null,null,null,null,null,null,"110mH"]
[null,null,null,null,null,null,"400mH"]
[null,null,null,null,null,null,"走高跳",null,null,null,null,null,null,null,null,null,null,null,null,null,null,null,null,null,null,null,null,"こ"]
[null,null,null,null,null,null,"走幅跳",null,null,null,null,null,null,null,null,null,null,null,null,null,null,null,null,null,null,null,null,"こ"]
[null,null,null,null,null,null,"三段跳",null,null,null,null,null,null,null,null,null,null,null,null,null,null,null,null,null,null,null,null,"ま"]
[null,null,null,null,null,null,"砲丸投",null,null,null,null,null,null,null,null,null,null,null,null,null,null,null,null,null,null,null,null,"で"]
[null,null,null,null,null,null,"円盤投"]
[null,null,null,null,null,null,"やり投"]
[]
[]
[null,null,"以上ここまで",null,null,null,"以上ここまで",null,null,"以上ここまで",null,null,null,"以上ここまで",null,null,"以上ここまで"]

{"sheet":"新規登録","index":1,"n_rows":104,"n_cols":10,"rows_kept":104,"cut":false,"hidden":false,"merged":[]}
[0,"↓色つきの部分だけに数値や文字を入力をしてくだい。A票、B票にリンクしています。"]
[0.1,"5桁","氏名","全角","ﾌﾘｶﾞﾅ","半角","学年","省略校名","性別"]
[0.2,"半角","姓","名","姓","名","半角","６文字　全角","全角"]
[0.3,null,"陸上","走太","ﾘｸｼﾞｮｳ","ｿｳﾀ",1,"都阿佐ヶ谷南","男","←例"]
[1]
[2]
[3]
[4]
[5]
[6]
[7]
[8]
[9]
[10]
[11]
[12]
[13]
[14]
[15]
[16]
[17]
[18]
[19]
[20]
[21]
[22]
[23]
[24]
[25]
[26]
[27]
[28]
[29]
[30]
[31]
[32]
[33]
[34]
[35]
[36]
[37]
[38]
[39]
[40]
[41]
[42]
[43]
[44]
[45]
[46]
[47]
[48]
[49]
[50]
[51]
[52]
[53]
[54]
[55]
[56]
[57]
[58]
[59]
[60]
[61]
[62]
[63]
[64]
[65]
[66]
[67]
[68]
[69]
[70]
[71]
[72]
[73]
[74]
[75]
[76]
[77]
[78]
[79]
[80]
[81]
[82]
[83]
[84]
[85]
[86]
[87]
[88]
[89]
[90]
[91]
[92]
[93]
[94]
[95]
[96]
[97]
[98]
[99]
[100]

{"sheet":"ｴﾝﾄﾘｰ票","index":2,"n_rows":215,"n_cols":64,"rows_kept":215,"cut":false,"hidden":false,"merged":[]}
[{"$f":"CONCATENATE(A2,\"\\\",A3)","v":"C:\\Users\\y-nezu\\Desktop\\400新人予選会731"},null,null,null,"競技会名",null,"東京都高校新人陸上競技大会第４支部予選会",null,null,null,null,null,null,null,null,null,null,"平成30年度","新人予選会"]
["C:\\Users\\y-nezu\\Desktop",null,null,null,"学校名（正式名称）"]
[{"$f":"CONCATENATE(VALUE(Z7*100+AA7),G3,S1,A5)","v":"400新人予選会731"},null,null,null,"略称学校名"]
[{"$f":"NOW()","v":"2018-07-31T08:30:43.210"},null,null,null,"学校長名"]
[{"$f":"TEXT(A4,\"md\")","v":"731"},null,null,null,"学校所在地"]
[null,null,null,null,null,"電話番号",null,null,null,null,null,null,null,null,null,null,null,null,null,null,null,null,null,null,null,"支部","学校番号"]
[null,null,null,null,null,"ＦＡＸ番号",null,null,null,null,null,null,null,null,null,null,null,null,null,null,null,null,null,null,null,4]
[null,null,null,null,"顧問氏名",null,null,null,null,null,null,null,null,null,null,null,null,null,null,null,null,null,null,null,null,"↑半角で入力します↓"]
[null,null,null,null,"連絡先",null,null,null,null,null,null,null,null,null,null,null,null,null,null,null,null,null,null,null,null,"ﾘﾚｰ出場ﾁｰﾑ数",null,null,"ﾌﾟﾛｸﾞﾗﾑ"]
[null,null,null,null,null,null,null,null,null,null,null,null,null,null,null,null,null,null,null,null,null,null,null,null,null,"4×100","4×400"]
[null,null,null,null,null,null,null,null,null,null,null,null,null,null,null,null,null,null,null,null,null,null,null,null,"男子",0,null,"ﾁｰﾑ",null,"冊"]
[null,null,null,null,null,null,null,null,null,null,null,null,null,null,null,null,null,null,null,null,null,null,null,null,"女子",0,null,"ﾁｰﾑ",null,"冊"]
[null,null,null,null,"番号","氏名",null,"ﾌﾘｶﾞﾅ",null,"学年","校名","性別","生年月日","種目１","最高記録　　半角",null,null,"種目２","最高記録　　半角",null,null,"種目３","最高記録　　半角",null,null,"4×100","最高記録　　半角",null,null,"4×400","最高記録　　半角",null,null,null,null,null,null,null,null,null,null,null,"男","4×100",null,"ﾘﾚｰ",null,null,"男","4×400",null,null,null,null,"女","4×100",null,"ﾘﾚｰ",null,null,"女","4×400"]
[null,null,null,null,"半角","姓","名","姓","名","半角","全角","全角","半角",null,"分","秒",null,null,"分","秒",null,null,"分","秒",null,"走順","分","秒",null,"走順","分","秒",null,null,null,"4×100","4×400"]
["4×100","4×400",0,null,"5桁","全角","全角","半角","半角",null,null,null,null,"ﾘｽﾄから入力",null,"ｍ","ｃｍ","ﾘｽﾄから入力",null,"ｍ","ｃｍ","ﾘｽﾄから入力",null,"ｍ","ｃｍ","リストから入力",null,"ｍ","ｃｍ","リストから入力",null,"ｍ","ｃｍ","男女","種目","記録","記録",null,null,null,{"$f":"IF(RIGHT(N15,4)=\"×100\",IF(L15=\"男\",VLOOKUP(Z15,ﾘﾚｰｺｰﾄﾞ,2,0),VLOOKUP(Z15,ﾘﾚｰｺｰﾄﾞ,4,0)),\"\")","v":""},null,"学校","５桁No","走順","記録",{"$f":"IF(RIGHT(N15,4)=\"×400\",IF(L15=\"男\",VLOOKUP(Z15,ﾘﾚｰｺｰﾄﾞ,3,0),VLOOKUP(Z15,ﾘﾚｰｺｰﾄﾞ,5,0)),\"\")","v":""},null,"学校","５桁No","走順","記録",{"$f":"IF(RIGHT(AR15,4)=\"×100\",IF(AO15=\"男\",VLOOKUP(AT15,ﾘﾚｰｺｰﾄﾞ,2,0),VLOOKUP(AT15,ﾘﾚｰｺｰﾄﾞ,4,0)),\"\")","v":""},null,"学校","５桁No","走順","記録",{"$f":"IF(RIGHT(AR15,4)=\"×400\",IF(AO15=\"男\",VLOOKUP(AT15,ﾘﾚｰｺｰﾄﾞ,3,0),VLOOKUP(AT15,ﾘﾚｰｺｰﾄﾞ,5,0)),\"\")","v":""},null,"学校","５桁No","走順","記録"]
[{"$f":"IF(Z16=\"\",\"\",IF(L16=\"男\",VLOOKUP(Z16,ﾘﾚｰｺｰﾄﾞ,2,0),VLOOKUP(Z16,ﾘﾚｰｺｰﾄﾞ,4,0)))","v":""},{"$f":"IF(AD16=\"\",\"\",IF(L16=\"男\",VLOOKUP(AD16,ﾘﾚｰｺｰﾄﾞ,3,0),VLOOKUP(AD16,ﾘﾚｰｺｰﾄﾞ,5,0)))","v":""},{"$f":"IF(E16=\"\",\"\",IF(AH16=1,COUNTIF(AH$16:AH16,1)*10+2001-10,COUNTIF(AH$16:AH16,2)*10+6001-10))","v":""},1,null,{"$f":"IF($E16=\"\",\"\",IF(ISERROR(VLOOKUP($E16,氏名ﾃﾞｰﾀ!$B:$J,2,0)),IF(ISERROR(VLOOKUP($E16,新規登録!$B:$I,2,0)),\"未登録\",VLOOKUP($E16,新規登録!$B:$I,2,0)),(VLOOKUP($E16,氏名ﾃﾞｰﾀ!$B:$J,2,0))))","v":""},{"$f":"IF($E16=\"\",\"\",IF(ISERROR(VLOOKUP($E16,氏名ﾃﾞｰﾀ!$B:$J,3,0)),IF(ISERROR(VLOOKUP($E16,新規登録!$B:$I,3,0)),\"未登録\",VLOOKUP($E16,新規登録!$B:$I,3,0)),(VLOOKUP($E16,氏名ﾃﾞｰﾀ!$B:$J,3,0))))","v":""},{"$f":"IF($E16=\"\",\"\",IF(ISERROR(VLOOKUP($E16,氏名ﾃﾞｰﾀ!$B:$J,4,0)),IF(ISERROR(VLOOKUP($E16,新規登録!$B:$I,4,0)),\"未登録\",VLOOKUP($E16,新規登録!$B:$I,4,0)),(VLOOKUP($E16,氏名ﾃﾞｰﾀ!$B:$J,4,0))))","v":""},{"$f":"IF($E16=\"\",\"\",IF(ISERROR(VLOOKUP($E16,氏名ﾃﾞｰﾀ!$B:$J,5,0)),IF(ISERROR(VLOOKUP($E16,新規登録!$B:$I,5,0)),\"未登録\",VLOOKUP($E16,新規登録!$B:$I,5,0)),(VLOOKUP($E16,氏名ﾃﾞｰﾀ!$B:$J,5,0))))","v":""},{"$f":"IF($E16=\"\",\"\",IF(ISERROR(VLOOKUP($E16,氏名ﾃﾞｰﾀ!$B:$J,8,0)),IF(ISERROR(VLOOKUP($E16,新規登録!$B:$I,6,0)),\"未登録\",VLOOKUP($E16,新規登録!$B:$I,6,0)),(VLOOKUP($E16,氏名ﾃﾞｰﾀ!$B:$J,8,0))))","v":""},{"$f":"IF($E16=\"\",\"\",IF(ISERROR(VLOOKUP($E16,氏名ﾃﾞｰﾀ!$B:$J,7,0)),IF(ISERROR(VLOOKUP($E16,新規登録!$B:$I,7,0)),\"未登録\",VLOOKUP($E16,新規登録!$B:$I,7,0)),$G$3))","v":""},{"$f":"IF($E16=\"\",\"\",IF(ISERROR(VLOOKUP($E16,氏名ﾃﾞｰﾀ!$B:$J,6,0)),IF(ISERROR(VLOOKUP($E16,新規登録!$B:$I,8,0)),\"ﾅｼ\",VLOOKUP($E16,新規登録!$B:$I,8,0)),(VLOOKUP($E16,氏名ﾃﾞｰﾀ!$B:$J,6,0))))","v":""},{"$f":"IF($E16=\"\",\"\",IF(ISERROR(VLOOKUP($E16,氏名ﾃﾞｰﾀ!$B:$J,9,0)),IF(ISERROR(VLOOKUP($E16,新規登録!$B:$I,9,0)),\"未登録\",VLOOKUP($E16,新規登録!$B:$I,9,0)),(VLOOKUP($E16,氏名ﾃﾞｰﾀ!$B:$J,9,0))))","v":""},null,null,null,null,null,null,null,null,null,null,null,null,null,null,null,null,null,null,null,null,{"$f":"IF(L16=\"男\",1,2)","v":2},{"$f":"IF(N16=\"\",\"\",VLOOKUP(N16,ﾃﾞｰﾀ!A:D,4,0))","v":""},{"$f":"IF(AA16=\"\",CONCATENATE(AB16,\"秒\",AC16),CONCATENATE(IF(LEN(AA16)=1,CONCATENATE(\"0\",AA16),AA16),\"分\",IF(LEN(AB16)=1,CONCATENATE(\"0\",AB16),AB16),\"秒\",IF(LEN(AC16)=1,CONCATENATE(AC16,\"0\"),AC16)))","v":"秒"},{"$f":"IF(AE16=\"\",CONCATENATE(AF16,\"秒\",AG16),CONCATENATE(IF(LEN(AE16)=1,CONCATENATE(\"0\",AE16),AE16),\"分\",IF(LEN(AF16)=1,CONCATENATE(\"0\",AF16),AF16),\"秒\",IF(LEN(AG16)=1,CONCATENATE(AG16,\"0\"),AG16)))","v":"秒"},null,null,null,{"$f":"IF(AH16=1,IF(Z16=\"\",1000,VLOOKUP(Z16,ﾃﾞｰﾀ!F$3:G$62,2,FALSE)),1000)","v":1000},{"$f":"IF(AR16=\"\",\"\",LEFT(AR16,3))","v":""},{"$f":"IF(AR16=\"\",\"\",LEFT(AR16,3))","v":""},{"$f":"IF(ISERROR(VLOOKUP(AO16,$A$16:$AH$215,5,0)),\"\",VLOOKUP(AO16,$A$16:$AH$215,5,0))","v":""},{"$f":"IF(AR16=\"\",\"\",VLOOKUP(AR16,$E$16:$AG$215,22,0))","v":""},{"$f":"IF(AR16=\"\",\"\",VLOOKUP(AR16,$E$16:$AK$215,32,0))","v":""},{"$f":"IF(AH16=1,IF(AD16=\"\",1000,VLOOKUP(AD16,ﾃﾞｰﾀ!F$3:H$62,3,FALSE)),1000)","v":1000},{"$f":"IF(AX16=\"\",\"\",LEFT(AX16,3))","v":""},{"$f":"IF(AX16=\"\",\"\",LEFT(AX16,3))","v":""},{"$f":"IF(ISERROR(VLOOKUP(AU16,$B$16:$AH$215,4,0)),\"\",VLOOKUP(AU16,$B$16:$AH$21545,4,0))","v":""},{"$f":"IF(AX16=\"\",\"\",VLOOKUP(AX16,$E$16:$AG$215,26,0))","v":""},{"$f":"IF(AX16=\"\",\"\",VLOOKUP(AX16,$E$16:$AK$215,33,0))","v":""},{"$f":"IF(AH16=2,IF(Z16=\"\",1000,VLOOKUP(Z16,ﾃﾞｰﾀ!F$3:I$62,4,FALSE)),1000)","v":1000},{"$f":"IF(BD16=\"\",\"\",LEFT(BD16,3))","v":""},{"$f":"IF(BD16=\"\",\"\",LEFT(BD16,3))","v":""},{"$f":"IF(ISERROR(VLOOKUP(BA16,$A$16:$AH$215,5,0)),\"\",VLOOKUP(BA16,$A$16:$AH$215,5,0))","v":""},{"$f":"IF(BD16=\"\",\"\",VLOOKUP(BD16,$E$16:$AG$215,22,0))","v":""},{"$f":"IF(BD16=\"\",\"\",VLOOKUP(BD16,$E$16:$AK$215,32,0))","v":""},{"$f":"IF(AH16=2,IF(AD16=\"\",1000,VLOOKUP(AD16,ﾃﾞｰﾀ!F$3:J$62,5,FALSE)),1000)","v":1000},{"$f":"IF(BJ16=\"\",\"\",LEFT(BJ16,3))","v":""},{"$f":"IF(BJ16=\"\",\"\",LEFT(BJ16,3))","v":""},{"$f":"IF(ISERROR(VLOOKUP(BG16,$B$16:$AH$215,4,0)),\"\",VLOOKUP(BG16,$B$16:$AH$21545,4,0))","v":""},{"$f":"IF(BJ16=\"\",\"\",VLOOKUP(BJ16,$E$16:$AG$215,26,0))","v":""},{"$f":"IF(BJ16=\"\",\"\",VLOOKUP(BJ16,$E$16:$AK$215,33,0))","v":""}]
["","",{"$f":"IF(E17=\"\",\"\",IF(AH17=1,COUNTIF(AH$16:AH17,1)*10+2001-10,COUNTIF(AH$16:AH17,2)*10+6001-10))","v":""},2,null,{"$f":"IF($E17=\"\",\"\",IF(ISERROR(VLOOKUP($E17,氏名ﾃﾞｰﾀ!$B:$J,2,0)),IF(ISERROR(VLOOKUP($E17,新規登録!$B:$I,2,0)),\"未登録\",VLOOKUP($E17,新規登録!$B:$I,2,0)),(VLOOKUP($E17,氏名ﾃﾞｰﾀ!$B:$J,2,0))))","v":""},{"$f":"IF($E17=\"\",\"\",IF(ISERROR(VLOOKUP($E17,氏名ﾃﾞｰﾀ!$B:$J,3,0)),IF(ISERROR(VLOOKUP($E17,新規登録!$B:$I,3,0)),\"未登録\",VLOOKUP($E17,新規登録!$B:$I,3,0)),(VLOOKUP($E17,氏名ﾃﾞｰﾀ!$B:$J,3,0))))","v":""},{"$f":"IF($E17=\"\",\"\",IF(ISERROR(VLOOKUP($E17,氏名ﾃﾞｰﾀ!$B:$J,4,0)),IF(ISERROR(VLOOKUP($E17,新規登録!$B:$I,4,0)),\"未登録\",VLOOKUP($E17,新規登録!$B:$I,4,0)),(VLOOKUP($E17,氏名ﾃﾞｰﾀ!$B:$J,4,0))))","v":""},{"$f":"IF($E17=\"\",\"\",IF(ISERROR(VLOOKUP($E17,氏名ﾃﾞｰﾀ!$B:$J,5,0)),IF(ISERROR(VLOOKUP($E17,新規登録!$B:$I,5,0)),\"未登録\",VLOOKUP($E17,新規登録!$B:$I,5,0)),(VLOOKUP($E17,氏名ﾃﾞｰﾀ!$B:$J,5,0))))","v":""},{"$f":"IF($E17=\"\",\"\",IF(ISERROR(VLOOKUP($E17,氏名ﾃﾞｰﾀ!$B:$J,8,0)),IF(ISERROR(VLOOKUP($E17,新規登録!$B:$I,6,0)),\"未登録\",VLOOKUP($E17,新規登録!$B:$I,6,0)),(VLOOKUP($E17,氏名ﾃﾞｰﾀ!$B:$J,8,0))))","v":""},{"$f":"IF($E17=\"\",\"\",IF(ISERROR(VLOOKUP($E17,氏名ﾃﾞｰﾀ!$B:$J,7,0)),IF(ISERROR(VLOOKUP($E17,新規登録!$B:$I,7,0)),\"未登録\",VLOOKUP($E17,新規登録!$B:$I,7,0)),$G$3))","v":""},{"$f":"IF($E17=\"\",\"\",IF(ISERROR(VLOOKUP($E17,氏名ﾃﾞｰﾀ!$B:$J,6,0)),IF(ISERROR(VLOOKUP($E17,新規登録!$B:$I,8,0)),\"ﾅｼ\",VLOOKUP($E17,新規登録!$B:$I,8,0)),(VLOOKUP($E17,氏名ﾃﾞｰﾀ!$B:$J,6,0))))","v":""},{"$f":"IF($E17=\"\",\"\",IF(ISERROR(VLOOKUP($E17,氏名ﾃﾞｰﾀ!$B:$J,9,0)),IF(ISERROR(VLOOKUP($E17,新規登録!$B:$I,9,0)),\"未登録\",VLOOKUP($E17,新規登録!$B:$I,9,0)),(VLOOKUP($E17,氏名ﾃﾞｰﾀ!$B:$J,9,0))))","v":""},null,null,null,null,null,null,null,null,null,null,null,null,null,null,null,null,null,null,null,null,2,{"$f":"IF(N17=\"\",\"\",VLOOKUP(N17,ﾃﾞｰﾀ!A:D,4,0))","v":""},"秒",{"$f":"IF(AE17=\"\",CONCATENATE(AF17,\"秒\",AG17),CONCATENATE(IF(LEN(AE17)=1,CONCATENATE(\"0\",AE17),AE17),\"分\",IF(LEN(AF17)=1,CONCATENATE(\"0\",AF17),AF17),\"秒\",IF(LEN(AG17)=1,CONCATENATE(AG17,\"0\"),AG17)))","v":"秒"},null,null,null,{"$f":"IF(AH17=1,IF(Z17=\"\",1000,VLOOKUP(Z17,ﾃﾞｰﾀ!F$3:G$62,2,FALSE)),1000)","v":1000},{"$f":"IF(AR17=\"\",\"\",LEFT(AR17,3))","v":""},{"$f":"IF(AR17=\"\",\"\",LEFT(AR17,3))","v":""},{"$f":"IF(ISERROR(VLOOKUP(AO17,$A$16:$AH$215,5,0)),\"\",VLOOKUP(AO17,$A$16:$AH$215,5,0))","v":""},"",{"$f":"IF(AR17=\"\",\"\",VLOOKUP(AR17,$E$16:$AK$215,32,0))","v":""},{"$f":"IF(AH17=1,IF(AD17=\"\",1000,VLOOKUP(AD17,ﾃﾞｰﾀ!F$3:H$62,3,FALSE)),1000)","v":1000},{"$f":"IF(AX17=\"\",\"\",LEFT(AX17,3))","v":""},{"$f":"IF(AX17=\"\",\"\",LEFT(AX17,3))","v":""},"",{"$f":"IF(AX17=\"\",\"\",VLOOKUP(AX17,$E$16:$AG$215,26,0))","v":""},{"$f":"IF(AX17=\"\",\"\",VLOOKUP(AX17,$E$16:$AK$215,33,0))","v":""},{"$f":"IF(AH17=2,IF(Z17=\"\",1000,VLOOKUP(Z17,ﾃﾞｰﾀ!F$3:I$62,4,FALSE)),1000)","v":1000},{"$f":"IF(BD17=\"\",\"\",LEFT(BD17,3))","v":""},{"$f":"IF(BD17=\"\",\"\",LEFT(BD17,3))","v":""},{"$f":"IF(ISERROR(VLOOKUP(BA17,$A$16:$AH$215,5,0)),\"\",VLOOKUP(BA17,$A$16:$AH$215,5,0))","v":""},"",{"$f":"IF(BD17=\"\",\"\",VLOOKUP(BD17,$E$16:$AK$215,32,0))","v":""},{"$f":"IF(AH17=2,IF(AD17=\"\",1000,VLOOKUP(AD17,ﾃﾞｰﾀ!F$3:J$62,5,FALSE)),1000)","v":1000},{"$f":"IF(BJ17=\"\",\"\",LEFT(BJ17,3))","v":""},{"$f":"IF(BJ17=\"\",\"\",LEFT(BJ17,3))","v":""},"","",{"$f":"IF(BJ17=\"\",\"\",VLOOKUP(BJ17,$E$16:$AK$215,33,0))","v":""}]
["","",{"$f":"IF(E18=\"\",\"\",IF(AH18=1,COUNTIF(AH$16:AH18,1)*10+2001-10,COUNTIF(AH$16:AH18,2)*10+6001-10))","v":""},3,null,{"$f":"IF($E18=\"\",\"\",IF(ISERROR(VLOOKUP($E18,氏名ﾃﾞｰﾀ!$B:$J,2,0)),IF(ISERROR(VLOOKUP($E18,新規登録!$B:$I,2,0)),\"未登録\",VLOOKUP($E18,新規登録!$B:$I,2,0)),(VLOOKUP($E18,氏名ﾃﾞｰﾀ!$B:$J,2,0))))","v":""},{"$f":"IF($E18=\"\",\"\",IF(ISERROR(VLOOKUP($E18,氏名ﾃﾞｰﾀ!$B:$J,3,0)),IF(ISERROR(VLOOKUP($E18,新規登録!$B:$I,3,0)),\"未登録\",VLOOKUP($E18,新規登録!$B:$I,3,0)),(VLOOKUP($E18,氏名ﾃﾞｰﾀ!$B:$J,3,0))))","v":""},{"$f":"IF($E18=\"\",\"\",IF(ISERROR(VLOOKUP($E18,氏名ﾃﾞｰﾀ!$B:$J,4,0)),IF(ISERROR(VLOOKUP($E18,新規登録!$B:$I,4,0)),\"未登録\",VLOOKUP($E18,新規登録!$B:$I,4,0)),(VLOOKUP($E18,氏名ﾃﾞｰﾀ!$B:$J,4,0))))","v":""},{"$f":"IF($E18=\"\",\"\",IF(ISERROR(VLOOKUP($E18,氏名ﾃﾞｰﾀ!$B:$J,5,0)),IF(ISERROR(VLOOKUP($E18,新規登録!$B:$I,5,0)),\"未登録\",VLOOKUP($E18,新規登録!$B:$I,5,0)),(VLOOKUP($E18,氏名ﾃﾞｰﾀ!$B:$J,5,0))))","v":""},{"$f":"IF($E18=\"\",\"\",IF(ISERROR(VLOOKUP($E18,氏名ﾃﾞｰﾀ!$B:$J,8,0)),IF(ISERROR(VLOOKUP($E18,新規登録!$B:$I,6,0)),\"未登録\",VLOOKUP($E18,新規登録!$B:$I,6,0)),(VLOOKUP($E18,氏名ﾃﾞｰﾀ!$B:$J,8,0))))","v":""},{"$f":"IF($E18=\"\",\"\",IF(ISERROR(VLOOKUP($E18,氏名ﾃﾞｰﾀ!$B:$J,7,0)),IF(ISERROR(VLOOKUP($E18,新規登録!$B:$I,7,0)),\"未登録\",VLOOKUP($E18,新規登録!$B:$I,7,0)),$G$3))","v":""},{"$f":"IF($E18=\"\",\"\",IF(ISERROR(VLOOKUP($E18,氏名ﾃﾞｰﾀ!$B:$J,6,0)),IF(ISERROR(VLOOKUP($E18,新規登録!$B:$I,8,0)),\"ﾅｼ\",VLOOKUP($E18,新規登録!$B:$I,8,0)),(VLOOKUP($E18,氏名ﾃﾞｰﾀ!$B:$J,6,0))))","v":""},{"$f":"IF($E18=\"\",\"\",IF(ISERROR(VLOOKUP($E18,氏名ﾃﾞｰﾀ!$B:$J,9,0)),IF(ISERROR(VLOOKUP($E18,新規登録!$B:$I,9,0)),\"未登録\",VLOOKUP($E18,新規登録!$B:$I,9,0)),(VLOOKUP($E18,氏名ﾃﾞｰﾀ!$B:$J,9,0))))","v":""},null,null,null,null,null,null,null,null,null,null,null,null,null,null,null,null,null,null,null,null,2,{"$f":"IF(N18=\"\",\"\",VLOOKUP(N18,ﾃﾞｰﾀ!A:D,4,0))","v":""},"秒","秒",null,null,null,{"$f":"IF(AH18=1,IF(Z18=\"\",1000,VLOOKUP(Z18,ﾃﾞｰﾀ!F$3:G$62,2,FALSE)),1000)","v":1000},"","","","","",{"$f":"IF(AH18=1,IF(AD18=\"\",1000,VLOOKUP(AD18,ﾃﾞｰﾀ!F$3:H$62,3,FALSE)),1000)","v":1000},"","","","","",{"$f":"IF(AH18=2,IF(Z18=\"\",1000,VLOOKUP(Z18,ﾃﾞｰﾀ!F$3:I$62,4,FALSE)),1000)","v":1000},"","","","","",{"$f":"IF(AH18=2,IF(AD18=\"\",1000,VLOOKUP(AD18,ﾃﾞｰﾀ!F$3:J$62,5,FALSE)),1000)","v":1000},"","","","",""]
["",{"$f":"IF(AD19=\"\",\"\",IF(L19=\"男\",VLOOKUP(AD19,ﾘﾚｰｺｰﾄﾞ,3,0),VLOOKUP(AD19,ﾘﾚｰｺｰﾄﾞ,5,0)))","v":""},{"$f":"IF(E19=\"\",\"\",IF(AH19=1,COUNTIF(AH$16:AH19,1)*10+2001-10,COUNTIF(AH$16:AH19,2)*10+6001-10))","v":""},4,null,{"$f":"IF($E19=\"\",\"\",IF(ISERROR(VLOOKUP($E19,氏名ﾃﾞｰﾀ!$B:$J,2,0)),IF(ISERROR(VLOOKUP($E19,新規登録!$B:$I,2,0)),\"未登録\",VLOOKUP($E19,新規登録!$B:$I,2,0)),(VLOOKUP($E19,氏名ﾃﾞｰﾀ!$B:$J,2,0))))","v":""},{"$f":"IF($E19=\"\",\"\",IF(ISERROR(VLOOKUP($E19,氏名ﾃﾞｰﾀ!$B:$J,3,0)),IF(ISERROR(VLOOKUP($E19,新規登録!$B:$I,3,0)),\"未登録\",VLOOKUP($E19,新規登録!$B:$I,3,0)),(VLOOKUP($E19,氏名ﾃﾞｰﾀ!$B:$J,3,0))))","v":""},{"$f":"IF($E19=\"\",\"\",IF(ISERROR(VLOOKUP($E19,氏名ﾃﾞｰﾀ!$B:$J,4,0)),IF(ISERROR(VLOOKUP($E19,新規登録!$B:$I,4,0)),\"未登録\",VLOOKUP($E19,新規登録!$B:$I,4,0)),(VLOOKUP($E19,氏名ﾃﾞｰﾀ!$B:$J,4,0))))","v":""},{"$f":"IF($E19=\"\",\"\",IF(ISERROR(VLOOKUP($E19,氏名ﾃﾞｰﾀ!$B:$J,5,0)),IF(ISERROR(VLOOKUP($E19,新規登録!$B:$I,5,0)),\"未登録\",VLOOKUP($E19,新規登録!$B:$I,5,0)),(VLOOKUP($E19,氏名ﾃﾞｰﾀ!$B:$J,5,0))))","v":""},{"$f":"IF($E19=\"\",\"\",IF(ISERROR(VLOOKUP($E19,氏名ﾃﾞｰﾀ!$B:$J,8,0)),IF(ISERROR(VLOOKUP($E19,新規登録!$B:$I,6,0)),\"未登録\",VLOOKUP($E19,新規登録!$B:$I,6,0)),(VLOOKUP($E19,氏名ﾃﾞｰﾀ!$B:$J,8,0))))","v":""},{"$f":"IF($E19=\"\",\"\",IF(ISERROR(VLOOKUP($E19,氏名ﾃﾞｰﾀ!$B:$J,7,0)),IF(ISERROR(VLOOKUP($E19,新規登録!$B:$I,7,0)),\"未登録\",VLOOKUP($E19,新規登録!$B:$I,7,0)),$G$3))","v":""},{"$f":"IF($E19=\"\",\"\",IF(ISERROR(VLOOKUP($E19,氏名ﾃﾞｰﾀ!$B:$J,6,0)),IF(ISERROR(VLOOKUP($E19,新規登録!$B:$I,8,0)),\"ﾅｼ\",VLOOKUP($E19,新規登録!$B:$I,8,0)),(VLOOKUP($E19,氏名ﾃﾞｰﾀ!$B:$J,6,0))))","v":""},{"$f":"IF($E19=\"\",\"\",IF(ISERROR(VLOOKUP($E19,氏名ﾃﾞｰﾀ!$B:$J,9,0)),IF(ISERROR(VLOOKUP($E19,新規登録!$B:$I,9,0)),\"未登録\",VLOOKUP($E19,新規登録!$B:$I,9,0)),(VLOOKUP($E19,氏名ﾃﾞｰﾀ!$B:$J,9,0))))","v":""},null,null,null,null,null,null,null,null,null,null,null,null,null,null,null,null,null,null,null,null,2,{"$f":"IF(N19=\"\",\"\",VLOOKUP(N19,ﾃﾞｰﾀ!A:D,4,0))","v":""},"秒","秒",null,null,null,{"$f":"IF(AH19=1,IF(Z19=\"\",1000,VLOOKUP(Z19,ﾃﾞｰﾀ!F$3:G$62,2,FALSE)),1000)","v":1000},"","","","","",{"$f":"IF(AH19=1,IF(AD19=\"\",1000,VLOOKUP(AD19,ﾃﾞｰﾀ!F$3:H$62,3,FALSE)),1000)","v":1000},"","","","","",{"$f":"IF(AH19=2,IF(Z19=\"\",1000,VLOOKUP(Z19,ﾃﾞｰﾀ!F$3:I$62,4,FALSE)),1000)","v":1000},"","","","","",{"$f":"IF(AH19=2,IF(AD19=\"\",1000,VLOOKUP(AD19,ﾃﾞｰﾀ!F$3:J$62,5,FALSE)),1000)","v":1000},"","",{"$f":"IF(ISERROR(VLOOKUP(BG19,$B$16:$AH$215,4,0)),\"\",VLOOKUP(BG19,$B$16:$AH$21545,4,0))","v":""},"",""]
["","",{"$f":"IF(E20=\"\",\"\",IF(AH20=1,COUNTIF(AH$16:AH20,1)*10+2001-10,COUNTIF(AH$16:AH20,2)*10+6001-10))","v":""},5,null,{"$f":"IF($E20=\"\",\"\",IF(ISERROR(VLOOKUP($E20,氏名ﾃﾞｰﾀ!$B:$J,2,0)),IF(ISERROR(VLOOKUP($E20,新規登録!$B:$I,2,0)),\"未登録\",VLOOKUP($E20,新規登録!$B:$I,2,0)),(VLOOKUP($E20,氏名ﾃﾞｰﾀ!$B:$J,2,0))))","v":""},{"$f":"IF($E20=\"\",\"\",IF(ISERROR(VLOOKUP($E20,氏名ﾃﾞｰﾀ!$B:$J,3,0)),IF(ISERROR(VLOOKUP($E20,新規登録!$B:$I,3,0)),\"未登録\",VLOOKUP($E20,新規登録!$B:$I,3,0)),(VLOOKUP($E20,氏名ﾃﾞｰﾀ!$B:$J,3,0))))","v":""},{"$f":"IF($E20=\"\",\"\",IF(ISERROR(VLOOKUP($E20,氏名ﾃﾞｰﾀ!$B:$J,4,0)),IF(ISERROR(VLOOKUP($E20,新規登録!$B:$I,4,0)),\"未登録\",VLOOKUP($E20,新規登録!$B:$I,4,0)),(VLOOKUP($E20,氏名ﾃﾞｰﾀ!$B:$J,4,0))))","v":""},{"$f":"IF($E20=\"\",\"\",IF(ISERROR(VLOOKUP($E20,氏名ﾃﾞｰﾀ!$B:$J,5,0)),IF(ISERROR(VLOOKUP($E20,新規登録!$B:$I,5,0)),\"未登録\",VLOOKUP($E20,新規登録!$B:$I,5,0)),(VLOOKUP($E20,氏名ﾃﾞｰﾀ!$B:$J,5,0))))","v":""},{"$f":"IF($E20=\"\",\"\",IF(ISERROR(VLOOKUP($E20,氏名ﾃﾞｰﾀ!$B:$J,8,0)),IF(ISERROR(VLOOKUP($E20,新規登録!$B:$I,6,0)),\"未登録\",VLOOKUP($E20,新規登録!$B:$I,6,0)),(VLOOKUP($E20,氏名ﾃﾞｰﾀ!$B:$J,8,0))))","v":""},{"$f":"IF($E20=\"\",\"\",IF(ISERROR(VLOOKUP($E20,氏名ﾃﾞｰﾀ!$B:$J,7,0)),IF(ISERROR(VLOOKUP($E20,新規登録!$B:$I,7,0)),\"未登録\",VLOOKUP($E20,新規登録!$B:$I,7,0)),$G$3))","v":""},{"$f":"IF($E20=\"\",\"\",IF(ISERROR(VLOOKUP($E20,氏名ﾃﾞｰﾀ!$B:$J,6,0)),IF(ISERROR(VLOOKUP($E20,新規登録!$B:$I,8,0)),\"ﾅｼ\",VLOOKUP($E20,新規登録!$B:$I,8,0)),(VLOOKUP($E20,氏名ﾃﾞｰﾀ!$B:$J,6,0))))","v":""},{"$f":"IF($E20=\"\",\"\",IF(ISERROR(VLOOKUP($E20,氏名ﾃﾞｰﾀ!$B:$J,9,0)),IF(ISERROR(VLOOKUP($E20,新規登録!$B:$I,9,0)),\"未登録\",VLOOKUP($E20,新規登録!$B:$I,9,0)),(VLOOKUP($E20,氏名ﾃﾞｰﾀ!$B:$J,9,0))))","v":""},null,null,null,null,null,null,null,null,null,null,null,null,null,null,null,null,null,null,null,null,2,{"$f":"IF(N20=\"\",\"\",VLOOKUP(N20,ﾃﾞｰﾀ!A:D,4,0))","v":""},"秒","秒",null,null,null,{"$f":"IF(AH20=1,IF(Z20=\"\",1000,VLOOKUP(Z20,ﾃﾞｰﾀ!F$3:G$62,2,FALSE)),1000)","v":1000},"","","","","",{"$f":"IF(AH20=1,IF(AD20=\"\",1000,VLOOKUP(AD20,ﾃﾞｰﾀ!F$3:H$62,3,FALSE)),1000)","v":1000},"","","","","",{"$f":"IF(AH20=2,IF(Z20=\"\",1000,VLOOKUP(Z20,ﾃﾞｰﾀ!F$3:I$62,4,FALSE)),1000)","v":1000},"","","","","",{"$f":"IF(AH20=2,IF(AD20=\"\",1000,VLOOKUP(AD20,ﾃﾞｰﾀ!F$3:J$62,5,FALSE)),1000)","v":1000},"","","","",""]
["","",{"$f":"IF(E21=\"\",\"\",IF(AH21=1,COUNTIF(AH$16:AH21,1)*10+2001-10,COUNTIF(AH$16:AH21,2)*10+6001-10))","v":""},6,null,{"$f":"IF($E21=\"\",\"\",IF(ISERROR(VLOOKUP($E21,氏名ﾃﾞｰﾀ!$B:$J,2,0)),IF(ISERROR(VLOOKUP($E21,新規登録!$B:$I,2,0)),\"未登録\",VLOOKUP($E21,新規登録!$B:$I,2,0)),(VLOOKUP($E21,氏名ﾃﾞｰﾀ!$B:$J,2,0))))","v":""},{"$f":"IF($E21=\"\",\"\",IF(ISERROR(VLOOKUP($E21,氏名ﾃﾞｰﾀ!$B:$J,3,0)),IF(ISERROR(VLOOKUP($E21,新規登録!$B:$I,3,0)),\"未登録\",VLOOKUP($E21,新規登録!$B:$I,3,0)),(VLOOKUP($E21,氏名ﾃﾞｰﾀ!$B:$J,3,0))))","v":""},{"$f":"IF($E21=\"\",\"\",IF(ISERROR(VLOOKUP($E21,氏名ﾃﾞｰﾀ!$B:$J,4,0)),IF(ISERROR(VLOOKUP($E21,新規登録!$B:$I,4,0)),\"未登録\",VLOOKUP($E21,新規登録!$B:$I,4,0)),(VLOOKUP($E21,氏名ﾃﾞｰﾀ!$B:$J,4,0))))","v":""},{"$f":"IF($E21=\"\",\"\",IF(ISERROR(VLOOKUP($E21,氏名ﾃﾞｰﾀ!$B:$J,5,0)),IF(ISERROR(VLOOKUP($E21,新規登録!$B:$I,5,0)),\"未登録\",VLOOKUP($E21,新規登録!$B:$I,5,0)),(VLOOKUP($E21,氏名ﾃﾞｰﾀ!$B:$J,5,0))))","v":""},{"$f":"IF($E21=\"\",\"\",IF(ISERROR(VLOOKUP($E21,氏名ﾃﾞｰﾀ!$B:$J,8,0)),IF(ISERROR(VLOOKUP($E21,新規登録!$B:$I,6,0)),\"未登録\",VLOOKUP($E21,新規登録!$B:$I,6,0)),(VLOOKUP($E21,氏名ﾃﾞｰﾀ!$B:$J,8,0))))","v":""},{"$f":"IF($E21=\"\",\"\",IF(ISERROR(VLOOKUP($E21,氏名ﾃﾞｰﾀ!$B:$J,7,0)),IF(ISERROR(VLOOKUP($E21,新規登録!$B:$I,7,0)),\"未登録\",VLOOKUP($E21,新規登録!$B:$I,7,0)),$G$3))","v":""},{"$f":"IF($E21=\"\",\"\",IF(ISERROR(VLOOKUP($E21,氏名ﾃﾞｰﾀ!$B:$J,6,0)),IF(ISERROR(VLOOKUP($E21,新規登録!$B:$I,8,0)),\"ﾅｼ\",VLOOKUP($E21,新規登録!$B:$I,8,0)),(VLOOKUP($E21,氏名ﾃﾞｰﾀ!$B:$J,6,0))))","v":""},{"$f":"IF($E21=\"\",\"\",IF(ISERROR(VLOOKUP($E21,氏名ﾃﾞｰﾀ!$B:$J,9,0)),IF(ISERROR(VLOOKUP($E21,新規登録!$B:$I,9,0)),\"未登録\",VLOOKUP($E21,新規登録!$B:$I,9,0)),(VLOOKUP($E21,氏名ﾃﾞｰﾀ!$B:$J,9,0))))","v":""},null,null,null,null,null,null,null,null,null,null,null,null,null,null,null,null,null,null,null,null,2,{"$f":"IF(N21=\"\",\"\",VLOOKUP(N21,ﾃﾞｰﾀ!A:D,4,0))","v":""},"秒","秒",null,null,null,{"$f":"IF(AH21=1,IF(Z21=\"\",1000,VLOOKUP(Z21,ﾃﾞｰﾀ!F$3:G$62,2,FALSE)),1000)","v":1000},"","","","","",{"$f":"IF(AH21=1,IF(AD21=\"\",1000,VLOOKUP(AD21,ﾃﾞｰﾀ!F$3:H$62,3,FALSE)),1000)","v":1000},"","","","","",{"$f":"IF(AH21=2,IF(Z21=\"\",1000,VLOOKUP(Z21,ﾃﾞｰﾀ!F$3:I$62,4,FALSE)),1000)","v":1000},"","","","","",{"$f":"IF(AH21=2,IF(AD21=\"\",1000,VLOOKUP(AD21,ﾃﾞｰﾀ!F$3:J$62,5,FALSE)),1000)","v":1000},"","","","",""]
["","",{"$f":"IF(E22=\"\",\"\",IF(AH22=1,COUNTIF(AH$16:AH22,1)*10+2001-10,COUNTIF(AH$16:AH22,2)*10+6001-10))","v":""},7,null,{"$f":"IF($E22=\"\",\"\",IF(ISERROR(VLOOKUP($E22,氏名ﾃﾞｰﾀ!$B:$J,2,0)),IF(ISERROR(VLOOKUP($E22,新規登録!$B:$I,2,0)),\"未登録\",VLOOKUP($E22,新規登録!$B:$I,2,0)),(VLOOKUP($E22,氏名ﾃﾞｰﾀ!$B:$J,2,0))))","v":""},{"$f":"IF($E22=\"\",\"\",IF(ISERROR(VLOOKUP($E22,氏名ﾃﾞｰﾀ!$B:$J,3,0)),IF(ISERROR(VLOOKUP($E22,新規登録!$B:$I,3,0)),\"未登録\",VLOOKUP($E22,新規登録!$B:$I,3,0)),(VLOOKUP($E22,氏名ﾃﾞｰﾀ!$B:$J,3,0))))","v":""},{"$f":"IF($E22=\"\",\"\",IF(ISERROR(VLOOKUP($E22,氏名ﾃﾞｰﾀ!$B:$J,4,0)),IF(ISERROR(VLOOKUP($E22,新規登録!$B:$I,4,0)),\"未登録\",VLOOKUP($E22,新規登録!$B:$I,4,0)),(VLOOKUP($E22,氏名ﾃﾞｰﾀ!$B:$J,4,0))))","v":""},{"$f":"IF($E22=\"\",\"\",IF(ISERROR(VLOOKUP($E22,氏名ﾃﾞｰﾀ!$B:$J,5,0)),IF(ISERROR(VLOOKUP($E22,新規登録!$B:$I,5,0)),\"未登録\",VLOOKUP($E22,新規登録!$B:$I,5,0)),(VLOOKUP($E22,氏名ﾃﾞｰﾀ!$B:$J,5,0))))","v":""},{"$f":"IF($E22=\"\",\"\",IF(ISERROR(VLOOKUP($E22,氏名ﾃﾞｰﾀ!$B:$J,8,0)),IF(ISERROR(VLOOKUP($E22,新規登録!$B:$I,6,0)),\"未登録\",VLOOKUP($E22,新規登録!$B:$I,6,0)),(VLOOKUP($E22,氏名ﾃﾞｰﾀ!$B:$J,8,0))))","v":""},{"$f":"IF($E22=\"\",\"\",IF(ISERROR(VLOOKUP($E22,氏名ﾃﾞｰﾀ!$B:$J,7,0)),IF(ISERROR(VLOOKUP($E22,新規登録!$B:$I,7,0)),\"未登録\",VLOOKUP($E22,新規登録!$B:$I,7,0)),$G$3))","v":""},{"$f":"IF($E22=\"\",\"\",IF(ISERROR(VLOOKUP($E22,氏名ﾃﾞｰﾀ!$B:$J,6,0)),IF(ISERROR(VLOOKUP($E22,新規登録!$B:$I,8,0)),\"ﾅｼ\",VLOOKUP($E22,新規登録!$B:$I,8,0)),(VLOOKUP($E22,氏名ﾃﾞｰﾀ!$B:$J,6,0))))","v":""},{"$f":"IF($E22=\"\",\"\",IF(ISERROR(VLOOKUP($E22,氏名ﾃﾞｰﾀ!$B:$J,9,0)),IF(ISERROR(VLOOKUP($E22,新規登録!$B:$I,9,0)),\"未登録\",VLOOKUP($E22,新規登録!$B:$I,9,0)),(VLOOKUP($E22,氏名ﾃﾞｰﾀ!$B:$J,9,0))))","v":""},null,null,null,null,null,null,null,null,null,null,null,null,null,null,null,null,null,null,null,null,2,{"$f":"IF(N22=\"\",\"\",VLOOKUP(N22,ﾃﾞｰﾀ!A:D,4,0))","v":""},"秒","秒",null,null,null,{"$f":"IF(AH22=1,IF(Z22=\"\",1000,VLOOKUP(Z22,ﾃﾞｰﾀ!F$3:G$62,2,FALSE)),1000)","v":1000},{"$f":"IF(AR22=\"\",\"\",LEFT(AR22,3))","v":""},{"$f":"IF(AR22=\"\",\"\",LEFT(AR22,3))","v":""},{"$f":"IF(ISERROR(VLOOKUP(AO22,$A$16:$AH$215,5,0)),\"\",VLOOKUP(AO22,$A$16:$AH$215,5,0))","v":""},"",{"$f":"IF(AR22=\"\",\"\",VLOOKUP(AR22,$E$16:$AK$215,32,0))","v":""},{"$f":"IF(AH22=1,IF(AD22=\"\",1000,VLOOKUP(AD22,ﾃﾞｰﾀ!F$3:H$62,3,FALSE)),1000)","v":1000},{"$f":"IF(AX22=\"\",\"\",LEFT(AX22,3))","v":""},{"$f":"IF(AX22=\"\",\"\",LEFT(AX22,3))","v":""},{"$f":"IF(ISERROR(VLOOKUP(AU22,$B$16:$AH$215,4,0)),\"\",VLOOKUP(AU22,$B$16:$AH$21545,4,0))","v":""},{"$f":"IF(AX22=\"\",\"\",VLOOKUP(AX22,$E$16:$AG$215,26,0))","v":""},{"$f":"IF(AX22=\"\",\"\",VLOOKUP(AX22,$E$16:$AK$215,33,0))","v":""},{"$f":"IF(AH22=2,IF(Z22=\"\",1000,VLOOKUP(Z22,ﾃﾞｰﾀ!F$3:I$62,4,FALSE)),1000)","v":1000},{"$f":"IF(BD22=\"\",\"\",LEFT(BD22,3))","v":""},{"$f":"IF(BD22=\"\",\"\",LEFT(BD22,3))","v":""},{"$f":"IF(ISERROR(VLOOKUP(BA22,$A$16:$AH$215,5,0)),\"\",VLOOKUP(BA22,$A$16:$AH$215,5,0))","v":""},{"$f":"IF(BD22=\"\",\"\",VLOOKUP(BD22,$E$16:$AG$215,22,0))","v":""},{"$f":"IF(BD22=\"\",\"\",VLOOKUP(BD22,$E$16:$AK$215,32,0))","v":""},{"$f":"IF(AH22=2,IF(AD22=\"\",1000,VLOOKUP(AD22,ﾃﾞｰﾀ!F$3:J$62,5,FALSE)),1000)","v":1000},{"$f":"IF(BJ22=\"\",\"\",LEFT(BJ22,3))","v":""},{"$f":"IF(BJ22=\"\",\"\",LEFT(BJ22,3))","v":""},{"$f":"IF(ISERROR(VLOOKUP(BG22,$B$16:$AH$215,4,0)),\"\",VLOOKUP(BG22,$B$16:$AH$21545,4,0))","v":""},{"$f":"IF(BJ22=\"\",\"\",VLOOKUP(BJ22,$E$16:$AG$215,26,0))","v":""},{"$f":"IF(BJ22=\"\",\"\",VLOOKUP(BJ22,$E$16:$AK$215,33,0))","v":""}]
["","",{"$f":"IF(E23=\"\",\"\",IF(AH23=1,COUNTIF(AH$16:AH23,1)*10+2001-10,COUNTIF(AH$16:AH23,2)*10+6001-10))","v":""},8,null,{"$f":"IF($E23=\"\",\"\",IF(ISERROR(VLOOKUP($E23,氏名ﾃﾞｰﾀ!$B:$J,2,0)),IF(ISERROR(VLOOKUP($E23,新規登録!$B:$I,2,0)),\"未登録\",VLOOKUP($E23,新規登録!$B:$I,2,0)),(VLOOKUP($E23,氏名ﾃﾞｰﾀ!$B:$J,2,0))))","v":""},{"$f":"IF($E23=\"\",\"\",IF(ISERROR(VLOOKUP($E23,氏名ﾃﾞｰﾀ!$B:$J,3,0)),IF(ISERROR(VLOOKUP($E23,新規登録!$B:$I,3,0)),\"未登録\",VLOOKUP($E23,新規登録!$B:$I,3,0)),(VLOOKUP($E23,氏名ﾃﾞｰﾀ!$B:$J,3,0))))","v":""},{"$f":"IF($E23=\"\",\"\",IF(ISERROR(VLOOKUP($E23,氏名ﾃﾞｰﾀ!$B:$J,4,0)),IF(ISERROR(VLOOKUP($E23,新規登録!$B:$I,4,0)),\"未登録\",VLOOKUP($E23,新規登録!$B:$I,4,0)),(VLOOKUP($E23,氏名ﾃﾞｰﾀ!$B:$J,4,0))))","v":""},{"$f":"IF($E23=\"\",\"\",IF(ISERROR(VLOOKUP($E23,氏名ﾃﾞｰﾀ!$B:$J,5,0)),IF(ISERROR(VLOOKUP($E23,新規登録!$B:$I,5,0)),\"未登録\",VLOOKUP($E23,新規登録!$B:$I,5,0)),(VLOOKUP($E23,氏名ﾃﾞｰﾀ!$B:$J,5,0))))","v":""},{"$f":"IF($E23=\"\",\"\",IF(ISERROR(VLOOKUP($E23,氏名ﾃﾞｰﾀ!$B:$J,8,0)),IF(ISERROR(VLOOKUP($E23,新規登録!$B:$I,6,0)),\"未登録\",VLOOKUP($E23,新規登録!$B:$I,6,0)),(VLOOKUP($E23,氏名ﾃﾞｰﾀ!$B:$J,8,0))))","v":""},{"$f":"IF($E23=\"\",\"\",IF(ISERROR(VLOOKUP($E23,氏名ﾃﾞｰﾀ!$B:$J,7,0)),IF(ISERROR(VLOOKUP($E23,新規登録!$B:$I,7,0)),\"未登録\",VLOOKUP($E23,新規登録!$B:$I,7,0)),$G$3))","v":""},{"$f":"IF($E23=\"\",\"\",IF(ISERROR(VLOOKUP($E23,氏名ﾃﾞｰﾀ!$B:$J,6,0)),IF(ISERROR(VLOOKUP($E23,新規登録!$B:$I,8,0)),\"ﾅｼ\",VLOOKUP($E23,新規登録!$B:$I,8,0)),(VLOOKUP($E23,氏名ﾃﾞｰﾀ!$B:$J,6,0))))","v":""},{"$f":"IF($E23=\"\",\"\",IF(ISERROR(VLOOKUP($E23,氏名ﾃﾞｰﾀ!$B:$J,9,0)),IF(ISERROR(VLOOKUP($E23,新規登録!$B:$I,9,0)),\"未登録\",VLOOKUP($E23,新規登録!$B:$I,9,0)),(VLOOKUP($E23,氏名ﾃﾞｰﾀ!$B:$J,9,0))))","v":""},null,null,null,null,null,null,null,null,null,null,null,null,null,null,null,null,null,null,null,null,2,{"$f":"IF(N23=\"\",\"\",VLOOKUP(N23,ﾃﾞｰﾀ!A:D,4,0))","v":""},"秒","秒",null,null,null,{"$f":"IF(AH23=1,IF(Z23=\"\",1000,VLOOKUP(Z23,ﾃﾞｰﾀ!F$3:G$62,2,FALSE)),1000)","v":1000},{"$f":"IF(AR23=\"\",\"\",LEFT(AR23,3))","v":""},{"$f":"IF(AR23=\"\",\"\",LEFT(AR23,3))","v":""},"","",{"$f":"IF(AR23=\"\",\"\",VLOOKUP(AR23,$E$16:$AK$215,32,0))","v":""},{"$f":"IF(AH23=1,IF(AD23=\"\",1000,VLOOKUP(AD23,ﾃﾞｰﾀ!F$3:H$62,3,FALSE)),1000)","v":1000},{"$f":"IF(AX23=\"\",\"\",LEFT(AX23,3))","v":""},{"$f":"IF(AX23=\"\",\"\",LEFT(AX23,3))","v":""},"","",{"$f":"IF(AX23=\"\",\"\",VLOOKUP(AX23,$E$16:$AK$215,33,0))","v":""},{"$f":"IF(AH23=2,IF(Z23=\"\",1000,VLOOKUP(Z23,ﾃﾞｰﾀ!F$3:I$62,4,FALSE)),1000)","v":1000},{"$f":"IF(BD23=\"\",\"\",LEFT(BD23,3))","v":""},{"$f":"IF(BD23=\"\",\"\",LEFT(BD23,3))","v":""},"","",{"$f":"IF(BD23=\"\",\"\",VLOOKUP(BD23,$E$16:$AK$215,32,0))","v":""},{"$f":"IF(AH23=2,IF(AD23=\"\",1000,VLOOKUP(AD23,ﾃﾞｰﾀ!F$3:J$62,5,FALSE)),1000)","v":1000},{"$f":"IF(BJ23=\"\",\"\",LEFT(BJ23,3))","v":""},{"$f":"IF(BJ23=\"\",\"\",LEFT(BJ23,3))","v":""},"","",{"$f":"IF(BJ23=\"\",\"\",VLOOKUP(BJ23,$E$16:$AK$215,33,0))","v":""}]
["","",{"$f":"IF(E24=\"\",\"\",IF(AH24=1,COUNTIF(AH$16:AH24,1)*10+2001-10,COUNTIF(AH$16:AH24,2)*10+6001-10))","v":""},9,null,{"$f":"IF($E24=\"\",\"\",IF(ISERROR(VLOOKUP($E24,氏名ﾃﾞｰﾀ!$B:$J,2,0)),IF(ISERROR(VLOOKUP($E24,新規登録!$B:$I,2,0)),\"未登録\",VLOOKUP($E24,新規登録!$B:$I,2,0)),(VLOOKUP($E24,氏名ﾃﾞｰﾀ!$B:$J,2,0))))","v":""},{"$f":"IF($E24=\"\",\"\",IF(ISERROR(VLOOKUP($E24,氏名ﾃﾞｰﾀ!$B:$J,3,0)),IF(ISERROR(VLOOKUP($E24,新規登録!$B:$I,3,0)),\"未登録\",VLOOKUP($E24,新規登録!$B:$I,3,0)),(VLOOKUP($E24,氏名ﾃﾞｰﾀ!$B:$J,3,0))))","v":""},{"$f":"IF($E24=\"\",\"\",IF(ISERROR(VLOOKUP($E24,氏名ﾃﾞｰﾀ!$B:$J,4,0)),IF(ISERROR(VLOOKUP($E24,新規登録!$B:$I,4,0)),\"未登録\",VLOOKUP($E24,新規登録!$B:$I,4,0)),(VLOOKUP($E24,氏名ﾃﾞｰﾀ!$B:$J,4,0))))","v":""},{"$f":"IF($E24=\"\",\"\",IF(ISERROR(VLOOKUP($E24,氏名ﾃﾞｰﾀ!$B:$J,5,0)),IF(ISERROR(VLOOKUP($E24,新規登録!$B:$I,5,0)),\"未登録\",VLOOKUP($E24,新規登録!$B:$I,5,0)),(VLOOKUP($E24,氏名ﾃﾞｰﾀ!$B:$J,5,0))))","v":""},{"$f":"IF($E24=\"\",\"\",IF(ISERROR(VLOOKUP($E24,氏名ﾃﾞｰﾀ!$B:$J,8,0)),IF(ISERROR(VLOOKUP($E24,新規登録!$B:$I,6,0)),\"未登録\",VLOOKUP($E24,新規登録!$B:$I,6,0)),(VLOOKUP($E24,氏名ﾃﾞｰﾀ!$B:$J,8,0))))","v":""},{"$f":"IF($E24=\"\",\"\",IF(ISERROR(VLOOKUP($E24,氏名ﾃﾞｰﾀ!$B:$J,7,0)),IF(ISERROR(VLOOKUP($E24,新規登録!$B:$I,7,0)),\"未登録\",VLOOKUP($E24,新規登録!$B:$I,7,0)),$G$3))","v":""},{"$f":"IF($E24=\"\",\"\",IF(ISERROR(VLOOKUP($E24,氏名ﾃﾞｰﾀ!$B:$J,6,0)),IF(ISERROR(VLOOKUP($E24,新規登録!$B:$I,8,0)),\"ﾅｼ\",VLOOKUP($E24,新規登録!$B:$I,8,0)),(VLOOKUP($E24,氏名ﾃﾞｰﾀ!$B:$J,6,0))))","v":""},{"$f":"IF($E24=\"\",\"\",IF(ISERROR(VLOOKUP($E24,氏名ﾃﾞｰﾀ!$B:$J,9,0)),IF(ISERROR(VLOOKUP($E24,新規登録!$B:$I,9,0)),\"未登録\",VLOOKUP($E24,新規登録!$B:$I,9,0)),(VLOOKUP($E24,氏名ﾃﾞｰﾀ!$B:$J,9,0))))","v":""},null,null,null,null,null,null,null,null,null,null,null,null,null,null,null,null,null,null,null,null,2,{"$f":"IF(N24=\"\",\"\",VLOOKUP(N24,ﾃﾞｰﾀ!A:D,4,0))","v":""},"秒","秒",null,null,null,{"$f":"IF(AH24=1,IF(Z24=\"\",1000,VLOOKUP(Z24,ﾃﾞｰﾀ!F$3:G$62,2,FALSE)),1000)","v":1000},"","","","","",{"$f":"IF(AH24=1,IF(AD24=\"\",1000,VLOOKUP(AD24,ﾃﾞｰﾀ!F$3:H$62,3,FALSE)),1000)","v":1000},"","","","","",{"$f":"IF(AH24=2,IF(Z24=\"\",1000,VLOOKUP(Z24,ﾃﾞｰﾀ!F$3:I$62,4,FALSE)),1000)","v":1000},"","","","","",{"$f":"IF(AH24=2,IF(AD24=\"\",1000,VLOOKUP(AD24,ﾃﾞｰﾀ!F$3:J$62,5,FALSE)),1000)","v":1000},"","","","",""]
["","",{"$f":"IF(E25=\"\",\"\",IF(AH25=1,COUNTIF(AH$16:AH25,1)*10+2001-10,COUNTIF(AH$16:AH25,2)*10+6001-10))","v":""},10,null,{"$f":"IF($E25=\"\",\"\",IF(ISERROR(VLOOKUP($E25,氏名ﾃﾞｰﾀ!$B:$J,2,0)),IF(ISERROR(VLOOKUP($E25,新規登録!$B:$I,2,0)),\"未登録\",VLOOKUP($E25,新規登録!$B:$I,2,0)),(VLOOKUP($E25,氏名ﾃﾞｰﾀ!$B:$J,2,0))))","v":""},{"$f":"IF($E25=\"\",\"\",IF(ISERROR(VLOOKUP($E25,氏名ﾃﾞｰﾀ!$B:$J,3,0)),IF(ISERROR(VLOOKUP($E25,新規登録!$B:$I,3,0)),\"未登録\",VLOOKUP($E25,新規登録!$B:$I,3,0)),(VLOOKUP($E25,氏名ﾃﾞｰﾀ!$B:$J,3,0))))","v":""},{"$f":"IF($E25=\"\",\"\",IF(ISERROR(VLOOKUP($E25,氏名ﾃﾞｰﾀ!$B:$J,4,0)),IF(ISERROR(VLOOKUP($E25,新規登録!$B:$I,4,0)),\"未登録\",VLOOKUP($E25,新規登録!$B:$I,4,0)),(VLOOKUP($E25,氏名ﾃﾞｰﾀ!$B:$J,4,0))))","v":""},{"$f":"IF($E25=\"\",\"\",IF(ISERROR(VLOOKUP($E25,氏名ﾃﾞｰﾀ!$B:$J,5,0)),IF(ISERROR(VLOOKUP($E25,新規登録!$B:$I,5,0)),\"未登録\",VLOOKUP($E25,新規登録!$B:$I,5,0)),(VLOOKUP($E25,氏名ﾃﾞｰﾀ!$B:$J,5,0))))","v":""},{"$f":"IF($E25=\"\",\"\",IF(ISERROR(VLOOKUP($E25,氏名ﾃﾞｰﾀ!$B:$J,8,0)),IF(ISERROR(VLOOKUP($E25,新規登録!$B:$I,6,0)),\"未登録\",VLOOKUP($E25,新規登録!$B:$I,6,0)),(VLOOKUP($E25,氏名ﾃﾞｰﾀ!$B:$J,8,0))))","v":""},{"$f":"IF($E25=\"\",\"\",IF(ISERROR(VLOOKUP($E25,氏名ﾃﾞｰﾀ!$B:$J,7,0)),IF(ISERROR(VLOOKUP($E25,新規登録!$B:$I,7,0)),\"未登録\",VLOOKUP($E25,新規登録!$B:$I,7,0)),$G$3))","v":""},{"$f":"IF($E25=\"\",\"\",IF(ISERROR(VLOOKUP($E25,氏名ﾃﾞｰﾀ!$B:$J,6,0)),IF(ISERROR(VLOOKUP($E25,新規登録!$B:$I,8,0)),\"ﾅｼ\",VLOOKUP($E25,新規登録!$B:$I,8,0)),(VLOOKUP($E25,氏名ﾃﾞｰﾀ!$B:$J,6,0))))","v":""},{"$f":"IF($E25=\"\",\"\",IF(ISERROR(VLOOKUP($E25,氏名ﾃﾞｰﾀ!$B:$J,9,0)),IF(ISERROR(VLOOKUP($E25,新規登録!$B:$I,9,0)),\"未登録\",VLOOKUP($E25,新規登録!$B:$I,9,0)),(VLOOKUP($E25,氏名ﾃﾞｰﾀ!$B:$J,9,0))))","v":""},null,null,null,null,null,null,null,null,null,null,null,null,null,null,null,null,null,null,null,null,2,{"$f":"IF(N25=\"\",\"\",VLOOKUP(N25,ﾃﾞｰﾀ!A:D,4,0))","v":""},"秒","秒",null,null,null,{"$f":"IF(AH25=1,IF(Z25=\"\",1000,VLOOKUP(Z25,ﾃﾞｰﾀ!F$3:G$62,2,FALSE)),1000)","v":1000},"","","","","",{"$f":"IF(AH25=1,IF(AD25=\"\",1000,VLOOKUP(AD25,ﾃﾞｰﾀ!F$3:H$62,3,FALSE)),1000)","v":1000},"","","","","",{"$f":"IF(AH25=2,IF(Z25=\"\",1000,VLOOKUP(Z25,ﾃﾞｰﾀ!F$3:I$62,4,FALSE)),1000)","v":1000},{"$f":"IF(BD25=\"\",\"\",LEFT(BD25,3))","v":""},"",{"$f":"IF(ISERROR(VLOOKUP(BA25,$A$16:$AH$215,5,0)),\"\",VLOOKUP(BA25,$A$16:$AH$215,5,0))","v":""},"","",{"$f":"IF(AH25=2,IF(AD25=\"\",1000,VLOOKUP(AD25,ﾃﾞｰﾀ!F$3:J$62,5,FALSE)),1000)","v":1000},"","","","",""]
["","",{"$f":"IF(E26=\"\",\"\",IF(AH26=1,COUNTIF(AH$16:AH26,1)*10+2001-10,COUNTIF(AH$16:AH26,2)*10+6001-10))","v":""},11,null,{"$f":"IF($E26=\"\",\"\",IF(ISERROR(VLOOKUP($E26,氏名ﾃﾞｰﾀ!$B:$J,2,0)),IF(ISERROR(VLOOKUP($E26,新規登録!$B:$I,2,0)),\"未登録\",VLOOKUP($E26,新規登録!$B:$I,2,0)),(VLOOKUP($E26,氏名ﾃﾞｰﾀ!$B:$J,2,0))))","v":""},{"$f":"IF($E26=\"\",\"\",IF(ISERROR(VLOOKUP($E26,氏名ﾃﾞｰﾀ!$B:$J,3,0)),IF(ISERROR(VLOOKUP($E26,新規登録!$B:$I,3,0)),\"未登録\",VLOOKUP($E26,新規登録!$B:$I,3,0)),(VLOOKUP($E26,氏名ﾃﾞｰﾀ!$B:$J,3,0))))","v":""},{"$f":"IF($E26=\"\",\"\",IF(ISERROR(VLOOKUP($E26,氏名ﾃﾞｰﾀ!$B:$J,4,0)),IF(ISERROR(VLOOKUP($E26,新規登録!$B:$I,4,0)),\"未登録\",VLOOKUP($E26,新規登録!$B:$I,4,0)),(VLOOKUP($E26,氏名ﾃﾞｰﾀ!$B:$J,4,0))))","v":""},{"$f":"IF($E26=\"\",\"\",IF(ISERROR(VLOOKUP($E26,氏名ﾃﾞｰﾀ!$B:$J,5,0)),IF(ISERROR(VLOOKUP($E26,新規登録!$B:$I,5,0)),\"未登録\",VLOOKUP($E26,新規登録!$B:$I,5,0)),(VLOOKUP($E26,氏名ﾃﾞｰﾀ!$B:$J,5,0))))","v":""},{"$f":"IF($E26=\"\",\"\",IF(ISERROR(VLOOKUP($E26,氏名ﾃﾞｰﾀ!$B:$J,8,0)),IF(ISERROR(VLOOKUP($E26,新規登録!$B:$I,6,0)),\"未登録\",VLOOKUP($E26,新規登録!$B:$I,6,0)),(VLOOKUP($E26,氏名ﾃﾞｰﾀ!$B:$J,8,0))))","v":""},{"$f":"IF($E26=\"\",\"\",IF(ISERROR(VLOOKUP($E26,氏名ﾃﾞｰﾀ!$B:$J,7,0)),IF(ISERROR(VLOOKUP($E26,新規登録!$B:$I,7,0)),\"未登録\",VLOOKUP($E26,新規登録!$B:$I,7,0)),$G$3))","v":""},{"$f":"IF($E26=\"\",\"\",IF(ISERROR(VLOOKUP($E26,氏名ﾃﾞｰﾀ!$B:$J,6,0)),IF(ISERROR(VLOOKUP($E26,新規登録!$B:$I,8,0)),\"ﾅｼ\",VLOOKUP($E26,新規登録!$B:$I,8,0)),(VLOOKUP($E26,氏名ﾃﾞｰﾀ!$B:$J,6,0))))","v":""},{"$f":"IF($E26=\"\",\"\",IF(ISERROR(VLOOKUP($E26,氏名ﾃﾞｰﾀ!$B:$J,9,0)),IF(ISERROR(VLOOKUP($E26,新規登録!$B:$I,9,0)),\"未登録\",VLOOKUP($E26,新規登録!$B:$I,9,0)),(VLOOKUP($E26,氏名ﾃﾞｰﾀ!$B:$J,9,0))))","v":""},null,null,null,null,null,null,null,null,null,null,null,null,null,null,null,null,null,null,null,null,2,{"$f":"IF(N26=\"\",\"\",VLOOKUP(N26,ﾃﾞｰﾀ!A:D,4,0))","v":""},"秒","秒",null,null,null,{"$f":"IF(AH26=1,IF(Z26=\"\",1000,VLOOKUP(Z26,ﾃﾞｰﾀ!F$3:G$62,2,FALSE)),1000)","v":1000},"","","","","",{"$f":"IF(AH26=1,IF(AD26=\"\",1000,VLOOKUP(AD26,ﾃﾞｰﾀ!F$3:H$62,3,FALSE)),1000)","v":1000},"","","","","",{"$f":"IF(AH26=2,IF(Z26=\"\",1000,VLOOKUP(Z26,ﾃﾞｰﾀ!F$3:I$62,4,FALSE)),1000)","v":1000},"","","","","",{"$f":"IF(AH26=2,IF(AD26=\"\",1000,VLOOKUP(AD26,ﾃﾞｰﾀ!F$3:J$62,5,FALSE)),1000)","v":1000},{"$f":"IF(BJ26=\"\",\"\",LEFT(BJ26,3))","v":""},"",{"$f":"IF(ISERROR(VLOOKUP(BG26,$B$16:$AH$215,4,0)),\"\",VLOOKUP(BG26,$B$16:$AH$21545,4,0))","v":""},"",""]
["","",{"$f":"IF(E27=\"\",\"\",IF(AH27=1,COUNTIF(AH$16:AH27,1)*10+2001-10,COUNTIF(AH$16:AH27,2)*10+6001-10))","v":""},12,null,{"$f":"IF($E27=\"\",\"\",IF(ISERROR(VLOOKUP($E27,氏名ﾃﾞｰﾀ!$B:$J,2,0)),IF(ISERROR(VLOOKUP($E27,新規登録!$B:$I,2,0)),\"未登録\",VLOOKUP($E27,新規登録!$B:$I,2,0)),(VLOOKUP($E27,氏名ﾃﾞｰﾀ!$B:$J,2,0))))","v":""},{"$f":"IF($E27=\"\",\"\",IF(ISERROR(VLOOKUP($E27,氏名ﾃﾞｰﾀ!$B:$J,3,0)),IF(ISERROR(VLOOKUP($E27,新規登録!$B:$I,3,0)),\"未登録\",VLOOKUP($E27,新規登録!$B:$I,3,0)),(VLOOKUP($E27,氏名ﾃﾞｰﾀ!$B:$J,3,0))))","v":""},{"$f":"IF($E27=\"\",\"\",IF(ISERROR(VLOOKUP($E27,氏名ﾃﾞｰﾀ!$B:$J,4,0)),IF(ISERROR(VLOOKUP($E27,新規登録!$B:$I,4,0)),\"未登録\",VLOOKUP($E27,新規登録!$B:$I,4,0)),(VLOOKUP($E27,氏名ﾃﾞｰﾀ!$B:$J,4,0))))","v":""},{"$f":"IF($E27=\"\",\"\",IF(ISERROR(VLOOKUP($E27,氏名ﾃﾞｰﾀ!$B:$J,5,0)),IF(ISERROR(VLOOKUP($E27,新規登録!$B:$I,5,0)),\"未登録\",VLOOKUP($E27,新規登録!$B:$I,5,0)),(VLOOKUP($E27,氏名ﾃﾞｰﾀ!$B:$J,5,0))))","v":""},{"$f":"IF($E27=\"\",\"\",IF(ISERROR(VLOOKUP($E27,氏名ﾃﾞｰﾀ!$B:$J,8,0)),IF(ISERROR(VLOOKUP($E27,新規登録!$B:$I,6,0)),\"未登録\",VLOOKUP($E27,新規登録!$B:$I,6,0)),(VLOOKUP($E27,氏名ﾃﾞｰﾀ!$B:$J,8,0))))","v":""},{"$f":"IF($E27=\"\",\"\",IF(ISERROR(VLOOKUP($E27,氏名ﾃﾞｰﾀ!$B:$J,7,0)),IF(ISERROR(VLOOKUP($E27,新規登録!$B:$I,7,0)),\"未登録\",VLOOKUP($E27,新規登録!$B:$I,7,0)),$G$3))","v":""},{"$f":"IF($E27=\"\",\"\",IF(ISERROR(VLOOKUP($E27,氏名ﾃﾞｰﾀ!$B:$J,6,0)),IF(ISERROR(VLOOKUP($E27,新規登録!$B:$I,8,0)),\"ﾅｼ\",VLOOKUP($E27,新規登録!$B:$I,8,0)),(VLOOKUP($E27,氏名ﾃﾞｰﾀ!$B:$J,6,0))))","v":""},{"$f":"IF($E27=\"\",\"\",IF(ISERROR(VLOOKUP($E27,氏名ﾃﾞｰﾀ!$B:$J,9,0)),IF(ISERROR(VLOOKUP($E27,新規登録!$B:$I,9,0)),\"未登録\",VLOOKUP($E27,新規登録!$B:$I,9,0)),(VLOOKUP($E27,氏名ﾃﾞｰﾀ!$B:$J,9,0))))","v":""},null,null,null,null,null,null,null,null,null,null,null,null,null,null,null,null,null,null,null,null,2,{"$f":"IF(N27=\"\",\"\",VLOOKUP(N27,ﾃﾞｰﾀ!A:D,4,0))","v":""},"秒","秒",null,null,null,{"$f":"IF(AH27=1,IF(Z27=\"\",1000,VLOOKUP(Z27,ﾃﾞｰﾀ!F$3:G$62,2,FALSE)),1000)","v":1000},"","","","","",{"$f":"IF(AH27=1,IF(AD27=\"\",1000,VLOOKUP(AD27,ﾃﾞｰﾀ!F$3:H$62,3,FALSE)),1000)","v":1000},"","","","","",{"$f":"IF(AH27=2,IF(Z27=\"\",1000,VLOOKUP(Z27,ﾃﾞｰﾀ!F$3:I$62,4,FALSE)),1000)","v":1000},"","","","","",{"$f":"IF(AH27=2,IF(AD27=\"\",1000,VLOOKUP(AD27,ﾃﾞｰﾀ!F$3:J$62,5,FALSE)),1000)","v":1000},"","","","",""]
["","",{"$f":"IF(E28=\"\",\"\",IF(AH28=1,COUNTIF(AH$16:AH28,1)*10+2001-10,COUNTIF(AH$16:AH28,2)*10+6001-10))","v":""},13,null,{"$f":"IF($E28=\"\",\"\",IF(ISERROR(VLOOKUP($E28,氏名ﾃﾞｰﾀ!$B:$J,2,0)),IF(ISERROR(VLOOKUP($E28,新規登録!$B:$I,2,0)),\"未登録\",VLOOKUP($E28,新規登録!$B:$I,2,0)),(VLOOKUP($E28,氏名ﾃﾞｰﾀ!$B:$J,2,0))))","v":""},{"$f":"IF($E28=\"\",\"\",IF(ISERROR(VLOOKUP($E28,氏名ﾃﾞｰﾀ!$B:$J,3,0)),IF(ISERROR(VLOOKUP($E28,新規登録!$B:$I,3,0)),\"未登録\",VLOOKUP($E28,新規登録!$B:$I,3,0)),(VLOOKUP($E28,氏名ﾃﾞｰﾀ!$B:$J,3,0))))","v":""},{"$f":"IF($E28=\"\",\"\",IF(ISERROR(VLOOKUP($E28,氏名ﾃﾞｰﾀ!$B:$J,4,0)),IF(ISERROR(VLOOKUP($E28,新規登録!$B:$I,4,0)),\"未登録\",VLOOKUP($E28,新規登録!$B:$I,4,0)),(VLOOKUP($E28,氏名ﾃﾞｰﾀ!$B:$J,4,0))))","v":""},{"$f":"IF($E28=\"\",\"\",IF(ISERROR(VLOOKUP($E28,氏名ﾃﾞｰﾀ!$B:$J,5,0)),IF(ISERROR(VLOOKUP($E28,新規登録!$B:$I,5,0)),\"未登録\",VLOOKUP($E28,新規登録!$B:$I,5,0)),(VLOOKUP($E28,氏名ﾃﾞｰﾀ!$B:$J,5,0))))","v":""},{"$f":"IF($E28=\"\",\"\",IF(ISERROR(VLOOKUP($E28,氏名ﾃﾞｰﾀ!$B:$J,8,0)),IF(ISERROR(VLOOKUP($E28,新規登録!$B:$I,6,0)),\"未登録\",VLOOKUP($E28,新規登録!$B:$I,6,0)),(VLOOKUP($E28,氏名ﾃﾞｰﾀ!$B:$J,8,0))))","v":""},{"$f":"IF($E28=\"\",\"\",IF(ISERROR(VLOOKUP($E28,氏名ﾃﾞｰﾀ!$B:$J,7,0)),IF(ISERROR(VLOOKUP($E28,新規登録!$B:$I,7,0)),\"未登録\",VLOOKUP($E28,新規登録!$B:$I,7,0)),$G$3))","v":""},{"$f":"IF($E28=\"\",\"\",IF(ISERROR(VLOOKUP($E28,氏名ﾃﾞｰﾀ!$B:$J,6,0)),IF(ISERROR(VLOOKUP($E28,新規登録!$B:$I,8,0)),\"ﾅｼ\",VLOOKUP($E28,新規登録!$B:$I,8,0)),(VLOOKUP($E28,氏名ﾃﾞｰﾀ!$B:$J,6,0))))","v":""},{"$f":"IF($E28=\"\",\"\",IF(ISERROR(VLOOKUP($E28,氏名ﾃﾞｰﾀ!$B:$J,9,0)),IF(ISERROR(VLOOKUP($E28,新規登録!$B:$I,9,0)),\"未登録\",VLOOKUP($E28,新規登録!$B:$I,9,0)),(VLOOKUP($E28,氏名ﾃﾞｰﾀ!$B:$J,9,0))))","v":""},null,null,null,null,null,null,null,null,null,null,null,null,null,null,null,null,null,null,null,null,2,{"$f":"IF(N28=\"\",\"\",VLOOKUP(N28,ﾃﾞｰﾀ!A:D,4,0))","v":""},"秒","秒",null,null,null,{"$f":"IF(AH28=1,IF(Z28=\"\",1000,VLOOKUP(Z28,ﾃﾞｰﾀ!F$3:G$62,2,FALSE)),1000)","v":1000},{"$f":"IF(AR28=\"\",\"\",LEFT(AR28,3))","v":""},{"$f":"IF(AR28=\"\",\"\",LEFT(AR28,3))","v":""},"",{"$f":"IF(AR28=\"\",\"\",VLOOKUP(AR28,$E$16:$AG$215,22,0))","v":""},{"$f":"IF(AR28=\"\",\"\",VLOOKUP(AR28,$E$16:$AK$215,32,0))","v":""},{"$f":"IF(AH28=1,IF(AD28=\"\",1000,VLOOKUP(AD28,ﾃﾞｰﾀ!F$3:H$62,3,FALSE)),1000)","v":1000},{"$f":"IF(AX28=\"\",\"\",LEFT(AX28,3))","v":""},{"$f":"IF(AX28=\"\",\"\",LEFT(AX28,3))","v":""},{"$f":"IF(ISERROR(VLOOKUP(AU28,$B$16:$AH$215,4,0)),\"\",VLOOKUP(AU28,$B$16:$AH$21545,4,0))","v":""},{"$f":"IF(AX28=\"\",\"\",VLOOKUP(AX28,$E$16:$AG$215,26,0))","v":""},{"$f":"IF(AX28=\"\",\"\",VLOOKUP(AX28,$E$16:$AK$215,33,0))","v":""},{"$f":"IF(AH28=2,IF(Z28=\"\",1000,VLOOKUP(Z28,ﾃﾞｰﾀ!F$3:I$62,4,FALSE)),1000)","v":1000},{"$f":"IF(BD28=\"\",\"\",LEFT(BD28,3))","v":""},{"$f":"IF(BD28=\"\",\"\",LEFT(BD28,3))","v":""},{"$f":"IF(ISERROR(VLOOKUP(BA28,$A$16:$AH$215,5,0)),\"\",VLOOKUP(BA28,$A$16:$AH$215,5,0))","v":""},{"$f":"IF(BD28=\"\",\"\",VLOOKUP(BD28,$E$16:$AG$215,22,0))","v":""},{"$f":"IF(BD28=\"\",\"\",VLOOKUP(BD28,$E$16:$AK$215,32,0))","v":""},{"$f":"IF(AH28=2,IF(AD28=\"\",1000,VLOOKUP(AD28,ﾃﾞｰﾀ!F$3:J$62,5,FALSE)),1000)","v":1000},{"$f":"IF(BJ28=\"\",\"\",LEFT(BJ28,3))","v":""},{"$f":"IF(BJ28=\"\",\"\",LEFT(BJ28,3))","v":""},{"$f":"IF(ISERROR(VLOOKUP(BG28,$B$16:$AH$215,4,0)),\"\",VLOOKUP(BG28,$B$16:$AH$21545,4,0))","v":""},{"$f":"IF(BJ28=\"\",\"\",VLOOKUP(BJ28,$E$16:$AG$215,26,0))","v":""},{"$f":"IF(BJ28=\"\",\"\",VLOOKUP(BJ28,$E$16:$AK$215,33,0))","v":""}]
["","",{"$f":"IF(E29=\"\",\"\",IF(AH29=1,COUNTIF(AH$16:AH29,1)*10+2001-10,COUNTIF(AH$16:AH29,2)*10+6001-10))","v":""},14,null,{"$f":"IF($E29=\"\",\"\",IF(ISERROR(VLOOKUP($E29,氏名ﾃﾞｰﾀ!$B:$J,2,0)),IF(ISERROR(VLOOKUP($E29,新規登録!$B:$I,2,0)),\"未登録\",VLOOKUP($E29,新規登録!$B:$I,2,0)),(VLOOKUP($E29,氏名ﾃﾞｰﾀ!$B:$J,2,0))))","v":""},{"$f":"IF($E29=\"\",\"\",IF(ISERROR(VLOOKUP($E29,氏名ﾃﾞｰﾀ!$B:$J,3,0)),IF(ISERROR(VLOOKUP($E29,新規登録!$B:$I,3,0)),\"未登録\",VLOOKUP($E29,新規登録!$B:$I,3,0)),(VLOOKUP($E29,氏名ﾃﾞｰﾀ!$B:$J,3,0))))","v":""},{"$f":"IF($E29=\"\",\"\",IF(ISERROR(VLOOKUP($E29,氏名ﾃﾞｰﾀ!$B:$J,4,0)),IF(ISERROR(VLOOKUP($E29,新規登録!$B:$I,4,0)),\"未登録\",VLOOKUP($E29,新規登録!$B:$I,4,0)),(VLOOKUP($E29,氏名ﾃﾞｰﾀ!$B:$J,4,0))))","v":""},{"$f":"IF($E29=\"\",\"\",IF(ISERROR(VLOOKUP($E29,氏名ﾃﾞｰﾀ!$B:$J,5,0)),IF(ISERROR(VLOOKUP($E29,新規登録!$B:$I,5,0)),\"未登録\",VLOOKUP($E29,新規登録!$B:$I,5,0)),(VLOOKUP($E29,氏名ﾃﾞｰﾀ!$B:$J,5,0))))","v":""},{"$f":"IF($E29=\"\",\"\",IF(ISERROR(VLOOKUP($E29,氏名ﾃﾞｰﾀ!$B:$J,8,0)),IF(ISERROR(VLOOKUP($E29,新規登録!$B:$I,6,0)),\"未登録\",VLOOKUP($E29,新規登録!$B:$I,6,0)),(VLOOKUP($E29,氏名ﾃﾞｰﾀ!$B:$J,8,0))))","v":""},{"$f":"IF($E29=\"\",\"\",IF(ISERROR(VLOOKUP($E29,氏名ﾃﾞｰﾀ!$B:$J,7,0)),IF(ISERROR(VLOOKUP($E29,新規登録!$B:$I,7,0)),\"未登録\",VLOOKUP($E29,新規登録!$B:$I,7,0)),$G$3))","v":""},{"$f":"IF($E29=\"\",\"\",IF(ISERROR(VLOOKUP($E29,氏名ﾃﾞｰﾀ!$B:$J,6,0)),IF(ISERROR(VLOOKUP($E29,新規登録!$B:$I,8,0)),\"ﾅｼ\",VLOOKUP($E29,新規登録!$B:$I,8,0)),(VLOOKUP($E29,氏名ﾃﾞｰﾀ!$B:$J,6,0))))","v":""},{"$f":"IF($E29=\"\",\"\",IF(ISERROR(VLOOKUP($E29,氏名ﾃﾞｰﾀ!$B:$J,9,0)),IF(ISERROR(VLOOKUP($E29,新規登録!$B:$I,9,0)),\"未登録\",VLOOKUP($E29,新規登録!$B:$I,9,0)),(VLOOKUP($E29,氏名ﾃﾞｰﾀ!$B:$J,9,0))))","v":""},null,null,null,null,null,null,null,null,null,null,null,null,null,null,null,null,null,null,null,null,2,{"$f":"IF(N29=\"\",\"\",VLOOKUP(N29,ﾃﾞｰﾀ!A:D,4,0))","v":""},"秒","秒",null,null,null,{"$f":"IF(AH29=1,IF(Z29=\"\",1000,VLOOKUP(Z29,ﾃﾞｰﾀ!F$3:G$62,2,FALSE)),1000)","v":1000},{"$f":"IF(AR29=\"\",\"\",LEFT(AR29,3))","v":""},{"$f":"IF(AR29=\"\",\"\",LEFT(AR29,3))","v":""},{"$f":"IF(ISERROR(VLOOKUP(AO29,$A$16:$AH$215,5,0)),\"\",VLOOKUP(AO29,$A$16:$AH$215,5,0))","v":""},{"$f":"IF(AR29=\"\",\"\",VLOOKUP(AR29,$E$16:$AG$215,22,0))","v":""},{"$f":"IF(AR29=\"\",\"\",VLOOKUP(AR29,$E$16:$AK$215,32,0))","v":""},{"$f":"IF(AH29=1,IF(AD29=\"\",1000,VLOOKUP(AD29,ﾃﾞｰﾀ!F$3:H$62,3,FALSE)),1000)","v":1000},{"$f":"IF(AX29=\"\",\"\",LEFT(AX29,3))","v":""},{"$f":"IF(AX29=\"\",\"\",LEFT(AX29,3))","v":""},"","",{"$f":"IF(AX29=\"\",\"\",VLOOKUP(AX29,$E$16:$AK$215,33,0))","v":""},{"$f":"IF(AH29=2,IF(Z29=\"\",1000,VLOOKUP(Z29,ﾃﾞｰﾀ!F$3:I$62,4,FALSE)),1000)","v":1000},{"$f":"IF(BD29=\"\",\"\",LEFT(BD29,3))","v":""},{"$f":"IF(BD29=\"\",\"\",LEFT(BD29,3))","v":""},"","",{"$f":"IF(BD29=\"\",\"\",VLOOKUP(BD29,$E$16:$AK$215,32,0))","v":""},{"$f":"IF(AH29=2,IF(AD29=\"\",1000,VLOOKUP(AD29,ﾃﾞｰﾀ!F$3:J$62,5,FALSE)),1000)","v":1000},{"$f":"IF(BJ29=\"\",\"\",LEFT(BJ29,3))","v":""},{"$f":"IF(BJ29=\"\",\"\",LEFT(BJ29,3))","v":""},"","",{"$f":"IF(BJ29=\"\",\"\",VLOOKUP(BJ29,$E$16:$AK$215,33,0))","v":""}]
["","",{"$f":"IF(E30=\"\",\"\",IF(AH30=1,COUNTIF(AH$16:AH30,1)*10+2001-10,COUNTIF(AH$16:AH30,2)*10+6001-10))","v":""},15,null,{"$f":"IF($E30=\"\",\"\",IF(ISERROR(VLOOKUP($E30,氏名ﾃﾞｰﾀ!$B:$J,2,0)),IF(ISERROR(VLOOKUP($E30,新規登録!$B:$I,2,0)),\"未登録\",VLOOKUP($E30,新規登録!$B:$I,2,0)),(VLOOKUP($E30,氏名ﾃﾞｰﾀ!$B:$J,2,0))))","v":""},{"$f":"IF($E30=\"\",\"\",IF(ISERROR(VLOOKUP($E30,氏名ﾃﾞｰﾀ!$B:$J,3,0)),IF(ISERROR(VLOOKUP($E30,新規登録!$B:$I,3,0)),\"未登録\",VLOOKUP($E30,新規登録!$B:$I,3,0)),(VLOOKUP($E30,氏名ﾃﾞｰﾀ!$B:$J,3,0))))","v":""},{"$f":"IF($E30=\"\",\"\",IF(ISERROR(VLOOKUP($E30,氏名ﾃﾞｰﾀ!$B:$J,4,0)),IF(ISERROR(VLOOKUP($E30,新規登録!$B:$I,4,0)),\"未登録\",VLOOKUP($E30,新規登録!$B:$I,4,0)),(VLOOKUP($E30,氏名ﾃﾞｰﾀ!$B:$J,4,0))))","v":""},{"$f":"IF($E30=\"\",\"\",IF(ISERROR(VLOOKUP($E30,氏名ﾃﾞｰﾀ!$B:$J,5,0)),IF(ISERROR(VLOOKUP($E30,新規登録!$B:$I,5,0)),\"未登録\",VLOOKUP($E30,新規登録!$B:$I,5,0)),(VLOOKUP($E30,氏名ﾃﾞｰﾀ!$B:$J,5,0))))","v":""},{"$f":"IF($E30=\"\",\"\",IF(ISERROR(VLOOKUP($E30,氏名ﾃﾞｰﾀ!$B:$J,8,0)),IF(ISERROR(VLOOKUP($E30,新規登録!$B:$I,6,0)),\"未登録\",VLOOKUP($E30,新規登録!$B:$I,6,0)),(VLOOKUP($E30,氏名ﾃﾞｰﾀ!$B:$J,8,0))))","v":""},{"$f":"IF($E30=\"\",\"\",IF(ISERROR(VLOOKUP($E30,氏名ﾃﾞｰﾀ!$B:$J,7,0)),IF(ISERROR(VLOOKUP($E30,新規登録!$B:$I,7,0)),\"未登録\",VLOOKUP($E30,新規登録!$B:$I,7,0)),$G$3))","v":""},{"$f":"IF($E30=\"\",\"\",IF(ISERROR(VLOOKUP($E30,氏名ﾃﾞｰﾀ!$B:$J,6,0)),IF(ISERROR(VLOOKUP($E30,新規登録!$B:$I,8,0)),\"ﾅｼ\",VLOOKUP($E30,新規登録!$B:$I,8,0)),(VLOOKUP($E30,氏名ﾃﾞｰﾀ!$B:$J,6,0))))","v":""},{"$f":"IF($E30=\"\",\"\",IF(ISERROR(VLOOKUP($E30,氏名ﾃﾞｰﾀ!$B:$J,9,0)),IF(ISERROR(VLOOKUP($E30,新規登録!$B:$I,9,0)),\"未登録\",VLOOKUP($E30,新規登録!$B:$I,9,0)),(VLOOKUP($E30,氏名ﾃﾞｰﾀ!$B:$J,9,0))))","v":""},null,null,null,null,null,null,null,null,null,null,null,null,null,null,null,null,null,null,null,null,2,{"$f":"IF(N30=\"\",\"\",VLOOKUP(N30,ﾃﾞｰﾀ!A:D,4,0))","v":""},"秒","秒",null,null,null,{"$f":"IF(AH30=1,IF(Z30=\"\",1000,VLOOKUP(Z30,ﾃﾞｰﾀ!F$3:G$62,2,FALSE)),1000)","v":1000},"","","","","",{"$f":"IF(AH30=1,IF(AD30=\"\",1000,VLOOKUP(AD30,ﾃﾞｰﾀ!F$3:H$62,3,FALSE)),1000)","v":1000},"","","","","",{"$f":"IF(AH30=2,IF(Z30=\"\",1000,VLOOKUP(Z30,ﾃﾞｰﾀ!F$3:I$62,4,FALSE)),1000)","v":1000},"","","","","",{"$f":"IF(AH30=2,IF(AD30=\"\",1000,VLOOKUP(AD30,ﾃﾞｰﾀ!F$3:J$62,5,FALSE)),1000)","v":1000},"","","","",""]
["","",{"$f":"IF(E31=\"\",\"\",IF(AH31=1,COUNTIF(AH$16:AH31,1)*10+2001-10,COUNTIF(AH$16:AH31,2)*10+6001-10))","v":""},16,null,{"$f":"IF($E31=\"\",\"\",IF(ISERROR(VLOOKUP($E31,氏名ﾃﾞｰﾀ!$B:$J,2,0)),IF(ISERROR(VLOOKUP($E31,新規登録!$B:$I,2,0)),\"未登録\",VLOOKUP($E31,新規登録!$B:$I,2,0)),(VLOOKUP($E31,氏名ﾃﾞｰﾀ!$B:$J,2,0))))","v":""},{"$f":"IF($E31=\"\",\"\",IF(ISERROR(VLOOKUP($E31,氏名ﾃﾞｰﾀ!$B:$J,3,0)),IF(ISERROR(VLOOKUP($E31,新規登録!$B:$I,3,0)),\"未登録\",VLOOKUP($E31,新規登録!$B:$I,3,0)),(VLOOKUP($E31,氏名ﾃﾞｰﾀ!$B:$J,3,0))))","v":""},{"$f":"IF($E31=\"\",\"\",IF(ISERROR(VLOOKUP($E31,氏名ﾃﾞｰﾀ!$B:$J,4,0)),IF(ISERROR(VLOOKUP($E31,新規登録!$B:$I,4,0)),\"未登録\",VLOOKUP($E31,新規登録!$B:$I,4,0)),(VLOOKUP($E31,氏名ﾃﾞｰﾀ!$B:$J,4,0))))","v":""},{"$f":"IF($E31=\"\",\"\",IF(ISERROR(VLOOKUP($E31,氏名ﾃﾞｰﾀ!$B:$J,5,0)),IF(ISERROR(VLOOKUP($E31,新規登録!$B:$I,5,0)),\"未登録\",VLOOKUP($E31,新規登録!$B:$I,5,0)),(VLOOKUP($E31,氏名ﾃﾞｰﾀ!$B:$J,5,0))))","v":""},{"$f":"IF($E31=\"\",\"\",IF(ISERROR(VLOOKUP($E31,氏名ﾃﾞｰﾀ!$B:$J,8,0)),IF(ISERROR(VLOOKUP($E31,新規登録!$B:$I,6,0)),\"未登録\",VLOOKUP($E31,新規登録!$B:$I,6,0)),(VLOOKUP($E31,氏名ﾃﾞｰﾀ!$B:$J,8,0))))","v":""},{"$f":"IF($E31=\"\",\"\",IF(ISERROR(VLOOKUP($E31,氏名ﾃﾞｰﾀ!$B:$J,7,0)),IF(ISERROR(VLOOKUP($E31,新規登録!$B:$I,7,0)),\"未登録\",VLOOKUP($E31,新規登録!$B:$I,7,0)),$G$3))","v":""},{"$f":"IF($E31=\"\",\"\",IF(ISERROR(VLOOKUP($E31,氏名ﾃﾞｰﾀ!$B:$J,6,0)),IF(ISERROR(VLOOKUP($E31,新規登録!$B:$I,8,0)),\"ﾅｼ\",VLOOKUP($E31,新規登録!$B:$I,8,0)),(VLOOKUP($E31,氏名ﾃﾞｰﾀ!$B:$J,6,0))))","v":""},{"$f":"IF($E31=\"\",\"\",IF(ISERROR(VLOOKUP($E31,氏名ﾃﾞｰﾀ!$B:$J,9,0)),IF(ISERROR(VLOOKUP($E31,新規登録!$B:$I,9,0)),\"未登録\",VLOOKUP($E31,新規登録!$B:$I,9,0)),(VLOOKUP($E31,氏名ﾃﾞｰﾀ!$B:$J,9,0))))","v":""},null,null,null,null,null,null,null,null,null,null,null,null,null,null,null,null,null,null,null,null,2,{"$f":"IF(N31=\"\",\"\",VLOOKUP(N31,ﾃﾞｰﾀ!A:D,4,0))","v":""},"秒","秒",null,null,null,{"$f":"IF(AH31=1,IF(Z31=\"\",1000,VLOOKUP(Z31,ﾃﾞｰﾀ!F$3:G$62,2,FALSE)),1000)","v":1000},"","","","","",{"$f":"IF(AH31=1,IF(AD31=\"\",1000,VLOOKUP(AD31,ﾃﾞｰﾀ!F$3:H$62,3,FALSE)),1000)","v":1000},"","","","","",{"$f":"IF(AH31=2,IF(Z31=\"\",1000,VLOOKUP(Z31,ﾃﾞｰﾀ!F$3:I$62,4,FALSE)),1000)","v":1000},"","","","","",{"$f":"IF(AH31=2,IF(AD31=\"\",1000,VLOOKUP(AD31,ﾃﾞｰﾀ!F$3:J$62,5,FALSE)),1000)","v":1000},"","","","",""]
["","",{"$f":"IF(E32=\"\",\"\",IF(AH32=1,COUNTIF(AH$16:AH32,1)*10+2001-10,COUNTIF(AH$16:AH32,2)*10+6001-10))","v":""},17,null,{"$f":"IF($E32=\"\",\"\",IF(ISERROR(VLOOKUP($E32,氏名ﾃﾞｰﾀ!$B:$J,2,0)),IF(ISERROR(VLOOKUP($E32,新規登録!$B:$I,2,0)),\"未登録\",VLOOKUP($E32,新規登録!$B:$I,2,0)),(VLOOKUP($E32,氏名ﾃﾞｰﾀ!$B:$J,2,0))))","v":""},{"$f":"IF($E32=\"\",\"\",IF(ISERROR(VLOOKUP($E32,氏名ﾃﾞｰﾀ!$B:$J,3,0)),IF(ISERROR(VLOOKUP($E32,新規登録!$B:$I,3,0)),\"未登録\",VLOOKUP($E32,新規登録!$B:$I,3,0)),(VLOOKUP($E32,氏名ﾃﾞｰﾀ!$B:$J,3,0))))","v":""},{"$f":"IF($E32=\"\",\"\",IF(ISERROR(VLOOKUP($E32,氏名ﾃﾞｰﾀ!$B:$J,4,0)),IF(ISERROR(VLOOKUP($E32,新規登録!$B:$I,4,0)),\"未登録\",VLOOKUP($E32,新規登録!$B:$I,4,0)),(VLOOKUP($E32,氏名ﾃﾞｰﾀ!$B:$J,4,0))))","v":""},{"$f":"IF($E32=\"\",\"\",IF(ISERROR(VLOOKUP($E32,氏名ﾃﾞｰﾀ!$B:$J,5,0)),IF(ISERROR(VLOOKUP($E32,新規登録!$B:$I,5,0)),\"未登録\",VLOOKUP($E32,新規登録!$B:$I,5,0)),(VLOOKUP($E32,氏名ﾃﾞｰﾀ!$B:$J,5,0))))","v":""},{"$f":"IF($E32=\"\",\"\",IF(ISERROR(VLOOKUP($E32,氏名ﾃﾞｰﾀ!$B:$J,8,0)),IF(ISERROR(VLOOKUP($E32,新規登録!$B:$I,6,0)),\"未登録\",VLOOKUP($E32,新規登録!$B:$I,6,0)),(VLOOKUP($E32,氏名ﾃﾞｰﾀ!$B:$J,8,0))))","v":""},{"$f":"IF($E32=\"\",\"\",IF(ISERROR(VLOOKUP($E32,氏名ﾃﾞｰﾀ!$B:$J,7,0)),IF(ISERROR(VLOOKUP($E32,新規登録!$B:$I,7,0)),\"未登録\",VLOOKUP($E32,新規登録!$B:$I,7,0)),$G$3))","v":""},{"$f":"IF($E32=\"\",\"\",IF(ISERROR(VLOOKUP($E32,氏名ﾃﾞｰﾀ!$B:$J,6,0)),IF(ISERROR(VLOOKUP($E32,新規登録!$B:$I,8,0)),\"ﾅｼ\",VLOOKUP($E32,新規登録!$B:$I,8,0)),(VLOOKUP($E32,氏名ﾃﾞｰﾀ!$B:$J,6,0))))","v":""},{"$f":"IF($E32=\"\",\"\",IF(ISERROR(VLOOKUP($E32,氏名ﾃﾞｰﾀ!$B:$J,9,0)),IF(ISERROR(VLOOKUP($E32,新規登録!$B:$I,9,0)),\"未登録\",VLOOKUP($E32,新規登録!$B:$I,9,0)),(VLOOKUP($E32,氏名ﾃﾞｰﾀ!$B:$J,9,0))))","v":""},null,null,null,null,null,null,null,null,null,null,null,null,null,null,null,null,null,null,null,null,2,{"$f":"IF(N32=\"\",\"\",VLOOKUP(N32,ﾃﾞｰﾀ!A:D,4,0))","v":""},"秒","秒",null,null,null,{"$f":"IF(AH32=1,IF(Z32=\"\",1000,VLOOKUP(Z32,ﾃﾞｰﾀ!F$3:G$62,2,FALSE)),1000)","v":1000},"","","","","",{"$f":"IF(AH32=1,IF(AD32=\"\",1000,VLOOKUP(AD32,ﾃﾞｰﾀ!F$3:H$62,3,FALSE)),1000)","v":1000},"","","","","",{"$f":"IF(AH32=2,IF(Z32=\"\",1000,VLOOKUP(Z32,ﾃﾞｰﾀ!F$3:I$62,4,FALSE)),1000)","v":1000},"","","","","",{"$f":"IF(AH32=2,IF(AD32=\"\",1000,VLOOKUP(AD32,ﾃﾞｰﾀ!F$3:J$62,5,FALSE)),1000)","v":1000},"","","","",""]
["","",{"$f":"IF(E33=\"\",\"\",IF(AH33=1,COUNTIF(AH$16:AH33,1)*10+2001-10,COUNTIF(AH$16:AH33,2)*10+6001-10))","v":""},18,null,{"$f":"IF($E33=\"\",\"\",IF(ISERROR(VLOOKUP($E33,氏名ﾃﾞｰﾀ!$B:$J,2,0)),IF(ISERROR(VLOOKUP($E33,新規登録!$B:$I,2,0)),\"未登録\",VLOOKUP($E33,新規登録!$B:$I,2,0)),(VLOOKUP($E33,氏名ﾃﾞｰﾀ!$B:$J,2,0))))","v":""},{"$f":"IF($E33=\"\",\"\",IF(ISERROR(VLOOKUP($E33,氏名ﾃﾞｰﾀ!$B:$J,3,0)),IF(ISERROR(VLOOKUP($E33,新規登録!$B:$I,3,0)),\"未登録\",VLOOKUP($E33,新規登録!$B:$I,3,0)),(VLOOKUP($E33,氏名ﾃﾞｰﾀ!$B:$J,3,0))))","v":""},{"$f":"IF($E33=\"\",\"\",IF(ISERROR(VLOOKUP($E33,氏名ﾃﾞｰﾀ!$B:$J,4,0)),IF(ISERROR(VLOOKUP($E33,新規登録!$B:$I,4,0)),\"未登録\",VLOOKUP($E33,新規登録!$B:$I,4,0)),(VLOOKUP($E33,氏名ﾃﾞｰﾀ!$B:$J,4,0))))","v":""},{"$f":"IF($E33=\"\",\"\",IF(ISERROR(VLOOKUP($E33,氏名ﾃﾞｰﾀ!$B:$J,5,0)),IF(ISERROR(VLOOKUP($E33,新規登録!$B:$I,5,0)),\"未登録\",VLOOKUP($E33,新規登録!$B:$I,5,0)),(VLOOKUP($E33,氏名ﾃﾞｰﾀ!$B:$J,5,0))))","v":""},{"$f":"IF($E33=\"\",\"\",IF(ISERROR(VLOOKUP($E33,氏名ﾃﾞｰﾀ!$B:$J,8,0)),IF(ISERROR(VLOOKUP($E33,新規登録!$B:$I,6,0)),\"未登録\",VLOOKUP($E33,新規登録!$B:$I,6,0)),(VLOOKUP($E33,氏名ﾃﾞｰﾀ!$B:$J,8,0))))","v":""},{"$f":"IF($E33=\"\",\"\",IF(ISERROR(VLOOKUP($E33,氏名ﾃﾞｰﾀ!$B:$J,7,0)),IF(ISERROR(VLOOKUP($E33,新規登録!$B:$I,7,0)),\"未登録\",VLOOKUP($E33,新規登録!$B:$I,7,0)),$G$3))","v":""},{"$f":"IF($E33=\"\",\"\",IF(ISERROR(VLOOKUP($E33,氏名ﾃﾞｰﾀ!$B:$J,6,0)),IF(ISERROR(VLOOKUP($E33,新規登録!$B:$I,8,0)),\"ﾅｼ\",VLOOKUP($E33,新規登録!$B:$I,8,0)),(VLOOKUP($E33,氏名ﾃﾞｰﾀ!$B:$J,6,0))))","v":""},{"$f":"IF($E33=\"\",\"\",IF(ISERROR(VLOOKUP($E33,氏名ﾃﾞｰﾀ!$B:$J,9,0)),IF(ISERROR(VLOOKUP($E33,新規登録!$B:$I,9,0)),\"未登録\",VLOOKUP($E33,新規登録!$B:$I,9,0)),(VLOOKUP($E33,氏名ﾃﾞｰﾀ!$B:$J,9,0))))","v":""},null,null,null,null,null,null,null,null,null,null,null,null,null,null,null,null,null,null,null,null,2,{"$f":"IF(N33=\"\",\"\",VLOOKUP(N33,ﾃﾞｰﾀ!A:D,4,0))","v":""},"秒","秒",null,null,null,{"$f":"IF(AH33=1,IF(Z33=\"\",1000,VLOOKUP(Z33,ﾃﾞｰﾀ!F$3:G$62,2,FALSE)),1000)","v":1000},"","","","","",{"$f":"IF(AH33=1,IF(AD33=\"\",1000,VLOOKUP(AD33,ﾃﾞｰﾀ!F$3:H$62,3,FALSE)),1000)","v":1000},"","","","","",{"$f":"IF(AH33=2,IF(Z33=\"\",1000,VLOOKUP(Z33,ﾃﾞｰﾀ!F$3:I$62,4,FALSE)),1000)","v":1000},"","","","","",{"$f":"IF(AH33=2,IF(AD33=\"\",1000,VLOOKUP(AD33,ﾃﾞｰﾀ!F$3:J$62,5,FALSE)),1000)","v":1000},"","","","",""]
["","",{"$f":"IF(E34=\"\",\"\",IF(AH34=1,COUNTIF(AH$16:AH34,1)*10+2001-10,COUNTIF(AH$16:AH34,2)*10+6001-10))","v":""},19,null,{"$f":"IF($E34=\"\",\"\",IF(ISERROR(VLOOKUP($E34,氏名ﾃﾞｰﾀ!$B:$J,2,0)),IF(ISERROR(VLOOKUP($E34,新規登録!$B:$I,2,0)),\"未登録\",VLOOKUP($E34,新規登録!$B:$I,2,0)),(VLOOKUP($E34,氏名ﾃﾞｰﾀ!$B:$J,2,0))))","v":""},{"$f":"IF($E34=\"\",\"\",IF(ISERROR(VLOOKUP($E34,氏名ﾃﾞｰﾀ!$B:$J,3,0)),IF(ISERROR(VLOOKUP($E34,新規登録!$B:$I,3,0)),\"未登録\",VLOOKUP($E34,新規登録!$B:$I,3,0)),(VLOOKUP($E34,氏名ﾃﾞｰﾀ!$B:$J,3,0))))","v":""},{"$f":"IF($E34=\"\",\"\",IF(ISERROR(VLOOKUP($E34,氏名ﾃﾞｰﾀ!$B:$J,4,0)),IF(ISERROR(VLOOKUP($E34,新規登録!$B:$I,4,0)),\"未登録\",VLOOKUP($E34,新規登録!$B:$I,4,0)),(VLOOKUP($E34,氏名ﾃﾞｰﾀ!$B:$J,4,0))))","v":""},{"$f":"IF($E34=\"\",\"\",IF(ISERROR(VLOOKUP($E34,氏名ﾃﾞｰﾀ!$B:$J,5,0)),IF(ISERROR(VLOOKUP($E34,新規登録!$B:$I,5,0)),\"未登録\",VLOOKUP($E34,新規登録!$B:$I,5,0)),(VLOOKUP($E34,氏名ﾃﾞｰﾀ!$B:$J,5,0))))","v":""},{"$f":"IF($E34=\"\",\"\",IF(ISERROR(VLOOKUP($E34,氏名ﾃﾞｰﾀ!$B:$J,8,0)),IF(ISERROR(VLOOKUP($E34,新規登録!$B:$I,6,0)),\"未登録\",VLOOKUP($E34,新規登録!$B:$I,6,0)),(VLOOKUP($E34,氏名ﾃﾞｰﾀ!$B:$J,8,0))))","v":""},{"$f":"IF($E34=\"\",\"\",IF(ISERROR(VLOOKUP($E34,氏名ﾃﾞｰﾀ!$B:$J,7,0)),IF(ISERROR(VLOOKUP($E34,新規登録!$B:$I,7,0)),\"未登録\",VLOOKUP($E34,新規登録!$B:$I,7,0)),$G$3))","v":""},{"$f":"IF($E34=\"\",\"\",IF(ISERROR(VLOOKUP($E34,氏名ﾃﾞｰﾀ!$B:$J,6,0)),IF(ISERROR(VLOOKUP($E34,新規登録!$B:$I,8,0)),\"ﾅｼ\",VLOOKUP($E34,新規登録!$B:$I,8,0)),(VLOOKUP($E34,氏名ﾃﾞｰﾀ!$B:$J,6,0))))","v":""},{"$f":"IF($E34=\"\",\"\",IF(ISERROR(VLOOKUP($E34,氏名ﾃﾞｰﾀ!$B:$J,9,0)),IF(ISERROR(VLOOKUP($E34,新規登録!$B:$I,9,0)),\"未登録\",VLOOKUP($E34,新規登録!$B:$I,9,0)),(VLOOKUP($E34,氏名ﾃﾞｰﾀ!$B:$J,9,0))))","v":""},null,null,null,null,null,null,null,null,null,null,null,null,null,null,null,null,null,null,null,null,2,{"$f":"IF(N34=\"\",\"\",VLOOKUP(N34,ﾃﾞｰﾀ!A:D,4,0))","v":""},"秒","秒",null,null,null,{"$f":"IF(AH34=1,IF(Z34=\"\",1000,VLOOKUP(Z34,ﾃﾞｰﾀ!F$3:G$62,2,FALSE)),1000)","v":1000},{"$f":"IF(AR34=\"\",\"\",LEFT(AR34,3))","v":""},{"$f":"IF(AR34=\"\",\"\",LEFT(AR34,3))","v":""},{"$f":"IF(ISERROR(VLOOKUP(AO34,$A$16:$AH$215,5,0)),\"\",VLOOKUP(AO34,$A$16:$AH$215,5,0))","v":""},"",{"$f":"IF(AR34=\"\",\"\",VLOOKUP(AR34,$E$16:$AK$215,32,0))","v":""},{"$f":"IF(AH34=1,IF(AD34=\"\",1000,VLOOKUP(AD34,ﾃﾞｰﾀ!F$3:H$62,3,FALSE)),1000)","v":1000},{"$f":"IF(AX34=\"\",\"\",LEFT(AX34,3))","v":""},{"$f":"IF(AX34=\"\",\"\",LEFT(AX34,3))","v":""},{"$f":"IF(ISERROR(VLOOKUP(AU34,$B$16:$AH$215,4,0)),\"\",VLOOKUP(AU34,$B$16:$AH$21545,4,0))","v":""},{"$f":"IF(AX34=\"\",\"\",VLOOKUP(AX34,$E$16:$AG$215,26,0))","v":""},{"$f":"IF(AX34=\"\",\"\",VLOOKUP(AX34,$E$16:$AK$215,33,0))","v":""},{"$f":"IF(AH34=2,IF(Z34=\"\",1000,VLOOKUP(Z34,ﾃﾞｰﾀ!F$3:I$62,4,FALSE)),1000)","v":1000},{"$f":"IF(BD34=\"\",\"\",LEFT(BD34,3))","v":""},{"$f":"IF(BD34=\"\",\"\",LEFT(BD34,3))","v":""},{"$f":"IF(ISERROR(VLOOKUP(BA34,$A$16:$AH$215,5,0)),\"\",VLOOKUP(BA34,$A$16:$AH$215,5,0))","v":""},{"$f":"IF(BD34=\"\",\"\",VLOOKUP(BD34,$E$16:$AG$215,22,0))","v":""},{"$f":"IF(BD34=\"\",\"\",VLOOKUP(BD34,$E$16:$AK$215,32,0))","v":""},{"$f":"IF(AH34=2,IF(AD34=\"\",1000,VLOOKUP(AD34,ﾃﾞｰﾀ!F$3:J$62,5,FALSE)),1000)","v":1000},{"$f":"IF(BJ34=\"\",\"\",LEFT(BJ34,3))","v":""},{"$f":"IF(BJ34=\"\",\"\",LEFT(BJ34,3))","v":""},{"$f":"IF(ISERROR(VLOOKUP(BG34,$B$16:$AH$215,4,0)),\"\",VLOOKUP(BG34,$B$16:$AH$21545,4,0))","v":""},{"$f":"IF(BJ34=\"\",\"\",VLOOKUP(BJ34,$E$16:$AG$215,26,0))","v":""},{"$f":"IF(BJ34=\"\",\"\",VLOOKUP(BJ34,$E$16:$AK$215,33,0))","v":""}]
["","",{"$f":"IF(E35=\"\",\"\",IF(AH35=1,COUNTIF(AH$16:AH35,1)*10+2001-10,COUNTIF(AH$16:AH35,2)*10+6001-10))","v":""},20,null,{"$f":"IF($E35=\"\",\"\",IF(ISERROR(VLOOKUP($E35,氏名ﾃﾞｰﾀ!$B:$J,2,0)),IF(ISERROR(VLOOKUP($E35,新規登録!$B:$I,2,0)),\"未登録\",VLOOKUP($E35,新規登録!$B:$I,2,0)),(VLOOKUP($E35,氏名ﾃﾞｰﾀ!$B:$J,2,0))))","v":""},{"$f":"IF($E35=\"\",\"\",IF(ISERROR(VLOOKUP($E35,氏名ﾃﾞｰﾀ!$B:$J,3,0)),IF(ISERROR(VLOOKUP($E35,新規登録!$B:$I,3,0)),\"未登録\",VLOOKUP($E35,新規登録!$B:$I,3,0)),(VLOOKUP($E35,氏名ﾃﾞｰﾀ!$B:$J,3,0))))","v":""},{"$f":"IF($E35=\"\",\"\",IF(ISERROR(VLOOKUP($E35,氏名ﾃﾞｰﾀ!$B:$J,4,0)),IF(ISERROR(VLOOKUP($E35,新規登録!$B:$I,4,0)),\"未登録\",VLOOKUP($E35,新規登録!$B:$I,4,0)),(VLOOKUP($E35,氏名ﾃﾞｰﾀ!$B:$J,4,0))))","v":""},{"$f":"IF($E35=\"\",\"\",IF(ISERROR(VLOOKUP($E35,氏名ﾃﾞｰﾀ!$B:$J,5,0)),IF(ISERROR(VLOOKUP($E35,新規登録!$B:$I,5,0)),\"未登録\",VLOOKUP($E35,新規登録!$B:$I,5,0)),(VLOOKUP($E35,氏名ﾃﾞｰﾀ!$B:$J,5,0))))","v":""},{"$f":"IF($E35=\"\",\"\",IF(ISERROR(VLOOKUP($E35,氏名ﾃﾞｰﾀ!$B:$J,8,0)),IF(ISERROR(VLOOKUP($E35,新規登録!$B:$I,6,0)),\"未登録\",VLOOKUP($E35,新規登録!$B:$I,6,0)),(VLOOKUP($E35,氏名ﾃﾞｰﾀ!$B:$J,8,0))))","v":""},{"$f":"IF($E35=\"\",\"\",IF(ISERROR(VLOOKUP($E35,氏名ﾃﾞｰﾀ!$B:$J,7,0)),IF(ISERROR(VLOOKUP($E35,新規登録!$B:$I,7,0)),\"未登録\",VLOOKUP($E35,新規登録!$B:$I,7,0)),$G$3))","v":""},{"$f":"IF($E35=\"\",\"\",IF(ISERROR(VLOOKUP($E35,氏名ﾃﾞｰﾀ!$B:$J,6,0)),IF(ISERROR(VLOOKUP($E35,新規登録!$B:$I,8,0)),\"ﾅｼ\",VLOOKUP($E35,新規登録!$B:$I,8,0)),(VLOOKUP($E35,氏名ﾃﾞｰﾀ!$B:$J,6,0))))","v":""},{"$f":"IF($E35=\"\",\"\",IF(ISERROR(VLOOKUP($E35,氏名ﾃﾞｰﾀ!$B:$J,9,0)),IF(ISERROR(VLOOKUP($E35,新規登録!$B:$I,9,0)),\"未登録\",VLOOKUP($E35,新規登録!$B:$I,9,0)),(VLOOKUP($E35,氏名ﾃﾞｰﾀ!$B:$J,9,0))))","v":""},null,null,null,null,null,null,null,null,null,null,null,null,null,null,null,null,null,null,null,null,2,{"$f":"IF(N35=\"\",\"\",VLOOKUP(N35,ﾃﾞｰﾀ!A:D,4,0))","v":""},"秒","秒",null,null,null,{"$f":"IF(AH35=1,IF(Z35=\"\",1000,VLOOKUP(Z35,ﾃﾞｰﾀ!F$3:G$62,2,FALSE)),1000)","v":1000},{"$f":"IF(AR35=\"\",\"\",LEFT(AR35,3))","v":""},{"$f":"IF(AR35=\"\",\"\",LEFT(AR35,3))","v":""},"","",{"$f":"IF(AR35=\"\",\"\",VLOOKUP(AR35,$E$16:$AK$215,32,0))","v":""},{"$f":"IF(AH35=1,IF(AD35=\"\",1000,VLOOKUP(AD35,ﾃﾞｰﾀ!F$3:H$62,3,FALSE)),1000)","v":1000},{"$f":"IF(AX35=\"\",\"\",LEFT(AX35,3))","v":""},{"$f":"IF(AX35=\"\",\"\",LEFT(AX35,3))","v":""},"","",{"$f":"IF(AX35=\"\",\"\",VLOOKUP(AX35,$E$16:$AK$215,33,0))","v":""},{"$f":"IF(AH35=2,IF(Z35=\"\",1000,VLOOKUP(Z35,ﾃﾞｰﾀ!F$3:I$62,4,FALSE)),1000)","v":1000},{"$f":"IF(BD35=\"\",\"\",LEFT(BD35,3))","v":""},{"$f":"IF(BD35=\"\",\"\",LEFT(BD35,3))","v":""},"","",{"$f":"IF(BD35=\"\",\"\",VLOOKUP(BD35,$E$16:$AK$215,32,0))","v":""},{"$f":"IF(AH35=2,IF(AD35=\"\",1000,VLOOKUP(AD35,ﾃﾞｰﾀ!F$3:J$62,5,FALSE)),1000)","v":1000},{"$f":"IF(BJ35=\"\",\"\",LEFT(BJ35,3))","v":""},{"$f":"IF(BJ35=\"\",\"\",LEFT(BJ35,3))","v":""},"","",{"$f":"IF(BJ35=\"\",\"\",VLOOKUP(BJ35,$E$16:$AK$215,33,0))","v":""}]
["","",{"$f":"IF(E36=\"\",\"\",IF(AH36=1,COUNTIF(AH$16:AH36,1)*10+2001-10,COUNTIF(AH$16:AH36,2)*10+6001-10))","v":""},21,null,{"$f":"IF($E36=\"\",\"\",IF(ISERROR(VLOOKUP($E36,氏名ﾃﾞｰﾀ!$B:$J,2,0)),IF(ISERROR(VLOOKUP($E36,新規登録!$B:$I,2,0)),\"未登録\",VLOOKUP($E36,新規登録!$B:$I,2,0)),(VLOOKUP($E36,氏名ﾃﾞｰﾀ!$B:$J,2,0))))","v":""},{"$f":"IF($E36=\"\",\"\",IF(ISERROR(VLOOKUP($E36,氏名ﾃﾞｰﾀ!$B:$J,3,0)),IF(ISERROR(VLOOKUP($E36,新規登録!$B:$I,3,0)),\"未登録\",VLOOKUP($E36,新規登録!$B:$I,3,0)),(VLOOKUP($E36,氏名ﾃﾞｰﾀ!$B:$J,3,0))))","v":""},{"$f":"IF($E36=\"\",\"\",IF(ISERROR(VLOOKUP($E36,氏名ﾃﾞｰﾀ!$B:$J,4,0)),IF(ISERROR(VLOOKUP($E36,新規登録!$B:$I,4,0)),\"未登録\",VLOOKUP($E36,新規登録!$B:$I,4,0)),(VLOOKUP($E36,氏名ﾃﾞｰﾀ!$B:$J,4,0))))","v":""},{"$f":"IF($E36=\"\",\"\",IF(ISERROR(VLOOKUP($E36,氏名ﾃﾞｰﾀ!$B:$J,5,0)),IF(ISERROR(VLOOKUP($E36,新規登録!$B:$I,5,0)),\"未登録\",VLOOKUP($E36,新規登録!$B:$I,5,0)),(VLOOKUP($E36,氏名ﾃﾞｰﾀ!$B:$J,5,0))))","v":""},{"$f":"IF($E36=\"\",\"\",IF(ISERROR(VLOOKUP($E36,氏名ﾃﾞｰﾀ!$B:$J,8,0)),IF(ISERROR(VLOOKUP($E36,新規登録!$B:$I,6,0)),\"未登録\",VLOOKUP($E36,新規登録!$B:$I,6,0)),(VLOOKUP($E36,氏名ﾃﾞｰﾀ!$B:$J,8,0))))","v":""},{"$f":"IF($E36=\"\",\"\",IF(ISERROR(VLOOKUP($E36,氏名ﾃﾞｰﾀ!$B:$J,7,0)),IF(ISERROR(VLOOKUP($E36,新規登録!$B:$I,7,0)),\"未登録\",VLOOKUP($E36,新規登録!$B:$I,7,0)),$G$3))","v":""},{"$f":"IF($E36=\"\",\"\",IF(ISERROR(VLOOKUP($E36,氏名ﾃﾞｰﾀ!$B:$J,6,0)),IF(ISERROR(VLOOKUP($E36,新規登録!$B:$I,8,0)),\"ﾅｼ\",VLOOKUP($E36,新規登録!$B:$I,8,0)),(VLOOKUP($E36,氏名ﾃﾞｰﾀ!$B:$J,6,0))))","v":""},{"$f":"IF($E36=\"\",\"\",IF(ISERROR(VLOOKUP($E36,氏名ﾃﾞｰﾀ!$B:$J,9,0)),IF(ISERROR(VLOOKUP($E36,新規登録!$B:$I,9,0)),\"未登録\",VLOOKUP($E36,新規登録!$B:$I,9,0)),(VLOOKUP($E36,氏名ﾃﾞｰﾀ!$B:$J,9,0))))","v":""},null,null,null,null,null,null,null,null,null,null,null,null,null,null,null,null,null,null,null,null,2,{"$f":"IF(N36=\"\",\"\",VLOOKUP(N36,ﾃﾞｰﾀ!A:D,4,0))","v":""},"秒","秒",null,null,null,{"$f":"IF(AH36=1,IF(Z36=\"\",1000,VLOOKUP(Z36,ﾃﾞｰﾀ!F$3:G$62,2,FALSE)),1000)","v":1000},"","","","","",{"$f":"IF(AH36=1,IF(AD36=\"\",1000,VLOOKUP(AD36,ﾃﾞｰﾀ!F$3:H$62,3,FALSE)),1000)","v":1000},"","","","","",{"$f":"IF(AH36=2,IF(Z36=\"\",1000,VLOOKUP(Z36,ﾃﾞｰﾀ!F$3:I$62,4,FALSE)),1000)","v":1000},"","","","","",{"$f":"IF(AH36=2,IF(AD36=\"\",1000,VLOOKUP(AD36,ﾃﾞｰﾀ!F$3:J$62,5,FALSE)),1000)","v":1000},"","","","",""]
["","",{"$f":"IF(E37=\"\",\"\",IF(AH37=1,COUNTIF(AH$16:AH37,1)*10+2001-10,COUNTIF(AH$16:AH37,2)*10+6001-10))","v":""},22,null,{"$f":"IF($E37=\"\",\"\",IF(ISERROR(VLOOKUP($E37,氏名ﾃﾞｰﾀ!$B:$J,2,0)),IF(ISERROR(VLOOKUP($E37,新規登録!$B:$I,2,0)),\"未登録\",VLOOKUP($E37,新規登録!$B:$I,2,0)),(VLOOKUP($E37,氏名ﾃﾞｰﾀ!$B:$J,2,0))))","v":""},{"$f":"IF($E37=\"\",\"\",IF(ISERROR(VLOOKUP($E37,氏名ﾃﾞｰﾀ!$B:$J,3,0)),IF(ISERROR(VLOOKUP($E37,新規登録!$B:$I,3,0)),\"未登録\",VLOOKUP($E37,新規登録!$B:$I,3,0)),(VLOOKUP($E37,氏名ﾃﾞｰﾀ!$B:$J,3,0))))","v":""},{"$f":"IF($E37=\"\",\"\",IF(ISERROR(VLOOKUP($E37,氏名ﾃﾞｰﾀ!$B:$J,4,0)),IF(ISERROR(VLOOKUP($E37,新規登録!$B:$I,4,0)),\"未登録\",VLOOKUP($E37,新規登録!$B:$I,4,0)),(VLOOKUP($E37,氏名ﾃﾞｰﾀ!$B:$J,4,0))))","v":""},{"$f":"IF($E37=\"\",\"\",IF(ISERROR(VLOOKUP($E37,氏名ﾃﾞｰﾀ!$B:$J,5,0)),IF(ISERROR(VLOOKUP($E37,新規登録!$B:$I,5,0)),\"未登録\",VLOOKUP($E37,新規登録!$B:$I,5,0)),(VLOOKUP($E37,氏名ﾃﾞｰﾀ!$B:$J,5,0))))","v":""},{"$f":"IF($E37=\"\",\"\",IF(ISERROR(VLOOKUP($E37,氏名ﾃﾞｰﾀ!$B:$J,8,0)),IF(ISERROR(VLOOKUP($E37,新規登録!$B:$I,6,0)),\"未登録\",VLOOKUP($E37,新規登録!$B:$I,6,0)),(VLOOKUP($E37,氏名ﾃﾞｰﾀ!$B:$J,8,0))))","v":""},{"$f":"IF($E37=\"\",\"\",IF(ISERROR(VLOOKUP($E37,氏名ﾃﾞｰﾀ!$B:$J,7,0)),IF(ISERROR(VLOOKUP($E37,新規登録!$B:$I,7,0)),\"未登録\",VLOOKUP($E37,新規登録!$B:$I,7,0)),$G$3))","v":""},{"$f":"IF($E37=\"\",\"\",IF(ISERROR(VLOOKUP($E37,氏名ﾃﾞｰﾀ!$B:$J,6,0)),IF(ISERROR(VLOOKUP($E37,新規登録!$B:$I,8,0)),\"ﾅｼ\",VLOOKUP($E37,新規登録!$B:$I,8,0)),(VLOOKUP($E37,氏名ﾃﾞｰﾀ!$B:$J,6,0))))","v":""},{"$f":"IF($E37=\"\",\"\",IF(ISERROR(VLOOKUP($E37,氏名ﾃﾞｰﾀ!$B:$J,9,0)),IF(ISERROR(VLOOKUP($E37,新規登録!$B:$I,9,0)),\"未登録\",VLOOKUP($E37,新規登録!$B:$I,9,0)),(VLOOKUP($E37,氏名ﾃﾞｰﾀ!$B:$J,9,0))))","v":""},null,null,null,null,null,null,null,null,null,null,null,null,null,null,null,null,null,null,null,null,2,{"$f":"IF(N37=\"\",\"\",VLOOKUP(N37,ﾃﾞｰﾀ!A:D,4,0))","v":""},"秒","秒",null,null,null,{"$f":"IF(AH37=1,IF(Z37=\"\",1000,VLOOKUP(Z37,ﾃﾞｰﾀ!F$3:G$62,2,FALSE)),1000)","v":1000},"","","","","",{"$f":"IF(AH37=1,IF(AD37=\"\",1000,VLOOKUP(AD37,ﾃﾞｰﾀ!F$3:H$62,3,FALSE)),1000)","v":1000},"","","","","",{"$f":"IF(AH37=2,IF(Z37=\"\",1000,VLOOKUP(Z37,ﾃﾞｰﾀ!F$3:I$62,4,FALSE)),1000)","v":1000},"","","","","",{"$f":"IF(AH37=2,IF(AD37=\"\",1000,VLOOKUP(AD37,ﾃﾞｰﾀ!F$3:J$62,5,FALSE)),1000)","v":1000},"","","","",""]
["","",{"$f":"IF(E38=\"\",\"\",IF(AH38=1,COUNTIF(AH$16:AH38,1)*10+2001-10,COUNTIF(AH$16:AH38,2)*10+6001-10))","v":""},23,null,{"$f":"IF($E38=\"\",\"\",IF(ISERROR(VLOOKUP($E38,氏名ﾃﾞｰﾀ!$B:$J,2,0)),IF(ISERROR(VLOOKUP($E38,新規登録!$B:$I,2,0)),\"未登録\",VLOOKUP($E38,新規登録!$B:$I,2,0)),(VLOOKUP($E38,氏名ﾃﾞｰﾀ!$B:$J,2,0))))","v":""},{"$f":"IF($E38=\"\",\"\",IF(ISERROR(VLOOKUP($E38,氏名ﾃﾞｰﾀ!$B:$J,3,0)),IF(ISERROR(VLOOKUP($E38,新規登録!$B:$I,3,0)),\"未登録\",VLOOKUP($E38,新規登録!$B:$I,3,0)),(VLOOKUP($E38,氏名ﾃﾞｰﾀ!$B:$J,3,0))))","v":""},{"$f":"IF($E38=\"\",\"\",IF(ISERROR(VLOOKUP($E38,氏名ﾃﾞｰﾀ!$B:$J,4,0)),IF(ISERROR(VLOOKUP($E38,新規登録!$B:$I,4,0)),\"未登録\",VLOOKUP($E38,新規登録!$B:$I,4,0)),(VLOOKUP($E38,氏名ﾃﾞｰﾀ!$B:$J,4,0))))","v":""},{"$f":"IF($E38=\"\",\"\",IF(ISERROR(VLOOKUP($E38,氏名ﾃﾞｰﾀ!$B:$J,5,0)),IF(ISERROR(VLOOKUP($E38,新規登録!$B:$I,5,0)),\"未登録\",VLOOKUP($E38,新規登録!$B:$I,5,0)),(VLOOKUP($E38,氏名ﾃﾞｰﾀ!$B:$J,5,0))))","v":""},{"$f":"IF($E38=\"\",\"\",IF(ISERROR(VLOOKUP($E38,氏名ﾃﾞｰﾀ!$B:$J,8,0)),IF(ISERROR(VLOOKUP($E38,新規登録!$B:$I,6,0)),\"未登録\",VLOOKUP($E38,新規登録!$B:$I,6,0)),(VLOOKUP($E38,氏名ﾃﾞｰﾀ!$B:$J,8,0))))","v":""},{"$f":"IF($E38=\"\",\"\",IF(ISERROR(VLOOKUP($E38,氏名ﾃﾞｰﾀ!$B:$J,7,0)),IF(ISERROR(VLOOKUP($E38,新規登録!$B:$I,7,0)),\"未登録\",VLOOKUP($E38,新規登録!$B:$I,7,0)),$G$3))","v":""},{"$f":"IF($E38=\"\",\"\",IF(ISERROR(VLOOKUP($E38,氏名ﾃﾞｰﾀ!$B:$J,6,0)),IF(ISERROR(VLOOKUP($E38,新規登録!$B:$I,8,0)),\"ﾅｼ\",VLOOKUP($E38,新規登録!$B:$I,8,0)),(VLOOKUP($E38,氏名ﾃﾞｰﾀ!$B:$J,6,0))))","v":""},{"$f":"IF($E38=\"\",\"\",IF(ISERROR(VLOOKUP($E38,氏名ﾃﾞｰﾀ!$B:$J,9,0)),IF(ISERROR(VLOOKUP($E38,新規登録!$B:$I,9,0)),\"未登録\",VLOOKUP($E38,新規登録!$B:$I,9,0)),(VLOOKUP($E38,氏名ﾃﾞｰﾀ!$B:$J,9,0))))","v":""},null,null,null,null,null,null,null,null,null,null,null,null,null,null,null,null,null,null,null,null,2,{"$f":"IF(N38=\"\",\"\",VLOOKUP(N38,ﾃﾞｰﾀ!A:D,4,0))","v":""},"秒","秒",null,null,null,{"$f":"IF(AH38=1,IF(Z38=\"\",1000,VLOOKUP(Z38,ﾃﾞｰﾀ!F$3:G$62,2,FALSE)),1000)","v":1000},"","","","","",{"$f":"IF(AH38=1,IF(AD38=\"\",1000,VLOOKUP(AD38,ﾃﾞｰﾀ!F$3:H$62,3,FALSE)),1000)","v":1000},"","","","","",{"$f":"IF(AH38=2,IF(Z38=\"\",1000,VLOOKUP(Z38,ﾃﾞｰﾀ!F$3:I$62,4,FALSE)),1000)","v":1000},"","","","","",{"$f":"IF(AH38=2,IF(AD38=\"\",1000,VLOOKUP(AD38,ﾃﾞｰﾀ!F$3:J$62,5,FALSE)),1000)","v":1000},"","","","",""]
["","",{"$f":"IF(E39=\"\",\"\",IF(AH39=1,COUNTIF(AH$16:AH39,1)*10+2001-10,COUNTIF(AH$16:AH39,2)*10+6001-10))","v":""},24,null,{"$f":"IF($E39=\"\",\"\",IF(ISERROR(VLOOKUP($E39,氏名ﾃﾞｰﾀ!$B:$J,2,0)),IF(ISERROR(VLOOKUP($E39,新規登録!$B:$I,2,0)),\"未登録\",VLOOKUP($E39,新規登録!$B:$I,2,0)),(VLOOKUP($E39,氏名ﾃﾞｰﾀ!$B:$J,2,0))))","v":""},{"$f":"IF($E39=\"\",\"\",IF(ISERROR(VLOOKUP($E39,氏名ﾃﾞｰﾀ!$B:$J,3,0)),IF(ISERROR(VLOOKUP($E39,新規登録!$B:$I,3,0)),\"未登録\",VLOOKUP($E39,新規登録!$B:$I,3,0)),(VLOOKUP($E39,氏名ﾃﾞｰﾀ!$B:$J,3,0))))","v":""},{"$f":"IF($E39=\"\",\"\",IF(ISERROR(VLOOKUP($E39,氏名ﾃﾞｰﾀ!$B:$J,4,0)),IF(ISERROR(VLOOKUP($E39,新規登録!$B:$I,4,0)),\"未登録\",VLOOKUP($E39,新規登録!$B:$I,4,0)),(VLOOKUP($E39,氏名ﾃﾞｰﾀ!$B:$J,4,0))))","v":""},{"$f":"IF($E39=\"\",\"\",IF(ISERROR(VLOOKUP($E39,氏名ﾃﾞｰﾀ!$B:$J,5,0)),IF(ISERROR(VLOOKUP($E39,新規登録!$B:$I,5,0)),\"未登録\",VLOOKUP($E39,新規登録!$B:$I,5,0)),(VLOOKUP($E39,氏名ﾃﾞｰﾀ!$B:$J,5,0))))","v":""},{"$f":"IF($E39=\"\",\"\",IF(ISERROR(VLOOKUP($E39,氏名ﾃﾞｰﾀ!$B:$J,8,0)),IF(ISERROR(VLOOKUP($E39,新規登録!$B:$I,6,0)),\"未登録\",VLOOKUP($E39,新規登録!$B:$I,6,0)),(VLOOKUP($E39,氏名ﾃﾞｰﾀ!$B:$J,8,0))))","v":""},{"$f":"IF($E39=\"\",\"\",IF(ISERROR(VLOOKUP($E39,氏名ﾃﾞｰﾀ!$B:$J,7,0)),IF(ISERROR(VLOOKUP($E39,新規登録!$B:$I,7,0)),\"未登録\",VLOOKUP($E39,新規登録!$B:$I,7,0)),$G$3))","v":""},{"$f":"IF($E39=\"\",\"\",IF(ISERROR(VLOOKUP($E39,氏名ﾃﾞｰﾀ!$B:$J,6,0)),IF(ISERROR(VLOOKUP($E39,新規登録!$B:$I,8,0)),\"ﾅｼ\",VLOOKUP($E39,新規登録!$B:$I,8,0)),(VLOOKUP($E39,氏名ﾃﾞｰﾀ!$B:$J,6,0))))","v":""},{"$f":"IF($E39=\"\",\"\",IF(ISERROR(VLOOKUP($E39,氏名ﾃﾞｰﾀ!$B:$J,9,0)),IF(ISERROR(VLOOKUP($E39,新規登録!$B:$I,9,0)),\"未登録\",VLOOKUP($E39,新規登録!$B:$I,9,0)),(VLOOKUP($E39,氏名ﾃﾞｰﾀ!$B:$J,9,0))))","v":""},null,null,null,null,null,null,null,null,null,null,null,null,null,null,null,null,null,null,null,null,2,{"$f":"IF(N39=\"\",\"\",VLOOKUP(N39,ﾃﾞｰﾀ!A:D,4,0))","v":""},"秒","秒",null,null,null,{"$f":"IF(AH39=1,IF(Z39=\"\",1000,VLOOKUP(Z39,ﾃﾞｰﾀ!F$3:G$62,2,FALSE)),1000)","v":1000},"","","","","",{"$f":"IF(AH39=1,IF(AD39=\"\",1000,VLOOKUP(AD39,ﾃﾞｰﾀ!F$3:H$62,3,FALSE)),1000)","v":1000},"","","","","",{"$f":"IF(AH39=2,IF(Z39=\"\",1000,VLOOKUP(Z39,ﾃﾞｰﾀ!F$3:I$62,4,FALSE)),1000)","v":1000},"","","","","",{"$f":"IF(AH39=2,IF(AD39=\"\",1000,VLOOKUP(AD39,ﾃﾞｰﾀ!F$3:J$62,5,FALSE)),1000)","v":1000},"","","","",""]
["","",{"$f":"IF(E40=\"\",\"\",IF(AH40=1,COUNTIF(AH$16:AH40,1)*10+2001-10,COUNTIF(AH$16:AH40,2)*10+6001-10))","v":""},25,null,{"$f":"IF($E40=\"\",\"\",IF(ISERROR(VLOOKUP($E40,氏名ﾃﾞｰﾀ!$B:$J,2,0)),IF(ISERROR(VLOOKUP($E40,新規登録!$B:$I,2,0)),\"未登録\",VLOOKUP($E40,新規登録!$B:$I,2,0)),(VLOOKUP($E40,氏名ﾃﾞｰﾀ!$B:$J,2,0))))","v":""},{"$f":"IF($E40=\"\",\"\",IF(ISERROR(VLOOKUP($E40,氏名ﾃﾞｰﾀ!$B:$J,3,0)),IF(ISERROR(VLOOKUP($E40,新規登録!$B:$I,3,0)),\"未登録\",VLOOKUP($E40,新規登録!$B:$I,3,0)),(VLOOKUP($E40,氏名ﾃﾞｰﾀ!$B:$J,3,0))))","v":""},{"$f":"IF($E40=\"\",\"\",IF(ISERROR(VLOOKUP($E40,氏名ﾃﾞｰﾀ!$B:$J,4,0)),IF(ISERROR(VLOOKUP($E40,新規登録!$B:$I,4,0)),\"未登録\",VLOOKUP($E40,新規登録!$B:$I,4,0)),(VLOOKUP($E40,氏名ﾃﾞｰﾀ!$B:$J,4,0))))","v":""},{"$f":"IF($E40=\"\",\"\",IF(ISERROR(VLOOKUP($E40,氏名ﾃﾞｰﾀ!$B:$J,5,0)),IF(ISERROR(VLOOKUP($E40,新規登録!$B:$I,5,0)),\"未登録\",VLOOKUP($E40,新規登録!$B:$I,5,0)),(VLOOKUP($E40,氏名ﾃﾞｰﾀ!$B:$J,5,0))))","v":""},{"$f":"IF($E40=\"\",\"\",IF(ISERROR(VLOOKUP($E40,氏名ﾃﾞｰﾀ!$B:$J,8,0)),IF(ISERROR(VLOOKUP($E40,新規登録!$B:$I,6,0)),\"未登録\",VLOOKUP($E40,新規登録!$B:$I,6,0)),(VLOOKUP($E40,氏名ﾃﾞｰﾀ!$B:$J,8,0))))","v":""},{"$f":"IF($E40=\"\",\"\",IF(ISERROR(VLOOKUP($E40,氏名ﾃﾞｰﾀ!$B:$J,7,0)),IF(ISERROR(VLOOKUP($E40,新規登録!$B:$I,7,0)),\"未登録\",VLOOKUP($E40,新規登録!$B:$I,7,0)),$G$3))","v":""},{"$f":"IF($E40=\"\",\"\",IF(ISERROR(VLOOKUP($E40,氏名ﾃﾞｰﾀ!$B:$J,6,0)),IF(ISERROR(VLOOKUP($E40,新規登録!$B:$I,8,0)),\"ﾅｼ\",VLOOKUP($E40,新規登録!$B:$I,8,0)),(VLOOKUP($E40,氏名ﾃﾞｰﾀ!$B:$J,6,0))))","v":""},{"$f":"IF($E40=\"\",\"\",IF(ISERROR(VLOOKUP($E40,氏名ﾃﾞｰﾀ!$B:$J,9,0)),IF(ISERROR(VLOOKUP($E40,新規登録!$B:$I,9,0)),\"未登録\",VLOOKUP($E40,新規登録!$B:$I,9,0)),(VLOOKUP($E40,氏名ﾃﾞｰﾀ!$B:$J,9,0))))","v":""},null,null,null,null,null,null,null,null,null,null,null,null,null,null,null,null,null,null,null,null,2,{"$f":"IF(N40=\"\",\"\",VLOOKUP(N40,ﾃﾞｰﾀ!A:D,4,0))","v":""},"秒","秒",null,null,null,{"$f":"IF(AH40=1,IF(Z40=\"\",1000,VLOOKUP(Z40,ﾃﾞｰﾀ!F$3:G$62,2,FALSE)),1000)","v":1000},{"$f":"IF(AR40=\"\",\"\",LEFT(AR40,3))","v":""},{"$f":"IF(AR40=\"\",\"\",LEFT(AR40,3))","v":""},{"$f":"IF(ISERROR(VLOOKUP(AO40,$A$16:$AH$215,5,0)),\"\",VLOOKUP(AO40,$A$16:$AH$215,5,0))","v":""},"",{"$f":"IF(AR40=\"\",\"\",VLOOKUP(AR40,$E$16:$AK$215,32,0))","v":""},{"$f":"IF(AH40=1,IF(AD40=\"\",1000,VLOOKUP(AD40,ﾃﾞｰﾀ!F$3:H$62,3,FALSE)),1000)","v":1000},{"$f":"IF(AX40=\"\",\"\",LEFT(AX40,3))","v":""},{"$f":"IF(AX40=\"\",\"\",LEFT(AX40,3))","v":""},{"$f":"IF(ISERROR(VLOOKUP(AU40,$B$16:$AH$215,4,0)),\"\",VLOOKUP(AU40,$B$16:$AH$21545,4,0))","v":""},{"$f":"IF(AX40=\"\",\"\",VLOOKUP(AX40,$E$16:$AG$215,26,0))","v":""},{"$f":"IF(AX40=\"\",\"\",VLOOKUP(AX40,$E$16:$AK$215,33,0))","v":""},{"$f":"IF(AH40=2,IF(Z40=\"\",1000,VLOOKUP(Z40,ﾃﾞｰﾀ!F$3:I$62,4,FALSE)),1000)","v":1000},{"$f":"IF(BD40=\"\",\"\",LEFT(BD40,3))","v":""},{"$f":"IF(BD40=\"\",\"\",LEFT(BD40,3))","v":""},{"$f":"IF(ISERROR(VLOOKUP(BA40,$A$16:$AH$215,5,0)),\"\",VLOOKUP(BA40,$A$16:$AH$215,5,0))","v":""},{"$f":"IF(BD40=\"\",\"\",VLOOKUP(BD40,$E$16:$AG$215,22,0))","v":""},{"$f":"IF(BD40=\"\",\"\",VLOOKUP(BD40,$E$16:$AK$215,32,0))","v":""},{"$f":"IF(AH40=2,IF(AD40=\"\",1000,VLOOKUP(AD40,ﾃﾞｰﾀ!F$3:J$62,5,FALSE)),1000)","v":1000},{"$f":"IF(BJ40=\"\",\"\",LEFT(BJ40,3))","v":""},{"$f":"IF(BJ40=\"\",\"\",LEFT(BJ40,3))","v":""},{"$f":"IF(ISERROR(VLOOKUP(BG40,$B$16:$AH$215,4,0)),\"\",VLOOKUP(BG40,$B$16:$AH$21545,4,0))","v":""},{"$f":"IF(BJ40=\"\",\"\",VLOOKUP(BJ40,$E$16:$AG$215,26,0))","v":""},{"$f":"IF(BJ40=\"\",\"\",VLOOKUP(BJ40,$E$16:$AK$215,33,0))","v":""}]
["","",{"$f":"IF(E41=\"\",\"\",IF(AH41=1,COUNTIF(AH$16:AH41,1)*10+2001-10,COUNTIF(AH$16:AH41,2)*10+6001-10))","v":""},26,null,{"$f":"IF($E41=\"\",\"\",IF(ISERROR(VLOOKUP($E41,氏名ﾃﾞｰﾀ!$B:$J,2,0)),IF(ISERROR(VLOOKUP($E41,新規登録!$B:$I,2,0)),\"未登録\",VLOOKUP($E41,新規登録!$B:$I,2,0)),(VLOOKUP($E41,氏名ﾃﾞｰﾀ!$B:$J,2,0))))","v":""},{"$f":"IF($E41=\"\",\"\",IF(ISERROR(VLOOKUP($E41,氏名ﾃﾞｰﾀ!$B:$J,3,0)),IF(ISERROR(VLOOKUP($E41,新規登録!$B:$I,3,0)),\"未登録\",VLOOKUP($E41,新規登録!$B:$I,3,0)),(VLOOKUP($E41,氏名ﾃﾞｰﾀ!$B:$J,3,0))))","v":""},{"$f":"IF($E41=\"\",\"\",IF(ISERROR(VLOOKUP($E41,氏名ﾃﾞｰﾀ!$B:$J,4,0)),IF(ISERROR(VLOOKUP($E41,新規登録!$B:$I,4,0)),\"未登録\",VLOOKUP($E41,新規登録!$B:$I,4,0)),(VLOOKUP($E41,氏名ﾃﾞｰﾀ!$B:$J,4,0))))","v":""},{"$f":"IF($E41=\"\",\"\",IF(ISERROR(VLOOKUP($E41,氏名ﾃﾞｰﾀ!$B:$J,5,0)),IF(ISERROR(VLOOKUP($E41,新規登録!$B:$I,5,0)),\"未登録\",VLOOKUP($E41,新規登録!$B:$I,5,0)),(VLOOKUP($E41,氏名ﾃﾞｰﾀ!$B:$J,5,0))))","v":""},{"$f":"IF($E41=\"\",\"\",IF(ISERROR(VLOOKUP($E41,氏名ﾃﾞｰﾀ!$B:$J,8,0)),IF(ISERROR(VLOOKUP($E41,新規登録!$B:$I,6,0)),\"未登録\",VLOOKUP($E41,新規登録!$B:$I,6,0)),(VLOOKUP($E41,氏名ﾃﾞｰﾀ!$B:$J,8,0))))","v":""},{"$f":"IF($E41=\"\",\"\",IF(ISERROR(VLOOKUP($E41,氏名ﾃﾞｰﾀ!$B:$J,7,0)),IF(ISERROR(VLOOKUP($E41,新規登録!$B:$I,7,0)),\"未登録\",VLOOKUP($E41,新規登録!$B:$I,7,0)),$G$3))","v":""},{"$f":"IF($E41=\"\",\"\",IF(ISERROR(VLOOKUP($E41,氏名ﾃﾞｰﾀ!$B:$J,6,0)),IF(ISERROR(VLOOKUP($E41,新規登録!$B:$I,8,0)),\"ﾅｼ\",VLOOKUP($E41,新規登録!$B:$I,8,0)),(VLOOKUP($E41,氏名ﾃﾞｰﾀ!$B:$J,6,0))))","v":""},{"$f":"IF($E41=\"\",\"\",IF(ISERROR(VLOOKUP($E41,氏名ﾃﾞｰﾀ!$B:$J,9,0)),IF(ISERROR(VLOOKUP($E41,新規登録!$B:$I,9,0)),\"未登録\",VLOOKUP($E41,新規登録!$B:$I,9,0)),(VLOOKUP($E41,氏名ﾃﾞｰﾀ!$B:$J,9,0))))","v":""},null,null,null,null,null,null,null,null,null,null,null,null,null,null,null,null,null,null,null,null,2,{"$f":"IF(N41=\"\",\"\",VLOOKUP(N41,ﾃﾞｰﾀ!A:D,4,0))","v":""},"秒","秒",null,null,null,{"$f":"IF(AH41=1,IF(Z41=\"\",1000,VLOOKUP(Z41,ﾃﾞｰﾀ!F$3:G$62,2,FALSE)),1000)","v":1000},{"$f":"IF(AR41=\"\",\"\",LEFT(AR41,3))","v":""},{"$f":"IF(AR41=\"\",\"\",LEFT(AR41,3))","v":""},"","",{"$f":"IF(AR41=\"\",\"\",VLOOKUP(AR41,$E$16:$AK$215,32,0))","v":""},{"$f":"IF(AH41=1,IF(AD41=\"\",1000,VLOOKUP(AD41,ﾃﾞｰﾀ!F$3:H$62,3,FALSE)),1000)","v":1000},{"$f":"IF(AX41=\"\",\"\",LEFT(AX41,3))","v":""},{"$f":"IF(AX41=\"\",\"\",LEFT(AX41,3))","v":""},"","",{"$f":"IF(AX41=\"\",\"\",VLOOKUP(AX41,$E$16:$AK$215,33,0))","v":""},{"$f":"IF(AH41=2,IF(Z41=\"\",1000,VLOOKUP(Z41,ﾃﾞｰﾀ!F$3:I$62,4,FALSE)),1000)","v":1000},{"$f":"IF(BD41=\"\",\"\",LEFT(BD41,3))","v":""},{"$f":"IF(BD41=\"\",\"\",LEFT(BD41,3))","v":""},"","",{"$f":"IF(BD41=\"\",\"\",VLOOKUP(BD41,$E$16:$AK$215,32,0))","v":""},{"$f":"IF(AH41=2,IF(AD41=\"\",1000,VLOOKUP(AD41,ﾃﾞｰﾀ!F$3:J$62,5,FALSE)),1000)","v":1000},{"$f":"IF(BJ41=\"\",\"\",LEFT(BJ41,3))","v":""},{"$f":"IF(BJ41=\"\",\"\",LEFT(BJ41,3))","v":""},"","",{"$f":"IF(BJ41=\"\",\"\",VLOOKUP(BJ41,$E$16:$AK$215,33,0))","v":""}]
["","",{"$f":"IF(E42=\"\",\"\",IF(AH42=1,COUNTIF(AH$16:AH42,1)*10+2001-10,COUNTIF(AH$16:AH42,2)*10+6001-10))","v":""},27,null,{"$f":"IF($E42=\"\",\"\",IF(ISERROR(VLOOKUP($E42,氏名ﾃﾞｰﾀ!$B:$J,2,0)),IF(ISERROR(VLOOKUP($E42,新規登録!$B:$I,2,0)),\"未登録\",VLOOKUP($E42,新規登録!$B:$I,2,0)),(VLOOKUP($E42,氏名ﾃﾞｰﾀ!$B:$J,2,0))))","v":""},{"$f":"IF($E42=\"\",\"\",IF(ISERROR(VLOOKUP($E42,氏名ﾃﾞｰﾀ!$B:$J,3,0)),IF(ISERROR(VLOOKUP($E42,新規登録!$B:$I,3,0)),\"未登録\",VLOOKUP($E42,新規登録!$B:$I,3,0)),(VLOOKUP($E42,氏名ﾃﾞｰﾀ!$B:$J,3,0))))","v":""},{"$f":"IF($E42=\"\",\"\",IF(ISERROR(VLOOKUP($E42,氏名ﾃﾞｰﾀ!$B:$J,4,0)),IF(ISERROR(VLOOKUP($E42,新規登録!$B:$I,4,0)),\"未登録\",VLOOKUP($E42,新規登録!$B:$I,4,0)),(VLOOKUP($E42,氏名ﾃﾞｰﾀ!$B:$J,4,0))))","v":""},{"$f":"IF($E42=\"\",\"\",IF(ISERROR(VLOOKUP($E42,氏名ﾃﾞｰﾀ!$B:$J,5,0)),IF(ISERROR(VLOOKUP($E42,新規登録!$B:$I,5,0)),\"未登録\",VLOOKUP($E42,新規登録!$B:$I,5,0)),(VLOOKUP($E42,氏名ﾃﾞｰﾀ!$B:$J,5,0))))","v":""},{"$f":"IF($E42=\"\",\"\",IF(ISERROR(VLOOKUP($E42,氏名ﾃﾞｰﾀ!$B:$J,8,0)),IF(ISERROR(VLOOKUP($E42,新規登録!$B:$I,6,0)),\"未登録\",VLOOKUP($E42,新規登録!$B:$I,6,0)),(VLOOKUP($E42,氏名ﾃﾞｰﾀ!$B:$J,8,0))))","v":""},{"$f":"IF($E42=\"\",\"\",IF(ISERROR(VLOOKUP($E42,氏名ﾃﾞｰﾀ!$B:$J,7,0)),IF(ISERROR(VLOOKUP($E42,新規登録!$B:$I,7,0)),\"未登録\",VLOOKUP($E42,新規登録!$B:$I,7,0)),$G$3))","v":""},{"$f":"IF($E42=\"\",\"\",IF(ISERROR(VLOOKUP($E42,氏名ﾃﾞｰﾀ!$B:$J,6,0)),IF(ISERROR(VLOOKUP($E42,新規登録!$B:$I,8,0)),\"ﾅｼ\",VLOOKUP($E42,新規登録!$B:$I,8,0)),(VLOOKUP($E42,氏名ﾃﾞｰﾀ!$B:$J,6,0))))","v":""},{"$f":"IF($E42=\"\",\"\",IF(ISERROR(VLOOKUP($E42,氏名ﾃﾞｰﾀ!$B:$J,9,0)),IF(ISERROR(VLOOKUP($E42,新規登録!$B:$I,9,0)),\"未登録\",VLOOKUP($E42,新規登録!$B:$I,9,0)),(VLOOKUP($E42,氏名ﾃﾞｰﾀ!$B:$J,9,0))))","v":""},null,null,null,null,null,null,null,null,null,null,null,null,null,null,null,null,null,null,null,null,2,{"$f":"IF(N42=\"\",\"\",VLOOKUP(N42,ﾃﾞｰﾀ!A:D,4,0))","v":""},"秒","秒",null,null,null,{"$f":"IF(AH42=1,IF(Z42=\"\",1000,VLOOKUP(Z42,ﾃﾞｰﾀ!F$3:G$62,2,FALSE)),1000)","v":1000},"","","","","",{"$f":"IF(AH42=1,IF(AD42=\"\",1000,VLOOKUP(AD42,ﾃﾞｰﾀ!F$3:H$62,3,FALSE)),1000)","v":1000},"","","","","",{"$f":"IF(AH42=2,IF(Z42=\"\",1000,VLOOKUP(Z42,ﾃﾞｰﾀ!F$3:I$62,4,FALSE)),1000)","v":1000},"","","","","",{"$f":"IF(AH42=2,IF(AD42=\"\",1000,VLOOKUP(AD42,ﾃﾞｰﾀ!F$3:J$62,5,FALSE)),1000)","v":1000},"","","","",""]
["","",{"$f":"IF(E43=\"\",\"\",IF(AH43=1,COUNTIF(AH$16:AH43,1)*10+2001-10,COUNTIF(AH$16:AH43,2)*10+6001-10))","v":""},28,null,{"$f":"IF($E43=\"\",\"\",IF(ISERROR(VLOOKUP($E43,氏名ﾃﾞｰﾀ!$B:$J,2,0)),IF(ISERROR(VLOOKUP($E43,新規登録!$B:$I,2,0)),\"未登録\",VLOOKUP($E43,新規登録!$B:$I,2,0)),(VLOOKUP($E43,氏名ﾃﾞｰﾀ!$B:$J,2,0))))","v":""},{"$f":"IF($E43=\"\",\"\",IF(ISERROR(VLOOKUP($E43,氏名ﾃﾞｰﾀ!$B:$J,3,0)),IF(ISERROR(VLOOKUP($E43,新規登録!$B:$I,3,0)),\"未登録\",VLOOKUP($E43,新規登録!$B:$I,3,0)),(VLOOKUP($E43,氏名ﾃﾞｰﾀ!$B:$J,3,0))))","v":""},{"$f":"IF($E43=\"\",\"\",IF(ISERROR(VLOOKUP($E43,氏名ﾃﾞｰﾀ!$B:$J,4,0)),IF(ISERROR(VLOOKUP($E43,新規登録!$B:$I,4,0)),\"未登録\",VLOOKUP($E43,新規登録!$B:$I,4,0)),(VLOOKUP($E43,氏名ﾃﾞｰﾀ!$B:$J,4,0))))","v":""},{"$f":"IF($E43=\"\",\"\",IF(ISERROR(VLOOKUP($E43,氏名ﾃﾞｰﾀ!$B:$J,5,0)),IF(ISERROR(VLOOKUP($E43,新規登録!$B:$I,5,0)),\"未登録\",VLOOKUP($E43,新規登録!$B:$I,5,0)),(VLOOKUP($E43,氏名ﾃﾞｰﾀ!$B:$J,5,0))))","v":""},{"$f":"IF($E43=\"\",\"\",IF(ISERROR(VLOOKUP($E43,氏名ﾃﾞｰﾀ!$B:$J,8,0)),IF(ISERROR(VLOOKUP($E43,新規登録!$B:$I,6,0)),\"未登録\",VLOOKUP($E43,新規登録!$B:$I,6,0)),(VLOOKUP($E43,氏名ﾃﾞｰﾀ!$B:$J,8,0))))","v":""},{"$f":"IF($E43=\"\",\"\",IF(ISERROR(VLOOKUP($E43,氏名ﾃﾞｰﾀ!$B:$J,7,0)),IF(ISERROR(VLOOKUP($E43,新規登録!$B:$I,7,0)),\"未登録\",VLOOKUP($E43,新規登録!$B:$I,7,0)),$G$3))","v":""},{"$f":"IF($E43=\"\",\"\",IF(ISERROR(VLOOKUP($E43,氏名ﾃﾞｰﾀ!$B:$J,6,0)),IF(ISERROR(VLOOKUP($E43,新規登録!$B:$I,8,0)),\"ﾅｼ\",VLOOKUP($E43,新規登録!$B:$I,8,0)),(VLOOKUP($E43,氏名ﾃﾞｰﾀ!$B:$J,6,0))))","v":""},{"$f":"IF($E43=\"\",\"\",IF(ISERROR(VLOOKUP($E43,氏名ﾃﾞｰﾀ!$B:$J,9,0)),IF(ISERROR(VLOOKUP($E43,新規登録!$B:$I,9,0)),\"未登録\",VLOOKUP($E43,新規登録!$B:$I,9,0)),(VLOOKUP($E43,氏名ﾃﾞｰﾀ!$B:$J,9,0))))","v":""},null,null,null,null,null,null,null,null,null,null,null,null,null,null,null,null,null,null,null,null,2,{"$f":"IF(N43=\"\",\"\",VLOOKUP(N43,ﾃﾞｰﾀ!A:D,4,0))","v":""},"秒","秒",null,null,null,{"$f":"IF(AH43=1,IF(Z43=\"\",1000,VLOOKUP(Z43,ﾃﾞｰﾀ!F$3:G$62,2,FALSE)),1000)","v":1000},"","","","","",{"$f":"IF(AH43=1,IF(AD43=\"\",1000,VLOOKUP(AD43,ﾃﾞｰﾀ!F$3:H$62,3,FALSE)),1000)","v":1000},"","","","","",{"$f":"IF(AH43=2,IF(Z43=\"\",1000,VLOOKUP(Z43,ﾃﾞｰﾀ!F$3:I$62,4,FALSE)),1000)","v":1000},"","","","","",{"$f":"IF(AH43=2,IF(AD43=\"\",1000,VLOOKUP(AD43,ﾃﾞｰﾀ!F$3:J$62,5,FALSE)),1000)","v":1000},"","","","",""]
["","",{"$f":"IF(E44=\"\",\"\",IF(AH44=1,COUNTIF(AH$16:AH44,1)*10+2001-10,COUNTIF(AH$16:AH44,2)*10+6001-10))","v":""},29,null,{"$f":"IF($E44=\"\",\"\",IF(ISERROR(VLOOKUP($E44,氏名ﾃﾞｰﾀ!$B:$J,2,0)),IF(ISERROR(VLOOKUP($E44,新規登録!$B:$I,2,0)),\"未登録\",VLOOKUP($E44,新規登録!$B:$I,2,0)),(VLOOKUP($E44,氏名ﾃﾞｰﾀ!$B:$J,2,0))))","v":""},{"$f":"IF($E44=\"\",\"\",IF(ISERROR(VLOOKUP($E44,氏名ﾃﾞｰﾀ!$B:$J,3,0)),IF(ISERROR(VLOOKUP($E44,新規登録!$B:$I,3,0)),\"未登録\",VLOOKUP($E44,新規登録!$B:$I,3,0)),(VLOOKUP($E44,氏名ﾃﾞｰﾀ!$B:$J,3,0))))","v":""},{"$f":"IF($E44=\"\",\"\",IF(ISERROR(VLOOKUP($E44,氏名ﾃﾞｰﾀ!$B:$J,4,0)),IF(ISERROR(VLOOKUP($E44,新規登録!$B:$I,4,0)),\"未登録\",VLOOKUP($E44,新規登録!$B:$I,4,0)),(VLOOKUP($E44,氏名ﾃﾞｰﾀ!$B:$J,4,0))))","v":""},{"$f":"IF($E44=\"\",\"\",IF(ISERROR(VLOOKUP($E44,氏名ﾃﾞｰﾀ!$B:$J,5,0)),IF(ISERROR(VLOOKUP($E44,新規登録!$B:$I,5,0)),\"未登録\",VLOOKUP($E44,新規登録!$B:$I,5,0)),(VLOOKUP($E44,氏名ﾃﾞｰﾀ!$B:$J,5,0))))","v":""},{"$f":"IF($E44=\"\",\"\",IF(ISERROR(VLOOKUP($E44,氏名ﾃﾞｰﾀ!$B:$J,8,0)),IF(ISERROR(VLOOKUP($E44,新規登録!$B:$I,6,0)),\"未登録\",VLOOKUP($E44,新規登録!$B:$I,6,0)),(VLOOKUP($E44,氏名ﾃﾞｰﾀ!$B:$J,8,0))))","v":""},{"$f":"IF($E44=\"\",\"\",IF(ISERROR(VLOOKUP($E44,氏名ﾃﾞｰﾀ!$B:$J,7,0)),IF(ISERROR(VLOOKUP($E44,新規登録!$B:$I,7,0)),\"未登録\",VLOOKUP($E44,新規登録!$B:$I,7,0)),$G$3))","v":""},{"$f":"IF($E44=\"\",\"\",IF(ISERROR(VLOOKUP($E44,氏名ﾃﾞｰﾀ!$B:$J,6,0)),IF(ISERROR(VLOOKUP($E44,新規登録!$B:$I,8,0)),\"ﾅｼ\",VLOOKUP($E44,新規登録!$B:$I,8,0)),(VLOOKUP($E44,氏名ﾃﾞｰﾀ!$B:$J,6,0))))","v":""},{"$f":"IF($E44=\"\",\"\",IF(ISERROR(VLOOKUP($E44,氏名ﾃﾞｰﾀ!$B:$J,9,0)),IF(ISERROR(VLOOKUP($E44,新規登録!$B:$I,9,0)),\"未登録\",VLOOKUP($E44,新規登録!$B:$I,9,0)),(VLOOKUP($E44,氏名ﾃﾞｰﾀ!$B:$J,9,0))))","v":""},null,null,null,null,null,null,null,null,null,null,null,null,null,null,null,null,null,null,null,null,2,{"$f":"IF(N44=\"\",\"\",VLOOKUP(N44,ﾃﾞｰﾀ!A:D,4,0))","v":""},"秒","秒",null,null,null,{"$f":"IF(AH44=1,IF(Z44=\"\",1000,VLOOKUP(Z44,ﾃﾞｰﾀ!F$3:G$62,2,FALSE)),1000)","v":1000},"","","","","",{"$f":"IF(AH44=1,IF(AD44=\"\",1000,VLOOKUP(AD44,ﾃﾞｰﾀ!F$3:H$62,3,FALSE)),1000)","v":1000},"","","","","",{"$f":"IF(AH44=2,IF(Z44=\"\",1000,VLOOKUP(Z44,ﾃﾞｰﾀ!F$3:I$62,4,FALSE)),1000)","v":1000},"","","","","",{"$f":"IF(AH44=2,IF(AD44=\"\",1000,VLOOKUP(AD44,ﾃﾞｰﾀ!F$3:J$62,5,FALSE)),1000)","v":1000},"","","","",""]
["","",{"$f":"IF(E45=\"\",\"\",IF(AH45=1,COUNTIF(AH$16:AH45,1)*10+2001-10,COUNTIF(AH$16:AH45,2)*10+6001-10))","v":""},30,null,{"$f":"IF($E45=\"\",\"\",IF(ISERROR(VLOOKUP($E45,氏名ﾃﾞｰﾀ!$B:$J,2,0)),IF(ISERROR(VLOOKUP($E45,新規登録!$B:$I,2,0)),\"未登録\",VLOOKUP($E45,新規登録!$B:$I,2,0)),(VLOOKUP($E45,氏名ﾃﾞｰﾀ!$B:$J,2,0))))","v":""},{"$f":"IF($E45=\"\",\"\",IF(ISERROR(VLOOKUP($E45,氏名ﾃﾞｰﾀ!$B:$J,3,0)),IF(ISERROR(VLOOKUP($E45,新規登録!$B:$I,3,0)),\"未登録\",VLOOKUP($E45,新規登録!$B:$I,3,0)),(VLOOKUP($E45,氏名ﾃﾞｰﾀ!$B:$J,3,0))))","v":""},{"$f":"IF($E45=\"\",\"\",IF(ISERROR(VLOOKUP($E45,氏名ﾃﾞｰﾀ!$B:$J,4,0)),IF(ISERROR(VLOOKUP($E45,新規登録!$B:$I,4,0)),\"未登録\",VLOOKUP($E45,新規登録!$B:$I,4,0)),(VLOOKUP($E45,氏名ﾃﾞｰﾀ!$B:$J,4,0))))","v":""},{"$f":"IF($E45=\"\",\"\",IF(ISERROR(VLOOKUP($E45,氏名ﾃﾞｰﾀ!$B:$J,5,0)),IF(ISERROR(VLOOKUP($E45,新規登録!$B:$I,5,0)),\"未登録\",VLOOKUP($E45,新規登録!$B:$I,5,0)),(VLOOKUP($E45,氏名ﾃﾞｰﾀ!$B:$J,5,0))))","v":""},{"$f":"IF($E45=\"\",\"\",IF(ISERROR(VLOOKUP($E45,氏名ﾃﾞｰﾀ!$B:$J,8,0)),IF(ISERROR(VLOOKUP($E45,新規登録!$B:$I,6,0)),\"未登録\",VLOOKUP($E45,新規登録!$B:$I,6,0)),(VLOOKUP($E45,氏名ﾃﾞｰﾀ!$B:$J,8,0))))","v":""},{"$f":"IF($E45=\"\",\"\",IF(ISERROR(VLOOKUP($E45,氏名ﾃﾞｰﾀ!$B:$J,7,0)),IF(ISERROR(VLOOKUP($E45,新規登録!$B:$I,7,0)),\"未登録\",VLOOKUP($E45,新規登録!$B:$I,7,0)),$G$3))","v":""},{"$f":"IF($E45=\"\",\"\",IF(ISERROR(VLOOKUP($E45,氏名ﾃﾞｰﾀ!$B:$J,6,0)),IF(ISERROR(VLOOKUP($E45,新規登録!$B:$I,8,0)),\"ﾅｼ\",VLOOKUP($E45,新規登録!$B:$I,8,0)),(VLOOKUP($E45,氏名ﾃﾞｰﾀ!$B:$J,6,0))))","v":""},{"$f":"IF($E45=\"\",\"\",IF(ISERROR(VLOOKUP($E45,氏名ﾃﾞｰﾀ!$B:$J,9,0)),IF(ISERROR(VLOOKUP($E45,新規登録!$B:$I,9,0)),\"未登録\",VLOOKUP($E45,新規登録!$B:$I,9,0)),(VLOOKUP($E45,氏名ﾃﾞｰﾀ!$B:$J,9,0))))","v":""},null,null,null,null,null,null,null,null,null,null,null,null,null,null,null,null,null,null,null,null,2,{"$f":"IF(N45=\"\",\"\",VLOOKUP(N45,ﾃﾞｰﾀ!A:D,4,0))","v":""},"秒","秒",null,null,null,{"$f":"IF(AH45=1,IF(Z45=\"\",1000,VLOOKUP(Z45,ﾃﾞｰﾀ!F$3:G$62,2,FALSE)),1000)","v":1000},"","","","","",{"$f":"IF(AH45=1,IF(AD45=\"\",1000,VLOOKUP(AD45,ﾃﾞｰﾀ!F$3:H$62,3,FALSE)),1000)","v":1000},"","","","","",{"$f":"IF(AH45=2,IF(Z45=\"\",1000,VLOOKUP(Z45,ﾃﾞｰﾀ!F$3:I$62,4,FALSE)),1000)","v":1000},"","","","","",{"$f":"IF(AH45=2,IF(AD45=\"\",1000,VLOOKUP(AD45,ﾃﾞｰﾀ!F$3:J$62,5,FALSE)),1000)","v":1000},"","","","",""]
["","",{"$f":"IF(E46=\"\",\"\",IF(AH46=1,COUNTIF(AH$16:AH46,1)*10+2001-10,COUNTIF(AH$16:AH46,2)*10+6001-10))","v":""},31,null,{"$f":"IF($E46=\"\",\"\",IF(ISERROR(VLOOKUP($E46,氏名ﾃﾞｰﾀ!$B:$J,2,0)),IF(ISERROR(VLOOKUP($E46,新規登録!$B:$I,2,0)),\"未登録\",VLOOKUP($E46,新規登録!$B:$I,2,0)),(VLOOKUP($E46,氏名ﾃﾞｰﾀ!$B:$J,2,0))))","v":""},{"$f":"IF($E46=\"\",\"\",IF(ISERROR(VLOOKUP($E46,氏名ﾃﾞｰﾀ!$B:$J,3,0)),IF(ISERROR(VLOOKUP($E46,新規登録!$B:$I,3,0)),\"未登録\",VLOOKUP($E46,新規登録!$B:$I,3,0)),(VLOOKUP($E46,氏名ﾃﾞｰﾀ!$B:$J,3,0))))","v":""},{"$f":"IF($E46=\"\",\"\",IF(ISERROR(VLOOKUP($E46,氏名ﾃﾞｰﾀ!$B:$J,4,0)),IF(ISERROR(VLOOKUP($E46,新規登録!$B:$I,4,0)),\"未登録\",VLOOKUP($E46,新規登録!$B:$I,4,0)),(VLOOKUP($E46,氏名ﾃﾞｰﾀ!$B:$J,4,0))))","v":""},{"$f":"IF($E46=\"\",\"\",IF(ISERROR(VLOOKUP($E46,氏名ﾃﾞｰﾀ!$B:$J,5,0)),IF(ISERROR(VLOOKUP($E46,新規登録!$B:$I,5,0)),\"未登録\",VLOOKUP($E46,新規登録!$B:$I,5,0)),(VLOOKUP($E46,氏名ﾃﾞｰﾀ!$B:$J,5,0))))","v":""},{"$f":"IF($E46=\"\",\"\",IF(ISERROR(VLOOKUP($E46,氏名ﾃﾞｰﾀ!$B:$J,8,0)),IF(ISERROR(VLOOKUP($E46,新規登録!$B:$I,6,0)),\"未登録\",VLOOKUP($E46,新規登録!$B:$I,6,0)),(VLOOKUP($E46,氏名ﾃﾞｰﾀ!$B:$J,8,0))))","v":""},{"$f":"IF($E46=\"\",\"\",IF(ISERROR(VLOOKUP($E46,氏名ﾃﾞｰﾀ!$B:$J,7,0)),IF(ISERROR(VLOOKUP($E46,新規登録!$B:$I,7,0)),\"未登録\",VLOOKUP($E46,新規登録!$B:$I,7,0)),$G$3))","v":""},{"$f":"IF($E46=\"\",\"\",IF(ISERROR(VLOOKUP($E46,氏名ﾃﾞｰﾀ!$B:$J,6,0)),IF(ISERROR(VLOOKUP($E46,新規登録!$B:$I,8,0)),\"ﾅｼ\",VLOOKUP($E46,新規登録!$B:$I,8,0)),(VLOOKUP($E46,氏名ﾃﾞｰﾀ!$B:$J,6,0))))","v":""},{"$f":"IF($E46=\"\",\"\",IF(ISERROR(VLOOKUP($E46,氏名ﾃﾞｰﾀ!$B:$J,9,0)),IF(ISERROR(VLOOKUP($E46,新規登録!$B:$I,9,0)),\"未登録\",VLOOKUP($E46,新規登録!$B:$I,9,0)),(VLOOKUP($E46,氏名ﾃﾞｰﾀ!$B:$J,9,0))))","v":""},null,null,null,null,null,null,null,null,null,null,null,null,null,null,null,null,null,null,null,null,2,{"$f":"IF(N46=\"\",\"\",VLOOKUP(N46,ﾃﾞｰﾀ!A:D,4,0))","v":""},"秒","秒",null,null,null,{"$f":"IF(AH46=1,IF(Z46=\"\",1000,VLOOKUP(Z46,ﾃﾞｰﾀ!F$3:G$62,2,FALSE)),1000)","v":1000},{"$f":"IF(AR46=\"\",\"\",LEFT(AR46,3))","v":""},{"$f":"IF(AR46=\"\",\"\",LEFT(AR46,3))","v":""},{"$f":"IF(ISERROR(VLOOKUP(AO46,$A$16:$AH$215,5,0)),\"\",VLOOKUP(AO46,$A$16:$AH$215,5,0))","v":""},"",{"$f":"IF(AR46=\"\",\"\",VLOOKUP(AR46,$E$16:$AK$215,32,0))","v":""},{"$f":"IF(AH46=1,IF(AD46=\"\",1000,VLOOKUP(AD46,ﾃﾞｰﾀ!F$3:H$62,3,FALSE)),1000)","v":1000},{"$f":"IF(AX46=\"\",\"\",LEFT(AX46,3))","v":""},{"$f":"IF(AX46=\"\",\"\",LEFT(AX46,3))","v":""},{"$f":"IF(ISERROR(VLOOKUP(AU46,$B$16:$AH$215,4,0)),\"\",VLOOKUP(AU46,$B$16:$AH$21545,4,0))","v":""},{"$f":"IF(AX46=\"\",\"\",VLOOKUP(AX46,$E$16:$AG$215,26,0))","v":""},{"$f":"IF(AX46=\"\",\"\",VLOOKUP(AX46,$E$16:$AK$215,33,0))","v":""},{"$f":"IF(AH46=2,IF(Z46=\"\",1000,VLOOKUP(Z46,ﾃﾞｰﾀ!F$3:I$62,4,FALSE)),1000)","v":1000},{"$f":"IF(BD46=\"\",\"\",LEFT(BD46,3))","v":""},{"$f":"IF(BD46=\"\",\"\",LEFT(BD46,3))","v":""},{"$f":"IF(ISERROR(VLOOKUP(BA46,$A$16:$AH$215,5,0)),\"\",VLOOKUP(BA46,$A$16:$AH$215,5,0))","v":""},{"$f":"IF(BD46=\"\",\"\",VLOOKUP(BD46,$E$16:$AG$215,22,0))","v":""},{"$f":"IF(BD46=\"\",\"\",VLOOKUP(BD46,$E$16:$AK$215,32,0))","v":""},{"$f":"IF(AH46=2,IF(AD46=\"\",1000,VLOOKUP(AD46,ﾃﾞｰﾀ!F$3:J$62,5,FALSE)),1000)","v":1000},{"$f":"IF(BJ46=\"\",\"\",LEFT(BJ46,3))","v":""},{"$f":"IF(BJ46=\"\",\"\",LEFT(BJ46,3))","v":""},{"$f":"IF(ISERROR(VLOOKUP(BG46,$B$16:$AH$215,4,0)),\"\",VLOOKUP(BG46,$B$16:$AH$21545,4,0))","v":""},{"$f":"IF(BJ46=\"\",\"\",VLOOKUP(BJ46,$E$16:$AG$215,26,0))","v":""},{"$f":"IF(BJ46=\"\",\"\",VLOOKUP(BJ46,$E$16:$AK$215,33,0))","v":""}]
["","",{"$f":"IF(E47=\"\",\"\",IF(AH47=1,COUNTIF(AH$16:AH47,1)*10+2001-10,COUNTIF(AH$16:AH47,2)*10+6001-10))","v":""},32,null,{"$f":"IF($E47=\"\",\"\",IF(ISERROR(VLOOKUP($E47,氏名ﾃﾞｰﾀ!$B:$J,2,0)),IF(ISERROR(VLOOKUP($E47,新規登録!$B:$I,2,0)),\"未登録\",VLOOKUP($E47,新規登録!$B:$I,2,0)),(VLOOKUP($E47,氏名ﾃﾞｰﾀ!$B:$J,2,0))))","v":""},{"$f":"IF($E47=\"\",\"\",IF(ISERROR(VLOOKUP($E47,氏名ﾃﾞｰﾀ!$B:$J,3,0)),IF(ISERROR(VLOOKUP($E47,新規登録!$B:$I,3,0)),\"未登録\",VLOOKUP($E47,新規登録!$B:$I,3,0)),(VLOOKUP($E47,氏名ﾃﾞｰﾀ!$B:$J,3,0))))","v":""},{"$f":"IF($E47=\"\",\"\",IF(ISERROR(VLOOKUP($E47,氏名ﾃﾞｰﾀ!$B:$J,4,0)),IF(ISERROR(VLOOKUP($E47,新規登録!$B:$I,4,0)),\"未登録\",VLOOKUP($E47,新規登録!$B:$I,4,0)),(VLOOKUP($E47,氏名ﾃﾞｰﾀ!$B:$J,4,0))))","v":""},{"$f":"IF($E47=\"\",\"\",IF(ISERROR(VLOOKUP($E47,氏名ﾃﾞｰﾀ!$B:$J,5,0)),IF(ISERROR(VLOOKUP($E47,新規登録!$B:$I,5,0)),\"未登録\",VLOOKUP($E47,新規登録!$B:$I,5,0)),(VLOOKUP($E47,氏名ﾃﾞｰﾀ!$B:$J,5,0))))","v":""},{"$f":"IF($E47=\"\",\"\",IF(ISERROR(VLOOKUP($E47,氏名ﾃﾞｰﾀ!$B:$J,8,0)),IF(ISERROR(VLOOKUP($E47,新規登録!$B:$I,6,0)),\"未登録\",VLOOKUP($E47,新規登録!$B:$I,6,0)),(VLOOKUP($E47,氏名ﾃﾞｰﾀ!$B:$J,8,0))))","v":""},{"$f":"IF($E47=\"\",\"\",IF(ISERROR(VLOOKUP($E47,氏名ﾃﾞｰﾀ!$B:$J,7,0)),IF(ISERROR(VLOOKUP($E47,新規登録!$B:$I,7,0)),\"未登録\",VLOOKUP($E47,新規登録!$B:$I,7,0)),$G$3))","v":""},{"$f":"IF($E47=\"\",\"\",IF(ISERROR(VLOOKUP($E47,氏名ﾃﾞｰﾀ!$B:$J,6,0)),IF(ISERROR(VLOOKUP($E47,新規登録!$B:$I,8,0)),\"ﾅｼ\",VLOOKUP($E47,新規登録!$B:$I,8,0)),(VLOOKUP($E47,氏名ﾃﾞｰﾀ!$B:$J,6,0))))","v":""},{"$f":"IF($E47=\"\",\"\",IF(ISERROR(VLOOKUP($E47,氏名ﾃﾞｰﾀ!$B:$J,9,0)),IF(ISERROR(VLOOKUP($E47,新規登録!$B:$I,9,0)),\"未登録\",VLOOKUP($E47,新規登録!$B:$I,9,0)),(VLOOKUP($E47,氏名ﾃﾞｰﾀ!$B:$J,9,0))))","v":""},null,null,null,null,null,null,null,null,null,null,null,null,null,null,null,null,null,null,null,null,2,{"$f":"IF(N47=\"\",\"\",VLOOKUP(N47,ﾃﾞｰﾀ!A:D,4,0))","v":""},"秒","秒",null,null,null,{"$f":"IF(AH47=1,IF(Z47=\"\",1000,VLOOKUP(Z47,ﾃﾞｰﾀ!F$3:G$62,2,FALSE)),1000)","v":1000},{"$f":"IF(AR47=\"\",\"\",LEFT(AR47,3))","v":""},{"$f":"IF(AR47=\"\",\"\",LEFT(AR47,3))","v":""},"","",{"$f":"IF(AR47=\"\",\"\",VLOOKUP(AR47,$E$16:$AK$215,32,0))","v":""},{"$f":"IF(AH47=1,IF(AD47=\"\",1000,VLOOKUP(AD47,ﾃﾞｰﾀ!F$3:H$62,3,FALSE)),1000)","v":1000},{"$f":"IF(AX47=\"\",\"\",LEFT(AX47,3))","v":""},{"$f":"IF(AX47=\"\",\"\",LEFT(AX47,3))","v":""},"","",{"$f":"IF(AX47=\"\",\"\",VLOOKUP(AX47,$E$16:$AK$215,33,0))","v":""},{"$f":"IF(AH47=2,IF(Z47=\"\",1000,VLOOKUP(Z47,ﾃﾞｰﾀ!F$3:I$62,4,FALSE)),1000)","v":1000},{"$f":"IF(BD47=\"\",\"\",LEFT(BD47,3))","v":""},{"$f":"IF(BD47=\"\",\"\",LEFT(BD47,3))","v":""},"","",{"$f":"IF(BD47=\"\",\"\",VLOOKUP(BD47,$E$16:$AK$215,32,0))","v":""},{"$f":"IF(AH47=2,IF(AD47=\"\",1000,VLOOKUP(AD47,ﾃﾞｰﾀ!F$3:J$62,5,FALSE)),1000)","v":1000},{"$f":"IF(BJ47=\"\",\"\",LEFT(BJ47,3))","v":""},{"$f":"IF(BJ47=\"\",\"\",LEFT(BJ47,3))","v":""},"","",{"$f":"IF(BJ47=\"\",\"\",VLOOKUP(BJ47,$E$16:$AK$215,33,0))","v":""}]
[{"$f":"IF(Z48=\"\",\"\",IF(L48=\"男\",VLOOKUP(Z48,ﾘﾚｰｺｰﾄﾞ,2,0),VLOOKUP(Z48,ﾘﾚｰｺｰﾄﾞ,4,0)))","v":""},{"$f":"IF(AD48=\"\",\"\",IF(L48=\"男\",VLOOKUP(AD48,ﾘﾚｰｺｰﾄﾞ,3,0),VLOOKUP(AD48,ﾘﾚｰｺｰﾄﾞ,5,0)))","v":""},{"$f":"IF(E48=\"\",\"\",IF(AH48=1,COUNTIF(AH$16:AH48,1)*10+2001-10,COUNTIF(AH$16:AH48,2)*10+6001-10))","v":""},33,null,{"$f":"IF($E48=\"\",\"\",IF(ISERROR(VLOOKUP($E48,氏名ﾃﾞｰﾀ!$B:$J,2,0)),IF(ISERROR(VLOOKUP($E48,新規登録!$B:$I,2,0)),\"未登録\",VLOOKUP($E48,新規登録!$B:$I,2,0)),(VLOOKUP($E48,氏名ﾃﾞｰﾀ!$B:$J,2,0))))","v":""},{"$f":"IF($E48=\"\",\"\",IF(ISERROR(VLOOKUP($E48,氏名ﾃﾞｰﾀ!$B:$J,3,0)),IF(ISERROR(VLOOKUP($E48,新規登録!$B:$I,3,0)),\"未登録\",VLOOKUP($E48,新規登録!$B:$I,3,0)),(VLOOKUP($E48,氏名ﾃﾞｰﾀ!$B:$J,3,0))))","v":""},{"$f":"IF($E48=\"\",\"\",IF(ISERROR(VLOOKUP($E48,氏名ﾃﾞｰﾀ!$B:$J,4,0)),IF(ISERROR(VLOOKUP($E48,新規登録!$B:$I,4,0)),\"未登録\",VLOOKUP($E48,新規登録!$B:$I,4,0)),(VLOOKUP($E48,氏名ﾃﾞｰﾀ!$B:$J,4,0))))","v":""},{"$f":"IF($E48=\"\",\"\",IF(ISERROR(VLOOKUP($E48,氏名ﾃﾞｰﾀ!$B:$J,5,0)),IF(ISERROR(VLOOKUP($E48,新規登録!$B:$I,5,0)),\"未登録\",VLOOKUP($E48,新規登録!$B:$I,5,0)),(VLOOKUP($E48,氏名ﾃﾞｰﾀ!$B:$J,5,0))))","v":""},{"$f":"IF($E48=\"\",\"\",IF(ISERROR(VLOOKUP($E48,氏名ﾃﾞｰﾀ!$B:$J,8,0)),IF(ISERROR(VLOOKUP($E48,新規登録!$B:$I,6,0)),\"未登録\",VLOOKUP($E48,新規登録!$B:$I,6,0)),(VLOOKUP($E48,氏名ﾃﾞｰﾀ!$B:$J,8,0))))","v":""},{"$f":"IF($E48=\"\",\"\",IF(ISERROR(VLOOKUP($E48,氏名ﾃﾞｰﾀ!$B:$J,7,0)),IF(ISERROR(VLOOKUP($E48,新規登録!$B:$I,7,0)),\"未登録\",VLOOKUP($E48,新規登録!$B:$I,7,0)),$G$3))","v":""},{"$f":"IF($E48=\"\",\"\",IF(ISERROR(VLOOKUP($E48,氏名ﾃﾞｰﾀ!$B:$J,6,0)),IF(ISERROR(VLOOKUP($E48,新規登録!$B:$I,8,0)),\"ﾅｼ\",VLOOKUP($E48,新規登録!$B:$I,8,0)),(VLOOKUP($E48,氏名ﾃﾞｰﾀ!$B:$J,6,0))))","v":""},{"$f":"IF($E48=\"\",\"\",IF(ISERROR(VLOOKUP($E48,氏名ﾃﾞｰﾀ!$B:$J,9,0)),IF(ISERROR(VLOOKUP($E48,新規登録!$B:$I,9,0)),\"未登録\",VLOOKUP($E48,新規登録!$B:$I,9,0)),(VLOOKUP($E48,氏名ﾃﾞｰﾀ!$B:$J,9,0))))","v":""},null,null,null,null,null,null,null,null,null,null,null,null,null,null,null,null,null,null,null,null,{"$f":"IF(L48=\"男\",1,2)","v":2},{"$f":"IF(N48=\"\",\"\",VLOOKUP(N48,ﾃﾞｰﾀ!A:D,4,0))","v":""},{"$f":"IF(AA48=\"\",CONCATENATE(AB48,\"秒\",AC48),CONCATENATE(IF(LEN(AA48)=1,CONCATENATE(\"0\",AA48),AA48),\"分\",IF(LEN(AB48)=1,CONCATENATE(\"0\",AB48),AB48),\"秒\",IF(LEN(AC48)=1,CONCATENATE(AC48,\"0\"),AC48)))","v":"秒"},"秒",null,null,null,{"$f":"IF(AH48=1,IF(Z48=\"\",1000,VLOOKUP(Z48,ﾃﾞｰﾀ!F$3:G$62,2,FALSE)),1000)","v":1000},"","","","","",{"$f":"IF(AH48=1,IF(AD48=\"\",1000,VLOOKUP(AD48,ﾃﾞｰﾀ!F$3:H$62,3,FALSE)),1000)","v":1000},"","","","","",{"$f":"IF(AH48=2,IF(Z48=\"\",1000,VLOOKUP(Z48,ﾃﾞｰﾀ!F$3:I$62,4,FALSE)),1000)","v":1000},"","","","","",{"$f":"IF(AH48=2,IF(AD48=\"\",1000,VLOOKUP(AD48,ﾃﾞｰﾀ!F$3:J$62,5,FALSE)),1000)","v":1000},"","","","",""]
["","",{"$f":"IF(E49=\"\",\"\",IF(AH49=1,COUNTIF(AH$16:AH49,1)*10+2001-10,COUNTIF(AH$16:AH49,2)*10+6001-10))","v":""},34,null,{"$f":"IF($E49=\"\",\"\",IF(ISERROR(VLOOKUP($E49,氏名ﾃﾞｰﾀ!$B:$J,2,0)),IF(ISERROR(VLOOKUP($E49,新規登録!$B:$I,2,0)),\"未登録\",VLOOKUP($E49,新規登録!$B:$I,2,0)),(VLOOKUP($E49,氏名ﾃﾞｰﾀ!$B:$J,2,0))))","v":""},{"$f":"IF($E49=\"\",\"\",IF(ISERROR(VLOOKUP($E49,氏名ﾃﾞｰﾀ!$B:$J,3,0)),IF(ISERROR(VLOOKUP($E49,新規登録!$B:$I,3,0)),\"未登録\",VLOOKUP($E49,新規登録!$B:$I,3,0)),(VLOOKUP($E49,氏名ﾃﾞｰﾀ!$B:$J,3,0))))","v":""},{"$f":"IF($E49=\"\",\"\",IF(ISERROR(VLOOKUP($E49,氏名ﾃﾞｰﾀ!$B:$J,4,0)),IF(ISERROR(VLOOKUP($E49,新規登録!$B:$I,4,0)),\"未登録\",VLOOKUP($E49,新規登録!$B:$I,4,0)),(VLOOKUP($E49,氏名ﾃﾞｰﾀ!$B:$J,4,0))))","v":""},{"$f":"IF($E49=\"\",\"\",IF(ISERROR(VLOOKUP($E49,氏名ﾃﾞｰﾀ!$B:$J,5,0)),IF(ISERROR(VLOOKUP($E49,新規登録!$B:$I,5,0)),\"未登録\",VLOOKUP($E49,新規登録!$B:$I,5,0)),(VLOOKUP($E49,氏名ﾃﾞｰﾀ!$B:$J,5,0))))","v":""},{"$f":"IF($E49=\"\",\"\",IF(ISERROR(VLOOKUP($E49,氏名ﾃﾞｰﾀ!$B:$J,8,0)),IF(ISERROR(VLOOKUP($E49,新規登録!$B:$I,6,0)),\"未登録\",VLOOKUP($E49,新規登録!$B:$I,6,0)),(VLOOKUP($E49,氏名ﾃﾞｰﾀ!$B:$J,8,0))))","v":""},{"$f":"IF($E49=\"\",\"\",IF(ISERROR(VLOOKUP($E49,氏名ﾃﾞｰﾀ!$B:$J,7,0)),IF(ISERROR(VLOOKUP($E49,新規登録!$B:$I,7,0)),\"未登録\",VLOOKUP($E49,新規登録!$B:$I,7,0)),$G$3))","v":""},{"$f":"IF($E49=\"\",\"\",IF(ISERROR(VLOOKUP($E49,氏名ﾃﾞｰﾀ!$B:$J,6,0)),IF(ISERROR(VLOOKUP($E49,新規登録!$B:$I,8,0)),\"ﾅｼ\",VLOOKUP($E49,新規登録!$B:$I,8,0)),(VLOOKUP($E49,氏名ﾃﾞｰﾀ!$B:$J,6,0))))","v":""},{"$f":"IF($E49=\"\",\"\",IF(ISERROR(VLOOKUP($E49,氏名ﾃﾞｰﾀ!$B:$J,9,0)),IF(ISERROR(VLOOKUP($E49,新規登録!$B:$I,9,0)),\"未登録\",VLOOKUP($E49,新規登録!$B:$I,9,0)),(VLOOKUP($E49,氏名ﾃﾞｰﾀ!$B:$J,9,0))))","v":""},null,null,null,null,null,null,null,null,null,null,null,null,null,null,null,null,null,null,null,null,2,{"$f":"IF(N49=\"\",\"\",VLOOKUP(N49,ﾃﾞｰﾀ!A:D,4,0))","v":""},"秒","秒",null,null,null,{"$f":"IF(AH49=1,IF(Z49=\"\",1000,VLOOKUP(Z49,ﾃﾞｰﾀ!F$3:G$62,2,FALSE)),1000)","v":1000},"","","","","",{"$f":"IF(AH49=1,IF(AD49=\"\",1000,VLOOKUP(AD49,ﾃﾞｰﾀ!F$3:H$62,3,FALSE)),1000)","v":1000},"","","","","",{"$f":"IF(AH49=2,IF(Z49=\"\",1000,VLOOKUP(Z49,ﾃﾞｰﾀ!F$3:I$62,4,FALSE)),1000)","v":1000},"","","","","",{"$f":"IF(AH49=2,IF(AD49=\"\",1000,VLOOKUP(AD49,ﾃﾞｰﾀ!F$3:J$62,5,FALSE)),1000)","v":1000},"","","","",""]
["","",{"$f":"IF(E50=\"\",\"\",IF(AH50=1,COUNTIF(AH$16:AH50,1)*10+2001-10,COUNTIF(AH$16:AH50,2)*10+6001-10))","v":""},35,null,{"$f":"IF($E50=\"\",\"\",IF(ISERROR(VLOOKUP($E50,氏名ﾃﾞｰﾀ!$B:$J,2,0)),IF(ISERROR(VLOOKUP($E50,新規登録!$B:$I,2,0)),\"未登録\",VLOOKUP($E50,新規登録!$B:$I,2,0)),(VLOOKUP($E50,氏名ﾃﾞｰﾀ!$B:$J,2,0))))","v":""},{"$f":"IF($E50=\"\",\"\",IF(ISERROR(VLOOKUP($E50,氏名ﾃﾞｰﾀ!$B:$J,3,0)),IF(ISERROR(VLOOKUP($E50,新規登録!$B:$I,3,0)),\"未登録\",VLOOKUP($E50,新規登録!$B:$I,3,0)),(VLOOKUP($E50,氏名ﾃﾞｰﾀ!$B:$J,3,0))))","v":""},{"$f":"IF($E50=\"\",\"\",IF(ISERROR(VLOOKUP($E50,氏名ﾃﾞｰﾀ!$B:$J,4,0)),IF(ISERROR(VLOOKUP($E50,新規登録!$B:$I,4,0)),\"未登録\",VLOOKUP($E50,新規登録!$B:$I,4,0)),(VLOOKUP($E50,氏名ﾃﾞｰﾀ!$B:$J,4,0))))","v":""},{"$f":"IF($E50=\"\",\"\",IF(ISERROR(VLOOKUP($E50,氏名ﾃﾞｰﾀ!$B:$J,5,0)),IF(ISERROR(VLOOKUP($E50,新規登録!$B:$I,5,0)),\"未登録\",VLOOKUP($E50,新規登録!$B:$I,5,0)),(VLOOKUP($E50,氏名ﾃﾞｰﾀ!$B:$J,5,0))))","v":""},{"$f":"IF($E50=\"\",\"\",IF(ISERROR(VLOOKUP($E50,氏名ﾃﾞｰﾀ!$B:$J,8,0)),IF(ISERROR(VLOOKUP($E50,新規登録!$B:$I,6,0)),\"未登録\",VLOOKUP($E50,新規登録!$B:$I,6,0)),(VLOOKUP($E50,氏名ﾃﾞｰﾀ!$B:$J,8,0))))","v":""},{"$f":"IF($E50=\"\",\"\",IF(ISERROR(VLOOKUP($E50,氏名ﾃﾞｰﾀ!$B:$J,7,0)),IF(ISERROR(VLOOKUP($E50,新規登録!$B:$I,7,0)),\"未登録\",VLOOKUP($E50,新規登録!$B:$I,7,0)),$G$3))","v":""},{"$f":"IF($E50=\"\",\"\",IF(ISERROR(VLOOKUP($E50,氏名ﾃﾞｰﾀ!$B:$J,6,0)),IF(ISERROR(VLOOKUP($E50,新規登録!$B:$I,8,0)),\"ﾅｼ\",VLOOKUP($E50,新規登録!$B:$I,8,0)),(VLOOKUP($E50,氏名ﾃﾞｰﾀ!$B:$J,6,0))))","v":""},{"$f":"IF($E50=\"\",\"\",IF(ISERROR(VLOOKUP($E50,氏名ﾃﾞｰﾀ!$B:$J,9,0)),IF(ISERROR(VLOOKUP($E50,新規登録!$B:$I,9,0)),\"未登録\",VLOOKUP($E50,新規登録!$B:$I,9,0)),(VLOOKUP($E50,氏名ﾃﾞｰﾀ!$B:$J,9,0))))","v":""},null,null,null,null,null,null,null,null,null,null,null,null,null,null,null,null,null,null,null,null,2,{"$f":"IF(N50=\"\",\"\",VLOOKUP(N50,ﾃﾞｰﾀ!A:D,4,0))","v":""},"秒","秒",null,null,null,{"$f":"IF(AH50=1,IF(Z50=\"\",1000,VLOOKUP(Z50,ﾃﾞｰﾀ!F$3:G$62,2,FALSE)),1000)","v":1000},"","","","","",{"$f":"IF(AH50=1,IF(AD50=\"\",1000,VLOOKUP(AD50,ﾃﾞｰﾀ!F$3:H$62,3,FALSE)),1000)","v":1000},"","","","","",{"$f":"IF(AH50=2,IF(Z50=\"\",1000,VLOOKUP(Z50,ﾃﾞｰﾀ!F$3:I$62,4,FALSE)),1000)","v":1000},"","","","","",{"$f":"IF(AH50=2,IF(AD50=\"\",1000,VLOOKUP(AD50,ﾃﾞｰﾀ!F$3:J$62,5,FALSE)),1000)","v":1000},"","","","",""]
["","",{"$f":"IF(E51=\"\",\"\",IF(AH51=1,COUNTIF(AH$16:AH51,1)*10+2001-10,COUNTIF(AH$16:AH51,2)*10+6001-10))","v":""},36,null,{"$f":"IF($E51=\"\",\"\",IF(ISERROR(VLOOKUP($E51,氏名ﾃﾞｰﾀ!$B:$J,2,0)),IF(ISERROR(VLOOKUP($E51,新規登録!$B:$I,2,0)),\"未登録\",VLOOKUP($E51,新規登録!$B:$I,2,0)),(VLOOKUP($E51,氏名ﾃﾞｰﾀ!$B:$J,2,0))))","v":""},{"$f":"IF($E51=\"\",\"\",IF(ISERROR(VLOOKUP($E51,氏名ﾃﾞｰﾀ!$B:$J,3,0)),IF(ISERROR(VLOOKUP($E51,新規登録!$B:$I,3,0)),\"未登録\",VLOOKUP($E51,新規登録!$B:$I,3,0)),(VLOOKUP($E51,氏名ﾃﾞｰﾀ!$B:$J,3,0))))","v":""},{"$f":"IF($E51=\"\",\"\",IF(ISERROR(VLOOKUP($E51,氏名ﾃﾞｰﾀ!$B:$J,4,0)),IF(ISERROR(VLOOKUP($E51,新規登録!$B:$I,4,0)),\"未登録\",VLOOKUP($E51,新規登録!$B:$I,4,0)),(VLOOKUP($E51,氏名ﾃﾞｰﾀ!$B:$J,4,0))))","v":""},{"$f":"IF($E51=\"\",\"\",IF(ISERROR(VLOOKUP($E51,氏名ﾃﾞｰﾀ!$B:$J,5,0)),IF(ISERROR(VLOOKUP($E51,新規登録!$B:$I,5,0)),\"未登録\",VLOOKUP($E51,新規登録!$B:$I,5,0)),(VLOOKUP($E51,氏名ﾃﾞｰﾀ!$B:$J,5,0))))","v":""},{"$f":"IF($E51=\"\",\"\",IF(ISERROR(VLOOKUP($E51,氏名ﾃﾞｰﾀ!$B:$J,8,0)),IF(ISERROR(VLOOKUP($E51,新規登録!$B:$I,6,0)),\"未登録\",VLOOKUP($E51,新規登録!$B:$I,6,0)),(VLOOKUP($E51,氏名ﾃﾞｰﾀ!$B:$J,8,0))))","v":""},{"$f":"IF($E51=\"\",\"\",IF(ISERROR(VLOOKUP($E51,氏名ﾃﾞｰﾀ!$B:$J,7,0)),IF(ISERROR(VLOOKUP($E51,新規登録!$B:$I,7,0)),\"未登録\",VLOOKUP($E51,新規登録!$B:$I,7,0)),$G$3))","v":""},{"$f":"IF($E51=\"\",\"\",IF(ISERROR(VLOOKUP($E51,氏名ﾃﾞｰﾀ!$B:$J,6,0)),IF(ISERROR(VLOOKUP($E51,新規登録!$B:$I,8,0)),\"ﾅｼ\",VLOOKUP($E51,新規登録!$B:$I,8,0)),(VLOOKUP($E51,氏名ﾃﾞｰﾀ!$B:$J,6,0))))","v":""},{"$f":"IF($E51=\"\",\"\",IF(ISERROR(VLOOKUP($E51,氏名ﾃﾞｰﾀ!$B:$J,9,0)),IF(ISERROR(VLOOKUP($E51,新規登録!$B:$I,9,0)),\"未登録\",VLOOKUP($E51,新規登録!$B:$I,9,0)),(VLOOKUP($E51,氏名ﾃﾞｰﾀ!$B:$J,9,0))))","v":""},null,null,null,null,null,null,null,null,null,null,null,null,null,null,null,null,null,null,null,null,2,{"$f":"IF(N51=\"\",\"\",VLOOKUP(N51,ﾃﾞｰﾀ!A:D,4,0))","v":""},"秒","秒",null,null,null,{"$f":"IF(AH51=1,IF(Z51=\"\",1000,VLOOKUP(Z51,ﾃﾞｰﾀ!F$3:G$62,2,FALSE)),1000)","v":1000},"","","","","",{"$f":"IF(AH51=1,IF(AD51=\"\",1000,VLOOKUP(AD51,ﾃﾞｰﾀ!F$3:H$62,3,FALSE)),1000)","v":1000},"","","","","",{"$f":"IF(AH51=2,IF(Z51=\"\",1000,VLOOKUP(Z51,ﾃﾞｰﾀ!F$3:I$62,4,FALSE)),1000)","v":1000},"","","","","",{"$f":"IF(AH51=2,IF(AD51=\"\",1000,VLOOKUP(AD51,ﾃﾞｰﾀ!F$3:J$62,5,FALSE)),1000)","v":1000},"","","","",""]
["","",{"$f":"IF(E52=\"\",\"\",IF(AH52=1,COUNTIF(AH$16:AH52,1)*10+2001-10,COUNTIF(AH$16:AH52,2)*10+6001-10))","v":""},37,null,{"$f":"IF($E52=\"\",\"\",IF(ISERROR(VLOOKUP($E52,氏名ﾃﾞｰﾀ!$B:$J,2,0)),IF(ISERROR(VLOOKUP($E52,新規登録!$B:$I,2,0)),\"未登録\",VLOOKUP($E52,新規登録!$B:$I,2,0)),(VLOOKUP($E52,氏名ﾃﾞｰﾀ!$B:$J,2,0))))","v":""},{"$f":"IF($E52=\"\",\"\",IF(ISERROR(VLOOKUP($E52,氏名ﾃﾞｰﾀ!$B:$J,3,0)),IF(ISERROR(VLOOKUP($E52,新規登録!$B:$I,3,0)),\"未登録\",VLOOKUP($E52,新規登録!$B:$I,3,0)),(VLOOKUP($E52,氏名ﾃﾞｰﾀ!$B:$J,3,0))))","v":""},{"$f":"IF($E52=\"\",\"\",IF(ISERROR(VLOOKUP($E52,氏名ﾃﾞｰﾀ!$B:$J,4,0)),IF(ISERROR(VLOOKUP($E52,新規登録!$B:$I,4,0)),\"未登録\",VLOOKUP($E52,新規登録!$B:$I,4,0)),(VLOOKUP($E52,氏名ﾃﾞｰﾀ!$B:$J,4,0))))","v":""},{"$f":"IF($E52=\"\",\"\",IF(ISERROR(VLOOKUP($E52,氏名ﾃﾞｰﾀ!$B:$J,5,0)),IF(ISERROR(VLOOKUP($E52,新規登録!$B:$I,5,0)),\"未登録\",VLOOKUP($E52,新規登録!$B:$I,5,0)),(VLOOKUP($E52,氏名ﾃﾞｰﾀ!$B:$J,5,0))))","v":""},{"$f":"IF($E52=\"\",\"\",IF(ISERROR(VLOOKUP($E52,氏名ﾃﾞｰﾀ!$B:$J,8,0)),IF(ISERROR(VLOOKUP($E52,新規登録!$B:$I,6,0)),\"未登録\",VLOOKUP($E52,新規登録!$B:$I,6,0)),(VLOOKUP($E52,氏名ﾃﾞｰﾀ!$B:$J,8,0))))","v":""},{"$f":"IF($E52=\"\",\"\",IF(ISERROR(VLOOKUP($E52,氏名ﾃﾞｰﾀ!$B:$J,7,0)),IF(ISERROR(VLOOKUP($E52,新規登録!$B:$I,7,0)),\"未登録\",VLOOKUP($E52,新規登録!$B:$I,7,0)),$G$3))","v":""},{"$f":"IF($E52=\"\",\"\",IF(ISERROR(VLOOKUP($E52,氏名ﾃﾞｰﾀ!$B:$J,6,0)),IF(ISERROR(VLOOKUP($E52,新規登録!$B:$I,8,0)),\"ﾅｼ\",VLOOKUP($E52,新規登録!$B:$I,8,0)),(VLOOKUP($E52,氏名ﾃﾞｰﾀ!$B:$J,6,0))))","v":""},{"$f":"IF($E52=\"\",\"\",IF(ISERROR(VLOOKUP($E52,氏名ﾃﾞｰﾀ!$B:$J,9,0)),IF(ISERROR(VLOOKUP($E52,新規登録!$B:$I,9,0)),\"未登録\",VLOOKUP($E52,新規登録!$B:$I,9,0)),(VLOOKUP($E52,氏名ﾃﾞｰﾀ!$B:$J,9,0))))","v":""},null,null,null,null,null,null,null,null,null,null,null,null,null,null,null,null,null,null,null,null,2,{"$f":"IF(N52=\"\",\"\",VLOOKUP(N52,ﾃﾞｰﾀ!A:D,4,0))","v":""},"秒","秒",null,null,null,{"$f":"IF(AH52=1,IF(Z52=\"\",1000,VLOOKUP(Z52,ﾃﾞｰﾀ!F$3:G$62,2,FALSE)),1000)","v":1000},{"$f":"IF(AR52=\"\",\"\",LEFT(AR52,3))","v":""},{"$f":"IF(AR52=\"\",\"\",LEFT(AR52,3))","v":""},{"$f":"IF(ISERROR(VLOOKUP(AO52,$A$16:$AH$215,5,0)),\"\",VLOOKUP(AO52,$A$16:$AH$215,5,0))","v":""},"",{"$f":"IF(AR52=\"\",\"\",VLOOKUP(AR52,$E$16:$AK$215,32,0))","v":""},{"$f":"IF(AH52=1,IF(AD52=\"\",1000,VLOOKUP(AD52,ﾃﾞｰﾀ!F$3:H$62,3,FALSE)),1000)","v":1000},{"$f":"IF(AX52=\"\",\"\",LEFT(AX52,3))","v":""},{"$f":"IF(AX52=\"\",\"\",LEFT(AX52,3))","v":""},{"$f":"IF(ISERROR(VLOOKUP(AU52,$B$16:$AH$215,4,0)),\"\",VLOOKUP(AU52,$B$16:$AH$21545,4,0))","v":""},{"$f":"IF(AX52=\"\",\"\",VLOOKUP(AX52,$E$16:$AG$215,26,0))","v":""},{"$f":"IF(AX52=\"\",\"\",VLOOKUP(AX52,$E$16:$AK$215,33,0))","v":""},{"$f":"IF(AH52=2,IF(Z52=\"\",1000,VLOOKUP(Z52,ﾃﾞｰﾀ!F$3:I$62,4,FALSE)),1000)","v":1000},{"$f":"IF(BD52=\"\",\"\",LEFT(BD52,3))","v":""},{"$f":"IF(BD52=\"\",\"\",LEFT(BD52,3))","v":""},{"$f":"IF(ISERROR(VLOOKUP(BA52,$A$16:$AH$215,5,0)),\"\",VLOOKUP(BA52,$A$16:$AH$215,5,0))","v":""},{"$f":"IF(BD52=\"\",\"\",VLOOKUP(BD52,$E$16:$AG$215,22,0))","v":""},{"$f":"IF(BD52=\"\",\"\",VLOOKUP(BD52,$E$16:$AK$215,32,0))","v":""},{"$f":"IF(AH52=2,IF(AD52=\"\",1000,VLOOKUP(AD52,ﾃﾞｰﾀ!F$3:J$62,5,FALSE)),1000)","v":1000},{"$f":"IF(BJ52=\"\",\"\",LEFT(BJ52,3))","v":""},{"$f":"IF(BJ52=\"\",\"\",LEFT(BJ52,3))","v":""},{"$f":"IF(ISERROR(VLOOKUP(BG52,$B$16:$AH$215,4,0)),\"\",VLOOKUP(BG52,$B$16:$AH$21545,4,0))","v":""},{"$f":"IF(BJ52=\"\",\"\",VLOOKUP(BJ52,$E$16:$AG$215,26,0))","v":""},{"$f":"IF(BJ52=\"\",\"\",VLOOKUP(BJ52,$E$16:$AK$215,33,0))","v":""}]
["","",{"$f":"IF(E53=\"\",\"\",IF(AH53=1,COUNTIF(AH$16:AH53,1)*10+2001-10,COUNTIF(AH$16:AH53,2)*10+6001-10))","v":""},38,null,{"$f":"IF($E53=\"\",\"\",IF(ISERROR(VLOOKUP($E53,氏名ﾃﾞｰﾀ!$B:$J,2,0)),IF(ISERROR(VLOOKUP($E53,新規登録!$B:$I,2,0)),\"未登録\",VLOOKUP($E53,新規登録!$B:$I,2,0)),(VLOOKUP($E53,氏名ﾃﾞｰﾀ!$B:$J,2,0))))","v":""},{"$f":"IF($E53=\"\",\"\",IF(ISERROR(VLOOKUP($E53,氏名ﾃﾞｰﾀ!$B:$J,3,0)),IF(ISERROR(VLOOKUP($E53,新規登録!$B:$I,3,0)),\"未登録\",VLOOKUP($E53,新規登録!$B:$I,3,0)),(VLOOKUP($E53,氏名ﾃﾞｰﾀ!$B:$J,3,0))))","v":""},{"$f":"IF($E53=\"\",\"\",IF(ISERROR(VLOOKUP($E53,氏名ﾃﾞｰﾀ!$B:$J,4,0)),IF(ISERROR(VLOOKUP($E53,新規登録!$B:$I,4,0)),\"未登録\",VLOOKUP($E53,新規登録!$B:$I,4,0)),(VLOOKUP($E53,氏名ﾃﾞｰﾀ!$B:$J,4,0))))","v":""},{"$f":"IF($E53=\"\",\"\",IF(ISERROR(VLOOKUP($E53,氏名ﾃﾞｰﾀ!$B:$J,5,0)),IF(ISERROR(VLOOKUP($E53,新規登録!$B:$I,5,0)),\"未登録\",VLOOKUP($E53,新規登録!$B:$I,5,0)),(VLOOKUP($E53,氏名ﾃﾞｰﾀ!$B:$J,5,0))))","v":""},{"$f":"IF($E53=\"\",\"\",IF(ISERROR(VLOOKUP($E53,氏名ﾃﾞｰﾀ!$B:$J,8,0)),IF(ISERROR(VLOOKUP($E53,新規登録!$B:$I,6,0)),\"未登録\",VLOOKUP($E53,新規登録!$B:$I,6,0)),(VLOOKUP($E53,氏名ﾃﾞｰﾀ!$B:$J,8,0))))","v":""},{"$f":"IF($E53=\"\",\"\",IF(ISERROR(VLOOKUP($E53,氏名ﾃﾞｰﾀ!$B:$J,7,0)),IF(ISERROR(VLOOKUP($E53,新規登録!$B:$I,7,0)),\"未登録\",VLOOKUP($E53,新規登録!$B:$I,7,0)),$G$3))","v":""},{"$f":"IF($E53=\"\",\"\",IF(ISERROR(VLOOKUP($E53,氏名ﾃﾞｰﾀ!$B:$J,6,0)),IF(ISERROR(VLOOKUP($E53,新規登録!$B:$I,8,0)),\"ﾅｼ\",VLOOKUP($E53,新規登録!$B:$I,8,0)),(VLOOKUP($E53,氏名ﾃﾞｰﾀ!$B:$J,6,0))))","v":""},{"$f":"IF($E53=\"\",\"\",IF(ISERROR(VLOOKUP($E53,氏名ﾃﾞｰﾀ!$B:$J,9,0)),IF(ISERROR(VLOOKUP($E53,新規登録!$B:$I,9,0)),\"未登録\",VLOOKUP($E53,新規登録!$B:$I,9,0)),(VLOOKUP($E53,氏名ﾃﾞｰﾀ!$B:$J,9,0))))","v":""},null,null,null,null,null,null,null,null,null,null,null,null,null,null,null,null,null,null,null,null,2,{"$f":"IF(N53=\"\",\"\",VLOOKUP(N53,ﾃﾞｰﾀ!A:D,4,0))","v":""},"秒","秒",null,null,null,{"$f":"IF(AH53=1,IF(Z53=\"\",1000,VLOOKUP(Z53,ﾃﾞｰﾀ!F$3:G$62,2,FALSE)),1000)","v":1000},{"$f":"IF(AR53=\"\",\"\",LEFT(AR53,3))","v":""},{"$f":"IF(AR53=\"\",\"\",LEFT(AR53,3))","v":""},"","",{"$f":"IF(AR53=\"\",\"\",VLOOKUP(AR53,$E$16:$AK$215,32,0))","v":""},{"$f":"IF(AH53=1,IF(AD53=\"\",1000,VLOOKUP(AD53,ﾃﾞｰﾀ!F$3:H$62,3,FALSE)),1000)","v":1000},{"$f":"IF(AX53=\"\",\"\",LEFT(AX53,3))","v":""},{"$f":"IF(AX53=\"\",\"\",LEFT(AX53,3))","v":""},"","",{"$f":"IF(AX53=\"\",\"\",VLOOKUP(AX53,$E$16:$AK$215,33,0))","v":""},{"$f":"IF(AH53=2,IF(Z53=\"\",1000,VLOOKUP(Z53,ﾃﾞｰﾀ!F$3:I$62,4,FALSE)),1000)","v":1000},{"$f":"IF(BD53=\"\",\"\",LEFT(BD53,3))","v":""},{"$f":"IF(BD53=\"\",\"\",LEFT(BD53,3))","v":""},"","",{"$f":"IF(BD53=\"\",\"\",VLOOKUP(BD53,$E$16:$AK$215,32,0))","v":""},{"$f":"IF(AH53=2,IF(AD53=\"\",1000,VLOOKUP(AD53,ﾃﾞｰﾀ!F$3:J$62,5,FALSE)),1000)","v":1000},{"$f":"IF(BJ53=\"\",\"\",LEFT(BJ53,3))","v":""},{"$f":"IF(BJ53=\"\",\"\",LEFT(BJ53,3))","v":""},"","",{"$f":"IF(BJ53=\"\",\"\",VLOOKUP(BJ53,$E$16:$AK$215,33,0))","v":""}]
["","",{"$f":"IF(E54=\"\",\"\",IF(AH54=1,COUNTIF(AH$16:AH54,1)*10+2001-10,COUNTIF(AH$16:AH54,2)*10+6001-10))","v":""},39,null,{"$f":"IF($E54=\"\",\"\",IF(ISERROR(VLOOKUP($E54,氏名ﾃﾞｰﾀ!$B:$J,2,0)),IF(ISERROR(VLOOKUP($E54,新規登録!$B:$I,2,0)),\"未登録\",VLOOKUP($E54,新規登録!$B:$I,2,0)),(VLOOKUP($E54,氏名ﾃﾞｰﾀ!$B:$J,2,0))))","v":""},{"$f":"IF($E54=\"\",\"\",IF(ISERROR(VLOOKUP($E54,氏名ﾃﾞｰﾀ!$B:$J,3,0)),IF(ISERROR(VLOOKUP($E54,新規登録!$B:$I,3,0)),\"未登録\",VLOOKUP($E54,新規登録!$B:$I,3,0)),(VLOOKUP($E54,氏名ﾃﾞｰﾀ!$B:$J,3,0))))","v":""},{"$f":"IF($E54=\"\",\"\",IF(ISERROR(VLOOKUP($E54,氏名ﾃﾞｰﾀ!$B:$J,4,0)),IF(ISERROR(VLOOKUP($E54,新規登録!$B:$I,4,0)),\"未登録\",VLOOKUP($E54,新規登録!$B:$I,4,0)),(VLOOKUP($E54,氏名ﾃﾞｰﾀ!$B:$J,4,0))))","v":""},{"$f":"IF($E54=\"\",\"\",IF(ISERROR(VLOOKUP($E54,氏名ﾃﾞｰﾀ!$B:$J,5,0)),IF(ISERROR(VLOOKUP($E54,新規登録!$B:$I,5,0)),\"未登録\",VLOOKUP($E54,新規登録!$B:$I,5,0)),(VLOOKUP($E54,氏名ﾃﾞｰﾀ!$B:$J,5,0))))","v":""},{"$f":"IF($E54=\"\",\"\",IF(ISERROR(VLOOKUP($E54,氏名ﾃﾞｰﾀ!$B:$J,8,0)),IF(ISERROR(VLOOKUP($E54,新規登録!$B:$I,6,0)),\"未登録\",VLOOKUP($E54,新規登録!$B:$I,6,0)),(VLOOKUP($E54,氏名ﾃﾞｰﾀ!$B:$J,8,0))))","v":""},{"$f":"IF($E54=\"\",\"\",IF(ISERROR(VLOOKUP($E54,氏名ﾃﾞｰﾀ!$B:$J,7,0)),IF(ISERROR(VLOOKUP($E54,新規登録!$B:$I,7,0)),\"未登録\",VLOOKUP($E54,新規登録!$B:$I,7,0)),$G$3))","v":""},{"$f":"IF($E54=\"\",\"\",IF(ISERROR(VLOOKUP($E54,氏名ﾃﾞｰﾀ!$B:$J,6,0)),IF(ISERROR(VLOOKUP($E54,新規登録!$B:$I,8,0)),\"ﾅｼ\",VLOOKUP($E54,新規登録!$B:$I,8,0)),(VLOOKUP($E54,氏名ﾃﾞｰﾀ!$B:$J,6,0))))","v":""},{"$f":"IF($E54=\"\",\"\",IF(ISERROR(VLOOKUP($E54,氏名ﾃﾞｰﾀ!$B:$J,9,0)),IF(ISERROR(VLOOKUP($E54,新規登録!$B:$I,9,0)),\"未登録\",VLOOKUP($E54,新規登録!$B:$I,9,0)),(VLOOKUP($E54,氏名ﾃﾞｰﾀ!$B:$J,9,0))))","v":""},null,null,null,null,null,null,null,null,null,null,null,null,null,null,null,null,null,null,null,null,2,{"$f":"IF(N54=\"\",\"\",VLOOKUP(N54,ﾃﾞｰﾀ!A:D,4,0))","v":""},"秒","秒",null,null,null,{"$f":"IF(AH54=1,IF(Z54=\"\",1000,VLOOKUP(Z54,ﾃﾞｰﾀ!F$3:G$62,2,FALSE)),1000)","v":1000},"","","","","",{"$f":"IF(AH54=1,IF(AD54=\"\",1000,VLOOKUP(AD54,ﾃﾞｰﾀ!F$3:H$62,3,FALSE)),1000)","v":1000},"","","","","",{"$f":"IF(AH54=2,IF(Z54=\"\",1000,VLOOKUP(Z54,ﾃﾞｰﾀ!F$3:I$62,4,FALSE)),1000)","v":1000},"","","","","",{"$f":"IF(AH54=2,IF(AD54=\"\",1000,VLOOKUP(AD54,ﾃﾞｰﾀ!F$3:J$62,5,FALSE)),1000)","v":1000},"","","","",""]
["","",{"$f":"IF(E55=\"\",\"\",IF(AH55=1,COUNTIF(AH$16:AH55,1)*10+2001-10,COUNTIF(AH$16:AH55,2)*10+6001-10))","v":""},40,null,{"$f":"IF($E55=\"\",\"\",IF(ISERROR(VLOOKUP($E55,氏名ﾃﾞｰﾀ!$B:$J,2,0)),IF(ISERROR(VLOOKUP($E55,新規登録!$B:$I,2,0)),\"未登録\",VLOOKUP($E55,新規登録!$B:$I,2,0)),(VLOOKUP($E55,氏名ﾃﾞｰﾀ!$B:$J,2,0))))","v":""},{"$f":"IF($E55=\"\",\"\",IF(ISERROR(VLOOKUP($E55,氏名ﾃﾞｰﾀ!$B:$J,3,0)),IF(ISERROR(VLOOKUP($E55,新規登録!$B:$I,3,0)),\"未登録\",VLOOKUP($E55,新規登録!$B:$I,3,0)),(VLOOKUP($E55,氏名ﾃﾞｰﾀ!$B:$J,3,0))))","v":""},{"$f":"IF($E55=\"\",\"\",IF(ISERROR(VLOOKUP($E55,氏名ﾃﾞｰﾀ!$B:$J,4,0)),IF(ISERROR(VLOOKUP($E55,新規登録!$B:$I,4,0)),\"未登録\",VLOOKUP($E55,新規登録!$B:$I,4,0)),(VLOOKUP($E55,氏名ﾃﾞｰﾀ!$B:$J,4,0))))","v":""},{"$f":"IF($E55=\"\",\"\",IF(ISERROR(VLOOKUP($E55,氏名ﾃﾞｰﾀ!$B:$J,5,0)),IF(ISERROR(VLOOKUP($E55,新規登録!$B:$I,5,0)),\"未登録\",VLOOKUP($E55,新規登録!$B:$I,5,0)),(VLOOKUP($E55,氏名ﾃﾞｰﾀ!$B:$J,5,0))))","v":""},{"$f":"IF($E55=\"\",\"\",IF(ISERROR(VLOOKUP($E55,氏名ﾃﾞｰﾀ!$B:$J,8,0)),IF(ISERROR(VLOOKUP($E55,新規登録!$B:$I,6,0)),\"未登録\",VLOOKUP($E55,新規登録!$B:$I,6,0)),(VLOOKUP($E55,氏名ﾃﾞｰﾀ!$B:$J,8,0))))","v":""},{"$f":"IF($E55=\"\",\"\",IF(ISERROR(VLOOKUP($E55,氏名ﾃﾞｰﾀ!$B:$J,7,0)),IF(ISERROR(VLOOKUP($E55,新規登録!$B:$I,7,0)),\"未登録\",VLOOKUP($E55,新規登録!$B:$I,7,0)),$G$3))","v":""},{"$f":"IF($E55=\"\",\"\",IF(ISERROR(VLOOKUP($E55,氏名ﾃﾞｰﾀ!$B:$J,6,0)),IF(ISERROR(VLOOKUP($E55,新規登録!$B:$I,8,0)),\"ﾅｼ\",VLOOKUP($E55,新規登録!$B:$I,8,0)),(VLOOKUP($E55,氏名ﾃﾞｰﾀ!$B:$J,6,0))))","v":""},{"$f":"IF($E55=\"\",\"\",IF(ISERROR(VLOOKUP($E55,氏名ﾃﾞｰﾀ!$B:$J,9,0)),IF(ISERROR(VLOOKUP($E55,新規登録!$B:$I,9,0)),\"未登録\",VLOOKUP($E55,新規登録!$B:$I,9,0)),(VLOOKUP($E55,氏名ﾃﾞｰﾀ!$B:$J,9,0))))","v":""},null,null,null,null,null,null,null,null,null,null,null,null,null,null,null,null,null,null,null,null,2,{"$f":"IF(N55=\"\",\"\",VLOOKUP(N55,ﾃﾞｰﾀ!A:D,4,0))","v":""},"秒","秒",null,null,null,{"$f":"IF(AH55=1,IF(Z55=\"\",1000,VLOOKUP(Z55,ﾃﾞｰﾀ!F$3:G$62,2,FALSE)),1000)","v":1000},"","","","","",{"$f":"IF(AH55=1,IF(AD55=\"\",1000,VLOOKUP(AD55,ﾃﾞｰﾀ!F$3:H$62,3,FALSE)),1000)","v":1000},"","","","","",{"$f":"IF(AH55=2,IF(Z55=\"\",1000,VLOOKUP(Z55,ﾃﾞｰﾀ!F$3:I$62,4,FALSE)),1000)","v":1000},"","","","","",{"$f":"IF(AH55=2,IF(AD55=\"\",1000,VLOOKUP(AD55,ﾃﾞｰﾀ!F$3:J$62,5,FALSE)),1000)","v":1000},"","","","",""]
["","",{"$f":"IF(E56=\"\",\"\",IF(AH56=1,COUNTIF(AH$16:AH56,1)*10+2001-10,COUNTIF(AH$16:AH56,2)*10+6001-10))","v":""},41,null,{"$f":"IF($E56=\"\",\"\",IF(ISERROR(VLOOKUP($E56,氏名ﾃﾞｰﾀ!$B:$J,2,0)),IF(ISERROR(VLOOKUP($E56,新規登録!$B:$I,2,0)),\"未登録\",VLOOKUP($E56,新規登録!$B:$I,2,0)),(VLOOKUP($E56,氏名ﾃﾞｰﾀ!$B:$J,2,0))))","v":""},{"$f":"IF($E56=\"\",\"\",IF(ISERROR(VLOOKUP($E56,氏名ﾃﾞｰﾀ!$B:$J,3,0)),IF(ISERROR(VLOOKUP($E56,新規登録!$B:$I,3,0)),\"未登録\",VLOOKUP($E56,新規登録!$B:$I,3,0)),(VLOOKUP($E56,氏名ﾃﾞｰﾀ!$B:$J,3,0))))","v":""},{"$f":"IF($E56=\"\",\"\",IF(ISERROR(VLOOKUP($E56,氏名ﾃﾞｰﾀ!$B:$J,4,0)),IF(ISERROR(VLOOKUP($E56,新規登録!$B:$I,4,0)),\"未登録\",VLOOKUP($E56,新規登録!$B:$I,4,0)),(VLOOKUP($E56,氏名ﾃﾞｰﾀ!$B:$J,4,0))))","v":""},{"$f":"IF($E56=\"\",\"\",IF(ISERROR(VLOOKUP($E56,氏名ﾃﾞｰﾀ!$B:$J,5,0)),IF(ISERROR(VLOOKUP($E56,新規登録!$B:$I,5,0)),\"未登録\",VLOOKUP($E56,新規登録!$B:$I,5,0)),(VLOOKUP($E56,氏名ﾃﾞｰﾀ!$B:$J,5,0))))","v":""},{"$f":"IF($E56=\"\",\"\",IF(ISERROR(VLOOKUP($E56,氏名ﾃﾞｰﾀ!$B:$J,8,0)),IF(ISERROR(VLOOKUP($E56,新規登録!$B:$I,6,0)),\"未登録\",VLOOKUP($E56,新規登録!$B:$I,6,0)),(VLOOKUP($E56,氏名ﾃﾞｰﾀ!$B:$J,8,0))))","v":""},{"$f":"IF($E56=\"\",\"\",IF(ISERROR(VLOOKUP($E56,氏名ﾃﾞｰﾀ!$B:$J,7,0)),IF(ISERROR(VLOOKUP($E56,新規登録!$B:$I,7,0)),\"未登録\",VLOOKUP($E56,新規登録!$B:$I,7,0)),$G$3))","v":""},{"$f":"IF($E56=\"\",\"\",IF(ISERROR(VLOOKUP($E56,氏名ﾃﾞｰﾀ!$B:$J,6,0)),IF(ISERROR(VLOOKUP($E56,新規登録!$B:$I,8,0)),\"ﾅｼ\",VLOOKUP($E56,新規登録!$B:$I,8,0)),(VLOOKUP($E56,氏名ﾃﾞｰﾀ!$B:$J,6,0))))","v":""},{"$f":"IF($E56=\"\",\"\",IF(ISERROR(VLOOKUP($E56,氏名ﾃﾞｰﾀ!$B:$J,9,0)),IF(ISERROR(VLOOKUP($E56,新規登録!$B:$I,9,0)),\"未登録\",VLOOKUP($E56,新規登録!$B:$I,9,0)),(VLOOKUP($E56,氏名ﾃﾞｰﾀ!$B:$J,9,0))))","v":""},null,null,null,null,null,null,null,null,null,null,null,null,null,null,null,null,null,null,null,null,2,{"$f":"IF(N56=\"\",\"\",VLOOKUP(N56,ﾃﾞｰﾀ!A:D,4,0))","v":""},"秒","秒",null,null,null,{"$f":"IF(AH56=1,IF(Z56=\"\",1000,VLOOKUP(Z56,ﾃﾞｰﾀ!F$3:G$62,2,FALSE)),1000)","v":1000},"","","","","",{"$f":"IF(AH56=1,IF(AD56=\"\",1000,VLOOKUP(AD56,ﾃﾞｰﾀ!F$3:H$62,3,FALSE)),1000)","v":1000},"","","","","",{"$f":"IF(AH56=2,IF(Z56=\"\",1000,VLOOKUP(Z56,ﾃﾞｰﾀ!F$3:I$62,4,FALSE)),1000)","v":1000},"","","","","",{"$f":"IF(AH56=2,IF(AD56=\"\",1000,VLOOKUP(AD56,ﾃﾞｰﾀ!F$3:J$62,5,FALSE)),1000)","v":1000},"","","","",""]
["","",{"$f":"IF(E57=\"\",\"\",IF(AH57=1,COUNTIF(AH$16:AH57,1)*10+2001-10,COUNTIF(AH$16:AH57,2)*10+6001-10))","v":""},42,null,{"$f":"IF($E57=\"\",\"\",IF(ISERROR(VLOOKUP($E57,氏名ﾃﾞｰﾀ!$B:$J,2,0)),IF(ISERROR(VLOOKUP($E57,新規登録!$B:$I,2,0)),\"未登録\",VLOOKUP($E57,新規登録!$B:$I,2,0)),(VLOOKUP($E57,氏名ﾃﾞｰﾀ!$B:$J,2,0))))","v":""},{"$f":"IF($E57=\"\",\"\",IF(ISERROR(VLOOKUP($E57,氏名ﾃﾞｰﾀ!$B:$J,3,0)),IF(ISERROR(VLOOKUP($E57,新規登録!$B:$I,3,0)),\"未登録\",VLOOKUP($E57,新規登録!$B:$I,3,0)),(VLOOKUP($E57,氏名ﾃﾞｰﾀ!$B:$J,3,0))))","v":""},{"$f":"IF($E57=\"\",\"\",IF(ISERROR(VLOOKUP($E57,氏名ﾃﾞｰﾀ!$B:$J,4,0)),IF(ISERROR(VLOOKUP($E57,新規登録!$B:$I,4,0)),\"未登録\",VLOOKUP($E57,新規登録!$B:$I,4,0)),(VLOOKUP($E57,氏名ﾃﾞｰﾀ!$B:$J,4,0))))","v":""},{"$f":"IF($E57=\"\",\"\",IF(ISERROR(VLOOKUP($E57,氏名ﾃﾞｰﾀ!$B:$J,5,0)),IF(ISERROR(VLOOKUP($E57,新規登録!$B:$I,5,0)),\"未登録\",VLOOKUP($E57,新規登録!$B:$I,5,0)),(VLOOKUP($E57,氏名ﾃﾞｰﾀ!$B:$J,5,0))))","v":""},{"$f":"IF($E57=\"\",\"\",IF(ISERROR(VLOOKUP($E57,氏名ﾃﾞｰﾀ!$B:$J,8,0)),IF(ISERROR(VLOOKUP($E57,新規登録!$B:$I,6,0)),\"未登録\",VLOOKUP($E57,新規登録!$B:$I,6,0)),(VLOOKUP($E57,氏名ﾃﾞｰﾀ!$B:$J,8,0))))","v":""},{"$f":"IF($E57=\"\",\"\",IF(ISERROR(VLOOKUP($E57,氏名ﾃﾞｰﾀ!$B:$J,7,0)),IF(ISERROR(VLOOKUP($E57,新規登録!$B:$I,7,0)),\"未登録\",VLOOKUP($E57,新規登録!$B:$I,7,0)),$G$3))","v":""},{"$f":"IF($E57=\"\",\"\",IF(ISERROR(VLOOKUP($E57,氏名ﾃﾞｰﾀ!$B:$J,6,0)),IF(ISERROR(VLOOKUP($E57,新規登録!$B:$I,8,0)),\"ﾅｼ\",VLOOKUP($E57,新規登録!$B:$I,8,0)),(VLOOKUP($E57,氏名ﾃﾞｰﾀ!$B:$J,6,0))))","v":""},{"$f":"IF($E57=\"\",\"\",IF(ISERROR(VLOOKUP($E57,氏名ﾃﾞｰﾀ!$B:$J,9,0)),IF(ISERROR(VLOOKUP($E57,新規登録!$B:$I,9,0)),\"未登録\",VLOOKUP($E57,新規登録!$B:$I,9,0)),(VLOOKUP($E57,氏名ﾃﾞｰﾀ!$B:$J,9,0))))","v":""},null,null,null,null,null,null,null,null,null,null,null,null,null,null,null,null,null,null,null,null,2,{"$f":"IF(N57=\"\",\"\",VLOOKUP(N57,ﾃﾞｰﾀ!A:D,4,0))","v":""},"秒","秒",null,null,null,{"$f":"IF(AH57=1,IF(Z57=\"\",1000,VLOOKUP(Z57,ﾃﾞｰﾀ!F$3:G$62,2,FALSE)),1000)","v":1000},"","","","","",{"$f":"IF(AH57=1,IF(AD57=\"\",1000,VLOOKUP(AD57,ﾃﾞｰﾀ!F$3:H$62,3,FALSE)),1000)","v":1000},"","","","","",{"$f":"IF(AH57=2,IF(Z57=\"\",1000,VLOOKUP(Z57,ﾃﾞｰﾀ!F$3:I$62,4,FALSE)),1000)","v":1000},"","","","","",{"$f":"IF(AH57=2,IF(AD57=\"\",1000,VLOOKUP(AD57,ﾃﾞｰﾀ!F$3:J$62,5,FALSE)),1000)","v":1000},"","","","",""]
["","",{"$f":"IF(E58=\"\",\"\",IF(AH58=1,COUNTIF(AH$16:AH58,1)*10+2001-10,COUNTIF(AH$16:AH58,2)*10+6001-10))","v":""},43,null,{"$f":"IF($E58=\"\",\"\",IF(ISERROR(VLOOKUP($E58,氏名ﾃﾞｰﾀ!$B:$J,2,0)),IF(ISERROR(VLOOKUP($E58,新規登録!$B:$I,2,0)),\"未登録\",VLOOKUP($E58,新規登録!$B:$I,2,0)),(VLOOKUP($E58,氏名ﾃﾞｰﾀ!$B:$J,2,0))))","v":""},{"$f":"IF($E58=\"\",\"\",IF(ISERROR(VLOOKUP($E58,氏名ﾃﾞｰﾀ!$B:$J,3,0)),IF(ISERROR(VLOOKUP($E58,新規登録!$B:$I,3,0)),\"未登録\",VLOOKUP($E58,新規登録!$B:$I,3,0)),(VLOOKUP($E58,氏名ﾃﾞｰﾀ!$B:$J,3,0))))","v":""},{"$f":"IF($E58=\"\",\"\",IF(ISERROR(VLOOKUP($E58,氏名ﾃﾞｰﾀ!$B:$J,4,0)),IF(ISERROR(VLOOKUP($E58,新規登録!$B:$I,4,0)),\"未登録\",VLOOKUP($E58,新規登録!$B:$I,4,0)),(VLOOKUP($E58,氏名ﾃﾞｰﾀ!$B:$J,4,0))))","v":""},{"$f":"IF($E58=\"\",\"\",IF(ISERROR(VLOOKUP($E58,氏名ﾃﾞｰﾀ!$B:$J,5,0)),IF(ISERROR(VLOOKUP($E58,新規登録!$B:$I,5,0)),\"未登録\",VLOOKUP($E58,新規登録!$B:$I,5,0)),(VLOOKUP($E58,氏名ﾃﾞｰﾀ!$B:$J,5,0))))","v":""},{"$f":"IF($E58=\"\",\"\",IF(ISERROR(VLOOKUP($E58,氏名ﾃﾞｰﾀ!$B:$J,8,0)),IF(ISERROR(VLOOKUP($E58,新規登録!$B:$I,6,0)),\"未登録\",VLOOKUP($E58,新規登録!$B:$I,6,0)),(VLOOKUP($E58,氏名ﾃﾞｰﾀ!$B:$J,8,0))))","v":""},{"$f":"IF($E58=\"\",\"\",IF(ISERROR(VLOOKUP($E58,氏名ﾃﾞｰﾀ!$B:$J,7,0)),IF(ISERROR(VLOOKUP($E58,新規登録!$B:$I,7,0)),\"未登録\",VLOOKUP($E58,新規登録!$B:$I,7,0)),$G$3))","v":""},{"$f":"IF($E58=\"\",\"\",IF(ISERROR(VLOOKUP($E58,氏名ﾃﾞｰﾀ!$B:$J,6,0)),IF(ISERROR(VLOOKUP($E58,新規登録!$B:$I,8,0)),\"ﾅｼ\",VLOOKUP($E58,新規登録!$B:$I,8,0)),(VLOOKUP($E58,氏名ﾃﾞｰﾀ!$B:$J,6,0))))","v":""},{"$f":"IF($E58=\"\",\"\",IF(ISERROR(VLOOKUP($E58,氏名ﾃﾞｰﾀ!$B:$J,9,0)),IF(ISERROR(VLOOKUP($E58,新規登録!$B:$I,9,0)),\"未登録\",VLOOKUP($E58,新規登録!$B:$I,9,0)),(VLOOKUP($E58,氏名ﾃﾞｰﾀ!$B:$J,9,0))))","v":""},null,null,null,null,null,null,null,null,null,null,null,null,null,null,null,null,null,null,null,null,2,{"$f":"IF(N58=\"\",\"\",VLOOKUP(N58,ﾃﾞｰﾀ!A:D,4,0))","v":""},"秒","秒",null,null,null,{"$f":"IF(AH58=1,IF(Z58=\"\",1000,VLOOKUP(Z58,ﾃﾞｰﾀ!F$3:G$62,2,FALSE)),1000)","v":1000},{"$f":"IF(AR58=\"\",\"\",LEFT(AR58,3))","v":""},{"$f":"IF(AR58=\"\",\"\",LEFT(AR58,3))","v":""},{"$f":"IF(ISERROR(VLOOKUP(AO58,$A$16:$AH$215,5,0)),\"\",VLOOKUP(AO58,$A$16:$AH$215,5,0))","v":""},"",{"$f":"IF(AR58=\"\",\"\",VLOOKUP(AR58,$E$16:$AK$215,32,0))","v":""},{"$f":"IF(AH58=1,IF(AD58=\"\",1000,VLOOKUP(AD58,ﾃﾞｰﾀ!F$3:H$62,3,FALSE)),1000)","v":1000},{"$f":"IF(AX58=\"\",\"\",LEFT(AX58,3))","v":""},{"$f":"IF(AX58=\"\",\"\",LEFT(AX58,3))","v":""},{"$f":"IF(ISERROR(VLOOKUP(AU58,$B$16:$AH$215,4,0)),\"\",VLOOKUP(AU58,$B$16:$AH$21545,4,0))","v":""},{"$f":"IF(AX58=\"\",\"\",VLOOKUP(AX58,$E$16:$AG$215,26,0))","v":""},{"$f":"IF(AX58=\"\",\"\",VLOOKUP(AX58,$E$16:$AK$215,33,0))","v":""},{"$f":"IF(AH58=2,IF(Z58=\"\",1000,VLOOKUP(Z58,ﾃﾞｰﾀ!F$3:I$62,4,FALSE)),1000)","v":1000},{"$f":"IF(BD58=\"\",\"\",LEFT(BD58,3))","v":""},{"$f":"IF(BD58=\"\",\"\",LEFT(BD58,3))","v":""},{"$f":"IF(ISERROR(VLOOKUP(BA58,$A$16:$AH$215,5,0)),\"\",VLOOKUP(BA58,$A$16:$AH$215,5,0))","v":""},{"$f":"IF(BD58=\"\",\"\",VLOOKUP(BD58,$E$16:$AG$215,22,0))","v":""},{"$f":"IF(BD58=\"\",\"\",VLOOKUP(BD58,$E$16:$AK$215,32,0))","v":""},{"$f":"IF(AH58=2,IF(AD58=\"\",1000,VLOOKUP(AD58,ﾃﾞｰﾀ!F$3:J$62,5,FALSE)),1000)","v":1000},{"$f":"IF(BJ58=\"\",\"\",LEFT(BJ58,3))","v":""},{"$f":"IF(BJ58=\"\",\"\",LEFT(BJ58,3))","v":""},{"$f":"IF(ISERROR(VLOOKUP(BG58,$B$16:$AH$215,4,0)),\"\",VLOOKUP(BG58,$B$16:$AH$21545,4,0))","v":""},{"$f":"IF(BJ58=\"\",\"\",VLOOKUP(BJ58,$E$16:$AG$215,26,0))","v":""},{"$f":"IF(BJ58=\"\",\"\",VLOOKUP(BJ58,$E$16:$AK$215,33,0))","v":""}]
["","",{"$f":"IF(E59=\"\",\"\",IF(AH59=1,COUNTIF(AH$16:AH59,1)*10+2001-10,COUNTIF(AH$16:AH59,2)*10+6001-10))","v":""},44,null,{"$f":"IF($E59=\"\",\"\",IF(ISERROR(VLOOKUP($E59,氏名ﾃﾞｰﾀ!$B:$J,2,0)),IF(ISERROR(VLOOKUP($E59,新規登録!$B:$I,2,0)),\"未登録\",VLOOKUP($E59,新規登録!$B:$I,2,0)),(VLOOKUP($E59,氏名ﾃﾞｰﾀ!$B:$J,2,0))))","v":""},{"$f":"IF($E59=\"\",\"\",IF(ISERROR(VLOOKUP($E59,氏名ﾃﾞｰﾀ!$B:$J,3,0)),IF(ISERROR(VLOOKUP($E59,新規登録!$B:$I,3,0)),\"未登録\",VLOOKUP($E59,新規登録!$B:$I,3,0)),(VLOOKUP($E59,氏名ﾃﾞｰﾀ!$B:$J,3,0))))","v":""},{"$f":"IF($E59=\"\",\"\",IF(ISERROR(VLOOKUP($E59,氏名ﾃﾞｰﾀ!$B:$J,4,0)),IF(ISERROR(VLOOKUP($E59,新規登録!$B:$I,4,0)),\"未登録\",VLOOKUP($E59,新規登録!$B:$I,4,0)),(VLOOKUP($E59,氏名ﾃﾞｰﾀ!$B:$J,4,0))))","v":""},{"$f":"IF($E59=\"\",\"\",IF(ISERROR(VLOOKUP($E59,氏名ﾃﾞｰﾀ!$B:$J,5,0)),IF(ISERROR(VLOOKUP($E59,新規登録!$B:$I,5,0)),\"未登録\",VLOOKUP($E59,新規登録!$B:$I,5,0)),(VLOOKUP($E59,氏名ﾃﾞｰﾀ!$B:$J,5,0))))","v":""},{"$f":"IF($E59=\"\",\"\",IF(ISERROR(VLOOKUP($E59,氏名ﾃﾞｰﾀ!$B:$J,8,0)),IF(ISERROR(VLOOKUP($E59,新規登録!$B:$I,6,0)),\"未登録\",VLOOKUP($E59,新規登録!$B:$I,6,0)),(VLOOKUP($E59,氏名ﾃﾞｰﾀ!$B:$J,8,0))))","v":""},{"$f":"IF($E59=\"\",\"\",IF(ISERROR(VLOOKUP($E59,氏名ﾃﾞｰﾀ!$B:$J,7,0)),IF(ISERROR(VLOOKUP($E59,新規登録!$B:$I,7,0)),\"未登録\",VLOOKUP($E59,新規登録!$B:$I,7,0)),$G$3))","v":""},{"$f":"IF($E59=\"\",\"\",IF(ISERROR(VLOOKUP($E59,氏名ﾃﾞｰﾀ!$B:$J,6,0)),IF(ISERROR(VLOOKUP($E59,新規登録!$B:$I,8,0)),\"ﾅｼ\",VLOOKUP($E59,新規登録!$B:$I,8,0)),(VLOOKUP($E59,氏名ﾃﾞｰﾀ!$B:$J,6,0))))","v":""},{"$f":"IF($E59=\"\",\"\",IF(ISERROR(VLOOKUP($E59,氏名ﾃﾞｰﾀ!$B:$J,9,0)),IF(ISERROR(VLOOKUP($E59,新規登録!$B:$I,9,0)),\"未登録\",VLOOKUP($E59,新規登録!$B:$I,9,0)),(VLOOKUP($E59,氏名ﾃﾞｰﾀ!$B:$J,9,0))))","v":""},null,null,null,null,null,null,null,null,null,null,null,null,null,null,null,null,null,null,null,null,2,{"$f":"IF(N59=\"\",\"\",VLOOKUP(N59,ﾃﾞｰﾀ!A:D,4,0))","v":""},"秒","秒",null,null,null,{"$f":"IF(AH59=1,IF(Z59=\"\",1000,VLOOKUP(Z59,ﾃﾞｰﾀ!F$3:G$62,2,FALSE)),1000)","v":1000},{"$f":"IF(AR59=\"\",\"\",LEFT(AR59,3))","v":""},{"$f":"IF(AR59=\"\",\"\",LEFT(AR59,3))","v":""},"","",{"$f":"IF(AR59=\"\",\"\",VLOOKUP(AR59,$E$16:$AK$215,32,0))","v":""},{"$f":"IF(AH59=1,IF(AD59=\"\",1000,VLOOKUP(AD59,ﾃﾞｰﾀ!F$3:H$62,3,FALSE)),1000)","v":1000},{"$f":"IF(AX59=\"\",\"\",LEFT(AX59,3))","v":""},{"$f":"IF(AX59=\"\",\"\",LEFT(AX59,3))","v":""},"","",{"$f":"IF(AX59=\"\",\"\",VLOOKUP(AX59,$E$16:$AK$215,33,0))","v":""},{"$f":"IF(AH59=2,IF(Z59=\"\",1000,VLOOKUP(Z59,ﾃﾞｰﾀ!F$3:I$62,4,FALSE)),1000)","v":1000},{"$f":"IF(BD59=\"\",\"\",LEFT(BD59,3))","v":""},{"$f":"IF(BD59=\"\",\"\",LEFT(BD59,3))","v":""},"","",{"$f":"IF(BD59=\"\",\"\",VLOOKUP(BD59,$E$16:$AK$215,32,0))","v":""},{"$f":"IF(AH59=2,IF(AD59=\"\",1000,VLOOKUP(AD59,ﾃﾞｰﾀ!F$3:J$62,5,FALSE)),1000)","v":1000},{"$f":"IF(BJ59=\"\",\"\",LEFT(BJ59,3))","v":""},{"$f":"IF(BJ59=\"\",\"\",LEFT(BJ59,3))","v":""},"","",{"$f":"IF(BJ59=\"\",\"\",VLOOKUP(BJ59,$E$16:$AK$215,33,0))","v":""}]
["","",{"$f":"IF(E60=\"\",\"\",IF(AH60=1,COUNTIF(AH$16:AH60,1)*10+2001-10,COUNTIF(AH$16:AH60,2)*10+6001-10))","v":""},45,null,{"$f":"IF($E60=\"\",\"\",IF(ISERROR(VLOOKUP($E60,氏名ﾃﾞｰﾀ!$B:$J,2,0)),IF(ISERROR(VLOOKUP($E60,新規登録!$B:$I,2,0)),\"未登録\",VLOOKUP($E60,新規登録!$B:$I,2,0)),(VLOOKUP($E60,氏名ﾃﾞｰﾀ!$B:$J,2,0))))","v":""},{"$f":"IF($E60=\"\",\"\",IF(ISERROR(VLOOKUP($E60,氏名ﾃﾞｰﾀ!$B:$J,3,0)),IF(ISERROR(VLOOKUP($E60,新規登録!$B:$I,3,0)),\"未登録\",VLOOKUP($E60,新規登録!$B:$I,3,0)),(VLOOKUP($E60,氏名ﾃﾞｰﾀ!$B:$J,3,0))))","v":""},{"$f":"IF($E60=\"\",\"\",IF(ISERROR(VLOOKUP($E60,氏名ﾃﾞｰﾀ!$B:$J,4,0)),IF(ISERROR(VLOOKUP($E60,新規登録!$B:$I,4,0)),\"未登録\",VLOOKUP($E60,新規登録!$B:$I,4,0)),(VLOOKUP($E60,氏名ﾃﾞｰﾀ!$B:$J,4,0))))","v":""},{"$f":"IF($E60=\"\",\"\",IF(ISERROR(VLOOKUP($E60,氏名ﾃﾞｰﾀ!$B:$J,5,0)),IF(ISERROR(VLOOKUP($E60,新規登録!$B:$I,5,0)),\"未登録\",VLOOKUP($E60,新規登録!$B:$I,5,0)),(VLOOKUP($E60,氏名ﾃﾞｰﾀ!$B:$J,5,0))))","v":""},{"$f":"IF($E60=\"\",\"\",IF(ISERROR(VLOOKUP($E60,氏名ﾃﾞｰﾀ!$B:$J,8,0)),IF(ISERROR(VLOOKUP($E60,新規登録!$B:$I,6,0)),\"未登録\",VLOOKUP($E60,新規登録!$B:$I,6,0)),(VLOOKUP($E60,氏名ﾃﾞｰﾀ!$B:$J,8,0))))","v":""},{"$f":"IF($E60=\"\",\"\",IF(ISERROR(VLOOKUP($E60,氏名ﾃﾞｰﾀ!$B:$J,7,0)),IF(ISERROR(VLOOKUP($E60,新規登録!$B:$I,7,0)),\"未登録\",VLOOKUP($E60,新規登録!$B:$I,7,0)),$G$3))","v":""},{"$f":"IF($E60=\"\",\"\",IF(ISERROR(VLOOKUP($E60,氏名ﾃﾞｰﾀ!$B:$J,6,0)),IF(ISERROR(VLOOKUP($E60,新規登録!$B:$I,8,0)),\"ﾅｼ\",VLOOKUP($E60,新規登録!$B:$I,8,0)),(VLOOKUP($E60,氏名ﾃﾞｰﾀ!$B:$J,6,0))))","v":""},{"$f":"IF($E60=\"\",\"\",IF(ISERROR(VLOOKUP($E60,氏名ﾃﾞｰﾀ!$B:$J,9,0)),IF(ISERROR(VLOOKUP($E60,新規登録!$B:$I,9,0)),\"未登録\",VLOOKUP($E60,新規登録!$B:$I,9,0)),(VLOOKUP($E60,氏名ﾃﾞｰﾀ!$B:$J,9,0))))","v":""},null,null,null,null,null,null,null,null,null,null,null,null,null,null,null,null,null,null,null,null,2,{"$f":"IF(N60=\"\",\"\",VLOOKUP(N60,ﾃﾞｰﾀ!A:D,4,0))","v":""},"秒","秒",null,null,null,{"$f":"IF(AH60=1,IF(Z60=\"\",1000,VLOOKUP(Z60,ﾃﾞｰﾀ!F$3:G$62,2,FALSE)),1000)","v":1000},"","","","","",{"$f":"IF(AH60=1,IF(AD60=\"\",1000,VLOOKUP(AD60,ﾃﾞｰﾀ!F$3:H$62,3,FALSE)),1000)","v":1000},"","","","","",{"$f":"IF(AH60=2,IF(Z60=\"\",1000,VLOOKUP(Z60,ﾃﾞｰﾀ!F$3:I$62,4,FALSE)),1000)","v":1000},"","","","","",{"$f":"IF(AH60=2,IF(AD60=\"\",1000,VLOOKUP(AD60,ﾃﾞｰﾀ!F$3:J$62,5,FALSE)),1000)","v":1000},"","","","",""]
["","",{"$f":"IF(E61=\"\",\"\",IF(AH61=1,COUNTIF(AH$16:AH61,1)*10+2001-10,COUNTIF(AH$16:AH61,2)*10+6001-10))","v":""},46,null,{"$f":"IF($E61=\"\",\"\",IF(ISERROR(VLOOKUP($E61,氏名ﾃﾞｰﾀ!$B:$J,2,0)),IF(ISERROR(VLOOKUP($E61,新規登録!$B:$I,2,0)),\"未登録\",VLOOKUP($E61,新規登録!$B:$I,2,0)),(VLOOKUP($E61,氏名ﾃﾞｰﾀ!$B:$J,2,0))))","v":""},{"$f":"IF($E61=\"\",\"\",IF(ISERROR(VLOOKUP($E61,氏名ﾃﾞｰﾀ!$B:$J,3,0)),IF(ISERROR(VLOOKUP($E61,新規登録!$B:$I,3,0)),\"未登録\",VLOOKUP($E61,新規登録!$B:$I,3,0)),(VLOOKUP($E61,氏名ﾃﾞｰﾀ!$B:$J,3,0))))","v":""},{"$f":"IF($E61=\"\",\"\",IF(ISERROR(VLOOKUP($E61,氏名ﾃﾞｰﾀ!$B:$J,4,0)),IF(ISERROR(VLOOKUP($E61,新規登録!$B:$I,4,0)),\"未登録\",VLOOKUP($E61,新規登録!$B:$I,4,0)),(VLOOKUP($E61,氏名ﾃﾞｰﾀ!$B:$J,4,0))))","v":""},{"$f":"IF($E61=\"\",\"\",IF(ISERROR(VLOOKUP($E61,氏名ﾃﾞｰﾀ!$B:$J,5,0)),IF(ISERROR(VLOOKUP($E61,新規登録!$B:$I,5,0)),\"未登録\",VLOOKUP($E61,新規登録!$B:$I,5,0)),(VLOOKUP($E61,氏名ﾃﾞｰﾀ!$B:$J,5,0))))","v":""},{"$f":"IF($E61=\"\",\"\",IF(ISERROR(VLOOKUP($E61,氏名ﾃﾞｰﾀ!$B:$J,8,0)),IF(ISERROR(VLOOKUP($E61,新規登録!$B:$I,6,0)),\"未登録\",VLOOKUP($E61,新規登録!$B:$I,6,0)),(VLOOKUP($E61,氏名ﾃﾞｰﾀ!$B:$J,8,0))))","v":""},{"$f":"IF($E61=\"\",\"\",IF(ISERROR(VLOOKUP($E61,氏名ﾃﾞｰﾀ!$B:$J,7,0)),IF(ISERROR(VLOOKUP($E61,新規登録!$B:$I,7,0)),\"未登録\",VLOOKUP($E61,新規登録!$B:$I,7,0)),$G$3))","v":""},{"$f":"IF($E61=\"\",\"\",IF(ISERROR(VLOOKUP($E61,氏名ﾃﾞｰﾀ!$B:$J,6,0)),IF(ISERROR(VLOOKUP($E61,新規登録!$B:$I,8,0)),\"ﾅｼ\",VLOOKUP($E61,新規登録!$B:$I,8,0)),(VLOOKUP($E61,氏名ﾃﾞｰﾀ!$B:$J,6,0))))","v":""},{"$f":"IF($E61=\"\",\"\",IF(ISERROR(VLOOKUP($E61,氏名ﾃﾞｰﾀ!$B:$J,9,0)),IF(ISERROR(VLOOKUP($E61,新規登録!$B:$I,9,0)),\"未登録\",VLOOKUP($E61,新規登録!$B:$I,9,0)),(VLOOKUP($E61,氏名ﾃﾞｰﾀ!$B:$J,9,0))))","v":""},null,null,null,null,null,null,null,null,null,null,null,null,null,null,null,null,null,null,null,null,2,{"$f":"IF(N61=\"\",\"\",VLOOKUP(N61,ﾃﾞｰﾀ!A:D,4,0))","v":""},"秒","秒",null,null,null,{"$f":"IF(AH61=1,IF(Z61=\"\",1000,VLOOKUP(Z61,ﾃﾞｰﾀ!F$3:G$62,2,FALSE)),1000)","v":1000},"","","","","",{"$f":"IF(AH61=1,IF(AD61=\"\",1000,VLOOKUP(AD61,ﾃﾞｰﾀ!F$3:H$62,3,FALSE)),1000)","v":1000},"","","","","",{"$f":"IF(AH61=2,IF(Z61=\"\",1000,VLOOKUP(Z61,ﾃﾞｰﾀ!F$3:I$62,4,FALSE)),1000)","v":1000},"","","","","",{"$f":"IF(AH61=2,IF(AD61=\"\",1000,VLOOKUP(AD61,ﾃﾞｰﾀ!F$3:J$62,5,FALSE)),1000)","v":1000},"","","","",""]
["","",{"$f":"IF(E62=\"\",\"\",IF(AH62=1,COUNTIF(AH$16:AH62,1)*10+2001-10,COUNTIF(AH$16:AH62,2)*10+6001-10))","v":""},47,null,{"$f":"IF($E62=\"\",\"\",IF(ISERROR(VLOOKUP($E62,氏名ﾃﾞｰﾀ!$B:$J,2,0)),IF(ISERROR(VLOOKUP($E62,新規登録!$B:$I,2,0)),\"未登録\",VLOOKUP($E62,新規登録!$B:$I,2,0)),(VLOOKUP($E62,氏名ﾃﾞｰﾀ!$B:$J,2,0))))","v":""},{"$f":"IF($E62=\"\",\"\",IF(ISERROR(VLOOKUP($E62,氏名ﾃﾞｰﾀ!$B:$J,3,0)),IF(ISERROR(VLOOKUP($E62,新規登録!$B:$I,3,0)),\"未登録\",VLOOKUP($E62,新規登録!$B:$I,3,0)),(VLOOKUP($E62,氏名ﾃﾞｰﾀ!$B:$J,3,0))))","v":""},{"$f":"IF($E62=\"\",\"\",IF(ISERROR(VLOOKUP($E62,氏名ﾃﾞｰﾀ!$B:$J,4,0)),IF(ISERROR(VLOOKUP($E62,新規登録!$B:$I,4,0)),\"未登録\",VLOOKUP($E62,新規登録!$B:$I,4,0)),(VLOOKUP($E62,氏名ﾃﾞｰﾀ!$B:$J,4,0))))","v":""},{"$f":"IF($E62=\"\",\"\",IF(ISERROR(VLOOKUP($E62,氏名ﾃﾞｰﾀ!$B:$J,5,0)),IF(ISERROR(VLOOKUP($E62,新規登録!$B:$I,5,0)),\"未登録\",VLOOKUP($E62,新規登録!$B:$I,5,0)),(VLOOKUP($E62,氏名ﾃﾞｰﾀ!$B:$J,5,0))))","v":""},{"$f":"IF($E62=\"\",\"\",IF(ISERROR(VLOOKUP($E62,氏名ﾃﾞｰﾀ!$B:$J,8,0)),IF(ISERROR(VLOOKUP($E62,新規登録!$B:$I,6,0)),\"未登録\",VLOOKUP($E62,新規登録!$B:$I,6,0)),(VLOOKUP($E62,氏名ﾃﾞｰﾀ!$B:$J,8,0))))","v":""},{"$f":"IF($E62=\"\",\"\",IF(ISERROR(VLOOKUP($E62,氏名ﾃﾞｰﾀ!$B:$J,7,0)),IF(ISERROR(VLOOKUP($E62,新規登録!$B:$I,7,0)),\"未登録\",VLOOKUP($E62,新規登録!$B:$I,7,0)),$G$3))","v":""},{"$f":"IF($E62=\"\",\"\",IF(ISERROR(VLOOKUP($E62,氏名ﾃﾞｰﾀ!$B:$J,6,0)),IF(ISERROR(VLOOKUP($E62,新規登録!$B:$I,8,0)),\"ﾅｼ\",VLOOKUP($E62,新規登録!$B:$I,8,0)),(VLOOKUP($E62,氏名ﾃﾞｰﾀ!$B:$J,6,0))))","v":""},{"$f":"IF($E62=\"\",\"\",IF(ISERROR(VLOOKUP($E62,氏名ﾃﾞｰﾀ!$B:$J,9,0)),IF(ISERROR(VLOOKUP($E62,新規登録!$B:$I,9,0)),\"未登録\",VLOOKUP($E62,新規登録!$B:$I,9,0)),(VLOOKUP($E62,氏名ﾃﾞｰﾀ!$B:$J,9,0))))","v":""},null,null,null,null,null,null,null,null,null,null,null,null,null,null,null,null,null,null,null,null,2,{"$f":"IF(N62=\"\",\"\",VLOOKUP(N62,ﾃﾞｰﾀ!A:D,4,0))","v":""},"秒","秒",null,null,null,{"$f":"IF(AH62=1,IF(Z62=\"\",1000,VLOOKUP(Z62,ﾃﾞｰﾀ!F$3:G$62,2,FALSE)),1000)","v":1000},"","","","","",{"$f":"IF(AH62=1,IF(AD62=\"\",1000,VLOOKUP(AD62,ﾃﾞｰﾀ!F$3:H$62,3,FALSE)),1000)","v":1000},"","","","","",{"$f":"IF(AH62=2,IF(Z62=\"\",1000,VLOOKUP(Z62,ﾃﾞｰﾀ!F$3:I$62,4,FALSE)),1000)","v":1000},"","","","","",{"$f":"IF(AH62=2,IF(AD62=\"\",1000,VLOOKUP(AD62,ﾃﾞｰﾀ!F$3:J$62,5,FALSE)),1000)","v":1000},"","","","",""]
["","",{"$f":"IF(E63=\"\",\"\",IF(AH63=1,COUNTIF(AH$16:AH63,1)*10+2001-10,COUNTIF(AH$16:AH63,2)*10+6001-10))","v":""},48,null,{"$f":"IF($E63=\"\",\"\",IF(ISERROR(VLOOKUP($E63,氏名ﾃﾞｰﾀ!$B:$J,2,0)),IF(ISERROR(VLOOKUP($E63,新規登録!$B:$I,2,0)),\"未登録\",VLOOKUP($E63,新規登録!$B:$I,2,0)),(VLOOKUP($E63,氏名ﾃﾞｰﾀ!$B:$J,2,0))))","v":""},{"$f":"IF($E63=\"\",\"\",IF(ISERROR(VLOOKUP($E63,氏名ﾃﾞｰﾀ!$B:$J,3,0)),IF(ISERROR(VLOOKUP($E63,新規登録!$B:$I,3,0)),\"未登録\",VLOOKUP($E63,新規登録!$B:$I,3,0)),(VLOOKUP($E63,氏名ﾃﾞｰﾀ!$B:$J,3,0))))","v":""},{"$f":"IF($E63=\"\",\"\",IF(ISERROR(VLOOKUP($E63,氏名ﾃﾞｰﾀ!$B:$J,4,0)),IF(ISERROR(VLOOKUP($E63,新規登録!$B:$I,4,0)),\"未登録\",VLOOKUP($E63,新規登録!$B:$I,4,0)),(VLOOKUP($E63,氏名ﾃﾞｰﾀ!$B:$J,4,0))))","v":""},{"$f":"IF($E63=\"\",\"\",IF(ISERROR(VLOOKUP($E63,氏名ﾃﾞｰﾀ!$B:$J,5,0)),IF(ISERROR(VLOOKUP($E63,新規登録!$B:$I,5,0)),\"未登録\",VLOOKUP($E63,新規登録!$B:$I,5,0)),(VLOOKUP($E63,氏名ﾃﾞｰﾀ!$B:$J,5,0))))","v":""},{"$f":"IF($E63=\"\",\"\",IF(ISERROR(VLOOKUP($E63,氏名ﾃﾞｰﾀ!$B:$J,8,0)),IF(ISERROR(VLOOKUP($E63,新規登録!$B:$I,6,0)),\"未登録\",VLOOKUP($E63,新規登録!$B:$I,6,0)),(VLOOKUP($E63,氏名ﾃﾞｰﾀ!$B:$J,8,0))))","v":""},{"$f":"IF($E63=\"\",\"\",IF(ISERROR(VLOOKUP($E63,氏名ﾃﾞｰﾀ!$B:$J,7,0)),IF(ISERROR(VLOOKUP($E63,新規登録!$B:$I,7,0)),\"未登録\",VLOOKUP($E63,新規登録!$B:$I,7,0)),$G$3))","v":""},{"$f":"IF($E63=\"\",\"\",IF(ISERROR(VLOOKUP($E63,氏名ﾃﾞｰﾀ!$B:$J,6,0)),IF(ISERROR(VLOOKUP($E63,新規登録!$B:$I,8,0)),\"ﾅｼ\",VLOOKUP($E63,新規登録!$B:$I,8,0)),(VLOOKUP($E63,氏名ﾃﾞｰﾀ!$B:$J,6,0))))","v":""},{"$f":"IF($E63=\"\",\"\",IF(ISERROR(VLOOKUP($E63,氏名ﾃﾞｰﾀ!$B:$J,9,0)),IF(ISERROR(VLOOKUP($E63,新規登録!$B:$I,9,0)),\"未登録\",VLOOKUP($E63,新規登録!$B:$I,9,0)),(VLOOKUP($E63,氏名ﾃﾞｰﾀ!$B:$J,9,0))))","v":""},null,null,null,null,null,null,null,null,null,null,null,null,null,null,null,null,null,null,null,null,2,{"$f":"IF(N63=\"\",\"\",VLOOKUP(N63,ﾃﾞｰﾀ!A:D,4,0))","v":""},"秒","秒",null,null,null,{"$f":"IF(AH63=1,IF(Z63=\"\",1000,VLOOKUP(Z63,ﾃﾞｰﾀ!F$3:G$62,2,FALSE)),1000)","v":1000},"","","","","",{"$f":"IF(AH63=1,IF(AD63=\"\",1000,VLOOKUP(AD63,ﾃﾞｰﾀ!F$3:H$62,3,FALSE)),1000)","v":1000},"","","","","",{"$f":"IF(AH63=2,IF(Z63=\"\",1000,VLOOKUP(Z63,ﾃﾞｰﾀ!F$3:I$62,4,FALSE)),1000)","v":1000},"","","","","",{"$f":"IF(AH63=2,IF(AD63=\"\",1000,VLOOKUP(AD63,ﾃﾞｰﾀ!F$3:J$62,5,FALSE)),1000)","v":1000},"","","","",""]
["","",{"$f":"IF(E64=\"\",\"\",IF(AH64=1,COUNTIF(AH$16:AH64,1)*10+2001-10,COUNTIF(AH$16:AH64,2)*10+6001-10))","v":""},49,null,{"$f":"IF($E64=\"\",\"\",IF(ISERROR(VLOOKUP($E64,氏名ﾃﾞｰﾀ!$B:$J,2,0)),IF(ISERROR(VLOOKUP($E64,新規登録!$B:$I,2,0)),\"未登録\",VLOOKUP($E64,新規登録!$B:$I,2,0)),(VLOOKUP($E64,氏名ﾃﾞｰﾀ!$B:$J,2,0))))","v":""},{"$f":"IF($E64=\"\",\"\",IF(ISERROR(VLOOKUP($E64,氏名ﾃﾞｰﾀ!$B:$J,3,0)),IF(ISERROR(VLOOKUP($E64,新規登録!$B:$I,3,0)),\"未登録\",VLOOKUP($E64,新規登録!$B:$I,3,0)),(VLOOKUP($E64,氏名ﾃﾞｰﾀ!$B:$J,3,0))))","v":""},{"$f":"IF($E64=\"\",\"\",IF(ISERROR(VLOOKUP($E64,氏名ﾃﾞｰﾀ!$B:$J,4,0)),IF(ISERROR(VLOOKUP($E64,新規登録!$B:$I,4,0)),\"未登録\",VLOOKUP($E64,新規登録!$B:$I,4,0)),(VLOOKUP($E64,氏名ﾃﾞｰﾀ!$B:$J,4,0))))","v":""},{"$f":"IF($E64=\"\",\"\",IF(ISERROR(VLOOKUP($E64,氏名ﾃﾞｰﾀ!$B:$J,5,0)),IF(ISERROR(VLOOKUP($E64,新規登録!$B:$I,5,0)),\"未登録\",VLOOKUP($E64,新規登録!$B:$I,5,0)),(VLOOKUP($E64,氏名ﾃﾞｰﾀ!$B:$J,5,0))))","v":""},{"$f":"IF($E64=\"\",\"\",IF(ISERROR(VLOOKUP($E64,氏名ﾃﾞｰﾀ!$B:$J,8,0)),IF(ISERROR(VLOOKUP($E64,新規登録!$B:$I,6,0)),\"未登録\",VLOOKUP($E64,新規登録!$B:$I,6,0)),(VLOOKUP($E64,氏名ﾃﾞｰﾀ!$B:$J,8,0))))","v":""},{"$f":"IF($E64=\"\",\"\",IF(ISERROR(VLOOKUP($E64,氏名ﾃﾞｰﾀ!$B:$J,7,0)),IF(ISERROR(VLOOKUP($E64,新規登録!$B:$I,7,0)),\"未登録\",VLOOKUP($E64,新規登録!$B:$I,7,0)),$G$3))","v":""},{"$f":"IF($E64=\"\",\"\",IF(ISERROR(VLOOKUP($E64,氏名ﾃﾞｰﾀ!$B:$J,6,0)),IF(ISERROR(VLOOKUP($E64,新規登録!$B:$I,8,0)),\"ﾅｼ\",VLOOKUP($E64,新規登録!$B:$I,8,0)),(VLOOKUP($E64,氏名ﾃﾞｰﾀ!$B:$J,6,0))))","v":""},{"$f":"IF($E64=\"\",\"\",IF(ISERROR(VLOOKUP($E64,氏名ﾃﾞｰﾀ!$B:$J,9,0)),IF(ISERROR(VLOOKUP($E64,新規登録!$B:$I,9,0)),\"未登録\",VLOOKUP($E64,新規登録!$B:$I,9,0)),(VLOOKUP($E64,氏名ﾃﾞｰﾀ!$B:$J,9,0))))","v":""},null,null,null,null,null,null,null,null,null,null,null,null,null,null,null,null,null,null,null,null,2,{"$f":"IF(N64=\"\",\"\",VLOOKUP(N64,ﾃﾞｰﾀ!A:D,4,0))","v":""},"秒","秒",null,null,null,{"$f":"IF(AH64=1,IF(Z64=\"\",1000,VLOOKUP(Z64,ﾃﾞｰﾀ!F$3:G$62,2,FALSE)),1000)","v":1000},{"$f":"IF(AR64=\"\",\"\",LEFT(AR64,3))","v":""},{"$f":"IF(AR64=\"\",\"\",LEFT(AR64,3))","v":""},{"$f":"IF(ISERROR(VLOOKUP(AO64,$A$16:$AH$215,5,0)),\"\",VLOOKUP(AO64,$A$16:$AH$215,5,0))","v":""},"",{"$f":"IF(AR64=\"\",\"\",VLOOKUP(AR64,$E$16:$AK$215,32,0))","v":""},{"$f":"IF(AH64=1,IF(AD64=\"\",1000,VLOOKUP(AD64,ﾃﾞｰﾀ!F$3:H$62,3,FALSE)),1000)","v":1000},{"$f":"IF(AX64=\"\",\"\",LEFT(AX64,3))","v":""},{"$f":"IF(AX64=\"\",\"\",LEFT(AX64,3))","v":""},{"$f":"IF(ISERROR(VLOOKUP(AU64,$B$16:$AH$215,4,0)),\"\",VLOOKUP(AU64,$B$16:$AH$21545,4,0))","v":""},{"$f":"IF(AX64=\"\",\"\",VLOOKUP(AX64,$E$16:$AG$215,26,0))","v":""},{"$f":"IF(AX64=\"\",\"\",VLOOKUP(AX64,$E$16:$AK$215,33,0))","v":""},{"$f":"IF(AH64=2,IF(Z64=\"\",1000,VLOOKUP(Z64,ﾃﾞｰﾀ!F$3:I$62,4,FALSE)),1000)","v":1000},{"$f":"IF(BD64=\"\",\"\",LEFT(BD64,3))","v":""},{"$f":"IF(BD64=\"\",\"\",LEFT(BD64,3))","v":""},{"$f":"IF(ISERROR(VLOOKUP(BA64,$A$16:$AH$215,5,0)),\"\",VLOOKUP(BA64,$A$16:$AH$215,5,0))","v":""},{"$f":"IF(BD64=\"\",\"\",VLOOKUP(BD64,$E$16:$AG$215,22,0))","v":""},{"$f":"IF(BD64=\"\",\"\",VLOOKUP(BD64,$E$16:$AK$215,32,0))","v":""},{"$f":"IF(AH64=2,IF(AD64=\"\",1000,VLOOKUP(AD64,ﾃﾞｰﾀ!F$3:J$62,5,FALSE)),1000)","v":1000},{"$f":"IF(BJ64=\"\",\"\",LEFT(BJ64,3))","v":""},{"$f":"IF(BJ64=\"\",\"\",LEFT(BJ64,3))","v":""},{"$f":"IF(ISERROR(VLOOKUP(BG64,$B$16:$AH$215,4,0)),\"\",VLOOKUP(BG64,$B$16:$AH$21545,4,0))","v":""},{"$f":"IF(BJ64=\"\",\"\",VLOOKUP(BJ64,$E$16:$AG$215,26,0))","v":""},{"$f":"IF(BJ64=\"\",\"\",VLOOKUP(BJ64,$E$16:$AK$215,33,0))","v":""}]
["","",{"$f":"IF(E65=\"\",\"\",IF(AH65=1,COUNTIF(AH$16:AH65,1)*10+2001-10,COUNTIF(AH$16:AH65,2)*10+6001-10))","v":""},50,null,{"$f":"IF($E65=\"\",\"\",IF(ISERROR(VLOOKUP($E65,氏名ﾃﾞｰﾀ!$B:$J,2,0)),IF(ISERROR(VLOOKUP($E65,新規登録!$B:$I,2,0)),\"未登録\",VLOOKUP($E65,新規登録!$B:$I,2,0)),(VLOOKUP($E65,氏名ﾃﾞｰﾀ!$B:$J,2,0))))","v":""},{"$f":"IF($E65=\"\",\"\",IF(ISERROR(VLOOKUP($E65,氏名ﾃﾞｰﾀ!$B:$J,3,0)),IF(ISERROR(VLOOKUP($E65,新規登録!$B:$I,3,0)),\"未登録\",VLOOKUP($E65,新規登録!$B:$I,3,0)),(VLOOKUP($E65,氏名ﾃﾞｰﾀ!$B:$J,3,0))))","v":""},{"$f":"IF($E65=\"\",\"\",IF(ISERROR(VLOOKUP($E65,氏名ﾃﾞｰﾀ!$B:$J,4,0)),IF(ISERROR(VLOOKUP($E65,新規登録!$B:$I,4,0)),\"未登録\",VLOOKUP($E65,新規登録!$B:$I,4,0)),(VLOOKUP($E65,氏名ﾃﾞｰﾀ!$B:$J,4,0))))","v":""},{"$f":"IF($E65=\"\",\"\",IF(ISERROR(VLOOKUP($E65,氏名ﾃﾞｰﾀ!$B:$J,5,0)),IF(ISERROR(VLOOKUP($E65,新規登録!$B:$I,5,0)),\"未登録\",VLOOKUP($E65,新規登録!$B:$I,5,0)),(VLOOKUP($E65,氏名ﾃﾞｰﾀ!$B:$J,5,0))))","v":""},{"$f":"IF($E65=\"\",\"\",IF(ISERROR(VLOOKUP($E65,氏名ﾃﾞｰﾀ!$B:$J,8,0)),IF(ISERROR(VLOOKUP($E65,新規登録!$B:$I,6,0)),\"未登録\",VLOOKUP($E65,新規登録!$B:$I,6,0)),(VLOOKUP($E65,氏名ﾃﾞｰﾀ!$B:$J,8,0))))","v":""},{"$f":"IF($E65=\"\",\"\",IF(ISERROR(VLOOKUP($E65,氏名ﾃﾞｰﾀ!$B:$J,7,0)),IF(ISERROR(VLOOKUP($E65,新規登録!$B:$I,7,0)),\"未登録\",VLOOKUP($E65,新規登録!$B:$I,7,0)),$G$3))","v":""},{"$f":"IF($E65=\"\",\"\",IF(ISERROR(VLOOKUP($E65,氏名ﾃﾞｰﾀ!$B:$J,6,0)),IF(ISERROR(VLOOKUP($E65,新規登録!$B:$I,8,0)),\"ﾅｼ\",VLOOKUP($E65,新規登録!$B:$I,8,0)),(VLOOKUP($E65,氏名ﾃﾞｰﾀ!$B:$J,6,0))))","v":""},{"$f":"IF($E65=\"\",\"\",IF(ISERROR(VLOOKUP($E65,氏名ﾃﾞｰﾀ!$B:$J,9,0)),IF(ISERROR(VLOOKUP($E65,新規登録!$B:$I,9,0)),\"未登録\",VLOOKUP($E65,新規登録!$B:$I,9,0)),(VLOOKUP($E65,氏名ﾃﾞｰﾀ!$B:$J,9,0))))","v":""},null,null,null,null,null,null,null,null,null,null,null,null,null,null,null,null,null,null,null,null,2,{"$f":"IF(N65=\"\",\"\",VLOOKUP(N65,ﾃﾞｰﾀ!A:D,4,0))","v":""},"秒","秒",null,null,null,{"$f":"IF(AH65=1,IF(Z65=\"\",1000,VLOOKUP(Z65,ﾃﾞｰﾀ!F$3:G$62,2,FALSE)),1000)","v":1000},{"$f":"IF(AR65=\"\",\"\",LEFT(AR65,3))","v":""},{"$f":"IF(AR65=\"\",\"\",LEFT(AR65,3))","v":""},"","",{"$f":"IF(AR65=\"\",\"\",VLOOKUP(AR65,$E$16:$AK$215,32,0))","v":""},{"$f":"IF(AH65=1,IF(AD65=\"\",1000,VLOOKUP(AD65,ﾃﾞｰﾀ!F$3:H$62,3,FALSE)),1000)","v":1000},{"$f":"IF(AX65=\"\",\"\",LEFT(AX65,3))","v":""},{"$f":"IF(AX65=\"\",\"\",LEFT(AX65,3))","v":""},"","",{"$f":"IF(AX65=\"\",\"\",VLOOKUP(AX65,$E$16:$AK$215,33,0))","v":""},{"$f":"IF(AH65=2,IF(Z65=\"\",1000,VLOOKUP(Z65,ﾃﾞｰﾀ!F$3:I$62,4,FALSE)),1000)","v":1000},{"$f":"IF(BD65=\"\",\"\",LEFT(BD65,3))","v":""},{"$f":"IF(BD65=\"\",\"\",LEFT(BD65,3))","v":""},"","",{"$f":"IF(BD65=\"\",\"\",VLOOKUP(BD65,$E$16:$AK$215,32,0))","v":""},{"$f":"IF(AH65=2,IF(AD65=\"\",1000,VLOOKUP(AD65,ﾃﾞｰﾀ!F$3:J$62,5,FALSE)),1000)","v":1000},{"$f":"IF(BJ65=\"\",\"\",LEFT(BJ65,3))","v":""},{"$f":"IF(BJ65=\"\",\"\",LEFT(BJ65,3))","v":""},"","",{"$f":"IF(BJ65=\"\",\"\",VLOOKUP(BJ65,$E$16:$AK$215,33,0))","v":""}]
["","",{"$f":"IF(E66=\"\",\"\",IF(AH66=1,COUNTIF(AH$16:AH66,1)*10+2001-10,COUNTIF(AH$16:AH66,2)*10+6001-10))","v":""},51,null,{"$f":"IF($E66=\"\",\"\",IF(ISERROR(VLOOKUP($E66,氏名ﾃﾞｰﾀ!$B:$J,2,0)),IF(ISERROR(VLOOKUP($E66,新規登録!$B:$I,2,0)),\"未登録\",VLOOKUP($E66,新規登録!$B:$I,2,0)),(VLOOKUP($E66,氏名ﾃﾞｰﾀ!$B:$J,2,0))))","v":""},{"$f":"IF($E66=\"\",\"\",IF(ISERROR(VLOOKUP($E66,氏名ﾃﾞｰﾀ!$B:$J,3,0)),IF(ISERROR(VLOOKUP($E66,新規登録!$B:$I,3,0)),\"未登録\",VLOOKUP($E66,新規登録!$B:$I,3,0)),(VLOOKUP($E66,氏名ﾃﾞｰﾀ!$B:$J,3,0))))","v":""},{"$f":"IF($E66=\"\",\"\",IF(ISERROR(VLOOKUP($E66,氏名ﾃﾞｰﾀ!$B:$J,4,0)),IF(ISERROR(VLOOKUP($E66,新規登録!$B:$I,4,0)),\"未登録\",VLOOKUP($E66,新規登録!$B:$I,4,0)),(VLOOKUP($E66,氏名ﾃﾞｰﾀ!$B:$J,4,0))))","v":""},{"$f":"IF($E66=\"\",\"\",IF(ISERROR(VLOOKUP($E66,氏名ﾃﾞｰﾀ!$B:$J,5,0)),IF(ISERROR(VLOOKUP($E66,新規登録!$B:$I,5,0)),\"未登録\",VLOOKUP($E66,新規登録!$B:$I,5,0)),(VLOOKUP($E66,氏名ﾃﾞｰﾀ!$B:$J,5,0))))","v":""},{"$f":"IF($E66=\"\",\"\",IF(ISERROR(VLOOKUP($E66,氏名ﾃﾞｰﾀ!$B:$J,8,0)),IF(ISERROR(VLOOKUP($E66,新規登録!$B:$I,6,0)),\"未登録\",VLOOKUP($E66,新規登録!$B:$I,6,0)),(VLOOKUP($E66,氏名ﾃﾞｰﾀ!$B:$J,8,0))))","v":""},{"$f":"IF($E66=\"\",\"\",IF(ISERROR(VLOOKUP($E66,氏名ﾃﾞｰﾀ!$B:$J,7,0)),IF(ISERROR(VLOOKUP($E66,新規登録!$B:$I,7,0)),\"未登録\",VLOOKUP($E66,新規登録!$B:$I,7,0)),$G$3))","v":""},{"$f":"IF($E66=\"\",\"\",IF(ISERROR(VLOOKUP($E66,氏名ﾃﾞｰﾀ!$B:$J,6,0)),IF(ISERROR(VLOOKUP($E66,新規登録!$B:$I,8,0)),\"ﾅｼ\",VLOOKUP($E66,新規登録!$B:$I,8,0)),(VLOOKUP($E66,氏名ﾃﾞｰﾀ!$B:$J,6,0))))","v":""},{"$f":"IF($E66=\"\",\"\",IF(ISERROR(VLOOKUP($E66,氏名ﾃﾞｰﾀ!$B:$J,9,0)),IF(ISERROR(VLOOKUP($E66,新規登録!$B:$I,9,0)),\"未登録\",VLOOKUP($E66,新規登録!$B:$I,9,0)),(VLOOKUP($E66,氏名ﾃﾞｰﾀ!$B:$J,9,0))))","v":""},null,null,null,null,null,null,null,null,null,null,null,null,null,null,null,null,null,null,null,null,2,{"$f":"IF(N66=\"\",\"\",VLOOKUP(N66,ﾃﾞｰﾀ!A:D,4,0))","v":""},"秒","秒",null,null,null,{"$f":"IF(AH66=1,IF(Z66=\"\",1000,VLOOKUP(Z66,ﾃﾞｰﾀ!F$3:G$62,2,FALSE)),1000)","v":1000},"","","","","",{"$f":"IF(AH66=1,IF(AD66=\"\",1000,VLOOKUP(AD66,ﾃﾞｰﾀ!F$3:H$62,3,FALSE)),1000)","v":1000},"","","","","",{"$f":"IF(AH66=2,IF(Z66=\"\",1000,VLOOKUP(Z66,ﾃﾞｰﾀ!F$3:I$62,4,FALSE)),1000)","v":1000},"","","","","",{"$f":"IF(AH66=2,IF(AD66=\"\",1000,VLOOKUP(AD66,ﾃﾞｰﾀ!F$3:J$62,5,FALSE)),1000)","v":1000},"","","","",""]
["","",{"$f":"IF(E67=\"\",\"\",IF(AH67=1,COUNTIF(AH$16:AH67,1)*10+2001-10,COUNTIF(AH$16:AH67,2)*10+6001-10))","v":""},52,null,{"$f":"IF($E67=\"\",\"\",IF(ISERROR(VLOOKUP($E67,氏名ﾃﾞｰﾀ!$B:$J,2,0)),IF(ISERROR(VLOOKUP($E67,新規登録!$B:$I,2,0)),\"未登録\",VLOOKUP($E67,新規登録!$B:$I,2,0)),(VLOOKUP($E67,氏名ﾃﾞｰﾀ!$B:$J,2,0))))","v":""},{"$f":"IF($E67=\"\",\"\",IF(ISERROR(VLOOKUP($E67,氏名ﾃﾞｰﾀ!$B:$J,3,0)),IF(ISERROR(VLOOKUP($E67,新規登録!$B:$I,3,0)),\"未登録\",VLOOKUP($E67,新規登録!$B:$I,3,0)),(VLOOKUP($E67,氏名ﾃﾞｰﾀ!$B:$J,3,0))))","v":""},{"$f":"IF($E67=\"\",\"\",IF(ISERROR(VLOOKUP($E67,氏名ﾃﾞｰﾀ!$B:$J,4,0)),IF(ISERROR(VLOOKUP($E67,新規登録!$B:$I,4,0)),\"未登録\",VLOOKUP($E67,新規登録!$B:$I,4,0)),(VLOOKUP($E67,氏名ﾃﾞｰﾀ!$B:$J,4,0))))","v":""},{"$f":"IF($E67=\"\",\"\",IF(ISERROR(VLOOKUP($E67,氏名ﾃﾞｰﾀ!$B:$J,5,0)),IF(ISERROR(VLOOKUP($E67,新規登録!$B:$I,5,0)),\"未登録\",VLOOKUP($E67,新規登録!$B:$I,5,0)),(VLOOKUP($E67,氏名ﾃﾞｰﾀ!$B:$J,5,0))))","v":""},{"$f":"IF($E67=\"\",\"\",IF(ISERROR(VLOOKUP($E67,氏名ﾃﾞｰﾀ!$B:$J,8,0)),IF(ISERROR(VLOOKUP($E67,新規登録!$B:$I,6,0)),\"未登録\",VLOOKUP($E67,新規登録!$B:$I,6,0)),(VLOOKUP($E67,氏名ﾃﾞｰﾀ!$B:$J,8,0))))","v":""},{"$f":"IF($E67=\"\",\"\",IF(ISERROR(VLOOKUP($E67,氏名ﾃﾞｰﾀ!$B:$J,7,0)),IF(ISERROR(VLOOKUP($E67,新規登録!$B:$I,7,0)),\"未登録\",VLOOKUP($E67,新規登録!$B:$I,7,0)),$G$3))","v":""},{"$f":"IF($E67=\"\",\"\",IF(ISERROR(VLOOKUP($E67,氏名ﾃﾞｰﾀ!$B:$J,6,0)),IF(ISERROR(VLOOKUP($E67,新規登録!$B:$I,8,0)),\"ﾅｼ\",VLOOKUP($E67,新規登録!$B:$I,8,0)),(VLOOKUP($E67,氏名ﾃﾞｰﾀ!$B:$J,6,0))))","v":""},{"$f":"IF($E67=\"\",\"\",IF(ISERROR(VLOOKUP($E67,氏名ﾃﾞｰﾀ!$B:$J,9,0)),IF(ISERROR(VLOOKUP($E67,新規登録!$B:$I,9,0)),\"未登録\",VLOOKUP($E67,新規登録!$B:$I,9,0)),(VLOOKUP($E67,氏名ﾃﾞｰﾀ!$B:$J,9,0))))","v":""},null,null,null,null,null,null,null,null,null,null,null,null,null,null,null,null,null,null,null,null,2,{"$f":"IF(N67=\"\",\"\",VLOOKUP(N67,ﾃﾞｰﾀ!A:D,4,0))","v":""},"秒","秒",null,null,null,{"$f":"IF(AH67=1,IF(Z67=\"\",1000,VLOOKUP(Z67,ﾃﾞｰﾀ!F$3:G$62,2,FALSE)),1000)","v":1000},"","","","","",{"$f":"IF(AH67=1,IF(AD67=\"\",1000,VLOOKUP(AD67,ﾃﾞｰﾀ!F$3:H$62,3,FALSE)),1000)","v":1000},"","","","","",{"$f":"IF(AH67=2,IF(Z67=\"\",1000,VLOOKUP(Z67,ﾃﾞｰﾀ!F$3:I$62,4,FALSE)),1000)","v":1000},"","","","","",{"$f":"IF(AH67=2,IF(AD67=\"\",1000,VLOOKUP(AD67,ﾃﾞｰﾀ!F$3:J$62,5,FALSE)),1000)","v":1000},"","","","",""]
["","",{"$f":"IF(E68=\"\",\"\",IF(AH68=1,COUNTIF(AH$16:AH68,1)*10+2001-10,COUNTIF(AH$16:AH68,2)*10+6001-10))","v":""},53,null,{"$f":"IF($E68=\"\",\"\",IF(ISERROR(VLOOKUP($E68,氏名ﾃﾞｰﾀ!$B:$J,2,0)),IF(ISERROR(VLOOKUP($E68,新規登録!$B:$I,2,0)),\"未登録\",VLOOKUP($E68,新規登録!$B:$I,2,0)),(VLOOKUP($E68,氏名ﾃﾞｰﾀ!$B:$J,2,0))))","v":""},{"$f":"IF($E68=\"\",\"\",IF(ISERROR(VLOOKUP($E68,氏名ﾃﾞｰﾀ!$B:$J,3,0)),IF(ISERROR(VLOOKUP($E68,新規登録!$B:$I,3,0)),\"未登録\",VLOOKUP($E68,新規登録!$B:$I,3,0)),(VLOOKUP($E68,氏名ﾃﾞｰﾀ!$B:$J,3,0))))","v":""},{"$f":"IF($E68=\"\",\"\",IF(ISERROR(VLOOKUP($E68,氏名ﾃﾞｰﾀ!$B:$J,4,0)),IF(ISERROR(VLOOKUP($E68,新規登録!$B:$I,4,0)),\"未登録\",VLOOKUP($E68,新規登録!$B:$I,4,0)),(VLOOKUP($E68,氏名ﾃﾞｰﾀ!$B:$J,4,0))))","v":""},{"$f":"IF($E68=\"\",\"\",IF(ISERROR(VLOOKUP($E68,氏名ﾃﾞｰﾀ!$B:$J,5,0)),IF(ISERROR(VLOOKUP($E68,新規登録!$B:$I,5,0)),\"未登録\",VLOOKUP($E68,新規登録!$B:$I,5,0)),(VLOOKUP($E68,氏名ﾃﾞｰﾀ!$B:$J,5,0))))","v":""},{"$f":"IF($E68=\"\",\"\",IF(ISERROR(VLOOKUP($E68,氏名ﾃﾞｰﾀ!$B:$J,8,0)),IF(ISERROR(VLOOKUP($E68,新規登録!$B:$I,6,0)),\"未登録\",VLOOKUP($E68,新規登録!$B:$I,6,0)),(VLOOKUP($E68,氏名ﾃﾞｰﾀ!$B:$J,8,0))))","v":""},{"$f":"IF($E68=\"\",\"\",IF(ISERROR(VLOOKUP($E68,氏名ﾃﾞｰﾀ!$B:$J,7,0)),IF(ISERROR(VLOOKUP($E68,新規登録!$B:$I,7,0)),\"未登録\",VLOOKUP($E68,新規登録!$B:$I,7,0)),$G$3))","v":""},{"$f":"IF($E68=\"\",\"\",IF(ISERROR(VLOOKUP($E68,氏名ﾃﾞｰﾀ!$B:$J,6,0)),IF(ISERROR(VLOOKUP($E68,新規登録!$B:$I,8,0)),\"ﾅｼ\",VLOOKUP($E68,新規登録!$B:$I,8,0)),(VLOOKUP($E68,氏名ﾃﾞｰﾀ!$B:$J,6,0))))","v":""},{"$f":"IF($E68=\"\",\"\",IF(ISERROR(VLOOKUP($E68,氏名ﾃﾞｰﾀ!$B:$J,9,0)),IF(ISERROR(VLOOKUP($E68,新規登録!$B:$I,9,0)),\"未登録\",VLOOKUP($E68,新規登録!$B:$I,9,0)),(VLOOKUP($E68,氏名ﾃﾞｰﾀ!$B:$J,9,0))))","v":""},null,null,null,null,null,null,null,null,null,null,null,null,null,null,null,null,null,null,null,null,2,{"$f":"IF(N68=\"\",\"\",VLOOKUP(N68,ﾃﾞｰﾀ!A:D,4,0))","v":""},"秒","秒",null,null,null,{"$f":"IF(AH68=1,IF(Z68=\"\",1000,VLOOKUP(Z68,ﾃﾞｰﾀ!F$3:G$62,2,FALSE)),1000)","v":1000},"","","","","",{"$f":"IF(AH68=1,IF(AD68=\"\",1000,VLOOKUP(AD68,ﾃﾞｰﾀ!F$3:H$62,3,FALSE)),1000)","v":1000},"","","","","",{"$f":"IF(AH68=2,IF(Z68=\"\",1000,VLOOKUP(Z68,ﾃﾞｰﾀ!F$3:I$62,4,FALSE)),1000)","v":1000},"","","","","",{"$f":"IF(AH68=2,IF(AD68=\"\",1000,VLOOKUP(AD68,ﾃﾞｰﾀ!F$3:J$62,5,FALSE)),1000)","v":1000},"","","","",""]
["","",{"$f":"IF(E69=\"\",\"\",IF(AH69=1,COUNTIF(AH$16:AH69,1)*10+2001-10,COUNTIF(AH$16:AH69,2)*10+6001-10))","v":""},54,null,{"$f":"IF($E69=\"\",\"\",IF(ISERROR(VLOOKUP($E69,氏名ﾃﾞｰﾀ!$B:$J,2,0)),IF(ISERROR(VLOOKUP($E69,新規登録!$B:$I,2,0)),\"未登録\",VLOOKUP($E69,新規登録!$B:$I,2,0)),(VLOOKUP($E69,氏名ﾃﾞｰﾀ!$B:$J,2,0))))","v":""},{"$f":"IF($E69=\"\",\"\",IF(ISERROR(VLOOKUP($E69,氏名ﾃﾞｰﾀ!$B:$J,3,0)),IF(ISERROR(VLOOKUP($E69,新規登録!$B:$I,3,0)),\"未登録\",VLOOKUP($E69,新規登録!$B:$I,3,0)),(VLOOKUP($E69,氏名ﾃﾞｰﾀ!$B:$J,3,0))))","v":""},{"$f":"IF($E69=\"\",\"\",IF(ISERROR(VLOOKUP($E69,氏名ﾃﾞｰﾀ!$B:$J,4,0)),IF(ISERROR(VLOOKUP($E69,新規登録!$B:$I,4,0)),\"未登録\",VLOOKUP($E69,新規登録!$B:$I,4,0)),(VLOOKUP($E69,氏名ﾃﾞｰﾀ!$B:$J,4,0))))","v":""},{"$f":"IF($E69=\"\",\"\",IF(ISERROR(VLOOKUP($E69,氏名ﾃﾞｰﾀ!$B:$J,5,0)),IF(ISERROR(VLOOKUP($E69,新規登録!$B:$I,5,0)),\"未登録\",VLOOKUP($E69,新規登録!$B:$I,5,0)),(VLOOKUP($E69,氏名ﾃﾞｰﾀ!$B:$J,5,0))))","v":""},{"$f":"IF($E69=\"\",\"\",IF(ISERROR(VLOOKUP($E69,氏名ﾃﾞｰﾀ!$B:$J,8,0)),IF(ISERROR(VLOOKUP($E69,新規登録!$B:$I,6,0)),\"未登録\",VLOOKUP($E69,新規登録!$B:$I,6,0)),(VLOOKUP($E69,氏名ﾃﾞｰﾀ!$B:$J,8,0))))","v":""},{"$f":"IF($E69=\"\",\"\",IF(ISERROR(VLOOKUP($E69,氏名ﾃﾞｰﾀ!$B:$J,7,0)),IF(ISERROR(VLOOKUP($E69,新規登録!$B:$I,7,0)),\"未登録\",VLOOKUP($E69,新規登録!$B:$I,7,0)),$G$3))","v":""},{"$f":"IF($E69=\"\",\"\",IF(ISERROR(VLOOKUP($E69,氏名ﾃﾞｰﾀ!$B:$J,6,0)),IF(ISERROR(VLOOKUP($E69,新規登録!$B:$I,8,0)),\"ﾅｼ\",VLOOKUP($E69,新規登録!$B:$I,8,0)),(VLOOKUP($E69,氏名ﾃﾞｰﾀ!$B:$J,6,0))))","v":""},{"$f":"IF($E69=\"\",\"\",IF(ISERROR(VLOOKUP($E69,氏名ﾃﾞｰﾀ!$B:$J,9,0)),IF(ISERROR(VLOOKUP($E69,新規登録!$B:$I,9,0)),\"未登録\",VLOOKUP($E69,新規登録!$B:$I,9,0)),(VLOOKUP($E69,氏名ﾃﾞｰﾀ!$B:$J,9,0))))","v":""},null,null,null,null,null,null,null,null,null,null,null,null,null,null,null,null,null,null,null,null,2,{"$f":"IF(N69=\"\",\"\",VLOOKUP(N69,ﾃﾞｰﾀ!A:D,4,0))","v":""},"秒","秒",null,null,null,{"$f":"IF(AH69=1,IF(Z69=\"\",1000,VLOOKUP(Z69,ﾃﾞｰﾀ!F$3:G$62,2,FALSE)),1000)","v":1000},"","","","","",{"$f":"IF(AH69=1,IF(AD69=\"\",1000,VLOOKUP(AD69,ﾃﾞｰﾀ!F$3:H$62,3,FALSE)),1000)","v":1000},"","","","","",{"$f":"IF(AH69=2,IF(Z69=\"\",1000,VLOOKUP(Z69,ﾃﾞｰﾀ!F$3:I$62,4,FALSE)),1000)","v":1000},"","","","","",{"$f":"IF(AH69=2,IF(AD69=\"\",1000,VLOOKUP(AD69,ﾃﾞｰﾀ!F$3:J$62,5,FALSE)),1000)","v":1000},"","","","",""]
["","",{"$f":"IF(E70=\"\",\"\",IF(AH70=1,COUNTIF(AH$16:AH70,1)*10+2001-10,COUNTIF(AH$16:AH70,2)*10+6001-10))","v":""},55,null,{"$f":"IF($E70=\"\",\"\",IF(ISERROR(VLOOKUP($E70,氏名ﾃﾞｰﾀ!$B:$J,2,0)),IF(ISERROR(VLOOKUP($E70,新規登録!$B:$I,2,0)),\"未登録\",VLOOKUP($E70,新規登録!$B:$I,2,0)),(VLOOKUP($E70,氏名ﾃﾞｰﾀ!$B:$J,2,0))))","v":""},{"$f":"IF($E70=\"\",\"\",IF(ISERROR(VLOOKUP($E70,氏名ﾃﾞｰﾀ!$B:$J,3,0)),IF(ISERROR(VLOOKUP($E70,新規登録!$B:$I,3,0)),\"未登録\",VLOOKUP($E70,新規登録!$B:$I,3,0)),(VLOOKUP($E70,氏名ﾃﾞｰﾀ!$B:$J,3,0))))","v":""},{"$f":"IF($E70=\"\",\"\",IF(ISERROR(VLOOKUP($E70,氏名ﾃﾞｰﾀ!$B:$J,4,0)),IF(ISERROR(VLOOKUP($E70,新規登録!$B:$I,4,0)),\"未登録\",VLOOKUP($E70,新規登録!$B:$I,4,0)),(VLOOKUP($E70,氏名ﾃﾞｰﾀ!$B:$J,4,0))))","v":""},{"$f":"IF($E70=\"\",\"\",IF(ISERROR(VLOOKUP($E70,氏名ﾃﾞｰﾀ!$B:$J,5,0)),IF(ISERROR(VLOOKUP($E70,新規登録!$B:$I,5,0)),\"未登録\",VLOOKUP($E70,新規登録!$B:$I,5,0)),(VLOOKUP($E70,氏名ﾃﾞｰﾀ!$B:$J,5,0))))","v":""},{"$f":"IF($E70=\"\",\"\",IF(ISERROR(VLOOKUP($E70,氏名ﾃﾞｰﾀ!$B:$J,8,0)),IF(ISERROR(VLOOKUP($E70,新規登録!$B:$I,6,0)),\"未登録\",VLOOKUP($E70,新規登録!$B:$I,6,0)),(VLOOKUP($E70,氏名ﾃﾞｰﾀ!$B:$J,8,0))))","v":""},{"$f":"IF($E70=\"\",\"\",IF(ISERROR(VLOOKUP($E70,氏名ﾃﾞｰﾀ!$B:$J,7,0)),IF(ISERROR(VLOOKUP($E70,新規登録!$B:$I,7,0)),\"未登録\",VLOOKUP($E70,新規登録!$B:$I,7,0)),$G$3))","v":""},{"$f":"IF($E70=\"\",\"\",IF(ISERROR(VLOOKUP($E70,氏名ﾃﾞｰﾀ!$B:$J,6,0)),IF(ISERROR(VLOOKUP($E70,新規登録!$B:$I,8,0)),\"ﾅｼ\",VLOOKUP($E70,新規登録!$B:$I,8,0)),(VLOOKUP($E70,氏名ﾃﾞｰﾀ!$B:$J,6,0))))","v":""},{"$f":"IF($E70=\"\",\"\",IF(ISERROR(VLOOKUP($E70,氏名ﾃﾞｰﾀ!$B:$J,9,0)),IF(ISERROR(VLOOKUP($E70,新規登録!$B:$I,9,0)),\"未登録\",VLOOKUP($E70,新規登録!$B:$I,9,0)),(VLOOKUP($E70,氏名ﾃﾞｰﾀ!$B:$J,9,0))))","v":""},null,null,null,null,null,null,null,null,null,null,null,null,null,null,null,null,null,null,null,null,2,{"$f":"IF(N70=\"\",\"\",VLOOKUP(N70,ﾃﾞｰﾀ!A:D,4,0))","v":""},"秒","秒",null,null,null,{"$f":"IF(AH70=1,IF(Z70=\"\",1000,VLOOKUP(Z70,ﾃﾞｰﾀ!F$3:G$62,2,FALSE)),1000)","v":1000},{"$f":"IF(AR70=\"\",\"\",LEFT(AR70,3))","v":""},{"$f":"IF(AR70=\"\",\"\",LEFT(AR70,3))","v":""},{"$f":"IF(ISERROR(VLOOKUP(AO70,$A$16:$AH$215,5,0)),\"\",VLOOKUP(AO70,$A$16:$AH$215,5,0))","v":""},"",{"$f":"IF(AR70=\"\",\"\",VLOOKUP(AR70,$E$16:$AK$215,32,0))","v":""},{"$f":"IF(AH70=1,IF(AD70=\"\",1000,VLOOKUP(AD70,ﾃﾞｰﾀ!F$3:H$62,3,FALSE)),1000)","v":1000},{"$f":"IF(AX70=\"\",\"\",LEFT(AX70,3))","v":""},{"$f":"IF(AX70=\"\",\"\",LEFT(AX70,3))","v":""},{"$f":"IF(ISERROR(VLOOKUP(AU70,$B$16:$AH$215,4,0)),\"\",VLOOKUP(AU70,$B$16:$AH$21545,4,0))","v":""},{"$f":"IF(AX70=\"\",\"\",VLOOKUP(AX70,$E$16:$AG$215,26,0))","v":""},{"$f":"IF(AX70=\"\",\"\",VLOOKUP(AX70,$E$16:$AK$215,33,0))","v":""},{"$f":"IF(AH70=2,IF(Z70=\"\",1000,VLOOKUP(Z70,ﾃﾞｰﾀ!F$3:I$62,4,FALSE)),1000)","v":1000},{"$f":"IF(BD70=\"\",\"\",LEFT(BD70,3))","v":""},{"$f":"IF(BD70=\"\",\"\",LEFT(BD70,3))","v":""},{"$f":"IF(ISERROR(VLOOKUP(BA70,$A$16:$AH$215,5,0)),\"\",VLOOKUP(BA70,$A$16:$AH$215,5,0))","v":""},{"$f":"IF(BD70=\"\",\"\",VLOOKUP(BD70,$E$16:$AG$215,22,0))","v":""},{"$f":"IF(BD70=\"\",\"\",VLOOKUP(BD70,$E$16:$AK$215,32,0))","v":""},{"$f":"IF(AH70=2,IF(AD70=\"\",1000,VLOOKUP(AD70,ﾃﾞｰﾀ!F$3:J$62,5,FALSE)),1000)","v":1000},{"$f":"IF(BJ70=\"\",\"\",LEFT(BJ70,3))","v":""},{"$f":"IF(BJ70=\"\",\"\",LEFT(BJ70,3))","v":""},{"$f":"IF(ISERROR(VLOOKUP(BG70,$B$16:$AH$215,4,0)),\"\",VLOOKUP(BG70,$B$16:$AH$21545,4,0))","v":""},{"$f":"IF(BJ70=\"\",\"\",VLOOKUP(BJ70,$E$16:$AG$215,26,0))","v":""},{"$f":"IF(BJ70=\"\",\"\",VLOOKUP(BJ70,$E$16:$AK$215,33,0))","v":""}]
["","",{"$f":"IF(E71=\"\",\"\",IF(AH71=1,COUNTIF(AH$16:AH71,1)*10+2001-10,COUNTIF(AH$16:AH71,2)*10+6001-10))","v":""},56,null,{"$f":"IF($E71=\"\",\"\",IF(ISERROR(VLOOKUP($E71,氏名ﾃﾞｰﾀ!$B:$J,2,0)),IF(ISERROR(VLOOKUP($E71,新規登録!$B:$I,2,0)),\"未登録\",VLOOKUP($E71,新規登録!$B:$I,2,0)),(VLOOKUP($E71,氏名ﾃﾞｰﾀ!$B:$J,2,0))))","v":""},{"$f":"IF($E71=\"\",\"\",IF(ISERROR(VLOOKUP($E71,氏名ﾃﾞｰﾀ!$B:$J,3,0)),IF(ISERROR(VLOOKUP($E71,新規登録!$B:$I,3,0)),\"未登録\",VLOOKUP($E71,新規登録!$B:$I,3,0)),(VLOOKUP($E71,氏名ﾃﾞｰﾀ!$B:$J,3,0))))","v":""},{"$f":"IF($E71=\"\",\"\",IF(ISERROR(VLOOKUP($E71,氏名ﾃﾞｰﾀ!$B:$J,4,0)),IF(ISERROR(VLOOKUP($E71,新規登録!$B:$I,4,0)),\"未登録\",VLOOKUP($E71,新規登録!$B:$I,4,0)),(VLOOKUP($E71,氏名ﾃﾞｰﾀ!$B:$J,4,0))))","v":""},{"$f":"IF($E71=\"\",\"\",IF(ISERROR(VLOOKUP($E71,氏名ﾃﾞｰﾀ!$B:$J,5,0)),IF(ISERROR(VLOOKUP($E71,新規登録!$B:$I,5,0)),\"未登録\",VLOOKUP($E71,新規登録!$B:$I,5,0)),(VLOOKUP($E71,氏名ﾃﾞｰﾀ!$B:$J,5,0))))","v":""},{"$f":"IF($E71=\"\",\"\",IF(ISERROR(VLOOKUP($E71,氏名ﾃﾞｰﾀ!$B:$J,8,0)),IF(ISERROR(VLOOKUP($E71,新規登録!$B:$I,6,0)),\"未登録\",VLOOKUP($E71,新規登録!$B:$I,6,0)),(VLOOKUP($E71,氏名ﾃﾞｰﾀ!$B:$J,8,0))))","v":""},{"$f":"IF($E71=\"\",\"\",IF(ISERROR(VLOOKUP($E71,氏名ﾃﾞｰﾀ!$B:$J,7,0)),IF(ISERROR(VLOOKUP($E71,新規登録!$B:$I,7,0)),\"未登録\",VLOOKUP($E71,新規登録!$B:$I,7,0)),$G$3))","v":""},{"$f":"IF($E71=\"\",\"\",IF(ISERROR(VLOOKUP($E71,氏名ﾃﾞｰﾀ!$B:$J,6,0)),IF(ISERROR(VLOOKUP($E71,新規登録!$B:$I,8,0)),\"ﾅｼ\",VLOOKUP($E71,新規登録!$B:$I,8,0)),(VLOOKUP($E71,氏名ﾃﾞｰﾀ!$B:$J,6,0))))","v":""},{"$f":"IF($E71=\"\",\"\",IF(ISERROR(VLOOKUP($E71,氏名ﾃﾞｰﾀ!$B:$J,9,0)),IF(ISERROR(VLOOKUP($E71,新規登録!$B:$I,9,0)),\"未登録\",VLOOKUP($E71,新規登録!$B:$I,9,0)),(VLOOKUP($E71,氏名ﾃﾞｰﾀ!$B:$J,9,0))))","v":""},null,null,null,null,null,null,null,null,null,null,null,null,null,null,null,null,null,null,null,null,2,{"$f":"IF(N71=\"\",\"\",VLOOKUP(N71,ﾃﾞｰﾀ!A:D,4,0))","v":""},"秒","秒",null,null,null,{"$f":"IF(AH71=1,IF(Z71=\"\",1000,VLOOKUP(Z71,ﾃﾞｰﾀ!F$3:G$62,2,FALSE)),1000)","v":1000},{"$f":"IF(AR71=\"\",\"\",LEFT(AR71,3))","v":""},{"$f":"IF(AR71=\"\",\"\",LEFT(AR71,3))","v":""},"","",{"$f":"IF(AR71=\"\",\"\",VLOOKUP(AR71,$E$16:$AK$215,32,0))","v":""},{"$f":"IF(AH71=1,IF(AD71=\"\",1000,VLOOKUP(AD71,ﾃﾞｰﾀ!F$3:H$62,3,FALSE)),1000)","v":1000},{"$f":"IF(AX71=\"\",\"\",LEFT(AX71,3))","v":""},{"$f":"IF(AX71=\"\",\"\",LEFT(AX71,3))","v":""},"","",{"$f":"IF(AX71=\"\",\"\",VLOOKUP(AX71,$E$16:$AK$215,33,0))","v":""},{"$f":"IF(AH71=2,IF(Z71=\"\",1000,VLOOKUP(Z71,ﾃﾞｰﾀ!F$3:I$62,4,FALSE)),1000)","v":1000},{"$f":"IF(BD71=\"\",\"\",LEFT(BD71,3))","v":""},{"$f":"IF(BD71=\"\",\"\",LEFT(BD71,3))","v":""},"","",{"$f":"IF(BD71=\"\",\"\",VLOOKUP(BD71,$E$16:$AK$215,32,0))","v":""},{"$f":"IF(AH71=2,IF(AD71=\"\",1000,VLOOKUP(AD71,ﾃﾞｰﾀ!F$3:J$62,5,FALSE)),1000)","v":1000},{"$f":"IF(BJ71=\"\",\"\",LEFT(BJ71,3))","v":""},{"$f":"IF(BJ71=\"\",\"\",LEFT(BJ71,3))","v":""},"","",{"$f":"IF(BJ71=\"\",\"\",VLOOKUP(BJ71,$E$16:$AK$215,33,0))","v":""}]
["","",{"$f":"IF(E72=\"\",\"\",IF(AH72=1,COUNTIF(AH$16:AH72,1)*10+2001-10,COUNTIF(AH$16:AH72,2)*10+6001-10))","v":""},57,null,{"$f":"IF($E72=\"\",\"\",IF(ISERROR(VLOOKUP($E72,氏名ﾃﾞｰﾀ!$B:$J,2,0)),IF(ISERROR(VLOOKUP($E72,新規登録!$B:$I,2,0)),\"未登録\",VLOOKUP($E72,新規登録!$B:$I,2,0)),(VLOOKUP($E72,氏名ﾃﾞｰﾀ!$B:$J,2,0))))","v":""},{"$f":"IF($E72=\"\",\"\",IF(ISERROR(VLOOKUP($E72,氏名ﾃﾞｰﾀ!$B:$J,3,0)),IF(ISERROR(VLOOKUP($E72,新規登録!$B:$I,3,0)),\"未登録\",VLOOKUP($E72,新規登録!$B:$I,3,0)),(VLOOKUP($E72,氏名ﾃﾞｰﾀ!$B:$J,3,0))))","v":""},{"$f":"IF($E72=\"\",\"\",IF(ISERROR(VLOOKUP($E72,氏名ﾃﾞｰﾀ!$B:$J,4,0)),IF(ISERROR(VLOOKUP($E72,新規登録!$B:$I,4,0)),\"未登録\",VLOOKUP($E72,新規登録!$B:$I,4,0)),(VLOOKUP($E72,氏名ﾃﾞｰﾀ!$B:$J,4,0))))","v":""},{"$f":"IF($E72=\"\",\"\",IF(ISERROR(VLOOKUP($E72,氏名ﾃﾞｰﾀ!$B:$J,5,0)),IF(ISERROR(VLOOKUP($E72,新規登録!$B:$I,5,0)),\"未登録\",VLOOKUP($E72,新規登録!$B:$I,5,0)),(VLOOKUP($E72,氏名ﾃﾞｰﾀ!$B:$J,5,0))))","v":""},{"$f":"IF($E72=\"\",\"\",IF(ISERROR(VLOOKUP($E72,氏名ﾃﾞｰﾀ!$B:$J,8,0)),IF(ISERROR(VLOOKUP($E72,新規登録!$B:$I,6,0)),\"未登録\",VLOOKUP($E72,新規登録!$B:$I,6,0)),(VLOOKUP($E72,氏名ﾃﾞｰﾀ!$B:$J,8,0))))","v":""},{"$f":"IF($E72=\"\",\"\",IF(ISERROR(VLOOKUP($E72,氏名ﾃﾞｰﾀ!$B:$J,7,0)),IF(ISERROR(VLOOKUP($E72,新規登録!$B:$I,7,0)),\"未登録\",VLOOKUP($E72,新規登録!$B:$I,7,0)),$G$3))","v":""},{"$f":"IF($E72=\"\",\"\",IF(ISERROR(VLOOKUP($E72,氏名ﾃﾞｰﾀ!$B:$J,6,0)),IF(ISERROR(VLOOKUP($E72,新規登録!$B:$I,8,0)),\"ﾅｼ\",VLOOKUP($E72,新規登録!$B:$I,8,0)),(VLOOKUP($E72,氏名ﾃﾞｰﾀ!$B:$J,6,0))))","v":""},{"$f":"IF($E72=\"\",\"\",IF(ISERROR(VLOOKUP($E72,氏名ﾃﾞｰﾀ!$B:$J,9,0)),IF(ISERROR(VLOOKUP($E72,新規登録!$B:$I,9,0)),\"未登録\",VLOOKUP($E72,新規登録!$B:$I,9,0)),(VLOOKUP($E72,氏名ﾃﾞｰﾀ!$B:$J,9,0))))","v":""},null,null,null,null,null,null,null,null,null,null,null,null,null,null,null,null,null,null,null,null,2,{"$f":"IF(N72=\"\",\"\",VLOOKUP(N72,ﾃﾞｰﾀ!A:D,4,0))","v":""},"秒","秒",null,null,null,{"$f":"IF(AH72=1,IF(Z72=\"\",1000,VLOOKUP(Z72,ﾃﾞｰﾀ!F$3:G$62,2,FALSE)),1000)","v":1000},"","","","","",{"$f":"IF(AH72=1,IF(AD72=\"\",1000,VLOOKUP(AD72,ﾃﾞｰﾀ!F$3:H$62,3,FALSE)),1000)","v":1000},"","","","","",{"$f":"IF(AH72=2,IF(Z72=\"\",1000,VLOOKUP(Z72,ﾃﾞｰﾀ!F$3:I$62,4,FALSE)),1000)","v":1000},"","","","","",{"$f":"IF(AH72=2,IF(AD72=\"\",1000,VLOOKUP(AD72,ﾃﾞｰﾀ!F$3:J$62,5,FALSE)),1000)","v":1000},"","","","",""]
["","",{"$f":"IF(E73=\"\",\"\",IF(AH73=1,COUNTIF(AH$16:AH73,1)*10+2001-10,COUNTIF(AH$16:AH73,2)*10+6001-10))","v":""},58,null,{"$f":"IF($E73=\"\",\"\",IF(ISERROR(VLOOKUP($E73,氏名ﾃﾞｰﾀ!$B:$J,2,0)),IF(ISERROR(VLOOKUP($E73,新規登録!$B:$I,2,0)),\"未登録\",VLOOKUP($E73,新規登録!$B:$I,2,0)),(VLOOKUP($E73,氏名ﾃﾞｰﾀ!$B:$J,2,0))))","v":""},{"$f":"IF($E73=\"\",\"\",IF(ISERROR(VLOOKUP($E73,氏名ﾃﾞｰﾀ!$B:$J,3,0)),IF(ISERROR(VLOOKUP($E73,新規登録!$B:$I,3,0)),\"未登録\",VLOOKUP($E73,新規登録!$B:$I,3,0)),(VLOOKUP($E73,氏名ﾃﾞｰﾀ!$B:$J,3,0))))","v":""},{"$f":"IF($E73=\"\",\"\",IF(ISERROR(VLOOKUP($E73,氏名ﾃﾞｰﾀ!$B:$J,4,0)),IF(ISERROR(VLOOKUP($E73,新規登録!$B:$I,4,0)),\"未登録\",VLOOKUP($E73,新規登録!$B:$I,4,0)),(VLOOKUP($E73,氏名ﾃﾞｰﾀ!$B:$J,4,0))))","v":""},{"$f":"IF($E73=\"\",\"\",IF(ISERROR(VLOOKUP($E73,氏名ﾃﾞｰﾀ!$B:$J,5,0)),IF(ISERROR(VLOOKUP($E73,新規登録!$B:$I,5,0)),\"未登録\",VLOOKUP($E73,新規登録!$B:$I,5,0)),(VLOOKUP($E73,氏名ﾃﾞｰﾀ!$B:$J,5,0))))","v":""},{"$f":"IF($E73=\"\",\"\",IF(ISERROR(VLOOKUP($E73,氏名ﾃﾞｰﾀ!$B:$J,8,0)),IF(ISERROR(VLOOKUP($E73,新規登録!$B:$I,6,0)),\"未登録\",VLOOKUP($E73,新規登録!$B:$I,6,0)),(VLOOKUP($E73,氏名ﾃﾞｰﾀ!$B:$J,8,0))))","v":""},{"$f":"IF($E73=\"\",\"\",IF(ISERROR(VLOOKUP($E73,氏名ﾃﾞｰﾀ!$B:$J,7,0)),IF(ISERROR(VLOOKUP($E73,新規登録!$B:$I,7,0)),\"未登録\",VLOOKUP($E73,新規登録!$B:$I,7,0)),$G$3))","v":""},{"$f":"IF($E73=\"\",\"\",IF(ISERROR(VLOOKUP($E73,氏名ﾃﾞｰﾀ!$B:$J,6,0)),IF(ISERROR(VLOOKUP($E73,新規登録!$B:$I,8,0)),\"ﾅｼ\",VLOOKUP($E73,新規登録!$B:$I,8,0)),(VLOOKUP($E73,氏名ﾃﾞｰﾀ!$B:$J,6,0))))","v":""},{"$f":"IF($E73=\"\",\"\",IF(ISERROR(VLOOKUP($E73,氏名ﾃﾞｰﾀ!$B:$J,9,0)),IF(ISERROR(VLOOKUP($E73,新規登録!$B:$I,9,0)),\"未登録\",VLOOKUP($E73,新規登録!$B:$I,9,0)),(VLOOKUP($E73,氏名ﾃﾞｰﾀ!$B:$J,9,0))))","v":""},null,null,null,null,null,null,null,null,null,null,null,null,null,null,null,null,null,null,null,null,2,{"$f":"IF(N73=\"\",\"\",VLOOKUP(N73,ﾃﾞｰﾀ!A:D,4,0))","v":""},"秒","秒",null,null,null,{"$f":"IF(AH73=1,IF(Z73=\"\",1000,VLOOKUP(Z73,ﾃﾞｰﾀ!F$3:G$62,2,FALSE)),1000)","v":1000},"","","","","",{"$f":"IF(AH73=1,IF(AD73=\"\",1000,VLOOKUP(AD73,ﾃﾞｰﾀ!F$3:H$62,3,FALSE)),1000)","v":1000},"","","","","",{"$f":"IF(AH73=2,IF(Z73=\"\",1000,VLOOKUP(Z73,ﾃﾞｰﾀ!F$3:I$62,4,FALSE)),1000)","v":1000},"","","","","",{"$f":"IF(AH73=2,IF(AD73=\"\",1000,VLOOKUP(AD73,ﾃﾞｰﾀ!F$3:J$62,5,FALSE)),1000)","v":1000},"","","","",""]
["","",{"$f":"IF(E74=\"\",\"\",IF(AH74=1,COUNTIF(AH$16:AH74,1)*10+2001-10,COUNTIF(AH$16:AH74,2)*10+6001-10))","v":""},59,null,{"$f":"IF($E74=\"\",\"\",IF(ISERROR(VLOOKUP($E74,氏名ﾃﾞｰﾀ!$B:$J,2,0)),IF(ISERROR(VLOOKUP($E74,新規登録!$B:$I,2,0)),\"未登録\",VLOOKUP($E74,新規登録!$B:$I,2,0)),(VLOOKUP($E74,氏名ﾃﾞｰﾀ!$B:$J,2,0))))","v":""},{"$f":"IF($E74=\"\",\"\",IF(ISERROR(VLOOKUP($E74,氏名ﾃﾞｰﾀ!$B:$J,3,0)),IF(ISERROR(VLOOKUP($E74,新規登録!$B:$I,3,0)),\"未登録\",VLOOKUP($E74,新規登録!$B:$I,3,0)),(VLOOKUP($E74,氏名ﾃﾞｰﾀ!$B:$J,3,0))))","v":""},{"$f":"IF($E74=\"\",\"\",IF(ISERROR(VLOOKUP($E74,氏名ﾃﾞｰﾀ!$B:$J,4,0)),IF(ISERROR(VLOOKUP($E74,新規登録!$B:$I,4,0)),\"未登録\",VLOOKUP($E74,新規登録!$B:$I,4,0)),(VLOOKUP($E74,氏名ﾃﾞｰﾀ!$B:$J,4,0))))","v":""},{"$f":"IF($E74=\"\",\"\",IF(ISERROR(VLOOKUP($E74,氏名ﾃﾞｰﾀ!$B:$J,5,0)),IF(ISERROR(VLOOKUP($E74,新規登録!$B:$I,5,0)),\"未登録\",VLOOKUP($E74,新規登録!$B:$I,5,0)),(VLOOKUP($E74,氏名ﾃﾞｰﾀ!$B:$J,5,0))))","v":""},{"$f":"IF($E74=\"\",\"\",IF(ISERROR(VLOOKUP($E74,氏名ﾃﾞｰﾀ!$B:$J,8,0)),IF(ISERROR(VLOOKUP($E74,新規登録!$B:$I,6,0)),\"未登録\",VLOOKUP($E74,新規登録!$B:$I,6,0)),(VLOOKUP($E74,氏名ﾃﾞｰﾀ!$B:$J,8,0))))","v":""},{"$f":"IF($E74=\"\",\"\",IF(ISERROR(VLOOKUP($E74,氏名ﾃﾞｰﾀ!$B:$J,7,0)),IF(ISERROR(VLOOKUP($E74,新規登録!$B:$I,7,0)),\"未登録\",VLOOKUP($E74,新規登録!$B:$I,7,0)),$G$3))","v":""},{"$f":"IF($E74=\"\",\"\",IF(ISERROR(VLOOKUP($E74,氏名ﾃﾞｰﾀ!$B:$J,6,0)),IF(ISERROR(VLOOKUP($E74,新規登録!$B:$I,8,0)),\"ﾅｼ\",VLOOKUP($E74,新規登録!$B:$I,8,0)),(VLOOKUP($E74,氏名ﾃﾞｰﾀ!$B:$J,6,0))))","v":""},{"$f":"IF($E74=\"\",\"\",IF(ISERROR(VLOOKUP($E74,氏名ﾃﾞｰﾀ!$B:$J,9,0)),IF(ISERROR(VLOOKUP($E74,新規登録!$B:$I,9,0)),\"未登録\",VLOOKUP($E74,新規登録!$B:$I,9,0)),(VLOOKUP($E74,氏名ﾃﾞｰﾀ!$B:$J,9,0))))","v":""},null,null,null,null,null,null,null,null,null,null,null,null,null,null,null,null,null,null,null,null,2,{"$f":"IF(N74=\"\",\"\",VLOOKUP(N74,ﾃﾞｰﾀ!A:D,4,0))","v":""},"秒","秒",null,null,null,{"$f":"IF(AH74=1,IF(Z74=\"\",1000,VLOOKUP(Z74,ﾃﾞｰﾀ!F$3:G$62,2,FALSE)),1000)","v":1000},"","","","","",{"$f":"IF(AH74=1,IF(AD74=\"\",1000,VLOOKUP(AD74,ﾃﾞｰﾀ!F$3:H$62,3,FALSE)),1000)","v":1000},"","","","","",{"$f":"IF(AH74=2,IF(Z74=\"\",1000,VLOOKUP(Z74,ﾃﾞｰﾀ!F$3:I$62,4,FALSE)),1000)","v":1000},"","","","","",{"$f":"IF(AH74=2,IF(AD74=\"\",1000,VLOOKUP(AD74,ﾃﾞｰﾀ!F$3:J$62,5,FALSE)),1000)","v":1000},"","","","",""]
["","",{"$f":"IF(E75=\"\",\"\",IF(AH75=1,COUNTIF(AH$16:AH75,1)*10+2001-10,COUNTIF(AH$16:AH75,2)*10+6001-10))","v":""},60,null,{"$f":"IF($E75=\"\",\"\",IF(ISERROR(VLOOKUP($E75,氏名ﾃﾞｰﾀ!$B:$J,2,0)),IF(ISERROR(VLOOKUP($E75,新規登録!$B:$I,2,0)),\"未登録\",VLOOKUP($E75,新規登録!$B:$I,2,0)),(VLOOKUP($E75,氏名ﾃﾞｰﾀ!$B:$J,2,0))))","v":""},{"$f":"IF($E75=\"\",\"\",IF(ISERROR(VLOOKUP($E75,氏名ﾃﾞｰﾀ!$B:$J,3,0)),IF(ISERROR(VLOOKUP($E75,新規登録!$B:$I,3,0)),\"未登録\",VLOOKUP($E75,新規登録!$B:$I,3,0)),(VLOOKUP($E75,氏名ﾃﾞｰﾀ!$B:$J,3,0))))","v":""},{"$f":"IF($E75=\"\",\"\",IF(ISERROR(VLOOKUP($E75,氏名ﾃﾞｰﾀ!$B:$J,4,0)),IF(ISERROR(VLOOKUP($E75,新規登録!$B:$I,4,0)),\"未登録\",VLOOKUP($E75,新規登録!$B:$I,4,0)),(VLOOKUP($E75,氏名ﾃﾞｰﾀ!$B:$J,4,0))))","v":""},{"$f":"IF($E75=\"\",\"\",IF(ISERROR(VLOOKUP($E75,氏名ﾃﾞｰﾀ!$B:$J,5,0)),IF(ISERROR(VLOOKUP($E75,新規登録!$B:$I,5,0)),\"未登録\",VLOOKUP($E75,新規登録!$B:$I,5,0)),(VLOOKUP($E75,氏名ﾃﾞｰﾀ!$B:$J,5,0))))","v":""},{"$f":"IF($E75=\"\",\"\",IF(ISERROR(VLOOKUP($E75,氏名ﾃﾞｰﾀ!$B:$J,8,0)),IF(ISERROR(VLOOKUP($E75,新規登録!$B:$I,6,0)),\"未登録\",VLOOKUP($E75,新規登録!$B:$I,6,0)),(VLOOKUP($E75,氏名ﾃﾞｰﾀ!$B:$J,8,0))))","v":""},{"$f":"IF($E75=\"\",\"\",IF(ISERROR(VLOOKUP($E75,氏名ﾃﾞｰﾀ!$B:$J,7,0)),IF(ISERROR(VLOOKUP($E75,新規登録!$B:$I,7,0)),\"未登録\",VLOOKUP($E75,新規登録!$B:$I,7,0)),$G$3))","v":""},{"$f":"IF($E75=\"\",\"\",IF(ISERROR(VLOOKUP($E75,氏名ﾃﾞｰﾀ!$B:$J,6,0)),IF(ISERROR(VLOOKUP($E75,新規登録!$B:$I,8,0)),\"ﾅｼ\",VLOOKUP($E75,新規登録!$B:$I,8,0)),(VLOOKUP($E75,氏名ﾃﾞｰﾀ!$B:$J,6,0))))","v":""},{"$f":"IF($E75=\"\",\"\",IF(ISERROR(VLOOKUP($E75,氏名ﾃﾞｰﾀ!$B:$J,9,0)),IF(ISERROR(VLOOKUP($E75,新規登録!$B:$I,9,0)),\"未登録\",VLOOKUP($E75,新規登録!$B:$I,9,0)),(VLOOKUP($E75,氏名ﾃﾞｰﾀ!$B:$J,9,0))))","v":""},null,null,null,null,null,null,null,null,null,null,null,null,null,null,null,null,null,null,null,null,2,{"$f":"IF(N75=\"\",\"\",VLOOKUP(N75,ﾃﾞｰﾀ!A:D,4,0))","v":""},"秒","秒",null,null,null,{"$f":"IF(AH75=1,IF(Z75=\"\",1000,VLOOKUP(Z75,ﾃﾞｰﾀ!F$3:G$62,2,FALSE)),1000)","v":1000},"","","","","",{"$f":"IF(AH75=1,IF(AD75=\"\",1000,VLOOKUP(AD75,ﾃﾞｰﾀ!F$3:H$62,3,FALSE)),1000)","v":1000},"","","","","",{"$f":"IF(AH75=2,IF(Z75=\"\",1000,VLOOKUP(Z75,ﾃﾞｰﾀ!F$3:I$62,4,FALSE)),1000)","v":1000},"","","","","",{"$f":"IF(AH75=2,IF(AD75=\"\",1000,VLOOKUP(AD75,ﾃﾞｰﾀ!F$3:J$62,5,FALSE)),1000)","v":1000},"","","","",""]
["","",{"$f":"IF(E76=\"\",\"\",IF(AH76=1,COUNTIF(AH$16:AH76,1)*10+2001-10,COUNTIF(AH$16:AH76,2)*10+6001-10))","v":""},61,null,{"$f":"IF($E76=\"\",\"\",IF(ISERROR(VLOOKUP($E76,氏名ﾃﾞｰﾀ!$B:$J,2,0)),IF(ISERROR(VLOOKUP($E76,新規登録!$B:$I,2,0)),\"未登録\",VLOOKUP($E76,新規登録!$B:$I,2,0)),(VLOOKUP($E76,氏名ﾃﾞｰﾀ!$B:$J,2,0))))","v":""},{"$f":"IF($E76=\"\",\"\",IF(ISERROR(VLOOKUP($E76,氏名ﾃﾞｰﾀ!$B:$J,3,0)),IF(ISERROR(VLOOKUP($E76,新規登録!$B:$I,3,0)),\"未登録\",VLOOKUP($E76,新規登録!$B:$I,3,0)),(VLOOKUP($E76,氏名ﾃﾞｰﾀ!$B:$J,3,0))))","v":""},{"$f":"IF($E76=\"\",\"\",IF(ISERROR(VLOOKUP($E76,氏名ﾃﾞｰﾀ!$B:$J,4,0)),IF(ISERROR(VLOOKUP($E76,新規登録!$B:$I,4,0)),\"未登録\",VLOOKUP($E76,新規登録!$B:$I,4,0)),(VLOOKUP($E76,氏名ﾃﾞｰﾀ!$B:$J,4,0))))","v":""},{"$f":"IF($E76=\"\",\"\",IF(ISERROR(VLOOKUP($E76,氏名ﾃﾞｰﾀ!$B:$J,5,0)),IF(ISERROR(VLOOKUP($E76,新規登録!$B:$I,5,0)),\"未登録\",VLOOKUP($E76,新規登録!$B:$I,5,0)),(VLOOKUP($E76,氏名ﾃﾞｰﾀ!$B:$J,5,0))))","v":""},{"$f":"IF($E76=\"\",\"\",IF(ISERROR(VLOOKUP($E76,氏名ﾃﾞｰﾀ!$B:$J,8,0)),IF(ISERROR(VLOOKUP($E76,新規登録!$B:$I,6,0)),\"未登録\",VLOOKUP($E76,新規登録!$B:$I,6,0)),(VLOOKUP($E76,氏名ﾃﾞｰﾀ!$B:$J,8,0))))","v":""},{"$f":"IF($E76=\"\",\"\",IF(ISERROR(VLOOKUP($E76,氏名ﾃﾞｰﾀ!$B:$J,7,0)),IF(ISERROR(VLOOKUP($E76,新規登録!$B:$I,7,0)),\"未登録\",VLOOKUP($E76,新規登録!$B:$I,7,0)),$G$3))","v":""},{"$f":"IF($E76=\"\",\"\",IF(ISERROR(VLOOKUP($E76,氏名ﾃﾞｰﾀ!$B:$J,6,0)),IF(ISERROR(VLOOKUP($E76,新規登録!$B:$I,8,0)),\"ﾅｼ\",VLOOKUP($E76,新規登録!$B:$I,8,0)),(VLOOKUP($E76,氏名ﾃﾞｰﾀ!$B:$J,6,0))))","v":""},{"$f":"IF($E76=\"\",\"\",IF(ISERROR(VLOOKUP($E76,氏名ﾃﾞｰﾀ!$B:$J,9,0)),IF(ISERROR(VLOOKUP($E76,新規登録!$B:$I,9,0)),\"未登録\",VLOOKUP($E76,新規登録!$B:$I,9,0)),(VLOOKUP($E76,氏名ﾃﾞｰﾀ!$B:$J,9,0))))","v":""},null,null,null,null,null,null,null,null,null,null,null,null,null,null,null,null,null,null,null,null,2,{"$f":"IF(N76=\"\",\"\",VLOOKUP(N76,ﾃﾞｰﾀ!A:D,4,0))","v":""},"秒","秒"]
["","",{"$f":"IF(E77=\"\",\"\",IF(AH77=1,COUNTIF(AH$16:AH77,1)*10+2001-10,COUNTIF(AH$16:AH77,2)*10+6001-10))","v":""},62,null,{"$f":"IF($E77=\"\",\"\",IF(ISERROR(VLOOKUP($E77,氏名ﾃﾞｰﾀ!$B:$J,2,0)),IF(ISERROR(VLOOKUP($E77,新規登録!$B:$I,2,0)),\"未登録\",VLOOKUP($E77,新規登録!$B:$I,2,0)),(VLOOKUP($E77,氏名ﾃﾞｰﾀ!$B:$J,2,0))))","v":""},{"$f":"IF($E77=\"\",\"\",IF(ISERROR(VLOOKUP($E77,氏名ﾃﾞｰﾀ!$B:$J,3,0)),IF(ISERROR(VLOOKUP($E77,新規登録!$B:$I,3,0)),\"未登録\",VLOOKUP($E77,新規登録!$B:$I,3,0)),(VLOOKUP($E77,氏名ﾃﾞｰﾀ!$B:$J,3,0))))","v":""},{"$f":"IF($E77=\"\",\"\",IF(ISERROR(VLOOKUP($E77,氏名ﾃﾞｰﾀ!$B:$J,4,0)),IF(ISERROR(VLOOKUP($E77,新規登録!$B:$I,4,0)),\"未登録\",VLOOKUP($E77,新規登録!$B:$I,4,0)),(VLOOKUP($E77,氏名ﾃﾞｰﾀ!$B:$J,4,0))))","v":""},{"$f":"IF($E77=\"\",\"\",IF(ISERROR(VLOOKUP($E77,氏名ﾃﾞｰﾀ!$B:$J,5,0)),IF(ISERROR(VLOOKUP($E77,新規登録!$B:$I,5,0)),\"未登録\",VLOOKUP($E77,新規登録!$B:$I,5,0)),(VLOOKUP($E77,氏名ﾃﾞｰﾀ!$B:$J,5,0))))","v":""},{"$f":"IF($E77=\"\",\"\",IF(ISERROR(VLOOKUP($E77,氏名ﾃﾞｰﾀ!$B:$J,8,0)),IF(ISERROR(VLOOKUP($E77,新規登録!$B:$I,6,0)),\"未登録\",VLOOKUP($E77,新規登録!$B:$I,6,0)),(VLOOKUP($E77,氏名ﾃﾞｰﾀ!$B:$J,8,0))))","v":""},{"$f":"IF($E77=\"\",\"\",IF(ISERROR(VLOOKUP($E77,氏名ﾃﾞｰﾀ!$B:$J,7,0)),IF(ISERROR(VLOOKUP($E77,新規登録!$B:$I,7,0)),\"未登録\",VLOOKUP($E77,新規登録!$B:$I,7,0)),$G$3))","v":""},{"$f":"IF($E77=\"\",\"\",IF(ISERROR(VLOOKUP($E77,氏名ﾃﾞｰﾀ!$B:$J,6,0)),IF(ISERROR(VLOOKUP($E77,新規登録!$B:$I,8,0)),\"ﾅｼ\",VLOOKUP($E77,新規登録!$B:$I,8,0)),(VLOOKUP($E77,氏名ﾃﾞｰﾀ!$B:$J,6,0))))","v":""},{"$f":"IF($E77=\"\",\"\",IF(ISERROR(VLOOKUP($E77,氏名ﾃﾞｰﾀ!$B:$J,9,0)),IF(ISERROR(VLOOKUP($E77,新規登録!$B:$I,9,0)),\"未登録\",VLOOKUP($E77,新規登録!$B:$I,9,0)),(VLOOKUP($E77,氏名ﾃﾞｰﾀ!$B:$J,9,0))))","v":""},null,null,null,null,null,null,null,null,null,null,null,null,null,null,null,null,null,null,null,null,2,{"$f":"IF(N77=\"\",\"\",VLOOKUP(N77,ﾃﾞｰﾀ!A:D,4,0))","v":""},"秒","秒"]
["","",{"$f":"IF(E78=\"\",\"\",IF(AH78=1,COUNTIF(AH$16:AH78,1)*10+2001-10,COUNTIF(AH$16:AH78,2)*10+6001-10))","v":""},63,null,{"$f":"IF($E78=\"\",\"\",IF(ISERROR(VLOOKUP($E78,氏名ﾃﾞｰﾀ!$B:$J,2,0)),IF(ISERROR(VLOOKUP($E78,新規登録!$B:$I,2,0)),\"未登録\",VLOOKUP($E78,新規登録!$B:$I,2,0)),(VLOOKUP($E78,氏名ﾃﾞｰﾀ!$B:$J,2,0))))","v":""},{"$f":"IF($E78=\"\",\"\",IF(ISERROR(VLOOKUP($E78,氏名ﾃﾞｰﾀ!$B:$J,3,0)),IF(ISERROR(VLOOKUP($E78,新規登録!$B:$I,3,0)),\"未登録\",VLOOKUP($E78,新規登録!$B:$I,3,0)),(VLOOKUP($E78,氏名ﾃﾞｰﾀ!$B:$J,3,0))))","v":""},{"$f":"IF($E78=\"\",\"\",IF(ISERROR(VLOOKUP($E78,氏名ﾃﾞｰﾀ!$B:$J,4,0)),IF(ISERROR(VLOOKUP($E78,新規登録!$B:$I,4,0)),\"未登録\",VLOOKUP($E78,新規登録!$B:$I,4,0)),(VLOOKUP($E78,氏名ﾃﾞｰﾀ!$B:$J,4,0))))","v":""},{"$f":"IF($E78=\"\",\"\",IF(ISERROR(VLOOKUP($E78,氏名ﾃﾞｰﾀ!$B:$J,5,0)),IF(ISERROR(VLOOKUP($E78,新規登録!$B:$I,5,0)),\"未登録\",VLOOKUP($E78,新規登録!$B:$I,5,0)),(VLOOKUP($E78,氏名ﾃﾞｰﾀ!$B:$J,5,0))))","v":""},{"$f":"IF($E78=\"\",\"\",IF(ISERROR(VLOOKUP($E78,氏名ﾃﾞｰﾀ!$B:$J,8,0)),IF(ISERROR(VLOOKUP($E78,新規登録!$B:$I,6,0)),\"未登録\",VLOOKUP($E78,新規登録!$B:$I,6,0)),(VLOOKUP($E78,氏名ﾃﾞｰﾀ!$B:$J,8,0))))","v":""},{"$f":"IF($E78=\"\",\"\",IF(ISERROR(VLOOKUP($E78,氏名ﾃﾞｰﾀ!$B:$J,7,0)),IF(ISERROR(VLOOKUP($E78,新規登録!$B:$I,7,0)),\"未登録\",VLOOKUP($E78,新規登録!$B:$I,7,0)),$G$3))","v":""},{"$f":"IF($E78=\"\",\"\",IF(ISERROR(VLOOKUP($E78,氏名ﾃﾞｰﾀ!$B:$J,6,0)),IF(ISERROR(VLOOKUP($E78,新規登録!$B:$I,8,0)),\"ﾅｼ\",VLOOKUP($E78,新規登録!$B:$I,8,0)),(VLOOKUP($E78,氏名ﾃﾞｰﾀ!$B:$J,6,0))))","v":""},{"$f":"IF($E78=\"\",\"\",IF(ISERROR(VLOOKUP($E78,氏名ﾃﾞｰﾀ!$B:$J,9,0)),IF(ISERROR(VLOOKUP($E78,新規登録!$B:$I,9,0)),\"未登録\",VLOOKUP($E78,新規登録!$B:$I,9,0)),(VLOOKUP($E78,氏名ﾃﾞｰﾀ!$B:$J,9,0))))","v":""},null,null,null,null,null,null,null,null,null,null,null,null,null,null,null,null,null,null,null,null,2,{"$f":"IF(N78=\"\",\"\",VLOOKUP(N78,ﾃﾞｰﾀ!A:D,4,0))","v":""},"秒","秒"]
["","",{"$f":"IF(E79=\"\",\"\",IF(AH79=1,COUNTIF(AH$16:AH79,1)*10+2001-10,COUNTIF(AH$16:AH79,2)*10+6001-10))","v":""},64,null,{"$f":"IF($E79=\"\",\"\",IF(ISERROR(VLOOKUP($E79,氏名ﾃﾞｰﾀ!$B:$J,2,0)),IF(ISERROR(VLOOKUP($E79,新規登録!$B:$I,2,0)),\"未登録\",VLOOKUP($E79,新規登録!$B:$I,2,0)),(VLOOKUP($E79,氏名ﾃﾞｰﾀ!$B:$J,2,0))))","v":""},{"$f":"IF($E79=\"\",\"\",IF(ISERROR(VLOOKUP($E79,氏名ﾃﾞｰﾀ!$B:$J,3,0)),IF(ISERROR(VLOOKUP($E79,新規登録!$B:$I,3,0)),\"未登録\",VLOOKUP($E79,新規登録!$B:$I,3,0)),(VLOOKUP($E79,氏名ﾃﾞｰﾀ!$B:$J,3,0))))","v":""},{"$f":"IF($E79=\"\",\"\",IF(ISERROR(VLOOKUP($E79,氏名ﾃﾞｰﾀ!$B:$J,4,0)),IF(ISERROR(VLOOKUP($E79,新規登録!$B:$I,4,0)),\"未登録\",VLOOKUP($E79,新規登録!$B:$I,4,0)),(VLOOKUP($E79,氏名ﾃﾞｰﾀ!$B:$J,4,0))))","v":""},{"$f":"IF($E79=\"\",\"\",IF(ISERROR(VLOOKUP($E79,氏名ﾃﾞｰﾀ!$B:$J,5,0)),IF(ISERROR(VLOOKUP($E79,新規登録!$B:$I,5,0)),\"未登録\",VLOOKUP($E79,新規登録!$B:$I,5,0)),(VLOOKUP($E79,氏名ﾃﾞｰﾀ!$B:$J,5,0))))","v":""},{"$f":"IF($E79=\"\",\"\",IF(ISERROR(VLOOKUP($E79,氏名ﾃﾞｰﾀ!$B:$J,8,0)),IF(ISERROR(VLOOKUP($E79,新規登録!$B:$I,6,0)),\"未登録\",VLOOKUP($E79,新規登録!$B:$I,6,0)),(VLOOKUP($E79,氏名ﾃﾞｰﾀ!$B:$J,8,0))))","v":""},{"$f":"IF($E79=\"\",\"\",IF(ISERROR(VLOOKUP($E79,氏名ﾃﾞｰﾀ!$B:$J,7,0)),IF(ISERROR(VLOOKUP($E79,新規登録!$B:$I,7,0)),\"未登録\",VLOOKUP($E79,新規登録!$B:$I,7,0)),$G$3))","v":""},{"$f":"IF($E79=\"\",\"\",IF(ISERROR(VLOOKUP($E79,氏名ﾃﾞｰﾀ!$B:$J,6,0)),IF(ISERROR(VLOOKUP($E79,新規登録!$B:$I,8,0)),\"ﾅｼ\",VLOOKUP($E79,新規登録!$B:$I,8,0)),(VLOOKUP($E79,氏名ﾃﾞｰﾀ!$B:$J,6,0))))","v":""},{"$f":"IF($E79=\"\",\"\",IF(ISERROR(VLOOKUP($E79,氏名ﾃﾞｰﾀ!$B:$J,9,0)),IF(ISERROR(VLOOKUP($E79,新規登録!$B:$I,9,0)),\"未登録\",VLOOKUP($E79,新規登録!$B:$I,9,0)),(VLOOKUP($E79,氏名ﾃﾞｰﾀ!$B:$J,9,0))))","v":""},null,null,null,null,null,null,null,null,null,null,null,null,null,null,null,null,null,null,null,null,2,{"$f":"IF(N79=\"\",\"\",VLOOKUP(N79,ﾃﾞｰﾀ!A:D,4,0))","v":""},"秒","秒"]
[{"$f":"IF(Z80=\"\",\"\",IF(L80=\"男\",VLOOKUP(Z80,ﾘﾚｰｺｰﾄﾞ,2,0),VLOOKUP(Z80,ﾘﾚｰｺｰﾄﾞ,4,0)))","v":""},{"$f":"IF(AD80=\"\",\"\",IF(L80=\"男\",VLOOKUP(AD80,ﾘﾚｰｺｰﾄﾞ,3,0),VLOOKUP(AD80,ﾘﾚｰｺｰﾄﾞ,5,0)))","v":""},{"$f":"IF(E80=\"\",\"\",IF(AH80=1,COUNTIF(AH$16:AH80,1)*10+2001-10,COUNTIF(AH$16:AH80,2)*10+6001-10))","v":""},65,null,{"$f":"IF($E80=\"\",\"\",IF(ISERROR(VLOOKUP($E80,氏名ﾃﾞｰﾀ!$B:$J,2,0)),IF(ISERROR(VLOOKUP($E80,新規登録!$B:$I,2,0)),\"未登録\",VLOOKUP($E80,新規登録!$B:$I,2,0)),(VLOOKUP($E80,氏名ﾃﾞｰﾀ!$B:$J,2,0))))","v":""},{"$f":"IF($E80=\"\",\"\",IF(ISERROR(VLOOKUP($E80,氏名ﾃﾞｰﾀ!$B:$J,3,0)),IF(ISERROR(VLOOKUP($E80,新規登録!$B:$I,3,0)),\"未登録\",VLOOKUP($E80,新規登録!$B:$I,3,0)),(VLOOKUP($E80,氏名ﾃﾞｰﾀ!$B:$J,3,0))))","v":""},{"$f":"IF($E80=\"\",\"\",IF(ISERROR(VLOOKUP($E80,氏名ﾃﾞｰﾀ!$B:$J,4,0)),IF(ISERROR(VLOOKUP($E80,新規登録!$B:$I,4,0)),\"未登録\",VLOOKUP($E80,新規登録!$B:$I,4,0)),(VLOOKUP($E80,氏名ﾃﾞｰﾀ!$B:$J,4,0))))","v":""},{"$f":"IF($E80=\"\",\"\",IF(ISERROR(VLOOKUP($E80,氏名ﾃﾞｰﾀ!$B:$J,5,0)),IF(ISERROR(VLOOKUP($E80,新規登録!$B:$I,5,0)),\"未登録\",VLOOKUP($E80,新規登録!$B:$I,5,0)),(VLOOKUP($E80,氏名ﾃﾞｰﾀ!$B:$J,5,0))))","v":""},{"$f":"IF($E80=\"\",\"\",IF(ISERROR(VLOOKUP($E80,氏名ﾃﾞｰﾀ!$B:$J,8,0)),IF(ISERROR(VLOOKUP($E80,新規登録!$B:$I,6,0)),\"未登録\",VLOOKUP($E80,新規登録!$B:$I,6,0)),(VLOOKUP($E80,氏名ﾃﾞｰﾀ!$B:$J,8,0))))","v":""},{"$f":"IF($E80=\"\",\"\",IF(ISERROR(VLOOKUP($E80,氏名ﾃﾞｰﾀ!$B:$J,7,0)),IF(ISERROR(VLOOKUP($E80,新規登録!$B:$I,7,0)),\"未登録\",VLOOKUP($E80,新規登録!$B:$I,7,0)),$G$3))","v":""},{"$f":"IF($E80=\"\",\"\",IF(ISERROR(VLOOKUP($E80,氏名ﾃﾞｰﾀ!$B:$J,6,0)),IF(ISERROR(VLOOKUP($E80,新規登録!$B:$I,8,0)),\"ﾅｼ\",VLOOKUP($E80,新規登録!$B:$I,8,0)),(VLOOKUP($E80,氏名ﾃﾞｰﾀ!$B:$J,6,0))))","v":""},{"$f":"IF($E80=\"\",\"\",IF(ISERROR(VLOOKUP($E80,氏名ﾃﾞｰﾀ!$B:$J,9,0)),IF(ISERROR(VLOOKUP($E80,新規登録!$B:$I,9,0)),\"未登録\",VLOOKUP($E80,新規登録!$B:$I,9,0)),(VLOOKUP($E80,氏名ﾃﾞｰﾀ!$B:$J,9,0))))","v":""},null,null,null,null,null,null,null,null,null,null,null,null,null,null,null,null,null,null,null,null,{"$f":"IF(L80=\"男\",1,2)","v":2},{"$f":"IF(N80=\"\",\"\",VLOOKUP(N80,ﾃﾞｰﾀ!A:D,4,0))","v":""},{"$f":"IF(AA80=\"\",CONCATENATE(AB80,\"秒\",AC80),CONCATENATE(IF(LEN(AA80)=1,CONCATENATE(\"0\",AA80),AA80),\"分\",IF(LEN(AB80)=1,CONCATENATE(\"0\",AB80),AB80),\"秒\",IF(LEN(AC80)=1,CONCATENATE(AC80,\"0\"),AC80)))","v":"秒"},"秒"]
["","",{"$f":"IF(E81=\"\",\"\",IF(AH81=1,COUNTIF(AH$16:AH81,1)*10+2001-10,COUNTIF(AH$16:AH81,2)*10+6001-10))","v":""},66,null,{"$f":"IF($E81=\"\",\"\",IF(ISERROR(VLOOKUP($E81,氏名ﾃﾞｰﾀ!$B:$J,2,0)),IF(ISERROR(VLOOKUP($E81,新規登録!$B:$I,2,0)),\"未登録\",VLOOKUP($E81,新規登録!$B:$I,2,0)),(VLOOKUP($E81,氏名ﾃﾞｰﾀ!$B:$J,2,0))))","v":""},{"$f":"IF($E81=\"\",\"\",IF(ISERROR(VLOOKUP($E81,氏名ﾃﾞｰﾀ!$B:$J,3,0)),IF(ISERROR(VLOOKUP($E81,新規登録!$B:$I,3,0)),\"未登録\",VLOOKUP($E81,新規登録!$B:$I,3,0)),(VLOOKUP($E81,氏名ﾃﾞｰﾀ!$B:$J,3,0))))","v":""},{"$f":"IF($E81=\"\",\"\",IF(ISERROR(VLOOKUP($E81,氏名ﾃﾞｰﾀ!$B:$J,4,0)),IF(ISERROR(VLOOKUP($E81,新規登録!$B:$I,4,0)),\"未登録\",VLOOKUP($E81,新規登録!$B:$I,4,0)),(VLOOKUP($E81,氏名ﾃﾞｰﾀ!$B:$J,4,0))))","v":""},{"$f":"IF($E81=\"\",\"\",IF(ISERROR(VLOOKUP($E81,氏名ﾃﾞｰﾀ!$B:$J,5,0)),IF(ISERROR(VLOOKUP($E81,新規登録!$B:$I,5,0)),\"未登録\",VLOOKUP($E81,新規登録!$B:$I,5,0)),(VLOOKUP($E81,氏名ﾃﾞｰﾀ!$B:$J,5,0))))","v":""},{"$f":"IF($E81=\"\",\"\",IF(ISERROR(VLOOKUP($E81,氏名ﾃﾞｰﾀ!$B:$J,8,0)),IF(ISERROR(VLOOKUP($E81,新規登録!$B:$I,6,0)),\"未登録\",VLOOKUP($E81,新規登録!$B:$I,6,0)),(VLOOKUP($E81,氏名ﾃﾞｰﾀ!$B:$J,8,0))))","v":""},{"$f":"IF($E81=\"\",\"\",IF(ISERROR(VLOOKUP($E81,氏名ﾃﾞｰﾀ!$B:$J,7,0)),IF(ISERROR(VLOOKUP($E81,新規登録!$B:$I,7,0)),\"未登録\",VLOOKUP($E81,新規登録!$B:$I,7,0)),$G$3))","v":""},{"$f":"IF($E81=\"\",\"\",IF(ISERROR(VLOOKUP($E81,氏名ﾃﾞｰﾀ!$B:$J,6,0)),IF(ISERROR(VLOOKUP($E81,新規登録!$B:$I,8,0)),\"ﾅｼ\",VLOOKUP($E81,新規登録!$B:$I,8,0)),(VLOOKUP($E81,氏名ﾃﾞｰﾀ!$B:$J,6,0))))","v":""},{"$f":"IF($E81=\"\",\"\",IF(ISERROR(VLOOKUP($E81,氏名ﾃﾞｰﾀ!$B:$J,9,0)),IF(ISERROR(VLOOKUP($E81,新規登録!$B:$I,9,0)),\"未登録\",VLOOKUP($E81,新規登録!$B:$I,9,0)),(VLOOKUP($E81,氏名ﾃﾞｰﾀ!$B:$J,9,0))))","v":""},null,null,null,null,null,null,null,null,null,null,null,null,null,null,null,null,null,null,null,null,2,{"$f":"IF(N81=\"\",\"\",VLOOKUP(N81,ﾃﾞｰﾀ!A:D,4,0))","v":""},"秒",{"$f":"IF(AE81=\"\",CONCATENATE(AF81,\"秒\",AG81),CONCATENATE(IF(LEN(AE81)=1,CONCATENATE(\"0\",AE81),AE81),\"分\",IF(LEN(AF81)=1,CONCATENATE(\"0\",AF81),AF81),\"秒\",IF(LEN(AG81)=1,CONCATENATE(AG81,\"0\"),AG81)))","v":"秒"}]
["","",{"$f":"IF(E82=\"\",\"\",IF(AH82=1,COUNTIF(AH$16:AH82,1)*10+2001-10,COUNTIF(AH$16:AH82,2)*10+6001-10))","v":""},67,null,{"$f":"IF($E82=\"\",\"\",IF(ISERROR(VLOOKUP($E82,氏名ﾃﾞｰﾀ!$B:$J,2,0)),IF(ISERROR(VLOOKUP($E82,新規登録!$B:$I,2,0)),\"未登録\",VLOOKUP($E82,新規登録!$B:$I,2,0)),(VLOOKUP($E82,氏名ﾃﾞｰﾀ!$B:$J,2,0))))","v":""},{"$f":"IF($E82=\"\",\"\",IF(ISERROR(VLOOKUP($E82,氏名ﾃﾞｰﾀ!$B:$J,3,0)),IF(ISERROR(VLOOKUP($E82,新規登録!$B:$I,3,0)),\"未登録\",VLOOKUP($E82,新規登録!$B:$I,3,0)),(VLOOKUP($E82,氏名ﾃﾞｰﾀ!$B:$J,3,0))))","v":""},{"$f":"IF($E82=\"\",\"\",IF(ISERROR(VLOOKUP($E82,氏名ﾃﾞｰﾀ!$B:$J,4,0)),IF(ISERROR(VLOOKUP($E82,新規登録!$B:$I,4,0)),\"未登録\",VLOOKUP($E82,新規登録!$B:$I,4,0)),(VLOOKUP($E82,氏名ﾃﾞｰﾀ!$B:$J,4,0))))","v":""},{"$f":"IF($E82=\"\",\"\",IF(ISERROR(VLOOKUP($E82,氏名ﾃﾞｰﾀ!$B:$J,5,0)),IF(ISERROR(VLOOKUP($E82,新規登録!$B:$I,5,0)),\"未登録\",VLOOKUP($E82,新規登録!$B:$I,5,0)),(VLOOKUP($E82,氏名ﾃﾞｰﾀ!$B:$J,5,0))))","v":""},{"$f":"IF($E82=\"\",\"\",IF(ISERROR(VLOOKUP($E82,氏名ﾃﾞｰﾀ!$B:$J,8,0)),IF(ISERROR(VLOOKUP($E82,新規登録!$B:$I,6,0)),\"未登録\",VLOOKUP($E82,新規登録!$B:$I,6,0)),(VLOOKUP($E82,氏名ﾃﾞｰﾀ!$B:$J,8,0))))","v":""},{"$f":"IF($E82=\"\",\"\",IF(ISERROR(VLOOKUP($E82,氏名ﾃﾞｰﾀ!$B:$J,7,0)),IF(ISERROR(VLOOKUP($E82,新規登録!$B:$I,7,0)),\"未登録\",VLOOKUP($E82,新規登録!$B:$I,7,0)),$G$3))","v":""},{"$f":"IF($E82=\"\",\"\",IF(ISERROR(VLOOKUP($E82,氏名ﾃﾞｰﾀ!$B:$J,6,0)),IF(ISERROR(VLOOKUP($E82,新規登録!$B:$I,8,0)),\"ﾅｼ\",VLOOKUP($E82,新規登録!$B:$I,8,0)),(VLOOKUP($E82,氏名ﾃﾞｰﾀ!$B:$J,6,0))))","v":""},{"$f":"IF($E82=\"\",\"\",IF(ISERROR(VLOOKUP($E82,氏名ﾃﾞｰﾀ!$B:$J,9,0)),IF(ISERROR(VLOOKUP($E82,新規登録!$B:$I,9,0)),\"未登録\",VLOOKUP($E82,新規登録!$B:$I,9,0)),(VLOOKUP($E82,氏名ﾃﾞｰﾀ!$B:$J,9,0))))","v":""},null,null,null,null,null,null,null,null,null,null,null,null,null,null,null,null,null,null,null,null,2,{"$f":"IF(N82=\"\",\"\",VLOOKUP(N82,ﾃﾞｰﾀ!A:D,4,0))","v":""},"秒","秒"]
["","",{"$f":"IF(E83=\"\",\"\",IF(AH83=1,COUNTIF(AH$16:AH83,1)*10+2001-10,COUNTIF(AH$16:AH83,2)*10+6001-10))","v":""},68,null,{"$f":"IF($E83=\"\",\"\",IF(ISERROR(VLOOKUP($E83,氏名ﾃﾞｰﾀ!$B:$J,2,0)),IF(ISERROR(VLOOKUP($E83,新規登録!$B:$I,2,0)),\"未登録\",VLOOKUP($E83,新規登録!$B:$I,2,0)),(VLOOKUP($E83,氏名ﾃﾞｰﾀ!$B:$J,2,0))))","v":""},{"$f":"IF($E83=\"\",\"\",IF(ISERROR(VLOOKUP($E83,氏名ﾃﾞｰﾀ!$B:$J,3,0)),IF(ISERROR(VLOOKUP($E83,新規登録!$B:$I,3,0)),\"未登録\",VLOOKUP($E83,新規登録!$B:$I,3,0)),(VLOOKUP($E83,氏名ﾃﾞｰﾀ!$B:$J,3,0))))","v":""},{"$f":"IF($E83=\"\",\"\",IF(ISERROR(VLOOKUP($E83,氏名ﾃﾞｰﾀ!$B:$J,4,0)),IF(ISERROR(VLOOKUP($E83,新規登録!$B:$I,4,0)),\"未登録\",VLOOKUP($E83,新規登録!$B:$I,4,0)),(VLOOKUP($E83,氏名ﾃﾞｰﾀ!$B:$J,4,0))))","v":""},{"$f":"IF($E83=\"\",\"\",IF(ISERROR(VLOOKUP($E83,氏名ﾃﾞｰﾀ!$B:$J,5,0)),IF(ISERROR(VLOOKUP($E83,新規登録!$B:$I,5,0)),\"未登録\",VLOOKUP($E83,新規登録!$B:$I,5,0)),(VLOOKUP($E83,氏名ﾃﾞｰﾀ!$B:$J,5,0))))","v":""},{"$f":"IF($E83=\"\",\"\",IF(ISERROR(VLOOKUP($E83,氏名ﾃﾞｰﾀ!$B:$J,8,0)),IF(ISERROR(VLOOKUP($E83,新規登録!$B:$I,6,0)),\"未登録\",VLOOKUP($E83,新規登録!$B:$I,6,0)),(VLOOKUP($E83,氏名ﾃﾞｰﾀ!$B:$J,8,0))))","v":""},{"$f":"IF($E83=\"\",\"\",IF(ISERROR(VLOOKUP($E83,氏名ﾃﾞｰﾀ!$B:$J,7,0)),IF(ISERROR(VLOOKUP($E83,新規登録!$B:$I,7,0)),\"未登録\",VLOOKUP($E83,新規登録!$B:$I,7,0)),$G$3))","v":""},{"$f":"IF($E83=\"\",\"\",IF(ISERROR(VLOOKUP($E83,氏名ﾃﾞｰﾀ!$B:$J,6,0)),IF(ISERROR(VLOOKUP($E83,新規登録!$B:$I,8,0)),\"ﾅｼ\",VLOOKUP($E83,新規登録!$B:$I,8,0)),(VLOOKUP($E83,氏名ﾃﾞｰﾀ!$B:$J,6,0))))","v":""},{"$f":"IF($E83=\"\",\"\",IF(ISERROR(VLOOKUP($E83,氏名ﾃﾞｰﾀ!$B:$J,9,0)),IF(ISERROR(VLOOKUP($E83,新規登録!$B:$I,9,0)),\"未登録\",VLOOKUP($E83,新規登録!$B:$I,9,0)),(VLOOKUP($E83,氏名ﾃﾞｰﾀ!$B:$J,9,0))))","v":""},null,null,null,null,null,null,null,null,null,null,null,null,null,null,null,null,null,null,null,null,2,{"$f":"IF(N83=\"\",\"\",VLOOKUP(N83,ﾃﾞｰﾀ!A:D,4,0))","v":""},"秒","秒"]
["","",{"$f":"IF(E84=\"\",\"\",IF(AH84=1,COUNTIF(AH$16:AH84,1)*10+2001-10,COUNTIF(AH$16:AH84,2)*10+6001-10))","v":""},69,null,{"$f":"IF($E84=\"\",\"\",IF(ISERROR(VLOOKUP($E84,氏名ﾃﾞｰﾀ!$B:$J,2,0)),IF(ISERROR(VLOOKUP($E84,新規登録!$B:$I,2,0)),\"未登録\",VLOOKUP($E84,新規登録!$B:$I,2,0)),(VLOOKUP($E84,氏名ﾃﾞｰﾀ!$B:$J,2,0))))","v":""},{"$f":"IF($E84=\"\",\"\",IF(ISERROR(VLOOKUP($E84,氏名ﾃﾞｰﾀ!$B:$J,3,0)),IF(ISERROR(VLOOKUP($E84,新規登録!$B:$I,3,0)),\"未登録\",VLOOKUP($E84,新規登録!$B:$I,3,0)),(VLOOKUP($E84,氏名ﾃﾞｰﾀ!$B:$J,3,0))))","v":""},{"$f":"IF($E84=\"\",\"\",IF(ISERROR(VLOOKUP($E84,氏名ﾃﾞｰﾀ!$B:$J,4,0)),IF(ISERROR(VLOOKUP($E84,新規登録!$B:$I,4,0)),\"未登録\",VLOOKUP($E84,新規登録!$B:$I,4,0)),(VLOOKUP($E84,氏名ﾃﾞｰﾀ!$B:$J,4,0))))","v":""},{"$f":"IF($E84=\"\",\"\",IF(ISERROR(VLOOKUP($E84,氏名ﾃﾞｰﾀ!$B:$J,5,0)),IF(ISERROR(VLOOKUP($E84,新規登録!$B:$I,5,0)),\"未登録\",VLOOKUP($E84,新規登録!$B:$I,5,0)),(VLOOKUP($E84,氏名ﾃﾞｰﾀ!$B:$J,5,0))))","v":""},{"$f":"IF($E84=\"\",\"\",IF(ISERROR(VLOOKUP($E84,氏名ﾃﾞｰﾀ!$B:$J,8,0)),IF(ISERROR(VLOOKUP($E84,新規登録!$B:$I,6,0)),\"未登録\",VLOOKUP($E84,新規登録!$B:$I,6,0)),(VLOOKUP($E84,氏名ﾃﾞｰﾀ!$B:$J,8,0))))","v":""},{"$f":"IF($E84=\"\",\"\",IF(ISERROR(VLOOKUP($E84,氏名ﾃﾞｰﾀ!$B:$J,7,0)),IF(ISERROR(VLOOKUP($E84,新規登録!$B:$I,7,0)),\"未登録\",VLOOKUP($E84,新規登録!$B:$I,7,0)),$G$3))","v":""},{"$f":"IF($E84=\"\",\"\",IF(ISERROR(VLOOKUP($E84,氏名ﾃﾞｰﾀ!$B:$J,6,0)),IF(ISERROR(VLOOKUP($E84,新規登録!$B:$I,8,0)),\"ﾅｼ\",VLOOKUP($E84,新規登録!$B:$I,8,0)),(VLOOKUP($E84,氏名ﾃﾞｰﾀ!$B:$J,6,0))))","v":""},{"$f":"IF($E84=\"\",\"\",IF(ISERROR(VLOOKUP($E84,氏名ﾃﾞｰﾀ!$B:$J,9,0)),IF(ISERROR(VLOOKUP($E84,新規登録!$B:$I,9,0)),\"未登録\",VLOOKUP($E84,新規登録!$B:$I,9,0)),(VLOOKUP($E84,氏名ﾃﾞｰﾀ!$B:$J,9,0))))","v":""},null,null,null,null,null,null,null,null,null,null,null,null,null,null,null,null,null,null,null,null,2,{"$f":"IF(N84=\"\",\"\",VLOOKUP(N84,ﾃﾞｰﾀ!A:D,4,0))","v":""},"秒","秒"]
["","",{"$f":"IF(E85=\"\",\"\",IF(AH85=1,COUNTIF(AH$16:AH85,1)*10+2001-10,COUNTIF(AH$16:AH85,2)*10+6001-10))","v":""},70,null,{"$f":"IF($E85=\"\",\"\",IF(ISERROR(VLOOKUP($E85,氏名ﾃﾞｰﾀ!$B:$J,2,0)),IF(ISERROR(VLOOKUP($E85,新規登録!$B:$I,2,0)),\"未登録\",VLOOKUP($E85,新規登録!$B:$I,2,0)),(VLOOKUP($E85,氏名ﾃﾞｰﾀ!$B:$J,2,0))))","v":""},{"$f":"IF($E85=\"\",\"\",IF(ISERROR(VLOOKUP($E85,氏名ﾃﾞｰﾀ!$B:$J,3,0)),IF(ISERROR(VLOOKUP($E85,新規登録!$B:$I,3,0)),\"未登録\",VLOOKUP($E85,新規登録!$B:$I,3,0)),(VLOOKUP($E85,氏名ﾃﾞｰﾀ!$B:$J,3,0))))","v":""},{"$f":"IF($E85=\"\",\"\",IF(ISERROR(VLOOKUP($E85,氏名ﾃﾞｰﾀ!$B:$J,4,0)),IF(ISERROR(VLOOKUP($E85,新規登録!$B:$I,4,0)),\"未登録\",VLOOKUP($E85,新規登録!$B:$I,4,0)),(VLOOKUP($E85,氏名ﾃﾞｰﾀ!$B:$J,4,0))))","v":""},{"$f":"IF($E85=\"\",\"\",IF(ISERROR(VLOOKUP($E85,氏名ﾃﾞｰﾀ!$B:$J,5,0)),IF(ISERROR(VLOOKUP($E85,新規登録!$B:$I,5,0)),\"未登録\",VLOOKUP($E85,新規登録!$B:$I,5,0)),(VLOOKUP($E85,氏名ﾃﾞｰﾀ!$B:$J,5,0))))","v":""},{"$f":"IF($E85=\"\",\"\",IF(ISERROR(VLOOKUP($E85,氏名ﾃﾞｰﾀ!$B:$J,8,0)),IF(ISERROR(VLOOKUP($E85,新規登録!$B:$I,6,0)),\"未登録\",VLOOKUP($E85,新規登録!$B:$I,6,0)),(VLOOKUP($E85,氏名ﾃﾞｰﾀ!$B:$J,8,0))))","v":""},{"$f":"IF($E85=\"\",\"\",IF(ISERROR(VLOOKUP($E85,氏名ﾃﾞｰﾀ!$B:$J,7,0)),IF(ISERROR(VLOOKUP($E85,新規登録!$B:$I,7,0)),\"未登録\",VLOOKUP($E85,新規登録!$B:$I,7,0)),$G$3))","v":""},{"$f":"IF($E85=\"\",\"\",IF(ISERROR(VLOOKUP($E85,氏名ﾃﾞｰﾀ!$B:$J,6,0)),IF(ISERROR(VLOOKUP($E85,新規登録!$B:$I,8,0)),\"ﾅｼ\",VLOOKUP($E85,新規登録!$B:$I,8,0)),(VLOOKUP($E85,氏名ﾃﾞｰﾀ!$B:$J,6,0))))","v":""},{"$f":"IF($E85=\"\",\"\",IF(ISERROR(VLOOKUP($E85,氏名ﾃﾞｰﾀ!$B:$J,9,0)),IF(ISERROR(VLOOKUP($E85,新規登録!$B:$I,9,0)),\"未登録\",VLOOKUP($E85,新規登録!$B:$I,9,0)),(VLOOKUP($E85,氏名ﾃﾞｰﾀ!$B:$J,9,0))))","v":""},null,null,null,null,null,null,null,null,null,null,null,null,null,null,null,null,null,null,null,null,2,{"$f":"IF(N85=\"\",\"\",VLOOKUP(N85,ﾃﾞｰﾀ!A:D,4,0))","v":""},"秒","秒"]
["","",{"$f":"IF(E86=\"\",\"\",IF(AH86=1,COUNTIF(AH$16:AH86,1)*10+2001-10,COUNTIF(AH$16:AH86,2)*10+6001-10))","v":""},71,null,{"$f":"IF($E86=\"\",\"\",IF(ISERROR(VLOOKUP($E86,氏名ﾃﾞｰﾀ!$B:$J,2,0)),IF(ISERROR(VLOOKUP($E86,新規登録!$B:$I,2,0)),\"未登録\",VLOOKUP($E86,新規登録!$B:$I,2,0)),(VLOOKUP($E86,氏名ﾃﾞｰﾀ!$B:$J,2,0))))","v":""},{"$f":"IF($E86=\"\",\"\",IF(ISERROR(VLOOKUP($E86,氏名ﾃﾞｰﾀ!$B:$J,3,0)),IF(ISERROR(VLOOKUP($E86,新規登録!$B:$I,3,0)),\"未登録\",VLOOKUP($E86,新規登録!$B:$I,3,0)),(VLOOKUP($E86,氏名ﾃﾞｰﾀ!$B:$J,3,0))))","v":""},{"$f":"IF($E86=\"\",\"\",IF(ISERROR(VLOOKUP($E86,氏名ﾃﾞｰﾀ!$B:$J,4,0)),IF(ISERROR(VLOOKUP($E86,新規登録!$B:$I,4,0)),\"未登録\",VLOOKUP($E86,新規登録!$B:$I,4,0)),(VLOOKUP($E86,氏名ﾃﾞｰﾀ!$B:$J,4,0))))","v":""},{"$f":"IF($E86=\"\",\"\",IF(ISERROR(VLOOKUP($E86,氏名ﾃﾞｰﾀ!$B:$J,5,0)),IF(ISERROR(VLOOKUP($E86,新規登録!$B:$I,5,0)),\"未登録\",VLOOKUP($E86,新規登録!$B:$I,5,0)),(VLOOKUP($E86,氏名ﾃﾞｰﾀ!$B:$J,5,0))))","v":""},{"$f":"IF($E86=\"\",\"\",IF(ISERROR(VLOOKUP($E86,氏名ﾃﾞｰﾀ!$B:$J,8,0)),IF(ISERROR(VLOOKUP($E86,新規登録!$B:$I,6,0)),\"未登録\",VLOOKUP($E86,新規登録!$B:$I,6,0)),(VLOOKUP($E86,氏名ﾃﾞｰﾀ!$B:$J,8,0))))","v":""},{"$f":"IF($E86=\"\",\"\",IF(ISERROR(VLOOKUP($E86,氏名ﾃﾞｰﾀ!$B:$J,7,0)),IF(ISERROR(VLOOKUP($E86,新規登録!$B:$I,7,0)),\"未登録\",VLOOKUP($E86,新規登録!$B:$I,7,0)),$G$3))","v":""},{"$f":"IF($E86=\"\",\"\",IF(ISERROR(VLOOKUP($E86,氏名ﾃﾞｰﾀ!$B:$J,6,0)),IF(ISERROR(VLOOKUP($E86,新規登録!$B:$I,8,0)),\"ﾅｼ\",VLOOKUP($E86,新規登録!$B:$I,8,0)),(VLOOKUP($E86,氏名ﾃﾞｰﾀ!$B:$J,6,0))))","v":""},{"$f":"IF($E86=\"\",\"\",IF(ISERROR(VLOOKUP($E86,氏名ﾃﾞｰﾀ!$B:$J,9,0)),IF(ISERROR(VLOOKUP($E86,新規登録!$B:$I,9,0)),\"未登録\",VLOOKUP($E86,新規登録!$B:$I,9,0)),(VLOOKUP($E86,氏名ﾃﾞｰﾀ!$B:$J,9,0))))","v":""},null,null,null,null,null,null,null,null,null,null,null,null,null,null,null,null,null,null,null,null,2,{"$f":"IF(N86=\"\",\"\",VLOOKUP(N86,ﾃﾞｰﾀ!A:D,4,0))","v":""},"秒","秒"]
["","",{"$f":"IF(E87=\"\",\"\",IF(AH87=1,COUNTIF(AH$16:AH87,1)*10+2001-10,COUNTIF(AH$16:AH87,2)*10+6001-10))","v":""},72,null,{"$f":"IF($E87=\"\",\"\",IF(ISERROR(VLOOKUP($E87,氏名ﾃﾞｰﾀ!$B:$J,2,0)),IF(ISERROR(VLOOKUP($E87,新規登録!$B:$I,2,0)),\"未登録\",VLOOKUP($E87,新規登録!$B:$I,2,0)),(VLOOKUP($E87,氏名ﾃﾞｰﾀ!$B:$J,2,0))))","v":""},{"$f":"IF($E87=\"\",\"\",IF(ISERROR(VLOOKUP($E87,氏名ﾃﾞｰﾀ!$B:$J,3,0)),IF(ISERROR(VLOOKUP($E87,新規登録!$B:$I,3,0)),\"未登録\",VLOOKUP($E87,新規登録!$B:$I,3,0)),(VLOOKUP($E87,氏名ﾃﾞｰﾀ!$B:$J,3,0))))","v":""},{"$f":"IF($E87=\"\",\"\",IF(ISERROR(VLOOKUP($E87,氏名ﾃﾞｰﾀ!$B:$J,4,0)),IF(ISERROR(VLOOKUP($E87,新規登録!$B:$I,4,0)),\"未登録\",VLOOKUP($E87,新規登録!$B:$I,4,0)),(VLOOKUP($E87,氏名ﾃﾞｰﾀ!$B:$J,4,0))))","v":""},{"$f":"IF($E87=\"\",\"\",IF(ISERROR(VLOOKUP($E87,氏名ﾃﾞｰﾀ!$B:$J,5,0)),IF(ISERROR(VLOOKUP($E87,新規登録!$B:$I,5,0)),\"未登録\",VLOOKUP($E87,新規登録!$B:$I,5,0)),(VLOOKUP($E87,氏名ﾃﾞｰﾀ!$B:$J,5,0))))","v":""},{"$f":"IF($E87=\"\",\"\",IF(ISERROR(VLOOKUP($E87,氏名ﾃﾞｰﾀ!$B:$J,8,0)),IF(ISERROR(VLOOKUP($E87,新規登録!$B:$I,6,0)),\"未登録\",VLOOKUP($E87,新規登録!$B:$I,6,0)),(VLOOKUP($E87,氏名ﾃﾞｰﾀ!$B:$J,8,0))))","v":""},{"$f":"IF($E87=\"\",\"\",IF(ISERROR(VLOOKUP($E87,氏名ﾃﾞｰﾀ!$B:$J,7,0)),IF(ISERROR(VLOOKUP($E87,新規登録!$B:$I,7,0)),\"未登録\",VLOOKUP($E87,新規登録!$B:$I,7,0)),$G$3))","v":""},{"$f":"IF($E87=\"\",\"\",IF(ISERROR(VLOOKUP($E87,氏名ﾃﾞｰﾀ!$B:$J,6,0)),IF(ISERROR(VLOOKUP($E87,新規登録!$B:$I,8,0)),\"ﾅｼ\",VLOOKUP($E87,新規登録!$B:$I,8,0)),(VLOOKUP($E87,氏名ﾃﾞｰﾀ!$B:$J,6,0))))","v":""},{"$f":"IF($E87=\"\",\"\",IF(ISERROR(VLOOKUP($E87,氏名ﾃﾞｰﾀ!$B:$J,9,0)),IF(ISERROR(VLOOKUP($E87,新規登録!$B:$I,9,0)),\"未登録\",VLOOKUP($E87,新規登録!$B:$I,9,0)),(VLOOKUP($E87,氏名ﾃﾞｰﾀ!$B:$J,9,0))))","v":""},null,null,null,null,null,null,null,null,null,null,null,null,null,null,null,null,null,null,null,null,2,{"$f":"IF(N87=\"\",\"\",VLOOKUP(N87,ﾃﾞｰﾀ!A:D,4,0))","v":""},"秒","秒"]
["","",{"$f":"IF(E88=\"\",\"\",IF(AH88=1,COUNTIF(AH$16:AH88,1)*10+2001-10,COUNTIF(AH$16:AH88,2)*10+6001-10))","v":""},73,null,{"$f":"IF($E88=\"\",\"\",IF(ISERROR(VLOOKUP($E88,氏名ﾃﾞｰﾀ!$B:$J,2,0)),IF(ISERROR(VLOOKUP($E88,新規登録!$B:$I,2,0)),\"未登録\",VLOOKUP($E88,新規登録!$B:$I,2,0)),(VLOOKUP($E88,氏名ﾃﾞｰﾀ!$B:$J,2,0))))","v":""},{"$f":"IF($E88=\"\",\"\",IF(ISERROR(VLOOKUP($E88,氏名ﾃﾞｰﾀ!$B:$J,3,0)),IF(ISERROR(VLOOKUP($E88,新規登録!$B:$I,3,0)),\"未登録\",VLOOKUP($E88,新規登録!$B:$I,3,0)),(VLOOKUP($E88,氏名ﾃﾞｰﾀ!$B:$J,3,0))))","v":""},{"$f":"IF($E88=\"\",\"\",IF(ISERROR(VLOOKUP($E88,氏名ﾃﾞｰﾀ!$B:$J,4,0)),IF(ISERROR(VLOOKUP($E88,新規登録!$B:$I,4,0)),\"未登録\",VLOOKUP($E88,新規登録!$B:$I,4,0)),(VLOOKUP($E88,氏名ﾃﾞｰﾀ!$B:$J,4,0))))","v":""},{"$f":"IF($E88=\"\",\"\",IF(ISERROR(VLOOKUP($E88,氏名ﾃﾞｰﾀ!$B:$J,5,0)),IF(ISERROR(VLOOKUP($E88,新規登録!$B:$I,5,0)),\"未登録\",VLOOKUP($E88,新規登録!$B:$I,5,0)),(VLOOKUP($E88,氏名ﾃﾞｰﾀ!$B:$J,5,0))))","v":""},{"$f":"IF($E88=\"\",\"\",IF(ISERROR(VLOOKUP($E88,氏名ﾃﾞｰﾀ!$B:$J,8,0)),IF(ISERROR(VLOOKUP($E88,新規登録!$B:$I,6,0)),\"未登録\",VLOOKUP($E88,新規登録!$B:$I,6,0)),(VLOOKUP($E88,氏名ﾃﾞｰﾀ!$B:$J,8,0))))","v":""},{"$f":"IF($E88=\"\",\"\",IF(ISERROR(VLOOKUP($E88,氏名ﾃﾞｰﾀ!$B:$J,7,0)),IF(ISERROR(VLOOKUP($E88,新規登録!$B:$I,7,0)),\"未登録\",VLOOKUP($E88,新規登録!$B:$I,7,0)),$G$3))","v":""},{"$f":"IF($E88=\"\",\"\",IF(ISERROR(VLOOKUP($E88,氏名ﾃﾞｰﾀ!$B:$J,6,0)),IF(ISERROR(VLOOKUP($E88,新規登録!$B:$I,8,0)),\"ﾅｼ\",VLOOKUP($E88,新規登録!$B:$I,8,0)),(VLOOKUP($E88,氏名ﾃﾞｰﾀ!$B:$J,6,0))))","v":""},{"$f":"IF($E88=\"\",\"\",IF(ISERROR(VLOOKUP($E88,氏名ﾃﾞｰﾀ!$B:$J,9,0)),IF(ISERROR(VLOOKUP($E88,新規登録!$B:$I,9,0)),\"未登録\",VLOOKUP($E88,新規登録!$B:$I,9,0)),(VLOOKUP($E88,氏名ﾃﾞｰﾀ!$B:$J,9,0))))","v":""},null,null,null,null,null,null,null,null,null,null,null,null,null,null,null,null,null,null,null,null,2,{"$f":"IF(N88=\"\",\"\",VLOOKUP(N88,ﾃﾞｰﾀ!A:D,4,0))","v":""},"秒","秒"]
["","",{"$f":"IF(E89=\"\",\"\",IF(AH89=1,COUNTIF(AH$16:AH89,1)*10+2001-10,COUNTIF(AH$16:AH89,2)*10+6001-10))","v":""},74,null,{"$f":"IF($E89=\"\",\"\",IF(ISERROR(VLOOKUP($E89,氏名ﾃﾞｰﾀ!$B:$J,2,0)),IF(ISERROR(VLOOKUP($E89,新規登録!$B:$I,2,0)),\"未登録\",VLOOKUP($E89,新規登録!$B:$I,2,0)),(VLOOKUP($E89,氏名ﾃﾞｰﾀ!$B:$J,2,0))))","v":""},{"$f":"IF($E89=\"\",\"\",IF(ISERROR(VLOOKUP($E89,氏名ﾃﾞｰﾀ!$B:$J,3,0)),IF(ISERROR(VLOOKUP($E89,新規登録!$B:$I,3,0)),\"未登録\",VLOOKUP($E89,新規登録!$B:$I,3,0)),(VLOOKUP($E89,氏名ﾃﾞｰﾀ!$B:$J,3,0))))","v":""},{"$f":"IF($E89=\"\",\"\",IF(ISERROR(VLOOKUP($E89,氏名ﾃﾞｰﾀ!$B:$J,4,0)),IF(ISERROR(VLOOKUP($E89,新規登録!$B:$I,4,0)),\"未登録\",VLOOKUP($E89,新規登録!$B:$I,4,0)),(VLOOKUP($E89,氏名ﾃﾞｰﾀ!$B:$J,4,0))))","v":""},{"$f":"IF($E89=\"\",\"\",IF(ISERROR(VLOOKUP($E89,氏名ﾃﾞｰﾀ!$B:$J,5,0)),IF(ISERROR(VLOOKUP($E89,新規登録!$B:$I,5,0)),\"未登録\",VLOOKUP($E89,新規登録!$B:$I,5,0)),(VLOOKUP($E89,氏名ﾃﾞｰﾀ!$B:$J,5,0))))","v":""},{"$f":"IF($E89=\"\",\"\",IF(ISERROR(VLOOKUP($E89,氏名ﾃﾞｰﾀ!$B:$J,8,0)),IF(ISERROR(VLOOKUP($E89,新規登録!$B:$I,6,0)),\"未登録\",VLOOKUP($E89,新規登録!$B:$I,6,0)),(VLOOKUP($E89,氏名ﾃﾞｰﾀ!$B:$J,8,0))))","v":""},{"$f":"IF($E89=\"\",\"\",IF(ISERROR(VLOOKUP($E89,氏名ﾃﾞｰﾀ!$B:$J,7,0)),IF(ISERROR(VLOOKUP($E89,新規登録!$B:$I,7,0)),\"未登録\",VLOOKUP($E89,新規登録!$B:$I,7,0)),$G$3))","v":""},{"$f":"IF($E89=\"\",\"\",IF(ISERROR(VLOOKUP($E89,氏名ﾃﾞｰﾀ!$B:$J,6,0)),IF(ISERROR(VLOOKUP($E89,新規登録!$B:$I,8,0)),\"ﾅｼ\",VLOOKUP($E89,新規登録!$B:$I,8,0)),(VLOOKUP($E89,氏名ﾃﾞｰﾀ!$B:$J,6,0))))","v":""},{"$f":"IF($E89=\"\",\"\",IF(ISERROR(VLOOKUP($E89,氏名ﾃﾞｰﾀ!$B:$J,9,0)),IF(ISERROR(VLOOKUP($E89,新規登録!$B:$I,9,0)),\"未登録\",VLOOKUP($E89,新規登録!$B:$I,9,0)),(VLOOKUP($E89,氏名ﾃﾞｰﾀ!$B:$J,9,0))))","v":""},null,null,null,null,null,null,null,null,null,null,null,null,null,null,null,null,null,null,null,null,2,{"$f":"IF(N89=\"\",\"\",VLOOKUP(N89,ﾃﾞｰﾀ!A:D,4,0))","v":""},"秒","秒"]
["","",{"$f":"IF(E90=\"\",\"\",IF(AH90=1,COUNTIF(AH$16:AH90,1)*10+2001-10,COUNTIF(AH$16:AH90,2)*10+6001-10))","v":""},75,null,{"$f":"IF($E90=\"\",\"\",IF(ISERROR(VLOOKUP($E90,氏名ﾃﾞｰﾀ!$B:$J,2,0)),IF(ISERROR(VLOOKUP($E90,新規登録!$B:$I,2,0)),\"未登録\",VLOOKUP($E90,新規登録!$B:$I,2,0)),(VLOOKUP($E90,氏名ﾃﾞｰﾀ!$B:$J,2,0))))","v":""},{"$f":"IF($E90=\"\",\"\",IF(ISERROR(VLOOKUP($E90,氏名ﾃﾞｰﾀ!$B:$J,3,0)),IF(ISERROR(VLOOKUP($E90,新規登録!$B:$I,3,0)),\"未登録\",VLOOKUP($E90,新規登録!$B:$I,3,0)),(VLOOKUP($E90,氏名ﾃﾞｰﾀ!$B:$J,3,0))))","v":""},{"$f":"IF($E90=\"\",\"\",IF(ISERROR(VLOOKUP($E90,氏名ﾃﾞｰﾀ!$B:$J,4,0)),IF(ISERROR(VLOOKUP($E90,新規登録!$B:$I,4,0)),\"未登録\",VLOOKUP($E90,新規登録!$B:$I,4,0)),(VLOOKUP($E90,氏名ﾃﾞｰﾀ!$B:$J,4,0))))","v":""},{"$f":"IF($E90=\"\",\"\",IF(ISERROR(VLOOKUP($E90,氏名ﾃﾞｰﾀ!$B:$J,5,0)),IF(ISERROR(VLOOKUP($E90,新規登録!$B:$I,5,0)),\"未登録\",VLOOKUP($E90,新規登録!$B:$I,5,0)),(VLOOKUP($E90,氏名ﾃﾞｰﾀ!$B:$J,5,0))))","v":""},{"$f":"IF($E90=\"\",\"\",IF(ISERROR(VLOOKUP($E90,氏名ﾃﾞｰﾀ!$B:$J,8,0)),IF(ISERROR(VLOOKUP($E90,新規登録!$B:$I,6,0)),\"未登録\",VLOOKUP($E90,新規登録!$B:$I,6,0)),(VLOOKUP($E90,氏名ﾃﾞｰﾀ!$B:$J,8,0))))","v":""},{"$f":"IF($E90=\"\",\"\",IF(ISERROR(VLOOKUP($E90,氏名ﾃﾞｰﾀ!$B:$J,7,0)),IF(ISERROR(VLOOKUP($E90,新規登録!$B:$I,7,0)),\"未登録\",VLOOKUP($E90,新規登録!$B:$I,7,0)),$G$3))","v":""},{"$f":"IF($E90=\"\",\"\",IF(ISERROR(VLOOKUP($E90,氏名ﾃﾞｰﾀ!$B:$J,6,0)),IF(ISERROR(VLOOKUP($E90,新規登録!$B:$I,8,0)),\"ﾅｼ\",VLOOKUP($E90,新規登録!$B:$I,8,0)),(VLOOKUP($E90,氏名ﾃﾞｰﾀ!$B:$J,6,0))))","v":""},{"$f":"IF($E90=\"\",\"\",IF(ISERROR(VLOOKUP($E90,氏名ﾃﾞｰﾀ!$B:$J,9,0)),IF(ISERROR(VLOOKUP($E90,新規登録!$B:$I,9,0)),\"未登録\",VLOOKUP($E90,新規登録!$B:$I,9,0)),(VLOOKUP($E90,氏名ﾃﾞｰﾀ!$B:$J,9,0))))","v":""},null,null,null,null,null,null,null,null,null,null,null,null,null,null,null,null,null,null,null,null,2,{"$f":"IF(N90=\"\",\"\",VLOOKUP(N90,ﾃﾞｰﾀ!A:D,4,0))","v":""},"秒","秒"]
["","",{"$f":"IF(E91=\"\",\"\",IF(AH91=1,COUNTIF(AH$16:AH91,1)*10+2001-10,COUNTIF(AH$16:AH91,2)*10+6001-10))","v":""},76,null,{"$f":"IF($E91=\"\",\"\",IF(ISERROR(VLOOKUP($E91,氏名ﾃﾞｰﾀ!$B:$J,2,0)),IF(ISERROR(VLOOKUP($E91,新規登録!$B:$I,2,0)),\"未登録\",VLOOKUP($E91,新規登録!$B:$I,2,0)),(VLOOKUP($E91,氏名ﾃﾞｰﾀ!$B:$J,2,0))))","v":""},{"$f":"IF($E91=\"\",\"\",IF(ISERROR(VLOOKUP($E91,氏名ﾃﾞｰﾀ!$B:$J,3,0)),IF(ISERROR(VLOOKUP($E91,新規登録!$B:$I,3,0)),\"未登録\",VLOOKUP($E91,新規登録!$B:$I,3,0)),(VLOOKUP($E91,氏名ﾃﾞｰﾀ!$B:$J,3,0))))","v":""},{"$f":"IF($E91=\"\",\"\",IF(ISERROR(VLOOKUP($E91,氏名ﾃﾞｰﾀ!$B:$J,4,0)),IF(ISERROR(VLOOKUP($E91,新規登録!$B:$I,4,0)),\"未登録\",VLOOKUP($E91,新規登録!$B:$I,4,0)),(VLOOKUP($E91,氏名ﾃﾞｰﾀ!$B:$J,4,0))))","v":""},{"$f":"IF($E91=\"\",\"\",IF(ISERROR(VLOOKUP($E91,氏名ﾃﾞｰﾀ!$B:$J,5,0)),IF(ISERROR(VLOOKUP($E91,新規登録!$B:$I,5,0)),\"未登録\",VLOOKUP($E91,新規登録!$B:$I,5,0)),(VLOOKUP($E91,氏名ﾃﾞｰﾀ!$B:$J,5,0))))","v":""},{"$f":"IF($E91=\"\",\"\",IF(ISERROR(VLOOKUP($E91,氏名ﾃﾞｰﾀ!$B:$J,8,0)),IF(ISERROR(VLOOKUP($E91,新規登録!$B:$I,6,0)),\"未登録\",VLOOKUP($E91,新規登録!$B:$I,6,0)),(VLOOKUP($E91,氏名ﾃﾞｰﾀ!$B:$J,8,0))))","v":""},{"$f":"IF($E91=\"\",\"\",IF(ISERROR(VLOOKUP($E91,氏名ﾃﾞｰﾀ!$B:$J,7,0)),IF(ISERROR(VLOOKUP($E91,新規登録!$B:$I,7,0)),\"未登録\",VLOOKUP($E91,新規登録!$B:$I,7,0)),$G$3))","v":""},{"$f":"IF($E91=\"\",\"\",IF(ISERROR(VLOOKUP($E91,氏名ﾃﾞｰﾀ!$B:$J,6,0)),IF(ISERROR(VLOOKUP($E91,新規登録!$B:$I,8,0)),\"ﾅｼ\",VLOOKUP($E91,新規登録!$B:$I,8,0)),(VLOOKUP($E91,氏名ﾃﾞｰﾀ!$B:$J,6,0))))","v":""},{"$f":"IF($E91=\"\",\"\",IF(ISERROR(VLOOKUP($E91,氏名ﾃﾞｰﾀ!$B:$J,9,0)),IF(ISERROR(VLOOKUP($E91,新規登録!$B:$I,9,0)),\"未登録\",VLOOKUP($E91,新規登録!$B:$I,9,0)),(VLOOKUP($E91,氏名ﾃﾞｰﾀ!$B:$J,9,0))))","v":""},null,null,null,null,null,null,null,null,null,null,null,null,null,null,null,null,null,null,null,null,2,{"$f":"IF(N91=\"\",\"\",VLOOKUP(N91,ﾃﾞｰﾀ!A:D,4,0))","v":""},"秒","秒"]
["","",{"$f":"IF(E92=\"\",\"\",IF(AH92=1,COUNTIF(AH$16:AH92,1)*10+2001-10,COUNTIF(AH$16:AH92,2)*10+6001-10))","v":""},77,null,{"$f":"IF($E92=\"\",\"\",IF(ISERROR(VLOOKUP($E92,氏名ﾃﾞｰﾀ!$B:$J,2,0)),IF(ISERROR(VLOOKUP($E92,新規登録!$B:$I,2,0)),\"未登録\",VLOOKUP($E92,新規登録!$B:$I,2,0)),(VLOOKUP($E92,氏名ﾃﾞｰﾀ!$B:$J,2,0))))","v":""},{"$f":"IF($E92=\"\",\"\",IF(ISERROR(VLOOKUP($E92,氏名ﾃﾞｰﾀ!$B:$J,3,0)),IF(ISERROR(VLOOKUP($E92,新規登録!$B:$I,3,0)),\"未登録\",VLOOKUP($E92,新規登録!$B:$I,3,0)),(VLOOKUP($E92,氏名ﾃﾞｰﾀ!$B:$J,3,0))))","v":""},{"$f":"IF($E92=\"\",\"\",IF(ISERROR(VLOOKUP($E92,氏名ﾃﾞｰﾀ!$B:$J,4,0)),IF(ISERROR(VLOOKUP($E92,新規登録!$B:$I,4,0)),\"未登録\",VLOOKUP($E92,新規登録!$B:$I,4,0)),(VLOOKUP($E92,氏名ﾃﾞｰﾀ!$B:$J,4,0))))","v":""},{"$f":"IF($E92=\"\",\"\",IF(ISERROR(VLOOKUP($E92,氏名ﾃﾞｰﾀ!$B:$J,5,0)),IF(ISERROR(VLOOKUP($E92,新規登録!$B:$I,5,0)),\"未登録\",VLOOKUP($E92,新規登録!$B:$I,5,0)),(VLOOKUP($E92,氏名ﾃﾞｰﾀ!$B:$J,5,0))))","v":""},{"$f":"IF($E92=\"\",\"\",IF(ISERROR(VLOOKUP($E92,氏名ﾃﾞｰﾀ!$B:$J,8,0)),IF(ISERROR(VLOOKUP($E92,新規登録!$B:$I,6,0)),\"未登録\",VLOOKUP($E92,新規登録!$B:$I,6,0)),(VLOOKUP($E92,氏名ﾃﾞｰﾀ!$B:$J,8,0))))","v":""},{"$f":"IF($E92=\"\",\"\",IF(ISERROR(VLOOKUP($E92,氏名ﾃﾞｰﾀ!$B:$J,7,0)),IF(ISERROR(VLOOKUP($E92,新規登録!$B:$I,7,0)),\"未登録\",VLOOKUP($E92,新規登録!$B:$I,7,0)),$G$3))","v":""},{"$f":"IF($E92=\"\",\"\",IF(ISERROR(VLOOKUP($E92,氏名ﾃﾞｰﾀ!$B:$J,6,0)),IF(ISERROR(VLOOKUP($E92,新規登録!$B:$I,8,0)),\"ﾅｼ\",VLOOKUP($E92,新規登録!$B:$I,8,0)),(VLOOKUP($E92,氏名ﾃﾞｰﾀ!$B:$J,6,0))))","v":""},{"$f":"IF($E92=\"\",\"\",IF(ISERROR(VLOOKUP($E92,氏名ﾃﾞｰﾀ!$B:$J,9,0)),IF(ISERROR(VLOOKUP($E92,新規登録!$B:$I,9,0)),\"未登録\",VLOOKUP($E92,新規登録!$B:$I,9,0)),(VLOOKUP($E92,氏名ﾃﾞｰﾀ!$B:$J,9,0))))","v":""},null,null,null,null,null,null,null,null,null,null,null,null,null,null,null,null,null,null,null,null,2,{"$f":"IF(N92=\"\",\"\",VLOOKUP(N92,ﾃﾞｰﾀ!A:D,4,0))","v":""},"秒","秒"]
["","",{"$f":"IF(E93=\"\",\"\",IF(AH93=1,COUNTIF(AH$16:AH93,1)*10+2001-10,COUNTIF(AH$16:AH93,2)*10+6001-10))","v":""},78,null,{"$f":"IF($E93=\"\",\"\",IF(ISERROR(VLOOKUP($E93,氏名ﾃﾞｰﾀ!$B:$J,2,0)),IF(ISERROR(VLOOKUP($E93,新規登録!$B:$I,2,0)),\"未登録\",VLOOKUP($E93,新規登録!$B:$I,2,0)),(VLOOKUP($E93,氏名ﾃﾞｰﾀ!$B:$J,2,0))))","v":""},{"$f":"IF($E93=\"\",\"\",IF(ISERROR(VLOOKUP($E93,氏名ﾃﾞｰﾀ!$B:$J,3,0)),IF(ISERROR(VLOOKUP($E93,新規登録!$B:$I,3,0)),\"未登録\",VLOOKUP($E93,新規登録!$B:$I,3,0)),(VLOOKUP($E93,氏名ﾃﾞｰﾀ!$B:$J,3,0))))","v":""},{"$f":"IF($E93=\"\",\"\",IF(ISERROR(VLOOKUP($E93,氏名ﾃﾞｰﾀ!$B:$J,4,0)),IF(ISERROR(VLOOKUP($E93,新規登録!$B:$I,4,0)),\"未登録\",VLOOKUP($E93,新規登録!$B:$I,4,0)),(VLOOKUP($E93,氏名ﾃﾞｰﾀ!$B:$J,4,0))))","v":""},{"$f":"IF($E93=\"\",\"\",IF(ISERROR(VLOOKUP($E93,氏名ﾃﾞｰﾀ!$B:$J,5,0)),IF(ISERROR(VLOOKUP($E93,新規登録!$B:$I,5,0)),\"未登録\",VLOOKUP($E93,新規登録!$B:$I,5,0)),(VLOOKUP($E93,氏名ﾃﾞｰﾀ!$B:$J,5,0))))","v":""},{"$f":"IF($E93=\"\",\"\",IF(ISERROR(VLOOKUP($E93,氏名ﾃﾞｰﾀ!$B:$J,8,0)),IF(ISERROR(VLOOKUP($E93,新規登録!$B:$I,6,0)),\"未登録\",VLOOKUP($E93,新規登録!$B:$I,6,0)),(VLOOKUP($E93,氏名ﾃﾞｰﾀ!$B:$J,8,0))))","v":""},{"$f":"IF($E93=\"\",\"\",IF(ISERROR(VLOOKUP($E93,氏名ﾃﾞｰﾀ!$B:$J,7,0)),IF(ISERROR(VLOOKUP($E93,新規登録!$B:$I,7,0)),\"未登録\",VLOOKUP($E93,新規登録!$B:$I,7,0)),$G$3))","v":""},{"$f":"IF($E93=\"\",\"\",IF(ISERROR(VLOOKUP($E93,氏名ﾃﾞｰﾀ!$B:$J,6,0)),IF(ISERROR(VLOOKUP($E93,新規登録!$B:$I,8,0)),\"ﾅｼ\",VLOOKUP($E93,新規登録!$B:$I,8,0)),(VLOOKUP($E93,氏名ﾃﾞｰﾀ!$B:$J,6,0))))","v":""},{"$f":"IF($E93=\"\",\"\",IF(ISERROR(VLOOKUP($E93,氏名ﾃﾞｰﾀ!$B:$J,9,0)),IF(ISERROR(VLOOKUP($E93,新規登録!$B:$I,9,0)),\"未登録\",VLOOKUP($E93,新規登録!$B:$I,9,0)),(VLOOKUP($E93,氏名ﾃﾞｰﾀ!$B:$J,9,0))))","v":""},null,null,null,null,null,null,null,null,null,null,null,null,null,null,null,null,null,null,null,null,2,{"$f":"IF(N93=\"\",\"\",VLOOKUP(N93,ﾃﾞｰﾀ!A:D,4,0))","v":""},"秒","秒"]
["","",{"$f":"IF(E94=\"\",\"\",IF(AH94=1,COUNTIF(AH$16:AH94,1)*10+2001-10,COUNTIF(AH$16:AH94,2)*10+6001-10))","v":""},79,null,{"$f":"IF($E94=\"\",\"\",IF(ISERROR(VLOOKUP($E94,氏名ﾃﾞｰﾀ!$B:$J,2,0)),IF(ISERROR(VLOOKUP($E94,新規登録!$B:$I,2,0)),\"未登録\",VLOOKUP($E94,新規登録!$B:$I,2,0)),(VLOOKUP($E94,氏名ﾃﾞｰﾀ!$B:$J,2,0))))","v":""},{"$f":"IF($E94=\"\",\"\",IF(ISERROR(VLOOKUP($E94,氏名ﾃﾞｰﾀ!$B:$J,3,0)),IF(ISERROR(VLOOKUP($E94,新規登録!$B:$I,3,0)),\"未登録\",VLOOKUP($E94,新規登録!$B:$I,3,0)),(VLOOKUP($E94,氏名ﾃﾞｰﾀ!$B:$J,3,0))))","v":""},{"$f":"IF($E94=\"\",\"\",IF(ISERROR(VLOOKUP($E94,氏名ﾃﾞｰﾀ!$B:$J,4,0)),IF(ISERROR(VLOOKUP($E94,新規登録!$B:$I,4,0)),\"未登録\",VLOOKUP($E94,新規登録!$B:$I,4,0)),(VLOOKUP($E94,氏名ﾃﾞｰﾀ!$B:$J,4,0))))","v":""},{"$f":"IF($E94=\"\",\"\",IF(ISERROR(VLOOKUP($E94,氏名ﾃﾞｰﾀ!$B:$J,5,0)),IF(ISERROR(VLOOKUP($E94,新規登録!$B:$I,5,0)),\"未登録\",VLOOKUP($E94,新規登録!$B:$I,5,0)),(VLOOKUP($E94,氏名ﾃﾞｰﾀ!$B:$J,5,0))))","v":""},{"$f":"IF($E94=\"\",\"\",IF(ISERROR(VLOOKUP($E94,氏名ﾃﾞｰﾀ!$B:$J,8,0)),IF(ISERROR(VLOOKUP($E94,新規登録!$B:$I,6,0)),\"未登録\",VLOOKUP($E94,新規登録!$B:$I,6,0)),(VLOOKUP($E94,氏名ﾃﾞｰﾀ!$B:$J,8,0))))","v":""},{"$f":"IF($E94=\"\",\"\",IF(ISERROR(VLOOKUP($E94,氏名ﾃﾞｰﾀ!$B:$J,7,0)),IF(ISERROR(VLOOKUP($E94,新規登録!$B:$I,7,0)),\"未登録\",VLOOKUP($E94,新規登録!$B:$I,7,0)),$G$3))","v":""},{"$f":"IF($E94=\"\",\"\",IF(ISERROR(VLOOKUP($E94,氏名ﾃﾞｰﾀ!$B:$J,6,0)),IF(ISERROR(VLOOKUP($E94,新規登録!$B:$I,8,0)),\"ﾅｼ\",VLOOKUP($E94,新規登録!$B:$I,8,0)),(VLOOKUP($E94,氏名ﾃﾞｰﾀ!$B:$J,6,0))))","v":""},{"$f":"IF($E94=\"\",\"\",IF(ISERROR(VLOOKUP($E94,氏名ﾃﾞｰﾀ!$B:$J,9,0)),IF(ISERROR(VLOOKUP($E94,新規登録!$B:$I,9,0)),\"未登録\",VLOOKUP($E94,新規登録!$B:$I,9,0)),(VLOOKUP($E94,氏名ﾃﾞｰﾀ!$B:$J,9,0))))","v":""},null,null,null,null,null,null,null,null,null,null,null,null,null,null,null,null,null,null,null,null,2,{"$f":"IF(N94=\"\",\"\",VLOOKUP(N94,ﾃﾞｰﾀ!A:D,4,0))","v":""},"秒","秒"]
["","",{"$f":"IF(E95=\"\",\"\",IF(AH95=1,COUNTIF(AH$16:AH95,1)*10+2001-10,COUNTIF(AH$16:AH95,2)*10+6001-10))","v":""},80,null,{"$f":"IF($E95=\"\",\"\",IF(ISERROR(VLOOKUP($E95,氏名ﾃﾞｰﾀ!$B:$J,2,0)),IF(ISERROR(VLOOKUP($E95,新規登録!$B:$I,2,0)),\"未登録\",VLOOKUP($E95,新規登録!$B:$I,2,0)),(VLOOKUP($E95,氏名ﾃﾞｰﾀ!$B:$J,2,0))))","v":""},{"$f":"IF($E95=\"\",\"\",IF(ISERROR(VLOOKUP($E95,氏名ﾃﾞｰﾀ!$B:$J,3,0)),IF(ISERROR(VLOOKUP($E95,新規登録!$B:$I,3,0)),\"未登録\",VLOOKUP($E95,新規登録!$B:$I,3,0)),(VLOOKUP($E95,氏名ﾃﾞｰﾀ!$B:$J,3,0))))","v":""},{"$f":"IF($E95=\"\",\"\",IF(ISERROR(VLOOKUP($E95,氏名ﾃﾞｰﾀ!$B:$J,4,0)),IF(ISERROR(VLOOKUP($E95,新規登録!$B:$I,4,0)),\"未登録\",VLOOKUP($E95,新規登録!$B:$I,4,0)),(VLOOKUP($E95,氏名ﾃﾞｰﾀ!$B:$J,4,0))))","v":""},{"$f":"IF($E95=\"\",\"\",IF(ISERROR(VLOOKUP($E95,氏名ﾃﾞｰﾀ!$B:$J,5,0)),IF(ISERROR(VLOOKUP($E95,新規登録!$B:$I,5,0)),\"未登録\",VLOOKUP($E95,新規登録!$B:$I,5,0)),(VLOOKUP($E95,氏名ﾃﾞｰﾀ!$B:$J,5,0))))","v":""},{"$f":"IF($E95=\"\",\"\",IF(ISERROR(VLOOKUP($E95,氏名ﾃﾞｰﾀ!$B:$J,8,0)),IF(ISERROR(VLOOKUP($E95,新規登録!$B:$I,6,0)),\"未登録\",VLOOKUP($E95,新規登録!$B:$I,6,0)),(VLOOKUP($E95,氏名ﾃﾞｰﾀ!$B:$J,8,0))))","v":""},{"$f":"IF($E95=\"\",\"\",IF(ISERROR(VLOOKUP($E95,氏名ﾃﾞｰﾀ!$B:$J,7,0)),IF(ISERROR(VLOOKUP($E95,新規登録!$B:$I,7,0)),\"未登録\",VLOOKUP($E95,新規登録!$B:$I,7,0)),$G$3))","v":""},{"$f":"IF($E95=\"\",\"\",IF(ISERROR(VLOOKUP($E95,氏名ﾃﾞｰﾀ!$B:$J,6,0)),IF(ISERROR(VLOOKUP($E95,新規登録!$B:$I,8,0)),\"ﾅｼ\",VLOOKUP($E95,新規登録!$B:$I,8,0)),(VLOOKUP($E95,氏名ﾃﾞｰﾀ!$B:$J,6,0))))","v":""},{"$f":"IF($E95=\"\",\"\",IF(ISERROR(VLOOKUP($E95,氏名ﾃﾞｰﾀ!$B:$J,9,0)),IF(ISERROR(VLOOKUP($E95,新規登録!$B:$I,9,0)),\"未登録\",VLOOKUP($E95,新規登録!$B:$I,9,0)),(VLOOKUP($E95,氏名ﾃﾞｰﾀ!$B:$J,9,0))))","v":""},null,null,null,null,null,null,null,null,null,null,null,null,null,null,null,null,null,null,null,null,2,{"$f":"IF(N95=\"\",\"\",VLOOKUP(N95,ﾃﾞｰﾀ!A:D,4,0))","v":""},"秒","秒"]
["","",{"$f":"IF(E96=\"\",\"\",IF(AH96=1,COUNTIF(AH$16:AH96,1)*10+2001-10,COUNTIF(AH$16:AH96,2)*10+6001-10))","v":""},81,null,{"$f":"IF($E96=\"\",\"\",IF(ISERROR(VLOOKUP($E96,氏名ﾃﾞｰﾀ!$B:$J,2,0)),IF(ISERROR(VLOOKUP($E96,新規登録!$B:$I,2,0)),\"未登録\",VLOOKUP($E96,新規登録!$B:$I,2,0)),(VLOOKUP($E96,氏名ﾃﾞｰﾀ!$B:$J,2,0))))","v":""},{"$f":"IF($E96=\"\",\"\",IF(ISERROR(VLOOKUP($E96,氏名ﾃﾞｰﾀ!$B:$J,3,0)),IF(ISERROR(VLOOKUP($E96,新規登録!$B:$I,3,0)),\"未登録\",VLOOKUP($E96,新規登録!$B:$I,3,0)),(VLOOKUP($E96,氏名ﾃﾞｰﾀ!$B:$J,3,0))))","v":""},{"$f":"IF($E96=\"\",\"\",IF(ISERROR(VLOOKUP($E96,氏名ﾃﾞｰﾀ!$B:$J,4,0)),IF(ISERROR(VLOOKUP($E96,新規登録!$B:$I,4,0)),\"未登録\",VLOOKUP($E96,新規登録!$B:$I,4,0)),(VLOOKUP($E96,氏名ﾃﾞｰﾀ!$B:$J,4,0))))","v":""},{"$f":"IF($E96=\"\",\"\",IF(ISERROR(VLOOKUP($E96,氏名ﾃﾞｰﾀ!$B:$J,5,0)),IF(ISERROR(VLOOKUP($E96,新規登録!$B:$I,5,0)),\"未登録\",VLOOKUP($E96,新規登録!$B:$I,5,0)),(VLOOKUP($E96,氏名ﾃﾞｰﾀ!$B:$J,5,0))))","v":""},{"$f":"IF($E96=\"\",\"\",IF(ISERROR(VLOOKUP($E96,氏名ﾃﾞｰﾀ!$B:$J,8,0)),IF(ISERROR(VLOOKUP($E96,新規登録!$B:$I,6,0)),\"未登録\",VLOOKUP($E96,新規登録!$B:$I,6,0)),(VLOOKUP($E96,氏名ﾃﾞｰﾀ!$B:$J,8,0))))","v":""},{"$f":"IF($E96=\"\",\"\",IF(ISERROR(VLOOKUP($E96,氏名ﾃﾞｰﾀ!$B:$J,7,0)),IF(ISERROR(VLOOKUP($E96,新規登録!$B:$I,7,0)),\"未登録\",VLOOKUP($E96,新規登録!$B:$I,7,0)),$G$3))","v":""},{"$f":"IF($E96=\"\",\"\",IF(ISERROR(VLOOKUP($E96,氏名ﾃﾞｰﾀ!$B:$J,6,0)),IF(ISERROR(VLOOKUP($E96,新規登録!$B:$I,8,0)),\"ﾅｼ\",VLOOKUP($E96,新規登録!$B:$I,8,0)),(VLOOKUP($E96,氏名ﾃﾞｰﾀ!$B:$J,6,0))))","v":""},{"$f":"IF($E96=\"\",\"\",IF(ISERROR(VLOOKUP($E96,氏名ﾃﾞｰﾀ!$B:$J,9,0)),IF(ISERROR(VLOOKUP($E96,新規登録!$B:$I,9,0)),\"未登録\",VLOOKUP($E96,新規登録!$B:$I,9,0)),(VLOOKUP($E96,氏名ﾃﾞｰﾀ!$B:$J,9,0))))","v":""},null,null,null,null,null,null,null,null,null,null,null,null,null,null,null,null,null,null,null,null,2,{"$f":"IF(N96=\"\",\"\",VLOOKUP(N96,ﾃﾞｰﾀ!A:D,4,0))","v":""},"秒","秒"]
["","",{"$f":"IF(E97=\"\",\"\",IF(AH97=1,COUNTIF(AH$16:AH97,1)*10+2001-10,COUNTIF(AH$16:AH97,2)*10+6001-10))","v":""},82,null,{"$f":"IF($E97=\"\",\"\",IF(ISERROR(VLOOKUP($E97,氏名ﾃﾞｰﾀ!$B:$J,2,0)),IF(ISERROR(VLOOKUP($E97,新規登録!$B:$I,2,0)),\"未登録\",VLOOKUP($E97,新規登録!$B:$I,2,0)),(VLOOKUP($E97,氏名ﾃﾞｰﾀ!$B:$J,2,0))))","v":""},{"$f":"IF($E97=\"\",\"\",IF(ISERROR(VLOOKUP($E97,氏名ﾃﾞｰﾀ!$B:$J,3,0)),IF(ISERROR(VLOOKUP($E97,新規登録!$B:$I,3,0)),\"未登録\",VLOOKUP($E97,新規登録!$B:$I,3,0)),(VLOOKUP($E97,氏名ﾃﾞｰﾀ!$B:$J,3,0))))","v":""},{"$f":"IF($E97=\"\",\"\",IF(ISERROR(VLOOKUP($E97,氏名ﾃﾞｰﾀ!$B:$J,4,0)),IF(ISERROR(VLOOKUP($E97,新規登録!$B:$I,4,0)),\"未登録\",VLOOKUP($E97,新規登録!$B:$I,4,0)),(VLOOKUP($E97,氏名ﾃﾞｰﾀ!$B:$J,4,0))))","v":""},{"$f":"IF($E97=\"\",\"\",IF(ISERROR(VLOOKUP($E97,氏名ﾃﾞｰﾀ!$B:$J,5,0)),IF(ISERROR(VLOOKUP($E97,新規登録!$B:$I,5,0)),\"未登録\",VLOOKUP($E97,新規登録!$B:$I,5,0)),(VLOOKUP($E97,氏名ﾃﾞｰﾀ!$B:$J,5,0))))","v":""},{"$f":"IF($E97=\"\",\"\",IF(ISERROR(VLOOKUP($E97,氏名ﾃﾞｰﾀ!$B:$J,8,0)),IF(ISERROR(VLOOKUP($E97,新規登録!$B:$I,6,0)),\"未登録\",VLOOKUP($E97,新規登録!$B:$I,6,0)),(VLOOKUP($E97,氏名ﾃﾞｰﾀ!$B:$J,8,0))))","v":""},{"$f":"IF($E97=\"\",\"\",IF(ISERROR(VLOOKUP($E97,氏名ﾃﾞｰﾀ!$B:$J,7,0)),IF(ISERROR(VLOOKUP($E97,新規登録!$B:$I,7,0)),\"未登録\",VLOOKUP($E97,新規登録!$B:$I,7,0)),$G$3))","v":""},{"$f":"IF($E97=\"\",\"\",IF(ISERROR(VLOOKUP($E97,氏名ﾃﾞｰﾀ!$B:$J,6,0)),IF(ISERROR(VLOOKUP($E97,新規登録!$B:$I,8,0)),\"ﾅｼ\",VLOOKUP($E97,新規登録!$B:$I,8,0)),(VLOOKUP($E97,氏名ﾃﾞｰﾀ!$B:$J,6,0))))","v":""},{"$f":"IF($E97=\"\",\"\",IF(ISERROR(VLOOKUP($E97,氏名ﾃﾞｰﾀ!$B:$J,9,0)),IF(ISERROR(VLOOKUP($E97,新規登録!$B:$I,9,0)),\"未登録\",VLOOKUP($E97,新規登録!$B:$I,9,0)),(VLOOKUP($E97,氏名ﾃﾞｰﾀ!$B:$J,9,0))))","v":""},null,null,null,null,null,null,null,null,null,null,null,null,null,null,null,null,null,null,null,null,2,{"$f":"IF(N97=\"\",\"\",VLOOKUP(N97,ﾃﾞｰﾀ!A:D,4,0))","v":""},"秒","秒"]
["","",{"$f":"IF(E98=\"\",\"\",IF(AH98=1,COUNTIF(AH$16:AH98,1)*10+2001-10,COUNTIF(AH$16:AH98,2)*10+6001-10))","v":""},83,null,{"$f":"IF($E98=\"\",\"\",IF(ISERROR(VLOOKUP($E98,氏名ﾃﾞｰﾀ!$B:$J,2,0)),IF(ISERROR(VLOOKUP($E98,新規登録!$B:$I,2,0)),\"未登録\",VLOOKUP($E98,新規登録!$B:$I,2,0)),(VLOOKUP($E98,氏名ﾃﾞｰﾀ!$B:$J,2,0))))","v":""},{"$f":"IF($E98=\"\",\"\",IF(ISERROR(VLOOKUP($E98,氏名ﾃﾞｰﾀ!$B:$J,3,0)),IF(ISERROR(VLOOKUP($E98,新規登録!$B:$I,3,0)),\"未登録\",VLOOKUP($E98,新規登録!$B:$I,3,0)),(VLOOKUP($E98,氏名ﾃﾞｰﾀ!$B:$J,3,0))))","v":""},{"$f":"IF($E98=\"\",\"\",IF(ISERROR(VLOOKUP($E98,氏名ﾃﾞｰﾀ!$B:$J,4,0)),IF(ISERROR(VLOOKUP($E98,新規登録!$B:$I,4,0)),\"未登録\",VLOOKUP($E98,新規登録!$B:$I,4,0)),(VLOOKUP($E98,氏名ﾃﾞｰﾀ!$B:$J,4,0))))","v":""},{"$f":"IF($E98=\"\",\"\",IF(ISERROR(VLOOKUP($E98,氏名ﾃﾞｰﾀ!$B:$J,5,0)),IF(ISERROR(VLOOKUP($E98,新規登録!$B:$I,5,0)),\"未登録\",VLOOKUP($E98,新規登録!$B:$I,5,0)),(VLOOKUP($E98,氏名ﾃﾞｰﾀ!$B:$J,5,0))))","v":""},{"$f":"IF($E98=\"\",\"\",IF(ISERROR(VLOOKUP($E98,氏名ﾃﾞｰﾀ!$B:$J,8,0)),IF(ISERROR(VLOOKUP($E98,新規登録!$B:$I,6,0)),\"未登録\",VLOOKUP($E98,新規登録!$B:$I,6,0)),(VLOOKUP($E98,氏名ﾃﾞｰﾀ!$B:$J,8,0))))","v":""},{"$f":"IF($E98=\"\",\"\",IF(ISERROR(VLOOKUP($E98,氏名ﾃﾞｰﾀ!$B:$J,7,0)),IF(ISERROR(VLOOKUP($E98,新規登録!$B:$I,7,0)),\"未登録\",VLOOKUP($E98,新規登録!$B:$I,7,0)),$G$3))","v":""},{"$f":"IF($E98=\"\",\"\",IF(ISERROR(VLOOKUP($E98,氏名ﾃﾞｰﾀ!$B:$J,6,0)),IF(ISERROR(VLOOKUP($E98,新規登録!$B:$I,8,0)),\"ﾅｼ\",VLOOKUP($E98,新規登録!$B:$I,8,0)),(VLOOKUP($E98,氏名ﾃﾞｰﾀ!$B:$J,6,0))))","v":""},{"$f":"IF($E98=\"\",\"\",IF(ISERROR(VLOOKUP($E98,氏名ﾃﾞｰﾀ!$B:$J,9,0)),IF(ISERROR(VLOOKUP($E98,新規登録!$B:$I,9,0)),\"未登録\",VLOOKUP($E98,新規登録!$B:$I,9,0)),(VLOOKUP($E98,氏名ﾃﾞｰﾀ!$B:$J,9,0))))","v":""},null,null,null,null,null,null,null,null,null,null,null,null,null,null,null,null,null,null,null,null,2,{"$f":"IF(N98=\"\",\"\",VLOOKUP(N98,ﾃﾞｰﾀ!A:D,4,0))","v":""},"秒","秒"]
["","",{"$f":"IF(E99=\"\",\"\",IF(AH99=1,COUNTIF(AH$16:AH99,1)*10+2001-10,COUNTIF(AH$16:AH99,2)*10+6001-10))","v":""},84,null,{"$f":"IF($E99=\"\",\"\",IF(ISERROR(VLOOKUP($E99,氏名ﾃﾞｰﾀ!$B:$J,2,0)),IF(ISERROR(VLOOKUP($E99,新規登録!$B:$I,2,0)),\"未登録\",VLOOKUP($E99,新規登録!$B:$I,2,0)),(VLOOKUP($E99,氏名ﾃﾞｰﾀ!$B:$J,2,0))))","v":""},{"$f":"IF($E99=\"\",\"\",IF(ISERROR(VLOOKUP($E99,氏名ﾃﾞｰﾀ!$B:$J,3,0)),IF(ISERROR(VLOOKUP($E99,新規登録!$B:$I,3,0)),\"未登録\",VLOOKUP($E99,新規登録!$B:$I,3,0)),(VLOOKUP($E99,氏名ﾃﾞｰﾀ!$B:$J,3,0))))","v":""},{"$f":"IF($E99=\"\",\"\",IF(ISERROR(VLOOKUP($E99,氏名ﾃﾞｰﾀ!$B:$J,4,0)),IF(ISERROR(VLOOKUP($E99,新規登録!$B:$I,4,0)),\"未登録\",VLOOKUP($E99,新規登録!$B:$I,4,0)),(VLOOKUP($E99,氏名ﾃﾞｰﾀ!$B:$J,4,0))))","v":""},{"$f":"IF($E99=\"\",\"\",IF(ISERROR(VLOOKUP($E99,氏名ﾃﾞｰﾀ!$B:$J,5,0)),IF(ISERROR(VLOOKUP($E99,新規登録!$B:$I,5,0)),\"未登録\",VLOOKUP($E99,新規登録!$B:$I,5,0)),(VLOOKUP($E99,氏名ﾃﾞｰﾀ!$B:$J,5,0))))","v":""},{"$f":"IF($E99=\"\",\"\",IF(ISERROR(VLOOKUP($E99,氏名ﾃﾞｰﾀ!$B:$J,8,0)),IF(ISERROR(VLOOKUP($E99,新規登録!$B:$I,6,0)),\"未登録\",VLOOKUP($E99,新規登録!$B:$I,6,0)),(VLOOKUP($E99,氏名ﾃﾞｰﾀ!$B:$J,8,0))))","v":""},{"$f":"IF($E99=\"\",\"\",IF(ISERROR(VLOOKUP($E99,氏名ﾃﾞｰﾀ!$B:$J,7,0)),IF(ISERROR(VLOOKUP($E99,新規登録!$B:$I,7,0)),\"未登録\",VLOOKUP($E99,新規登録!$B:$I,7,0)),$G$3))","v":""},{"$f":"IF($E99=\"\",\"\",IF(ISERROR(VLOOKUP($E99,氏名ﾃﾞｰﾀ!$B:$J,6,0)),IF(ISERROR(VLOOKUP($E99,新規登録!$B:$I,8,0)),\"ﾅｼ\",VLOOKUP($E99,新規登録!$B:$I,8,0)),(VLOOKUP($E99,氏名ﾃﾞｰﾀ!$B:$J,6,0))))","v":""},{"$f":"IF($E99=\"\",\"\",IF(ISERROR(VLOOKUP($E99,氏名ﾃﾞｰﾀ!$B:$J,9,0)),IF(ISERROR(VLOOKUP($E99,新規登録!$B:$I,9,0)),\"未登録\",VLOOKUP($E99,新規登録!$B:$I,9,0)),(VLOOKUP($E99,氏名ﾃﾞｰﾀ!$B:$J,9,0))))","v":""},null,null,null,null,null,null,null,null,null,null,null,null,null,null,null,null,null,null,null,null,2,{"$f":"IF(N99=\"\",\"\",VLOOKUP(N99,ﾃﾞｰﾀ!A:D,4,0))","v":""},"秒","秒"]
["","",{"$f":"IF(E100=\"\",\"\",IF(AH100=1,COUNTIF(AH$16:AH100,1)*10+2001-10,COUNTIF(AH$16:AH100,2)*10+6001-10))","v":""},85,null,{"$f":"IF($E100=\"\",\"\",IF(ISERROR(VLOOKUP($E100,氏名ﾃﾞｰﾀ!$B:$J,2,0)),IF(ISERROR(VLOOKUP($E100,新規登録!$B:$I,2,0)),\"未登録\",VLOOKUP($E100,新規登録!$B:$I,2,0)),(VLOOKUP($E100,氏名ﾃﾞｰﾀ!$B:$J,2,0))))","v":""},{"$f":"IF($E100=\"\",\"\",IF(ISERROR(VLOOKUP($E100,氏名ﾃﾞｰﾀ!$B:$J,3,0)),IF(ISERROR(VLOOKUP($E100,新規登録!$B:$I,3,0)),\"未登録\",VLOOKUP($E100,新規登録!$B:$I,3,0)),(VLOOKUP($E100,氏名ﾃﾞｰﾀ!$B:$J,3,0))))","v":""},{"$f":"IF($E100=\"\",\"\",IF(ISERROR(VLOOKUP($E100,氏名ﾃﾞｰﾀ!$B:$J,4,0)),IF(ISERROR(VLOOKUP($E100,新規登録!$B:$I,4,0)),\"未登録\",VLOOKUP($E100,新規登録!$B:$I,4,0)),(VLOOKUP($E100,氏名ﾃﾞｰﾀ!$B:$J,4,0))))","v":""},{"$f":"IF($E100=\"\",\"\",IF(ISERROR(VLOOKUP($E100,氏名ﾃﾞｰﾀ!$B:$J,5,0)),IF(ISERROR(VLOOKUP($E100,新規登録!$B:$I,5,0)),\"未登録\",VLOOKUP($E100,新規登録!$B:$I,5,0)),(VLOOKUP($E100,氏名ﾃﾞｰﾀ!$B:$J,5,0))))","v":""},{"$f":"IF($E100=\"\",\"\",IF(ISERROR(VLOOKUP($E100,氏名ﾃﾞｰﾀ!$B:$J,8,0)),IF(ISERROR(VLOOKUP($E100,新規登録!$B:$I,6,0)),\"未登録\",VLOOKUP($E100,新規登録!$B:$I,6,0)),(VLOOKUP($E100,氏名ﾃﾞｰﾀ!$B:$J,8,0))))","v":""},{"$f":"IF($E100=\"\",\"\",IF(ISERROR(VLOOKUP($E100,氏名ﾃﾞｰﾀ!$B:$J,7,0)),IF(ISERROR(VLOOKUP($E100,新規登録!$B:$I,7,0)),\"未登録\",VLOOKUP($E100,新規登録!$B:$I,7,0)),$G$3))","v":""},{"$f":"IF($E100=\"\",\"\",IF(ISERROR(VLOOKUP($E100,氏名ﾃﾞｰﾀ!$B:$J,6,0)),IF(ISERROR(VLOOKUP($E100,新規登録!$B:$I,8,0)),\"ﾅｼ\",VLOOKUP($E100,新規登録!$B:$I,8,0)),(VLOOKUP($E100,氏名ﾃﾞｰﾀ!$B:$J,6,0))))","v":""},{"$f":"IF($E100=\"\",\"\",IF(ISERROR(VLOOKUP($E100,氏名ﾃﾞｰﾀ!$B:$J,9,0)),IF(ISERROR(VLOOKUP($E100,新規登録!$B:$I,9,0)),\"未登録\",VLOOKUP($E100,新規登録!$B:$I,9,0)),(VLOOKUP($E100,氏名ﾃﾞｰﾀ!$B:$J,9,0))))","v":""},null,null,null,null,null,null,null,null,null,null,null,null,null,null,null,null,null,null,null,null,2,{"$f":"IF(N100=\"\",\"\",VLOOKUP(N100,ﾃﾞｰﾀ!A:D,4,0))","v":""},"秒","秒"]
["","",{"$f":"IF(E101=\"\",\"\",IF(AH101=1,COUNTIF(AH$16:AH101,1)*10+2001-10,COUNTIF(AH$16:AH101,2)*10+6001-10))","v":""},86,null,{"$f":"IF($E101=\"\",\"\",IF(ISERROR(VLOOKUP($E101,氏名ﾃﾞｰﾀ!$B:$J,2,0)),IF(ISERROR(VLOOKUP($E101,新規登録!$B:$I,2,0)),\"未登録\",VLOOKUP($E101,新規登録!$B:$I,2,0)),(VLOOKUP($E101,氏名ﾃﾞｰﾀ!$B:$J,2,0))))","v":""},{"$f":"IF($E101=\"\",\"\",IF(ISERROR(VLOOKUP($E101,氏名ﾃﾞｰﾀ!$B:$J,3,0)),IF(ISERROR(VLOOKUP($E101,新規登録!$B:$I,3,0)),\"未登録\",VLOOKUP($E101,新規登録!$B:$I,3,0)),(VLOOKUP($E101,氏名ﾃﾞｰﾀ!$B:$J,3,0))))","v":""},{"$f":"IF($E101=\"\",\"\",IF(ISERROR(VLOOKUP($E101,氏名ﾃﾞｰﾀ!$B:$J,4,0)),IF(ISERROR(VLOOKUP($E101,新規登録!$B:$I,4,0)),\"未登録\",VLOOKUP($E101,新規登録!$B:$I,4,0)),(VLOOKUP($E101,氏名ﾃﾞｰﾀ!$B:$J,4,0))))","v":""},{"$f":"IF($E101=\"\",\"\",IF(ISERROR(VLOOKUP($E101,氏名ﾃﾞｰﾀ!$B:$J,5,0)),IF(ISERROR(VLOOKUP($E101,新規登録!$B:$I,5,0)),\"未登録\",VLOOKUP($E101,新規登録!$B:$I,5,0)),(VLOOKUP($E101,氏名ﾃﾞｰﾀ!$B:$J,5,0))))","v":""},{"$f":"IF($E101=\"\",\"\",IF(ISERROR(VLOOKUP($E101,氏名ﾃﾞｰﾀ!$B:$J,8,0)),IF(ISERROR(VLOOKUP($E101,新規登録!$B:$I,6,0)),\"未登録\",VLOOKUP($E101,新規登録!$B:$I,6,0)),(VLOOKUP($E101,氏名ﾃﾞｰﾀ!$B:$J,8,0))))","v":""},{"$f":"IF($E101=\"\",\"\",IF(ISERROR(VLOOKUP($E101,氏名ﾃﾞｰﾀ!$B:$J,7,0)),IF(ISERROR(VLOOKUP($E101,新規登録!$B:$I,7,0)),\"未登録\",VLOOKUP($E101,新規登録!$B:$I,7,0)),$G$3))","v":""},{"$f":"IF($E101=\"\",\"\",IF(ISERROR(VLOOKUP($E101,氏名ﾃﾞｰﾀ!$B:$J,6,0)),IF(ISERROR(VLOOKUP($E101,新規登録!$B:$I,8,0)),\"ﾅｼ\",VLOOKUP($E101,新規登録!$B:$I,8,0)),(VLOOKUP($E101,氏名ﾃﾞｰﾀ!$B:$J,6,0))))","v":""},{"$f":"IF($E101=\"\",\"\",IF(ISERROR(VLOOKUP($E101,氏名ﾃﾞｰﾀ!$B:$J,9,0)),IF(ISERROR(VLOOKUP($E101,新規登録!$B:$I,9,0)),\"未登録\",VLOOKUP($E101,新規登録!$B:$I,9,0)),(VLOOKUP($E101,氏名ﾃﾞｰﾀ!$B:$J,9,0))))","v":""},null,null,null,null,null,null,null,null,null,null,null,null,null,null,null,null,null,null,null,null,2,{"$f":"IF(N101=\"\",\"\",VLOOKUP(N101,ﾃﾞｰﾀ!A:D,4,0))","v":""},"秒","秒"]
["","",{"$f":"IF(E102=\"\",\"\",IF(AH102=1,COUNTIF(AH$16:AH102,1)*10+2001-10,COUNTIF(AH$16:AH102,2)*10+6001-10))","v":""},87,null,{"$f":"IF($E102=\"\",\"\",IF(ISERROR(VLOOKUP($E102,氏名ﾃﾞｰﾀ!$B:$J,2,0)),IF(ISERROR(VLOOKUP($E102,新規登録!$B:$I,2,0)),\"未登録\",VLOOKUP($E102,新規登録!$B:$I,2,0)),(VLOOKUP($E102,氏名ﾃﾞｰﾀ!$B:$J,2,0))))","v":""},{"$f":"IF($E102=\"\",\"\",IF(ISERROR(VLOOKUP($E102,氏名ﾃﾞｰﾀ!$B:$J,3,0)),IF(ISERROR(VLOOKUP($E102,新規登録!$B:$I,3,0)),\"未登録\",VLOOKUP($E102,新規登録!$B:$I,3,0)),(VLOOKUP($E102,氏名ﾃﾞｰﾀ!$B:$J,3,0))))","v":""},{"$f":"IF($E102=\"\",\"\",IF(ISERROR(VLOOKUP($E102,氏名ﾃﾞｰﾀ!$B:$J,4,0)),IF(ISERROR(VLOOKUP($E102,新規登録!$B:$I,4,0)),\"未登録\",VLOOKUP($E102,新規登録!$B:$I,4,0)),(VLOOKUP($E102,氏名ﾃﾞｰﾀ!$B:$J,4,0))))","v":""},{"$f":"IF($E102=\"\",\"\",IF(ISERROR(VLOOKUP($E102,氏名ﾃﾞｰﾀ!$B:$J,5,0)),IF(ISERROR(VLOOKUP($E102,新規登録!$B:$I,5,0)),\"未登録\",VLOOKUP($E102,新規登録!$B:$I,5,0)),(VLOOKUP($E102,氏名ﾃﾞｰﾀ!$B:$J,5,0))))","v":""},{"$f":"IF($E102=\"\",\"\",IF(ISERROR(VLOOKUP($E102,氏名ﾃﾞｰﾀ!$B:$J,8,0)),IF(ISERROR(VLOOKUP($E102,新規登録!$B:$I,6,0)),\"未登録\",VLOOKUP($E102,新規登録!$B:$I,6,0)),(VLOOKUP($E102,氏名ﾃﾞｰﾀ!$B:$J,8,0))))","v":""},{"$f":"IF($E102=\"\",\"\",IF(ISERROR(VLOOKUP($E102,氏名ﾃﾞｰﾀ!$B:$J,7,0)),IF(ISERROR(VLOOKUP($E102,新規登録!$B:$I,7,0)),\"未登録\",VLOOKUP($E102,新規登録!$B:$I,7,0)),$G$3))","v":""},{"$f":"IF($E102=\"\",\"\",IF(ISERROR(VLOOKUP($E102,氏名ﾃﾞｰﾀ!$B:$J,6,0)),IF(ISERROR(VLOOKUP($E102,新規登録!$B:$I,8,0)),\"ﾅｼ\",VLOOKUP($E102,新規登録!$B:$I,8,0)),(VLOOKUP($E102,氏名ﾃﾞｰﾀ!$B:$J,6,0))))","v":""},{"$f":"IF($E102=\"\",\"\",IF(ISERROR(VLOOKUP($E102,氏名ﾃﾞｰﾀ!$B:$J,9,0)),IF(ISERROR(VLOOKUP($E102,新規登録!$B:$I,9,0)),\"未登録\",VLOOKUP($E102,新規登録!$B:$I,9,0)),(VLOOKUP($E102,氏名ﾃﾞｰﾀ!$B:$J,9,0))))","v":""},null,null,null,null,null,null,null,null,null,null,null,null,null,null,null,null,null,null,null,null,2,{"$f":"IF(N102=\"\",\"\",VLOOKUP(N102,ﾃﾞｰﾀ!A:D,4,0))","v":""},"秒","秒"]
["","",{"$f":"IF(E103=\"\",\"\",IF(AH103=1,COUNTIF(AH$16:AH103,1)*10+2001-10,COUNTIF(AH$16:AH103,2)*10+6001-10))","v":""},88,null,{"$f":"IF($E103=\"\",\"\",IF(ISERROR(VLOOKUP($E103,氏名ﾃﾞｰﾀ!$B:$J,2,0)),IF(ISERROR(VLOOKUP($E103,新規登録!$B:$I,2,0)),\"未登録\",VLOOKUP($E103,新規登録!$B:$I,2,0)),(VLOOKUP($E103,氏名ﾃﾞｰﾀ!$B:$J,2,0))))","v":""},{"$f":"IF($E103=\"\",\"\",IF(ISERROR(VLOOKUP($E103,氏名ﾃﾞｰﾀ!$B:$J,3,0)),IF(ISERROR(VLOOKUP($E103,新規登録!$B:$I,3,0)),\"未登録\",VLOOKUP($E103,新規登録!$B:$I,3,0)),(VLOOKUP($E103,氏名ﾃﾞｰﾀ!$B:$J,3,0))))","v":""},{"$f":"IF($E103=\"\",\"\",IF(ISERROR(VLOOKUP($E103,氏名ﾃﾞｰﾀ!$B:$J,4,0)),IF(ISERROR(VLOOKUP($E103,新規登録!$B:$I,4,0)),\"未登録\",VLOOKUP($E103,新規登録!$B:$I,4,0)),(VLOOKUP($E103,氏名ﾃﾞｰﾀ!$B:$J,4,0))))","v":""},{"$f":"IF($E103=\"\",\"\",IF(ISERROR(VLOOKUP($E103,氏名ﾃﾞｰﾀ!$B:$J,5,0)),IF(ISERROR(VLOOKUP($E103,新規登録!$B:$I,5,0)),\"未登録\",VLOOKUP($E103,新規登録!$B:$I,5,0)),(VLOOKUP($E103,氏名ﾃﾞｰﾀ!$B:$J,5,0))))","v":""},{"$f":"IF($E103=\"\",\"\",IF(ISERROR(VLOOKUP($E103,氏名ﾃﾞｰﾀ!$B:$J,8,0)),IF(ISERROR(VLOOKUP($E103,新規登録!$B:$I,6,0)),\"未登録\",VLOOKUP($E103,新規登録!$B:$I,6,0)),(VLOOKUP($E103,氏名ﾃﾞｰﾀ!$B:$J,8,0))))","v":""},{"$f":"IF($E103=\"\",\"\",IF(ISERROR(VLOOKUP($E103,氏名ﾃﾞｰﾀ!$B:$J,7,0)),IF(ISERROR(VLOOKUP($E103,新規登録!$B:$I,7,0)),\"未登録\",VLOOKUP($E103,新規登録!$B:$I,7,0)),$G$3))","v":""},{"$f":"IF($E103=\"\",\"\",IF(ISERROR(VLOOKUP($E103,氏名ﾃﾞｰﾀ!$B:$J,6,0)),IF(ISERROR(VLOOKUP($E103,新規登録!$B:$I,8,0)),\"ﾅｼ\",VLOOKUP($E103,新規登録!$B:$I,8,0)),(VLOOKUP($E103,氏名ﾃﾞｰﾀ!$B:$J,6,0))))","v":""},{"$f":"IF($E103=\"\",\"\",IF(ISERROR(VLOOKUP($E103,氏名ﾃﾞｰﾀ!$B:$J,9,0)),IF(ISERROR(VLOOKUP($E103,新規登録!$B:$I,9,0)),\"未登録\",VLOOKUP($E103,新規登録!$B:$I,9,0)),(VLOOKUP($E103,氏名ﾃﾞｰﾀ!$B:$J,9,0))))","v":""},null,null,null,null,null,null,null,null,null,null,null,null,null,null,null,null,null,null,null,null,2,{"$f":"IF(N103=\"\",\"\",VLOOKUP(N103,ﾃﾞｰﾀ!A:D,4,0))","v":""},"秒","秒"]
["","",{"$f":"IF(E104=\"\",\"\",IF(AH104=1,COUNTIF(AH$16:AH104,1)*10+2001-10,COUNTIF(AH$16:AH104,2)*10+6001-10))","v":""},89,null,{"$f":"IF($E104=\"\",\"\",IF(ISERROR(VLOOKUP($E104,氏名ﾃﾞｰﾀ!$B:$J,2,0)),IF(ISERROR(VLOOKUP($E104,新規登録!$B:$I,2,0)),\"未登録\",VLOOKUP($E104,新規登録!$B:$I,2,0)),(VLOOKUP($E104,氏名ﾃﾞｰﾀ!$B:$J,2,0))))","v":""},{"$f":"IF($E104=\"\",\"\",IF(ISERROR(VLOOKUP($E104,氏名ﾃﾞｰﾀ!$B:$J,3,0)),IF(ISERROR(VLOOKUP($E104,新規登録!$B:$I,3,0)),\"未登録\",VLOOKUP($E104,新規登録!$B:$I,3,0)),(VLOOKUP($E104,氏名ﾃﾞｰﾀ!$B:$J,3,0))))","v":""},{"$f":"IF($E104=\"\",\"\",IF(ISERROR(VLOOKUP($E104,氏名ﾃﾞｰﾀ!$B:$J,4,0)),IF(ISERROR(VLOOKUP($E104,新規登録!$B:$I,4,0)),\"未登録\",VLOOKUP($E104,新規登録!$B:$I,4,0)),(VLOOKUP($E104,氏名ﾃﾞｰﾀ!$B:$J,4,0))))","v":""},{"$f":"IF($E104=\"\",\"\",IF(ISERROR(VLOOKUP($E104,氏名ﾃﾞｰﾀ!$B:$J,5,0)),IF(ISERROR(VLOOKUP($E104,新規登録!$B:$I,5,0)),\"未登録\",VLOOKUP($E104,新規登録!$B:$I,5,0)),(VLOOKUP($E104,氏名ﾃﾞｰﾀ!$B:$J,5,0))))","v":""},{"$f":"IF($E104=\"\",\"\",IF(ISERROR(VLOOKUP($E104,氏名ﾃﾞｰﾀ!$B:$J,8,0)),IF(ISERROR(VLOOKUP($E104,新規登録!$B:$I,6,0)),\"未登録\",VLOOKUP($E104,新規登録!$B:$I,6,0)),(VLOOKUP($E104,氏名ﾃﾞｰﾀ!$B:$J,8,0))))","v":""},{"$f":"IF($E104=\"\",\"\",IF(ISERROR(VLOOKUP($E104,氏名ﾃﾞｰﾀ!$B:$J,7,0)),IF(ISERROR(VLOOKUP($E104,新規登録!$B:$I,7,0)),\"未登録\",VLOOKUP($E104,新規登録!$B:$I,7,0)),$G$3))","v":""},{"$f":"IF($E104=\"\",\"\",IF(ISERROR(VLOOKUP($E104,氏名ﾃﾞｰﾀ!$B:$J,6,0)),IF(ISERROR(VLOOKUP($E104,新規登録!$B:$I,8,0)),\"ﾅｼ\",VLOOKUP($E104,新規登録!$B:$I,8,0)),(VLOOKUP($E104,氏名ﾃﾞｰﾀ!$B:$J,6,0))))","v":""},{"$f":"IF($E104=\"\",\"\",IF(ISERROR(VLOOKUP($E104,氏名ﾃﾞｰﾀ!$B:$J,9,0)),IF(ISERROR(VLOOKUP($E104,新規登録!$B:$I,9,0)),\"未登録\",VLOOKUP($E104,新規登録!$B:$I,9,0)),(VLOOKUP($E104,氏名ﾃﾞｰﾀ!$B:$J,9,0))))","v":""},null,null,null,null,null,null,null,null,null,null,null,null,null,null,null,null,null,null,null,null,2,{"$f":"IF(N104=\"\",\"\",VLOOKUP(N104,ﾃﾞｰﾀ!A:D,4,0))","v":""},"秒","秒"]
["","",{"$f":"IF(E105=\"\",\"\",IF(AH105=1,COUNTIF(AH$16:AH105,1)*10+2001-10,COUNTIF(AH$16:AH105,2)*10+6001-10))","v":""},90,null,{"$f":"IF($E105=\"\",\"\",IF(ISERROR(VLOOKUP($E105,氏名ﾃﾞｰﾀ!$B:$J,2,0)),IF(ISERROR(VLOOKUP($E105,新規登録!$B:$I,2,0)),\"未登録\",VLOOKUP($E105,新規登録!$B:$I,2,0)),(VLOOKUP($E105,氏名ﾃﾞｰﾀ!$B:$J,2,0))))","v":""},{"$f":"IF($E105=\"\",\"\",IF(ISERROR(VLOOKUP($E105,氏名ﾃﾞｰﾀ!$B:$J,3,0)),IF(ISERROR(VLOOKUP($E105,新規登録!$B:$I,3,0)),\"未登録\",VLOOKUP($E105,新規登録!$B:$I,3,0)),(VLOOKUP($E105,氏名ﾃﾞｰﾀ!$B:$J,3,0))))","v":""},{"$f":"IF($E105=\"\",\"\",IF(ISERROR(VLOOKUP($E105,氏名ﾃﾞｰﾀ!$B:$J,4,0)),IF(ISERROR(VLOOKUP($E105,新規登録!$B:$I,4,0)),\"未登録\",VLOOKUP($E105,新規登録!$B:$I,4,0)),(VLOOKUP($E105,氏名ﾃﾞｰﾀ!$B:$J,4,0))))","v":""},{"$f":"IF($E105=\"\",\"\",IF(ISERROR(VLOOKUP($E105,氏名ﾃﾞｰﾀ!$B:$J,5,0)),IF(ISERROR(VLOOKUP($E105,新規登録!$B:$I,5,0)),\"未登録\",VLOOKUP($E105,新規登録!$B:$I,5,0)),(VLOOKUP($E105,氏名ﾃﾞｰﾀ!$B:$J,5,0))))","v":""},{"$f":"IF($E105=\"\",\"\",IF(ISERROR(VLOOKUP($E105,氏名ﾃﾞｰﾀ!$B:$J,8,0)),IF(ISERROR(VLOOKUP($E105,新規登録!$B:$I,6,0)),\"未登録\",VLOOKUP($E105,新規登録!$B:$I,6,0)),(VLOOKUP($E105,氏名ﾃﾞｰﾀ!$B:$J,8,0))))","v":""},{"$f":"IF($E105=\"\",\"\",IF(ISERROR(VLOOKUP($E105,氏名ﾃﾞｰﾀ!$B:$J,7,0)),IF(ISERROR(VLOOKUP($E105,新規登録!$B:$I,7,0)),\"未登録\",VLOOKUP($E105,新規登録!$B:$I,7,0)),$G$3))","v":""},{"$f":"IF($E105=\"\",\"\",IF(ISERROR(VLOOKUP($E105,氏名ﾃﾞｰﾀ!$B:$J,6,0)),IF(ISERROR(VLOOKUP($E105,新規登録!$B:$I,8,0)),\"ﾅｼ\",VLOOKUP($E105,新規登録!$B:$I,8,0)),(VLOOKUP($E105,氏名ﾃﾞｰﾀ!$B:$J,6,0))))","v":""},{"$f":"IF($E105=\"\",\"\",IF(ISERROR(VLOOKUP($E105,氏名ﾃﾞｰﾀ!$B:$J,9,0)),IF(ISERROR(VLOOKUP($E105,新規登録!$B:$I,9,0)),\"未登録\",VLOOKUP($E105,新規登録!$B:$I,9,0)),(VLOOKUP($E105,氏名ﾃﾞｰﾀ!$B:$J,9,0))))","v":""},null,null,null,null,null,null,null,null,null,null,null,null,null,null,null,null,null,null,null,null,2,{"$f":"IF(N105=\"\",\"\",VLOOKUP(N105,ﾃﾞｰﾀ!A:D,4,0))","v":""},"秒","秒"]
["","",{"$f":"IF(E106=\"\",\"\",IF(AH106=1,COUNTIF(AH$16:AH106,1)*10+2001-10,COUNTIF(AH$16:AH106,2)*10+6001-10))","v":""},91,null,{"$f":"IF($E106=\"\",\"\",IF(ISERROR(VLOOKUP($E106,氏名ﾃﾞｰﾀ!$B:$J,2,0)),IF(ISERROR(VLOOKUP($E106,新規登録!$B:$I,2,0)),\"未登録\",VLOOKUP($E106,新規登録!$B:$I,2,0)),(VLOOKUP($E106,氏名ﾃﾞｰﾀ!$B:$J,2,0))))","v":""},{"$f":"IF($E106=\"\",\"\",IF(ISERROR(VLOOKUP($E106,氏名ﾃﾞｰﾀ!$B:$J,3,0)),IF(ISERROR(VLOOKUP($E106,新規登録!$B:$I,3,0)),\"未登録\",VLOOKUP($E106,新規登録!$B:$I,3,0)),(VLOOKUP($E106,氏名ﾃﾞｰﾀ!$B:$J,3,0))))","v":""},{"$f":"IF($E106=\"\",\"\",IF(ISERROR(VLOOKUP($E106,氏名ﾃﾞｰﾀ!$B:$J,4,0)),IF(ISERROR(VLOOKUP($E106,新規登録!$B:$I,4,0)),\"未登録\",VLOOKUP($E106,新規登録!$B:$I,4,0)),(VLOOKUP($E106,氏名ﾃﾞｰﾀ!$B:$J,4,0))))","v":""},{"$f":"IF($E106=\"\",\"\",IF(ISERROR(VLOOKUP($E106,氏名ﾃﾞｰﾀ!$B:$J,5,0)),IF(ISERROR(VLOOKUP($E106,新規登録!$B:$I,5,0)),\"未登録\",VLOOKUP($E106,新規登録!$B:$I,5,0)),(VLOOKUP($E106,氏名ﾃﾞｰﾀ!$B:$J,5,0))))","v":""},{"$f":"IF($E106=\"\",\"\",IF(ISERROR(VLOOKUP($E106,氏名ﾃﾞｰﾀ!$B:$J,8,0)),IF(ISERROR(VLOOKUP($E106,新規登録!$B:$I,6,0)),\"未登録\",VLOOKUP($E106,新規登録!$B:$I,6,0)),(VLOOKUP($E106,氏名ﾃﾞｰﾀ!$B:$J,8,0))))","v":""},{"$f":"IF($E106=\"\",\"\",IF(ISERROR(VLOOKUP($E106,氏名ﾃﾞｰﾀ!$B:$J,7,0)),IF(ISERROR(VLOOKUP($E106,新規登録!$B:$I,7,0)),\"未登録\",VLOOKUP($E106,新規登録!$B:$I,7,0)),$G$3))","v":""},{"$f":"IF($E106=\"\",\"\",IF(ISERROR(VLOOKUP($E106,氏名ﾃﾞｰﾀ!$B:$J,6,0)),IF(ISERROR(VLOOKUP($E106,新規登録!$B:$I,8,0)),\"ﾅｼ\",VLOOKUP($E106,新規登録!$B:$I,8,0)),(VLOOKUP($E106,氏名ﾃﾞｰﾀ!$B:$J,6,0))))","v":""},{"$f":"IF($E106=\"\",\"\",IF(ISERROR(VLOOKUP($E106,氏名ﾃﾞｰﾀ!$B:$J,9,0)),IF(ISERROR(VLOOKUP($E106,新規登録!$B:$I,9,0)),\"未登録\",VLOOKUP($E106,新規登録!$B:$I,9,0)),(VLOOKUP($E106,氏名ﾃﾞｰﾀ!$B:$J,9,0))))","v":""},null,null,null,null,null,null,null,null,null,null,null,null,null,null,null,null,null,null,null,null,2,{"$f":"IF(N106=\"\",\"\",VLOOKUP(N106,ﾃﾞｰﾀ!A:D,4,0))","v":""},"秒","秒"]
["","",{"$f":"IF(E107=\"\",\"\",IF(AH107=1,COUNTIF(AH$16:AH107,1)*10+2001-10,COUNTIF(AH$16:AH107,2)*10+6001-10))","v":""},92,null,{"$f":"IF($E107=\"\",\"\",IF(ISERROR(VLOOKUP($E107,氏名ﾃﾞｰﾀ!$B:$J,2,0)),IF(ISERROR(VLOOKUP($E107,新規登録!$B:$I,2,0)),\"未登録\",VLOOKUP($E107,新規登録!$B:$I,2,0)),(VLOOKUP($E107,氏名ﾃﾞｰﾀ!$B:$J,2,0))))","v":""},{"$f":"IF($E107=\"\",\"\",IF(ISERROR(VLOOKUP($E107,氏名ﾃﾞｰﾀ!$B:$J,3,0)),IF(ISERROR(VLOOKUP($E107,新規登録!$B:$I,3,0)),\"未登録\",VLOOKUP($E107,新規登録!$B:$I,3,0)),(VLOOKUP($E107,氏名ﾃﾞｰﾀ!$B:$J,3,0))))","v":""},{"$f":"IF($E107=\"\",\"\",IF(ISERROR(VLOOKUP($E107,氏名ﾃﾞｰﾀ!$B:$J,4,0)),IF(ISERROR(VLOOKUP($E107,新規登録!$B:$I,4,0)),\"未登録\",VLOOKUP($E107,新規登録!$B:$I,4,0)),(VLOOKUP($E107,氏名ﾃﾞｰﾀ!$B:$J,4,0))))","v":""},{"$f":"IF($E107=\"\",\"\",IF(ISERROR(VLOOKUP($E107,氏名ﾃﾞｰﾀ!$B:$J,5,0)),IF(ISERROR(VLOOKUP($E107,新規登録!$B:$I,5,0)),\"未登録\",VLOOKUP($E107,新規登録!$B:$I,5,0)),(VLOOKUP($E107,氏名ﾃﾞｰﾀ!$B:$J,5,0))))","v":""},{"$f":"IF($E107=\"\",\"\",IF(ISERROR(VLOOKUP($E107,氏名ﾃﾞｰﾀ!$B:$J,8,0)),IF(ISERROR(VLOOKUP($E107,新規登録!$B:$I,6,0)),\"未登録\",VLOOKUP($E107,新規登録!$B:$I,6,0)),(VLOOKUP($E107,氏名ﾃﾞｰﾀ!$B:$J,8,0))))","v":""},{"$f":"IF($E107=\"\",\"\",IF(ISERROR(VLOOKUP($E107,氏名ﾃﾞｰﾀ!$B:$J,7,0)),IF(ISERROR(VLOOKUP($E107,新規登録!$B:$I,7,0)),\"未登録\",VLOOKUP($E107,新規登録!$B:$I,7,0)),$G$3))","v":""},{"$f":"IF($E107=\"\",\"\",IF(ISERROR(VLOOKUP($E107,氏名ﾃﾞｰﾀ!$B:$J,6,0)),IF(ISERROR(VLOOKUP($E107,新規登録!$B:$I,8,0)),\"ﾅｼ\",VLOOKUP($E107,新規登録!$B:$I,8,0)),(VLOOKUP($E107,氏名ﾃﾞｰﾀ!$B:$J,6,0))))","v":""},{"$f":"IF($E107=\"\",\"\",IF(ISERROR(VLOOKUP($E107,氏名ﾃﾞｰﾀ!$B:$J,9,0)),IF(ISERROR(VLOOKUP($E107,新規登録!$B:$I,9,0)),\"未登録\",VLOOKUP($E107,新規登録!$B:$I,9,0)),(VLOOKUP($E107,氏名ﾃﾞｰﾀ!$B:$J,9,0))))","v":""},null,null,null,null,null,null,null,null,null,null,null,null,null,null,null,null,null,null,null,null,2,{"$f":"IF(N107=\"\",\"\",VLOOKUP(N107,ﾃﾞｰﾀ!A:D,4,0))","v":""},"秒","秒"]
["","",{"$f":"IF(E108=\"\",\"\",IF(AH108=1,COUNTIF(AH$16:AH108,1)*10+2001-10,COUNTIF(AH$16:AH108,2)*10+6001-10))","v":""},93,null,{"$f":"IF($E108=\"\",\"\",IF(ISERROR(VLOOKUP($E108,氏名ﾃﾞｰﾀ!$B:$J,2,0)),IF(ISERROR(VLOOKUP($E108,新規登録!$B:$I,2,0)),\"未登録\",VLOOKUP($E108,新規登録!$B:$I,2,0)),(VLOOKUP($E108,氏名ﾃﾞｰﾀ!$B:$J,2,0))))","v":""},{"$f":"IF($E108=\"\",\"\",IF(ISERROR(VLOOKUP($E108,氏名ﾃﾞｰﾀ!$B:$J,3,0)),IF(ISERROR(VLOOKUP($E108,新規登録!$B:$I,3,0)),\"未登録\",VLOOKUP($E108,新規登録!$B:$I,3,0)),(VLOOKUP($E108,氏名ﾃﾞｰﾀ!$B:$J,3,0))))","v":""},{"$f":"IF($E108=\"\",\"\",IF(ISERROR(VLOOKUP($E108,氏名ﾃﾞｰﾀ!$B:$J,4,0)),IF(ISERROR(VLOOKUP($E108,新規登録!$B:$I,4,0)),\"未登録\",VLOOKUP($E108,新規登録!$B:$I,4,0)),(VLOOKUP($E108,氏名ﾃﾞｰﾀ!$B:$J,4,0))))","v":""},{"$f":"IF($E108=\"\",\"\",IF(ISERROR(VLOOKUP($E108,氏名ﾃﾞｰﾀ!$B:$J,5,0)),IF(ISERROR(VLOOKUP($E108,新規登録!$B:$I,5,0)),\"未登録\",VLOOKUP($E108,新規登録!$B:$I,5,0)),(VLOOKUP($E108,氏名ﾃﾞｰﾀ!$B:$J,5,0))))","v":""},{"$f":"IF($E108=\"\",\"\",IF(ISERROR(VLOOKUP($E108,氏名ﾃﾞｰﾀ!$B:$J,8,0)),IF(ISERROR(VLOOKUP($E108,新規登録!$B:$I,6,0)),\"未登録\",VLOOKUP($E108,新規登録!$B:$I,6,0)),(VLOOKUP($E108,氏名ﾃﾞｰﾀ!$B:$J,8,0))))","v":""},{"$f":"IF($E108=\"\",\"\",IF(ISERROR(VLOOKUP($E108,氏名ﾃﾞｰﾀ!$B:$J,7,0)),IF(ISERROR(VLOOKUP($E108,新規登録!$B:$I,7,0)),\"未登録\",VLOOKUP($E108,新規登録!$B:$I,7,0)),$G$3))","v":""},{"$f":"IF($E108=\"\",\"\",IF(ISERROR(VLOOKUP($E108,氏名ﾃﾞｰﾀ!$B:$J,6,0)),IF(ISERROR(VLOOKUP($E108,新規登録!$B:$I,8,0)),\"ﾅｼ\",VLOOKUP($E108,新規登録!$B:$I,8,0)),(VLOOKUP($E108,氏名ﾃﾞｰﾀ!$B:$J,6,0))))","v":""},{"$f":"IF($E108=\"\",\"\",IF(ISERROR(VLOOKUP($E108,氏名ﾃﾞｰﾀ!$B:$J,9,0)),IF(ISERROR(VLOOKUP($E108,新規登録!$B:$I,9,0)),\"未登録\",VLOOKUP($E108,新規登録!$B:$I,9,0)),(VLOOKUP($E108,氏名ﾃﾞｰﾀ!$B:$J,9,0))))","v":""},null,null,null,null,null,null,null,null,null,null,null,null,null,null,null,null,null,null,null,null,2,{"$f":"IF(N108=\"\",\"\",VLOOKUP(N108,ﾃﾞｰﾀ!A:D,4,0))","v":""},"秒","秒"]
["","",{"$f":"IF(E109=\"\",\"\",IF(AH109=1,COUNTIF(AH$16:AH109,1)*10+2001-10,COUNTIF(AH$16:AH109,2)*10+6001-10))","v":""},94,null,{"$f":"IF($E109=\"\",\"\",IF(ISERROR(VLOOKUP($E109,氏名ﾃﾞｰﾀ!$B:$J,2,0)),IF(ISERROR(VLOOKUP($E109,新規登録!$B:$I,2,0)),\"未登録\",VLOOKUP($E109,新規登録!$B:$I,2,0)),(VLOOKUP($E109,氏名ﾃﾞｰﾀ!$B:$J,2,0))))","v":""},{"$f":"IF($E109=\"\",\"\",IF(ISERROR(VLOOKUP($E109,氏名ﾃﾞｰﾀ!$B:$J,3,0)),IF(ISERROR(VLOOKUP($E109,新規登録!$B:$I,3,0)),\"未登録\",VLOOKUP($E109,新規登録!$B:$I,3,0)),(VLOOKUP($E109,氏名ﾃﾞｰﾀ!$B:$J,3,0))))","v":""},{"$f":"IF($E109=\"\",\"\",IF(ISERROR(VLOOKUP($E109,氏名ﾃﾞｰﾀ!$B:$J,4,0)),IF(ISERROR(VLOOKUP($E109,新規登録!$B:$I,4,0)),\"未登録\",VLOOKUP($E109,新規登録!$B:$I,4,0)),(VLOOKUP($E109,氏名ﾃﾞｰﾀ!$B:$J,4,0))))","v":""},{"$f":"IF($E109=\"\",\"\",IF(ISERROR(VLOOKUP($E109,氏名ﾃﾞｰﾀ!$B:$J,5,0)),IF(ISERROR(VLOOKUP($E109,新規登録!$B:$I,5,0)),\"未登録\",VLOOKUP($E109,新規登録!$B:$I,5,0)),(VLOOKUP($E109,氏名ﾃﾞｰﾀ!$B:$J,5,0))))","v":""},{"$f":"IF($E109=\"\",\"\",IF(ISERROR(VLOOKUP($E109,氏名ﾃﾞｰﾀ!$B:$J,8,0)),IF(ISERROR(VLOOKUP($E109,新規登録!$B:$I,6,0)),\"未登録\",VLOOKUP($E109,新規登録!$B:$I,6,0)),(VLOOKUP($E109,氏名ﾃﾞｰﾀ!$B:$J,8,0))))","v":""},{"$f":"IF($E109=\"\",\"\",IF(ISERROR(VLOOKUP($E109,氏名ﾃﾞｰﾀ!$B:$J,7,0)),IF(ISERROR(VLOOKUP($E109,新規登録!$B:$I,7,0)),\"未登録\",VLOOKUP($E109,新規登録!$B:$I,7,0)),$G$3))","v":""},{"$f":"IF($E109=\"\",\"\",IF(ISERROR(VLOOKUP($E109,氏名ﾃﾞｰﾀ!$B:$J,6,0)),IF(ISERROR(VLOOKUP($E109,新規登録!$B:$I,8,0)),\"ﾅｼ\",VLOOKUP($E109,新規登録!$B:$I,8,0)),(VLOOKUP($E109,氏名ﾃﾞｰﾀ!$B:$J,6,0))))","v":""},{"$f":"IF($E109=\"\",\"\",IF(ISERROR(VLOOKUP($E109,氏名ﾃﾞｰﾀ!$B:$J,9,0)),IF(ISERROR(VLOOKUP($E109,新規登録!$B:$I,9,0)),\"未登録\",VLOOKUP($E109,新規登録!$B:$I,9,0)),(VLOOKUP($E109,氏名ﾃﾞｰﾀ!$B:$J,9,0))))","v":""},null,null,null,null,null,null,null,null,null,null,null,null,null,null,null,null,null,null,null,null,2,{"$f":"IF(N109=\"\",\"\",VLOOKUP(N109,ﾃﾞｰﾀ!A:D,4,0))","v":""},"秒","秒"]
["","",{"$f":"IF(E110=\"\",\"\",IF(AH110=1,COUNTIF(AH$16:AH110,1)*10+2001-10,COUNTIF(AH$16:AH110,2)*10+6001-10))","v":""},95,null,{"$f":"IF($E110=\"\",\"\",IF(ISERROR(VLOOKUP($E110,氏名ﾃﾞｰﾀ!$B:$J,2,0)),IF(ISERROR(VLOOKUP($E110,新規登録!$B:$I,2,0)),\"未登録\",VLOOKUP($E110,新規登録!$B:$I,2,0)),(VLOOKUP($E110,氏名ﾃﾞｰﾀ!$B:$J,2,0))))","v":""},{"$f":"IF($E110=\"\",\"\",IF(ISERROR(VLOOKUP($E110,氏名ﾃﾞｰﾀ!$B:$J,3,0)),IF(ISERROR(VLOOKUP($E110,新規登録!$B:$I,3,0)),\"未登録\",VLOOKUP($E110,新規登録!$B:$I,3,0)),(VLOOKUP($E110,氏名ﾃﾞｰﾀ!$B:$J,3,0))))","v":""},{"$f":"IF($E110=\"\",\"\",IF(ISERROR(VLOOKUP($E110,氏名ﾃﾞｰﾀ!$B:$J,4,0)),IF(ISERROR(VLOOKUP($E110,新規登録!$B:$I,4,0)),\"未登録\",VLOOKUP($E110,新規登録!$B:$I,4,0)),(VLOOKUP($E110,氏名ﾃﾞｰﾀ!$B:$J,4,0))))","v":""},{"$f":"IF($E110=\"\",\"\",IF(ISERROR(VLOOKUP($E110,氏名ﾃﾞｰﾀ!$B:$J,5,0)),IF(ISERROR(VLOOKUP($E110,新規登録!$B:$I,5,0)),\"未登録\",VLOOKUP($E110,新規登録!$B:$I,5,0)),(VLOOKUP($E110,氏名ﾃﾞｰﾀ!$B:$J,5,0))))","v":""},{"$f":"IF($E110=\"\",\"\",IF(ISERROR(VLOOKUP($E110,氏名ﾃﾞｰﾀ!$B:$J,8,0)),IF(ISERROR(VLOOKUP($E110,新規登録!$B:$I,6,0)),\"未登録\",VLOOKUP($E110,新規登録!$B:$I,6,0)),(VLOOKUP($E110,氏名ﾃﾞｰﾀ!$B:$J,8,0))))","v":""},{"$f":"IF($E110=\"\",\"\",IF(ISERROR(VLOOKUP($E110,氏名ﾃﾞｰﾀ!$B:$J,7,0)),IF(ISERROR(VLOOKUP($E110,新規登録!$B:$I,7,0)),\"未登録\",VLOOKUP($E110,新規登録!$B:$I,7,0)),$G$3))","v":""},{"$f":"IF($E110=\"\",\"\",IF(ISERROR(VLOOKUP($E110,氏名ﾃﾞｰﾀ!$B:$J,6,0)),IF(ISERROR(VLOOKUP($E110,新規登録!$B:$I,8,0)),\"ﾅｼ\",VLOOKUP($E110,新規登録!$B:$I,8,0)),(VLOOKUP($E110,氏名ﾃﾞｰﾀ!$B:$J,6,0))))","v":""},{"$f":"IF($E110=\"\",\"\",IF(ISERROR(VLOOKUP($E110,氏名ﾃﾞｰﾀ!$B:$J,9,0)),IF(ISERROR(VLOOKUP($E110,新規登録!$B:$I,9,0)),\"未登録\",VLOOKUP($E110,新規登録!$B:$I,9,0)),(VLOOKUP($E110,氏名ﾃﾞｰﾀ!$B:$J,9,0))))","v":""},null,null,null,null,null,null,null,null,null,null,null,null,null,null,null,null,null,null,null,null,2,{"$f":"IF(N110=\"\",\"\",VLOOKUP(N110,ﾃﾞｰﾀ!A:D,4,0))","v":""},"秒","秒"]
["","",{"$f":"IF(E111=\"\",\"\",IF(AH111=1,COUNTIF(AH$16:AH111,1)*10+2001-10,COUNTIF(AH$16:AH111,2)*10+6001-10))","v":""},96,null,{"$f":"IF($E111=\"\",\"\",IF(ISERROR(VLOOKUP($E111,氏名ﾃﾞｰﾀ!$B:$J,2,0)),IF(ISERROR(VLOOKUP($E111,新規登録!$B:$I,2,0)),\"未登録\",VLOOKUP($E111,新規登録!$B:$I,2,0)),(VLOOKUP($E111,氏名ﾃﾞｰﾀ!$B:$J,2,0))))","v":""},{"$f":"IF($E111=\"\",\"\",IF(ISERROR(VLOOKUP($E111,氏名ﾃﾞｰﾀ!$B:$J,3,0)),IF(ISERROR(VLOOKUP($E111,新規登録!$B:$I,3,0)),\"未登録\",VLOOKUP($E111,新規登録!$B:$I,3,0)),(VLOOKUP($E111,氏名ﾃﾞｰﾀ!$B:$J,3,0))))","v":""},{"$f":"IF($E111=\"\",\"\",IF(ISERROR(VLOOKUP($E111,氏名ﾃﾞｰﾀ!$B:$J,4,0)),IF(ISERROR(VLOOKUP($E111,新規登録!$B:$I,4,0)),\"未登録\",VLOOKUP($E111,新規登録!$B:$I,4,0)),(VLOOKUP($E111,氏名ﾃﾞｰﾀ!$B:$J,4,0))))","v":""},{"$f":"IF($E111=\"\",\"\",IF(ISERROR(VLOOKUP($E111,氏名ﾃﾞｰﾀ!$B:$J,5,0)),IF(ISERROR(VLOOKUP($E111,新規登録!$B:$I,5,0)),\"未登録\",VLOOKUP($E111,新規登録!$B:$I,5,0)),(VLOOKUP($E111,氏名ﾃﾞｰﾀ!$B:$J,5,0))))","v":""},{"$f":"IF($E111=\"\",\"\",IF(ISERROR(VLOOKUP($E111,氏名ﾃﾞｰﾀ!$B:$J,8,0)),IF(ISERROR(VLOOKUP($E111,新規登録!$B:$I,6,0)),\"未登録\",VLOOKUP($E111,新規登録!$B:$I,6,0)),(VLOOKUP($E111,氏名ﾃﾞｰﾀ!$B:$J,8,0))))","v":""},{"$f":"IF($E111=\"\",\"\",IF(ISERROR(VLOOKUP($E111,氏名ﾃﾞｰﾀ!$B:$J,7,0)),IF(ISERROR(VLOOKUP($E111,新規登録!$B:$I,7,0)),\"未登録\",VLOOKUP($E111,新規登録!$B:$I,7,0)),$G$3))","v":""},{"$f":"IF($E111=\"\",\"\",IF(ISERROR(VLOOKUP($E111,氏名ﾃﾞｰﾀ!$B:$J,6,0)),IF(ISERROR(VLOOKUP($E111,新規登録!$B:$I,8,0)),\"ﾅｼ\",VLOOKUP($E111,新規登録!$B:$I,8,0)),(VLOOKUP($E111,氏名ﾃﾞｰﾀ!$B:$J,6,0))))","v":""},{"$f":"IF($E111=\"\",\"\",IF(ISERROR(VLOOKUP($E111,氏名ﾃﾞｰﾀ!$B:$J,9,0)),IF(ISERROR(VLOOKUP($E111,新規登録!$B:$I,9,0)),\"未登録\",VLOOKUP($E111,新規登録!$B:$I,9,0)),(VLOOKUP($E111,氏名ﾃﾞｰﾀ!$B:$J,9,0))))","v":""},null,null,null,null,null,null,null,null,null,null,null,null,null,null,null,null,null,null,null,null,2,{"$f":"IF(N111=\"\",\"\",VLOOKUP(N111,ﾃﾞｰﾀ!A:D,4,0))","v":""},"秒","秒"]
[{"$f":"IF(Z112=\"\",\"\",IF(L112=\"男\",VLOOKUP(Z112,ﾘﾚｰｺｰﾄﾞ,2,0),VLOOKUP(Z112,ﾘﾚｰｺｰﾄﾞ,4,0)))","v":""},{"$f":"IF(AD112=\"\",\"\",IF(L112=\"男\",VLOOKUP(AD112,ﾘﾚｰｺｰﾄﾞ,3,0),VLOOKUP(AD112,ﾘﾚｰｺｰﾄﾞ,5,0)))","v":""},{"$f":"IF(E112=\"\",\"\",IF(AH112=1,COUNTIF(AH$16:AH112,1)*10+2001-10,COUNTIF(AH$16:AH112,2)*10+6001-10))","v":""},97,null,{"$f":"IF($E112=\"\",\"\",IF(ISERROR(VLOOKUP($E112,氏名ﾃﾞｰﾀ!$B:$J,2,0)),IF(ISERROR(VLOOKUP($E112,新規登録!$B:$I,2,0)),\"未登録\",VLOOKUP($E112,新規登録!$B:$I,2,0)),(VLOOKUP($E112,氏名ﾃﾞｰﾀ!$B:$J,2,0))))","v":""},{"$f":"IF($E112=\"\",\"\",IF(ISERROR(VLOOKUP($E112,氏名ﾃﾞｰﾀ!$B:$J,3,0)),IF(ISERROR(VLOOKUP($E112,新規登録!$B:$I,3,0)),\"未登録\",VLOOKUP($E112,新規登録!$B:$I,3,0)),(VLOOKUP($E112,氏名ﾃﾞｰﾀ!$B:$J,3,0))))","v":""},{"$f":"IF($E112=\"\",\"\",IF(ISERROR(VLOOKUP($E112,氏名ﾃﾞｰﾀ!$B:$J,4,0)),IF(ISERROR(VLOOKUP($E112,新規登録!$B:$I,4,0)),\"未登録\",VLOOKUP($E112,新規登録!$B:$I,4,0)),(VLOOKUP($E112,氏名ﾃﾞｰﾀ!$B:$J,4,0))))","v":""},{"$f":"IF($E112=\"\",\"\",IF(ISERROR(VLOOKUP($E112,氏名ﾃﾞｰﾀ!$B:$J,5,0)),IF(ISERROR(VLOOKUP($E112,新規登録!$B:$I,5,0)),\"未登録\",VLOOKUP($E112,新規登録!$B:$I,5,0)),(VLOOKUP($E112,氏名ﾃﾞｰﾀ!$B:$J,5,0))))","v":""},{"$f":"IF($E112=\"\",\"\",IF(ISERROR(VLOOKUP($E112,氏名ﾃﾞｰﾀ!$B:$J,8,0)),IF(ISERROR(VLOOKUP($E112,新規登録!$B:$I,6,0)),\"未登録\",VLOOKUP($E112,新規登録!$B:$I,6,0)),(VLOOKUP($E112,氏名ﾃﾞｰﾀ!$B:$J,8,0))))","v":""},{"$f":"IF($E112=\"\",\"\",IF(ISERROR(VLOOKUP($E112,氏名ﾃﾞｰﾀ!$B:$J,7,0)),IF(ISERROR(VLOOKUP($E112,新規登録!$B:$I,7,0)),\"未登録\",VLOOKUP($E112,新規登録!$B:$I,7,0)),$G$3))","v":""},{"$f":"IF($E112=\"\",\"\",IF(ISERROR(VLOOKUP($E112,氏名ﾃﾞｰﾀ!$B:$J,6,0)),IF(ISERROR(VLOOKUP($E112,新規登録!$B:$I,8,0)),\"ﾅｼ\",VLOOKUP($E112,新規登録!$B:$I,8,0)),(VLOOKUP($E112,氏名ﾃﾞｰﾀ!$B:$J,6,0))))","v":""},{"$f":"IF($E112=\"\",\"\",IF(ISERROR(VLOOKUP($E112,氏名ﾃﾞｰﾀ!$B:$J,9,0)),IF(ISERROR(VLOOKUP($E112,新規登録!$B:$I,9,0)),\"未登録\",VLOOKUP($E112,新規登録!$B:$I,9,0)),(VLOOKUP($E112,氏名ﾃﾞｰﾀ!$B:$J,9,0))))","v":""},null,null,null,null,null,null,null,null,null,null,null,null,null,null,null,null,null,null,null,null,{"$f":"IF(L112=\"男\",1,2)","v":2},{"$f":"IF(N112=\"\",\"\",VLOOKUP(N112,ﾃﾞｰﾀ!A:D,4,0))","v":""},{"$f":"IF(AA112=\"\",CONCATENATE(AB112,\"秒\",AC112),CONCATENATE(IF(LEN(AA112)=1,CONCATENATE(\"0\",AA112),AA112),\"分\",IF(LEN(AB112)=1,CONCATENATE(\"0\",AB112),AB112),\"秒\",IF(LEN(AC112)=1,CONCATENATE(AC112,\"0\"),AC112)))","v":"秒"},"秒"]
["","",{"$f":"IF(E113=\"\",\"\",IF(AH113=1,COUNTIF(AH$16:AH113,1)*10+2001-10,COUNTIF(AH$16:AH113,2)*10+6001-10))","v":""},98,null,{"$f":"IF($E113=\"\",\"\",IF(ISERROR(VLOOKUP($E113,氏名ﾃﾞｰﾀ!$B:$J,2,0)),IF(ISERROR(VLOOKUP($E113,新規登録!$B:$I,2,0)),\"未登録\",VLOOKUP($E113,新規登録!$B:$I,2,0)),(VLOOKUP($E113,氏名ﾃﾞｰﾀ!$B:$J,2,0))))","v":""},{"$f":"IF($E113=\"\",\"\",IF(ISERROR(VLOOKUP($E113,氏名ﾃﾞｰﾀ!$B:$J,3,0)),IF(ISERROR(VLOOKUP($E113,新規登録!$B:$I,3,0)),\"未登録\",VLOOKUP($E113,新規登録!$B:$I,3,0)),(VLOOKUP($E113,氏名ﾃﾞｰﾀ!$B:$J,3,0))))","v":""},{"$f":"IF($E113=\"\",\"\",IF(ISERROR(VLOOKUP($E113,氏名ﾃﾞｰﾀ!$B:$J,4,0)),IF(ISERROR(VLOOKUP($E113,新規登録!$B:$I,4,0)),\"未登録\",VLOOKUP($E113,新規登録!$B:$I,4,0)),(VLOOKUP($E113,氏名ﾃﾞｰﾀ!$B:$J,4,0))))","v":""},{"$f":"IF($E113=\"\",\"\",IF(ISERROR(VLOOKUP($E113,氏名ﾃﾞｰﾀ!$B:$J,5,0)),IF(ISERROR(VLOOKUP($E113,新規登録!$B:$I,5,0)),\"未登録\",VLOOKUP($E113,新規登録!$B:$I,5,0)),(VLOOKUP($E113,氏名ﾃﾞｰﾀ!$B:$J,5,0))))","v":""},{"$f":"IF($E113=\"\",\"\",IF(ISERROR(VLOOKUP($E113,氏名ﾃﾞｰﾀ!$B:$J,8,0)),IF(ISERROR(VLOOKUP($E113,新規登録!$B:$I,6,0)),\"未登録\",VLOOKUP($E113,新規登録!$B:$I,6,0)),(VLOOKUP($E113,氏名ﾃﾞｰﾀ!$B:$J,8,0))))","v":""},{"$f":"IF($E113=\"\",\"\",IF(ISERROR(VLOOKUP($E113,氏名ﾃﾞｰﾀ!$B:$J,7,0)),IF(ISERROR(VLOOKUP($E113,新規登録!$B:$I,7,0)),\"未登録\",VLOOKUP($E113,新規登録!$B:$I,7,0)),$G$3))","v":""},{"$f":"IF($E113=\"\",\"\",IF(ISERROR(VLOOKUP($E113,氏名ﾃﾞｰﾀ!$B:$J,6,0)),IF(ISERROR(VLOOKUP($E113,新規登録!$B:$I,8,0)),\"ﾅｼ\",VLOOKUP($E113,新規登録!$B:$I,8,0)),(VLOOKUP($E113,氏名ﾃﾞｰﾀ!$B:$J,6,0))))","v":""},{"$f":"IF($E113=\"\",\"\",IF(ISERROR(VLOOKUP($E113,氏名ﾃﾞｰﾀ!$B:$J,9,0)),IF(ISERROR(VLOOKUP($E113,新規登録!$B:$I,9,0)),\"未登録\",VLOOKUP($E113,新規登録!$B:$I,9,0)),(VLOOKUP($E113,氏名ﾃﾞｰﾀ!$B:$J,9,0))))","v":""},null,null,null,null,null,null,null,null,null,null,null,null,null,null,null,null,null,null,null,null,2,{"$f":"IF(N113=\"\",\"\",VLOOKUP(N113,ﾃﾞｰﾀ!A:D,4,0))","v":""},"秒","秒"]
["","",{"$f":"IF(E114=\"\",\"\",IF(AH114=1,COUNTIF(AH$16:AH114,1)*10+2001-10,COUNTIF(AH$16:AH114,2)*10+6001-10))","v":""},99,null,{"$f":"IF($E114=\"\",\"\",IF(ISERROR(VLOOKUP($E114,氏名ﾃﾞｰﾀ!$B:$J,2,0)),IF(ISERROR(VLOOKUP($E114,新規登録!$B:$I,2,0)),\"未登録\",VLOOKUP($E114,新規登録!$B:$I,2,0)),(VLOOKUP($E114,氏名ﾃﾞｰﾀ!$B:$J,2,0))))","v":""},{"$f":"IF($E114=\"\",\"\",IF(ISERROR(VLOOKUP($E114,氏名ﾃﾞｰﾀ!$B:$J,3,0)),IF(ISERROR(VLOOKUP($E114,新規登録!$B:$I,3,0)),\"未登録\",VLOOKUP($E114,新規登録!$B:$I,3,0)),(VLOOKUP($E114,氏名ﾃﾞｰﾀ!$B:$J,3,0))))","v":""},{"$f":"IF($E114=\"\",\"\",IF(ISERROR(VLOOKUP($E114,氏名ﾃﾞｰﾀ!$B:$J,4,0)),IF(ISERROR(VLOOKUP($E114,新規登録!$B:$I,4,0)),\"未登録\",VLOOKUP($E114,新規登録!$B:$I,4,0)),(VLOOKUP($E114,氏名ﾃﾞｰﾀ!$B:$J,4,0))))","v":""},{"$f":"IF($E114=\"\",\"\",IF(ISERROR(VLOOKUP($E114,氏名ﾃﾞｰﾀ!$B:$J,5,0)),IF(ISERROR(VLOOKUP($E114,新規登録!$B:$I,5,0)),\"未登録\",VLOOKUP($E114,新規登録!$B:$I,5,0)),(VLOOKUP($E114,氏名ﾃﾞｰﾀ!$B:$J,5,0))))","v":""},{"$f":"IF($E114=\"\",\"\",IF(ISERROR(VLOOKUP($E114,氏名ﾃﾞｰﾀ!$B:$J,8,0)),IF(ISERROR(VLOOKUP($E114,新規登録!$B:$I,6,0)),\"未登録\",VLOOKUP($E114,新規登録!$B:$I,6,0)),(VLOOKUP($E114,氏名ﾃﾞｰﾀ!$B:$J,8,0))))","v":""},{"$f":"IF($E114=\"\",\"\",IF(ISERROR(VLOOKUP($E114,氏名ﾃﾞｰﾀ!$B:$J,7,0)),IF(ISERROR(VLOOKUP($E114,新規登録!$B:$I,7,0)),\"未登録\",VLOOKUP($E114,新規登録!$B:$I,7,0)),$G$3))","v":""},{"$f":"IF($E114=\"\",\"\",IF(ISERROR(VLOOKUP($E114,氏名ﾃﾞｰﾀ!$B:$J,6,0)),IF(ISERROR(VLOOKUP($E114,新規登録!$B:$I,8,0)),\"ﾅｼ\",VLOOKUP($E114,新規登録!$B:$I,8,0)),(VLOOKUP($E114,氏名ﾃﾞｰﾀ!$B:$J,6,0))))","v":""},{"$f":"IF($E114=\"\",\"\",IF(ISERROR(VLOOKUP($E114,氏名ﾃﾞｰﾀ!$B:$J,9,0)),IF(ISERROR(VLOOKUP($E114,新規登録!$B:$I,9,0)),\"未登録\",VLOOKUP($E114,新規登録!$B:$I,9,0)),(VLOOKUP($E114,氏名ﾃﾞｰﾀ!$B:$J,9,0))))","v":""},null,null,null,null,null,null,null,null,null,null,null,null,null,null,null,null,null,null,null,null,2,{"$f":"IF(N114=\"\",\"\",VLOOKUP(N114,ﾃﾞｰﾀ!A:D,4,0))","v":""},"秒","秒"]
["","",{"$f":"IF(E115=\"\",\"\",IF(AH115=1,COUNTIF(AH$16:AH115,1)*10+2001-10,COUNTIF(AH$16:AH115,2)*10+6001-10))","v":""},100,null,{"$f":"IF($E115=\"\",\"\",IF(ISERROR(VLOOKUP($E115,氏名ﾃﾞｰﾀ!$B:$J,2,0)),IF(ISERROR(VLOOKUP($E115,新規登録!$B:$I,2,0)),\"未登録\",VLOOKUP($E115,新規登録!$B:$I,2,0)),(VLOOKUP($E115,氏名ﾃﾞｰﾀ!$B:$J,2,0))))","v":""},{"$f":"IF($E115=\"\",\"\",IF(ISERROR(VLOOKUP($E115,氏名ﾃﾞｰﾀ!$B:$J,3,0)),IF(ISERROR(VLOOKUP($E115,新規登録!$B:$I,3,0)),\"未登録\",VLOOKUP($E115,新規登録!$B:$I,3,0)),(VLOOKUP($E115,氏名ﾃﾞｰﾀ!$B:$J,3,0))))","v":""},{"$f":"IF($E115=\"\",\"\",IF(ISERROR(VLOOKUP($E115,氏名ﾃﾞｰﾀ!$B:$J,4,0)),IF(ISERROR(VLOOKUP($E115,新規登録!$B:$I,4,0)),\"未登録\",VLOOKUP($E115,新規登録!$B:$I,4,0)),(VLOOKUP($E115,氏名ﾃﾞｰﾀ!$B:$J,4,0))))","v":""},{"$f":"IF($E115=\"\",\"\",IF(ISERROR(VLOOKUP($E115,氏名ﾃﾞｰﾀ!$B:$J,5,0)),IF(ISERROR(VLOOKUP($E115,新規登録!$B:$I,5,0)),\"未登録\",VLOOKUP($E115,新規登録!$B:$I,5,0)),(VLOOKUP($E115,氏名ﾃﾞｰﾀ!$B:$J,5,0))))","v":""},{"$f":"IF($E115=\"\",\"\",IF(ISERROR(VLOOKUP($E115,氏名ﾃﾞｰﾀ!$B:$J,8,0)),IF(ISERROR(VLOOKUP($E115,新規登録!$B:$I,6,0)),\"未登録\",VLOOKUP($E115,新規登録!$B:$I,6,0)),(VLOOKUP($E115,氏名ﾃﾞｰﾀ!$B:$J,8,0))))","v":""},{"$f":"IF($E115=\"\",\"\",IF(ISERROR(VLOOKUP($E115,氏名ﾃﾞｰﾀ!$B:$J,7,0)),IF(ISERROR(VLOOKUP($E115,新規登録!$B:$I,7,0)),\"未登録\",VLOOKUP($E115,新規登録!$B:$I,7,0)),$G$3))","v":""},{"$f":"IF($E115=\"\",\"\",IF(ISERROR(VLOOKUP($E115,氏名ﾃﾞｰﾀ!$B:$J,6,0)),IF(ISERROR(VLOOKUP($E115,新規登録!$B:$I,8,0)),\"ﾅｼ\",VLOOKUP($E115,新規登録!$B:$I,8,0)),(VLOOKUP($E115,氏名ﾃﾞｰﾀ!$B:$J,6,0))))","v":""},{"$f":"IF($E115=\"\",\"\",IF(ISERROR(VLOOKUP($E115,氏名ﾃﾞｰﾀ!$B:$J,9,0)),IF(ISERROR(VLOOKUP($E115,新規登録!$B:$I,9,0)),\"未登録\",VLOOKUP($E115,新規登録!$B:$I,9,0)),(VLOOKUP($E115,氏名ﾃﾞｰﾀ!$B:$J,9,0))))","v":""},null,null,null,null,null,null,null,null,null,null,null,null,null,null,null,null,null,null,null,null,2,{"$f":"IF(N115=\"\",\"\",VLOOKUP(N115,ﾃﾞｰﾀ!A:D,4,0))","v":""},"秒","秒"]
["","",{"$f":"IF(E116=\"\",\"\",IF(AH116=1,COUNTIF(AH$16:AH116,1)*10+2001-10,COUNTIF(AH$16:AH116,2)*10+6001-10))","v":""},101,null,{"$f":"IF($E116=\"\",\"\",IF(ISERROR(VLOOKUP($E116,氏名ﾃﾞｰﾀ!$B:$J,2,0)),IF(ISERROR(VLOOKUP($E116,新規登録!$B:$I,2,0)),\"未登録\",VLOOKUP($E116,新規登録!$B:$I,2,0)),(VLOOKUP($E116,氏名ﾃﾞｰﾀ!$B:$J,2,0))))","v":""},{"$f":"IF($E116=\"\",\"\",IF(ISERROR(VLOOKUP($E116,氏名ﾃﾞｰﾀ!$B:$J,3,0)),IF(ISERROR(VLOOKUP($E116,新規登録!$B:$I,3,0)),\"未登録\",VLOOKUP($E116,新規登録!$B:$I,3,0)),(VLOOKUP($E116,氏名ﾃﾞｰﾀ!$B:$J,3,0))))","v":""},{"$f":"IF($E116=\"\",\"\",IF(ISERROR(VLOOKUP($E116,氏名ﾃﾞｰﾀ!$B:$J,4,0)),IF(ISERROR(VLOOKUP($E116,新規登録!$B:$I,4,0)),\"未登録\",VLOOKUP($E116,新規登録!$B:$I,4,0)),(VLOOKUP($E116,氏名ﾃﾞｰﾀ!$B:$J,4,0))))","v":""},{"$f":"IF($E116=\"\",\"\",IF(ISERROR(VLOOKUP($E116,氏名ﾃﾞｰﾀ!$B:$J,5,0)),IF(ISERROR(VLOOKUP($E116,新規登録!$B:$I,5,0)),\"未登録\",VLOOKUP($E116,新規登録!$B:$I,5,0)),(VLOOKUP($E116,氏名ﾃﾞｰﾀ!$B:$J,5,0))))","v":""},{"$f":"IF($E116=\"\",\"\",IF(ISERROR(VLOOKUP($E116,氏名ﾃﾞｰﾀ!$B:$J,8,0)),IF(ISERROR(VLOOKUP($E116,新規登録!$B:$I,6,0)),\"未登録\",VLOOKUP($E116,新規登録!$B:$I,6,0)),(VLOOKUP($E116,氏名ﾃﾞｰﾀ!$B:$J,8,0))))","v":""},{"$f":"IF($E116=\"\",\"\",IF(ISERROR(VLOOKUP($E116,氏名ﾃﾞｰﾀ!$B:$J,7,0)),IF(ISERROR(VLOOKUP($E116,新規登録!$B:$I,7,0)),\"未登録\",VLOOKUP($E116,新規登録!$B:$I,7,0)),$G$3))","v":""},{"$f":"IF($E116=\"\",\"\",IF(ISERROR(VLOOKUP($E116,氏名ﾃﾞｰﾀ!$B:$J,6,0)),IF(ISERROR(VLOOKUP($E116,新規登録!$B:$I,8,0)),\"ﾅｼ\",VLOOKUP($E116,新規登録!$B:$I,8,0)),(VLOOKUP($E116,氏名ﾃﾞｰﾀ!$B:$J,6,0))))","v":""},{"$f":"IF($E116=\"\",\"\",IF(ISERROR(VLOOKUP($E116,氏名ﾃﾞｰﾀ!$B:$J,9,0)),IF(ISERROR(VLOOKUP($E116,新規登録!$B:$I,9,0)),\"未登録\",VLOOKUP($E116,新規登録!$B:$I,9,0)),(VLOOKUP($E116,氏名ﾃﾞｰﾀ!$B:$J,9,0))))","v":""},null,null,null,null,null,null,null,null,null,null,null,null,null,null,null,null,null,null,null,null,2,{"$f":"IF(N116=\"\",\"\",VLOOKUP(N116,ﾃﾞｰﾀ!A:D,4,0))","v":""},"秒","秒"]
["","",{"$f":"IF(E117=\"\",\"\",IF(AH117=1,COUNTIF(AH$16:AH117,1)*10+2001-10,COUNTIF(AH$16:AH117,2)*10+6001-10))","v":""},102,null,{"$f":"IF($E117=\"\",\"\",IF(ISERROR(VLOOKUP($E117,氏名ﾃﾞｰﾀ!$B:$J,2,0)),IF(ISERROR(VLOOKUP($E117,新規登録!$B:$I,2,0)),\"未登録\",VLOOKUP($E117,新規登録!$B:$I,2,0)),(VLOOKUP($E117,氏名ﾃﾞｰﾀ!$B:$J,2,0))))","v":""},{"$f":"IF($E117=\"\",\"\",IF(ISERROR(VLOOKUP($E117,氏名ﾃﾞｰﾀ!$B:$J,3,0)),IF(ISERROR(VLOOKUP($E117,新規登録!$B:$I,3,0)),\"未登録\",VLOOKUP($E117,新規登録!$B:$I,3,0)),(VLOOKUP($E117,氏名ﾃﾞｰﾀ!$B:$J,3,0))))","v":""},{"$f":"IF($E117=\"\",\"\",IF(ISERROR(VLOOKUP($E117,氏名ﾃﾞｰﾀ!$B:$J,4,0)),IF(ISERROR(VLOOKUP($E117,新規登録!$B:$I,4,0)),\"未登録\",VLOOKUP($E117,新規登録!$B:$I,4,0)),(VLOOKUP($E117,氏名ﾃﾞｰﾀ!$B:$J,4,0))))","v":""},{"$f":"IF($E117=\"\",\"\",IF(ISERROR(VLOOKUP($E117,氏名ﾃﾞｰﾀ!$B:$J,5,0)),IF(ISERROR(VLOOKUP($E117,新規登録!$B:$I,5,0)),\"未登録\",VLOOKUP($E117,新規登録!$B:$I,5,0)),(VLOOKUP($E117,氏名ﾃﾞｰﾀ!$B:$J,5,0))))","v":""},{"$f":"IF($E117=\"\",\"\",IF(ISERROR(VLOOKUP($E117,氏名ﾃﾞｰﾀ!$B:$J,8,0)),IF(ISERROR(VLOOKUP($E117,新規登録!$B:$I,6,0)),\"未登録\",VLOOKUP($E117,新規登録!$B:$I,6,0)),(VLOOKUP($E117,氏名ﾃﾞｰﾀ!$B:$J,8,0))))","v":""},{"$f":"IF($E117=\"\",\"\",IF(ISERROR(VLOOKUP($E117,氏名ﾃﾞｰﾀ!$B:$J,7,0)),IF(ISERROR(VLOOKUP($E117,新規登録!$B:$I,7,0)),\"未登録\",VLOOKUP($E117,新規登録!$B:$I,7,0)),$G$3))","v":""},{"$f":"IF($E117=\"\",\"\",IF(ISERROR(VLOOKUP($E117,氏名ﾃﾞｰﾀ!$B:$J,6,0)),IF(ISERROR(VLOOKUP($E117,新規登録!$B:$I,8,0)),\"ﾅｼ\",VLOOKUP($E117,新規登録!$B:$I,8,0)),(VLOOKUP($E117,氏名ﾃﾞｰﾀ!$B:$J,6,0))))","v":""},{"$f":"IF($E117=\"\",\"\",IF(ISERROR(VLOOKUP($E117,氏名ﾃﾞｰﾀ!$B:$J,9,0)),IF(ISERROR(VLOOKUP($E117,新規登録!$B:$I,9,0)),\"未登録\",VLOOKUP($E117,新規登録!$B:$I,9,0)),(VLOOKUP($E117,氏名ﾃﾞｰﾀ!$B:$J,9,0))))","v":""},null,null,null,null,null,null,null,null,null,null,null,null,null,null,null,null,null,null,null,null,2,{"$f":"IF(N117=\"\",\"\",VLOOKUP(N117,ﾃﾞｰﾀ!A:D,4,0))","v":""},"秒","秒"]
["","",{"$f":"IF(E118=\"\",\"\",IF(AH118=1,COUNTIF(AH$16:AH118,1)*10+2001-10,COUNTIF(AH$16:AH118,2)*10+6001-10))","v":""},103,null,{"$f":"IF($E118=\"\",\"\",IF(ISERROR(VLOOKUP($E118,氏名ﾃﾞｰﾀ!$B:$J,2,0)),IF(ISERROR(VLOOKUP($E118,新規登録!$B:$I,2,0)),\"未登録\",VLOOKUP($E118,新規登録!$B:$I,2,0)),(VLOOKUP($E118,氏名ﾃﾞｰﾀ!$B:$J,2,0))))","v":""},{"$f":"IF($E118=\"\",\"\",IF(ISERROR(VLOOKUP($E118,氏名ﾃﾞｰﾀ!$B:$J,3,0)),IF(ISERROR(VLOOKUP($E118,新規登録!$B:$I,3,0)),\"未登録\",VLOOKUP($E118,新規登録!$B:$I,3,0)),(VLOOKUP($E118,氏名ﾃﾞｰﾀ!$B:$J,3,0))))","v":""},{"$f":"IF($E118=\"\",\"\",IF(ISERROR(VLOOKUP($E118,氏名ﾃﾞｰﾀ!$B:$J,4,0)),IF(ISERROR(VLOOKUP($E118,新規登録!$B:$I,4,0)),\"未登録\",VLOOKUP($E118,新規登録!$B:$I,4,0)),(VLOOKUP($E118,氏名ﾃﾞｰﾀ!$B:$J,4,0))))","v":""},{"$f":"IF($E118=\"\",\"\",IF(ISERROR(VLOOKUP($E118,氏名ﾃﾞｰﾀ!$B:$J,5,0)),IF(ISERROR(VLOOKUP($E118,新規登録!$B:$I,5,0)),\"未登録\",VLOOKUP($E118,新規登録!$B:$I,5,0)),(VLOOKUP($E118,氏名ﾃﾞｰﾀ!$B:$J,5,0))))","v":""},{"$f":"IF($E118=\"\",\"\",IF(ISERROR(VLOOKUP($E118,氏名ﾃﾞｰﾀ!$B:$J,8,0)),IF(ISERROR(VLOOKUP($E118,新規登録!$B:$I,6,0)),\"未登録\",VLOOKUP($E118,新規登録!$B:$I,6,0)),(VLOOKUP($E118,氏名ﾃﾞｰﾀ!$B:$J,8,0))))","v":""},{"$f":"IF($E118=\"\",\"\",IF(ISERROR(VLOOKUP($E118,氏名ﾃﾞｰﾀ!$B:$J,7,0)),IF(ISERROR(VLOOKUP($E118,新規登録!$B:$I,7,0)),\"未登録\",VLOOKUP($E118,新規登録!$B:$I,7,0)),$G$3))","v":""},{"$f":"IF($E118=\"\",\"\",IF(ISERROR(VLOOKUP($E118,氏名ﾃﾞｰﾀ!$B:$J,6,0)),IF(ISERROR(VLOOKUP($E118,新規登録!$B:$I,8,0)),\"ﾅｼ\",VLOOKUP($E118,新規登録!$B:$I,8,0)),(VLOOKUP($E118,氏名ﾃﾞｰﾀ!$B:$J,6,0))))","v":""},{"$f":"IF($E118=\"\",\"\",IF(ISERROR(VLOOKUP($E118,氏名ﾃﾞｰﾀ!$B:$J,9,0)),IF(ISERROR(VLOOKUP($E118,新規登録!$B:$I,9,0)),\"未登録\",VLOOKUP($E118,新規登録!$B:$I,9,0)),(VLOOKUP($E118,氏名ﾃﾞｰﾀ!$B:$J,9,0))))","v":""},null,null,null,null,null,null,null,null,null,null,null,null,null,null,null,null,null,null,null,null,2,{"$f":"IF(N118=\"\",\"\",VLOOKUP(N118,ﾃﾞｰﾀ!A:D,4,0))","v":""},"秒","秒"]
["","",{"$f":"IF(E119=\"\",\"\",IF(AH119=1,COUNTIF(AH$16:AH119,1)*10+2001-10,COUNTIF(AH$16:AH119,2)*10+6001-10))","v":""},104,null,{"$f":"IF($E119=\"\",\"\",IF(ISERROR(VLOOKUP($E119,氏名ﾃﾞｰﾀ!$B:$J,2,0)),IF(ISERROR(VLOOKUP($E119,新規登録!$B:$I,2,0)),\"未登録\",VLOOKUP($E119,新規登録!$B:$I,2,0)),(VLOOKUP($E119,氏名ﾃﾞｰﾀ!$B:$J,2,0))))","v":""},{"$f":"IF($E119=\"\",\"\",IF(ISERROR(VLOOKUP($E119,氏名ﾃﾞｰﾀ!$B:$J,3,0)),IF(ISERROR(VLOOKUP($E119,新規登録!$B:$I,3,0)),\"未登録\",VLOOKUP($E119,新規登録!$B:$I,3,0)),(VLOOKUP($E119,氏名ﾃﾞｰﾀ!$B:$J,3,0))))","v":""},{"$f":"IF($E119=\"\",\"\",IF(ISERROR(VLOOKUP($E119,氏名ﾃﾞｰﾀ!$B:$J,4,0)),IF(ISERROR(VLOOKUP($E119,新規登録!$B:$I,4,0)),\"未登録\",VLOOKUP($E119,新規登録!$B:$I,4,0)),(VLOOKUP($E119,氏名ﾃﾞｰﾀ!$B:$J,4,0))))","v":""},{"$f":"IF($E119=\"\",\"\",IF(ISERROR(VLOOKUP($E119,氏名ﾃﾞｰﾀ!$B:$J,5,0)),IF(ISERROR(VLOOKUP($E119,新規登録!$B:$I,5,0)),\"未登録\",VLOOKUP($E119,新規登録!$B:$I,5,0)),(VLOOKUP($E119,氏名ﾃﾞｰﾀ!$B:$J,5,0))))","v":""},{"$f":"IF($E119=\"\",\"\",IF(ISERROR(VLOOKUP($E119,氏名ﾃﾞｰﾀ!$B:$J,8,0)),IF(ISERROR(VLOOKUP($E119,新規登録!$B:$I,6,0)),\"未登録\",VLOOKUP($E119,新規登録!$B:$I,6,0)),(VLOOKUP($E119,氏名ﾃﾞｰﾀ!$B:$J,8,0))))","v":""},{"$f":"IF($E119=\"\",\"\",IF(ISERROR(VLOOKUP($E119,氏名ﾃﾞｰﾀ!$B:$J,7,0)),IF(ISERROR(VLOOKUP($E119,新規登録!$B:$I,7,0)),\"未登録\",VLOOKUP($E119,新規登録!$B:$I,7,0)),$G$3))","v":""},{"$f":"IF($E119=\"\",\"\",IF(ISERROR(VLOOKUP($E119,氏名ﾃﾞｰﾀ!$B:$J,6,0)),IF(ISERROR(VLOOKUP($E119,新規登録!$B:$I,8,0)),\"ﾅｼ\",VLOOKUP($E119,新規登録!$B:$I,8,0)),(VLOOKUP($E119,氏名ﾃﾞｰﾀ!$B:$J,6,0))))","v":""},{"$f":"IF($E119=\"\",\"\",IF(ISERROR(VLOOKUP($E119,氏名ﾃﾞｰﾀ!$B:$J,9,0)),IF(ISERROR(VLOOKUP($E119,新規登録!$B:$I,9,0)),\"未登録\",VLOOKUP($E119,新規登録!$B:$I,9,0)),(VLOOKUP($E119,氏名ﾃﾞｰﾀ!$B:$J,9,0))))","v":""},null,null,null,null,null,null,null,null,null,null,null,null,null,null,null,null,null,null,null,null,2,{"$f":"IF(N119=\"\",\"\",VLOOKUP(N119,ﾃﾞｰﾀ!A:D,4,0))","v":""},"秒","秒"]
["","",{"$f":"IF(E120=\"\",\"\",IF(AH120=1,COUNTIF(AH$16:AH120,1)*10+2001-10,COUNTIF(AH$16:AH120,2)*10+6001-10))","v":""},105,null,{"$f":"IF($E120=\"\",\"\",IF(ISERROR(VLOOKUP($E120,氏名ﾃﾞｰﾀ!$B:$J,2,0)),IF(ISERROR(VLOOKUP($E120,新規登録!$B:$I,2,0)),\"未登録\",VLOOKUP($E120,新規登録!$B:$I,2,0)),(VLOOKUP($E120,氏名ﾃﾞｰﾀ!$B:$J,2,0))))","v":""},{"$f":"IF($E120=\"\",\"\",IF(ISERROR(VLOOKUP($E120,氏名ﾃﾞｰﾀ!$B:$J,3,0)),IF(ISERROR(VLOOKUP($E120,新規登録!$B:$I,3,0)),\"未登録\",VLOOKUP($E120,新規登録!$B:$I,3,0)),(VLOOKUP($E120,氏名ﾃﾞｰﾀ!$B:$J,3,0))))","v":""},{"$f":"IF($E120=\"\",\"\",IF(ISERROR(VLOOKUP($E120,氏名ﾃﾞｰﾀ!$B:$J,4,0)),IF(ISERROR(VLOOKUP($E120,新規登録!$B:$I,4,0)),\"未登録\",VLOOKUP($E120,新規登録!$B:$I,4,0)),(VLOOKUP($E120,氏名ﾃﾞｰﾀ!$B:$J,4,0))))","v":""},{"$f":"IF($E120=\"\",\"\",IF(ISERROR(VLOOKUP($E120,氏名ﾃﾞｰﾀ!$B:$J,5,0)),IF(ISERROR(VLOOKUP($E120,新規登録!$B:$I,5,0)),\"未登録\",VLOOKUP($E120,新規登録!$B:$I,5,0)),(VLOOKUP($E120,氏名ﾃﾞｰﾀ!$B:$J,5,0))))","v":""},{"$f":"IF($E120=\"\",\"\",IF(ISERROR(VLOOKUP($E120,氏名ﾃﾞｰﾀ!$B:$J,8,0)),IF(ISERROR(VLOOKUP($E120,新規登録!$B:$I,6,0)),\"未登録\",VLOOKUP($E120,新規登録!$B:$I,6,0)),(VLOOKUP($E120,氏名ﾃﾞｰﾀ!$B:$J,8,0))))","v":""},{"$f":"IF($E120=\"\",\"\",IF(ISERROR(VLOOKUP($E120,氏名ﾃﾞｰﾀ!$B:$J,7,0)),IF(ISERROR(VLOOKUP($E120,新規登録!$B:$I,7,0)),\"未登録\",VLOOKUP($E120,新規登録!$B:$I,7,0)),$G$3))","v":""},{"$f":"IF($E120=\"\",\"\",IF(ISERROR(VLOOKUP($E120,氏名ﾃﾞｰﾀ!$B:$J,6,0)),IF(ISERROR(VLOOKUP($E120,新規登録!$B:$I,8,0)),\"ﾅｼ\",VLOOKUP($E120,新規登録!$B:$I,8,0)),(VLOOKUP($E120,氏名ﾃﾞｰﾀ!$B:$J,6,0))))","v":""},{"$f":"IF($E120=\"\",\"\",IF(ISERROR(VLOOKUP($E120,氏名ﾃﾞｰﾀ!$B:$J,9,0)),IF(ISERROR(VLOOKUP($E120,新規登録!$B:$I,9,0)),\"未登録\",VLOOKUP($E120,新規登録!$B:$I,9,0)),(VLOOKUP($E120,氏名ﾃﾞｰﾀ!$B:$J,9,0))))","v":""},null,null,null,null,null,null,null,null,null,null,null,null,null,null,null,null,null,null,null,null,2,{"$f":"IF(N120=\"\",\"\",VLOOKUP(N120,ﾃﾞｰﾀ!A:D,4,0))","v":""},"秒","秒"]
["","",{"$f":"IF(E121=\"\",\"\",IF(AH121=1,COUNTIF(AH$16:AH121,1)*10+2001-10,COUNTIF(AH$16:AH121,2)*10+6001-10))","v":""},106,null,{"$f":"IF($E121=\"\",\"\",IF(ISERROR(VLOOKUP($E121,氏名ﾃﾞｰﾀ!$B:$J,2,0)),IF(ISERROR(VLOOKUP($E121,新規登録!$B:$I,2,0)),\"未登録\",VLOOKUP($E121,新規登録!$B:$I,2,0)),(VLOOKUP($E121,氏名ﾃﾞｰﾀ!$B:$J,2,0))))","v":""},{"$f":"IF($E121=\"\",\"\",IF(ISERROR(VLOOKUP($E121,氏名ﾃﾞｰﾀ!$B:$J,3,0)),IF(ISERROR(VLOOKUP($E121,新規登録!$B:$I,3,0)),\"未登録\",VLOOKUP($E121,新規登録!$B:$I,3,0)),(VLOOKUP($E121,氏名ﾃﾞｰﾀ!$B:$J,3,0))))","v":""},{"$f":"IF($E121=\"\",\"\",IF(ISERROR(VLOOKUP($E121,氏名ﾃﾞｰﾀ!$B:$J,4,0)),IF(ISERROR(VLOOKUP($E121,新規登録!$B:$I,4,0)),\"未登録\",VLOOKUP($E121,新規登録!$B:$I,4,0)),(VLOOKUP($E121,氏名ﾃﾞｰﾀ!$B:$J,4,0))))","v":""},{"$f":"IF($E121=\"\",\"\",IF(ISERROR(VLOOKUP($E121,氏名ﾃﾞｰﾀ!$B:$J,5,0)),IF(ISERROR(VLOOKUP($E121,新規登録!$B:$I,5,0)),\"未登録\",VLOOKUP($E121,新規登録!$B:$I,5,0)),(VLOOKUP($E121,氏名ﾃﾞｰﾀ!$B:$J,5,0))))","v":""},{"$f":"IF($E121=\"\",\"\",IF(ISERROR(VLOOKUP($E121,氏名ﾃﾞｰﾀ!$B:$J,8,0)),IF(ISERROR(VLOOKUP($E121,新規登録!$B:$I,6,0)),\"未登録\",VLOOKUP($E121,新規登録!$B:$I,6,0)),(VLOOKUP($E121,氏名ﾃﾞｰﾀ!$B:$J,8,0))))","v":""},{"$f":"IF($E121=\"\",\"\",IF(ISERROR(VLOOKUP($E121,氏名ﾃﾞｰﾀ!$B:$J,7,0)),IF(ISERROR(VLOOKUP($E121,新規登録!$B:$I,7,0)),\"未登録\",VLOOKUP($E121,新規登録!$B:$I,7,0)),$G$3))","v":""},{"$f":"IF($E121=\"\",\"\",IF(ISERROR(VLOOKUP($E121,氏名ﾃﾞｰﾀ!$B:$J,6,0)),IF(ISERROR(VLOOKUP($E121,新規登録!$B:$I,8,0)),\"ﾅｼ\",VLOOKUP($E121,新規登録!$B:$I,8,0)),(VLOOKUP($E121,氏名ﾃﾞｰﾀ!$B:$J,6,0))))","v":""},{"$f":"IF($E121=\"\",\"\",IF(ISERROR(VLOOKUP($E121,氏名ﾃﾞｰﾀ!$B:$J,9,0)),IF(ISERROR(VLOOKUP($E121,新規登録!$B:$I,9,0)),\"未登録\",VLOOKUP($E121,新規登録!$B:$I,9,0)),(VLOOKUP($E121,氏名ﾃﾞｰﾀ!$B:$J,9,0))))","v":""},null,null,null,null,null,null,null,null,null,null,null,null,null,null,null,null,null,null,null,null,2,{"$f":"IF(N121=\"\",\"\",VLOOKUP(N121,ﾃﾞｰﾀ!A:D,4,0))","v":""},"秒","秒"]
["","",{"$f":"IF(E122=\"\",\"\",IF(AH122=1,COUNTIF(AH$16:AH122,1)*10+2001-10,COUNTIF(AH$16:AH122,2)*10+6001-10))","v":""},107,null,{"$f":"IF($E122=\"\",\"\",IF(ISERROR(VLOOKUP($E122,氏名ﾃﾞｰﾀ!$B:$J,2,0)),IF(ISERROR(VLOOKUP($E122,新規登録!$B:$I,2,0)),\"未登録\",VLOOKUP($E122,新規登録!$B:$I,2,0)),(VLOOKUP($E122,氏名ﾃﾞｰﾀ!$B:$J,2,0))))","v":""},{"$f":"IF($E122=\"\",\"\",IF(ISERROR(VLOOKUP($E122,氏名ﾃﾞｰﾀ!$B:$J,3,0)),IF(ISERROR(VLOOKUP($E122,新規登録!$B:$I,3,0)),\"未登録\",VLOOKUP($E122,新規登録!$B:$I,3,0)),(VLOOKUP($E122,氏名ﾃﾞｰﾀ!$B:$J,3,0))))","v":""},{"$f":"IF($E122=\"\",\"\",IF(ISERROR(VLOOKUP($E122,氏名ﾃﾞｰﾀ!$B:$J,4,0)),IF(ISERROR(VLOOKUP($E122,新規登録!$B:$I,4,0)),\"未登録\",VLOOKUP($E122,新規登録!$B:$I,4,0)),(VLOOKUP($E122,氏名ﾃﾞｰﾀ!$B:$J,4,0))))","v":""},{"$f":"IF($E122=\"\",\"\",IF(ISERROR(VLOOKUP($E122,氏名ﾃﾞｰﾀ!$B:$J,5,0)),IF(ISERROR(VLOOKUP($E122,新規登録!$B:$I,5,0)),\"未登録\",VLOOKUP($E122,新規登録!$B:$I,5,0)),(VLOOKUP($E122,氏名ﾃﾞｰﾀ!$B:$J,5,0))))","v":""},{"$f":"IF($E122=\"\",\"\",IF(ISERROR(VLOOKUP($E122,氏名ﾃﾞｰﾀ!$B:$J,8,0)),IF(ISERROR(VLOOKUP($E122,新規登録!$B:$I,6,0)),\"未登録\",VLOOKUP($E122,新規登録!$B:$I,6,0)),(VLOOKUP($E122,氏名ﾃﾞｰﾀ!$B:$J,8,0))))","v":""},{"$f":"IF($E122=\"\",\"\",IF(ISERROR(VLOOKUP($E122,氏名ﾃﾞｰﾀ!$B:$J,7,0)),IF(ISERROR(VLOOKUP($E122,新規登録!$B:$I,7,0)),\"未登録\",VLOOKUP($E122,新規登録!$B:$I,7,0)),$G$3))","v":""},{"$f":"IF($E122=\"\",\"\",IF(ISERROR(VLOOKUP($E122,氏名ﾃﾞｰﾀ!$B:$J,6,0)),IF(ISERROR(VLOOKUP($E122,新規登録!$B:$I,8,0)),\"ﾅｼ\",VLOOKUP($E122,新規登録!$B:$I,8,0)),(VLOOKUP($E122,氏名ﾃﾞｰﾀ!$B:$J,6,0))))","v":""},{"$f":"IF($E122=\"\",\"\",IF(ISERROR(VLOOKUP($E122,氏名ﾃﾞｰﾀ!$B:$J,9,0)),IF(ISERROR(VLOOKUP($E122,新規登録!$B:$I,9,0)),\"未登録\",VLOOKUP($E122,新規登録!$B:$I,9,0)),(VLOOKUP($E122,氏名ﾃﾞｰﾀ!$B:$J,9,0))))","v":""},null,null,null,null,null,null,null,null,null,null,null,null,null,null,null,null,null,null,null,null,2,{"$f":"IF(N122=\"\",\"\",VLOOKUP(N122,ﾃﾞｰﾀ!A:D,4,0))","v":""},"秒","秒"]
["","",{"$f":"IF(E123=\"\",\"\",IF(AH123=1,COUNTIF(AH$16:AH123,1)*10+2001-10,COUNTIF(AH$16:AH123,2)*10+6001-10))","v":""},108,null,{"$f":"IF($E123=\"\",\"\",IF(ISERROR(VLOOKUP($E123,氏名ﾃﾞｰﾀ!$B:$J,2,0)),IF(ISERROR(VLOOKUP($E123,新規登録!$B:$I,2,0)),\"未登録\",VLOOKUP($E123,新規登録!$B:$I,2,0)),(VLOOKUP($E123,氏名ﾃﾞｰﾀ!$B:$J,2,0))))","v":""},{"$f":"IF($E123=\"\",\"\",IF(ISERROR(VLOOKUP($E123,氏名ﾃﾞｰﾀ!$B:$J,3,0)),IF(ISERROR(VLOOKUP($E123,新規登録!$B:$I,3,0)),\"未登録\",VLOOKUP($E123,新規登録!$B:$I,3,0)),(VLOOKUP($E123,氏名ﾃﾞｰﾀ!$B:$J,3,0))))","v":""},{"$f":"IF($E123=\"\",\"\",IF(ISERROR(VLOOKUP($E123,氏名ﾃﾞｰﾀ!$B:$J,4,0)),IF(ISERROR(VLOOKUP($E123,新規登録!$B:$I,4,0)),\"未登録\",VLOOKUP($E123,新規登録!$B:$I,4,0)),(VLOOKUP($E123,氏名ﾃﾞｰﾀ!$B:$J,4,0))))","v":""},{"$f":"IF($E123=\"\",\"\",IF(ISERROR(VLOOKUP($E123,氏名ﾃﾞｰﾀ!$B:$J,5,0)),IF(ISERROR(VLOOKUP($E123,新規登録!$B:$I,5,0)),\"未登録\",VLOOKUP($E123,新規登録!$B:$I,5,0)),(VLOOKUP($E123,氏名ﾃﾞｰﾀ!$B:$J,5,0))))","v":""},{"$f":"IF($E123=\"\",\"\",IF(ISERROR(VLOOKUP($E123,氏名ﾃﾞｰﾀ!$B:$J,8,0)),IF(ISERROR(VLOOKUP($E123,新規登録!$B:$I,6,0)),\"未登録\",VLOOKUP($E123,新規登録!$B:$I,6,0)),(VLOOKUP($E123,氏名ﾃﾞｰﾀ!$B:$J,8,0))))","v":""},{"$f":"IF($E123=\"\",\"\",IF(ISERROR(VLOOKUP($E123,氏名ﾃﾞｰﾀ!$B:$J,7,0)),IF(ISERROR(VLOOKUP($E123,新規登録!$B:$I,7,0)),\"未登録\",VLOOKUP($E123,新規登録!$B:$I,7,0)),$G$3))","v":""},{"$f":"IF($E123=\"\",\"\",IF(ISERROR(VLOOKUP($E123,氏名ﾃﾞｰﾀ!$B:$J,6,0)),IF(ISERROR(VLOOKUP($E123,新規登録!$B:$I,8,0)),\"ﾅｼ\",VLOOKUP($E123,新規登録!$B:$I,8,0)),(VLOOKUP($E123,氏名ﾃﾞｰﾀ!$B:$J,6,0))))","v":""},{"$f":"IF($E123=\"\",\"\",IF(ISERROR(VLOOKUP($E123,氏名ﾃﾞｰﾀ!$B:$J,9,0)),IF(ISERROR(VLOOKUP($E123,新規登録!$B:$I,9,0)),\"未登録\",VLOOKUP($E123,新規登録!$B:$I,9,0)),(VLOOKUP($E123,氏名ﾃﾞｰﾀ!$B:$J,9,0))))","v":""},null,null,null,null,null,null,null,null,null,null,null,null,null,null,null,null,null,null,null,null,2,{"$f":"IF(N123=\"\",\"\",VLOOKUP(N123,ﾃﾞｰﾀ!A:D,4,0))","v":""},"秒","秒"]
["","",{"$f":"IF(E124=\"\",\"\",IF(AH124=1,COUNTIF(AH$16:AH124,1)*10+2001-10,COUNTIF(AH$16:AH124,2)*10+6001-10))","v":""},109,null,{"$f":"IF($E124=\"\",\"\",IF(ISERROR(VLOOKUP($E124,氏名ﾃﾞｰﾀ!$B:$J,2,0)),IF(ISERROR(VLOOKUP($E124,新規登録!$B:$I,2,0)),\"未登録\",VLOOKUP($E124,新規登録!$B:$I,2,0)),(VLOOKUP($E124,氏名ﾃﾞｰﾀ!$B:$J,2,0))))","v":""},{"$f":"IF($E124=\"\",\"\",IF(ISERROR(VLOOKUP($E124,氏名ﾃﾞｰﾀ!$B:$J,3,0)),IF(ISERROR(VLOOKUP($E124,新規登録!$B:$I,3,0)),\"未登録\",VLOOKUP($E124,新規登録!$B:$I,3,0)),(VLOOKUP($E124,氏名ﾃﾞｰﾀ!$B:$J,3,0))))","v":""},{"$f":"IF($E124=\"\",\"\",IF(ISERROR(VLOOKUP($E124,氏名ﾃﾞｰﾀ!$B:$J,4,0)),IF(ISERROR(VLOOKUP($E124,新規登録!$B:$I,4,0)),\"未登録\",VLOOKUP($E124,新規登録!$B:$I,4,0)),(VLOOKUP($E124,氏名ﾃﾞｰﾀ!$B:$J,4,0))))","v":""},{"$f":"IF($E124=\"\",\"\",IF(ISERROR(VLOOKUP($E124,氏名ﾃﾞｰﾀ!$B:$J,5,0)),IF(ISERROR(VLOOKUP($E124,新規登録!$B:$I,5,0)),\"未登録\",VLOOKUP($E124,新規登録!$B:$I,5,0)),(VLOOKUP($E124,氏名ﾃﾞｰﾀ!$B:$J,5,0))))","v":""},{"$f":"IF($E124=\"\",\"\",IF(ISERROR(VLOOKUP($E124,氏名ﾃﾞｰﾀ!$B:$J,8,0)),IF(ISERROR(VLOOKUP($E124,新規登録!$B:$I,6,0)),\"未登録\",VLOOKUP($E124,新規登録!$B:$I,6,0)),(VLOOKUP($E124,氏名ﾃﾞｰﾀ!$B:$J,8,0))))","v":""},{"$f":"IF($E124=\"\",\"\",IF(ISERROR(VLOOKUP($E124,氏名ﾃﾞｰﾀ!$B:$J,7,0)),IF(ISERROR(VLOOKUP($E124,新規登録!$B:$I,7,0)),\"未登録\",VLOOKUP($E124,新規登録!$B:$I,7,0)),$G$3))","v":""},{"$f":"IF($E124=\"\",\"\",IF(ISERROR(VLOOKUP($E124,氏名ﾃﾞｰﾀ!$B:$J,6,0)),IF(ISERROR(VLOOKUP($E124,新規登録!$B:$I,8,0)),\"ﾅｼ\",VLOOKUP($E124,新規登録!$B:$I,8,0)),(VLOOKUP($E124,氏名ﾃﾞｰﾀ!$B:$J,6,0))))","v":""},{"$f":"IF($E124=\"\",\"\",IF(ISERROR(VLOOKUP($E124,氏名ﾃﾞｰﾀ!$B:$J,9,0)),IF(ISERROR(VLOOKUP($E124,新規登録!$B:$I,9,0)),\"未登録\",VLOOKUP($E124,新規登録!$B:$I,9,0)),(VLOOKUP($E124,氏名ﾃﾞｰﾀ!$B:$J,9,0))))","v":""},null,null,null,null,null,null,null,null,null,null,null,null,null,null,null,null,null,null,null,null,2,{"$f":"IF(N124=\"\",\"\",VLOOKUP(N124,ﾃﾞｰﾀ!A:D,4,0))","v":""},"秒","秒"]
["","",{"$f":"IF(E125=\"\",\"\",IF(AH125=1,COUNTIF(AH$16:AH125,1)*10+2001-10,COUNTIF(AH$16:AH125,2)*10+6001-10))","v":""},110,null,{"$f":"IF($E125=\"\",\"\",IF(ISERROR(VLOOKUP($E125,氏名ﾃﾞｰﾀ!$B:$J,2,0)),IF(ISERROR(VLOOKUP($E125,新規登録!$B:$I,2,0)),\"未登録\",VLOOKUP($E125,新規登録!$B:$I,2,0)),(VLOOKUP($E125,氏名ﾃﾞｰﾀ!$B:$J,2,0))))","v":""},{"$f":"IF($E125=\"\",\"\",IF(ISERROR(VLOOKUP($E125,氏名ﾃﾞｰﾀ!$B:$J,3,0)),IF(ISERROR(VLOOKUP($E125,新規登録!$B:$I,3,0)),\"未登録\",VLOOKUP($E125,新規登録!$B:$I,3,0)),(VLOOKUP($E125,氏名ﾃﾞｰﾀ!$B:$J,3,0))))","v":""},{"$f":"IF($E125=\"\",\"\",IF(ISERROR(VLOOKUP($E125,氏名ﾃﾞｰﾀ!$B:$J,4,0)),IF(ISERROR(VLOOKUP($E125,新規登録!$B:$I,4,0)),\"未登録\",VLOOKUP($E125,新規登録!$B:$I,4,0)),(VLOOKUP($E125,氏名ﾃﾞｰﾀ!$B:$J,4,0))))","v":""},{"$f":"IF($E125=\"\",\"\",IF(ISERROR(VLOOKUP($E125,氏名ﾃﾞｰﾀ!$B:$J,5,0)),IF(ISERROR(VLOOKUP($E125,新規登録!$B:$I,5,0)),\"未登録\",VLOOKUP($E125,新規登録!$B:$I,5,0)),(VLOOKUP($E125,氏名ﾃﾞｰﾀ!$B:$J,5,0))))","v":""},{"$f":"IF($E125=\"\",\"\",IF(ISERROR(VLOOKUP($E125,氏名ﾃﾞｰﾀ!$B:$J,8,0)),IF(ISERROR(VLOOKUP($E125,新規登録!$B:$I,6,0)),\"未登録\",VLOOKUP($E125,新規登録!$B:$I,6,0)),(VLOOKUP($E125,氏名ﾃﾞｰﾀ!$B:$J,8,0))))","v":""},{"$f":"IF($E125=\"\",\"\",IF(ISERROR(VLOOKUP($E125,氏名ﾃﾞｰﾀ!$B:$J,7,0)),IF(ISERROR(VLOOKUP($E125,新規登録!$B:$I,7,0)),\"未登録\",VLOOKUP($E125,新規登録!$B:$I,7,0)),$G$3))","v":""},{"$f":"IF($E125=\"\",\"\",IF(ISERROR(VLOOKUP($E125,氏名ﾃﾞｰﾀ!$B:$J,6,0)),IF(ISERROR(VLOOKUP($E125,新規登録!$B:$I,8,0)),\"ﾅｼ\",VLOOKUP($E125,新規登録!$B:$I,8,0)),(VLOOKUP($E125,氏名ﾃﾞｰﾀ!$B:$J,6,0))))","v":""},{"$f":"IF($E125=\"\",\"\",IF(ISERROR(VLOOKUP($E125,氏名ﾃﾞｰﾀ!$B:$J,9,0)),IF(ISERROR(VLOOKUP($E125,新規登録!$B:$I,9,0)),\"未登録\",VLOOKUP($E125,新規登録!$B:$I,9,0)),(VLOOKUP($E125,氏名ﾃﾞｰﾀ!$B:$J,9,0))))","v":""},null,null,null,null,null,null,null,null,null,null,null,null,null,null,null,null,null,null,null,null,2,{"$f":"IF(N125=\"\",\"\",VLOOKUP(N125,ﾃﾞｰﾀ!A:D,4,0))","v":""},"秒","秒"]
["","",{"$f":"IF(E126=\"\",\"\",IF(AH126=1,COUNTIF(AH$16:AH126,1)*10+2001-10,COUNTIF(AH$16:AH126,2)*10+6001-10))","v":""},111,null,{"$f":"IF($E126=\"\",\"\",IF(ISERROR(VLOOKUP($E126,氏名ﾃﾞｰﾀ!$B:$J,2,0)),IF(ISERROR(VLOOKUP($E126,新規登録!$B:$I,2,0)),\"未登録\",VLOOKUP($E126,新規登録!$B:$I,2,0)),(VLOOKUP($E126,氏名ﾃﾞｰﾀ!$B:$J,2,0))))","v":""},{"$f":"IF($E126=\"\",\"\",IF(ISERROR(VLOOKUP($E126,氏名ﾃﾞｰﾀ!$B:$J,3,0)),IF(ISERROR(VLOOKUP($E126,新規登録!$B:$I,3,0)),\"未登録\",VLOOKUP($E126,新規登録!$B:$I,3,0)),(VLOOKUP($E126,氏名ﾃﾞｰﾀ!$B:$J,3,0))))","v":""},{"$f":"IF($E126=\"\",\"\",IF(ISERROR(VLOOKUP($E126,氏名ﾃﾞｰﾀ!$B:$J,4,0)),IF(ISERROR(VLOOKUP($E126,新規登録!$B:$I,4,0)),\"未登録\",VLOOKUP($E126,新規登録!$B:$I,4,0)),(VLOOKUP($E126,氏名ﾃﾞｰﾀ!$B:$J,4,0))))","v":""},{"$f":"IF($E126=\"\",\"\",IF(ISERROR(VLOOKUP($E126,氏名ﾃﾞｰﾀ!$B:$J,5,0)),IF(ISERROR(VLOOKUP($E126,新規登録!$B:$I,5,0)),\"未登録\",VLOOKUP($E126,新規登録!$B:$I,5,0)),(VLOOKUP($E126,氏名ﾃﾞｰﾀ!$B:$J,5,0))))","v":""},{"$f":"IF($E126=\"\",\"\",IF(ISERROR(VLOOKUP($E126,氏名ﾃﾞｰﾀ!$B:$J,8,0)),IF(ISERROR(VLOOKUP($E126,新規登録!$B:$I,6,0)),\"未登録\",VLOOKUP($E126,新規登録!$B:$I,6,0)),(VLOOKUP($E126,氏名ﾃﾞｰﾀ!$B:$J,8,0))))","v":""},{"$f":"IF($E126=\"\",\"\",IF(ISERROR(VLOOKUP($E126,氏名ﾃﾞｰﾀ!$B:$J,7,0)),IF(ISERROR(VLOOKUP($E126,新規登録!$B:$I,7,0)),\"未登録\",VLOOKUP($E126,新規登録!$B:$I,7,0)),$G$3))","v":""},{"$f":"IF($E126=\"\",\"\",IF(ISERROR(VLOOKUP($E126,氏名ﾃﾞｰﾀ!$B:$J,6,0)),IF(ISERROR(VLOOKUP($E126,新規登録!$B:$I,8,0)),\"ﾅｼ\",VLOOKUP($E126,新規登録!$B:$I,8,0)),(VLOOKUP($E126,氏名ﾃﾞｰﾀ!$B:$J,6,0))))","v":""},{"$f":"IF($E126=\"\",\"\",IF(ISERROR(VLOOKUP($E126,氏名ﾃﾞｰﾀ!$B:$J,9,0)),IF(ISERROR(VLOOKUP($E126,新規登録!$B:$I,9,0)),\"未登録\",VLOOKUP($E126,新規登録!$B:$I,9,0)),(VLOOKUP($E126,氏名ﾃﾞｰﾀ!$B:$J,9,0))))","v":""},null,null,null,null,null,null,null,null,null,null,null,null,null,null,null,null,null,null,null,null,2,{"$f":"IF(N126=\"\",\"\",VLOOKUP(N126,ﾃﾞｰﾀ!A:D,4,0))","v":""},"秒","秒"]
["","",{"$f":"IF(E127=\"\",\"\",IF(AH127=1,COUNTIF(AH$16:AH127,1)*10+2001-10,COUNTIF(AH$16:AH127,2)*10+6001-10))","v":""},112,null,{"$f":"IF($E127=\"\",\"\",IF(ISERROR(VLOOKUP($E127,氏名ﾃﾞｰﾀ!$B:$J,2,0)),IF(ISERROR(VLOOKUP($E127,新規登録!$B:$I,2,0)),\"未登録\",VLOOKUP($E127,新規登録!$B:$I,2,0)),(VLOOKUP($E127,氏名ﾃﾞｰﾀ!$B:$J,2,0))))","v":""},{"$f":"IF($E127=\"\",\"\",IF(ISERROR(VLOOKUP($E127,氏名ﾃﾞｰﾀ!$B:$J,3,0)),IF(ISERROR(VLOOKUP($E127,新規登録!$B:$I,3,0)),\"未登録\",VLOOKUP($E127,新規登録!$B:$I,3,0)),(VLOOKUP($E127,氏名ﾃﾞｰﾀ!$B:$J,3,0))))","v":""},{"$f":"IF($E127=\"\",\"\",IF(ISERROR(VLOOKUP($E127,氏名ﾃﾞｰﾀ!$B:$J,4,0)),IF(ISERROR(VLOOKUP($E127,新規登録!$B:$I,4,0)),\"未登録\",VLOOKUP($E127,新規登録!$B:$I,4,0)),(VLOOKUP($E127,氏名ﾃﾞｰﾀ!$B:$J,4,0))))","v":""},{"$f":"IF($E127=\"\",\"\",IF(ISERROR(VLOOKUP($E127,氏名ﾃﾞｰﾀ!$B:$J,5,0)),IF(ISERROR(VLOOKUP($E127,新規登録!$B:$I,5,0)),\"未登録\",VLOOKUP($E127,新規登録!$B:$I,5,0)),(VLOOKUP($E127,氏名ﾃﾞｰﾀ!$B:$J,5,0))))","v":""},{"$f":"IF($E127=\"\",\"\",IF(ISERROR(VLOOKUP($E127,氏名ﾃﾞｰﾀ!$B:$J,8,0)),IF(ISERROR(VLOOKUP($E127,新規登録!$B:$I,6,0)),\"未登録\",VLOOKUP($E127,新規登録!$B:$I,6,0)),(VLOOKUP($E127,氏名ﾃﾞｰﾀ!$B:$J,8,0))))","v":""},{"$f":"IF($E127=\"\",\"\",IF(ISERROR(VLOOKUP($E127,氏名ﾃﾞｰﾀ!$B:$J,7,0)),IF(ISERROR(VLOOKUP($E127,新規登録!$B:$I,7,0)),\"未登録\",VLOOKUP($E127,新規登録!$B:$I,7,0)),$G$3))","v":""},{"$f":"IF($E127=\"\",\"\",IF(ISERROR(VLOOKUP($E127,氏名ﾃﾞｰﾀ!$B:$J,6,0)),IF(ISERROR(VLOOKUP($E127,新規登録!$B:$I,8,0)),\"ﾅｼ\",VLOOKUP($E127,新規登録!$B:$I,8,0)),(VLOOKUP($E127,氏名ﾃﾞｰﾀ!$B:$J,6,0))))","v":""},{"$f":"IF($E127=\"\",\"\",IF(ISERROR(VLOOKUP($E127,氏名ﾃﾞｰﾀ!$B:$J,9,0)),IF(ISERROR(VLOOKUP($E127,新規登録!$B:$I,9,0)),\"未登録\",VLOOKUP($E127,新規登録!$B:$I,9,0)),(VLOOKUP($E127,氏名ﾃﾞｰﾀ!$B:$J,9,0))))","v":""},null,null,null,null,null,null,null,null,null,null,null,null,null,null,null,null,null,null,null,null,2,{"$f":"IF(N127=\"\",\"\",VLOOKUP(N127,ﾃﾞｰﾀ!A:D,4,0))","v":""},"秒","秒"]
["","",{"$f":"IF(E128=\"\",\"\",IF(AH128=1,COUNTIF(AH$16:AH128,1)*10+2001-10,COUNTIF(AH$16:AH128,2)*10+6001-10))","v":""},113,null,{"$f":"IF($E128=\"\",\"\",IF(ISERROR(VLOOKUP($E128,氏名ﾃﾞｰﾀ!$B:$J,2,0)),IF(ISERROR(VLOOKUP($E128,新規登録!$B:$I,2,0)),\"未登録\",VLOOKUP($E128,新規登録!$B:$I,2,0)),(VLOOKUP($E128,氏名ﾃﾞｰﾀ!$B:$J,2,0))))","v":""},{"$f":"IF($E128=\"\",\"\",IF(ISERROR(VLOOKUP($E128,氏名ﾃﾞｰﾀ!$B:$J,3,0)),IF(ISERROR(VLOOKUP($E128,新規登録!$B:$I,3,0)),\"未登録\",VLOOKUP($E128,新規登録!$B:$I,3,0)),(VLOOKUP($E128,氏名ﾃﾞｰﾀ!$B:$J,3,0))))","v":""},{"$f":"IF($E128=\"\",\"\",IF(ISERROR(VLOOKUP($E128,氏名ﾃﾞｰﾀ!$B:$J,4,0)),IF(ISERROR(VLOOKUP($E128,新規登録!$B:$I,4,0)),\"未登録\",VLOOKUP($E128,新規登録!$B:$I,4,0)),(VLOOKUP($E128,氏名ﾃﾞｰﾀ!$B:$J,4,0))))","v":""},{"$f":"IF($E128=\"\",\"\",IF(ISERROR(VLOOKUP($E128,氏名ﾃﾞｰﾀ!$B:$J,5,0)),IF(ISERROR(VLOOKUP($E128,新規登録!$B:$I,5,0)),\"未登録\",VLOOKUP($E128,新規登録!$B:$I,5,0)),(VLOOKUP($E128,氏名ﾃﾞｰﾀ!$B:$J,5,0))))","v":""},{"$f":"IF($E128=\"\",\"\",IF(ISERROR(VLOOKUP($E128,氏名ﾃﾞｰﾀ!$B:$J,8,0)),IF(ISERROR(VLOOKUP($E128,新規登録!$B:$I,6,0)),\"未登録\",VLOOKUP($E128,新規登録!$B:$I,6,0)),(VLOOKUP($E128,氏名ﾃﾞｰﾀ!$B:$J,8,0))))","v":""},{"$f":"IF($E128=\"\",\"\",IF(ISERROR(VLOOKUP($E128,氏名ﾃﾞｰﾀ!$B:$J,7,0)),IF(ISERROR(VLOOKUP($E128,新規登録!$B:$I,7,0)),\"未登録\",VLOOKUP($E128,新規登録!$B:$I,7,0)),$G$3))","v":""},{"$f":"IF($E128=\"\",\"\",IF(ISERROR(VLOOKUP($E128,氏名ﾃﾞｰﾀ!$B:$J,6,0)),IF(ISERROR(VLOOKUP($E128,新規登録!$B:$I,8,0)),\"ﾅｼ\",VLOOKUP($E128,新規登録!$B:$I,8,0)),(VLOOKUP($E128,氏名ﾃﾞｰﾀ!$B:$J,6,0))))","v":""},{"$f":"IF($E128=\"\",\"\",IF(ISERROR(VLOOKUP($E128,氏名ﾃﾞｰﾀ!$B:$J,9,0)),IF(ISERROR(VLOOKUP($E128,新規登録!$B:$I,9,0)),\"未登録\",VLOOKUP($E128,新規登録!$B:$I,9,0)),(VLOOKUP($E128,氏名ﾃﾞｰﾀ!$B:$J,9,0))))","v":""},null,null,null,null,null,null,null,null,null,null,null,null,null,null,null,null,null,null,null,null,2,{"$f":"IF(N128=\"\",\"\",VLOOKUP(N128,ﾃﾞｰﾀ!A:D,4,0))","v":""},"秒","秒"]
["","",{"$f":"IF(E129=\"\",\"\",IF(AH129=1,COUNTIF(AH$16:AH129,1)*10+2001-10,COUNTIF(AH$16:AH129,2)*10+6001-10))","v":""},114,null,{"$f":"IF($E129=\"\",\"\",IF(ISERROR(VLOOKUP($E129,氏名ﾃﾞｰﾀ!$B:$J,2,0)),IF(ISERROR(VLOOKUP($E129,新規登録!$B:$I,2,0)),\"未登録\",VLOOKUP($E129,新規登録!$B:$I,2,0)),(VLOOKUP($E129,氏名ﾃﾞｰﾀ!$B:$J,2,0))))","v":""},{"$f":"IF($E129=\"\",\"\",IF(ISERROR(VLOOKUP($E129,氏名ﾃﾞｰﾀ!$B:$J,3,0)),IF(ISERROR(VLOOKUP($E129,新規登録!$B:$I,3,0)),\"未登録\",VLOOKUP($E129,新規登録!$B:$I,3,0)),(VLOOKUP($E129,氏名ﾃﾞｰﾀ!$B:$J,3,0))))","v":""},{"$f":"IF($E129=\"\",\"\",IF(ISERROR(VLOOKUP($E129,氏名ﾃﾞｰﾀ!$B:$J,4,0)),IF(ISERROR(VLOOKUP($E129,新規登録!$B:$I,4,0)),\"未登録\",VLOOKUP($E129,新規登録!$B:$I,4,0)),(VLOOKUP($E129,氏名ﾃﾞｰﾀ!$B:$J,4,0))))","v":""},{"$f":"IF($E129=\"\",\"\",IF(ISERROR(VLOOKUP($E129,氏名ﾃﾞｰﾀ!$B:$J,5,0)),IF(ISERROR(VLOOKUP($E129,新規登録!$B:$I,5,0)),\"未登録\",VLOOKUP($E129,新規登録!$B:$I,5,0)),(VLOOKUP($E129,氏名ﾃﾞｰﾀ!$B:$J,5,0))))","v":""},{"$f":"IF($E129=\"\",\"\",IF(ISERROR(VLOOKUP($E129,氏名ﾃﾞｰﾀ!$B:$J,8,0)),IF(ISERROR(VLOOKUP($E129,新規登録!$B:$I,6,0)),\"未登録\",VLOOKUP($E129,新規登録!$B:$I,6,0)),(VLOOKUP($E129,氏名ﾃﾞｰﾀ!$B:$J,8,0))))","v":""},{"$f":"IF($E129=\"\",\"\",IF(ISERROR(VLOOKUP($E129,氏名ﾃﾞｰﾀ!$B:$J,7,0)),IF(ISERROR(VLOOKUP($E129,新規登録!$B:$I,7,0)),\"未登録\",VLOOKUP($E129,新規登録!$B:$I,7,0)),$G$3))","v":""},{"$f":"IF($E129=\"\",\"\",IF(ISERROR(VLOOKUP($E129,氏名ﾃﾞｰﾀ!$B:$J,6,0)),IF(ISERROR(VLOOKUP($E129,新規登録!$B:$I,8,0)),\"ﾅｼ\",VLOOKUP($E129,新規登録!$B:$I,8,0)),(VLOOKUP($E129,氏名ﾃﾞｰﾀ!$B:$J,6,0))))","v":""},{"$f":"IF($E129=\"\",\"\",IF(ISERROR(VLOOKUP($E129,氏名ﾃﾞｰﾀ!$B:$J,9,0)),IF(ISERROR(VLOOKUP($E129,新規登録!$B:$I,9,0)),\"未登録\",VLOOKUP($E129,新規登録!$B:$I,9,0)),(VLOOKUP($E129,氏名ﾃﾞｰﾀ!$B:$J,9,0))))","v":""},null,null,null,null,null,null,null,null,null,null,null,null,null,null,null,null,null,null,null,null,2,{"$f":"IF(N129=\"\",\"\",VLOOKUP(N129,ﾃﾞｰﾀ!A:D,4,0))","v":""},"秒","秒"]
["","",{"$f":"IF(E130=\"\",\"\",IF(AH130=1,COUNTIF(AH$16:AH130,1)*10+2001-10,COUNTIF(AH$16:AH130,2)*10+6001-10))","v":""},115,null,{"$f":"IF($E130=\"\",\"\",IF(ISERROR(VLOOKUP($E130,氏名ﾃﾞｰﾀ!$B:$J,2,0)),IF(ISERROR(VLOOKUP($E130,新規登録!$B:$I,2,0)),\"未登録\",VLOOKUP($E130,新規登録!$B:$I,2,0)),(VLOOKUP($E130,氏名ﾃﾞｰﾀ!$B:$J,2,0))))","v":""},{"$f":"IF($E130=\"\",\"\",IF(ISERROR(VLOOKUP($E130,氏名ﾃﾞｰﾀ!$B:$J,3,0)),IF(ISERROR(VLOOKUP($E130,新規登録!$B:$I,3,0)),\"未登録\",VLOOKUP($E130,新規登録!$B:$I,3,0)),(VLOOKUP($E130,氏名ﾃﾞｰﾀ!$B:$J,3,0))))","v":""},{"$f":"IF($E130=\"\",\"\",IF(ISERROR(VLOOKUP($E130,氏名ﾃﾞｰﾀ!$B:$J,4,0)),IF(ISERROR(VLOOKUP($E130,新規登録!$B:$I,4,0)),\"未登録\",VLOOKUP($E130,新規登録!$B:$I,4,0)),(VLOOKUP($E130,氏名ﾃﾞｰﾀ!$B:$J,4,0))))","v":""},{"$f":"IF($E130=\"\",\"\",IF(ISERROR(VLOOKUP($E130,氏名ﾃﾞｰﾀ!$B:$J,5,0)),IF(ISERROR(VLOOKUP($E130,新規登録!$B:$I,5,0)),\"未登録\",VLOOKUP($E130,新規登録!$B:$I,5,0)),(VLOOKUP($E130,氏名ﾃﾞｰﾀ!$B:$J,5,0))))","v":""},{"$f":"IF($E130=\"\",\"\",IF(ISERROR(VLOOKUP($E130,氏名ﾃﾞｰﾀ!$B:$J,8,0)),IF(ISERROR(VLOOKUP($E130,新規登録!$B:$I,6,0)),\"未登録\",VLOOKUP($E130,新規登録!$B:$I,6,0)),(VLOOKUP($E130,氏名ﾃﾞｰﾀ!$B:$J,8,0))))","v":""},{"$f":"IF($E130=\"\",\"\",IF(ISERROR(VLOOKUP($E130,氏名ﾃﾞｰﾀ!$B:$J,7,0)),IF(ISERROR(VLOOKUP($E130,新規登録!$B:$I,7,0)),\"未登録\",VLOOKUP($E130,新規登録!$B:$I,7,0)),$G$3))","v":""},{"$f":"IF($E130=\"\",\"\",IF(ISERROR(VLOOKUP($E130,氏名ﾃﾞｰﾀ!$B:$J,6,0)),IF(ISERROR(VLOOKUP($E130,新規登録!$B:$I,8,0)),\"ﾅｼ\",VLOOKUP($E130,新規登録!$B:$I,8,0)),(VLOOKUP($E130,氏名ﾃﾞｰﾀ!$B:$J,6,0))))","v":""},{"$f":"IF($E130=\"\",\"\",IF(ISERROR(VLOOKUP($E130,氏名ﾃﾞｰﾀ!$B:$J,9,0)),IF(ISERROR(VLOOKUP($E130,新規登録!$B:$I,9,0)),\"未登録\",VLOOKUP($E130,新規登録!$B:$I,9,0)),(VLOOKUP($E130,氏名ﾃﾞｰﾀ!$B:$J,9,0))))","v":""},null,null,null,null,null,null,null,null,null,null,null,null,null,null,null,null,null,null,null,null,2,{"$f":"IF(N130=\"\",\"\",VLOOKUP(N130,ﾃﾞｰﾀ!A:D,4,0))","v":""},"秒","秒"]
["","",{"$f":"IF(E131=\"\",\"\",IF(AH131=1,COUNTIF(AH$16:AH131,1)*10+2001-10,COUNTIF(AH$16:AH131,2)*10+6001-10))","v":""},116,null,{"$f":"IF($E131=\"\",\"\",IF(ISERROR(VLOOKUP($E131,氏名ﾃﾞｰﾀ!$B:$J,2,0)),IF(ISERROR(VLOOKUP($E131,新規登録!$B:$I,2,0)),\"未登録\",VLOOKUP($E131,新規登録!$B:$I,2,0)),(VLOOKUP($E131,氏名ﾃﾞｰﾀ!$B:$J,2,0))))","v":""},{"$f":"IF($E131=\"\",\"\",IF(ISERROR(VLOOKUP($E131,氏名ﾃﾞｰﾀ!$B:$J,3,0)),IF(ISERROR(VLOOKUP($E131,新規登録!$B:$I,3,0)),\"未登録\",VLOOKUP($E131,新規登録!$B:$I,3,0)),(VLOOKUP($E131,氏名ﾃﾞｰﾀ!$B:$J,3,0))))","v":""},{"$f":"IF($E131=\"\",\"\",IF(ISERROR(VLOOKUP($E131,氏名ﾃﾞｰﾀ!$B:$J,4,0)),IF(ISERROR(VLOOKUP($E131,新規登録!$B:$I,4,0)),\"未登録\",VLOOKUP($E131,新規登録!$B:$I,4,0)),(VLOOKUP($E131,氏名ﾃﾞｰﾀ!$B:$J,4,0))))","v":""},{"$f":"IF($E131=\"\",\"\",IF(ISERROR(VLOOKUP($E131,氏名ﾃﾞｰﾀ!$B:$J,5,0)),IF(ISERROR(VLOOKUP($E131,新規登録!$B:$I,5,0)),\"未登録\",VLOOKUP($E131,新規登録!$B:$I,5,0)),(VLOOKUP($E131,氏名ﾃﾞｰﾀ!$B:$J,5,0))))","v":""},{"$f":"IF($E131=\"\",\"\",IF(ISERROR(VLOOKUP($E131,氏名ﾃﾞｰﾀ!$B:$J,8,0)),IF(ISERROR(VLOOKUP($E131,新規登録!$B:$I,6,0)),\"未登録\",VLOOKUP($E131,新規登録!$B:$I,6,0)),(VLOOKUP($E131,氏名ﾃﾞｰﾀ!$B:$J,8,0))))","v":""},{"$f":"IF($E131=\"\",\"\",IF(ISERROR(VLOOKUP($E131,氏名ﾃﾞｰﾀ!$B:$J,7,0)),IF(ISERROR(VLOOKUP($E131,新規登録!$B:$I,7,0)),\"未登録\",VLOOKUP($E131,新規登録!$B:$I,7,0)),$G$3))","v":""},{"$f":"IF($E131=\"\",\"\",IF(ISERROR(VLOOKUP($E131,氏名ﾃﾞｰﾀ!$B:$J,6,0)),IF(ISERROR(VLOOKUP($E131,新規登録!$B:$I,8,0)),\"ﾅｼ\",VLOOKUP($E131,新規登録!$B:$I,8,0)),(VLOOKUP($E131,氏名ﾃﾞｰﾀ!$B:$J,6,0))))","v":""},{"$f":"IF($E131=\"\",\"\",IF(ISERROR(VLOOKUP($E131,氏名ﾃﾞｰﾀ!$B:$J,9,0)),IF(ISERROR(VLOOKUP($E131,新規登録!$B:$I,9,0)),\"未登録\",VLOOKUP($E131,新規登録!$B:$I,9,0)),(VLOOKUP($E131,氏名ﾃﾞｰﾀ!$B:$J,9,0))))","v":""},null,null,null,null,null,null,null,null,null,null,null,null,null,null,null,null,null,null,null,null,2,{"$f":"IF(N131=\"\",\"\",VLOOKUP(N131,ﾃﾞｰﾀ!A:D,4,0))","v":""},"秒","秒"]
["","",{"$f":"IF(E132=\"\",\"\",IF(AH132=1,COUNTIF(AH$16:AH132,1)*10+2001-10,COUNTIF(AH$16:AH132,2)*10+6001-10))","v":""},117,null,{"$f":"IF($E132=\"\",\"\",IF(ISERROR(VLOOKUP($E132,氏名ﾃﾞｰﾀ!$B:$J,2,0)),IF(ISERROR(VLOOKUP($E132,新規登録!$B:$I,2,0)),\"未登録\",VLOOKUP($E132,新規登録!$B:$I,2,0)),(VLOOKUP($E132,氏名ﾃﾞｰﾀ!$B:$J,2,0))))","v":""},{"$f":"IF($E132=\"\",\"\",IF(ISERROR(VLOOKUP($E132,氏名ﾃﾞｰﾀ!$B:$J,3,0)),IF(ISERROR(VLOOKUP($E132,新規登録!$B:$I,3,0)),\"未登録\",VLOOKUP($E132,新規登録!$B:$I,3,0)),(VLOOKUP($E132,氏名ﾃﾞｰﾀ!$B:$J,3,0))))","v":""},{"$f":"IF($E132=\"\",\"\",IF(ISERROR(VLOOKUP($E132,氏名ﾃﾞｰﾀ!$B:$J,4,0)),IF(ISERROR(VLOOKUP($E132,新規登録!$B:$I,4,0)),\"未登録\",VLOOKUP($E132,新規登録!$B:$I,4,0)),(VLOOKUP($E132,氏名ﾃﾞｰﾀ!$B:$J,4,0))))","v":""},{"$f":"IF($E132=\"\",\"\",IF(ISERROR(VLOOKUP($E132,氏名ﾃﾞｰﾀ!$B:$J,5,0)),IF(ISERROR(VLOOKUP($E132,新規登録!$B:$I,5,0)),\"未登録\",VLOOKUP($E132,新規登録!$B:$I,5,0)),(VLOOKUP($E132,氏名ﾃﾞｰﾀ!$B:$J,5,0))))","v":""},{"$f":"IF($E132=\"\",\"\",IF(ISERROR(VLOOKUP($E132,氏名ﾃﾞｰﾀ!$B:$J,8,0)),IF(ISERROR(VLOOKUP($E132,新規登録!$B:$I,6,0)),\"未登録\",VLOOKUP($E132,新規登録!$B:$I,6,0)),(VLOOKUP($E132,氏名ﾃﾞｰﾀ!$B:$J,8,0))))","v":""},{"$f":"IF($E132=\"\",\"\",IF(ISERROR(VLOOKUP($E132,氏名ﾃﾞｰﾀ!$B:$J,7,0)),IF(ISERROR(VLOOKUP($E132,新規登録!$B:$I,7,0)),\"未登録\",VLOOKUP($E132,新規登録!$B:$I,7,0)),$G$3))","v":""},{"$f":"IF($E132=\"\",\"\",IF(ISERROR(VLOOKUP($E132,氏名ﾃﾞｰﾀ!$B:$J,6,0)),IF(ISERROR(VLOOKUP($E132,新規登録!$B:$I,8,0)),\"ﾅｼ\",VLOOKUP($E132,新規登録!$B:$I,8,0)),(VLOOKUP($E132,氏名ﾃﾞｰﾀ!$B:$J,6,0))))","v":""},{"$f":"IF($E132=\"\",\"\",IF(ISERROR(VLOOKUP($E132,氏名ﾃﾞｰﾀ!$B:$J,9,0)),IF(ISERROR(VLOOKUP($E132,新規登録!$B:$I,9,0)),\"未登録\",VLOOKUP($E132,新規登録!$B:$I,9,0)),(VLOOKUP($E132,氏名ﾃﾞｰﾀ!$B:$J,9,0))))","v":""},null,null,null,null,null,null,null,null,null,null,null,null,null,null,null,null,null,null,null,null,2,{"$f":"IF(N132=\"\",\"\",VLOOKUP(N132,ﾃﾞｰﾀ!A:D,4,0))","v":""},"秒","秒"]
["","",{"$f":"IF(E133=\"\",\"\",IF(AH133=1,COUNTIF(AH$16:AH133,1)*10+2001-10,COUNTIF(AH$16:AH133,2)*10+6001-10))","v":""},118,null,{"$f":"IF($E133=\"\",\"\",IF(ISERROR(VLOOKUP($E133,氏名ﾃﾞｰﾀ!$B:$J,2,0)),IF(ISERROR(VLOOKUP($E133,新規登録!$B:$I,2,0)),\"未登録\",VLOOKUP($E133,新規登録!$B:$I,2,0)),(VLOOKUP($E133,氏名ﾃﾞｰﾀ!$B:$J,2,0))))","v":""},{"$f":"IF($E133=\"\",\"\",IF(ISERROR(VLOOKUP($E133,氏名ﾃﾞｰﾀ!$B:$J,3,0)),IF(ISERROR(VLOOKUP($E133,新規登録!$B:$I,3,0)),\"未登録\",VLOOKUP($E133,新規登録!$B:$I,3,0)),(VLOOKUP($E133,氏名ﾃﾞｰﾀ!$B:$J,3,0))))","v":""},{"$f":"IF($E133=\"\",\"\",IF(ISERROR(VLOOKUP($E133,氏名ﾃﾞｰﾀ!$B:$J,4,0)),IF(ISERROR(VLOOKUP($E133,新規登録!$B:$I,4,0)),\"未登録\",VLOOKUP($E133,新規登録!$B:$I,4,0)),(VLOOKUP($E133,氏名ﾃﾞｰﾀ!$B:$J,4,0))))","v":""},{"$f":"IF($E133=\"\",\"\",IF(ISERROR(VLOOKUP($E133,氏名ﾃﾞｰﾀ!$B:$J,5,0)),IF(ISERROR(VLOOKUP($E133,新規登録!$B:$I,5,0)),\"未登録\",VLOOKUP($E133,新規登録!$B:$I,5,0)),(VLOOKUP($E133,氏名ﾃﾞｰﾀ!$B:$J,5,0))))","v":""},{"$f":"IF($E133=\"\",\"\",IF(ISERROR(VLOOKUP($E133,氏名ﾃﾞｰﾀ!$B:$J,8,0)),IF(ISERROR(VLOOKUP($E133,新規登録!$B:$I,6,0)),\"未登録\",VLOOKUP($E133,新規登録!$B:$I,6,0)),(VLOOKUP($E133,氏名ﾃﾞｰﾀ!$B:$J,8,0))))","v":""},{"$f":"IF($E133=\"\",\"\",IF(ISERROR(VLOOKUP($E133,氏名ﾃﾞｰﾀ!$B:$J,7,0)),IF(ISERROR(VLOOKUP($E133,新規登録!$B:$I,7,0)),\"未登録\",VLOOKUP($E133,新規登録!$B:$I,7,0)),$G$3))","v":""},{"$f":"IF($E133=\"\",\"\",IF(ISERROR(VLOOKUP($E133,氏名ﾃﾞｰﾀ!$B:$J,6,0)),IF(ISERROR(VLOOKUP($E133,新規登録!$B:$I,8,0)),\"ﾅｼ\",VLOOKUP($E133,新規登録!$B:$I,8,0)),(VLOOKUP($E133,氏名ﾃﾞｰﾀ!$B:$J,6,0))))","v":""},{"$f":"IF($E133=\"\",\"\",IF(ISERROR(VLOOKUP($E133,氏名ﾃﾞｰﾀ!$B:$J,9,0)),IF(ISERROR(VLOOKUP($E133,新規登録!$B:$I,9,0)),\"未登録\",VLOOKUP($E133,新規登録!$B:$I,9,0)),(VLOOKUP($E133,氏名ﾃﾞｰﾀ!$B:$J,9,0))))","v":""},null,null,null,null,null,null,null,null,null,null,null,null,null,null,null,null,null,null,null,null,2,{"$f":"IF(N133=\"\",\"\",VLOOKUP(N133,ﾃﾞｰﾀ!A:D,4,0))","v":""},"秒","秒"]
["","",{"$f":"IF(E134=\"\",\"\",IF(AH134=1,COUNTIF(AH$16:AH134,1)*10+2001-10,COUNTIF(AH$16:AH134,2)*10+6001-10))","v":""},119,null,{"$f":"IF($E134=\"\",\"\",IF(ISERROR(VLOOKUP($E134,氏名ﾃﾞｰﾀ!$B:$J,2,0)),IF(ISERROR(VLOOKUP($E134,新規登録!$B:$I,2,0)),\"未登録\",VLOOKUP($E134,新規登録!$B:$I,2,0)),(VLOOKUP($E134,氏名ﾃﾞｰﾀ!$B:$J,2,0))))","v":""},{"$f":"IF($E134=\"\",\"\",IF(ISERROR(VLOOKUP($E134,氏名ﾃﾞｰﾀ!$B:$J,3,0)),IF(ISERROR(VLOOKUP($E134,新規登録!$B:$I,3,0)),\"未登録\",VLOOKUP($E134,新規登録!$B:$I,3,0)),(VLOOKUP($E134,氏名ﾃﾞｰﾀ!$B:$J,3,0))))","v":""},{"$f":"IF($E134=\"\",\"\",IF(ISERROR(VLOOKUP($E134,氏名ﾃﾞｰﾀ!$B:$J,4,0)),IF(ISERROR(VLOOKUP($E134,新規登録!$B:$I,4,0)),\"未登録\",VLOOKUP($E134,新規登録!$B:$I,4,0)),(VLOOKUP($E134,氏名ﾃﾞｰﾀ!$B:$J,4,0))))","v":""},{"$f":"IF($E134=\"\",\"\",IF(ISERROR(VLOOKUP($E134,氏名ﾃﾞｰﾀ!$B:$J,5,0)),IF(ISERROR(VLOOKUP($E134,新規登録!$B:$I,5,0)),\"未登録\",VLOOKUP($E134,新規登録!$B:$I,5,0)),(VLOOKUP($E134,氏名ﾃﾞｰﾀ!$B:$J,5,0))))","v":""},{"$f":"IF($E134=\"\",\"\",IF(ISERROR(VLOOKUP($E134,氏名ﾃﾞｰﾀ!$B:$J,8,0)),IF(ISERROR(VLOOKUP($E134,新規登録!$B:$I,6,0)),\"未登録\",VLOOKUP($E134,新規登録!$B:$I,6,0)),(VLOOKUP($E134,氏名ﾃﾞｰﾀ!$B:$J,8,0))))","v":""},{"$f":"IF($E134=\"\",\"\",IF(ISERROR(VLOOKUP($E134,氏名ﾃﾞｰﾀ!$B:$J,7,0)),IF(ISERROR(VLOOKUP($E134,新規登録!$B:$I,7,0)),\"未登録\",VLOOKUP($E134,新規登録!$B:$I,7,0)),$G$3))","v":""},{"$f":"IF($E134=\"\",\"\",IF(ISERROR(VLOOKUP($E134,氏名ﾃﾞｰﾀ!$B:$J,6,0)),IF(ISERROR(VLOOKUP($E134,新規登録!$B:$I,8,0)),\"ﾅｼ\",VLOOKUP($E134,新規登録!$B:$I,8,0)),(VLOOKUP($E134,氏名ﾃﾞｰﾀ!$B:$J,6,0))))","v":""},{"$f":"IF($E134=\"\",\"\",IF(ISERROR(VLOOKUP($E134,氏名ﾃﾞｰﾀ!$B:$J,9,0)),IF(ISERROR(VLOOKUP($E134,新規登録!$B:$I,9,0)),\"未登録\",VLOOKUP($E134,新規登録!$B:$I,9,0)),(VLOOKUP($E134,氏名ﾃﾞｰﾀ!$B:$J,9,0))))","v":""},null,null,null,null,null,null,null,null,null,null,null,null,null,null,null,null,null,null,null,null,2,{"$f":"IF(N134=\"\",\"\",VLOOKUP(N134,ﾃﾞｰﾀ!A:D,4,0))","v":""},"秒","秒"]
["","",{"$f":"IF(E135=\"\",\"\",IF(AH135=1,COUNTIF(AH$16:AH135,1)*10+2001-10,COUNTIF(AH$16:AH135,2)*10+6001-10))","v":""},120,null,{"$f":"IF($E135=\"\",\"\",IF(ISERROR(VLOOKUP($E135,氏名ﾃﾞｰﾀ!$B:$J,2,0)),IF(ISERROR(VLOOKUP($E135,新規登録!$B:$I,2,0)),\"未登録\",VLOOKUP($E135,新規登録!$B:$I,2,0)),(VLOOKUP($E135,氏名ﾃﾞｰﾀ!$B:$J,2,0))))","v":""},{"$f":"IF($E135=\"\",\"\",IF(ISERROR(VLOOKUP($E135,氏名ﾃﾞｰﾀ!$B:$J,3,0)),IF(ISERROR(VLOOKUP($E135,新規登録!$B:$I,3,0)),\"未登録\",VLOOKUP($E135,新規登録!$B:$I,3,0)),(VLOOKUP($E135,氏名ﾃﾞｰﾀ!$B:$J,3,0))))","v":""},{"$f":"IF($E135=\"\",\"\",IF(ISERROR(VLOOKUP($E135,氏名ﾃﾞｰﾀ!$B:$J,4,0)),IF(ISERROR(VLOOKUP($E135,新規登録!$B:$I,4,0)),\"未登録\",VLOOKUP($E135,新規登録!$B:$I,4,0)),(VLOOKUP($E135,氏名ﾃﾞｰﾀ!$B:$J,4,0))))","v":""},{"$f":"IF($E135=\"\",\"\",IF(ISERROR(VLOOKUP($E135,氏名ﾃﾞｰﾀ!$B:$J,5,0)),IF(ISERROR(VLOOKUP($E135,新規登録!$B:$I,5,0)),\"未登録\",VLOOKUP($E135,新規登録!$B:$I,5,0)),(VLOOKUP($E135,氏名ﾃﾞｰﾀ!$B:$J,5,0))))","v":""},{"$f":"IF($E135=\"\",\"\",IF(ISERROR(VLOOKUP($E135,氏名ﾃﾞｰﾀ!$B:$J,8,0)),IF(ISERROR(VLOOKUP($E135,新規登録!$B:$I,6,0)),\"未登録\",VLOOKUP($E135,新規登録!$B:$I,6,0)),(VLOOKUP($E135,氏名ﾃﾞｰﾀ!$B:$J,8,0))))","v":""},{"$f":"IF($E135=\"\",\"\",IF(ISERROR(VLOOKUP($E135,氏名ﾃﾞｰﾀ!$B:$J,7,0)),IF(ISERROR(VLOOKUP($E135,新規登録!$B:$I,7,0)),\"未登録\",VLOOKUP($E135,新規登録!$B:$I,7,0)),$G$3))","v":""},{"$f":"IF($E135=\"\",\"\",IF(ISERROR(VLOOKUP($E135,氏名ﾃﾞｰﾀ!$B:$J,6,0)),IF(ISERROR(VLOOKUP($E135,新規登録!$B:$I,8,0)),\"ﾅｼ\",VLOOKUP($E135,新規登録!$B:$I,8,0)),(VLOOKUP($E135,氏名ﾃﾞｰﾀ!$B:$J,6,0))))","v":""},{"$f":"IF($E135=\"\",\"\",IF(ISERROR(VLOOKUP($E135,氏名ﾃﾞｰﾀ!$B:$J,9,0)),IF(ISERROR(VLOOKUP($E135,新規登録!$B:$I,9,0)),\"未登録\",VLOOKUP($E135,新規登録!$B:$I,9,0)),(VLOOKUP($E135,氏名ﾃﾞｰﾀ!$B:$J,9,0))))","v":""},null,null,null,null,null,null,null,null,null,null,null,null,null,null,null,null,null,null,null,null,2,{"$f":"IF(N135=\"\",\"\",VLOOKUP(N135,ﾃﾞｰﾀ!A:D,4,0))","v":""},"秒","秒"]
["","",{"$f":"IF(E136=\"\",\"\",IF(AH136=1,COUNTIF(AH$16:AH136,1)*10+2001-10,COUNTIF(AH$16:AH136,2)*10+6001-10))","v":""},121,null,{"$f":"IF($E136=\"\",\"\",IF(ISERROR(VLOOKUP($E136,氏名ﾃﾞｰﾀ!$B:$J,2,0)),IF(ISERROR(VLOOKUP($E136,新規登録!$B:$I,2,0)),\"未登録\",VLOOKUP($E136,新規登録!$B:$I,2,0)),(VLOOKUP($E136,氏名ﾃﾞｰﾀ!$B:$J,2,0))))","v":""},{"$f":"IF($E136=\"\",\"\",IF(ISERROR(VLOOKUP($E136,氏名ﾃﾞｰﾀ!$B:$J,3,0)),IF(ISERROR(VLOOKUP($E136,新規登録!$B:$I,3,0)),\"未登録\",VLOOKUP($E136,新規登録!$B:$I,3,0)),(VLOOKUP($E136,氏名ﾃﾞｰﾀ!$B:$J,3,0))))","v":""},{"$f":"IF($E136=\"\",\"\",IF(ISERROR(VLOOKUP($E136,氏名ﾃﾞｰﾀ!$B:$J,4,0)),IF(ISERROR(VLOOKUP($E136,新規登録!$B:$I,4,0)),\"未登録\",VLOOKUP($E136,新規登録!$B:$I,4,0)),(VLOOKUP($E136,氏名ﾃﾞｰﾀ!$B:$J,4,0))))","v":""},{"$f":"IF($E136=\"\",\"\",IF(ISERROR(VLOOKUP($E136,氏名ﾃﾞｰﾀ!$B:$J,5,0)),IF(ISERROR(VLOOKUP($E136,新規登録!$B:$I,5,0)),\"未登録\",VLOOKUP($E136,新規登録!$B:$I,5,0)),(VLOOKUP($E136,氏名ﾃﾞｰﾀ!$B:$J,5,0))))","v":""},{"$f":"IF($E136=\"\",\"\",IF(ISERROR(VLOOKUP($E136,氏名ﾃﾞｰﾀ!$B:$J,8,0)),IF(ISERROR(VLOOKUP($E136,新規登録!$B:$I,6,0)),\"未登録\",VLOOKUP($E136,新規登録!$B:$I,6,0)),(VLOOKUP($E136,氏名ﾃﾞｰﾀ!$B:$J,8,0))))","v":""},{"$f":"IF($E136=\"\",\"\",IF(ISERROR(VLOOKUP($E136,氏名ﾃﾞｰﾀ!$B:$J,7,0)),IF(ISERROR(VLOOKUP($E136,新規登録!$B:$I,7,0)),\"未登録\",VLOOKUP($E136,新規登録!$B:$I,7,0)),$G$3))","v":""},{"$f":"IF($E136=\"\",\"\",IF(ISERROR(VLOOKUP($E136,氏名ﾃﾞｰﾀ!$B:$J,6,0)),IF(ISERROR(VLOOKUP($E136,新規登録!$B:$I,8,0)),\"ﾅｼ\",VLOOKUP($E136,新規登録!$B:$I,8,0)),(VLOOKUP($E136,氏名ﾃﾞｰﾀ!$B:$J,6,0))))","v":""},{"$f":"IF($E136=\"\",\"\",IF(ISERROR(VLOOKUP($E136,氏名ﾃﾞｰﾀ!$B:$J,9,0)),IF(ISERROR(VLOOKUP($E136,新規登録!$B:$I,9,0)),\"未登録\",VLOOKUP($E136,新規登録!$B:$I,9,0)),(VLOOKUP($E136,氏名ﾃﾞｰﾀ!$B:$J,9,0))))","v":""},null,null,null,null,null,null,null,null,null,null,null,null,null,null,null,null,null,null,null,null,2,{"$f":"IF(N136=\"\",\"\",VLOOKUP(N136,ﾃﾞｰﾀ!A:D,4,0))","v":""},"秒","秒"]
["","",{"$f":"IF(E137=\"\",\"\",IF(AH137=1,COUNTIF(AH$16:AH137,1)*10+2001-10,COUNTIF(AH$16:AH137,2)*10+6001-10))","v":""},122,null,{"$f":"IF($E137=\"\",\"\",IF(ISERROR(VLOOKUP($E137,氏名ﾃﾞｰﾀ!$B:$J,2,0)),IF(ISERROR(VLOOKUP($E137,新規登録!$B:$I,2,0)),\"未登録\",VLOOKUP($E137,新規登録!$B:$I,2,0)),(VLOOKUP($E137,氏名ﾃﾞｰﾀ!$B:$J,2,0))))","v":""},{"$f":"IF($E137=\"\",\"\",IF(ISERROR(VLOOKUP($E137,氏名ﾃﾞｰﾀ!$B:$J,3,0)),IF(ISERROR(VLOOKUP($E137,新規登録!$B:$I,3,0)),\"未登録\",VLOOKUP($E137,新規登録!$B:$I,3,0)),(VLOOKUP($E137,氏名ﾃﾞｰﾀ!$B:$J,3,0))))","v":""},{"$f":"IF($E137=\"\",\"\",IF(ISERROR(VLOOKUP($E137,氏名ﾃﾞｰﾀ!$B:$J,4,0)),IF(ISERROR(VLOOKUP($E137,新規登録!$B:$I,4,0)),\"未登録\",VLOOKUP($E137,新規登録!$B:$I,4,0)),(VLOOKUP($E137,氏名ﾃﾞｰﾀ!$B:$J,4,0))))","v":""},{"$f":"IF($E137=\"\",\"\",IF(ISERROR(VLOOKUP($E137,氏名ﾃﾞｰﾀ!$B:$J,5,0)),IF(ISERROR(VLOOKUP($E137,新規登録!$B:$I,5,0)),\"未登録\",VLOOKUP($E137,新規登録!$B:$I,5,0)),(VLOOKUP($E137,氏名ﾃﾞｰﾀ!$B:$J,5,0))))","v":""},{"$f":"IF($E137=\"\",\"\",IF(ISERROR(VLOOKUP($E137,氏名ﾃﾞｰﾀ!$B:$J,8,0)),IF(ISERROR(VLOOKUP($E137,新規登録!$B:$I,6,0)),\"未登録\",VLOOKUP($E137,新規登録!$B:$I,6,0)),(VLOOKUP($E137,氏名ﾃﾞｰﾀ!$B:$J,8,0))))","v":""},{"$f":"IF($E137=\"\",\"\",IF(ISERROR(VLOOKUP($E137,氏名ﾃﾞｰﾀ!$B:$J,7,0)),IF(ISERROR(VLOOKUP($E137,新規登録!$B:$I,7,0)),\"未登録\",VLOOKUP($E137,新規登録!$B:$I,7,0)),$G$3))","v":""},{"$f":"IF($E137=\"\",\"\",IF(ISERROR(VLOOKUP($E137,氏名ﾃﾞｰﾀ!$B:$J,6,0)),IF(ISERROR(VLOOKUP($E137,新規登録!$B:$I,8,0)),\"ﾅｼ\",VLOOKUP($E137,新規登録!$B:$I,8,0)),(VLOOKUP($E137,氏名ﾃﾞｰﾀ!$B:$J,6,0))))","v":""},{"$f":"IF($E137=\"\",\"\",IF(ISERROR(VLOOKUP($E137,氏名ﾃﾞｰﾀ!$B:$J,9,0)),IF(ISERROR(VLOOKUP($E137,新規登録!$B:$I,9,0)),\"未登録\",VLOOKUP($E137,新規登録!$B:$I,9,0)),(VLOOKUP($E137,氏名ﾃﾞｰﾀ!$B:$J,9,0))))","v":""},null,null,null,null,null,null,null,null,null,null,null,null,null,null,null,null,null,null,null,null,2,{"$f":"IF(N137=\"\",\"\",VLOOKUP(N137,ﾃﾞｰﾀ!A:D,4,0))","v":""},"秒","秒"]
["","",{"$f":"IF(E138=\"\",\"\",IF(AH138=1,COUNTIF(AH$16:AH138,1)*10+2001-10,COUNTIF(AH$16:AH138,2)*10+6001-10))","v":""},123,null,{"$f":"IF($E138=\"\",\"\",IF(ISERROR(VLOOKUP($E138,氏名ﾃﾞｰﾀ!$B:$J,2,0)),IF(ISERROR(VLOOKUP($E138,新規登録!$B:$I,2,0)),\"未登録\",VLOOKUP($E138,新規登録!$B:$I,2,0)),(VLOOKUP($E138,氏名ﾃﾞｰﾀ!$B:$J,2,0))))","v":""},{"$f":"IF($E138=\"\",\"\",IF(ISERROR(VLOOKUP($E138,氏名ﾃﾞｰﾀ!$B:$J,3,0)),IF(ISERROR(VLOOKUP($E138,新規登録!$B:$I,3,0)),\"未登録\",VLOOKUP($E138,新規登録!$B:$I,3,0)),(VLOOKUP($E138,氏名ﾃﾞｰﾀ!$B:$J,3,0))))","v":""},{"$f":"IF($E138=\"\",\"\",IF(ISERROR(VLOOKUP($E138,氏名ﾃﾞｰﾀ!$B:$J,4,0)),IF(ISERROR(VLOOKUP($E138,新規登録!$B:$I,4,0)),\"未登録\",VLOOKUP($E138,新規登録!$B:$I,4,0)),(VLOOKUP($E138,氏名ﾃﾞｰﾀ!$B:$J,4,0))))","v":""},{"$f":"IF($E138=\"\",\"\",IF(ISERROR(VLOOKUP($E138,氏名ﾃﾞｰﾀ!$B:$J,5,0)),IF(ISERROR(VLOOKUP($E138,新規登録!$B:$I,5,0)),\"未登録\",VLOOKUP($E138,新規登録!$B:$I,5,0)),(VLOOKUP($E138,氏名ﾃﾞｰﾀ!$B:$J,5,0))))","v":""},{"$f":"IF($E138=\"\",\"\",IF(ISERROR(VLOOKUP($E138,氏名ﾃﾞｰﾀ!$B:$J,8,0)),IF(ISERROR(VLOOKUP($E138,新規登録!$B:$I,6,0)),\"未登録\",VLOOKUP($E138,新規登録!$B:$I,6,0)),(VLOOKUP($E138,氏名ﾃﾞｰﾀ!$B:$J,8,0))))","v":""},{"$f":"IF($E138=\"\",\"\",IF(ISERROR(VLOOKUP($E138,氏名ﾃﾞｰﾀ!$B:$J,7,0)),IF(ISERROR(VLOOKUP($E138,新規登録!$B:$I,7,0)),\"未登録\",VLOOKUP($E138,新規登録!$B:$I,7,0)),$G$3))","v":""},{"$f":"IF($E138=\"\",\"\",IF(ISERROR(VLOOKUP($E138,氏名ﾃﾞｰﾀ!$B:$J,6,0)),IF(ISERROR(VLOOKUP($E138,新規登録!$B:$I,8,0)),\"ﾅｼ\",VLOOKUP($E138,新規登録!$B:$I,8,0)),(VLOOKUP($E138,氏名ﾃﾞｰﾀ!$B:$J,6,0))))","v":""},{"$f":"IF($E138=\"\",\"\",IF(ISERROR(VLOOKUP($E138,氏名ﾃﾞｰﾀ!$B:$J,9,0)),IF(ISERROR(VLOOKUP($E138,新規登録!$B:$I,9,0)),\"未登録\",VLOOKUP($E138,新規登録!$B:$I,9,0)),(VLOOKUP($E138,氏名ﾃﾞｰﾀ!$B:$J,9,0))))","v":""},null,null,null,null,null,null,null,null,null,null,null,null,null,null,null,null,null,null,null,null,2,{"$f":"IF(N138=\"\",\"\",VLOOKUP(N138,ﾃﾞｰﾀ!A:D,4,0))","v":""},"秒","秒"]
["","",{"$f":"IF(E139=\"\",\"\",IF(AH139=1,COUNTIF(AH$16:AH139,1)*10+2001-10,COUNTIF(AH$16:AH139,2)*10+6001-10))","v":""},124,null,{"$f":"IF($E139=\"\",\"\",IF(ISERROR(VLOOKUP($E139,氏名ﾃﾞｰﾀ!$B:$J,2,0)),IF(ISERROR(VLOOKUP($E139,新規登録!$B:$I,2,0)),\"未登録\",VLOOKUP($E139,新規登録!$B:$I,2,0)),(VLOOKUP($E139,氏名ﾃﾞｰﾀ!$B:$J,2,0))))","v":""},{"$f":"IF($E139=\"\",\"\",IF(ISERROR(VLOOKUP($E139,氏名ﾃﾞｰﾀ!$B:$J,3,0)),IF(ISERROR(VLOOKUP($E139,新規登録!$B:$I,3,0)),\"未登録\",VLOOKUP($E139,新規登録!$B:$I,3,0)),(VLOOKUP($E139,氏名ﾃﾞｰﾀ!$B:$J,3,0))))","v":""},{"$f":"IF($E139=\"\",\"\",IF(ISERROR(VLOOKUP($E139,氏名ﾃﾞｰﾀ!$B:$J,4,0)),IF(ISERROR(VLOOKUP($E139,新規登録!$B:$I,4,0)),\"未登録\",VLOOKUP($E139,新規登録!$B:$I,4,0)),(VLOOKUP($E139,氏名ﾃﾞｰﾀ!$B:$J,4,0))))","v":""},{"$f":"IF($E139=\"\",\"\",IF(ISERROR(VLOOKUP($E139,氏名ﾃﾞｰﾀ!$B:$J,5,0)),IF(ISERROR(VLOOKUP($E139,新規登録!$B:$I,5,0)),\"未登録\",VLOOKUP($E139,新規登録!$B:$I,5,0)),(VLOOKUP($E139,氏名ﾃﾞｰﾀ!$B:$J,5,0))))","v":""},{"$f":"IF($E139=\"\",\"\",IF(ISERROR(VLOOKUP($E139,氏名ﾃﾞｰﾀ!$B:$J,8,0)),IF(ISERROR(VLOOKUP($E139,新規登録!$B:$I,6,0)),\"未登録\",VLOOKUP($E139,新規登録!$B:$I,6,0)),(VLOOKUP($E139,氏名ﾃﾞｰﾀ!$B:$J,8,0))))","v":""},{"$f":"IF($E139=\"\",\"\",IF(ISERROR(VLOOKUP($E139,氏名ﾃﾞｰﾀ!$B:$J,7,0)),IF(ISERROR(VLOOKUP($E139,新規登録!$B:$I,7,0)),\"未登録\",VLOOKUP($E139,新規登録!$B:$I,7,0)),$G$3))","v":""},{"$f":"IF($E139=\"\",\"\",IF(ISERROR(VLOOKUP($E139,氏名ﾃﾞｰﾀ!$B:$J,6,0)),IF(ISERROR(VLOOKUP($E139,新規登録!$B:$I,8,0)),\"ﾅｼ\",VLOOKUP($E139,新規登録!$B:$I,8,0)),(VLOOKUP($E139,氏名ﾃﾞｰﾀ!$B:$J,6,0))))","v":""},{"$f":"IF($E139=\"\",\"\",IF(ISERROR(VLOOKUP($E139,氏名ﾃﾞｰﾀ!$B:$J,9,0)),IF(ISERROR(VLOOKUP($E139,新規登録!$B:$I,9,0)),\"未登録\",VLOOKUP($E139,新規登録!$B:$I,9,0)),(VLOOKUP($E139,氏名ﾃﾞｰﾀ!$B:$J,9,0))))","v":""},null,null,null,null,null,null,null,null,null,null,null,null,null,null,null,null,null,null,null,null,2,{"$f":"IF(N139=\"\",\"\",VLOOKUP(N139,ﾃﾞｰﾀ!A:D,4,0))","v":""},"秒","秒"]
["","",{"$f":"IF(E140=\"\",\"\",IF(AH140=1,COUNTIF(AH$16:AH140,1)*10+2001-10,COUNTIF(AH$16:AH140,2)*10+6001-10))","v":""},125,null,{"$f":"IF($E140=\"\",\"\",IF(ISERROR(VLOOKUP($E140,氏名ﾃﾞｰﾀ!$B:$J,2,0)),IF(ISERROR(VLOOKUP($E140,新規登録!$B:$I,2,0)),\"未登録\",VLOOKUP($E140,新規登録!$B:$I,2,0)),(VLOOKUP($E140,氏名ﾃﾞｰﾀ!$B:$J,2,0))))","v":""},{"$f":"IF($E140=\"\",\"\",IF(ISERROR(VLOOKUP($E140,氏名ﾃﾞｰﾀ!$B:$J,3,0)),IF(ISERROR(VLOOKUP($E140,新規登録!$B:$I,3,0)),\"未登録\",VLOOKUP($E140,新規登録!$B:$I,3,0)),(VLOOKUP($E140,氏名ﾃﾞｰﾀ!$B:$J,3,0))))","v":""},{"$f":"IF($E140=\"\",\"\",IF(ISERROR(VLOOKUP($E140,氏名ﾃﾞｰﾀ!$B:$J,4,0)),IF(ISERROR(VLOOKUP($E140,新規登録!$B:$I,4,0)),\"未登録\",VLOOKUP($E140,新規登録!$B:$I,4,0)),(VLOOKUP($E140,氏名ﾃﾞｰﾀ!$B:$J,4,0))))","v":""},{"$f":"IF($E140=\"\",\"\",IF(ISERROR(VLOOKUP($E140,氏名ﾃﾞｰﾀ!$B:$J,5,0)),IF(ISERROR(VLOOKUP($E140,新規登録!$B:$I,5,0)),\"未登録\",VLOOKUP($E140,新規登録!$B:$I,5,0)),(VLOOKUP($E140,氏名ﾃﾞｰﾀ!$B:$J,5,0))))","v":""},{"$f":"IF($E140=\"\",\"\",IF(ISERROR(VLOOKUP($E140,氏名ﾃﾞｰﾀ!$B:$J,8,0)),IF(ISERROR(VLOOKUP($E140,新規登録!$B:$I,6,0)),\"未登録\",VLOOKUP($E140,新規登録!$B:$I,6,0)),(VLOOKUP($E140,氏名ﾃﾞｰﾀ!$B:$J,8,0))))","v":""},{"$f":"IF($E140=\"\",\"\",IF(ISERROR(VLOOKUP($E140,氏名ﾃﾞｰﾀ!$B:$J,7,0)),IF(ISERROR(VLOOKUP($E140,新規登録!$B:$I,7,0)),\"未登録\",VLOOKUP($E140,新規登録!$B:$I,7,0)),$G$3))","v":""},{"$f":"IF($E140=\"\",\"\",IF(ISERROR(VLOOKUP($E140,氏名ﾃﾞｰﾀ!$B:$J,6,0)),IF(ISERROR(VLOOKUP($E140,新規登録!$B:$I,8,0)),\"ﾅｼ\",VLOOKUP($E140,新規登録!$B:$I,8,0)),(VLOOKUP($E140,氏名ﾃﾞｰﾀ!$B:$J,6,0))))","v":""},{"$f":"IF($E140=\"\",\"\",IF(ISERROR(VLOOKUP($E140,氏名ﾃﾞｰﾀ!$B:$J,9,0)),IF(ISERROR(VLOOKUP($E140,新規登録!$B:$I,9,0)),\"未登録\",VLOOKUP($E140,新規登録!$B:$I,9,0)),(VLOOKUP($E140,氏名ﾃﾞｰﾀ!$B:$J,9,0))))","v":""},null,null,null,null,null,null,null,null,null,null,null,null,null,null,null,null,null,null,null,null,2,{"$f":"IF(N140=\"\",\"\",VLOOKUP(N140,ﾃﾞｰﾀ!A:D,4,0))","v":""},"秒","秒"]
["","",{"$f":"IF(E141=\"\",\"\",IF(AH141=1,COUNTIF(AH$16:AH141,1)*10+2001-10,COUNTIF(AH$16:AH141,2)*10+6001-10))","v":""},126,null,{"$f":"IF($E141=\"\",\"\",IF(ISERROR(VLOOKUP($E141,氏名ﾃﾞｰﾀ!$B:$J,2,0)),IF(ISERROR(VLOOKUP($E141,新規登録!$B:$I,2,0)),\"未登録\",VLOOKUP($E141,新規登録!$B:$I,2,0)),(VLOOKUP($E141,氏名ﾃﾞｰﾀ!$B:$J,2,0))))","v":""},{"$f":"IF($E141=\"\",\"\",IF(ISERROR(VLOOKUP($E141,氏名ﾃﾞｰﾀ!$B:$J,3,0)),IF(ISERROR(VLOOKUP($E141,新規登録!$B:$I,3,0)),\"未登録\",VLOOKUP($E141,新規登録!$B:$I,3,0)),(VLOOKUP($E141,氏名ﾃﾞｰﾀ!$B:$J,3,0))))","v":""},{"$f":"IF($E141=\"\",\"\",IF(ISERROR(VLOOKUP($E141,氏名ﾃﾞｰﾀ!$B:$J,4,0)),IF(ISERROR(VLOOKUP($E141,新規登録!$B:$I,4,0)),\"未登録\",VLOOKUP($E141,新規登録!$B:$I,4,0)),(VLOOKUP($E141,氏名ﾃﾞｰﾀ!$B:$J,4,0))))","v":""},{"$f":"IF($E141=\"\",\"\",IF(ISERROR(VLOOKUP($E141,氏名ﾃﾞｰﾀ!$B:$J,5,0)),IF(ISERROR(VLOOKUP($E141,新規登録!$B:$I,5,0)),\"未登録\",VLOOKUP($E141,新規登録!$B:$I,5,0)),(VLOOKUP($E141,氏名ﾃﾞｰﾀ!$B:$J,5,0))))","v":""},{"$f":"IF($E141=\"\",\"\",IF(ISERROR(VLOOKUP($E141,氏名ﾃﾞｰﾀ!$B:$J,8,0)),IF(ISERROR(VLOOKUP($E141,新規登録!$B:$I,6,0)),\"未登録\",VLOOKUP($E141,新規登録!$B:$I,6,0)),(VLOOKUP($E141,氏名ﾃﾞｰﾀ!$B:$J,8,0))))","v":""},{"$f":"IF($E141=\"\",\"\",IF(ISERROR(VLOOKUP($E141,氏名ﾃﾞｰﾀ!$B:$J,7,0)),IF(ISERROR(VLOOKUP($E141,新規登録!$B:$I,7,0)),\"未登録\",VLOOKUP($E141,新規登録!$B:$I,7,0)),$G$3))","v":""},{"$f":"IF($E141=\"\",\"\",IF(ISERROR(VLOOKUP($E141,氏名ﾃﾞｰﾀ!$B:$J,6,0)),IF(ISERROR(VLOOKUP($E141,新規登録!$B:$I,8,0)),\"ﾅｼ\",VLOOKUP($E141,新規登録!$B:$I,8,0)),(VLOOKUP($E141,氏名ﾃﾞｰﾀ!$B:$J,6,0))))","v":""},{"$f":"IF($E141=\"\",\"\",IF(ISERROR(VLOOKUP($E141,氏名ﾃﾞｰﾀ!$B:$J,9,0)),IF(ISERROR(VLOOKUP($E141,新規登録!$B:$I,9,0)),\"未登録\",VLOOKUP($E141,新規登録!$B:$I,9,0)),(VLOOKUP($E141,氏名ﾃﾞｰﾀ!$B:$J,9,0))))","v":""},null,null,null,null,null,null,null,null,null,null,null,null,null,null,null,null,null,null,null,null,2,{"$f":"IF(N141=\"\",\"\",VLOOKUP(N141,ﾃﾞｰﾀ!A:D,4,0))","v":""},"秒","秒"]
["","",{"$f":"IF(E142=\"\",\"\",IF(AH142=1,COUNTIF(AH$16:AH142,1)*10+2001-10,COUNTIF(AH$16:AH142,2)*10+6001-10))","v":""},127,null,{"$f":"IF($E142=\"\",\"\",IF(ISERROR(VLOOKUP($E142,氏名ﾃﾞｰﾀ!$B:$J,2,0)),IF(ISERROR(VLOOKUP($E142,新規登録!$B:$I,2,0)),\"未登録\",VLOOKUP($E142,新規登録!$B:$I,2,0)),(VLOOKUP($E142,氏名ﾃﾞｰﾀ!$B:$J,2,0))))","v":""},{"$f":"IF($E142=\"\",\"\",IF(ISERROR(VLOOKUP($E142,氏名ﾃﾞｰﾀ!$B:$J,3,0)),IF(ISERROR(VLOOKUP($E142,新規登録!$B:$I,3,0)),\"未登録\",VLOOKUP($E142,新規登録!$B:$I,3,0)),(VLOOKUP($E142,氏名ﾃﾞｰﾀ!$B:$J,3,0))))","v":""},{"$f":"IF($E142=\"\",\"\",IF(ISERROR(VLOOKUP($E142,氏名ﾃﾞｰﾀ!$B:$J,4,0)),IF(ISERROR(VLOOKUP($E142,新規登録!$B:$I,4,0)),\"未登録\",VLOOKUP($E142,新規登録!$B:$I,4,0)),(VLOOKUP($E142,氏名ﾃﾞｰﾀ!$B:$J,4,0))))","v":""},{"$f":"IF($E142=\"\",\"\",IF(ISERROR(VLOOKUP($E142,氏名ﾃﾞｰﾀ!$B:$J,5,0)),IF(ISERROR(VLOOKUP($E142,新規登録!$B:$I,5,0)),\"未登録\",VLOOKUP($E142,新規登録!$B:$I,5,0)),(VLOOKUP($E142,氏名ﾃﾞｰﾀ!$B:$J,5,0))))","v":""},{"$f":"IF($E142=\"\",\"\",IF(ISERROR(VLOOKUP($E142,氏名ﾃﾞｰﾀ!$B:$J,8,0)),IF(ISERROR(VLOOKUP($E142,新規登録!$B:$I,6,0)),\"未登録\",VLOOKUP($E142,新規登録!$B:$I,6,0)),(VLOOKUP($E142,氏名ﾃﾞｰﾀ!$B:$J,8,0))))","v":""},{"$f":"IF($E142=\"\",\"\",IF(ISERROR(VLOOKUP($E142,氏名ﾃﾞｰﾀ!$B:$J,7,0)),IF(ISERROR(VLOOKUP($E142,新規登録!$B:$I,7,0)),\"未登録\",VLOOKUP($E142,新規登録!$B:$I,7,0)),$G$3))","v":""},{"$f":"IF($E142=\"\",\"\",IF(ISERROR(VLOOKUP($E142,氏名ﾃﾞｰﾀ!$B:$J,6,0)),IF(ISERROR(VLOOKUP($E142,新規登録!$B:$I,8,0)),\"ﾅｼ\",VLOOKUP($E142,新規登録!$B:$I,8,0)),(VLOOKUP($E142,氏名ﾃﾞｰﾀ!$B:$J,6,0))))","v":""},{"$f":"IF($E142=\"\",\"\",IF(ISERROR(VLOOKUP($E142,氏名ﾃﾞｰﾀ!$B:$J,9,0)),IF(ISERROR(VLOOKUP($E142,新規登録!$B:$I,9,0)),\"未登録\",VLOOKUP($E142,新規登録!$B:$I,9,0)),(VLOOKUP($E142,氏名ﾃﾞｰﾀ!$B:$J,9,0))))","v":""},null,null,null,null,null,null,null,null,null,null,null,null,null,null,null,null,null,null,null,null,2,{"$f":"IF(N142=\"\",\"\",VLOOKUP(N142,ﾃﾞｰﾀ!A:D,4,0))","v":""},"秒","秒"]
["","",{"$f":"IF(E143=\"\",\"\",IF(AH143=1,COUNTIF(AH$16:AH143,1)*10+2001-10,COUNTIF(AH$16:AH143,2)*10+6001-10))","v":""},128,null,{"$f":"IF($E143=\"\",\"\",IF(ISERROR(VLOOKUP($E143,氏名ﾃﾞｰﾀ!$B:$J,2,0)),IF(ISERROR(VLOOKUP($E143,新規登録!$B:$I,2,0)),\"未登録\",VLOOKUP($E143,新規登録!$B:$I,2,0)),(VLOOKUP($E143,氏名ﾃﾞｰﾀ!$B:$J,2,0))))","v":""},{"$f":"IF($E143=\"\",\"\",IF(ISERROR(VLOOKUP($E143,氏名ﾃﾞｰﾀ!$B:$J,3,0)),IF(ISERROR(VLOOKUP($E143,新規登録!$B:$I,3,0)),\"未登録\",VLOOKUP($E143,新規登録!$B:$I,3,0)),(VLOOKUP($E143,氏名ﾃﾞｰﾀ!$B:$J,3,0))))","v":""},{"$f":"IF($E143=\"\",\"\",IF(ISERROR(VLOOKUP($E143,氏名ﾃﾞｰﾀ!$B:$J,4,0)),IF(ISERROR(VLOOKUP($E143,新規登録!$B:$I,4,0)),\"未登録\",VLOOKUP($E143,新規登録!$B:$I,4,0)),(VLOOKUP($E143,氏名ﾃﾞｰﾀ!$B:$J,4,0))))","v":""},{"$f":"IF($E143=\"\",\"\",IF(ISERROR(VLOOKUP($E143,氏名ﾃﾞｰﾀ!$B:$J,5,0)),IF(ISERROR(VLOOKUP($E143,新規登録!$B:$I,5,0)),\"未登録\",VLOOKUP($E143,新規登録!$B:$I,5,0)),(VLOOKUP($E143,氏名ﾃﾞｰﾀ!$B:$J,5,0))))","v":""},{"$f":"IF($E143=\"\",\"\",IF(ISERROR(VLOOKUP($E143,氏名ﾃﾞｰﾀ!$B:$J,8,0)),IF(ISERROR(VLOOKUP($E143,新規登録!$B:$I,6,0)),\"未登録\",VLOOKUP($E143,新規登録!$B:$I,6,0)),(VLOOKUP($E143,氏名ﾃﾞｰﾀ!$B:$J,8,0))))","v":""},{"$f":"IF($E143=\"\",\"\",IF(ISERROR(VLOOKUP($E143,氏名ﾃﾞｰﾀ!$B:$J,7,0)),IF(ISERROR(VLOOKUP($E143,新規登録!$B:$I,7,0)),\"未登録\",VLOOKUP($E143,新規登録!$B:$I,7,0)),$G$3))","v":""},{"$f":"IF($E143=\"\",\"\",IF(ISERROR(VLOOKUP($E143,氏名ﾃﾞｰﾀ!$B:$J,6,0)),IF(ISERROR(VLOOKUP($E143,新規登録!$B:$I,8,0)),\"ﾅｼ\",VLOOKUP($E143,新規登録!$B:$I,8,0)),(VLOOKUP($E143,氏名ﾃﾞｰﾀ!$B:$J,6,0))))","v":""},{"$f":"IF($E143=\"\",\"\",IF(ISERROR(VLOOKUP($E143,氏名ﾃﾞｰﾀ!$B:$J,9,0)),IF(ISERROR(VLOOKUP($E143,新規登録!$B:$I,9,0)),\"未登録\",VLOOKUP($E143,新規登録!$B:$I,9,0)),(VLOOKUP($E143,氏名ﾃﾞｰﾀ!$B:$J,9,0))))","v":""},null,null,null,null,null,null,null,null,null,null,null,null,null,null,null,null,null,null,null,null,2,{"$f":"IF(N143=\"\",\"\",VLOOKUP(N143,ﾃﾞｰﾀ!A:D,4,0))","v":""},"秒","秒"]
[{"$f":"IF(Z144=\"\",\"\",IF(L144=\"男\",VLOOKUP(Z144,ﾘﾚｰｺｰﾄﾞ,2,0),VLOOKUP(Z144,ﾘﾚｰｺｰﾄﾞ,4,0)))","v":""},{"$f":"IF(AD144=\"\",\"\",IF(L144=\"男\",VLOOKUP(AD144,ﾘﾚｰｺｰﾄﾞ,3,0),VLOOKUP(AD144,ﾘﾚｰｺｰﾄﾞ,5,0)))","v":""},{"$f":"IF(E144=\"\",\"\",IF(AH144=1,COUNTIF(AH$16:AH144,1)*10+2001-10,COUNTIF(AH$16:AH144,2)*10+6001-10))","v":""},129,null,{"$f":"IF($E144=\"\",\"\",IF(ISERROR(VLOOKUP($E144,氏名ﾃﾞｰﾀ!$B:$J,2,0)),IF(ISERROR(VLOOKUP($E144,新規登録!$B:$I,2,0)),\"未登録\",VLOOKUP($E144,新規登録!$B:$I,2,0)),(VLOOKUP($E144,氏名ﾃﾞｰﾀ!$B:$J,2,0))))","v":""},{"$f":"IF($E144=\"\",\"\",IF(ISERROR(VLOOKUP($E144,氏名ﾃﾞｰﾀ!$B:$J,3,0)),IF(ISERROR(VLOOKUP($E144,新規登録!$B:$I,3,0)),\"未登録\",VLOOKUP($E144,新規登録!$B:$I,3,0)),(VLOOKUP($E144,氏名ﾃﾞｰﾀ!$B:$J,3,0))))","v":""},{"$f":"IF($E144=\"\",\"\",IF(ISERROR(VLOOKUP($E144,氏名ﾃﾞｰﾀ!$B:$J,4,0)),IF(ISERROR(VLOOKUP($E144,新規登録!$B:$I,4,0)),\"未登録\",VLOOKUP($E144,新規登録!$B:$I,4,0)),(VLOOKUP($E144,氏名ﾃﾞｰﾀ!$B:$J,4,0))))","v":""},{"$f":"IF($E144=\"\",\"\",IF(ISERROR(VLOOKUP($E144,氏名ﾃﾞｰﾀ!$B:$J,5,0)),IF(ISERROR(VLOOKUP($E144,新規登録!$B:$I,5,0)),\"未登録\",VLOOKUP($E144,新規登録!$B:$I,5,0)),(VLOOKUP($E144,氏名ﾃﾞｰﾀ!$B:$J,5,0))))","v":""},{"$f":"IF($E144=\"\",\"\",IF(ISERROR(VLOOKUP($E144,氏名ﾃﾞｰﾀ!$B:$J,8,0)),IF(ISERROR(VLOOKUP($E144,新規登録!$B:$I,6,0)),\"未登録\",VLOOKUP($E144,新規登録!$B:$I,6,0)),(VLOOKUP($E144,氏名ﾃﾞｰﾀ!$B:$J,8,0))))","v":""},{"$f":"IF($E144=\"\",\"\",IF(ISERROR(VLOOKUP($E144,氏名ﾃﾞｰﾀ!$B:$J,7,0)),IF(ISERROR(VLOOKUP($E144,新規登録!$B:$I,7,0)),\"未登録\",VLOOKUP($E144,新規登録!$B:$I,7,0)),$G$3))","v":""},{"$f":"IF($E144=\"\",\"\",IF(ISERROR(VLOOKUP($E144,氏名ﾃﾞｰﾀ!$B:$J,6,0)),IF(ISERROR(VLOOKUP($E144,新規登録!$B:$I,8,0)),\"ﾅｼ\",VLOOKUP($E144,新規登録!$B:$I,8,0)),(VLOOKUP($E144,氏名ﾃﾞｰﾀ!$B:$J,6,0))))","v":""},{"$f":"IF($E144=\"\",\"\",IF(ISERROR(VLOOKUP($E144,氏名ﾃﾞｰﾀ!$B:$J,9,0)),IF(ISERROR(VLOOKUP($E144,新規登録!$B:$I,9,0)),\"未登録\",VLOOKUP($E144,新規登録!$B:$I,9,0)),(VLOOKUP($E144,氏名ﾃﾞｰﾀ!$B:$J,9,0))))","v":""},null,null,null,null,null,null,null,null,null,null,null,null,null,null,null,null,null,null,null,null,{"$f":"IF(L144=\"男\",1,2)","v":2},{"$f":"IF(N144=\"\",\"\",VLOOKUP(N144,ﾃﾞｰﾀ!A:D,4,0))","v":""},{"$f":"IF(AA144=\"\",CONCATENATE(AB144,\"秒\",AC144),CONCATENATE(IF(LEN(AA144)=1,CONCATENATE(\"0\",AA144),AA144),\"分\",IF(LEN(AB144)=1,CONCATENATE(\"0\",AB144),AB144),\"秒\",IF(LEN(AC144)=1,CONCATENATE(AC144,\"0\"),AC144)))","v":"秒"},"秒"]
["","",{"$f":"IF(E145=\"\",\"\",IF(AH145=1,COUNTIF(AH$16:AH145,1)*10+2001-10,COUNTIF(AH$16:AH145,2)*10+6001-10))","v":""},130,null,{"$f":"IF($E145=\"\",\"\",IF(ISERROR(VLOOKUP($E145,氏名ﾃﾞｰﾀ!$B:$J,2,0)),IF(ISERROR(VLOOKUP($E145,新規登録!$B:$I,2,0)),\"未登録\",VLOOKUP($E145,新規登録!$B:$I,2,0)),(VLOOKUP($E145,氏名ﾃﾞｰﾀ!$B:$J,2,0))))","v":""},{"$f":"IF($E145=\"\",\"\",IF(ISERROR(VLOOKUP($E145,氏名ﾃﾞｰﾀ!$B:$J,3,0)),IF(ISERROR(VLOOKUP($E145,新規登録!$B:$I,3,0)),\"未登録\",VLOOKUP($E145,新規登録!$B:$I,3,0)),(VLOOKUP($E145,氏名ﾃﾞｰﾀ!$B:$J,3,0))))","v":""},{"$f":"IF($E145=\"\",\"\",IF(ISERROR(VLOOKUP($E145,氏名ﾃﾞｰﾀ!$B:$J,4,0)),IF(ISERROR(VLOOKUP($E145,新規登録!$B:$I,4,0)),\"未登録\",VLOOKUP($E145,新規登録!$B:$I,4,0)),(VLOOKUP($E145,氏名ﾃﾞｰﾀ!$B:$J,4,0))))","v":""},{"$f":"IF($E145=\"\",\"\",IF(ISERROR(VLOOKUP($E145,氏名ﾃﾞｰﾀ!$B:$J,5,0)),IF(ISERROR(VLOOKUP($E145,新規登録!$B:$I,5,0)),\"未登録\",VLOOKUP($E145,新規登録!$B:$I,5,0)),(VLOOKUP($E145,氏名ﾃﾞｰﾀ!$B:$J,5,0))))","v":""},{"$f":"IF($E145=\"\",\"\",IF(ISERROR(VLOOKUP($E145,氏名ﾃﾞｰﾀ!$B:$J,8,0)),IF(ISERROR(VLOOKUP($E145,新規登録!$B:$I,6,0)),\"未登録\",VLOOKUP($E145,新規登録!$B:$I,6,0)),(VLOOKUP($E145,氏名ﾃﾞｰﾀ!$B:$J,8,0))))","v":""},{"$f":"IF($E145=\"\",\"\",IF(ISERROR(VLOOKUP($E145,氏名ﾃﾞｰﾀ!$B:$J,7,0)),IF(ISERROR(VLOOKUP($E145,新規登録!$B:$I,7,0)),\"未登録\",VLOOKUP($E145,新規登録!$B:$I,7,0)),$G$3))","v":""},{"$f":"IF($E145=\"\",\"\",IF(ISERROR(VLOOKUP($E145,氏名ﾃﾞｰﾀ!$B:$J,6,0)),IF(ISERROR(VLOOKUP($E145,新規登録!$B:$I,8,0)),\"ﾅｼ\",VLOOKUP($E145,新規登録!$B:$I,8,0)),(VLOOKUP($E145,氏名ﾃﾞｰﾀ!$B:$J,6,0))))","v":""},{"$f":"IF($E145=\"\",\"\",IF(ISERROR(VLOOKUP($E145,氏名ﾃﾞｰﾀ!$B:$J,9,0)),IF(ISERROR(VLOOKUP($E145,新規登録!$B:$I,9,0)),\"未登録\",VLOOKUP($E145,新規登録!$B:$I,9,0)),(VLOOKUP($E145,氏名ﾃﾞｰﾀ!$B:$J,9,0))))","v":""},null,null,null,null,null,null,null,null,null,null,null,null,null,null,null,null,null,null,null,null,2,{"$f":"IF(N145=\"\",\"\",VLOOKUP(N145,ﾃﾞｰﾀ!A:D,4,0))","v":""},"秒",{"$f":"IF(AE145=\"\",CONCATENATE(AF145,\"秒\",AG145),CONCATENATE(IF(LEN(AE145)=1,CONCATENATE(\"0\",AE145),AE145),\"分\",IF(LEN(AF145)=1,CONCATENATE(\"0\",AF145),AF145),\"秒\",IF(LEN(AG145)=1,CONCATENATE(AG145,\"0\"),AG145)))","v":"秒"}]
["","",{"$f":"IF(E146=\"\",\"\",IF(AH146=1,COUNTIF(AH$16:AH146,1)*10+2001-10,COUNTIF(AH$16:AH146,2)*10+6001-10))","v":""},131,null,{"$f":"IF($E146=\"\",\"\",IF(ISERROR(VLOOKUP($E146,氏名ﾃﾞｰﾀ!$B:$J,2,0)),IF(ISERROR(VLOOKUP($E146,新規登録!$B:$I,2,0)),\"未登録\",VLOOKUP($E146,新規登録!$B:$I,2,0)),(VLOOKUP($E146,氏名ﾃﾞｰﾀ!$B:$J,2,0))))","v":""},{"$f":"IF($E146=\"\",\"\",IF(ISERROR(VLOOKUP($E146,氏名ﾃﾞｰﾀ!$B:$J,3,0)),IF(ISERROR(VLOOKUP($E146,新規登録!$B:$I,3,0)),\"未登録\",VLOOKUP($E146,新規登録!$B:$I,3,0)),(VLOOKUP($E146,氏名ﾃﾞｰﾀ!$B:$J,3,0))))","v":""},{"$f":"IF($E146=\"\",\"\",IF(ISERROR(VLOOKUP($E146,氏名ﾃﾞｰﾀ!$B:$J,4,0)),IF(ISERROR(VLOOKUP($E146,新規登録!$B:$I,4,0)),\"未登録\",VLOOKUP($E146,新規登録!$B:$I,4,0)),(VLOOKUP($E146,氏名ﾃﾞｰﾀ!$B:$J,4,0))))","v":""},{"$f":"IF($E146=\"\",\"\",IF(ISERROR(VLOOKUP($E146,氏名ﾃﾞｰﾀ!$B:$J,5,0)),IF(ISERROR(VLOOKUP($E146,新規登録!$B:$I,5,0)),\"未登録\",VLOOKUP($E146,新規登録!$B:$I,5,0)),(VLOOKUP($E146,氏名ﾃﾞｰﾀ!$B:$J,5,0))))","v":""},{"$f":"IF($E146=\"\",\"\",IF(ISERROR(VLOOKUP($E146,氏名ﾃﾞｰﾀ!$B:$J,8,0)),IF(ISERROR(VLOOKUP($E146,新規登録!$B:$I,6,0)),\"未登録\",VLOOKUP($E146,新規登録!$B:$I,6,0)),(VLOOKUP($E146,氏名ﾃﾞｰﾀ!$B:$J,8,0))))","v":""},{"$f":"IF($E146=\"\",\"\",IF(ISERROR(VLOOKUP($E146,氏名ﾃﾞｰﾀ!$B:$J,7,0)),IF(ISERROR(VLOOKUP($E146,新規登録!$B:$I,7,0)),\"未登録\",VLOOKUP($E146,新規登録!$B:$I,7,0)),$G$3))","v":""},{"$f":"IF($E146=\"\",\"\",IF(ISERROR(VLOOKUP($E146,氏名ﾃﾞｰﾀ!$B:$J,6,0)),IF(ISERROR(VLOOKUP($E146,新規登録!$B:$I,8,0)),\"ﾅｼ\",VLOOKUP($E146,新規登録!$B:$I,8,0)),(VLOOKUP($E146,氏名ﾃﾞｰﾀ!$B:$J,6,0))))","v":""},{"$f":"IF($E146=\"\",\"\",IF(ISERROR(VLOOKUP($E146,氏名ﾃﾞｰﾀ!$B:$J,9,0)),IF(ISERROR(VLOOKUP($E146,新規登録!$B:$I,9,0)),\"未登録\",VLOOKUP($E146,新規登録!$B:$I,9,0)),(VLOOKUP($E146,氏名ﾃﾞｰﾀ!$B:$J,9,0))))","v":""},null,null,null,null,null,null,null,null,null,null,null,null,null,null,null,null,null,null,null,null,2,{"$f":"IF(N146=\"\",\"\",VLOOKUP(N146,ﾃﾞｰﾀ!A:D,4,0))","v":""},"秒","秒"]
["","",{"$f":"IF(E147=\"\",\"\",IF(AH147=1,COUNTIF(AH$16:AH147,1)*10+2001-10,COUNTIF(AH$16:AH147,2)*10+6001-10))","v":""},132,null,{"$f":"IF($E147=\"\",\"\",IF(ISERROR(VLOOKUP($E147,氏名ﾃﾞｰﾀ!$B:$J,2,0)),IF(ISERROR(VLOOKUP($E147,新規登録!$B:$I,2,0)),\"未登録\",VLOOKUP($E147,新規登録!$B:$I,2,0)),(VLOOKUP($E147,氏名ﾃﾞｰﾀ!$B:$J,2,0))))","v":""},{"$f":"IF($E147=\"\",\"\",IF(ISERROR(VLOOKUP($E147,氏名ﾃﾞｰﾀ!$B:$J,3,0)),IF(ISERROR(VLOOKUP($E147,新規登録!$B:$I,3,0)),\"未登録\",VLOOKUP($E147,新規登録!$B:$I,3,0)),(VLOOKUP($E147,氏名ﾃﾞｰﾀ!$B:$J,3,0))))","v":""},{"$f":"IF($E147=\"\",\"\",IF(ISERROR(VLOOKUP($E147,氏名ﾃﾞｰﾀ!$B:$J,4,0)),IF(ISERROR(VLOOKUP($E147,新規登録!$B:$I,4,0)),\"未登録\",VLOOKUP($E147,新規登録!$B:$I,4,0)),(VLOOKUP($E147,氏名ﾃﾞｰﾀ!$B:$J,4,0))))","v":""},{"$f":"IF($E147=\"\",\"\",IF(ISERROR(VLOOKUP($E147,氏名ﾃﾞｰﾀ!$B:$J,5,0)),IF(ISERROR(VLOOKUP($E147,新規登録!$B:$I,5,0)),\"未登録\",VLOOKUP($E147,新規登録!$B:$I,5,0)),(VLOOKUP($E147,氏名ﾃﾞｰﾀ!$B:$J,5,0))))","v":""},{"$f":"IF($E147=\"\",\"\",IF(ISERROR(VLOOKUP($E147,氏名ﾃﾞｰﾀ!$B:$J,8,0)),IF(ISERROR(VLOOKUP($E147,新規登録!$B:$I,6,0)),\"未登録\",VLOOKUP($E147,新規登録!$B:$I,6,0)),(VLOOKUP($E147,氏名ﾃﾞｰﾀ!$B:$J,8,0))))","v":""},{"$f":"IF($E147=\"\",\"\",IF(ISERROR(VLOOKUP($E147,氏名ﾃﾞｰﾀ!$B:$J,7,0)),IF(ISERROR(VLOOKUP($E147,新規登録!$B:$I,7,0)),\"未登録\",VLOOKUP($E147,新規登録!$B:$I,7,0)),$G$3))","v":""},{"$f":"IF($E147=\"\",\"\",IF(ISERROR(VLOOKUP($E147,氏名ﾃﾞｰﾀ!$B:$J,6,0)),IF(ISERROR(VLOOKUP($E147,新規登録!$B:$I,8,0)),\"ﾅｼ\",VLOOKUP($E147,新規登録!$B:$I,8,0)),(VLOOKUP($E147,氏名ﾃﾞｰﾀ!$B:$J,6,0))))","v":""},{"$f":"IF($E147=\"\",\"\",IF(ISERROR(VLOOKUP($E147,氏名ﾃﾞｰﾀ!$B:$J,9,0)),IF(ISERROR(VLOOKUP($E147,新規登録!$B:$I,9,0)),\"未登録\",VLOOKUP($E147,新規登録!$B:$I,9,0)),(VLOOKUP($E147,氏名ﾃﾞｰﾀ!$B:$J,9,0))))","v":""},null,null,null,null,null,null,null,null,null,null,null,null,null,null,null,null,null,null,null,null,2,{"$f":"IF(N147=\"\",\"\",VLOOKUP(N147,ﾃﾞｰﾀ!A:D,4,0))","v":""},"秒","秒"]
["","",{"$f":"IF(E148=\"\",\"\",IF(AH148=1,COUNTIF(AH$16:AH148,1)*10+2001-10,COUNTIF(AH$16:AH148,2)*10+6001-10))","v":""},133,null,{"$f":"IF($E148=\"\",\"\",IF(ISERROR(VLOOKUP($E148,氏名ﾃﾞｰﾀ!$B:$J,2,0)),IF(ISERROR(VLOOKUP($E148,新規登録!$B:$I,2,0)),\"未登録\",VLOOKUP($E148,新規登録!$B:$I,2,0)),(VLOOKUP($E148,氏名ﾃﾞｰﾀ!$B:$J,2,0))))","v":""},{"$f":"IF($E148=\"\",\"\",IF(ISERROR(VLOOKUP($E148,氏名ﾃﾞｰﾀ!$B:$J,3,0)),IF(ISERROR(VLOOKUP($E148,新規登録!$B:$I,3,0)),\"未登録\",VLOOKUP($E148,新規登録!$B:$I,3,0)),(VLOOKUP($E148,氏名ﾃﾞｰﾀ!$B:$J,3,0))))","v":""},{"$f":"IF($E148=\"\",\"\",IF(ISERROR(VLOOKUP($E148,氏名ﾃﾞｰﾀ!$B:$J,4,0)),IF(ISERROR(VLOOKUP($E148,新規登録!$B:$I,4,0)),\"未登録\",VLOOKUP($E148,新規登録!$B:$I,4,0)),(VLOOKUP($E148,氏名ﾃﾞｰﾀ!$B:$J,4,0))))","v":""},{"$f":"IF($E148=\"\",\"\",IF(ISERROR(VLOOKUP($E148,氏名ﾃﾞｰﾀ!$B:$J,5,0)),IF(ISERROR(VLOOKUP($E148,新規登録!$B:$I,5,0)),\"未登録\",VLOOKUP($E148,新規登録!$B:$I,5,0)),(VLOOKUP($E148,氏名ﾃﾞｰﾀ!$B:$J,5,0))))","v":""},{"$f":"IF($E148=\"\",\"\",IF(ISERROR(VLOOKUP($E148,氏名ﾃﾞｰﾀ!$B:$J,8,0)),IF(ISERROR(VLOOKUP($E148,新規登録!$B:$I,6,0)),\"未登録\",VLOOKUP($E148,新規登録!$B:$I,6,0)),(VLOOKUP($E148,氏名ﾃﾞｰﾀ!$B:$J,8,0))))","v":""},{"$f":"IF($E148=\"\",\"\",IF(ISERROR(VLOOKUP($E148,氏名ﾃﾞｰﾀ!$B:$J,7,0)),IF(ISERROR(VLOOKUP($E148,新規登録!$B:$I,7,0)),\"未登録\",VLOOKUP($E148,新規登録!$B:$I,7,0)),$G$3))","v":""},{"$f":"IF($E148=\"\",\"\",IF(ISERROR(VLOOKUP($E148,氏名ﾃﾞｰﾀ!$B:$J,6,0)),IF(ISERROR(VLOOKUP($E148,新規登録!$B:$I,8,0)),\"ﾅｼ\",VLOOKUP($E148,新規登録!$B:$I,8,0)),(VLOOKUP($E148,氏名ﾃﾞｰﾀ!$B:$J,6,0))))","v":""},{"$f":"IF($E148=\"\",\"\",IF(ISERROR(VLOOKUP($E148,氏名ﾃﾞｰﾀ!$B:$J,9,0)),IF(ISERROR(VLOOKUP($E148,新規登録!$B:$I,9,0)),\"未登録\",VLOOKUP($E148,新規登録!$B:$I,9,0)),(VLOOKUP($E148,氏名ﾃﾞｰﾀ!$B:$J,9,0))))","v":""},null,null,null,null,null,null,null,null,null,null,null,null,null,null,null,null,null,null,null,null,2,{"$f":"IF(N148=\"\",\"\",VLOOKUP(N148,ﾃﾞｰﾀ!A:D,4,0))","v":""},"秒","秒"]
["","",{"$f":"IF(E149=\"\",\"\",IF(AH149=1,COUNTIF(AH$16:AH149,1)*10+2001-10,COUNTIF(AH$16:AH149,2)*10+6001-10))","v":""},134,null,{"$f":"IF($E149=\"\",\"\",IF(ISERROR(VLOOKUP($E149,氏名ﾃﾞｰﾀ!$B:$J,2,0)),IF(ISERROR(VLOOKUP($E149,新規登録!$B:$I,2,0)),\"未登録\",VLOOKUP($E149,新規登録!$B:$I,2,0)),(VLOOKUP($E149,氏名ﾃﾞｰﾀ!$B:$J,2,0))))","v":""},{"$f":"IF($E149=\"\",\"\",IF(ISERROR(VLOOKUP($E149,氏名ﾃﾞｰﾀ!$B:$J,3,0)),IF(ISERROR(VLOOKUP($E149,新規登録!$B:$I,3,0)),\"未登録\",VLOOKUP($E149,新規登録!$B:$I,3,0)),(VLOOKUP($E149,氏名ﾃﾞｰﾀ!$B:$J,3,0))))","v":""},{"$f":"IF($E149=\"\",\"\",IF(ISERROR(VLOOKUP($E149,氏名ﾃﾞｰﾀ!$B:$J,4,0)),IF(ISERROR(VLOOKUP($E149,新規登録!$B:$I,4,0)),\"未登録\",VLOOKUP($E149,新規登録!$B:$I,4,0)),(VLOOKUP($E149,氏名ﾃﾞｰﾀ!$B:$J,4,0))))","v":""},{"$f":"IF($E149=\"\",\"\",IF(ISERROR(VLOOKUP($E149,氏名ﾃﾞｰﾀ!$B:$J,5,0)),IF(ISERROR(VLOOKUP($E149,新規登録!$B:$I,5,0)),\"未登録\",VLOOKUP($E149,新規登録!$B:$I,5,0)),(VLOOKUP($E149,氏名ﾃﾞｰﾀ!$B:$J,5,0))))","v":""},{"$f":"IF($E149=\"\",\"\",IF(ISERROR(VLOOKUP($E149,氏名ﾃﾞｰﾀ!$B:$J,8,0)),IF(ISERROR(VLOOKUP($E149,新規登録!$B:$I,6,0)),\"未登録\",VLOOKUP($E149,新規登録!$B:$I,6,0)),(VLOOKUP($E149,氏名ﾃﾞｰﾀ!$B:$J,8,0))))","v":""},{"$f":"IF($E149=\"\",\"\",IF(ISERROR(VLOOKUP($E149,氏名ﾃﾞｰﾀ!$B:$J,7,0)),IF(ISERROR(VLOOKUP($E149,新規登録!$B:$I,7,0)),\"未登録\",VLOOKUP($E149,新規登録!$B:$I,7,0)),$G$3))","v":""},{"$f":"IF($E149=\"\",\"\",IF(ISERROR(VLOOKUP($E149,氏名ﾃﾞｰﾀ!$B:$J,6,0)),IF(ISERROR(VLOOKUP($E149,新規登録!$B:$I,8,0)),\"ﾅｼ\",VLOOKUP($E149,新規登録!$B:$I,8,0)),(VLOOKUP($E149,氏名ﾃﾞｰﾀ!$B:$J,6,0))))","v":""},{"$f":"IF($E149=\"\",\"\",IF(ISERROR(VLOOKUP($E149,氏名ﾃﾞｰﾀ!$B:$J,9,0)),IF(ISERROR(VLOOKUP($E149,新規登録!$B:$I,9,0)),\"未登録\",VLOOKUP($E149,新規登録!$B:$I,9,0)),(VLOOKUP($E149,氏名ﾃﾞｰﾀ!$B:$J,9,0))))","v":""},null,null,null,null,null,null,null,null,null,null,null,null,null,null,null,null,null,null,null,null,2,{"$f":"IF(N149=\"\",\"\",VLOOKUP(N149,ﾃﾞｰﾀ!A:D,4,0))","v":""},"秒","秒"]
["","",{"$f":"IF(E150=\"\",\"\",IF(AH150=1,COUNTIF(AH$16:AH150,1)*10+2001-10,COUNTIF(AH$16:AH150,2)*10+6001-10))","v":""},135,null,{"$f":"IF($E150=\"\",\"\",IF(ISERROR(VLOOKUP($E150,氏名ﾃﾞｰﾀ!$B:$J,2,0)),IF(ISERROR(VLOOKUP($E150,新規登録!$B:$I,2,0)),\"未登録\",VLOOKUP($E150,新規登録!$B:$I,2,0)),(VLOOKUP($E150,氏名ﾃﾞｰﾀ!$B:$J,2,0))))","v":""},{"$f":"IF($E150=\"\",\"\",IF(ISERROR(VLOOKUP($E150,氏名ﾃﾞｰﾀ!$B:$J,3,0)),IF(ISERROR(VLOOKUP($E150,新規登録!$B:$I,3,0)),\"未登録\",VLOOKUP($E150,新規登録!$B:$I,3,0)),(VLOOKUP($E150,氏名ﾃﾞｰﾀ!$B:$J,3,0))))","v":""},{"$f":"IF($E150=\"\",\"\",IF(ISERROR(VLOOKUP($E150,氏名ﾃﾞｰﾀ!$B:$J,4,0)),IF(ISERROR(VLOOKUP($E150,新規登録!$B:$I,4,0)),\"未登録\",VLOOKUP($E150,新規登録!$B:$I,4,0)),(VLOOKUP($E150,氏名ﾃﾞｰﾀ!$B:$J,4,0))))","v":""},{"$f":"IF($E150=\"\",\"\",IF(ISERROR(VLOOKUP($E150,氏名ﾃﾞｰﾀ!$B:$J,5,0)),IF(ISERROR(VLOOKUP($E150,新規登録!$B:$I,5,0)),\"未登録\",VLOOKUP($E150,新規登録!$B:$I,5,0)),(VLOOKUP($E150,氏名ﾃﾞｰﾀ!$B:$J,5,0))))","v":""},{"$f":"IF($E150=\"\",\"\",IF(ISERROR(VLOOKUP($E150,氏名ﾃﾞｰﾀ!$B:$J,8,0)),IF(ISERROR(VLOOKUP($E150,新規登録!$B:$I,6,0)),\"未登録\",VLOOKUP($E150,新規登録!$B:$I,6,0)),(VLOOKUP($E150,氏名ﾃﾞｰﾀ!$B:$J,8,0))))","v":""},{"$f":"IF($E150=\"\",\"\",IF(ISERROR(VLOOKUP($E150,氏名ﾃﾞｰﾀ!$B:$J,7,0)),IF(ISERROR(VLOOKUP($E150,新規登録!$B:$I,7,0)),\"未登録\",VLOOKUP($E150,新規登録!$B:$I,7,0)),$G$3))","v":""},{"$f":"IF($E150=\"\",\"\",IF(ISERROR(VLOOKUP($E150,氏名ﾃﾞｰﾀ!$B:$J,6,0)),IF(ISERROR(VLOOKUP($E150,新規登録!$B:$I,8,0)),\"ﾅｼ\",VLOOKUP($E150,新規登録!$B:$I,8,0)),(VLOOKUP($E150,氏名ﾃﾞｰﾀ!$B:$J,6,0))))","v":""},{"$f":"IF($E150=\"\",\"\",IF(ISERROR(VLOOKUP($E150,氏名ﾃﾞｰﾀ!$B:$J,9,0)),IF(ISERROR(VLOOKUP($E150,新規登録!$B:$I,9,0)),\"未登録\",VLOOKUP($E150,新規登録!$B:$I,9,0)),(VLOOKUP($E150,氏名ﾃﾞｰﾀ!$B:$J,9,0))))","v":""},null,null,null,null,null,null,null,null,null,null,null,null,null,null,null,null,null,null,null,null,2,{"$f":"IF(N150=\"\",\"\",VLOOKUP(N150,ﾃﾞｰﾀ!A:D,4,0))","v":""},"秒","秒"]
["","",{"$f":"IF(E151=\"\",\"\",IF(AH151=1,COUNTIF(AH$16:AH151,1)*10+2001-10,COUNTIF(AH$16:AH151,2)*10+6001-10))","v":""},136,null,{"$f":"IF($E151=\"\",\"\",IF(ISERROR(VLOOKUP($E151,氏名ﾃﾞｰﾀ!$B:$J,2,0)),IF(ISERROR(VLOOKUP($E151,新規登録!$B:$I,2,0)),\"未登録\",VLOOKUP($E151,新規登録!$B:$I,2,0)),(VLOOKUP($E151,氏名ﾃﾞｰﾀ!$B:$J,2,0))))","v":""},{"$f":"IF($E151=\"\",\"\",IF(ISERROR(VLOOKUP($E151,氏名ﾃﾞｰﾀ!$B:$J,3,0)),IF(ISERROR(VLOOKUP($E151,新規登録!$B:$I,3,0)),\"未登録\",VLOOKUP($E151,新規登録!$B:$I,3,0)),(VLOOKUP($E151,氏名ﾃﾞｰﾀ!$B:$J,3,0))))","v":""},{"$f":"IF($E151=\"\",\"\",IF(ISERROR(VLOOKUP($E151,氏名ﾃﾞｰﾀ!$B:$J,4,0)),IF(ISERROR(VLOOKUP($E151,新規登録!$B:$I,4,0)),\"未登録\",VLOOKUP($E151,新規登録!$B:$I,4,0)),(VLOOKUP($E151,氏名ﾃﾞｰﾀ!$B:$J,4,0))))","v":""},{"$f":"IF($E151=\"\",\"\",IF(ISERROR(VLOOKUP($E151,氏名ﾃﾞｰﾀ!$B:$J,5,0)),IF(ISERROR(VLOOKUP($E151,新規登録!$B:$I,5,0)),\"未登録\",VLOOKUP($E151,新規登録!$B:$I,5,0)),(VLOOKUP($E151,氏名ﾃﾞｰﾀ!$B:$J,5,0))))","v":""},{"$f":"IF($E151=\"\",\"\",IF(ISERROR(VLOOKUP($E151,氏名ﾃﾞｰﾀ!$B:$J,8,0)),IF(ISERROR(VLOOKUP($E151,新規登録!$B:$I,6,0)),\"未登録\",VLOOKUP($E151,新規登録!$B:$I,6,0)),(VLOOKUP($E151,氏名ﾃﾞｰﾀ!$B:$J,8,0))))","v":""},{"$f":"IF($E151=\"\",\"\",IF(ISERROR(VLOOKUP($E151,氏名ﾃﾞｰﾀ!$B:$J,7,0)),IF(ISERROR(VLOOKUP($E151,新規登録!$B:$I,7,0)),\"未登録\",VLOOKUP($E151,新規登録!$B:$I,7,0)),$G$3))","v":""},{"$f":"IF($E151=\"\",\"\",IF(ISERROR(VLOOKUP($E151,氏名ﾃﾞｰﾀ!$B:$J,6,0)),IF(ISERROR(VLOOKUP($E151,新規登録!$B:$I,8,0)),\"ﾅｼ\",VLOOKUP($E151,新規登録!$B:$I,8,0)),(VLOOKUP($E151,氏名ﾃﾞｰﾀ!$B:$J,6,0))))","v":""},{"$f":"IF($E151=\"\",\"\",IF(ISERROR(VLOOKUP($E151,氏名ﾃﾞｰﾀ!$B:$J,9,0)),IF(ISERROR(VLOOKUP($E151,新規登録!$B:$I,9,0)),\"未登録\",VLOOKUP($E151,新規登録!$B:$I,9,0)),(VLOOKUP($E151,氏名ﾃﾞｰﾀ!$B:$J,9,0))))","v":""},null,null,null,null,null,null,null,null,null,null,null,null,null,null,null,null,null,null,null,null,2,{"$f":"IF(N151=\"\",\"\",VLOOKUP(N151,ﾃﾞｰﾀ!A:D,4,0))","v":""},"秒","秒"]
["","",{"$f":"IF(E152=\"\",\"\",IF(AH152=1,COUNTIF(AH$16:AH152,1)*10+2001-10,COUNTIF(AH$16:AH152,2)*10+6001-10))","v":""},137,null,{"$f":"IF($E152=\"\",\"\",IF(ISERROR(VLOOKUP($E152,氏名ﾃﾞｰﾀ!$B:$J,2,0)),IF(ISERROR(VLOOKUP($E152,新規登録!$B:$I,2,0)),\"未登録\",VLOOKUP($E152,新規登録!$B:$I,2,0)),(VLOOKUP($E152,氏名ﾃﾞｰﾀ!$B:$J,2,0))))","v":""},{"$f":"IF($E152=\"\",\"\",IF(ISERROR(VLOOKUP($E152,氏名ﾃﾞｰﾀ!$B:$J,3,0)),IF(ISERROR(VLOOKUP($E152,新規登録!$B:$I,3,0)),\"未登録\",VLOOKUP($E152,新規登録!$B:$I,3,0)),(VLOOKUP($E152,氏名ﾃﾞｰﾀ!$B:$J,3,0))))","v":""},{"$f":"IF($E152=\"\",\"\",IF(ISERROR(VLOOKUP($E152,氏名ﾃﾞｰﾀ!$B:$J,4,0)),IF(ISERROR(VLOOKUP($E152,新規登録!$B:$I,4,0)),\"未登録\",VLOOKUP($E152,新規登録!$B:$I,4,0)),(VLOOKUP($E152,氏名ﾃﾞｰﾀ!$B:$J,4,0))))","v":""},{"$f":"IF($E152=\"\",\"\",IF(ISERROR(VLOOKUP($E152,氏名ﾃﾞｰﾀ!$B:$J,5,0)),IF(ISERROR(VLOOKUP($E152,新規登録!$B:$I,5,0)),\"未登録\",VLOOKUP($E152,新規登録!$B:$I,5,0)),(VLOOKUP($E152,氏名ﾃﾞｰﾀ!$B:$J,5,0))))","v":""},{"$f":"IF($E152=\"\",\"\",IF(ISERROR(VLOOKUP($E152,氏名ﾃﾞｰﾀ!$B:$J,8,0)),IF(ISERROR(VLOOKUP($E152,新規登録!$B:$I,6,0)),\"未登録\",VLOOKUP($E152,新規登録!$B:$I,6,0)),(VLOOKUP($E152,氏名ﾃﾞｰﾀ!$B:$J,8,0))))","v":""},{"$f":"IF($E152=\"\",\"\",IF(ISERROR(VLOOKUP($E152,氏名ﾃﾞｰﾀ!$B:$J,7,0)),IF(ISERROR(VLOOKUP($E152,新規登録!$B:$I,7,0)),\"未登録\",VLOOKUP($E152,新規登録!$B:$I,7,0)),$G$3))","v":""},{"$f":"IF($E152=\"\",\"\",IF(ISERROR(VLOOKUP($E152,氏名ﾃﾞｰﾀ!$B:$J,6,0)),IF(ISERROR(VLOOKUP($E152,新規登録!$B:$I,8,0)),\"ﾅｼ\",VLOOKUP($E152,新規登録!$B:$I,8,0)),(VLOOKUP($E152,氏名ﾃﾞｰﾀ!$B:$J,6,0))))","v":""},{"$f":"IF($E152=\"\",\"\",IF(ISERROR(VLOOKUP($E152,氏名ﾃﾞｰﾀ!$B:$J,9,0)),IF(ISERROR(VLOOKUP($E152,新規登録!$B:$I,9,0)),\"未登録\",VLOOKUP($E152,新規登録!$B:$I,9,0)),(VLOOKUP($E152,氏名ﾃﾞｰﾀ!$B:$J,9,0))))","v":""},null,null,null,null,null,null,null,null,null,null,null,null,null,null,null,null,null,null,null,null,2,{"$f":"IF(N152=\"\",\"\",VLOOKUP(N152,ﾃﾞｰﾀ!A:D,4,0))","v":""},"秒","秒"]
["","",{"$f":"IF(E153=\"\",\"\",IF(AH153=1,COUNTIF(AH$16:AH153,1)*10+2001-10,COUNTIF(AH$16:AH153,2)*10+6001-10))","v":""},138,null,{"$f":"IF($E153=\"\",\"\",IF(ISERROR(VLOOKUP($E153,氏名ﾃﾞｰﾀ!$B:$J,2,0)),IF(ISERROR(VLOOKUP($E153,新規登録!$B:$I,2,0)),\"未登録\",VLOOKUP($E153,新規登録!$B:$I,2,0)),(VLOOKUP($E153,氏名ﾃﾞｰﾀ!$B:$J,2,0))))","v":""},{"$f":"IF($E153=\"\",\"\",IF(ISERROR(VLOOKUP($E153,氏名ﾃﾞｰﾀ!$B:$J,3,0)),IF(ISERROR(VLOOKUP($E153,新規登録!$B:$I,3,0)),\"未登録\",VLOOKUP($E153,新規登録!$B:$I,3,0)),(VLOOKUP($E153,氏名ﾃﾞｰﾀ!$B:$J,3,0))))","v":""},{"$f":"IF($E153=\"\",\"\",IF(ISERROR(VLOOKUP($E153,氏名ﾃﾞｰﾀ!$B:$J,4,0)),IF(ISERROR(VLOOKUP($E153,新規登録!$B:$I,4,0)),\"未登録\",VLOOKUP($E153,新規登録!$B:$I,4,0)),(VLOOKUP($E153,氏名ﾃﾞｰﾀ!$B:$J,4,0))))","v":""},{"$f":"IF($E153=\"\",\"\",IF(ISERROR(VLOOKUP($E153,氏名ﾃﾞｰﾀ!$B:$J,5,0)),IF(ISERROR(VLOOKUP($E153,新規登録!$B:$I,5,0)),\"未登録\",VLOOKUP($E153,新規登録!$B:$I,5,0)),(VLOOKUP($E153,氏名ﾃﾞｰﾀ!$B:$J,5,0))))","v":""},{"$f":"IF($E153=\"\",\"\",IF(ISERROR(VLOOKUP($E153,氏名ﾃﾞｰﾀ!$B:$J,8,0)),IF(ISERROR(VLOOKUP($E153,新規登録!$B:$I,6,0)),\"未登録\",VLOOKUP($E153,新規登録!$B:$I,6,0)),(VLOOKUP($E153,氏名ﾃﾞｰﾀ!$B:$J,8,0))))","v":""},{"$f":"IF($E153=\"\",\"\",IF(ISERROR(VLOOKUP($E153,氏名ﾃﾞｰﾀ!$B:$J,7,0)),IF(ISERROR(VLOOKUP($E153,新規登録!$B:$I,7,0)),\"未登録\",VLOOKUP($E153,新規登録!$B:$I,7,0)),$G$3))","v":""},{"$f":"IF($E153=\"\",\"\",IF(ISERROR(VLOOKUP($E153,氏名ﾃﾞｰﾀ!$B:$J,6,0)),IF(ISERROR(VLOOKUP($E153,新規登録!$B:$I,8,0)),\"ﾅｼ\",VLOOKUP($E153,新規登録!$B:$I,8,0)),(VLOOKUP($E153,氏名ﾃﾞｰﾀ!$B:$J,6,0))))","v":""},{"$f":"IF($E153=\"\",\"\",IF(ISERROR(VLOOKUP($E153,氏名ﾃﾞｰﾀ!$B:$J,9,0)),IF(ISERROR(VLOOKUP($E153,新規登録!$B:$I,9,0)),\"未登録\",VLOOKUP($E153,新規登録!$B:$I,9,0)),(VLOOKUP($E153,氏名ﾃﾞｰﾀ!$B:$J,9,0))))","v":""},null,null,null,null,null,null,null,null,null,null,null,null,null,null,null,null,null,null,null,null,2,{"$f":"IF(N153=\"\",\"\",VLOOKUP(N153,ﾃﾞｰﾀ!A:D,4,0))","v":""},"秒","秒"]
["","",{"$f":"IF(E154=\"\",\"\",IF(AH154=1,COUNTIF(AH$16:AH154,1)*10+2001-10,COUNTIF(AH$16:AH154,2)*10+6001-10))","v":""},139,null,{"$f":"IF($E154=\"\",\"\",IF(ISERROR(VLOOKUP($E154,氏名ﾃﾞｰﾀ!$B:$J,2,0)),IF(ISERROR(VLOOKUP($E154,新規登録!$B:$I,2,0)),\"未登録\",VLOOKUP($E154,新規登録!$B:$I,2,0)),(VLOOKUP($E154,氏名ﾃﾞｰﾀ!$B:$J,2,0))))","v":""},{"$f":"IF($E154=\"\",\"\",IF(ISERROR(VLOOKUP($E154,氏名ﾃﾞｰﾀ!$B:$J,3,0)),IF(ISERROR(VLOOKUP($E154,新規登録!$B:$I,3,0)),\"未登録\",VLOOKUP($E154,新規登録!$B:$I,3,0)),(VLOOKUP($E154,氏名ﾃﾞｰﾀ!$B:$J,3,0))))","v":""},{"$f":"IF($E154=\"\",\"\",IF(ISERROR(VLOOKUP($E154,氏名ﾃﾞｰﾀ!$B:$J,4,0)),IF(ISERROR(VLOOKUP($E154,新規登録!$B:$I,4,0)),\"未登録\",VLOOKUP($E154,新規登録!$B:$I,4,0)),(VLOOKUP($E154,氏名ﾃﾞｰﾀ!$B:$J,4,0))))","v":""},{"$f":"IF($E154=\"\",\"\",IF(ISERROR(VLOOKUP($E154,氏名ﾃﾞｰﾀ!$B:$J,5,0)),IF(ISERROR(VLOOKUP($E154,新規登録!$B:$I,5,0)),\"未登録\",VLOOKUP($E154,新規登録!$B:$I,5,0)),(VLOOKUP($E154,氏名ﾃﾞｰﾀ!$B:$J,5,0))))","v":""},{"$f":"IF($E154=\"\",\"\",IF(ISERROR(VLOOKUP($E154,氏名ﾃﾞｰﾀ!$B:$J,8,0)),IF(ISERROR(VLOOKUP($E154,新規登録!$B:$I,6,0)),\"未登録\",VLOOKUP($E154,新規登録!$B:$I,6,0)),(VLOOKUP($E154,氏名ﾃﾞｰﾀ!$B:$J,8,0))))","v":""},{"$f":"IF($E154=\"\",\"\",IF(ISERROR(VLOOKUP($E154,氏名ﾃﾞｰﾀ!$B:$J,7,0)),IF(ISERROR(VLOOKUP($E154,新規登録!$B:$I,7,0)),\"未登録\",VLOOKUP($E154,新規登録!$B:$I,7,0)),$G$3))","v":""},{"$f":"IF($E154=\"\",\"\",IF(ISERROR(VLOOKUP($E154,氏名ﾃﾞｰﾀ!$B:$J,6,0)),IF(ISERROR(VLOOKUP($E154,新規登録!$B:$I,8,0)),\"ﾅｼ\",VLOOKUP($E154,新規登録!$B:$I,8,0)),(VLOOKUP($E154,氏名ﾃﾞｰﾀ!$B:$J,6,0))))","v":""},{"$f":"IF($E154=\"\",\"\",IF(ISERROR(VLOOKUP($E154,氏名ﾃﾞｰﾀ!$B:$J,9,0)),IF(ISERROR(VLOOKUP($E154,新規登録!$B:$I,9,0)),\"未登録\",VLOOKUP($E154,新規登録!$B:$I,9,0)),(VLOOKUP($E154,氏名ﾃﾞｰﾀ!$B:$J,9,0))))","v":""},null,null,null,null,null,null,null,null,null,null,null,null,null,null,null,null,null,null,null,null,2,{"$f":"IF(N154=\"\",\"\",VLOOKUP(N154,ﾃﾞｰﾀ!A:D,4,0))","v":""},"秒","秒"]
["","",{"$f":"IF(E155=\"\",\"\",IF(AH155=1,COUNTIF(AH$16:AH155,1)*10+2001-10,COUNTIF(AH$16:AH155,2)*10+6001-10))","v":""},140,null,{"$f":"IF($E155=\"\",\"\",IF(ISERROR(VLOOKUP($E155,氏名ﾃﾞｰﾀ!$B:$J,2,0)),IF(ISERROR(VLOOKUP($E155,新規登録!$B:$I,2,0)),\"未登録\",VLOOKUP($E155,新規登録!$B:$I,2,0)),(VLOOKUP($E155,氏名ﾃﾞｰﾀ!$B:$J,2,0))))","v":""},{"$f":"IF($E155=\"\",\"\",IF(ISERROR(VLOOKUP($E155,氏名ﾃﾞｰﾀ!$B:$J,3,0)),IF(ISERROR(VLOOKUP($E155,新規登録!$B:$I,3,0)),\"未登録\",VLOOKUP($E155,新規登録!$B:$I,3,0)),(VLOOKUP($E155,氏名ﾃﾞｰﾀ!$B:$J,3,0))))","v":""},{"$f":"IF($E155=\"\",\"\",IF(ISERROR(VLOOKUP($E155,氏名ﾃﾞｰﾀ!$B:$J,4,0)),IF(ISERROR(VLOOKUP($E155,新規登録!$B:$I,4,0)),\"未登録\",VLOOKUP($E155,新規登録!$B:$I,4,0)),(VLOOKUP($E155,氏名ﾃﾞｰﾀ!$B:$J,4,0))))","v":""},{"$f":"IF($E155=\"\",\"\",IF(ISERROR(VLOOKUP($E155,氏名ﾃﾞｰﾀ!$B:$J,5,0)),IF(ISERROR(VLOOKUP($E155,新規登録!$B:$I,5,0)),\"未登録\",VLOOKUP($E155,新規登録!$B:$I,5,0)),(VLOOKUP($E155,氏名ﾃﾞｰﾀ!$B:$J,5,0))))","v":""},{"$f":"IF($E155=\"\",\"\",IF(ISERROR(VLOOKUP($E155,氏名ﾃﾞｰﾀ!$B:$J,8,0)),IF(ISERROR(VLOOKUP($E155,新規登録!$B:$I,6,0)),\"未登録\",VLOOKUP($E155,新規登録!$B:$I,6,0)),(VLOOKUP($E155,氏名ﾃﾞｰﾀ!$B:$J,8,0))))","v":""},{"$f":"IF($E155=\"\",\"\",IF(ISERROR(VLOOKUP($E155,氏名ﾃﾞｰﾀ!$B:$J,7,0)),IF(ISERROR(VLOOKUP($E155,新規登録!$B:$I,7,0)),\"未登録\",VLOOKUP($E155,新規登録!$B:$I,7,0)),$G$3))","v":""},{"$f":"IF($E155=\"\",\"\",IF(ISERROR(VLOOKUP($E155,氏名ﾃﾞｰﾀ!$B:$J,6,0)),IF(ISERROR(VLOOKUP($E155,新規登録!$B:$I,8,0)),\"ﾅｼ\",VLOOKUP($E155,新規登録!$B:$I,8,0)),(VLOOKUP($E155,氏名ﾃﾞｰﾀ!$B:$J,6,0))))","v":""},{"$f":"IF($E155=\"\",\"\",IF(ISERROR(VLOOKUP($E155,氏名ﾃﾞｰﾀ!$B:$J,9,0)),IF(ISERROR(VLOOKUP($E155,新規登録!$B:$I,9,0)),\"未登録\",VLOOKUP($E155,新規登録!$B:$I,9,0)),(VLOOKUP($E155,氏名ﾃﾞｰﾀ!$B:$J,9,0))))","v":""},null,null,null,null,null,null,null,null,null,null,null,null,null,null,null,null,null,null,null,null,2,{"$f":"IF(N155=\"\",\"\",VLOOKUP(N155,ﾃﾞｰﾀ!A:D,4,0))","v":""},"秒","秒"]
["","",{"$f":"IF(E156=\"\",\"\",IF(AH156=1,COUNTIF(AH$16:AH156,1)*10+2001-10,COUNTIF(AH$16:AH156,2)*10+6001-10))","v":""},141,null,{"$f":"IF($E156=\"\",\"\",IF(ISERROR(VLOOKUP($E156,氏名ﾃﾞｰﾀ!$B:$J,2,0)),IF(ISERROR(VLOOKUP($E156,新規登録!$B:$I,2,0)),\"未登録\",VLOOKUP($E156,新規登録!$B:$I,2,0)),(VLOOKUP($E156,氏名ﾃﾞｰﾀ!$B:$J,2,0))))","v":""},{"$f":"IF($E156=\"\",\"\",IF(ISERROR(VLOOKUP($E156,氏名ﾃﾞｰﾀ!$B:$J,3,0)),IF(ISERROR(VLOOKUP($E156,新規登録!$B:$I,3,0)),\"未登録\",VLOOKUP($E156,新規登録!$B:$I,3,0)),(VLOOKUP($E156,氏名ﾃﾞｰﾀ!$B:$J,3,0))))","v":""},{"$f":"IF($E156=\"\",\"\",IF(ISERROR(VLOOKUP($E156,氏名ﾃﾞｰﾀ!$B:$J,4,0)),IF(ISERROR(VLOOKUP($E156,新規登録!$B:$I,4,0)),\"未登録\",VLOOKUP($E156,新規登録!$B:$I,4,0)),(VLOOKUP($E156,氏名ﾃﾞｰﾀ!$B:$J,4,0))))","v":""},{"$f":"IF($E156=\"\",\"\",IF(ISERROR(VLOOKUP($E156,氏名ﾃﾞｰﾀ!$B:$J,5,0)),IF(ISERROR(VLOOKUP($E156,新規登録!$B:$I,5,0)),\"未登録\",VLOOKUP($E156,新規登録!$B:$I,5,0)),(VLOOKUP($E156,氏名ﾃﾞｰﾀ!$B:$J,5,0))))","v":""},{"$f":"IF($E156=\"\",\"\",IF(ISERROR(VLOOKUP($E156,氏名ﾃﾞｰﾀ!$B:$J,8,0)),IF(ISERROR(VLOOKUP($E156,新規登録!$B:$I,6,0)),\"未登録\",VLOOKUP($E156,新規登録!$B:$I,6,0)),(VLOOKUP($E156,氏名ﾃﾞｰﾀ!$B:$J,8,0))))","v":""},{"$f":"IF($E156=\"\",\"\",IF(ISERROR(VLOOKUP($E156,氏名ﾃﾞｰﾀ!$B:$J,7,0)),IF(ISERROR(VLOOKUP($E156,新規登録!$B:$I,7,0)),\"未登録\",VLOOKUP($E156,新規登録!$B:$I,7,0)),$G$3))","v":""},{"$f":"IF($E156=\"\",\"\",IF(ISERROR(VLOOKUP($E156,氏名ﾃﾞｰﾀ!$B:$J,6,0)),IF(ISERROR(VLOOKUP($E156,新規登録!$B:$I,8,0)),\"ﾅｼ\",VLOOKUP($E156,新規登録!$B:$I,8,0)),(VLOOKUP($E156,氏名ﾃﾞｰﾀ!$B:$J,6,0))))","v":""},{"$f":"IF($E156=\"\",\"\",IF(ISERROR(VLOOKUP($E156,氏名ﾃﾞｰﾀ!$B:$J,9,0)),IF(ISERROR(VLOOKUP($E156,新規登録!$B:$I,9,0)),\"未登録\",VLOOKUP($E156,新規登録!$B:$I,9,0)),(VLOOKUP($E156,氏名ﾃﾞｰﾀ!$B:$J,9,0))))","v":""},null,null,null,null,null,null,null,null,null,null,null,null,null,null,null,null,null,null,null,null,2,{"$f":"IF(N156=\"\",\"\",VLOOKUP(N156,ﾃﾞｰﾀ!A:D,4,0))","v":""},"秒","秒"]
["","",{"$f":"IF(E157=\"\",\"\",IF(AH157=1,COUNTIF(AH$16:AH157,1)*10+2001-10,COUNTIF(AH$16:AH157,2)*10+6001-10))","v":""},142,null,{"$f":"IF($E157=\"\",\"\",IF(ISERROR(VLOOKUP($E157,氏名ﾃﾞｰﾀ!$B:$J,2,0)),IF(ISERROR(VLOOKUP($E157,新規登録!$B:$I,2,0)),\"未登録\",VLOOKUP($E157,新規登録!$B:$I,2,0)),(VLOOKUP($E157,氏名ﾃﾞｰﾀ!$B:$J,2,0))))","v":""},{"$f":"IF($E157=\"\",\"\",IF(ISERROR(VLOOKUP($E157,氏名ﾃﾞｰﾀ!$B:$J,3,0)),IF(ISERROR(VLOOKUP($E157,新規登録!$B:$I,3,0)),\"未登録\",VLOOKUP($E157,新規登録!$B:$I,3,0)),(VLOOKUP($E157,氏名ﾃﾞｰﾀ!$B:$J,3,0))))","v":""},{"$f":"IF($E157=\"\",\"\",IF(ISERROR(VLOOKUP($E157,氏名ﾃﾞｰﾀ!$B:$J,4,0)),IF(ISERROR(VLOOKUP($E157,新規登録!$B:$I,4,0)),\"未登録\",VLOOKUP($E157,新規登録!$B:$I,4,0)),(VLOOKUP($E157,氏名ﾃﾞｰﾀ!$B:$J,4,0))))","v":""},{"$f":"IF($E157=\"\",\"\",IF(ISERROR(VLOOKUP($E157,氏名ﾃﾞｰﾀ!$B:$J,5,0)),IF(ISERROR(VLOOKUP($E157,新規登録!$B:$I,5,0)),\"未登録\",VLOOKUP($E157,新規登録!$B:$I,5,0)),(VLOOKUP($E157,氏名ﾃﾞｰﾀ!$B:$J,5,0))))","v":""},{"$f":"IF($E157=\"\",\"\",IF(ISERROR(VLOOKUP($E157,氏名ﾃﾞｰﾀ!$B:$J,8,0)),IF(ISERROR(VLOOKUP($E157,新規登録!$B:$I,6,0)),\"未登録\",VLOOKUP($E157,新規登録!$B:$I,6,0)),(VLOOKUP($E157,氏名ﾃﾞｰﾀ!$B:$J,8,0))))","v":""},{"$f":"IF($E157=\"\",\"\",IF(ISERROR(VLOOKUP($E157,氏名ﾃﾞｰﾀ!$B:$J,7,0)),IF(ISERROR(VLOOKUP($E157,新規登録!$B:$I,7,0)),\"未登録\",VLOOKUP($E157,新規登録!$B:$I,7,0)),$G$3))","v":""},{"$f":"IF($E157=\"\",\"\",IF(ISERROR(VLOOKUP($E157,氏名ﾃﾞｰﾀ!$B:$J,6,0)),IF(ISERROR(VLOOKUP($E157,新規登録!$B:$I,8,0)),\"ﾅｼ\",VLOOKUP($E157,新規登録!$B:$I,8,0)),(VLOOKUP($E157,氏名ﾃﾞｰﾀ!$B:$J,6,0))))","v":""},{"$f":"IF($E157=\"\",\"\",IF(ISERROR(VLOOKUP($E157,氏名ﾃﾞｰﾀ!$B:$J,9,0)),IF(ISERROR(VLOOKUP($E157,新規登録!$B:$I,9,0)),\"未登録\",VLOOKUP($E157,新規登録!$B:$I,9,0)),(VLOOKUP($E157,氏名ﾃﾞｰﾀ!$B:$J,9,0))))","v":""},null,null,null,null,null,null,null,null,null,null,null,null,null,null,null,null,null,null,null,null,2,{"$f":"IF(N157=\"\",\"\",VLOOKUP(N157,ﾃﾞｰﾀ!A:D,4,0))","v":""},"秒","秒"]
["","",{"$f":"IF(E158=\"\",\"\",IF(AH158=1,COUNTIF(AH$16:AH158,1)*10+2001-10,COUNTIF(AH$16:AH158,2)*10+6001-10))","v":""},143,null,{"$f":"IF($E158=\"\",\"\",IF(ISERROR(VLOOKUP($E158,氏名ﾃﾞｰﾀ!$B:$J,2,0)),IF(ISERROR(VLOOKUP($E158,新規登録!$B:$I,2,0)),\"未登録\",VLOOKUP($E158,新規登録!$B:$I,2,0)),(VLOOKUP($E158,氏名ﾃﾞｰﾀ!$B:$J,2,0))))","v":""},{"$f":"IF($E158=\"\",\"\",IF(ISERROR(VLOOKUP($E158,氏名ﾃﾞｰﾀ!$B:$J,3,0)),IF(ISERROR(VLOOKUP($E158,新規登録!$B:$I,3,0)),\"未登録\",VLOOKUP($E158,新規登録!$B:$I,3,0)),(VLOOKUP($E158,氏名ﾃﾞｰﾀ!$B:$J,3,0))))","v":""},{"$f":"IF($E158=\"\",\"\",IF(ISERROR(VLOOKUP($E158,氏名ﾃﾞｰﾀ!$B:$J,4,0)),IF(ISERROR(VLOOKUP($E158,新規登録!$B:$I,4,0)),\"未登録\",VLOOKUP($E158,新規登録!$B:$I,4,0)),(VLOOKUP($E158,氏名ﾃﾞｰﾀ!$B:$J,4,0))))","v":""},{"$f":"IF($E158=\"\",\"\",IF(ISERROR(VLOOKUP($E158,氏名ﾃﾞｰﾀ!$B:$J,5,0)),IF(ISERROR(VLOOKUP($E158,新規登録!$B:$I,5,0)),\"未登録\",VLOOKUP($E158,新規登録!$B:$I,5,0)),(VLOOKUP($E158,氏名ﾃﾞｰﾀ!$B:$J,5,0))))","v":""},{"$f":"IF($E158=\"\",\"\",IF(ISERROR(VLOOKUP($E158,氏名ﾃﾞｰﾀ!$B:$J,8,0)),IF(ISERROR(VLOOKUP($E158,新規登録!$B:$I,6,0)),\"未登録\",VLOOKUP($E158,新規登録!$B:$I,6,0)),(VLOOKUP($E158,氏名ﾃﾞｰﾀ!$B:$J,8,0))))","v":""},{"$f":"IF($E158=\"\",\"\",IF(ISERROR(VLOOKUP($E158,氏名ﾃﾞｰﾀ!$B:$J,7,0)),IF(ISERROR(VLOOKUP($E158,新規登録!$B:$I,7,0)),\"未登録\",VLOOKUP($E158,新規登録!$B:$I,7,0)),$G$3))","v":""},{"$f":"IF($E158=\"\",\"\",IF(ISERROR(VLOOKUP($E158,氏名ﾃﾞｰﾀ!$B:$J,6,0)),IF(ISERROR(VLOOKUP($E158,新規登録!$B:$I,8,0)),\"ﾅｼ\",VLOOKUP($E158,新規登録!$B:$I,8,0)),(VLOOKUP($E158,氏名ﾃﾞｰﾀ!$B:$J,6,0))))","v":""},{"$f":"IF($E158=\"\",\"\",IF(ISERROR(VLOOKUP($E158,氏名ﾃﾞｰﾀ!$B:$J,9,0)),IF(ISERROR(VLOOKUP($E158,新規登録!$B:$I,9,0)),\"未登録\",VLOOKUP($E158,新規登録!$B:$I,9,0)),(VLOOKUP($E158,氏名ﾃﾞｰﾀ!$B:$J,9,0))))","v":""},null,null,null,null,null,null,null,null,null,null,null,null,null,null,null,null,null,null,null,null,2,{"$f":"IF(N158=\"\",\"\",VLOOKUP(N158,ﾃﾞｰﾀ!A:D,4,0))","v":""},"秒","秒"]
["","",{"$f":"IF(E159=\"\",\"\",IF(AH159=1,COUNTIF(AH$16:AH159,1)*10+2001-10,COUNTIF(AH$16:AH159,2)*10+6001-10))","v":""},144,null,{"$f":"IF($E159=\"\",\"\",IF(ISERROR(VLOOKUP($E159,氏名ﾃﾞｰﾀ!$B:$J,2,0)),IF(ISERROR(VLOOKUP($E159,新規登録!$B:$I,2,0)),\"未登録\",VLOOKUP($E159,新規登録!$B:$I,2,0)),(VLOOKUP($E159,氏名ﾃﾞｰﾀ!$B:$J,2,0))))","v":""},{"$f":"IF($E159=\"\",\"\",IF(ISERROR(VLOOKUP($E159,氏名ﾃﾞｰﾀ!$B:$J,3,0)),IF(ISERROR(VLOOKUP($E159,新規登録!$B:$I,3,0)),\"未登録\",VLOOKUP($E159,新規登録!$B:$I,3,0)),(VLOOKUP($E159,氏名ﾃﾞｰﾀ!$B:$J,3,0))))","v":""},{"$f":"IF($E159=\"\",\"\",IF(ISERROR(VLOOKUP($E159,氏名ﾃﾞｰﾀ!$B:$J,4,0)),IF(ISERROR(VLOOKUP($E159,新規登録!$B:$I,4,0)),\"未登録\",VLOOKUP($E159,新規登録!$B:$I,4,0)),(VLOOKUP($E159,氏名ﾃﾞｰﾀ!$B:$J,4,0))))","v":""},{"$f":"IF($E159=\"\",\"\",IF(ISERROR(VLOOKUP($E159,氏名ﾃﾞｰﾀ!$B:$J,5,0)),IF(ISERROR(VLOOKUP($E159,新規登録!$B:$I,5,0)),\"未登録\",VLOOKUP($E159,新規登録!$B:$I,5,0)),(VLOOKUP($E159,氏名ﾃﾞｰﾀ!$B:$J,5,0))))","v":""},{"$f":"IF($E159=\"\",\"\",IF(ISERROR(VLOOKUP($E159,氏名ﾃﾞｰﾀ!$B:$J,8,0)),IF(ISERROR(VLOOKUP($E159,新規登録!$B:$I,6,0)),\"未登録\",VLOOKUP($E159,新規登録!$B:$I,6,0)),(VLOOKUP($E159,氏名ﾃﾞｰﾀ!$B:$J,8,0))))","v":""},{"$f":"IF($E159=\"\",\"\",IF(ISERROR(VLOOKUP($E159,氏名ﾃﾞｰﾀ!$B:$J,7,0)),IF(ISERROR(VLOOKUP($E159,新規登録!$B:$I,7,0)),\"未登録\",VLOOKUP($E159,新規登録!$B:$I,7,0)),$G$3))","v":""},{"$f":"IF($E159=\"\",\"\",IF(ISERROR(VLOOKUP($E159,氏名ﾃﾞｰﾀ!$B:$J,6,0)),IF(ISERROR(VLOOKUP($E159,新規登録!$B:$I,8,0)),\"ﾅｼ\",VLOOKUP($E159,新規登録!$B:$I,8,0)),(VLOOKUP($E159,氏名ﾃﾞｰﾀ!$B:$J,6,0))))","v":""},{"$f":"IF($E159=\"\",\"\",IF(ISERROR(VLOOKUP($E159,氏名ﾃﾞｰﾀ!$B:$J,9,0)),IF(ISERROR(VLOOKUP($E159,新規登録!$B:$I,9,0)),\"未登録\",VLOOKUP($E159,新規登録!$B:$I,9,0)),(VLOOKUP($E159,氏名ﾃﾞｰﾀ!$B:$J,9,0))))","v":""},null,null,null,null,null,null,null,null,null,null,null,null,null,null,null,null,null,null,null,null,2,{"$f":"IF(N159=\"\",\"\",VLOOKUP(N159,ﾃﾞｰﾀ!A:D,4,0))","v":""},"秒","秒"]
["","",{"$f":"IF(E160=\"\",\"\",IF(AH160=1,COUNTIF(AH$16:AH160,1)*10+2001-10,COUNTIF(AH$16:AH160,2)*10+6001-10))","v":""},145,null,{"$f":"IF($E160=\"\",\"\",IF(ISERROR(VLOOKUP($E160,氏名ﾃﾞｰﾀ!$B:$J,2,0)),IF(ISERROR(VLOOKUP($E160,新規登録!$B:$I,2,0)),\"未登録\",VLOOKUP($E160,新規登録!$B:$I,2,0)),(VLOOKUP($E160,氏名ﾃﾞｰﾀ!$B:$J,2,0))))","v":""},{"$f":"IF($E160=\"\",\"\",IF(ISERROR(VLOOKUP($E160,氏名ﾃﾞｰﾀ!$B:$J,3,0)),IF(ISERROR(VLOOKUP($E160,新規登録!$B:$I,3,0)),\"未登録\",VLOOKUP($E160,新規登録!$B:$I,3,0)),(VLOOKUP($E160,氏名ﾃﾞｰﾀ!$B:$J,3,0))))","v":""},{"$f":"IF($E160=\"\",\"\",IF(ISERROR(VLOOKUP($E160,氏名ﾃﾞｰﾀ!$B:$J,4,0)),IF(ISERROR(VLOOKUP($E160,新規登録!$B:$I,4,0)),\"未登録\",VLOOKUP($E160,新規登録!$B:$I,4,0)),(VLOOKUP($E160,氏名ﾃﾞｰﾀ!$B:$J,4,0))))","v":""},{"$f":"IF($E160=\"\",\"\",IF(ISERROR(VLOOKUP($E160,氏名ﾃﾞｰﾀ!$B:$J,5,0)),IF(ISERROR(VLOOKUP($E160,新規登録!$B:$I,5,0)),\"未登録\",VLOOKUP($E160,新規登録!$B:$I,5,0)),(VLOOKUP($E160,氏名ﾃﾞｰﾀ!$B:$J,5,0))))","v":""},{"$f":"IF($E160=\"\",\"\",IF(ISERROR(VLOOKUP($E160,氏名ﾃﾞｰﾀ!$B:$J,8,0)),IF(ISERROR(VLOOKUP($E160,新規登録!$B:$I,6,0)),\"未登録\",VLOOKUP($E160,新規登録!$B:$I,6,0)),(VLOOKUP($E160,氏名ﾃﾞｰﾀ!$B:$J,8,0))))","v":""},{"$f":"IF($E160=\"\",\"\",IF(ISERROR(VLOOKUP($E160,氏名ﾃﾞｰﾀ!$B:$J,7,0)),IF(ISERROR(VLOOKUP($E160,新規登録!$B:$I,7,0)),\"未登録\",VLOOKUP($E160,新規登録!$B:$I,7,0)),$G$3))","v":""},{"$f":"IF($E160=\"\",\"\",IF(ISERROR(VLOOKUP($E160,氏名ﾃﾞｰﾀ!$B:$J,6,0)),IF(ISERROR(VLOOKUP($E160,新規登録!$B:$I,8,0)),\"ﾅｼ\",VLOOKUP($E160,新規登録!$B:$I,8,0)),(VLOOKUP($E160,氏名ﾃﾞｰﾀ!$B:$J,6,0))))","v":""},{"$f":"IF($E160=\"\",\"\",IF(ISERROR(VLOOKUP($E160,氏名ﾃﾞｰﾀ!$B:$J,9,0)),IF(ISERROR(VLOOKUP($E160,新規登録!$B:$I,9,0)),\"未登録\",VLOOKUP($E160,新規登録!$B:$I,9,0)),(VLOOKUP($E160,氏名ﾃﾞｰﾀ!$B:$J,9,0))))","v":""},null,null,null,null,null,null,null,null,null,null,null,null,null,null,null,null,null,null,null,null,2,{"$f":"IF(N160=\"\",\"\",VLOOKUP(N160,ﾃﾞｰﾀ!A:D,4,0))","v":""},"秒","秒"]
["","",{"$f":"IF(E161=\"\",\"\",IF(AH161=1,COUNTIF(AH$16:AH161,1)*10+2001-10,COUNTIF(AH$16:AH161,2)*10+6001-10))","v":""},146,null,{"$f":"IF($E161=\"\",\"\",IF(ISERROR(VLOOKUP($E161,氏名ﾃﾞｰﾀ!$B:$J,2,0)),IF(ISERROR(VLOOKUP($E161,新規登録!$B:$I,2,0)),\"未登録\",VLOOKUP($E161,新規登録!$B:$I,2,0)),(VLOOKUP($E161,氏名ﾃﾞｰﾀ!$B:$J,2,0))))","v":""},{"$f":"IF($E161=\"\",\"\",IF(ISERROR(VLOOKUP($E161,氏名ﾃﾞｰﾀ!$B:$J,3,0)),IF(ISERROR(VLOOKUP($E161,新規登録!$B:$I,3,0)),\"未登録\",VLOOKUP($E161,新規登録!$B:$I,3,0)),(VLOOKUP($E161,氏名ﾃﾞｰﾀ!$B:$J,3,0))))","v":""},{"$f":"IF($E161=\"\",\"\",IF(ISERROR(VLOOKUP($E161,氏名ﾃﾞｰﾀ!$B:$J,4,0)),IF(ISERROR(VLOOKUP($E161,新規登録!$B:$I,4,0)),\"未登録\",VLOOKUP($E161,新規登録!$B:$I,4,0)),(VLOOKUP($E161,氏名ﾃﾞｰﾀ!$B:$J,4,0))))","v":""},{"$f":"IF($E161=\"\",\"\",IF(ISERROR(VLOOKUP($E161,氏名ﾃﾞｰﾀ!$B:$J,5,0)),IF(ISERROR(VLOOKUP($E161,新規登録!$B:$I,5,0)),\"未登録\",VLOOKUP($E161,新規登録!$B:$I,5,0)),(VLOOKUP($E161,氏名ﾃﾞｰﾀ!$B:$J,5,0))))","v":""},{"$f":"IF($E161=\"\",\"\",IF(ISERROR(VLOOKUP($E161,氏名ﾃﾞｰﾀ!$B:$J,8,0)),IF(ISERROR(VLOOKUP($E161,新規登録!$B:$I,6,0)),\"未登録\",VLOOKUP($E161,新規登録!$B:$I,6,0)),(VLOOKUP($E161,氏名ﾃﾞｰﾀ!$B:$J,8,0))))","v":""},{"$f":"IF($E161=\"\",\"\",IF(ISERROR(VLOOKUP($E161,氏名ﾃﾞｰﾀ!$B:$J,7,0)),IF(ISERROR(VLOOKUP($E161,新規登録!$B:$I,7,0)),\"未登録\",VLOOKUP($E161,新規登録!$B:$I,7,0)),$G$3))","v":""},{"$f":"IF($E161=\"\",\"\",IF(ISERROR(VLOOKUP($E161,氏名ﾃﾞｰﾀ!$B:$J,6,0)),IF(ISERROR(VLOOKUP($E161,新規登録!$B:$I,8,0)),\"ﾅｼ\",VLOOKUP($E161,新規登録!$B:$I,8,0)),(VLOOKUP($E161,氏名ﾃﾞｰﾀ!$B:$J,6,0))))","v":""},{"$f":"IF($E161=\"\",\"\",IF(ISERROR(VLOOKUP($E161,氏名ﾃﾞｰﾀ!$B:$J,9,0)),IF(ISERROR(VLOOKUP($E161,新規登録!$B:$I,9,0)),\"未登録\",VLOOKUP($E161,新規登録!$B:$I,9,0)),(VLOOKUP($E161,氏名ﾃﾞｰﾀ!$B:$J,9,0))))","v":""},null,null,null,null,null,null,null,null,null,null,null,null,null,null,null,null,null,null,null,null,2,{"$f":"IF(N161=\"\",\"\",VLOOKUP(N161,ﾃﾞｰﾀ!A:D,4,0))","v":""},"秒","秒"]
["","",{"$f":"IF(E162=\"\",\"\",IF(AH162=1,COUNTIF(AH$16:AH162,1)*10+2001-10,COUNTIF(AH$16:AH162,2)*10+6001-10))","v":""},147,null,{"$f":"IF($E162=\"\",\"\",IF(ISERROR(VLOOKUP($E162,氏名ﾃﾞｰﾀ!$B:$J,2,0)),IF(ISERROR(VLOOKUP($E162,新規登録!$B:$I,2,0)),\"未登録\",VLOOKUP($E162,新規登録!$B:$I,2,0)),(VLOOKUP($E162,氏名ﾃﾞｰﾀ!$B:$J,2,0))))","v":""},{"$f":"IF($E162=\"\",\"\",IF(ISERROR(VLOOKUP($E162,氏名ﾃﾞｰﾀ!$B:$J,3,0)),IF(ISERROR(VLOOKUP($E162,新規登録!$B:$I,3,0)),\"未登録\",VLOOKUP($E162,新規登録!$B:$I,3,0)),(VLOOKUP($E162,氏名ﾃﾞｰﾀ!$B:$J,3,0))))","v":""},{"$f":"IF($E162=\"\",\"\",IF(ISERROR(VLOOKUP($E162,氏名ﾃﾞｰﾀ!$B:$J,4,0)),IF(ISERROR(VLOOKUP($E162,新規登録!$B:$I,4,0)),\"未登録\",VLOOKUP($E162,新規登録!$B:$I,4,0)),(VLOOKUP($E162,氏名ﾃﾞｰﾀ!$B:$J,4,0))))","v":""},{"$f":"IF($E162=\"\",\"\",IF(ISERROR(VLOOKUP($E162,氏名ﾃﾞｰﾀ!$B:$J,5,0)),IF(ISERROR(VLOOKUP($E162,新規登録!$B:$I,5,0)),\"未登録\",VLOOKUP($E162,新規登録!$B:$I,5,0)),(VLOOKUP($E162,氏名ﾃﾞｰﾀ!$B:$J,5,0))))","v":""},{"$f":"IF($E162=\"\",\"\",IF(ISERROR(VLOOKUP($E162,氏名ﾃﾞｰﾀ!$B:$J,8,0)),IF(ISERROR(VLOOKUP($E162,新規登録!$B:$I,6,0)),\"未登録\",VLOOKUP($E162,新規登録!$B:$I,6,0)),(VLOOKUP($E162,氏名ﾃﾞｰﾀ!$B:$J,8,0))))","v":""},{"$f":"IF($E162=\"\",\"\",IF(ISERROR(VLOOKUP($E162,氏名ﾃﾞｰﾀ!$B:$J,7,0)),IF(ISERROR(VLOOKUP($E162,新規登録!$B:$I,7,0)),\"未登録\",VLOOKUP($E162,新規登録!$B:$I,7,0)),$G$3))","v":""},{"$f":"IF($E162=\"\",\"\",IF(ISERROR(VLOOKUP($E162,氏名ﾃﾞｰﾀ!$B:$J,6,0)),IF(ISERROR(VLOOKUP($E162,新規登録!$B:$I,8,0)),\"ﾅｼ\",VLOOKUP($E162,新規登録!$B:$I,8,0)),(VLOOKUP($E162,氏名ﾃﾞｰﾀ!$B:$J,6,0))))","v":""},{"$f":"IF($E162=\"\",\"\",IF(ISERROR(VLOOKUP($E162,氏名ﾃﾞｰﾀ!$B:$J,9,0)),IF(ISERROR(VLOOKUP($E162,新規登録!$B:$I,9,0)),\"未登録\",VLOOKUP($E162,新規登録!$B:$I,9,0)),(VLOOKUP($E162,氏名ﾃﾞｰﾀ!$B:$J,9,0))))","v":""},null,null,null,null,null,null,null,null,null,null,null,null,null,null,null,null,null,null,null,null,2,{"$f":"IF(N162=\"\",\"\",VLOOKUP(N162,ﾃﾞｰﾀ!A:D,4,0))","v":""},"秒","秒"]
["","",{"$f":"IF(E163=\"\",\"\",IF(AH163=1,COUNTIF(AH$16:AH163,1)*10+2001-10,COUNTIF(AH$16:AH163,2)*10+6001-10))","v":""},148,null,{"$f":"IF($E163=\"\",\"\",IF(ISERROR(VLOOKUP($E163,氏名ﾃﾞｰﾀ!$B:$J,2,0)),IF(ISERROR(VLOOKUP($E163,新規登録!$B:$I,2,0)),\"未登録\",VLOOKUP($E163,新規登録!$B:$I,2,0)),(VLOOKUP($E163,氏名ﾃﾞｰﾀ!$B:$J,2,0))))","v":""},{"$f":"IF($E163=\"\",\"\",IF(ISERROR(VLOOKUP($E163,氏名ﾃﾞｰﾀ!$B:$J,3,0)),IF(ISERROR(VLOOKUP($E163,新規登録!$B:$I,3,0)),\"未登録\",VLOOKUP($E163,新規登録!$B:$I,3,0)),(VLOOKUP($E163,氏名ﾃﾞｰﾀ!$B:$J,3,0))))","v":""},{"$f":"IF($E163=\"\",\"\",IF(ISERROR(VLOOKUP($E163,氏名ﾃﾞｰﾀ!$B:$J,4,0)),IF(ISERROR(VLOOKUP($E163,新規登録!$B:$I,4,0)),\"未登録\",VLOOKUP($E163,新規登録!$B:$I,4,0)),(VLOOKUP($E163,氏名ﾃﾞｰﾀ!$B:$J,4,0))))","v":""},{"$f":"IF($E163=\"\",\"\",IF(ISERROR(VLOOKUP($E163,氏名ﾃﾞｰﾀ!$B:$J,5,0)),IF(ISERROR(VLOOKUP($E163,新規登録!$B:$I,5,0)),\"未登録\",VLOOKUP($E163,新規登録!$B:$I,5,0)),(VLOOKUP($E163,氏名ﾃﾞｰﾀ!$B:$J,5,0))))","v":""},{"$f":"IF($E163=\"\",\"\",IF(ISERROR(VLOOKUP($E163,氏名ﾃﾞｰﾀ!$B:$J,8,0)),IF(ISERROR(VLOOKUP($E163,新規登録!$B:$I,6,0)),\"未登録\",VLOOKUP($E163,新規登録!$B:$I,6,0)),(VLOOKUP($E163,氏名ﾃﾞｰﾀ!$B:$J,8,0))))","v":""},{"$f":"IF($E163=\"\",\"\",IF(ISERROR(VLOOKUP($E163,氏名ﾃﾞｰﾀ!$B:$J,7,0)),IF(ISERROR(VLOOKUP($E163,新規登録!$B:$I,7,0)),\"未登録\",VLOOKUP($E163,新規登録!$B:$I,7,0)),$G$3))","v":""},{"$f":"IF($E163=\"\",\"\",IF(ISERROR(VLOOKUP($E163,氏名ﾃﾞｰﾀ!$B:$J,6,0)),IF(ISERROR(VLOOKUP($E163,新規登録!$B:$I,8,0)),\"ﾅｼ\",VLOOKUP($E163,新規登録!$B:$I,8,0)),(VLOOKUP($E163,氏名ﾃﾞｰﾀ!$B:$J,6,0))))","v":""},{"$f":"IF($E163=\"\",\"\",IF(ISERROR(VLOOKUP($E163,氏名ﾃﾞｰﾀ!$B:$J,9,0)),IF(ISERROR(VLOOKUP($E163,新規登録!$B:$I,9,0)),\"未登録\",VLOOKUP($E163,新規登録!$B:$I,9,0)),(VLOOKUP($E163,氏名ﾃﾞｰﾀ!$B:$J,9,0))))","v":""},null,null,null,null,null,null,null,null,null,null,null,null,null,null,null,null,null,null,null,null,2,{"$f":"IF(N163=\"\",\"\",VLOOKUP(N163,ﾃﾞｰﾀ!A:D,4,0))","v":""},"秒","秒"]
["","",{"$f":"IF(E164=\"\",\"\",IF(AH164=1,COUNTIF(AH$16:AH164,1)*10+2001-10,COUNTIF(AH$16:AH164,2)*10+6001-10))","v":""},149,null,{"$f":"IF($E164=\"\",\"\",IF(ISERROR(VLOOKUP($E164,氏名ﾃﾞｰﾀ!$B:$J,2,0)),IF(ISERROR(VLOOKUP($E164,新規登録!$B:$I,2,0)),\"未登録\",VLOOKUP($E164,新規登録!$B:$I,2,0)),(VLOOKUP($E164,氏名ﾃﾞｰﾀ!$B:$J,2,0))))","v":""},{"$f":"IF($E164=\"\",\"\",IF(ISERROR(VLOOKUP($E164,氏名ﾃﾞｰﾀ!$B:$J,3,0)),IF(ISERROR(VLOOKUP($E164,新規登録!$B:$I,3,0)),\"未登録\",VLOOKUP($E164,新規登録!$B:$I,3,0)),(VLOOKUP($E164,氏名ﾃﾞｰﾀ!$B:$J,3,0))))","v":""},{"$f":"IF($E164=\"\",\"\",IF(ISERROR(VLOOKUP($E164,氏名ﾃﾞｰﾀ!$B:$J,4,0)),IF(ISERROR(VLOOKUP($E164,新規登録!$B:$I,4,0)),\"未登録\",VLOOKUP($E164,新規登録!$B:$I,4,0)),(VLOOKUP($E164,氏名ﾃﾞｰﾀ!$B:$J,4,0))))","v":""},{"$f":"IF($E164=\"\",\"\",IF(ISERROR(VLOOKUP($E164,氏名ﾃﾞｰﾀ!$B:$J,5,0)),IF(ISERROR(VLOOKUP($E164,新規登録!$B:$I,5,0)),\"未登録\",VLOOKUP($E164,新規登録!$B:$I,5,0)),(VLOOKUP($E164,氏名ﾃﾞｰﾀ!$B:$J,5,0))))","v":""},{"$f":"IF($E164=\"\",\"\",IF(ISERROR(VLOOKUP($E164,氏名ﾃﾞｰﾀ!$B:$J,8,0)),IF(ISERROR(VLOOKUP($E164,新規登録!$B:$I,6,0)),\"未登録\",VLOOKUP($E164,新規登録!$B:$I,6,0)),(VLOOKUP($E164,氏名ﾃﾞｰﾀ!$B:$J,8,0))))","v":""},{"$f":"IF($E164=\"\",\"\",IF(ISERROR(VLOOKUP($E164,氏名ﾃﾞｰﾀ!$B:$J,7,0)),IF(ISERROR(VLOOKUP($E164,新規登録!$B:$I,7,0)),\"未登録\",VLOOKUP($E164,新規登録!$B:$I,7,0)),$G$3))","v":""},{"$f":"IF($E164=\"\",\"\",IF(ISERROR(VLOOKUP($E164,氏名ﾃﾞｰﾀ!$B:$J,6,0)),IF(ISERROR(VLOOKUP($E164,新規登録!$B:$I,8,0)),\"ﾅｼ\",VLOOKUP($E164,新規登録!$B:$I,8,0)),(VLOOKUP($E164,氏名ﾃﾞｰﾀ!$B:$J,6,0))))","v":""},{"$f":"IF($E164=\"\",\"\",IF(ISERROR(VLOOKUP($E164,氏名ﾃﾞｰﾀ!$B:$J,9,0)),IF(ISERROR(VLOOKUP($E164,新規登録!$B:$I,9,0)),\"未登録\",VLOOKUP($E164,新規登録!$B:$I,9,0)),(VLOOKUP($E164,氏名ﾃﾞｰﾀ!$B:$J,9,0))))","v":""},null,null,null,null,null,null,null,null,null,null,null,null,null,null,null,null,null,null,null,null,2,{"$f":"IF(N164=\"\",\"\",VLOOKUP(N164,ﾃﾞｰﾀ!A:D,4,0))","v":""},"秒","秒"]
["","",{"$f":"IF(E165=\"\",\"\",IF(AH165=1,COUNTIF(AH$16:AH165,1)*10+2001-10,COUNTIF(AH$16:AH165,2)*10+6001-10))","v":""},150,null,{"$f":"IF($E165=\"\",\"\",IF(ISERROR(VLOOKUP($E165,氏名ﾃﾞｰﾀ!$B:$J,2,0)),IF(ISERROR(VLOOKUP($E165,新規登録!$B:$I,2,0)),\"未登録\",VLOOKUP($E165,新規登録!$B:$I,2,0)),(VLOOKUP($E165,氏名ﾃﾞｰﾀ!$B:$J,2,0))))","v":""},{"$f":"IF($E165=\"\",\"\",IF(ISERROR(VLOOKUP($E165,氏名ﾃﾞｰﾀ!$B:$J,3,0)),IF(ISERROR(VLOOKUP($E165,新規登録!$B:$I,3,0)),\"未登録\",VLOOKUP($E165,新規登録!$B:$I,3,0)),(VLOOKUP($E165,氏名ﾃﾞｰﾀ!$B:$J,3,0))))","v":""},{"$f":"IF($E165=\"\",\"\",IF(ISERROR(VLOOKUP($E165,氏名ﾃﾞｰﾀ!$B:$J,4,0)),IF(ISERROR(VLOOKUP($E165,新規登録!$B:$I,4,0)),\"未登録\",VLOOKUP($E165,新規登録!$B:$I,4,0)),(VLOOKUP($E165,氏名ﾃﾞｰﾀ!$B:$J,4,0))))","v":""},{"$f":"IF($E165=\"\",\"\",IF(ISERROR(VLOOKUP($E165,氏名ﾃﾞｰﾀ!$B:$J,5,0)),IF(ISERROR(VLOOKUP($E165,新規登録!$B:$I,5,0)),\"未登録\",VLOOKUP($E165,新規登録!$B:$I,5,0)),(VLOOKUP($E165,氏名ﾃﾞｰﾀ!$B:$J,5,0))))","v":""},{"$f":"IF($E165=\"\",\"\",IF(ISERROR(VLOOKUP($E165,氏名ﾃﾞｰﾀ!$B:$J,8,0)),IF(ISERROR(VLOOKUP($E165,新規登録!$B:$I,6,0)),\"未登録\",VLOOKUP($E165,新規登録!$B:$I,6,0)),(VLOOKUP($E165,氏名ﾃﾞｰﾀ!$B:$J,8,0))))","v":""},{"$f":"IF($E165=\"\",\"\",IF(ISERROR(VLOOKUP($E165,氏名ﾃﾞｰﾀ!$B:$J,7,0)),IF(ISERROR(VLOOKUP($E165,新規登録!$B:$I,7,0)),\"未登録\",VLOOKUP($E165,新規登録!$B:$I,7,0)),$G$3))","v":""},{"$f":"IF($E165=\"\",\"\",IF(ISERROR(VLOOKUP($E165,氏名ﾃﾞｰﾀ!$B:$J,6,0)),IF(ISERROR(VLOOKUP($E165,新規登録!$B:$I,8,0)),\"ﾅｼ\",VLOOKUP($E165,新規登録!$B:$I,8,0)),(VLOOKUP($E165,氏名ﾃﾞｰﾀ!$B:$J,6,0))))","v":""},{"$f":"IF($E165=\"\",\"\",IF(ISERROR(VLOOKUP($E165,氏名ﾃﾞｰﾀ!$B:$J,9,0)),IF(ISERROR(VLOOKUP($E165,新規登録!$B:$I,9,0)),\"未登録\",VLOOKUP($E165,新規登録!$B:$I,9,0)),(VLOOKUP($E165,氏名ﾃﾞｰﾀ!$B:$J,9,0))))","v":""},null,null,null,null,null,null,null,null,null,null,null,null,null,null,null,null,null,null,null,null,2,{"$f":"IF(N165=\"\",\"\",VLOOKUP(N165,ﾃﾞｰﾀ!A:D,4,0))","v":""},"秒","秒"]
["","",{"$f":"IF(E166=\"\",\"\",IF(AH166=1,COUNTIF(AH$16:AH166,1)*10+2001-10,COUNTIF(AH$16:AH166,2)*10+6001-10))","v":""},151,null,{"$f":"IF($E166=\"\",\"\",IF(ISERROR(VLOOKUP($E166,氏名ﾃﾞｰﾀ!$B:$J,2,0)),IF(ISERROR(VLOOKUP($E166,新規登録!$B:$I,2,0)),\"未登録\",VLOOKUP($E166,新規登録!$B:$I,2,0)),(VLOOKUP($E166,氏名ﾃﾞｰﾀ!$B:$J,2,0))))","v":""},{"$f":"IF($E166=\"\",\"\",IF(ISERROR(VLOOKUP($E166,氏名ﾃﾞｰﾀ!$B:$J,3,0)),IF(ISERROR(VLOOKUP($E166,新規登録!$B:$I,3,0)),\"未登録\",VLOOKUP($E166,新規登録!$B:$I,3,0)),(VLOOKUP($E166,氏名ﾃﾞｰﾀ!$B:$J,3,0))))","v":""},{"$f":"IF($E166=\"\",\"\",IF(ISERROR(VLOOKUP($E166,氏名ﾃﾞｰﾀ!$B:$J,4,0)),IF(ISERROR(VLOOKUP($E166,新規登録!$B:$I,4,0)),\"未登録\",VLOOKUP($E166,新規登録!$B:$I,4,0)),(VLOOKUP($E166,氏名ﾃﾞｰﾀ!$B:$J,4,0))))","v":""},{"$f":"IF($E166=\"\",\"\",IF(ISERROR(VLOOKUP($E166,氏名ﾃﾞｰﾀ!$B:$J,5,0)),IF(ISERROR(VLOOKUP($E166,新規登録!$B:$I,5,0)),\"未登録\",VLOOKUP($E166,新規登録!$B:$I,5,0)),(VLOOKUP($E166,氏名ﾃﾞｰﾀ!$B:$J,5,0))))","v":""},{"$f":"IF($E166=\"\",\"\",IF(ISERROR(VLOOKUP($E166,氏名ﾃﾞｰﾀ!$B:$J,8,0)),IF(ISERROR(VLOOKUP($E166,新規登録!$B:$I,6,0)),\"未登録\",VLOOKUP($E166,新規登録!$B:$I,6,0)),(VLOOKUP($E166,氏名ﾃﾞｰﾀ!$B:$J,8,0))))","v":""},{"$f":"IF($E166=\"\",\"\",IF(ISERROR(VLOOKUP($E166,氏名ﾃﾞｰﾀ!$B:$J,7,0)),IF(ISERROR(VLOOKUP($E166,新規登録!$B:$I,7,0)),\"未登録\",VLOOKUP($E166,新規登録!$B:$I,7,0)),$G$3))","v":""},{"$f":"IF($E166=\"\",\"\",IF(ISERROR(VLOOKUP($E166,氏名ﾃﾞｰﾀ!$B:$J,6,0)),IF(ISERROR(VLOOKUP($E166,新規登録!$B:$I,8,0)),\"ﾅｼ\",VLOOKUP($E166,新規登録!$B:$I,8,0)),(VLOOKUP($E166,氏名ﾃﾞｰﾀ!$B:$J,6,0))))","v":""},{"$f":"IF($E166=\"\",\"\",IF(ISERROR(VLOOKUP($E166,氏名ﾃﾞｰﾀ!$B:$J,9,0)),IF(ISERROR(VLOOKUP($E166,新規登録!$B:$I,9,0)),\"未登録\",VLOOKUP($E166,新規登録!$B:$I,9,0)),(VLOOKUP($E166,氏名ﾃﾞｰﾀ!$B:$J,9,0))))","v":""},null,null,null,null,null,null,null,null,null,null,null,null,null,null,null,null,null,null,null,null,2,{"$f":"IF(N166=\"\",\"\",VLOOKUP(N166,ﾃﾞｰﾀ!A:D,4,0))","v":""},"秒","秒"]
["","",{"$f":"IF(E167=\"\",\"\",IF(AH167=1,COUNTIF(AH$16:AH167,1)*10+2001-10,COUNTIF(AH$16:AH167,2)*10+6001-10))","v":""},152,null,{"$f":"IF($E167=\"\",\"\",IF(ISERROR(VLOOKUP($E167,氏名ﾃﾞｰﾀ!$B:$J,2,0)),IF(ISERROR(VLOOKUP($E167,新規登録!$B:$I,2,0)),\"未登録\",VLOOKUP($E167,新規登録!$B:$I,2,0)),(VLOOKUP($E167,氏名ﾃﾞｰﾀ!$B:$J,2,0))))","v":""},{"$f":"IF($E167=\"\",\"\",IF(ISERROR(VLOOKUP($E167,氏名ﾃﾞｰﾀ!$B:$J,3,0)),IF(ISERROR(VLOOKUP($E167,新規登録!$B:$I,3,0)),\"未登録\",VLOOKUP($E167,新規登録!$B:$I,3,0)),(VLOOKUP($E167,氏名ﾃﾞｰﾀ!$B:$J,3,0))))","v":""},{"$f":"IF($E167=\"\",\"\",IF(ISERROR(VLOOKUP($E167,氏名ﾃﾞｰﾀ!$B:$J,4,0)),IF(ISERROR(VLOOKUP($E167,新規登録!$B:$I,4,0)),\"未登録\",VLOOKUP($E167,新規登録!$B:$I,4,0)),(VLOOKUP($E167,氏名ﾃﾞｰﾀ!$B:$J,4,0))))","v":""},{"$f":"IF($E167=\"\",\"\",IF(ISERROR(VLOOKUP($E167,氏名ﾃﾞｰﾀ!$B:$J,5,0)),IF(ISERROR(VLOOKUP($E167,新規登録!$B:$I,5,0)),\"未登録\",VLOOKUP($E167,新規登録!$B:$I,5,0)),(VLOOKUP($E167,氏名ﾃﾞｰﾀ!$B:$J,5,0))))","v":""},{"$f":"IF($E167=\"\",\"\",IF(ISERROR(VLOOKUP($E167,氏名ﾃﾞｰﾀ!$B:$J,8,0)),IF(ISERROR(VLOOKUP($E167,新規登録!$B:$I,6,0)),\"未登録\",VLOOKUP($E167,新規登録!$B:$I,6,0)),(VLOOKUP($E167,氏名ﾃﾞｰﾀ!$B:$J,8,0))))","v":""},{"$f":"IF($E167=\"\",\"\",IF(ISERROR(VLOOKUP($E167,氏名ﾃﾞｰﾀ!$B:$J,7,0)),IF(ISERROR(VLOOKUP($E167,新規登録!$B:$I,7,0)),\"未登録\",VLOOKUP($E167,新規登録!$B:$I,7,0)),$G$3))","v":""},{"$f":"IF($E167=\"\",\"\",IF(ISERROR(VLOOKUP($E167,氏名ﾃﾞｰﾀ!$B:$J,6,0)),IF(ISERROR(VLOOKUP($E167,新規登録!$B:$I,8,0)),\"ﾅｼ\",VLOOKUP($E167,新規登録!$B:$I,8,0)),(VLOOKUP($E167,氏名ﾃﾞｰﾀ!$B:$J,6,0))))","v":""},{"$f":"IF($E167=\"\",\"\",IF(ISERROR(VLOOKUP($E167,氏名ﾃﾞｰﾀ!$B:$J,9,0)),IF(ISERROR(VLOOKUP($E167,新規登録!$B:$I,9,0)),\"未登録\",VLOOKUP($E167,新規登録!$B:$I,9,0)),(VLOOKUP($E167,氏名ﾃﾞｰﾀ!$B:$J,9,0))))","v":""},null,null,null,null,null,null,null,null,null,null,null,null,null,null,null,null,null,null,null,null,2,{"$f":"IF(N167=\"\",\"\",VLOOKUP(N167,ﾃﾞｰﾀ!A:D,4,0))","v":""},"秒","秒"]
["","",{"$f":"IF(E168=\"\",\"\",IF(AH168=1,COUNTIF(AH$16:AH168,1)*10+2001-10,COUNTIF(AH$16:AH168,2)*10+6001-10))","v":""},153,null,{"$f":"IF($E168=\"\",\"\",IF(ISERROR(VLOOKUP($E168,氏名ﾃﾞｰﾀ!$B:$J,2,0)),IF(ISERROR(VLOOKUP($E168,新規登録!$B:$I,2,0)),\"未登録\",VLOOKUP($E168,新規登録!$B:$I,2,0)),(VLOOKUP($E168,氏名ﾃﾞｰﾀ!$B:$J,2,0))))","v":""},{"$f":"IF($E168=\"\",\"\",IF(ISERROR(VLOOKUP($E168,氏名ﾃﾞｰﾀ!$B:$J,3,0)),IF(ISERROR(VLOOKUP($E168,新規登録!$B:$I,3,0)),\"未登録\",VLOOKUP($E168,新規登録!$B:$I,3,0)),(VLOOKUP($E168,氏名ﾃﾞｰﾀ!$B:$J,3,0))))","v":""},{"$f":"IF($E168=\"\",\"\",IF(ISERROR(VLOOKUP($E168,氏名ﾃﾞｰﾀ!$B:$J,4,0)),IF(ISERROR(VLOOKUP($E168,新規登録!$B:$I,4,0)),\"未登録\",VLOOKUP($E168,新規登録!$B:$I,4,0)),(VLOOKUP($E168,氏名ﾃﾞｰﾀ!$B:$J,4,0))))","v":""},{"$f":"IF($E168=\"\",\"\",IF(ISERROR(VLOOKUP($E168,氏名ﾃﾞｰﾀ!$B:$J,5,0)),IF(ISERROR(VLOOKUP($E168,新規登録!$B:$I,5,0)),\"未登録\",VLOOKUP($E168,新規登録!$B:$I,5,0)),(VLOOKUP($E168,氏名ﾃﾞｰﾀ!$B:$J,5,0))))","v":""},{"$f":"IF($E168=\"\",\"\",IF(ISERROR(VLOOKUP($E168,氏名ﾃﾞｰﾀ!$B:$J,8,0)),IF(ISERROR(VLOOKUP($E168,新規登録!$B:$I,6,0)),\"未登録\",VLOOKUP($E168,新規登録!$B:$I,6,0)),(VLOOKUP($E168,氏名ﾃﾞｰﾀ!$B:$J,8,0))))","v":""},{"$f":"IF($E168=\"\",\"\",IF(ISERROR(VLOOKUP($E168,氏名ﾃﾞｰﾀ!$B:$J,7,0)),IF(ISERROR(VLOOKUP($E168,新規登録!$B:$I,7,0)),\"未登録\",VLOOKUP($E168,新規登録!$B:$I,7,0)),$G$3))","v":""},{"$f":"IF($E168=\"\",\"\",IF(ISERROR(VLOOKUP($E168,氏名ﾃﾞｰﾀ!$B:$J,6,0)),IF(ISERROR(VLOOKUP($E168,新規登録!$B:$I,8,0)),\"ﾅｼ\",VLOOKUP($E168,新規登録!$B:$I,8,0)),(VLOOKUP($E168,氏名ﾃﾞｰﾀ!$B:$J,6,0))))","v":""},{"$f":"IF($E168=\"\",\"\",IF(ISERROR(VLOOKUP($E168,氏名ﾃﾞｰﾀ!$B:$J,9,0)),IF(ISERROR(VLOOKUP($E168,新規登録!$B:$I,9,0)),\"未登録\",VLOOKUP($E168,新規登録!$B:$I,9,0)),(VLOOKUP($E168,氏名ﾃﾞｰﾀ!$B:$J,9,0))))","v":""},null,null,null,null,null,null,null,null,null,null,null,null,null,null,null,null,null,null,null,null,2,{"$f":"IF(N168=\"\",\"\",VLOOKUP(N168,ﾃﾞｰﾀ!A:D,4,0))","v":""},"秒","秒"]
["","",{"$f":"IF(E169=\"\",\"\",IF(AH169=1,COUNTIF(AH$16:AH169,1)*10+2001-10,COUNTIF(AH$16:AH169,2)*10+6001-10))","v":""},154,null,{"$f":"IF($E169=\"\",\"\",IF(ISERROR(VLOOKUP($E169,氏名ﾃﾞｰﾀ!$B:$J,2,0)),IF(ISERROR(VLOOKUP($E169,新規登録!$B:$I,2,0)),\"未登録\",VLOOKUP($E169,新規登録!$B:$I,2,0)),(VLOOKUP($E169,氏名ﾃﾞｰﾀ!$B:$J,2,0))))","v":""},{"$f":"IF($E169=\"\",\"\",IF(ISERROR(VLOOKUP($E169,氏名ﾃﾞｰﾀ!$B:$J,3,0)),IF(ISERROR(VLOOKUP($E169,新規登録!$B:$I,3,0)),\"未登録\",VLOOKUP($E169,新規登録!$B:$I,3,0)),(VLOOKUP($E169,氏名ﾃﾞｰﾀ!$B:$J,3,0))))","v":""},{"$f":"IF($E169=\"\",\"\",IF(ISERROR(VLOOKUP($E169,氏名ﾃﾞｰﾀ!$B:$J,4,0)),IF(ISERROR(VLOOKUP($E169,新規登録!$B:$I,4,0)),\"未登録\",VLOOKUP($E169,新規登録!$B:$I,4,0)),(VLOOKUP($E169,氏名ﾃﾞｰﾀ!$B:$J,4,0))))","v":""},{"$f":"IF($E169=\"\",\"\",IF(ISERROR(VLOOKUP($E169,氏名ﾃﾞｰﾀ!$B:$J,5,0)),IF(ISERROR(VLOOKUP($E169,新規登録!$B:$I,5,0)),\"未登録\",VLOOKUP($E169,新規登録!$B:$I,5,0)),(VLOOKUP($E169,氏名ﾃﾞｰﾀ!$B:$J,5,0))))","v":""},{"$f":"IF($E169=\"\",\"\",IF(ISERROR(VLOOKUP($E169,氏名ﾃﾞｰﾀ!$B:$J,8,0)),IF(ISERROR(VLOOKUP($E169,新規登録!$B:$I,6,0)),\"未登録\",VLOOKUP($E169,新規登録!$B:$I,6,0)),(VLOOKUP($E169,氏名ﾃﾞｰﾀ!$B:$J,8,0))))","v":""},{"$f":"IF($E169=\"\",\"\",IF(ISERROR(VLOOKUP($E169,氏名ﾃﾞｰﾀ!$B:$J,7,0)),IF(ISERROR(VLOOKUP($E169,新規登録!$B:$I,7,0)),\"未登録\",VLOOKUP($E169,新規登録!$B:$I,7,0)),$G$3))","v":""},{"$f":"IF($E169=\"\",\"\",IF(ISERROR(VLOOKUP($E169,氏名ﾃﾞｰﾀ!$B:$J,6,0)),IF(ISERROR(VLOOKUP($E169,新規登録!$B:$I,8,0)),\"ﾅｼ\",VLOOKUP($E169,新規登録!$B:$I,8,0)),(VLOOKUP($E169,氏名ﾃﾞｰﾀ!$B:$J,6,0))))","v":""},{"$f":"IF($E169=\"\",\"\",IF(ISERROR(VLOOKUP($E169,氏名ﾃﾞｰﾀ!$B:$J,9,0)),IF(ISERROR(VLOOKUP($E169,新規登録!$B:$I,9,0)),\"未登録\",VLOOKUP($E169,新規登録!$B:$I,9,0)),(VLOOKUP($E169,氏名ﾃﾞｰﾀ!$B:$J,9,0))))","v":""},null,null,null,null,null,null,null,null,null,null,null,null,null,null,null,null,null,null,null,null,2,{"$f":"IF(N169=\"\",\"\",VLOOKUP(N169,ﾃﾞｰﾀ!A:D,4,0))","v":""},"秒","秒"]
["","",{"$f":"IF(E170=\"\",\"\",IF(AH170=1,COUNTIF(AH$16:AH170,1)*10+2001-10,COUNTIF(AH$16:AH170,2)*10+6001-10))","v":""},155,null,{"$f":"IF($E170=\"\",\"\",IF(ISERROR(VLOOKUP($E170,氏名ﾃﾞｰﾀ!$B:$J,2,0)),IF(ISERROR(VLOOKUP($E170,新規登録!$B:$I,2,0)),\"未登録\",VLOOKUP($E170,新規登録!$B:$I,2,0)),(VLOOKUP($E170,氏名ﾃﾞｰﾀ!$B:$J,2,0))))","v":""},{"$f":"IF($E170=\"\",\"\",IF(ISERROR(VLOOKUP($E170,氏名ﾃﾞｰﾀ!$B:$J,3,0)),IF(ISERROR(VLOOKUP($E170,新規登録!$B:$I,3,0)),\"未登録\",VLOOKUP($E170,新規登録!$B:$I,3,0)),(VLOOKUP($E170,氏名ﾃﾞｰﾀ!$B:$J,3,0))))","v":""},{"$f":"IF($E170=\"\",\"\",IF(ISERROR(VLOOKUP($E170,氏名ﾃﾞｰﾀ!$B:$J,4,0)),IF(ISERROR(VLOOKUP($E170,新規登録!$B:$I,4,0)),\"未登録\",VLOOKUP($E170,新規登録!$B:$I,4,0)),(VLOOKUP($E170,氏名ﾃﾞｰﾀ!$B:$J,4,0))))","v":""},{"$f":"IF($E170=\"\",\"\",IF(ISERROR(VLOOKUP($E170,氏名ﾃﾞｰﾀ!$B:$J,5,0)),IF(ISERROR(VLOOKUP($E170,新規登録!$B:$I,5,0)),\"未登録\",VLOOKUP($E170,新規登録!$B:$I,5,0)),(VLOOKUP($E170,氏名ﾃﾞｰﾀ!$B:$J,5,0))))","v":""},{"$f":"IF($E170=\"\",\"\",IF(ISERROR(VLOOKUP($E170,氏名ﾃﾞｰﾀ!$B:$J,8,0)),IF(ISERROR(VLOOKUP($E170,新規登録!$B:$I,6,0)),\"未登録\",VLOOKUP($E170,新規登録!$B:$I,6,0)),(VLOOKUP($E170,氏名ﾃﾞｰﾀ!$B:$J,8,0))))","v":""},{"$f":"IF($E170=\"\",\"\",IF(ISERROR(VLOOKUP($E170,氏名ﾃﾞｰﾀ!$B:$J,7,0)),IF(ISERROR(VLOOKUP($E170,新規登録!$B:$I,7,0)),\"未登録\",VLOOKUP($E170,新規登録!$B:$I,7,0)),$G$3))","v":""},{"$f":"IF($E170=\"\",\"\",IF(ISERROR(VLOOKUP($E170,氏名ﾃﾞｰﾀ!$B:$J,6,0)),IF(ISERROR(VLOOKUP($E170,新規登録!$B:$I,8,0)),\"ﾅｼ\",VLOOKUP($E170,新規登録!$B:$I,8,0)),(VLOOKUP($E170,氏名ﾃﾞｰﾀ!$B:$J,6,0))))","v":""},{"$f":"IF($E170=\"\",\"\",IF(ISERROR(VLOOKUP($E170,氏名ﾃﾞｰﾀ!$B:$J,9,0)),IF(ISERROR(VLOOKUP($E170,新規登録!$B:$I,9,0)),\"未登録\",VLOOKUP($E170,新規登録!$B:$I,9,0)),(VLOOKUP($E170,氏名ﾃﾞｰﾀ!$B:$J,9,0))))","v":""},null,null,null,null,null,null,null,null,null,null,null,null,null,null,null,null,null,null,null,null,2,{"$f":"IF(N170=\"\",\"\",VLOOKUP(N170,ﾃﾞｰﾀ!A:D,4,0))","v":""},"秒","秒"]
["","",{"$f":"IF(E171=\"\",\"\",IF(AH171=1,COUNTIF(AH$16:AH171,1)*10+2001-10,COUNTIF(AH$16:AH171,2)*10+6001-10))","v":""},156,null,{"$f":"IF($E171=\"\",\"\",IF(ISERROR(VLOOKUP($E171,氏名ﾃﾞｰﾀ!$B:$J,2,0)),IF(ISERROR(VLOOKUP($E171,新規登録!$B:$I,2,0)),\"未登録\",VLOOKUP($E171,新規登録!$B:$I,2,0)),(VLOOKUP($E171,氏名ﾃﾞｰﾀ!$B:$J,2,0))))","v":""},{"$f":"IF($E171=\"\",\"\",IF(ISERROR(VLOOKUP($E171,氏名ﾃﾞｰﾀ!$B:$J,3,0)),IF(ISERROR(VLOOKUP($E171,新規登録!$B:$I,3,0)),\"未登録\",VLOOKUP($E171,新規登録!$B:$I,3,0)),(VLOOKUP($E171,氏名ﾃﾞｰﾀ!$B:$J,3,0))))","v":""},{"$f":"IF($E171=\"\",\"\",IF(ISERROR(VLOOKUP($E171,氏名ﾃﾞｰﾀ!$B:$J,4,0)),IF(ISERROR(VLOOKUP($E171,新規登録!$B:$I,4,0)),\"未登録\",VLOOKUP($E171,新規登録!$B:$I,4,0)),(VLOOKUP($E171,氏名ﾃﾞｰﾀ!$B:$J,4,0))))","v":""},{"$f":"IF($E171=\"\",\"\",IF(ISERROR(VLOOKUP($E171,氏名ﾃﾞｰﾀ!$B:$J,5,0)),IF(ISERROR(VLOOKUP($E171,新規登録!$B:$I,5,0)),\"未登録\",VLOOKUP($E171,新規登録!$B:$I,5,0)),(VLOOKUP($E171,氏名ﾃﾞｰﾀ!$B:$J,5,0))))","v":""},{"$f":"IF($E171=\"\",\"\",IF(ISERROR(VLOOKUP($E171,氏名ﾃﾞｰﾀ!$B:$J,8,0)),IF(ISERROR(VLOOKUP($E171,新規登録!$B:$I,6,0)),\"未登録\",VLOOKUP($E171,新規登録!$B:$I,6,0)),(VLOOKUP($E171,氏名ﾃﾞｰﾀ!$B:$J,8,0))))","v":""},{"$f":"IF($E171=\"\",\"\",IF(ISERROR(VLOOKUP($E171,氏名ﾃﾞｰﾀ!$B:$J,7,0)),IF(ISERROR(VLOOKUP($E171,新規登録!$B:$I,7,0)),\"未登録\",VLOOKUP($E171,新規登録!$B:$I,7,0)),$G$3))","v":""},{"$f":"IF($E171=\"\",\"\",IF(ISERROR(VLOOKUP($E171,氏名ﾃﾞｰﾀ!$B:$J,6,0)),IF(ISERROR(VLOOKUP($E171,新規登録!$B:$I,8,0)),\"ﾅｼ\",VLOOKUP($E171,新規登録!$B:$I,8,0)),(VLOOKUP($E171,氏名ﾃﾞｰﾀ!$B:$J,6,0))))","v":""},{"$f":"IF($E171=\"\",\"\",IF(ISERROR(VLOOKUP($E171,氏名ﾃﾞｰﾀ!$B:$J,9,0)),IF(ISERROR(VLOOKUP($E171,新規登録!$B:$I,9,0)),\"未登録\",VLOOKUP($E171,新規登録!$B:$I,9,0)),(VLOOKUP($E171,氏名ﾃﾞｰﾀ!$B:$J,9,0))))","v":""},null,null,null,null,null,null,null,null,null,null,null,null,null,null,null,null,null,null,null,null,2,{"$f":"IF(N171=\"\",\"\",VLOOKUP(N171,ﾃﾞｰﾀ!A:D,4,0))","v":""},"秒","秒"]
["","",{"$f":"IF(E172=\"\",\"\",IF(AH172=1,COUNTIF(AH$16:AH172,1)*10+2001-10,COUNTIF(AH$16:AH172,2)*10+6001-10))","v":""},157,null,{"$f":"IF($E172=\"\",\"\",IF(ISERROR(VLOOKUP($E172,氏名ﾃﾞｰﾀ!$B:$J,2,0)),IF(ISERROR(VLOOKUP($E172,新規登録!$B:$I,2,0)),\"未登録\",VLOOKUP($E172,新規登録!$B:$I,2,0)),(VLOOKUP($E172,氏名ﾃﾞｰﾀ!$B:$J,2,0))))","v":""},{"$f":"IF($E172=\"\",\"\",IF(ISERROR(VLOOKUP($E172,氏名ﾃﾞｰﾀ!$B:$J,3,0)),IF(ISERROR(VLOOKUP($E172,新規登録!$B:$I,3,0)),\"未登録\",VLOOKUP($E172,新規登録!$B:$I,3,0)),(VLOOKUP($E172,氏名ﾃﾞｰﾀ!$B:$J,3,0))))","v":""},{"$f":"IF($E172=\"\",\"\",IF(ISERROR(VLOOKUP($E172,氏名ﾃﾞｰﾀ!$B:$J,4,0)),IF(ISERROR(VLOOKUP($E172,新規登録!$B:$I,4,0)),\"未登録\",VLOOKUP($E172,新規登録!$B:$I,4,0)),(VLOOKUP($E172,氏名ﾃﾞｰﾀ!$B:$J,4,0))))","v":""},{"$f":"IF($E172=\"\",\"\",IF(ISERROR(VLOOKUP($E172,氏名ﾃﾞｰﾀ!$B:$J,5,0)),IF(ISERROR(VLOOKUP($E172,新規登録!$B:$I,5,0)),\"未登録\",VLOOKUP($E172,新規登録!$B:$I,5,0)),(VLOOKUP($E172,氏名ﾃﾞｰﾀ!$B:$J,5,0))))","v":""},{"$f":"IF($E172=\"\",\"\",IF(ISERROR(VLOOKUP($E172,氏名ﾃﾞｰﾀ!$B:$J,8,0)),IF(ISERROR(VLOOKUP($E172,新規登録!$B:$I,6,0)),\"未登録\",VLOOKUP($E172,新規登録!$B:$I,6,0)),(VLOOKUP($E172,氏名ﾃﾞｰﾀ!$B:$J,8,0))))","v":""},{"$f":"IF($E172=\"\",\"\",IF(ISERROR(VLOOKUP($E172,氏名ﾃﾞｰﾀ!$B:$J,7,0)),IF(ISERROR(VLOOKUP($E172,新規登録!$B:$I,7,0)),\"未登録\",VLOOKUP($E172,新規登録!$B:$I,7,0)),$G$3))","v":""},{"$f":"IF($E172=\"\",\"\",IF(ISERROR(VLOOKUP($E172,氏名ﾃﾞｰﾀ!$B:$J,6,0)),IF(ISERROR(VLOOKUP($E172,新規登録!$B:$I,8,0)),\"ﾅｼ\",VLOOKUP($E172,新規登録!$B:$I,8,0)),(VLOOKUP($E172,氏名ﾃﾞｰﾀ!$B:$J,6,0))))","v":""},{"$f":"IF($E172=\"\",\"\",IF(ISERROR(VLOOKUP($E172,氏名ﾃﾞｰﾀ!$B:$J,9,0)),IF(ISERROR(VLOOKUP($E172,新規登録!$B:$I,9,0)),\"未登録\",VLOOKUP($E172,新規登録!$B:$I,9,0)),(VLOOKUP($E172,氏名ﾃﾞｰﾀ!$B:$J,9,0))))","v":""},null,null,null,null,null,null,null,null,null,null,null,null,null,null,null,null,null,null,null,null,2,{"$f":"IF(N172=\"\",\"\",VLOOKUP(N172,ﾃﾞｰﾀ!A:D,4,0))","v":""},"秒","秒"]
["","",{"$f":"IF(E173=\"\",\"\",IF(AH173=1,COUNTIF(AH$16:AH173,1)*10+2001-10,COUNTIF(AH$16:AH173,2)*10+6001-10))","v":""},158,null,{"$f":"IF($E173=\"\",\"\",IF(ISERROR(VLOOKUP($E173,氏名ﾃﾞｰﾀ!$B:$J,2,0)),IF(ISERROR(VLOOKUP($E173,新規登録!$B:$I,2,0)),\"未登録\",VLOOKUP($E173,新規登録!$B:$I,2,0)),(VLOOKUP($E173,氏名ﾃﾞｰﾀ!$B:$J,2,0))))","v":""},{"$f":"IF($E173=\"\",\"\",IF(ISERROR(VLOOKUP($E173,氏名ﾃﾞｰﾀ!$B:$J,3,0)),IF(ISERROR(VLOOKUP($E173,新規登録!$B:$I,3,0)),\"未登録\",VLOOKUP($E173,新規登録!$B:$I,3,0)),(VLOOKUP($E173,氏名ﾃﾞｰﾀ!$B:$J,3,0))))","v":""},{"$f":"IF($E173=\"\",\"\",IF(ISERROR(VLOOKUP($E173,氏名ﾃﾞｰﾀ!$B:$J,4,0)),IF(ISERROR(VLOOKUP($E173,新規登録!$B:$I,4,0)),\"未登録\",VLOOKUP($E173,新規登録!$B:$I,4,0)),(VLOOKUP($E173,氏名ﾃﾞｰﾀ!$B:$J,4,0))))","v":""},{"$f":"IF($E173=\"\",\"\",IF(ISERROR(VLOOKUP($E173,氏名ﾃﾞｰﾀ!$B:$J,5,0)),IF(ISERROR(VLOOKUP($E173,新規登録!$B:$I,5,0)),\"未登録\",VLOOKUP($E173,新規登録!$B:$I,5,0)),(VLOOKUP($E173,氏名ﾃﾞｰﾀ!$B:$J,5,0))))","v":""},{"$f":"IF($E173=\"\",\"\",IF(ISERROR(VLOOKUP($E173,氏名ﾃﾞｰﾀ!$B:$J,8,0)),IF(ISERROR(VLOOKUP($E173,新規登録!$B:$I,6,0)),\"未登録\",VLOOKUP($E173,新規登録!$B:$I,6,0)),(VLOOKUP($E173,氏名ﾃﾞｰﾀ!$B:$J,8,0))))","v":""},{"$f":"IF($E173=\"\",\"\",IF(ISERROR(VLOOKUP($E173,氏名ﾃﾞｰﾀ!$B:$J,7,0)),IF(ISERROR(VLOOKUP($E173,新規登録!$B:$I,7,0)),\"未登録\",VLOOKUP($E173,新規登録!$B:$I,7,0)),$G$3))","v":""},{"$f":"IF($E173=\"\",\"\",IF(ISERROR(VLOOKUP($E173,氏名ﾃﾞｰﾀ!$B:$J,6,0)),IF(ISERROR(VLOOKUP($E173,新規登録!$B:$I,8,0)),\"ﾅｼ\",VLOOKUP($E173,新規登録!$B:$I,8,0)),(VLOOKUP($E173,氏名ﾃﾞｰﾀ!$B:$J,6,0))))","v":""},{"$f":"IF($E173=\"\",\"\",IF(ISERROR(VLOOKUP($E173,氏名ﾃﾞｰﾀ!$B:$J,9,0)),IF(ISERROR(VLOOKUP($E173,新規登録!$B:$I,9,0)),\"未登録\",VLOOKUP($E173,新規登録!$B:$I,9,0)),(VLOOKUP($E173,氏名ﾃﾞｰﾀ!$B:$J,9,0))))","v":""},null,null,null,null,null,null,null,null,null,null,null,null,null,null,null,null,null,null,null,null,2,{"$f":"IF(N173=\"\",\"\",VLOOKUP(N173,ﾃﾞｰﾀ!A:D,4,0))","v":""},"秒","秒"]
["","",{"$f":"IF(E174=\"\",\"\",IF(AH174=1,COUNTIF(AH$16:AH174,1)*10+2001-10,COUNTIF(AH$16:AH174,2)*10+6001-10))","v":""},159,null,{"$f":"IF($E174=\"\",\"\",IF(ISERROR(VLOOKUP($E174,氏名ﾃﾞｰﾀ!$B:$J,2,0)),IF(ISERROR(VLOOKUP($E174,新規登録!$B:$I,2,0)),\"未登録\",VLOOKUP($E174,新規登録!$B:$I,2,0)),(VLOOKUP($E174,氏名ﾃﾞｰﾀ!$B:$J,2,0))))","v":""},{"$f":"IF($E174=\"\",\"\",IF(ISERROR(VLOOKUP($E174,氏名ﾃﾞｰﾀ!$B:$J,3,0)),IF(ISERROR(VLOOKUP($E174,新規登録!$B:$I,3,0)),\"未登録\",VLOOKUP($E174,新規登録!$B:$I,3,0)),(VLOOKUP($E174,氏名ﾃﾞｰﾀ!$B:$J,3,0))))","v":""},{"$f":"IF($E174=\"\",\"\",IF(ISERROR(VLOOKUP($E174,氏名ﾃﾞｰﾀ!$B:$J,4,0)),IF(ISERROR(VLOOKUP($E174,新規登録!$B:$I,4,0)),\"未登録\",VLOOKUP($E174,新規登録!$B:$I,4,0)),(VLOOKUP($E174,氏名ﾃﾞｰﾀ!$B:$J,4,0))))","v":""},{"$f":"IF($E174=\"\",\"\",IF(ISERROR(VLOOKUP($E174,氏名ﾃﾞｰﾀ!$B:$J,5,0)),IF(ISERROR(VLOOKUP($E174,新規登録!$B:$I,5,0)),\"未登録\",VLOOKUP($E174,新規登録!$B:$I,5,0)),(VLOOKUP($E174,氏名ﾃﾞｰﾀ!$B:$J,5,0))))","v":""},{"$f":"IF($E174=\"\",\"\",IF(ISERROR(VLOOKUP($E174,氏名ﾃﾞｰﾀ!$B:$J,8,0)),IF(ISERROR(VLOOKUP($E174,新規登録!$B:$I,6,0)),\"未登録\",VLOOKUP($E174,新規登録!$B:$I,6,0)),(VLOOKUP($E174,氏名ﾃﾞｰﾀ!$B:$J,8,0))))","v":""},{"$f":"IF($E174=\"\",\"\",IF(ISERROR(VLOOKUP($E174,氏名ﾃﾞｰﾀ!$B:$J,7,0)),IF(ISERROR(VLOOKUP($E174,新規登録!$B:$I,7,0)),\"未登録\",VLOOKUP($E174,新規登録!$B:$I,7,0)),$G$3))","v":""},{"$f":"IF($E174=\"\",\"\",IF(ISERROR(VLOOKUP($E174,氏名ﾃﾞｰﾀ!$B:$J,6,0)),IF(ISERROR(VLOOKUP($E174,新規登録!$B:$I,8,0)),\"ﾅｼ\",VLOOKUP($E174,新規登録!$B:$I,8,0)),(VLOOKUP($E174,氏名ﾃﾞｰﾀ!$B:$J,6,0))))","v":""},{"$f":"IF($E174=\"\",\"\",IF(ISERROR(VLOOKUP($E174,氏名ﾃﾞｰﾀ!$B:$J,9,0)),IF(ISERROR(VLOOKUP($E174,新規登録!$B:$I,9,0)),\"未登録\",VLOOKUP($E174,新規登録!$B:$I,9,0)),(VLOOKUP($E174,氏名ﾃﾞｰﾀ!$B:$J,9,0))))","v":""},null,null,null,null,null,null,null,null,null,null,null,null,null,null,null,null,null,null,null,null,2,{"$f":"IF(N174=\"\",\"\",VLOOKUP(N174,ﾃﾞｰﾀ!A:D,4,0))","v":""},"秒","秒"]
["","",{"$f":"IF(E175=\"\",\"\",IF(AH175=1,COUNTIF(AH$16:AH175,1)*10+2001-10,COUNTIF(AH$16:AH175,2)*10+6001-10))","v":""},160,null,{"$f":"IF($E175=\"\",\"\",IF(ISERROR(VLOOKUP($E175,氏名ﾃﾞｰﾀ!$B:$J,2,0)),IF(ISERROR(VLOOKUP($E175,新規登録!$B:$I,2,0)),\"未登録\",VLOOKUP($E175,新規登録!$B:$I,2,0)),(VLOOKUP($E175,氏名ﾃﾞｰﾀ!$B:$J,2,0))))","v":""},{"$f":"IF($E175=\"\",\"\",IF(ISERROR(VLOOKUP($E175,氏名ﾃﾞｰﾀ!$B:$J,3,0)),IF(ISERROR(VLOOKUP($E175,新規登録!$B:$I,3,0)),\"未登録\",VLOOKUP($E175,新規登録!$B:$I,3,0)),(VLOOKUP($E175,氏名ﾃﾞｰﾀ!$B:$J,3,0))))","v":""},{"$f":"IF($E175=\"\",\"\",IF(ISERROR(VLOOKUP($E175,氏名ﾃﾞｰﾀ!$B:$J,4,0)),IF(ISERROR(VLOOKUP($E175,新規登録!$B:$I,4,0)),\"未登録\",VLOOKUP($E175,新規登録!$B:$I,4,0)),(VLOOKUP($E175,氏名ﾃﾞｰﾀ!$B:$J,4,0))))","v":""},{"$f":"IF($E175=\"\",\"\",IF(ISERROR(VLOOKUP($E175,氏名ﾃﾞｰﾀ!$B:$J,5,0)),IF(ISERROR(VLOOKUP($E175,新規登録!$B:$I,5,0)),\"未登録\",VLOOKUP($E175,新規登録!$B:$I,5,0)),(VLOOKUP($E175,氏名ﾃﾞｰﾀ!$B:$J,5,0))))","v":""},{"$f":"IF($E175=\"\",\"\",IF(ISERROR(VLOOKUP($E175,氏名ﾃﾞｰﾀ!$B:$J,8,0)),IF(ISERROR(VLOOKUP($E175,新規登録!$B:$I,6,0)),\"未登録\",VLOOKUP($E175,新規登録!$B:$I,6,0)),(VLOOKUP($E175,氏名ﾃﾞｰﾀ!$B:$J,8,0))))","v":""},{"$f":"IF($E175=\"\",\"\",IF(ISERROR(VLOOKUP($E175,氏名ﾃﾞｰﾀ!$B:$J,7,0)),IF(ISERROR(VLOOKUP($E175,新規登録!$B:$I,7,0)),\"未登録\",VLOOKUP($E175,新規登録!$B:$I,7,0)),$G$3))","v":""},{"$f":"IF($E175=\"\",\"\",IF(ISERROR(VLOOKUP($E175,氏名ﾃﾞｰﾀ!$B:$J,6,0)),IF(ISERROR(VLOOKUP($E175,新規登録!$B:$I,8,0)),\"ﾅｼ\",VLOOKUP($E175,新規登録!$B:$I,8,0)),(VLOOKUP($E175,氏名ﾃﾞｰﾀ!$B:$J,6,0))))","v":""},{"$f":"IF($E175=\"\",\"\",IF(ISERROR(VLOOKUP($E175,氏名ﾃﾞｰﾀ!$B:$J,9,0)),IF(ISERROR(VLOOKUP($E175,新規登録!$B:$I,9,0)),\"未登録\",VLOOKUP($E175,新規登録!$B:$I,9,0)),(VLOOKUP($E175,氏名ﾃﾞｰﾀ!$B:$J,9,0))))","v":""},null,null,null,null,null,null,null,null,null,null,null,null,null,null,null,null,null,null,null,null,2,{"$f":"IF(N175=\"\",\"\",VLOOKUP(N175,ﾃﾞｰﾀ!A:D,4,0))","v":""},"秒","秒"]
[{"$f":"IF(Z176=\"\",\"\",IF(L176=\"男\",VLOOKUP(Z176,ﾘﾚｰｺｰﾄﾞ,2,0),VLOOKUP(Z176,ﾘﾚｰｺｰﾄﾞ,4,0)))","v":""},{"$f":"IF(AD176=\"\",\"\",IF(L176=\"男\",VLOOKUP(AD176,ﾘﾚｰｺｰﾄﾞ,3,0),VLOOKUP(AD176,ﾘﾚｰｺｰﾄﾞ,5,0)))","v":""},{"$f":"IF(E176=\"\",\"\",IF(AH176=1,COUNTIF(AH$16:AH176,1)*10+2001-10,COUNTIF(AH$16:AH176,2)*10+6001-10))","v":""},161,null,{"$f":"IF($E176=\"\",\"\",IF(ISERROR(VLOOKUP($E176,氏名ﾃﾞｰﾀ!$B:$J,2,0)),IF(ISERROR(VLOOKUP($E176,新規登録!$B:$I,2,0)),\"未登録\",VLOOKUP($E176,新規登録!$B:$I,2,0)),(VLOOKUP($E176,氏名ﾃﾞｰﾀ!$B:$J,2,0))))","v":""},{"$f":"IF($E176=\"\",\"\",IF(ISERROR(VLOOKUP($E176,氏名ﾃﾞｰﾀ!$B:$J,3,0)),IF(ISERROR(VLOOKUP($E176,新規登録!$B:$I,3,0)),\"未登録\",VLOOKUP($E176,新規登録!$B:$I,3,0)),(VLOOKUP($E176,氏名ﾃﾞｰﾀ!$B:$J,3,0))))","v":""},{"$f":"IF($E176=\"\",\"\",IF(ISERROR(VLOOKUP($E176,氏名ﾃﾞｰﾀ!$B:$J,4,0)),IF(ISERROR(VLOOKUP($E176,新規登録!$B:$I,4,0)),\"未登録\",VLOOKUP($E176,新規登録!$B:$I,4,0)),(VLOOKUP($E176,氏名ﾃﾞｰﾀ!$B:$J,4,0))))","v":""},{"$f":"IF($E176=\"\",\"\",IF(ISERROR(VLOOKUP($E176,氏名ﾃﾞｰﾀ!$B:$J,5,0)),IF(ISERROR(VLOOKUP($E176,新規登録!$B:$I,5,0)),\"未登録\",VLOOKUP($E176,新規登録!$B:$I,5,0)),(VLOOKUP($E176,氏名ﾃﾞｰﾀ!$B:$J,5,0))))","v":""},{"$f":"IF($E176=\"\",\"\",IF(ISERROR(VLOOKUP($E176,氏名ﾃﾞｰﾀ!$B:$J,8,0)),IF(ISERROR(VLOOKUP($E176,新規登録!$B:$I,6,0)),\"未登録\",VLOOKUP($E176,新規登録!$B:$I,6,0)),(VLOOKUP($E176,氏名ﾃﾞｰﾀ!$B:$J,8,0))))","v":""},{"$f":"IF($E176=\"\",\"\",IF(ISERROR(VLOOKUP($E176,氏名ﾃﾞｰﾀ!$B:$J,7,0)),IF(ISERROR(VLOOKUP($E176,新規登録!$B:$I,7,0)),\"未登録\",VLOOKUP($E176,新規登録!$B:$I,7,0)),$G$3))","v":""},{"$f":"IF($E176=\"\",\"\",IF(ISERROR(VLOOKUP($E176,氏名ﾃﾞｰﾀ!$B:$J,6,0)),IF(ISERROR(VLOOKUP($E176,新規登録!$B:$I,8,0)),\"ﾅｼ\",VLOOKUP($E176,新規登録!$B:$I,8,0)),(VLOOKUP($E176,氏名ﾃﾞｰﾀ!$B:$J,6,0))))","v":""},{"$f":"IF($E176=\"\",\"\",IF(ISERROR(VLOOKUP($E176,氏名ﾃﾞｰﾀ!$B:$J,9,0)),IF(ISERROR(VLOOKUP($E176,新規登録!$B:$I,9,0)),\"未登録\",VLOOKUP($E176,新規登録!$B:$I,9,0)),(VLOOKUP($E176,氏名ﾃﾞｰﾀ!$B:$J,9,0))))","v":""},null,null,null,null,null,null,null,null,null,null,null,null,null,null,null,null,null,null,null,null,{"$f":"IF(L176=\"男\",1,2)","v":2},{"$f":"IF(N176=\"\",\"\",VLOOKUP(N176,ﾃﾞｰﾀ!A:D,4,0))","v":""},{"$f":"IF(AA176=\"\",CONCATENATE(AB176,\"秒\",AC176),CONCATENATE(IF(LEN(AA176)=1,CONCATENATE(\"0\",AA176),AA176),\"分\",IF(LEN(AB176)=1,CONCATENATE(\"0\",AB176),AB176),\"秒\",IF(LEN(AC176)=1,CONCATENATE(AC176,\"0\"),AC176)))","v":"秒"},"秒"]
["","",{"$f":"IF(E177=\"\",\"\",IF(AH177=1,COUNTIF(AH$16:AH177,1)*10+2001-10,COUNTIF(AH$16:AH177,2)*10+6001-10))","v":""},162,null,{"$f":"IF($E177=\"\",\"\",IF(ISERROR(VLOOKUP($E177,氏名ﾃﾞｰﾀ!$B:$J,2,0)),IF(ISERROR(VLOOKUP($E177,新規登録!$B:$I,2,0)),\"未登録\",VLOOKUP($E177,新規登録!$B:$I,2,0)),(VLOOKUP($E177,氏名ﾃﾞｰﾀ!$B:$J,2,0))))","v":""},{"$f":"IF($E177=\"\",\"\",IF(ISERROR(VLOOKUP($E177,氏名ﾃﾞｰﾀ!$B:$J,3,0)),IF(ISERROR(VLOOKUP($E177,新規登録!$B:$I,3,0)),\"未登録\",VLOOKUP($E177,新規登録!$B:$I,3,0)),(VLOOKUP($E177,氏名ﾃﾞｰﾀ!$B:$J,3,0))))","v":""},{"$f":"IF($E177=\"\",\"\",IF(ISERROR(VLOOKUP($E177,氏名ﾃﾞｰﾀ!$B:$J,4,0)),IF(ISERROR(VLOOKUP($E177,新規登録!$B:$I,4,0)),\"未登録\",VLOOKUP($E177,新規登録!$B:$I,4,0)),(VLOOKUP($E177,氏名ﾃﾞｰﾀ!$B:$J,4,0))))","v":""},{"$f":"IF($E177=\"\",\"\",IF(ISERROR(VLOOKUP($E177,氏名ﾃﾞｰﾀ!$B:$J,5,0)),IF(ISERROR(VLOOKUP($E177,新規登録!$B:$I,5,0)),\"未登録\",VLOOKUP($E177,新規登録!$B:$I,5,0)),(VLOOKUP($E177,氏名ﾃﾞｰﾀ!$B:$J,5,0))))","v":""},{"$f":"IF($E177=\"\",\"\",IF(ISERROR(VLOOKUP($E177,氏名ﾃﾞｰﾀ!$B:$J,8,0)),IF(ISERROR(VLOOKUP($E177,新規登録!$B:$I,6,0)),\"未登録\",VLOOKUP($E177,新規登録!$B:$I,6,0)),(VLOOKUP($E177,氏名ﾃﾞｰﾀ!$B:$J,8,0))))","v":""},{"$f":"IF($E177=\"\",\"\",IF(ISERROR(VLOOKUP($E177,氏名ﾃﾞｰﾀ!$B:$J,7,0)),IF(ISERROR(VLOOKUP($E177,新規登録!$B:$I,7,0)),\"未登録\",VLOOKUP($E177,新規登録!$B:$I,7,0)),$G$3))","v":""},{"$f":"IF($E177=\"\",\"\",IF(ISERROR(VLOOKUP($E177,氏名ﾃﾞｰﾀ!$B:$J,6,0)),IF(ISERROR(VLOOKUP($E177,新規登録!$B:$I,8,0)),\"ﾅｼ\",VLOOKUP($E177,新規登録!$B:$I,8,0)),(VLOOKUP($E177,氏名ﾃﾞｰﾀ!$B:$J,6,0))))","v":""},{"$f":"IF($E177=\"\",\"\",IF(ISERROR(VLOOKUP($E177,氏名ﾃﾞｰﾀ!$B:$J,9,0)),IF(ISERROR(VLOOKUP($E177,新規登録!$B:$I,9,0)),\"未登録\",VLOOKUP($E177,新規登録!$B:$I,9,0)),(VLOOKUP($E177,氏名ﾃﾞｰﾀ!$B:$J,9,0))))","v":""},null,null,null,null,null,null,null,null,null,null,null,null,null,null,null,null,null,null,null,null,2,{"$f":"IF(N177=\"\",\"\",VLOOKUP(N177,ﾃﾞｰﾀ!A:D,4,0))","v":""},"秒","秒"]
["","",{"$f":"IF(E178=\"\",\"\",IF(AH178=1,COUNTIF(AH$16:AH178,1)*10+2001-10,COUNTIF(AH$16:AH178,2)*10+6001-10))","v":""},163,null,{"$f":"IF($E178=\"\",\"\",IF(ISERROR(VLOOKUP($E178,氏名ﾃﾞｰﾀ!$B:$J,2,0)),IF(ISERROR(VLOOKUP($E178,新規登録!$B:$I,2,0)),\"未登録\",VLOOKUP($E178,新規登録!$B:$I,2,0)),(VLOOKUP($E178,氏名ﾃﾞｰﾀ!$B:$J,2,0))))","v":""},{"$f":"IF($E178=\"\",\"\",IF(ISERROR(VLOOKUP($E178,氏名ﾃﾞｰﾀ!$B:$J,3,0)),IF(ISERROR(VLOOKUP($E178,新規登録!$B:$I,3,0)),\"未登録\",VLOOKUP($E178,新規登録!$B:$I,3,0)),(VLOOKUP($E178,氏名ﾃﾞｰﾀ!$B:$J,3,0))))","v":""},{"$f":"IF($E178=\"\",\"\",IF(ISERROR(VLOOKUP($E178,氏名ﾃﾞｰﾀ!$B:$J,4,0)),IF(ISERROR(VLOOKUP($E178,新規登録!$B:$I,4,0)),\"未登録\",VLOOKUP($E178,新規登録!$B:$I,4,0)),(VLOOKUP($E178,氏名ﾃﾞｰﾀ!$B:$J,4,0))))","v":""},{"$f":"IF($E178=\"\",\"\",IF(ISERROR(VLOOKUP($E178,氏名ﾃﾞｰﾀ!$B:$J,5,0)),IF(ISERROR(VLOOKUP($E178,新規登録!$B:$I,5,0)),\"未登録\",VLOOKUP($E178,新規登録!$B:$I,5,0)),(VLOOKUP($E178,氏名ﾃﾞｰﾀ!$B:$J,5,0))))","v":""},{"$f":"IF($E178=\"\",\"\",IF(ISERROR(VLOOKUP($E178,氏名ﾃﾞｰﾀ!$B:$J,8,0)),IF(ISERROR(VLOOKUP($E178,新規登録!$B:$I,6,0)),\"未登録\",VLOOKUP($E178,新規登録!$B:$I,6,0)),(VLOOKUP($E178,氏名ﾃﾞｰﾀ!$B:$J,8,0))))","v":""},{"$f":"IF($E178=\"\",\"\",IF(ISERROR(VLOOKUP($E178,氏名ﾃﾞｰﾀ!$B:$J,7,0)),IF(ISERROR(VLOOKUP($E178,新規登録!$B:$I,7,0)),\"未登録\",VLOOKUP($E178,新規登録!$B:$I,7,0)),$G$3))","v":""},{"$f":"IF($E178=\"\",\"\",IF(ISERROR(VLOOKUP($E178,氏名ﾃﾞｰﾀ!$B:$J,6,0)),IF(ISERROR(VLOOKUP($E178,新規登録!$B:$I,8,0)),\"ﾅｼ\",VLOOKUP($E178,新規登録!$B:$I,8,0)),(VLOOKUP($E178,氏名ﾃﾞｰﾀ!$B:$J,6,0))))","v":""},{"$f":"IF($E178=\"\",\"\",IF(ISERROR(VLOOKUP($E178,氏名ﾃﾞｰﾀ!$B:$J,9,0)),IF(ISERROR(VLOOKUP($E178,新規登録!$B:$I,9,0)),\"未登録\",VLOOKUP($E178,新規登録!$B:$I,9,0)),(VLOOKUP($E178,氏名ﾃﾞｰﾀ!$B:$J,9,0))))","v":""},null,null,null,null,null,null,null,null,null,null,null,null,null,null,null,null,null,null,null,null,2,{"$f":"IF(N178=\"\",\"\",VLOOKUP(N178,ﾃﾞｰﾀ!A:D,4,0))","v":""},"秒","秒"]
["","",{"$f":"IF(E179=\"\",\"\",IF(AH179=1,COUNTIF(AH$16:AH179,1)*10+2001-10,COUNTIF(AH$16:AH179,2)*10+6001-10))","v":""},164,null,{"$f":"IF($E179=\"\",\"\",IF(ISERROR(VLOOKUP($E179,氏名ﾃﾞｰﾀ!$B:$J,2,0)),IF(ISERROR(VLOOKUP($E179,新規登録!$B:$I,2,0)),\"未登録\",VLOOKUP($E179,新規登録!$B:$I,2,0)),(VLOOKUP($E179,氏名ﾃﾞｰﾀ!$B:$J,2,0))))","v":""},{"$f":"IF($E179=\"\",\"\",IF(ISERROR(VLOOKUP($E179,氏名ﾃﾞｰﾀ!$B:$J,3,0)),IF(ISERROR(VLOOKUP($E179,新規登録!$B:$I,3,0)),\"未登録\",VLOOKUP($E179,新規登録!$B:$I,3,0)),(VLOOKUP($E179,氏名ﾃﾞｰﾀ!$B:$J,3,0))))","v":""},{"$f":"IF($E179=\"\",\"\",IF(ISERROR(VLOOKUP($E179,氏名ﾃﾞｰﾀ!$B:$J,4,0)),IF(ISERROR(VLOOKUP($E179,新規登録!$B:$I,4,0)),\"未登録\",VLOOKUP($E179,新規登録!$B:$I,4,0)),(VLOOKUP($E179,氏名ﾃﾞｰﾀ!$B:$J,4,0))))","v":""},{"$f":"IF($E179=\"\",\"\",IF(ISERROR(VLOOKUP($E179,氏名ﾃﾞｰﾀ!$B:$J,5,0)),IF(ISERROR(VLOOKUP($E179,新規登録!$B:$I,5,0)),\"未登録\",VLOOKUP($E179,新規登録!$B:$I,5,0)),(VLOOKUP($E179,氏名ﾃﾞｰﾀ!$B:$J,5,0))))","v":""},{"$f":"IF($E179=\"\",\"\",IF(ISERROR(VLOOKUP($E179,氏名ﾃﾞｰﾀ!$B:$J,8,0)),IF(ISERROR(VLOOKUP($E179,新規登録!$B:$I,6,0)),\"未登録\",VLOOKUP($E179,新規登録!$B:$I,6,0)),(VLOOKUP($E179,氏名ﾃﾞｰﾀ!$B:$J,8,0))))","v":""},{"$f":"IF($E179=\"\",\"\",IF(ISERROR(VLOOKUP($E179,氏名ﾃﾞｰﾀ!$B:$J,7,0)),IF(ISERROR(VLOOKUP($E179,新規登録!$B:$I,7,0)),\"未登録\",VLOOKUP($E179,新規登録!$B:$I,7,0)),$G$3))","v":""},{"$f":"IF($E179=\"\",\"\",IF(ISERROR(VLOOKUP($E179,氏名ﾃﾞｰﾀ!$B:$J,6,0)),IF(ISERROR(VLOOKUP($E179,新規登録!$B:$I,8,0)),\"ﾅｼ\",VLOOKUP($E179,新規登録!$B:$I,8,0)),(VLOOKUP($E179,氏名ﾃﾞｰﾀ!$B:$J,6,0))))","v":""},{"$f":"IF($E179=\"\",\"\",IF(ISERROR(VLOOKUP($E179,氏名ﾃﾞｰﾀ!$B:$J,9,0)),IF(ISERROR(VLOOKUP($E179,新規登録!$B:$I,9,0)),\"未登録\",VLOOKUP($E179,新規登録!$B:$I,9,0)),(VLOOKUP($E179,氏名ﾃﾞｰﾀ!$B:$J,9,0))))","v":""},null,null,null,null,null,null,null,null,null,null,null,null,null,null,null,null,null,null,null,null,2,{"$f":"IF(N179=\"\",\"\",VLOOKUP(N179,ﾃﾞｰﾀ!A:D,4,0))","v":""},"秒","秒"]
["","",{"$f":"IF(E180=\"\",\"\",IF(AH180=1,COUNTIF(AH$16:AH180,1)*10+2001-10,COUNTIF(AH$16:AH180,2)*10+6001-10))","v":""},165,null,{"$f":"IF($E180=\"\",\"\",IF(ISERROR(VLOOKUP($E180,氏名ﾃﾞｰﾀ!$B:$J,2,0)),IF(ISERROR(VLOOKUP($E180,新規登録!$B:$I,2,0)),\"未登録\",VLOOKUP($E180,新規登録!$B:$I,2,0)),(VLOOKUP($E180,氏名ﾃﾞｰﾀ!$B:$J,2,0))))","v":""},{"$f":"IF($E180=\"\",\"\",IF(ISERROR(VLOOKUP($E180,氏名ﾃﾞｰﾀ!$B:$J,3,0)),IF(ISERROR(VLOOKUP($E180,新規登録!$B:$I,3,0)),\"未登録\",VLOOKUP($E180,新規登録!$B:$I,3,0)),(VLOOKUP($E180,氏名ﾃﾞｰﾀ!$B:$J,3,0))))","v":""},{"$f":"IF($E180=\"\",\"\",IF(ISERROR(VLOOKUP($E180,氏名ﾃﾞｰﾀ!$B:$J,4,0)),IF(ISERROR(VLOOKUP($E180,新規登録!$B:$I,4,0)),\"未登録\",VLOOKUP($E180,新規登録!$B:$I,4,0)),(VLOOKUP($E180,氏名ﾃﾞｰﾀ!$B:$J,4,0))))","v":""},{"$f":"IF($E180=\"\",\"\",IF(ISERROR(VLOOKUP($E180,氏名ﾃﾞｰﾀ!$B:$J,5,0)),IF(ISERROR(VLOOKUP($E180,新規登録!$B:$I,5,0)),\"未登録\",VLOOKUP($E180,新規登録!$B:$I,5,0)),(VLOOKUP($E180,氏名ﾃﾞｰﾀ!$B:$J,5,0))))","v":""},{"$f":"IF($E180=\"\",\"\",IF(ISERROR(VLOOKUP($E180,氏名ﾃﾞｰﾀ!$B:$J,8,0)),IF(ISERROR(VLOOKUP($E180,新規登録!$B:$I,6,0)),\"未登録\",VLOOKUP($E180,新規登録!$B:$I,6,0)),(VLOOKUP($E180,氏名ﾃﾞｰﾀ!$B:$J,8,0))))","v":""},{"$f":"IF($E180=\"\",\"\",IF(ISERROR(VLOOKUP($E180,氏名ﾃﾞｰﾀ!$B:$J,7,0)),IF(ISERROR(VLOOKUP($E180,新規登録!$B:$I,7,0)),\"未登録\",VLOOKUP($E180,新規登録!$B:$I,7,0)),$G$3))","v":""},{"$f":"IF($E180=\"\",\"\",IF(ISERROR(VLOOKUP($E180,氏名ﾃﾞｰﾀ!$B:$J,6,0)),IF(ISERROR(VLOOKUP($E180,新規登録!$B:$I,8,0)),\"ﾅｼ\",VLOOKUP($E180,新規登録!$B:$I,8,0)),(VLOOKUP($E180,氏名ﾃﾞｰﾀ!$B:$J,6,0))))","v":""},{"$f":"IF($E180=\"\",\"\",IF(ISERROR(VLOOKUP($E180,氏名ﾃﾞｰﾀ!$B:$J,9,0)),IF(ISERROR(VLOOKUP($E180,新規登録!$B:$I,9,0)),\"未登録\",VLOOKUP($E180,新規登録!$B:$I,9,0)),(VLOOKUP($E180,氏名ﾃﾞｰﾀ!$B:$J,9,0))))","v":""},null,null,null,null,null,null,null,null,null,null,null,null,null,null,null,null,null,null,null,null,2,{"$f":"IF(N180=\"\",\"\",VLOOKUP(N180,ﾃﾞｰﾀ!A:D,4,0))","v":""},"秒","秒"]
["","",{"$f":"IF(E181=\"\",\"\",IF(AH181=1,COUNTIF(AH$16:AH181,1)*10+2001-10,COUNTIF(AH$16:AH181,2)*10+6001-10))","v":""},166,null,{"$f":"IF($E181=\"\",\"\",IF(ISERROR(VLOOKUP($E181,氏名ﾃﾞｰﾀ!$B:$J,2,0)),IF(ISERROR(VLOOKUP($E181,新規登録!$B:$I,2,0)),\"未登録\",VLOOKUP($E181,新規登録!$B:$I,2,0)),(VLOOKUP($E181,氏名ﾃﾞｰﾀ!$B:$J,2,0))))","v":""},{"$f":"IF($E181=\"\",\"\",IF(ISERROR(VLOOKUP($E181,氏名ﾃﾞｰﾀ!$B:$J,3,0)),IF(ISERROR(VLOOKUP($E181,新規登録!$B:$I,3,0)),\"未登録\",VLOOKUP($E181,新規登録!$B:$I,3,0)),(VLOOKUP($E181,氏名ﾃﾞｰﾀ!$B:$J,3,0))))","v":""},{"$f":"IF($E181=\"\",\"\",IF(ISERROR(VLOOKUP($E181,氏名ﾃﾞｰﾀ!$B:$J,4,0)),IF(ISERROR(VLOOKUP($E181,新規登録!$B:$I,4,0)),\"未登録\",VLOOKUP($E181,新規登録!$B:$I,4,0)),(VLOOKUP($E181,氏名ﾃﾞｰﾀ!$B:$J,4,0))))","v":""},{"$f":"IF($E181=\"\",\"\",IF(ISERROR(VLOOKUP($E181,氏名ﾃﾞｰﾀ!$B:$J,5,0)),IF(ISERROR(VLOOKUP($E181,新規登録!$B:$I,5,0)),\"未登録\",VLOOKUP($E181,新規登録!$B:$I,5,0)),(VLOOKUP($E181,氏名ﾃﾞｰﾀ!$B:$J,5,0))))","v":""},{"$f":"IF($E181=\"\",\"\",IF(ISERROR(VLOOKUP($E181,氏名ﾃﾞｰﾀ!$B:$J,8,0)),IF(ISERROR(VLOOKUP($E181,新規登録!$B:$I,6,0)),\"未登録\",VLOOKUP($E181,新規登録!$B:$I,6,0)),(VLOOKUP($E181,氏名ﾃﾞｰﾀ!$B:$J,8,0))))","v":""},{"$f":"IF($E181=\"\",\"\",IF(ISERROR(VLOOKUP($E181,氏名ﾃﾞｰﾀ!$B:$J,7,0)),IF(ISERROR(VLOOKUP($E181,新規登録!$B:$I,7,0)),\"未登録\",VLOOKUP($E181,新規登録!$B:$I,7,0)),$G$3))","v":""},{"$f":"IF($E181=\"\",\"\",IF(ISERROR(VLOOKUP($E181,氏名ﾃﾞｰﾀ!$B:$J,6,0)),IF(ISERROR(VLOOKUP($E181,新規登録!$B:$I,8,0)),\"ﾅｼ\",VLOOKUP($E181,新規登録!$B:$I,8,0)),(VLOOKUP($E181,氏名ﾃﾞｰﾀ!$B:$J,6,0))))","v":""},{"$f":"IF($E181=\"\",\"\",IF(ISERROR(VLOOKUP($E181,氏名ﾃﾞｰﾀ!$B:$J,9,0)),IF(ISERROR(VLOOKUP($E181,新規登録!$B:$I,9,0)),\"未登録\",VLOOKUP($E181,新規登録!$B:$I,9,0)),(VLOOKUP($E181,氏名ﾃﾞｰﾀ!$B:$J,9,0))))","v":""},null,null,null,null,null,null,null,null,null,null,null,null,null,null,null,null,null,null,null,null,2,{"$f":"IF(N181=\"\",\"\",VLOOKUP(N181,ﾃﾞｰﾀ!A:D,4,0))","v":""},"秒","秒"]
["","",{"$f":"IF(E182=\"\",\"\",IF(AH182=1,COUNTIF(AH$16:AH182,1)*10+2001-10,COUNTIF(AH$16:AH182,2)*10+6001-10))","v":""},167,null,{"$f":"IF($E182=\"\",\"\",IF(ISERROR(VLOOKUP($E182,氏名ﾃﾞｰﾀ!$B:$J,2,0)),IF(ISERROR(VLOOKUP($E182,新規登録!$B:$I,2,0)),\"未登録\",VLOOKUP($E182,新規登録!$B:$I,2,0)),(VLOOKUP($E182,氏名ﾃﾞｰﾀ!$B:$J,2,0))))","v":""},{"$f":"IF($E182=\"\",\"\",IF(ISERROR(VLOOKUP($E182,氏名ﾃﾞｰﾀ!$B:$J,3,0)),IF(ISERROR(VLOOKUP($E182,新規登録!$B:$I,3,0)),\"未登録\",VLOOKUP($E182,新規登録!$B:$I,3,0)),(VLOOKUP($E182,氏名ﾃﾞｰﾀ!$B:$J,3,0))))","v":""},{"$f":"IF($E182=\"\",\"\",IF(ISERROR(VLOOKUP($E182,氏名ﾃﾞｰﾀ!$B:$J,4,0)),IF(ISERROR(VLOOKUP($E182,新規登録!$B:$I,4,0)),\"未登録\",VLOOKUP($E182,新規登録!$B:$I,4,0)),(VLOOKUP($E182,氏名ﾃﾞｰﾀ!$B:$J,4,0))))","v":""},{"$f":"IF($E182=\"\",\"\",IF(ISERROR(VLOOKUP($E182,氏名ﾃﾞｰﾀ!$B:$J,5,0)),IF(ISERROR(VLOOKUP($E182,新規登録!$B:$I,5,0)),\"未登録\",VLOOKUP($E182,新規登録!$B:$I,5,0)),(VLOOKUP($E182,氏名ﾃﾞｰﾀ!$B:$J,5,0))))","v":""},{"$f":"IF($E182=\"\",\"\",IF(ISERROR(VLOOKUP($E182,氏名ﾃﾞｰﾀ!$B:$J,8,0)),IF(ISERROR(VLOOKUP($E182,新規登録!$B:$I,6,0)),\"未登録\",VLOOKUP($E182,新規登録!$B:$I,6,0)),(VLOOKUP($E182,氏名ﾃﾞｰﾀ!$B:$J,8,0))))","v":""},{"$f":"IF($E182=\"\",\"\",IF(ISERROR(VLOOKUP($E182,氏名ﾃﾞｰﾀ!$B:$J,7,0)),IF(ISERROR(VLOOKUP($E182,新規登録!$B:$I,7,0)),\"未登録\",VLOOKUP($E182,新規登録!$B:$I,7,0)),$G$3))","v":""},{"$f":"IF($E182=\"\",\"\",IF(ISERROR(VLOOKUP($E182,氏名ﾃﾞｰﾀ!$B:$J,6,0)),IF(ISERROR(VLOOKUP($E182,新規登録!$B:$I,8,0)),\"ﾅｼ\",VLOOKUP($E182,新規登録!$B:$I,8,0)),(VLOOKUP($E182,氏名ﾃﾞｰﾀ!$B:$J,6,0))))","v":""},{"$f":"IF($E182=\"\",\"\",IF(ISERROR(VLOOKUP($E182,氏名ﾃﾞｰﾀ!$B:$J,9,0)),IF(ISERROR(VLOOKUP($E182,新規登録!$B:$I,9,0)),\"未登録\",VLOOKUP($E182,新規登録!$B:$I,9,0)),(VLOOKUP($E182,氏名ﾃﾞｰﾀ!$B:$J,9,0))))","v":""},null,null,null,null,null,null,null,null,null,null,null,null,null,null,null,null,null,null,null,null,2,{"$f":"IF(N182=\"\",\"\",VLOOKUP(N182,ﾃﾞｰﾀ!A:D,4,0))","v":""},"秒","秒"]
["","",{"$f":"IF(E183=\"\",\"\",IF(AH183=1,COUNTIF(AH$16:AH183,1)*10+2001-10,COUNTIF(AH$16:AH183,2)*10+6001-10))","v":""},168,null,{"$f":"IF($E183=\"\",\"\",IF(ISERROR(VLOOKUP($E183,氏名ﾃﾞｰﾀ!$B:$J,2,0)),IF(ISERROR(VLOOKUP($E183,新規登録!$B:$I,2,0)),\"未登録\",VLOOKUP($E183,新規登録!$B:$I,2,0)),(VLOOKUP($E183,氏名ﾃﾞｰﾀ!$B:$J,2,0))))","v":""},{"$f":"IF($E183=\"\",\"\",IF(ISERROR(VLOOKUP($E183,氏名ﾃﾞｰﾀ!$B:$J,3,0)),IF(ISERROR(VLOOKUP($E183,新規登録!$B:$I,3,0)),\"未登録\",VLOOKUP($E183,新規登録!$B:$I,3,0)),(VLOOKUP($E183,氏名ﾃﾞｰﾀ!$B:$J,3,0))))","v":""},{"$f":"IF($E183=\"\",\"\",IF(ISERROR(VLOOKUP($E183,氏名ﾃﾞｰﾀ!$B:$J,4,0)),IF(ISERROR(VLOOKUP($E183,新規登録!$B:$I,4,0)),\"未登録\",VLOOKUP($E183,新規登録!$B:$I,4,0)),(VLOOKUP($E183,氏名ﾃﾞｰﾀ!$B:$J,4,0))))","v":""},{"$f":"IF($E183=\"\",\"\",IF(ISERROR(VLOOKUP($E183,氏名ﾃﾞｰﾀ!$B:$J,5,0)),IF(ISERROR(VLOOKUP($E183,新規登録!$B:$I,5,0)),\"未登録\",VLOOKUP($E183,新規登録!$B:$I,5,0)),(VLOOKUP($E183,氏名ﾃﾞｰﾀ!$B:$J,5,0))))","v":""},{"$f":"IF($E183=\"\",\"\",IF(ISERROR(VLOOKUP($E183,氏名ﾃﾞｰﾀ!$B:$J,8,0)),IF(ISERROR(VLOOKUP($E183,新規登録!$B:$I,6,0)),\"未登録\",VLOOKUP($E183,新規登録!$B:$I,6,0)),(VLOOKUP($E183,氏名ﾃﾞｰﾀ!$B:$J,8,0))))","v":""},{"$f":"IF($E183=\"\",\"\",IF(ISERROR(VLOOKUP($E183,氏名ﾃﾞｰﾀ!$B:$J,7,0)),IF(ISERROR(VLOOKUP($E183,新規登録!$B:$I,7,0)),\"未登録\",VLOOKUP($E183,新規登録!$B:$I,7,0)),$G$3))","v":""},{"$f":"IF($E183=\"\",\"\",IF(ISERROR(VLOOKUP($E183,氏名ﾃﾞｰﾀ!$B:$J,6,0)),IF(ISERROR(VLOOKUP($E183,新規登録!$B:$I,8,0)),\"ﾅｼ\",VLOOKUP($E183,新規登録!$B:$I,8,0)),(VLOOKUP($E183,氏名ﾃﾞｰﾀ!$B:$J,6,0))))","v":""},{"$f":"IF($E183=\"\",\"\",IF(ISERROR(VLOOKUP($E183,氏名ﾃﾞｰﾀ!$B:$J,9,0)),IF(ISERROR(VLOOKUP($E183,新規登録!$B:$I,9,0)),\"未登録\",VLOOKUP($E183,新規登録!$B:$I,9,0)),(VLOOKUP($E183,氏名ﾃﾞｰﾀ!$B:$J,9,0))))","v":""},null,null,null,null,null,null,null,null,null,null,null,null,null,null,null,null,null,null,null,null,2,{"$f":"IF(N183=\"\",\"\",VLOOKUP(N183,ﾃﾞｰﾀ!A:D,4,0))","v":""},"秒","秒"]
["","",{"$f":"IF(E184=\"\",\"\",IF(AH184=1,COUNTIF(AH$16:AH184,1)*10+2001-10,COUNTIF(AH$16:AH184,2)*10+6001-10))","v":""},169,null,{"$f":"IF($E184=\"\",\"\",IF(ISERROR(VLOOKUP($E184,氏名ﾃﾞｰﾀ!$B:$J,2,0)),IF(ISERROR(VLOOKUP($E184,新規登録!$B:$I,2,0)),\"未登録\",VLOOKUP($E184,新規登録!$B:$I,2,0)),(VLOOKUP($E184,氏名ﾃﾞｰﾀ!$B:$J,2,0))))","v":""},{"$f":"IF($E184=\"\",\"\",IF(ISERROR(VLOOKUP($E184,氏名ﾃﾞｰﾀ!$B:$J,3,0)),IF(ISERROR(VLOOKUP($E184,新規登録!$B:$I,3,0)),\"未登録\",VLOOKUP($E184,新規登録!$B:$I,3,0)),(VLOOKUP($E184,氏名ﾃﾞｰﾀ!$B:$J,3,0))))","v":""},{"$f":"IF($E184=\"\",\"\",IF(ISERROR(VLOOKUP($E184,氏名ﾃﾞｰﾀ!$B:$J,4,0)),IF(ISERROR(VLOOKUP($E184,新規登録!$B:$I,4,0)),\"未登録\",VLOOKUP($E184,新規登録!$B:$I,4,0)),(VLOOKUP($E184,氏名ﾃﾞｰﾀ!$B:$J,4,0))))","v":""},{"$f":"IF($E184=\"\",\"\",IF(ISERROR(VLOOKUP($E184,氏名ﾃﾞｰﾀ!$B:$J,5,0)),IF(ISERROR(VLOOKUP($E184,新規登録!$B:$I,5,0)),\"未登録\",VLOOKUP($E184,新規登録!$B:$I,5,0)),(VLOOKUP($E184,氏名ﾃﾞｰﾀ!$B:$J,5,0))))","v":""},{"$f":"IF($E184=\"\",\"\",IF(ISERROR(VLOOKUP($E184,氏名ﾃﾞｰﾀ!$B:$J,8,0)),IF(ISERROR(VLOOKUP($E184,新規登録!$B:$I,6,0)),\"未登録\",VLOOKUP($E184,新規登録!$B:$I,6,0)),(VLOOKUP($E184,氏名ﾃﾞｰﾀ!$B:$J,8,0))))","v":""},{"$f":"IF($E184=\"\",\"\",IF(ISERROR(VLOOKUP($E184,氏名ﾃﾞｰﾀ!$B:$J,7,0)),IF(ISERROR(VLOOKUP($E184,新規登録!$B:$I,7,0)),\"未登録\",VLOOKUP($E184,新規登録!$B:$I,7,0)),$G$3))","v":""},{"$f":"IF($E184=\"\",\"\",IF(ISERROR(VLOOKUP($E184,氏名ﾃﾞｰﾀ!$B:$J,6,0)),IF(ISERROR(VLOOKUP($E184,新規登録!$B:$I,8,0)),\"ﾅｼ\",VLOOKUP($E184,新規登録!$B:$I,8,0)),(VLOOKUP($E184,氏名ﾃﾞｰﾀ!$B:$J,6,0))))","v":""},{"$f":"IF($E184=\"\",\"\",IF(ISERROR(VLOOKUP($E184,氏名ﾃﾞｰﾀ!$B:$J,9,0)),IF(ISERROR(VLOOKUP($E184,新規登録!$B:$I,9,0)),\"未登録\",VLOOKUP($E184,新規登録!$B:$I,9,0)),(VLOOKUP($E184,氏名ﾃﾞｰﾀ!$B:$J,9,0))))","v":""},null,null,null,null,null,null,null,null,null,null,null,null,null,null,null,null,null,null,null,null,2,{"$f":"IF(N184=\"\",\"\",VLOOKUP(N184,ﾃﾞｰﾀ!A:D,4,0))","v":""},"秒","秒"]
["","",{"$f":"IF(E185=\"\",\"\",IF(AH185=1,COUNTIF(AH$16:AH185,1)*10+2001-10,COUNTIF(AH$16:AH185,2)*10+6001-10))","v":""},170,null,{"$f":"IF($E185=\"\",\"\",IF(ISERROR(VLOOKUP($E185,氏名ﾃﾞｰﾀ!$B:$J,2,0)),IF(ISERROR(VLOOKUP($E185,新規登録!$B:$I,2,0)),\"未登録\",VLOOKUP($E185,新規登録!$B:$I,2,0)),(VLOOKUP($E185,氏名ﾃﾞｰﾀ!$B:$J,2,0))))","v":""},{"$f":"IF($E185=\"\",\"\",IF(ISERROR(VLOOKUP($E185,氏名ﾃﾞｰﾀ!$B:$J,3,0)),IF(ISERROR(VLOOKUP($E185,新規登録!$B:$I,3,0)),\"未登録\",VLOOKUP($E185,新規登録!$B:$I,3,0)),(VLOOKUP($E185,氏名ﾃﾞｰﾀ!$B:$J,3,0))))","v":""},{"$f":"IF($E185=\"\",\"\",IF(ISERROR(VLOOKUP($E185,氏名ﾃﾞｰﾀ!$B:$J,4,0)),IF(ISERROR(VLOOKUP($E185,新規登録!$B:$I,4,0)),\"未登録\",VLOOKUP($E185,新規登録!$B:$I,4,0)),(VLOOKUP($E185,氏名ﾃﾞｰﾀ!$B:$J,4,0))))","v":""},{"$f":"IF($E185=\"\",\"\",IF(ISERROR(VLOOKUP($E185,氏名ﾃﾞｰﾀ!$B:$J,5,0)),IF(ISERROR(VLOOKUP($E185,新規登録!$B:$I,5,0)),\"未登録\",VLOOKUP($E185,新規登録!$B:$I,5,0)),(VLOOKUP($E185,氏名ﾃﾞｰﾀ!$B:$J,5,0))))","v":""},{"$f":"IF($E185=\"\",\"\",IF(ISERROR(VLOOKUP($E185,氏名ﾃﾞｰﾀ!$B:$J,8,0)),IF(ISERROR(VLOOKUP($E185,新規登録!$B:$I,6,0)),\"未登録\",VLOOKUP($E185,新規登録!$B:$I,6,0)),(VLOOKUP($E185,氏名ﾃﾞｰﾀ!$B:$J,8,0))))","v":""},{"$f":"IF($E185=\"\",\"\",IF(ISERROR(VLOOKUP($E185,氏名ﾃﾞｰﾀ!$B:$J,7,0)),IF(ISERROR(VLOOKUP($E185,新規登録!$B:$I,7,0)),\"未登録\",VLOOKUP($E185,新規登録!$B:$I,7,0)),$G$3))","v":""},{"$f":"IF($E185=\"\",\"\",IF(ISERROR(VLOOKUP($E185,氏名ﾃﾞｰﾀ!$B:$J,6,0)),IF(ISERROR(VLOOKUP($E185,新規登録!$B:$I,8,0)),\"ﾅｼ\",VLOOKUP($E185,新規登録!$B:$I,8,0)),(VLOOKUP($E185,氏名ﾃﾞｰﾀ!$B:$J,6,0))))","v":""},{"$f":"IF($E185=\"\",\"\",IF(ISERROR(VLOOKUP($E185,氏名ﾃﾞｰﾀ!$B:$J,9,0)),IF(ISERROR(VLOOKUP($E185,新規登録!$B:$I,9,0)),\"未登録\",VLOOKUP($E185,新規登録!$B:$I,9,0)),(VLOOKUP($E185,氏名ﾃﾞｰﾀ!$B:$J,9,0))))","v":""},null,null,null,null,null,null,null,null,null,null,null,null,null,null,null,null,null,null,null,null,2,{"$f":"IF(N185=\"\",\"\",VLOOKUP(N185,ﾃﾞｰﾀ!A:D,4,0))","v":""},"秒","秒"]
["","",{"$f":"IF(E186=\"\",\"\",IF(AH186=1,COUNTIF(AH$16:AH186,1)*10+2001-10,COUNTIF(AH$16:AH186,2)*10+6001-10))","v":""},171,null,{"$f":"IF($E186=\"\",\"\",IF(ISERROR(VLOOKUP($E186,氏名ﾃﾞｰﾀ!$B:$J,2,0)),IF(ISERROR(VLOOKUP($E186,新規登録!$B:$I,2,0)),\"未登録\",VLOOKUP($E186,新規登録!$B:$I,2,0)),(VLOOKUP($E186,氏名ﾃﾞｰﾀ!$B:$J,2,0))))","v":""},{"$f":"IF($E186=\"\",\"\",IF(ISERROR(VLOOKUP($E186,氏名ﾃﾞｰﾀ!$B:$J,3,0)),IF(ISERROR(VLOOKUP($E186,新規登録!$B:$I,3,0)),\"未登録\",VLOOKUP($E186,新規登録!$B:$I,3,0)),(VLOOKUP($E186,氏名ﾃﾞｰﾀ!$B:$J,3,0))))","v":""},{"$f":"IF($E186=\"\",\"\",IF(ISERROR(VLOOKUP($E186,氏名ﾃﾞｰﾀ!$B:$J,4,0)),IF(ISERROR(VLOOKUP($E186,新規登録!$B:$I,4,0)),\"未登録\",VLOOKUP($E186,新規登録!$B:$I,4,0)),(VLOOKUP($E186,氏名ﾃﾞｰﾀ!$B:$J,4,0))))","v":""},{"$f":"IF($E186=\"\",\"\",IF(ISERROR(VLOOKUP($E186,氏名ﾃﾞｰﾀ!$B:$J,5,0)),IF(ISERROR(VLOOKUP($E186,新規登録!$B:$I,5,0)),\"未登録\",VLOOKUP($E186,新規登録!$B:$I,5,0)),(VLOOKUP($E186,氏名ﾃﾞｰﾀ!$B:$J,5,0))))","v":""},{"$f":"IF($E186=\"\",\"\",IF(ISERROR(VLOOKUP($E186,氏名ﾃﾞｰﾀ!$B:$J,8,0)),IF(ISERROR(VLOOKUP($E186,新規登録!$B:$I,6,0)),\"未登録\",VLOOKUP($E186,新規登録!$B:$I,6,0)),(VLOOKUP($E186,氏名ﾃﾞｰﾀ!$B:$J,8,0))))","v":""},{"$f":"IF($E186=\"\",\"\",IF(ISERROR(VLOOKUP($E186,氏名ﾃﾞｰﾀ!$B:$J,7,0)),IF(ISERROR(VLOOKUP($E186,新規登録!$B:$I,7,0)),\"未登録\",VLOOKUP($E186,新規登録!$B:$I,7,0)),$G$3))","v":""},{"$f":"IF($E186=\"\",\"\",IF(ISERROR(VLOOKUP($E186,氏名ﾃﾞｰﾀ!$B:$J,6,0)),IF(ISERROR(VLOOKUP($E186,新規登録!$B:$I,8,0)),\"ﾅｼ\",VLOOKUP($E186,新規登録!$B:$I,8,0)),(VLOOKUP($E186,氏名ﾃﾞｰﾀ!$B:$J,6,0))))","v":""},{"$f":"IF($E186=\"\",\"\",IF(ISERROR(VLOOKUP($E186,氏名ﾃﾞｰﾀ!$B:$J,9,0)),IF(ISERROR(VLOOKUP($E186,新規登録!$B:$I,9,0)),\"未登録\",VLOOKUP($E186,新規登録!$B:$I,9,0)),(VLOOKUP($E186,氏名ﾃﾞｰﾀ!$B:$J,9,0))))","v":""},null,null,null,null,null,null,null,null,null,null,null,null,null,null,null,null,null,null,null,null,2,{"$f":"IF(N186=\"\",\"\",VLOOKUP(N186,ﾃﾞｰﾀ!A:D,4,0))","v":""},"秒","秒"]
["","",{"$f":"IF(E187=\"\",\"\",IF(AH187=1,COUNTIF(AH$16:AH187,1)*10+2001-10,COUNTIF(AH$16:AH187,2)*10+6001-10))","v":""},172,null,{"$f":"IF($E187=\"\",\"\",IF(ISERROR(VLOOKUP($E187,氏名ﾃﾞｰﾀ!$B:$J,2,0)),IF(ISERROR(VLOOKUP($E187,新規登録!$B:$I,2,0)),\"未登録\",VLOOKUP($E187,新規登録!$B:$I,2,0)),(VLOOKUP($E187,氏名ﾃﾞｰﾀ!$B:$J,2,0))))","v":""},{"$f":"IF($E187=\"\",\"\",IF(ISERROR(VLOOKUP($E187,氏名ﾃﾞｰﾀ!$B:$J,3,0)),IF(ISERROR(VLOOKUP($E187,新規登録!$B:$I,3,0)),\"未登録\",VLOOKUP($E187,新規登録!$B:$I,3,0)),(VLOOKUP($E187,氏名ﾃﾞｰﾀ!$B:$J,3,0))))","v":""},{"$f":"IF($E187=\"\",\"\",IF(ISERROR(VLOOKUP($E187,氏名ﾃﾞｰﾀ!$B:$J,4,0)),IF(ISERROR(VLOOKUP($E187,新規登録!$B:$I,4,0)),\"未登録\",VLOOKUP($E187,新規登録!$B:$I,4,0)),(VLOOKUP($E187,氏名ﾃﾞｰﾀ!$B:$J,4,0))))","v":""},{"$f":"IF($E187=\"\",\"\",IF(ISERROR(VLOOKUP($E187,氏名ﾃﾞｰﾀ!$B:$J,5,0)),IF(ISERROR(VLOOKUP($E187,新規登録!$B:$I,5,0)),\"未登録\",VLOOKUP($E187,新規登録!$B:$I,5,0)),(VLOOKUP($E187,氏名ﾃﾞｰﾀ!$B:$J,5,0))))","v":""},{"$f":"IF($E187=\"\",\"\",IF(ISERROR(VLOOKUP($E187,氏名ﾃﾞｰﾀ!$B:$J,8,0)),IF(ISERROR(VLOOKUP($E187,新規登録!$B:$I,6,0)),\"未登録\",VLOOKUP($E187,新規登録!$B:$I,6,0)),(VLOOKUP($E187,氏名ﾃﾞｰﾀ!$B:$J,8,0))))","v":""},{"$f":"IF($E187=\"\",\"\",IF(ISERROR(VLOOKUP($E187,氏名ﾃﾞｰﾀ!$B:$J,7,0)),IF(ISERROR(VLOOKUP($E187,新規登録!$B:$I,7,0)),\"未登録\",VLOOKUP($E187,新規登録!$B:$I,7,0)),$G$3))","v":""},{"$f":"IF($E187=\"\",\"\",IF(ISERROR(VLOOKUP($E187,氏名ﾃﾞｰﾀ!$B:$J,6,0)),IF(ISERROR(VLOOKUP($E187,新規登録!$B:$I,8,0)),\"ﾅｼ\",VLOOKUP($E187,新規登録!$B:$I,8,0)),(VLOOKUP($E187,氏名ﾃﾞｰﾀ!$B:$J,6,0))))","v":""},{"$f":"IF($E187=\"\",\"\",IF(ISERROR(VLOOKUP($E187,氏名ﾃﾞｰﾀ!$B:$J,9,0)),IF(ISERROR(VLOOKUP($E187,新規登録!$B:$I,9,0)),\"未登録\",VLOOKUP($E187,新規登録!$B:$I,9,0)),(VLOOKUP($E187,氏名ﾃﾞｰﾀ!$B:$J,9,0))))","v":""},null,null,null,null,null,null,null,null,null,null,null,null,null,null,null,null,null,null,null,null,2,{"$f":"IF(N187=\"\",\"\",VLOOKUP(N187,ﾃﾞｰﾀ!A:D,4,0))","v":""},"秒","秒"]
["","",{"$f":"IF(E188=\"\",\"\",IF(AH188=1,COUNTIF(AH$16:AH188,1)*10+2001-10,COUNTIF(AH$16:AH188,2)*10+6001-10))","v":""},173,null,{"$f":"IF($E188=\"\",\"\",IF(ISERROR(VLOOKUP($E188,氏名ﾃﾞｰﾀ!$B:$J,2,0)),IF(ISERROR(VLOOKUP($E188,新規登録!$B:$I,2,0)),\"未登録\",VLOOKUP($E188,新規登録!$B:$I,2,0)),(VLOOKUP($E188,氏名ﾃﾞｰﾀ!$B:$J,2,0))))","v":""},{"$f":"IF($E188=\"\",\"\",IF(ISERROR(VLOOKUP($E188,氏名ﾃﾞｰﾀ!$B:$J,3,0)),IF(ISERROR(VLOOKUP($E188,新規登録!$B:$I,3,0)),\"未登録\",VLOOKUP($E188,新規登録!$B:$I,3,0)),(VLOOKUP($E188,氏名ﾃﾞｰﾀ!$B:$J,3,0))))","v":""},{"$f":"IF($E188=\"\",\"\",IF(ISERROR(VLOOKUP($E188,氏名ﾃﾞｰﾀ!$B:$J,4,0)),IF(ISERROR(VLOOKUP($E188,新規登録!$B:$I,4,0)),\"未登録\",VLOOKUP($E188,新規登録!$B:$I,4,0)),(VLOOKUP($E188,氏名ﾃﾞｰﾀ!$B:$J,4,0))))","v":""},{"$f":"IF($E188=\"\",\"\",IF(ISERROR(VLOOKUP($E188,氏名ﾃﾞｰﾀ!$B:$J,5,0)),IF(ISERROR(VLOOKUP($E188,新規登録!$B:$I,5,0)),\"未登録\",VLOOKUP($E188,新規登録!$B:$I,5,0)),(VLOOKUP($E188,氏名ﾃﾞｰﾀ!$B:$J,5,0))))","v":""},{"$f":"IF($E188=\"\",\"\",IF(ISERROR(VLOOKUP($E188,氏名ﾃﾞｰﾀ!$B:$J,8,0)),IF(ISERROR(VLOOKUP($E188,新規登録!$B:$I,6,0)),\"未登録\",VLOOKUP($E188,新規登録!$B:$I,6,0)),(VLOOKUP($E188,氏名ﾃﾞｰﾀ!$B:$J,8,0))))","v":""},{"$f":"IF($E188=\"\",\"\",IF(ISERROR(VLOOKUP($E188,氏名ﾃﾞｰﾀ!$B:$J,7,0)),IF(ISERROR(VLOOKUP($E188,新規登録!$B:$I,7,0)),\"未登録\",VLOOKUP($E188,新規登録!$B:$I,7,0)),$G$3))","v":""},{"$f":"IF($E188=\"\",\"\",IF(ISERROR(VLOOKUP($E188,氏名ﾃﾞｰﾀ!$B:$J,6,0)),IF(ISERROR(VLOOKUP($E188,新規登録!$B:$I,8,0)),\"ﾅｼ\",VLOOKUP($E188,新規登録!$B:$I,8,0)),(VLOOKUP($E188,氏名ﾃﾞｰﾀ!$B:$J,6,0))))","v":""},{"$f":"IF($E188=\"\",\"\",IF(ISERROR(VLOOKUP($E188,氏名ﾃﾞｰﾀ!$B:$J,9,0)),IF(ISERROR(VLOOKUP($E188,新規登録!$B:$I,9,0)),\"未登録\",VLOOKUP($E188,新規登録!$B:$I,9,0)),(VLOOKUP($E188,氏名ﾃﾞｰﾀ!$B:$J,9,0))))","v":""},null,null,null,null,null,null,null,null,null,null,null,null,null,null,null,null,null,null,null,null,2,{"$f":"IF(N188=\"\",\"\",VLOOKUP(N188,ﾃﾞｰﾀ!A:D,4,0))","v":""},"秒","秒"]
["","",{"$f":"IF(E189=\"\",\"\",IF(AH189=1,COUNTIF(AH$16:AH189,1)*10+2001-10,COUNTIF(AH$16:AH189,2)*10+6001-10))","v":""},174,null,{"$f":"IF($E189=\"\",\"\",IF(ISERROR(VLOOKUP($E189,氏名ﾃﾞｰﾀ!$B:$J,2,0)),IF(ISERROR(VLOOKUP($E189,新規登録!$B:$I,2,0)),\"未登録\",VLOOKUP($E189,新規登録!$B:$I,2,0)),(VLOOKUP($E189,氏名ﾃﾞｰﾀ!$B:$J,2,0))))","v":""},{"$f":"IF($E189=\"\",\"\",IF(ISERROR(VLOOKUP($E189,氏名ﾃﾞｰﾀ!$B:$J,3,0)),IF(ISERROR(VLOOKUP($E189,新規登録!$B:$I,3,0)),\"未登録\",VLOOKUP($E189,新規登録!$B:$I,3,0)),(VLOOKUP($E189,氏名ﾃﾞｰﾀ!$B:$J,3,0))))","v":""},{"$f":"IF($E189=\"\",\"\",IF(ISERROR(VLOOKUP($E189,氏名ﾃﾞｰﾀ!$B:$J,4,0)),IF(ISERROR(VLOOKUP($E189,新規登録!$B:$I,4,0)),\"未登録\",VLOOKUP($E189,新規登録!$B:$I,4,0)),(VLOOKUP($E189,氏名ﾃﾞｰﾀ!$B:$J,4,0))))","v":""},{"$f":"IF($E189=\"\",\"\",IF(ISERROR(VLOOKUP($E189,氏名ﾃﾞｰﾀ!$B:$J,5,0)),IF(ISERROR(VLOOKUP($E189,新規登録!$B:$I,5,0)),\"未登録\",VLOOKUP($E189,新規登録!$B:$I,5,0)),(VLOOKUP($E189,氏名ﾃﾞｰﾀ!$B:$J,5,0))))","v":""},{"$f":"IF($E189=\"\",\"\",IF(ISERROR(VLOOKUP($E189,氏名ﾃﾞｰﾀ!$B:$J,8,0)),IF(ISERROR(VLOOKUP($E189,新規登録!$B:$I,6,0)),\"未登録\",VLOOKUP($E189,新規登録!$B:$I,6,0)),(VLOOKUP($E189,氏名ﾃﾞｰﾀ!$B:$J,8,0))))","v":""},{"$f":"IF($E189=\"\",\"\",IF(ISERROR(VLOOKUP($E189,氏名ﾃﾞｰﾀ!$B:$J,7,0)),IF(ISERROR(VLOOKUP($E189,新規登録!$B:$I,7,0)),\"未登録\",VLOOKUP($E189,新規登録!$B:$I,7,0)),$G$3))","v":""},{"$f":"IF($E189=\"\",\"\",IF(ISERROR(VLOOKUP($E189,氏名ﾃﾞｰﾀ!$B:$J,6,0)),IF(ISERROR(VLOOKUP($E189,新規登録!$B:$I,8,0)),\"ﾅｼ\",VLOOKUP($E189,新規登録!$B:$I,8,0)),(VLOOKUP($E189,氏名ﾃﾞｰﾀ!$B:$J,6,0))))","v":""},{"$f":"IF($E189=\"\",\"\",IF(ISERROR(VLOOKUP($E189,氏名ﾃﾞｰﾀ!$B:$J,9,0)),IF(ISERROR(VLOOKUP($E189,新規登録!$B:$I,9,0)),\"未登録\",VLOOKUP($E189,新規登録!$B:$I,9,0)),(VLOOKUP($E189,氏名ﾃﾞｰﾀ!$B:$J,9,0))))","v":""},null,null,null,null,null,null,null,null,null,null,null,null,null,null,null,null,null,null,null,null,2,{"$f":"IF(N189=\"\",\"\",VLOOKUP(N189,ﾃﾞｰﾀ!A:D,4,0))","v":""},"秒","秒"]
["","",{"$f":"IF(E190=\"\",\"\",IF(AH190=1,COUNTIF(AH$16:AH190,1)*10+2001-10,COUNTIF(AH$16:AH190,2)*10+6001-10))","v":""},175,null,{"$f":"IF($E190=\"\",\"\",IF(ISERROR(VLOOKUP($E190,氏名ﾃﾞｰﾀ!$B:$J,2,0)),IF(ISERROR(VLOOKUP($E190,新規登録!$B:$I,2,0)),\"未登録\",VLOOKUP($E190,新規登録!$B:$I,2,0)),(VLOOKUP($E190,氏名ﾃﾞｰﾀ!$B:$J,2,0))))","v":""},{"$f":"IF($E190=\"\",\"\",IF(ISERROR(VLOOKUP($E190,氏名ﾃﾞｰﾀ!$B:$J,3,0)),IF(ISERROR(VLOOKUP($E190,新規登録!$B:$I,3,0)),\"未登録\",VLOOKUP($E190,新規登録!$B:$I,3,0)),(VLOOKUP($E190,氏名ﾃﾞｰﾀ!$B:$J,3,0))))","v":""},{"$f":"IF($E190=\"\",\"\",IF(ISERROR(VLOOKUP($E190,氏名ﾃﾞｰﾀ!$B:$J,4,0)),IF(ISERROR(VLOOKUP($E190,新規登録!$B:$I,4,0)),\"未登録\",VLOOKUP($E190,新規登録!$B:$I,4,0)),(VLOOKUP($E190,氏名ﾃﾞｰﾀ!$B:$J,4,0))))","v":""},{"$f":"IF($E190=\"\",\"\",IF(ISERROR(VLOOKUP($E190,氏名ﾃﾞｰﾀ!$B:$J,5,0)),IF(ISERROR(VLOOKUP($E190,新規登録!$B:$I,5,0)),\"未登録\",VLOOKUP($E190,新規登録!$B:$I,5,0)),(VLOOKUP($E190,氏名ﾃﾞｰﾀ!$B:$J,5,0))))","v":""},{"$f":"IF($E190=\"\",\"\",IF(ISERROR(VLOOKUP($E190,氏名ﾃﾞｰﾀ!$B:$J,8,0)),IF(ISERROR(VLOOKUP($E190,新規登録!$B:$I,6,0)),\"未登録\",VLOOKUP($E190,新規登録!$B:$I,6,0)),(VLOOKUP($E190,氏名ﾃﾞｰﾀ!$B:$J,8,0))))","v":""},{"$f":"IF($E190=\"\",\"\",IF(ISERROR(VLOOKUP($E190,氏名ﾃﾞｰﾀ!$B:$J,7,0)),IF(ISERROR(VLOOKUP($E190,新規登録!$B:$I,7,0)),\"未登録\",VLOOKUP($E190,新規登録!$B:$I,7,0)),$G$3))","v":""},{"$f":"IF($E190=\"\",\"\",IF(ISERROR(VLOOKUP($E190,氏名ﾃﾞｰﾀ!$B:$J,6,0)),IF(ISERROR(VLOOKUP($E190,新規登録!$B:$I,8,0)),\"ﾅｼ\",VLOOKUP($E190,新規登録!$B:$I,8,0)),(VLOOKUP($E190,氏名ﾃﾞｰﾀ!$B:$J,6,0))))","v":""},{"$f":"IF($E190=\"\",\"\",IF(ISERROR(VLOOKUP($E190,氏名ﾃﾞｰﾀ!$B:$J,9,0)),IF(ISERROR(VLOOKUP($E190,新規登録!$B:$I,9,0)),\"未登録\",VLOOKUP($E190,新規登録!$B:$I,9,0)),(VLOOKUP($E190,氏名ﾃﾞｰﾀ!$B:$J,9,0))))","v":""},null,null,null,null,null,null,null,null,null,null,null,null,null,null,null,null,null,null,null,null,2,{"$f":"IF(N190=\"\",\"\",VLOOKUP(N190,ﾃﾞｰﾀ!A:D,4,0))","v":""},"秒","秒"]
["","",{"$f":"IF(E191=\"\",\"\",IF(AH191=1,COUNTIF(AH$16:AH191,1)*10+2001-10,COUNTIF(AH$16:AH191,2)*10+6001-10))","v":""},176,null,{"$f":"IF($E191=\"\",\"\",IF(ISERROR(VLOOKUP($E191,氏名ﾃﾞｰﾀ!$B:$J,2,0)),IF(ISERROR(VLOOKUP($E191,新規登録!$B:$I,2,0)),\"未登録\",VLOOKUP($E191,新規登録!$B:$I,2,0)),(VLOOKUP($E191,氏名ﾃﾞｰﾀ!$B:$J,2,0))))","v":""},{"$f":"IF($E191=\"\",\"\",IF(ISERROR(VLOOKUP($E191,氏名ﾃﾞｰﾀ!$B:$J,3,0)),IF(ISERROR(VLOOKUP($E191,新規登録!$B:$I,3,0)),\"未登録\",VLOOKUP($E191,新規登録!$B:$I,3,0)),(VLOOKUP($E191,氏名ﾃﾞｰﾀ!$B:$J,3,0))))","v":""},{"$f":"IF($E191=\"\",\"\",IF(ISERROR(VLOOKUP($E191,氏名ﾃﾞｰﾀ!$B:$J,4,0)),IF(ISERROR(VLOOKUP($E191,新規登録!$B:$I,4,0)),\"未登録\",VLOOKUP($E191,新規登録!$B:$I,4,0)),(VLOOKUP($E191,氏名ﾃﾞｰﾀ!$B:$J,4,0))))","v":""},{"$f":"IF($E191=\"\",\"\",IF(ISERROR(VLOOKUP($E191,氏名ﾃﾞｰﾀ!$B:$J,5,0)),IF(ISERROR(VLOOKUP($E191,新規登録!$B:$I,5,0)),\"未登録\",VLOOKUP($E191,新規登録!$B:$I,5,0)),(VLOOKUP($E191,氏名ﾃﾞｰﾀ!$B:$J,5,0))))","v":""},{"$f":"IF($E191=\"\",\"\",IF(ISERROR(VLOOKUP($E191,氏名ﾃﾞｰﾀ!$B:$J,8,0)),IF(ISERROR(VLOOKUP($E191,新規登録!$B:$I,6,0)),\"未登録\",VLOOKUP($E191,新規登録!$B:$I,6,0)),(VLOOKUP($E191,氏名ﾃﾞｰﾀ!$B:$J,8,0))))","v":""},{"$f":"IF($E191=\"\",\"\",IF(ISERROR(VLOOKUP($E191,氏名ﾃﾞｰﾀ!$B:$J,7,0)),IF(ISERROR(VLOOKUP($E191,新規登録!$B:$I,7,0)),\"未登録\",VLOOKUP($E191,新規登録!$B:$I,7,0)),$G$3))","v":""},{"$f":"IF($E191=\"\",\"\",IF(ISERROR(VLOOKUP($E191,氏名ﾃﾞｰﾀ!$B:$J,6,0)),IF(ISERROR(VLOOKUP($E191,新規登録!$B:$I,8,0)),\"ﾅｼ\",VLOOKUP($E191,新規登録!$B:$I,8,0)),(VLOOKUP($E191,氏名ﾃﾞｰﾀ!$B:$J,6,0))))","v":""},{"$f":"IF($E191=\"\",\"\",IF(ISERROR(VLOOKUP($E191,氏名ﾃﾞｰﾀ!$B:$J,9,0)),IF(ISERROR(VLOOKUP($E191,新規登録!$B:$I,9,0)),\"未登録\",VLOOKUP($E191,新規登録!$B:$I,9,0)),(VLOOKUP($E191,氏名ﾃﾞｰﾀ!$B:$J,9,0))))","v":""},null,null,null,null,null,null,null,null,null,null,null,null,null,null,null,null,null,null,null,null,2,{"$f":"IF(N191=\"\",\"\",VLOOKUP(N191,ﾃﾞｰﾀ!A:D,4,0))","v":""},"秒","秒"]
["","",{"$f":"IF(E192=\"\",\"\",IF(AH192=1,COUNTIF(AH$16:AH192,1)*10+2001-10,COUNTIF(AH$16:AH192,2)*10+6001-10))","v":""},177,null,{"$f":"IF($E192=\"\",\"\",IF(ISERROR(VLOOKUP($E192,氏名ﾃﾞｰﾀ!$B:$J,2,0)),IF(ISERROR(VLOOKUP($E192,新規登録!$B:$I,2,0)),\"未登録\",VLOOKUP($E192,新規登録!$B:$I,2,0)),(VLOOKUP($E192,氏名ﾃﾞｰﾀ!$B:$J,2,0))))","v":""},{"$f":"IF($E192=\"\",\"\",IF(ISERROR(VLOOKUP($E192,氏名ﾃﾞｰﾀ!$B:$J,3,0)),IF(ISERROR(VLOOKUP($E192,新規登録!$B:$I,3,0)),\"未登録\",VLOOKUP($E192,新規登録!$B:$I,3,0)),(VLOOKUP($E192,氏名ﾃﾞｰﾀ!$B:$J,3,0))))","v":""},{"$f":"IF($E192=\"\",\"\",IF(ISERROR(VLOOKUP($E192,氏名ﾃﾞｰﾀ!$B:$J,4,0)),IF(ISERROR(VLOOKUP($E192,新規登録!$B:$I,4,0)),\"未登録\",VLOOKUP($E192,新規登録!$B:$I,4,0)),(VLOOKUP($E192,氏名ﾃﾞｰﾀ!$B:$J,4,0))))","v":""},{"$f":"IF($E192=\"\",\"\",IF(ISERROR(VLOOKUP($E192,氏名ﾃﾞｰﾀ!$B:$J,5,0)),IF(ISERROR(VLOOKUP($E192,新規登録!$B:$I,5,0)),\"未登録\",VLOOKUP($E192,新規登録!$B:$I,5,0)),(VLOOKUP($E192,氏名ﾃﾞｰﾀ!$B:$J,5,0))))","v":""},{"$f":"IF($E192=\"\",\"\",IF(ISERROR(VLOOKUP($E192,氏名ﾃﾞｰﾀ!$B:$J,8,0)),IF(ISERROR(VLOOKUP($E192,新規登録!$B:$I,6,0)),\"未登録\",VLOOKUP($E192,新規登録!$B:$I,6,0)),(VLOOKUP($E192,氏名ﾃﾞｰﾀ!$B:$J,8,0))))","v":""},{"$f":"IF($E192=\"\",\"\",IF(ISERROR(VLOOKUP($E192,氏名ﾃﾞｰﾀ!$B:$J,7,0)),IF(ISERROR(VLOOKUP($E192,新規登録!$B:$I,7,0)),\"未登録\",VLOOKUP($E192,新規登録!$B:$I,7,0)),$G$3))","v":""},{"$f":"IF($E192=\"\",\"\",IF(ISERROR(VLOOKUP($E192,氏名ﾃﾞｰﾀ!$B:$J,6,0)),IF(ISERROR(VLOOKUP($E192,新規登録!$B:$I,8,0)),\"ﾅｼ\",VLOOKUP($E192,新規登録!$B:$I,8,0)),(VLOOKUP($E192,氏名ﾃﾞｰﾀ!$B:$J,6,0))))","v":""},{"$f":"IF($E192=\"\",\"\",IF(ISERROR(VLOOKUP($E192,氏名ﾃﾞｰﾀ!$B:$J,9,0)),IF(ISERROR(VLOOKUP($E192,新規登録!$B:$I,9,0)),\"未登録\",VLOOKUP($E192,新規登録!$B:$I,9,0)),(VLOOKUP($E192,氏名ﾃﾞｰﾀ!$B:$J,9,0))))","v":""},null,null,null,null,null,null,null,null,null,null,null,null,null,null,null,null,null,null,null,null,2,{"$f":"IF(N192=\"\",\"\",VLOOKUP(N192,ﾃﾞｰﾀ!A:D,4,0))","v":""},"秒","秒"]
["","",{"$f":"IF(E193=\"\",\"\",IF(AH193=1,COUNTIF(AH$16:AH193,1)*10+2001-10,COUNTIF(AH$16:AH193,2)*10+6001-10))","v":""},178,null,{"$f":"IF($E193=\"\",\"\",IF(ISERROR(VLOOKUP($E193,氏名ﾃﾞｰﾀ!$B:$J,2,0)),IF(ISERROR(VLOOKUP($E193,新規登録!$B:$I,2,0)),\"未登録\",VLOOKUP($E193,新規登録!$B:$I,2,0)),(VLOOKUP($E193,氏名ﾃﾞｰﾀ!$B:$J,2,0))))","v":""},{"$f":"IF($E193=\"\",\"\",IF(ISERROR(VLOOKUP($E193,氏名ﾃﾞｰﾀ!$B:$J,3,0)),IF(ISERROR(VLOOKUP($E193,新規登録!$B:$I,3,0)),\"未登録\",VLOOKUP($E193,新規登録!$B:$I,3,0)),(VLOOKUP($E193,氏名ﾃﾞｰﾀ!$B:$J,3,0))))","v":""},{"$f":"IF($E193=\"\",\"\",IF(ISERROR(VLOOKUP($E193,氏名ﾃﾞｰﾀ!$B:$J,4,0)),IF(ISERROR(VLOOKUP($E193,新規登録!$B:$I,4,0)),\"未登録\",VLOOKUP($E193,新規登録!$B:$I,4,0)),(VLOOKUP($E193,氏名ﾃﾞｰﾀ!$B:$J,4,0))))","v":""},{"$f":"IF($E193=\"\",\"\",IF(ISERROR(VLOOKUP($E193,氏名ﾃﾞｰﾀ!$B:$J,5,0)),IF(ISERROR(VLOOKUP($E193,新規登録!$B:$I,5,0)),\"未登録\",VLOOKUP($E193,新規登録!$B:$I,5,0)),(VLOOKUP($E193,氏名ﾃﾞｰﾀ!$B:$J,5,0))))","v":""},{"$f":"IF($E193=\"\",\"\",IF(ISERROR(VLOOKUP($E193,氏名ﾃﾞｰﾀ!$B:$J,8,0)),IF(ISERROR(VLOOKUP($E193,新規登録!$B:$I,6,0)),\"未登録\",VLOOKUP($E193,新規登録!$B:$I,6,0)),(VLOOKUP($E193,氏名ﾃﾞｰﾀ!$B:$J,8,0))))","v":""},{"$f":"IF($E193=\"\",\"\",IF(ISERROR(VLOOKUP($E193,氏名ﾃﾞｰﾀ!$B:$J,7,0)),IF(ISERROR(VLOOKUP($E193,新規登録!$B:$I,7,0)),\"未登録\",VLOOKUP($E193,新規登録!$B:$I,7,0)),$G$3))","v":""},{"$f":"IF($E193=\"\",\"\",IF(ISERROR(VLOOKUP($E193,氏名ﾃﾞｰﾀ!$B:$J,6,0)),IF(ISERROR(VLOOKUP($E193,新規登録!$B:$I,8,0)),\"ﾅｼ\",VLOOKUP($E193,新規登録!$B:$I,8,0)),(VLOOKUP($E193,氏名ﾃﾞｰﾀ!$B:$J,6,0))))","v":""},{"$f":"IF($E193=\"\",\"\",IF(ISERROR(VLOOKUP($E193,氏名ﾃﾞｰﾀ!$B:$J,9,0)),IF(ISERROR(VLOOKUP($E193,新規登録!$B:$I,9,0)),\"未登録\",VLOOKUP($E193,新規登録!$B:$I,9,0)),(VLOOKUP($E193,氏名ﾃﾞｰﾀ!$B:$J,9,0))))","v":""},null,null,null,null,null,null,null,null,null,null,null,null,null,null,null,null,null,null,null,null,2,{"$f":"IF(N193=\"\",\"\",VLOOKUP(N193,ﾃﾞｰﾀ!A:D,4,0))","v":""},"秒","秒"]
["","",{"$f":"IF(E194=\"\",\"\",IF(AH194=1,COUNTIF(AH$16:AH194,1)*10+2001-10,COUNTIF(AH$16:AH194,2)*10+6001-10))","v":""},179,null,{"$f":"IF($E194=\"\",\"\",IF(ISERROR(VLOOKUP($E194,氏名ﾃﾞｰﾀ!$B:$J,2,0)),IF(ISERROR(VLOOKUP($E194,新規登録!$B:$I,2,0)),\"未登録\",VLOOKUP($E194,新規登録!$B:$I,2,0)),(VLOOKUP($E194,氏名ﾃﾞｰﾀ!$B:$J,2,0))))","v":""},{"$f":"IF($E194=\"\",\"\",IF(ISERROR(VLOOKUP($E194,氏名ﾃﾞｰﾀ!$B:$J,3,0)),IF(ISERROR(VLOOKUP($E194,新規登録!$B:$I,3,0)),\"未登録\",VLOOKUP($E194,新規登録!$B:$I,3,0)),(VLOOKUP($E194,氏名ﾃﾞｰﾀ!$B:$J,3,0))))","v":""},{"$f":"IF($E194=\"\",\"\",IF(ISERROR(VLOOKUP($E194,氏名ﾃﾞｰﾀ!$B:$J,4,0)),IF(ISERROR(VLOOKUP($E194,新規登録!$B:$I,4,0)),\"未登録\",VLOOKUP($E194,新規登録!$B:$I,4,0)),(VLOOKUP($E194,氏名ﾃﾞｰﾀ!$B:$J,4,0))))","v":""},{"$f":"IF($E194=\"\",\"\",IF(ISERROR(VLOOKUP($E194,氏名ﾃﾞｰﾀ!$B:$J,5,0)),IF(ISERROR(VLOOKUP($E194,新規登録!$B:$I,5,0)),\"未登録\",VLOOKUP($E194,新規登録!$B:$I,5,0)),(VLOOKUP($E194,氏名ﾃﾞｰﾀ!$B:$J,5,0))))","v":""},{"$f":"IF($E194=\"\",\"\",IF(ISERROR(VLOOKUP($E194,氏名ﾃﾞｰﾀ!$B:$J,8,0)),IF(ISERROR(VLOOKUP($E194,新規登録!$B:$I,6,0)),\"未登録\",VLOOKUP($E194,新規登録!$B:$I,6,0)),(VLOOKUP($E194,氏名ﾃﾞｰﾀ!$B:$J,8,0))))","v":""},{"$f":"IF($E194=\"\",\"\",IF(ISERROR(VLOOKUP($E194,氏名ﾃﾞｰﾀ!$B:$J,7,0)),IF(ISERROR(VLOOKUP($E194,新規登録!$B:$I,7,0)),\"未登録\",VLOOKUP($E194,新規登録!$B:$I,7,0)),$G$3))","v":""},{"$f":"IF($E194=\"\",\"\",IF(ISERROR(VLOOKUP($E194,氏名ﾃﾞｰﾀ!$B:$J,6,0)),IF(ISERROR(VLOOKUP($E194,新規登録!$B:$I,8,0)),\"ﾅｼ\",VLOOKUP($E194,新規登録!$B:$I,8,0)),(VLOOKUP($E194,氏名ﾃﾞｰﾀ!$B:$J,6,0))))","v":""},{"$f":"IF($E194=\"\",\"\",IF(ISERROR(VLOOKUP($E194,氏名ﾃﾞｰﾀ!$B:$J,9,0)),IF(ISERROR(VLOOKUP($E194,新規登録!$B:$I,9,0)),\"未登録\",VLOOKUP($E194,新規登録!$B:$I,9,0)),(VLOOKUP($E194,氏名ﾃﾞｰﾀ!$B:$J,9,0))))","v":""},null,null,null,null,null,null,null,null,null,null,null,null,null,null,null,null,null,null,null,null,2,{"$f":"IF(N194=\"\",\"\",VLOOKUP(N194,ﾃﾞｰﾀ!A:D,4,0))","v":""},"秒","秒"]
["","",{"$f":"IF(E195=\"\",\"\",IF(AH195=1,COUNTIF(AH$16:AH195,1)*10+2001-10,COUNTIF(AH$16:AH195,2)*10+6001-10))","v":""},180,null,{"$f":"IF($E195=\"\",\"\",IF(ISERROR(VLOOKUP($E195,氏名ﾃﾞｰﾀ!$B:$J,2,0)),IF(ISERROR(VLOOKUP($E195,新規登録!$B:$I,2,0)),\"未登録\",VLOOKUP($E195,新規登録!$B:$I,2,0)),(VLOOKUP($E195,氏名ﾃﾞｰﾀ!$B:$J,2,0))))","v":""},{"$f":"IF($E195=\"\",\"\",IF(ISERROR(VLOOKUP($E195,氏名ﾃﾞｰﾀ!$B:$J,3,0)),IF(ISERROR(VLOOKUP($E195,新規登録!$B:$I,3,0)),\"未登録\",VLOOKUP($E195,新規登録!$B:$I,3,0)),(VLOOKUP($E195,氏名ﾃﾞｰﾀ!$B:$J,3,0))))","v":""},{"$f":"IF($E195=\"\",\"\",IF(ISERROR(VLOOKUP($E195,氏名ﾃﾞｰﾀ!$B:$J,4,0)),IF(ISERROR(VLOOKUP($E195,新規登録!$B:$I,4,0)),\"未登録\",VLOOKUP($E195,新規登録!$B:$I,4,0)),(VLOOKUP($E195,氏名ﾃﾞｰﾀ!$B:$J,4,0))))","v":""},{"$f":"IF($E195=\"\",\"\",IF(ISERROR(VLOOKUP($E195,氏名ﾃﾞｰﾀ!$B:$J,5,0)),IF(ISERROR(VLOOKUP($E195,新規登録!$B:$I,5,0)),\"未登録\",VLOOKUP($E195,新規登録!$B:$I,5,0)),(VLOOKUP($E195,氏名ﾃﾞｰﾀ!$B:$J,5,0))))","v":""},{"$f":"IF($E195=\"\",\"\",IF(ISERROR(VLOOKUP($E195,氏名ﾃﾞｰﾀ!$B:$J,8,0)),IF(ISERROR(VLOOKUP($E195,新規登録!$B:$I,6,0)),\"未登録\",VLOOKUP($E195,新規登録!$B:$I,6,0)),(VLOOKUP($E195,氏名ﾃﾞｰﾀ!$B:$J,8,0))))","v":""},{"$f":"IF($E195=\"\",\"\",IF(ISERROR(VLOOKUP($E195,氏名ﾃﾞｰﾀ!$B:$J,7,0)),IF(ISERROR(VLOOKUP($E195,新規登録!$B:$I,7,0)),\"未登録\",VLOOKUP($E195,新規登録!$B:$I,7,0)),$G$3))","v":""},{"$f":"IF($E195=\"\",\"\",IF(ISERROR(VLOOKUP($E195,氏名ﾃﾞｰﾀ!$B:$J,6,0)),IF(ISERROR(VLOOKUP($E195,新規登録!$B:$I,8,0)),\"ﾅｼ\",VLOOKUP($E195,新規登録!$B:$I,8,0)),(VLOOKUP($E195,氏名ﾃﾞｰﾀ!$B:$J,6,0))))","v":""},{"$f":"IF($E195=\"\",\"\",IF(ISERROR(VLOOKUP($E195,氏名ﾃﾞｰﾀ!$B:$J,9,0)),IF(ISERROR(VLOOKUP($E195,新規登録!$B:$I,9,0)),\"未登録\",VLOOKUP($E195,新規登録!$B:$I,9,0)),(VLOOKUP($E195,氏名ﾃﾞｰﾀ!$B:$J,9,0))))","v":""},null,null,null,null,null,null,null,null,null,null,null,null,null,null,null,null,null,null,null,null,2,{"$f":"IF(N195=\"\",\"\",VLOOKUP(N195,ﾃﾞｰﾀ!A:D,4,0))","v":""},"秒","秒"]
["","",{"$f":"IF(E196=\"\",\"\",IF(AH196=1,COUNTIF(AH$16:AH196,1)*10+2001-10,COUNTIF(AH$16:AH196,2)*10+6001-10))","v":""},181,null,{"$f":"IF($E196=\"\",\"\",IF(ISERROR(VLOOKUP($E196,氏名ﾃﾞｰﾀ!$B:$J,2,0)),IF(ISERROR(VLOOKUP($E196,新規登録!$B:$I,2,0)),\"未登録\",VLOOKUP($E196,新規登録!$B:$I,2,0)),(VLOOKUP($E196,氏名ﾃﾞｰﾀ!$B:$J,2,0))))","v":""},{"$f":"IF($E196=\"\",\"\",IF(ISERROR(VLOOKUP($E196,氏名ﾃﾞｰﾀ!$B:$J,3,0)),IF(ISERROR(VLOOKUP($E196,新規登録!$B:$I,3,0)),\"未登録\",VLOOKUP($E196,新規登録!$B:$I,3,0)),(VLOOKUP($E196,氏名ﾃﾞｰﾀ!$B:$J,3,0))))","v":""},{"$f":"IF($E196=\"\",\"\",IF(ISERROR(VLOOKUP($E196,氏名ﾃﾞｰﾀ!$B:$J,4,0)),IF(ISERROR(VLOOKUP($E196,新規登録!$B:$I,4,0)),\"未登録\",VLOOKUP($E196,新規登録!$B:$I,4,0)),(VLOOKUP($E196,氏名ﾃﾞｰﾀ!$B:$J,4,0))))","v":""},{"$f":"IF($E196=\"\",\"\",IF(ISERROR(VLOOKUP($E196,氏名ﾃﾞｰﾀ!$B:$J,5,0)),IF(ISERROR(VLOOKUP($E196,新規登録!$B:$I,5,0)),\"未登録\",VLOOKUP($E196,新規登録!$B:$I,5,0)),(VLOOKUP($E196,氏名ﾃﾞｰﾀ!$B:$J,5,0))))","v":""},{"$f":"IF($E196=\"\",\"\",IF(ISERROR(VLOOKUP($E196,氏名ﾃﾞｰﾀ!$B:$J,8,0)),IF(ISERROR(VLOOKUP($E196,新規登録!$B:$I,6,0)),\"未登録\",VLOOKUP($E196,新規登録!$B:$I,6,0)),(VLOOKUP($E196,氏名ﾃﾞｰﾀ!$B:$J,8,0))))","v":""},{"$f":"IF($E196=\"\",\"\",IF(ISERROR(VLOOKUP($E196,氏名ﾃﾞｰﾀ!$B:$J,7,0)),IF(ISERROR(VLOOKUP($E196,新規登録!$B:$I,7,0)),\"未登録\",VLOOKUP($E196,新規登録!$B:$I,7,0)),$G$3))","v":""},{"$f":"IF($E196=\"\",\"\",IF(ISERROR(VLOOKUP($E196,氏名ﾃﾞｰﾀ!$B:$J,6,0)),IF(ISERROR(VLOOKUP($E196,新規登録!$B:$I,8,0)),\"ﾅｼ\",VLOOKUP($E196,新規登録!$B:$I,8,0)),(VLOOKUP($E196,氏名ﾃﾞｰﾀ!$B:$J,6,0))))","v":""},{"$f":"IF($E196=\"\",\"\",IF(ISERROR(VLOOKUP($E196,氏名ﾃﾞｰﾀ!$B:$J,9,0)),IF(ISERROR(VLOOKUP($E196,新規登録!$B:$I,9,0)),\"未登録\",VLOOKUP($E196,新規登録!$B:$I,9,0)),(VLOOKUP($E196,氏名ﾃﾞｰﾀ!$B:$J,9,0))))","v":""},null,null,null,null,null,null,null,null,null,null,null,null,null,null,null,null,null,null,null,null,2,{"$f":"IF(N196=\"\",\"\",VLOOKUP(N196,ﾃﾞｰﾀ!A:D,4,0))","v":""},"秒","秒"]
["","",{"$f":"IF(E197=\"\",\"\",IF(AH197=1,COUNTIF(AH$16:AH197,1)*10+2001-10,COUNTIF(AH$16:AH197,2)*10+6001-10))","v":""},182,null,{"$f":"IF($E197=\"\",\"\",IF(ISERROR(VLOOKUP($E197,氏名ﾃﾞｰﾀ!$B:$J,2,0)),IF(ISERROR(VLOOKUP($E197,新規登録!$B:$I,2,0)),\"未登録\",VLOOKUP($E197,新規登録!$B:$I,2,0)),(VLOOKUP($E197,氏名ﾃﾞｰﾀ!$B:$J,2,0))))","v":""},{"$f":"IF($E197=\"\",\"\",IF(ISERROR(VLOOKUP($E197,氏名ﾃﾞｰﾀ!$B:$J,3,0)),IF(ISERROR(VLOOKUP($E197,新規登録!$B:$I,3,0)),\"未登録\",VLOOKUP($E197,新規登録!$B:$I,3,0)),(VLOOKUP($E197,氏名ﾃﾞｰﾀ!$B:$J,3,0))))","v":""},{"$f":"IF($E197=\"\",\"\",IF(ISERROR(VLOOKUP($E197,氏名ﾃﾞｰﾀ!$B:$J,4,0)),IF(ISERROR(VLOOKUP($E197,新規登録!$B:$I,4,0)),\"未登録\",VLOOKUP($E197,新規登録!$B:$I,4,0)),(VLOOKUP($E197,氏名ﾃﾞｰﾀ!$B:$J,4,0))))","v":""},{"$f":"IF($E197=\"\",\"\",IF(ISERROR(VLOOKUP($E197,氏名ﾃﾞｰﾀ!$B:$J,5,0)),IF(ISERROR(VLOOKUP($E197,新規登録!$B:$I,5,0)),\"未登録\",VLOOKUP($E197,新規登録!$B:$I,5,0)),(VLOOKUP($E197,氏名ﾃﾞｰﾀ!$B:$J,5,0))))","v":""},{"$f":"IF($E197=\"\",\"\",IF(ISERROR(VLOOKUP($E197,氏名ﾃﾞｰﾀ!$B:$J,8,0)),IF(ISERROR(VLOOKUP($E197,新規登録!$B:$I,6,0)),\"未登録\",VLOOKUP($E197,新規登録!$B:$I,6,0)),(VLOOKUP($E197,氏名ﾃﾞｰﾀ!$B:$J,8,0))))","v":""},{"$f":"IF($E197=\"\",\"\",IF(ISERROR(VLOOKUP($E197,氏名ﾃﾞｰﾀ!$B:$J,7,0)),IF(ISERROR(VLOOKUP($E197,新規登録!$B:$I,7,0)),\"未登録\",VLOOKUP($E197,新規登録!$B:$I,7,0)),$G$3))","v":""},{"$f":"IF($E197=\"\",\"\",IF(ISERROR(VLOOKUP($E197,氏名ﾃﾞｰﾀ!$B:$J,6,0)),IF(ISERROR(VLOOKUP($E197,新規登録!$B:$I,8,0)),\"ﾅｼ\",VLOOKUP($E197,新規登録!$B:$I,8,0)),(VLOOKUP($E197,氏名ﾃﾞｰﾀ!$B:$J,6,0))))","v":""},{"$f":"IF($E197=\"\",\"\",IF(ISERROR(VLOOKUP($E197,氏名ﾃﾞｰﾀ!$B:$J,9,0)),IF(ISERROR(VLOOKUP($E197,新規登録!$B:$I,9,0)),\"未登録\",VLOOKUP($E197,新規登録!$B:$I,9,0)),(VLOOKUP($E197,氏名ﾃﾞｰﾀ!$B:$J,9,0))))","v":""},null,null,null,null,null,null,null,null,null,null,null,null,null,null,null,null,null,null,null,null,2,{"$f":"IF(N197=\"\",\"\",VLOOKUP(N197,ﾃﾞｰﾀ!A:D,4,0))","v":""},"秒","秒"]
["","",{"$f":"IF(E198=\"\",\"\",IF(AH198=1,COUNTIF(AH$16:AH198,1)*10+2001-10,COUNTIF(AH$16:AH198,2)*10+6001-10))","v":""},183,null,{"$f":"IF($E198=\"\",\"\",IF(ISERROR(VLOOKUP($E198,氏名ﾃﾞｰﾀ!$B:$J,2,0)),IF(ISERROR(VLOOKUP($E198,新規登録!$B:$I,2,0)),\"未登録\",VLOOKUP($E198,新規登録!$B:$I,2,0)),(VLOOKUP($E198,氏名ﾃﾞｰﾀ!$B:$J,2,0))))","v":""},{"$f":"IF($E198=\"\",\"\",IF(ISERROR(VLOOKUP($E198,氏名ﾃﾞｰﾀ!$B:$J,3,0)),IF(ISERROR(VLOOKUP($E198,新規登録!$B:$I,3,0)),\"未登録\",VLOOKUP($E198,新規登録!$B:$I,3,0)),(VLOOKUP($E198,氏名ﾃﾞｰﾀ!$B:$J,3,0))))","v":""},{"$f":"IF($E198=\"\",\"\",IF(ISERROR(VLOOKUP($E198,氏名ﾃﾞｰﾀ!$B:$J,4,0)),IF(ISERROR(VLOOKUP($E198,新規登録!$B:$I,4,0)),\"未登録\",VLOOKUP($E198,新規登録!$B:$I,4,0)),(VLOOKUP($E198,氏名ﾃﾞｰﾀ!$B:$J,4,0))))","v":""},{"$f":"IF($E198=\"\",\"\",IF(ISERROR(VLOOKUP($E198,氏名ﾃﾞｰﾀ!$B:$J,5,0)),IF(ISERROR(VLOOKUP($E198,新規登録!$B:$I,5,0)),\"未登録\",VLOOKUP($E198,新規登録!$B:$I,5,0)),(VLOOKUP($E198,氏名ﾃﾞｰﾀ!$B:$J,5,0))))","v":""},{"$f":"IF($E198=\"\",\"\",IF(ISERROR(VLOOKUP($E198,氏名ﾃﾞｰﾀ!$B:$J,8,0)),IF(ISERROR(VLOOKUP($E198,新規登録!$B:$I,6,0)),\"未登録\",VLOOKUP($E198,新規登録!$B:$I,6,0)),(VLOOKUP($E198,氏名ﾃﾞｰﾀ!$B:$J,8,0))))","v":""},{"$f":"IF($E198=\"\",\"\",IF(ISERROR(VLOOKUP($E198,氏名ﾃﾞｰﾀ!$B:$J,7,0)),IF(ISERROR(VLOOKUP($E198,新規登録!$B:$I,7,0)),\"未登録\",VLOOKUP($E198,新規登録!$B:$I,7,0)),$G$3))","v":""},{"$f":"IF($E198=\"\",\"\",IF(ISERROR(VLOOKUP($E198,氏名ﾃﾞｰﾀ!$B:$J,6,0)),IF(ISERROR(VLOOKUP($E198,新規登録!$B:$I,8,0)),\"ﾅｼ\",VLOOKUP($E198,新規登録!$B:$I,8,0)),(VLOOKUP($E198,氏名ﾃﾞｰﾀ!$B:$J,6,0))))","v":""},{"$f":"IF($E198=\"\",\"\",IF(ISERROR(VLOOKUP($E198,氏名ﾃﾞｰﾀ!$B:$J,9,0)),IF(ISERROR(VLOOKUP($E198,新規登録!$B:$I,9,0)),\"未登録\",VLOOKUP($E198,新規登録!$B:$I,9,0)),(VLOOKUP($E198,氏名ﾃﾞｰﾀ!$B:$J,9,0))))","v":""},null,null,null,null,null,null,null,null,null,null,null,null,null,null,null,null,null,null,null,null,2,{"$f":"IF(N198=\"\",\"\",VLOOKUP(N198,ﾃﾞｰﾀ!A:D,4,0))","v":""},"秒","秒"]
["","",{"$f":"IF(E199=\"\",\"\",IF(AH199=1,COUNTIF(AH$16:AH199,1)*10+2001-10,COUNTIF(AH$16:AH199,2)*10+6001-10))","v":""},184,null,{"$f":"IF($E199=\"\",\"\",IF(ISERROR(VLOOKUP($E199,氏名ﾃﾞｰﾀ!$B:$J,2,0)),IF(ISERROR(VLOOKUP($E199,新規登録!$B:$I,2,0)),\"未登録\",VLOOKUP($E199,新規登録!$B:$I,2,0)),(VLOOKUP($E199,氏名ﾃﾞｰﾀ!$B:$J,2,0))))","v":""},{"$f":"IF($E199=\"\",\"\",IF(ISERROR(VLOOKUP($E199,氏名ﾃﾞｰﾀ!$B:$J,3,0)),IF(ISERROR(VLOOKUP($E199,新規登録!$B:$I,3,0)),\"未登録\",VLOOKUP($E199,新規登録!$B:$I,3,0)),(VLOOKUP($E199,氏名ﾃﾞｰﾀ!$B:$J,3,0))))","v":""},{"$f":"IF($E199=\"\",\"\",IF(ISERROR(VLOOKUP($E199,氏名ﾃﾞｰﾀ!$B:$J,4,0)),IF(ISERROR(VLOOKUP($E199,新規登録!$B:$I,4,0)),\"未登録\",VLOOKUP($E199,新規登録!$B:$I,4,0)),(VLOOKUP($E199,氏名ﾃﾞｰﾀ!$B:$J,4,0))))","v":""},{"$f":"IF($E199=\"\",\"\",IF(ISERROR(VLOOKUP($E199,氏名ﾃﾞｰﾀ!$B:$J,5,0)),IF(ISERROR(VLOOKUP($E199,新規登録!$B:$I,5,0)),\"未登録\",VLOOKUP($E199,新規登録!$B:$I,5,0)),(VLOOKUP($E199,氏名ﾃﾞｰﾀ!$B:$J,5,0))))","v":""},{"$f":"IF($E199=\"\",\"\",IF(ISERROR(VLOOKUP($E199,氏名ﾃﾞｰﾀ!$B:$J,8,0)),IF(ISERROR(VLOOKUP($E199,新規登録!$B:$I,6,0)),\"未登録\",VLOOKUP($E199,新規登録!$B:$I,6,0)),(VLOOKUP($E199,氏名ﾃﾞｰﾀ!$B:$J,8,0))))","v":""},{"$f":"IF($E199=\"\",\"\",IF(ISERROR(VLOOKUP($E199,氏名ﾃﾞｰﾀ!$B:$J,7,0)),IF(ISERROR(VLOOKUP($E199,新規登録!$B:$I,7,0)),\"未登録\",VLOOKUP($E199,新規登録!$B:$I,7,0)),$G$3))","v":""},{"$f":"IF($E199=\"\",\"\",IF(ISERROR(VLOOKUP($E199,氏名ﾃﾞｰﾀ!$B:$J,6,0)),IF(ISERROR(VLOOKUP($E199,新規登録!$B:$I,8,0)),\"ﾅｼ\",VLOOKUP($E199,新規登録!$B:$I,8,0)),(VLOOKUP($E199,氏名ﾃﾞｰﾀ!$B:$J,6,0))))","v":""},{"$f":"IF($E199=\"\",\"\",IF(ISERROR(VLOOKUP($E199,氏名ﾃﾞｰﾀ!$B:$J,9,0)),IF(ISERROR(VLOOKUP($E199,新規登録!$B:$I,9,0)),\"未登録\",VLOOKUP($E199,新規登録!$B:$I,9,0)),(VLOOKUP($E199,氏名ﾃﾞｰﾀ!$B:$J,9,0))))","v":""},null,null,null,null,null,null,null,null,null,null,null,null,null,null,null,null,null,null,null,null,2,{"$f":"IF(N199=\"\",\"\",VLOOKUP(N199,ﾃﾞｰﾀ!A:D,4,0))","v":""},"秒","秒"]
["","",{"$f":"IF(E200=\"\",\"\",IF(AH200=1,COUNTIF(AH$16:AH200,1)*10+2001-10,COUNTIF(AH$16:AH200,2)*10+6001-10))","v":""},185,null,{"$f":"IF($E200=\"\",\"\",IF(ISERROR(VLOOKUP($E200,氏名ﾃﾞｰﾀ!$B:$J,2,0)),IF(ISERROR(VLOOKUP($E200,新規登録!$B:$I,2,0)),\"未登録\",VLOOKUP($E200,新規登録!$B:$I,2,0)),(VLOOKUP($E200,氏名ﾃﾞｰﾀ!$B:$J,2,0))))","v":""},{"$f":"IF($E200=\"\",\"\",IF(ISERROR(VLOOKUP($E200,氏名ﾃﾞｰﾀ!$B:$J,3,0)),IF(ISERROR(VLOOKUP($E200,新規登録!$B:$I,3,0)),\"未登録\",VLOOKUP($E200,新規登録!$B:$I,3,0)),(VLOOKUP($E200,氏名ﾃﾞｰﾀ!$B:$J,3,0))))","v":""},{"$f":"IF($E200=\"\",\"\",IF(ISERROR(VLOOKUP($E200,氏名ﾃﾞｰﾀ!$B:$J,4,0)),IF(ISERROR(VLOOKUP($E200,新規登録!$B:$I,4,0)),\"未登録\",VLOOKUP($E200,新規登録!$B:$I,4,0)),(VLOOKUP($E200,氏名ﾃﾞｰﾀ!$B:$J,4,0))))","v":""},{"$f":"IF($E200=\"\",\"\",IF(ISERROR(VLOOKUP($E200,氏名ﾃﾞｰﾀ!$B:$J,5,0)),IF(ISERROR(VLOOKUP($E200,新規登録!$B:$I,5,0)),\"未登録\",VLOOKUP($E200,新規登録!$B:$I,5,0)),(VLOOKUP($E200,氏名ﾃﾞｰﾀ!$B:$J,5,0))))","v":""},{"$f":"IF($E200=\"\",\"\",IF(ISERROR(VLOOKUP($E200,氏名ﾃﾞｰﾀ!$B:$J,8,0)),IF(ISERROR(VLOOKUP($E200,新規登録!$B:$I,6,0)),\"未登録\",VLOOKUP($E200,新規登録!$B:$I,6,0)),(VLOOKUP($E200,氏名ﾃﾞｰﾀ!$B:$J,8,0))))","v":""},{"$f":"IF($E200=\"\",\"\",IF(ISERROR(VLOOKUP($E200,氏名ﾃﾞｰﾀ!$B:$J,7,0)),IF(ISERROR(VLOOKUP($E200,新規登録!$B:$I,7,0)),\"未登録\",VLOOKUP($E200,新規登録!$B:$I,7,0)),$G$3))","v":""},{"$f":"IF($E200=\"\",\"\",IF(ISERROR(VLOOKUP($E200,氏名ﾃﾞｰﾀ!$B:$J,6,0)),IF(ISERROR(VLOOKUP($E200,新規登録!$B:$I,8,0)),\"ﾅｼ\",VLOOKUP($E200,新規登録!$B:$I,8,0)),(VLOOKUP($E200,氏名ﾃﾞｰﾀ!$B:$J,6,0))))","v":""},{"$f":"IF($E200=\"\",\"\",IF(ISERROR(VLOOKUP($E200,氏名ﾃﾞｰﾀ!$B:$J,9,0)),IF(ISERROR(VLOOKUP($E200,新規登録!$B:$I,9,0)),\"未登録\",VLOOKUP($E200,新規登録!$B:$I,9,0)),(VLOOKUP($E200,氏名ﾃﾞｰﾀ!$B:$J,9,0))))","v":""},null,null,null,null,null,null,null,null,null,null,null,null,null,null,null,null,null,null,null,null,2,{"$f":"IF(N200=\"\",\"\",VLOOKUP(N200,ﾃﾞｰﾀ!A:D,4,0))","v":""},"秒","秒"]
["","",{"$f":"IF(E201=\"\",\"\",IF(AH201=1,COUNTIF(AH$16:AH201,1)*10+2001-10,COUNTIF(AH$16:AH201,2)*10+6001-10))","v":""},186,null,{"$f":"IF($E201=\"\",\"\",IF(ISERROR(VLOOKUP($E201,氏名ﾃﾞｰﾀ!$B:$J,2,0)),IF(ISERROR(VLOOKUP($E201,新規登録!$B:$I,2,0)),\"未登録\",VLOOKUP($E201,新規登録!$B:$I,2,0)),(VLOOKUP($E201,氏名ﾃﾞｰﾀ!$B:$J,2,0))))","v":""},{"$f":"IF($E201=\"\",\"\",IF(ISERROR(VLOOKUP($E201,氏名ﾃﾞｰﾀ!$B:$J,3,0)),IF(ISERROR(VLOOKUP($E201,新規登録!$B:$I,3,0)),\"未登録\",VLOOKUP($E201,新規登録!$B:$I,3,0)),(VLOOKUP($E201,氏名ﾃﾞｰﾀ!$B:$J,3,0))))","v":""},{"$f":"IF($E201=\"\",\"\",IF(ISERROR(VLOOKUP($E201,氏名ﾃﾞｰﾀ!$B:$J,4,0)),IF(ISERROR(VLOOKUP($E201,新規登録!$B:$I,4,0)),\"未登録\",VLOOKUP($E201,新規登録!$B:$I,4,0)),(VLOOKUP($E201,氏名ﾃﾞｰﾀ!$B:$J,4,0))))","v":""},{"$f":"IF($E201=\"\",\"\",IF(ISERROR(VLOOKUP($E201,氏名ﾃﾞｰﾀ!$B:$J,5,0)),IF(ISERROR(VLOOKUP($E201,新規登録!$B:$I,5,0)),\"未登録\",VLOOKUP($E201,新規登録!$B:$I,5,0)),(VLOOKUP($E201,氏名ﾃﾞｰﾀ!$B:$J,5,0))))","v":""},{"$f":"IF($E201=\"\",\"\",IF(ISERROR(VLOOKUP($E201,氏名ﾃﾞｰﾀ!$B:$J,8,0)),IF(ISERROR(VLOOKUP($E201,新規登録!$B:$I,6,0)),\"未登録\",VLOOKUP($E201,新規登録!$B:$I,6,0)),(VLOOKUP($E201,氏名ﾃﾞｰﾀ!$B:$J,8,0))))","v":""},{"$f":"IF($E201=\"\",\"\",IF(ISERROR(VLOOKUP($E201,氏名ﾃﾞｰﾀ!$B:$J,7,0)),IF(ISERROR(VLOOKUP($E201,新規登録!$B:$I,7,0)),\"未登録\",VLOOKUP($E201,新規登録!$B:$I,7,0)),$G$3))","v":""},{"$f":"IF($E201=\"\",\"\",IF(ISERROR(VLOOKUP($E201,氏名ﾃﾞｰﾀ!$B:$J,6,0)),IF(ISERROR(VLOOKUP($E201,新規登録!$B:$I,8,0)),\"ﾅｼ\",VLOOKUP($E201,新規登録!$B:$I,8,0)),(VLOOKUP($E201,氏名ﾃﾞｰﾀ!$B:$J,6,0))))","v":""},{"$f":"IF($E201=\"\",\"\",IF(ISERROR(VLOOKUP($E201,氏名ﾃﾞｰﾀ!$B:$J,9,0)),IF(ISERROR(VLOOKUP($E201,新規登録!$B:$I,9,0)),\"未登録\",VLOOKUP($E201,新規登録!$B:$I,9,0)),(VLOOKUP($E201,氏名ﾃﾞｰﾀ!$B:$J,9,0))))","v":""},null,null,null,null,null,null,null,null,null,null,null,null,null,null,null,null,null,null,null,null,2,{"$f":"IF(N201=\"\",\"\",VLOOKUP(N201,ﾃﾞｰﾀ!A:D,4,0))","v":""},"秒","秒"]
["","",{"$f":"IF(E202=\"\",\"\",IF(AH202=1,COUNTIF(AH$16:AH202,1)*10+2001-10,COUNTIF(AH$16:AH202,2)*10+6001-10))","v":""},187,null,{"$f":"IF($E202=\"\",\"\",IF(ISERROR(VLOOKUP($E202,氏名ﾃﾞｰﾀ!$B:$J,2,0)),IF(ISERROR(VLOOKUP($E202,新規登録!$B:$I,2,0)),\"未登録\",VLOOKUP($E202,新規登録!$B:$I,2,0)),(VLOOKUP($E202,氏名ﾃﾞｰﾀ!$B:$J,2,0))))","v":""},{"$f":"IF($E202=\"\",\"\",IF(ISERROR(VLOOKUP($E202,氏名ﾃﾞｰﾀ!$B:$J,3,0)),IF(ISERROR(VLOOKUP($E202,新規登録!$B:$I,3,0)),\"未登録\",VLOOKUP($E202,新規登録!$B:$I,3,0)),(VLOOKUP($E202,氏名ﾃﾞｰﾀ!$B:$J,3,0))))","v":""},{"$f":"IF($E202=\"\",\"\",IF(ISERROR(VLOOKUP($E202,氏名ﾃﾞｰﾀ!$B:$J,4,0)),IF(ISERROR(VLOOKUP($E202,新規登録!$B:$I,4,0)),\"未登録\",VLOOKUP($E202,新規登録!$B:$I,4,0)),(VLOOKUP($E202,氏名ﾃﾞｰﾀ!$B:$J,4,0))))","v":""},{"$f":"IF($E202=\"\",\"\",IF(ISERROR(VLOOKUP($E202,氏名ﾃﾞｰﾀ!$B:$J,5,0)),IF(ISERROR(VLOOKUP($E202,新規登録!$B:$I,5,0)),\"未登録\",VLOOKUP($E202,新規登録!$B:$I,5,0)),(VLOOKUP($E202,氏名ﾃﾞｰﾀ!$B:$J,5,0))))","v":""},{"$f":"IF($E202=\"\",\"\",IF(ISERROR(VLOOKUP($E202,氏名ﾃﾞｰﾀ!$B:$J,8,0)),IF(ISERROR(VLOOKUP($E202,新規登録!$B:$I,6,0)),\"未登録\",VLOOKUP($E202,新規登録!$B:$I,6,0)),(VLOOKUP($E202,氏名ﾃﾞｰﾀ!$B:$J,8,0))))","v":""},{"$f":"IF($E202=\"\",\"\",IF(ISERROR(VLOOKUP($E202,氏名ﾃﾞｰﾀ!$B:$J,7,0)),IF(ISERROR(VLOOKUP($E202,新規登録!$B:$I,7,0)),\"未登録\",VLOOKUP($E202,新規登録!$B:$I,7,0)),$G$3))","v":""},{"$f":"IF($E202=\"\",\"\",IF(ISERROR(VLOOKUP($E202,氏名ﾃﾞｰﾀ!$B:$J,6,0)),IF(ISERROR(VLOOKUP($E202,新規登録!$B:$I,8,0)),\"ﾅｼ\",VLOOKUP($E202,新規登録!$B:$I,8,0)),(VLOOKUP($E202,氏名ﾃﾞｰﾀ!$B:$J,6,0))))","v":""},{"$f":"IF($E202=\"\",\"\",IF(ISERROR(VLOOKUP($E202,氏名ﾃﾞｰﾀ!$B:$J,9,0)),IF(ISERROR(VLOOKUP($E202,新規登録!$B:$I,9,0)),\"未登録\",VLOOKUP($E202,新規登録!$B:$I,9,0)),(VLOOKUP($E202,氏名ﾃﾞｰﾀ!$B:$J,9,0))))","v":""},null,null,null,null,null,null,null,null,null,null,null,null,null,null,null,null,null,null,null,null,2,{"$f":"IF(N202=\"\",\"\",VLOOKUP(N202,ﾃﾞｰﾀ!A:D,4,0))","v":""},"秒","秒"]
["","",{"$f":"IF(E203=\"\",\"\",IF(AH203=1,COUNTIF(AH$16:AH203,1)*10+2001-10,COUNTIF(AH$16:AH203,2)*10+6001-10))","v":""},188,null,{"$f":"IF($E203=\"\",\"\",IF(ISERROR(VLOOKUP($E203,氏名ﾃﾞｰﾀ!$B:$J,2,0)),IF(ISERROR(VLOOKUP($E203,新規登録!$B:$I,2,0)),\"未登録\",VLOOKUP($E203,新規登録!$B:$I,2,0)),(VLOOKUP($E203,氏名ﾃﾞｰﾀ!$B:$J,2,0))))","v":""},{"$f":"IF($E203=\"\",\"\",IF(ISERROR(VLOOKUP($E203,氏名ﾃﾞｰﾀ!$B:$J,3,0)),IF(ISERROR(VLOOKUP($E203,新規登録!$B:$I,3,0)),\"未登録\",VLOOKUP($E203,新規登録!$B:$I,3,0)),(VLOOKUP($E203,氏名ﾃﾞｰﾀ!$B:$J,3,0))))","v":""},{"$f":"IF($E203=\"\",\"\",IF(ISERROR(VLOOKUP($E203,氏名ﾃﾞｰﾀ!$B:$J,4,0)),IF(ISERROR(VLOOKUP($E203,新規登録!$B:$I,4,0)),\"未登録\",VLOOKUP($E203,新規登録!$B:$I,4,0)),(VLOOKUP($E203,氏名ﾃﾞｰﾀ!$B:$J,4,0))))","v":""},{"$f":"IF($E203=\"\",\"\",IF(ISERROR(VLOOKUP($E203,氏名ﾃﾞｰﾀ!$B:$J,5,0)),IF(ISERROR(VLOOKUP($E203,新規登録!$B:$I,5,0)),\"未登録\",VLOOKUP($E203,新規登録!$B:$I,5,0)),(VLOOKUP($E203,氏名ﾃﾞｰﾀ!$B:$J,5,0))))","v":""},{"$f":"IF($E203=\"\",\"\",IF(ISERROR(VLOOKUP($E203,氏名ﾃﾞｰﾀ!$B:$J,8,0)),IF(ISERROR(VLOOKUP($E203,新規登録!$B:$I,6,0)),\"未登録\",VLOOKUP($E203,新規登録!$B:$I,6,0)),(VLOOKUP($E203,氏名ﾃﾞｰﾀ!$B:$J,8,0))))","v":""},{"$f":"IF($E203=\"\",\"\",IF(ISERROR(VLOOKUP($E203,氏名ﾃﾞｰﾀ!$B:$J,7,0)),IF(ISERROR(VLOOKUP($E203,新規登録!$B:$I,7,0)),\"未登録\",VLOOKUP($E203,新規登録!$B:$I,7,0)),$G$3))","v":""},{"$f":"IF($E203=\"\",\"\",IF(ISERROR(VLOOKUP($E203,氏名ﾃﾞｰﾀ!$B:$J,6,0)),IF(ISERROR(VLOOKUP($E203,新規登録!$B:$I,8,0)),\"ﾅｼ\",VLOOKUP($E203,新規登録!$B:$I,8,0)),(VLOOKUP($E203,氏名ﾃﾞｰﾀ!$B:$J,6,0))))","v":""},{"$f":"IF($E203=\"\",\"\",IF(ISERROR(VLOOKUP($E203,氏名ﾃﾞｰﾀ!$B:$J,9,0)),IF(ISERROR(VLOOKUP($E203,新規登録!$B:$I,9,0)),\"未登録\",VLOOKUP($E203,新規登録!$B:$I,9,0)),(VLOOKUP($E203,氏名ﾃﾞｰﾀ!$B:$J,9,0))))","v":""},null,null,null,null,null,null,null,null,null,null,null,null,null,null,null,null,null,null,null,null,2,{"$f":"IF(N203=\"\",\"\",VLOOKUP(N203,ﾃﾞｰﾀ!A:D,4,0))","v":""},"秒","秒"]
["","",{"$f":"IF(E204=\"\",\"\",IF(AH204=1,COUNTIF(AH$16:AH204,1)*10+2001-10,COUNTIF(AH$16:AH204,2)*10+6001-10))","v":""},189,null,{"$f":"IF($E204=\"\",\"\",IF(ISERROR(VLOOKUP($E204,氏名ﾃﾞｰﾀ!$B:$J,2,0)),IF(ISERROR(VLOOKUP($E204,新規登録!$B:$I,2,0)),\"未登録\",VLOOKUP($E204,新規登録!$B:$I,2,0)),(VLOOKUP($E204,氏名ﾃﾞｰﾀ!$B:$J,2,0))))","v":""},{"$f":"IF($E204=\"\",\"\",IF(ISERROR(VLOOKUP($E204,氏名ﾃﾞｰﾀ!$B:$J,3,0)),IF(ISERROR(VLOOKUP($E204,新規登録!$B:$I,3,0)),\"未登録\",VLOOKUP($E204,新規登録!$B:$I,3,0)),(VLOOKUP($E204,氏名ﾃﾞｰﾀ!$B:$J,3,0))))","v":""},{"$f":"IF($E204=\"\",\"\",IF(ISERROR(VLOOKUP($E204,氏名ﾃﾞｰﾀ!$B:$J,4,0)),IF(ISERROR(VLOOKUP($E204,新規登録!$B:$I,4,0)),\"未登録\",VLOOKUP($E204,新規登録!$B:$I,4,0)),(VLOOKUP($E204,氏名ﾃﾞｰﾀ!$B:$J,4,0))))","v":""},{"$f":"IF($E204=\"\",\"\",IF(ISERROR(VLOOKUP($E204,氏名ﾃﾞｰﾀ!$B:$J,5,0)),IF(ISERROR(VLOOKUP($E204,新規登録!$B:$I,5,0)),\"未登録\",VLOOKUP($E204,新規登録!$B:$I,5,0)),(VLOOKUP($E204,氏名ﾃﾞｰﾀ!$B:$J,5,0))))","v":""},{"$f":"IF($E204=\"\",\"\",IF(ISERROR(VLOOKUP($E204,氏名ﾃﾞｰﾀ!$B:$J,8,0)),IF(ISERROR(VLOOKUP($E204,新規登録!$B:$I,6,0)),\"未登録\",VLOOKUP($E204,新規登録!$B:$I,6,0)),(VLOOKUP($E204,氏名ﾃﾞｰﾀ!$B:$J,8,0))))","v":""},{"$f":"IF($E204=\"\",\"\",IF(ISERROR(VLOOKUP($E204,氏名ﾃﾞｰﾀ!$B:$J,7,0)),IF(ISERROR(VLOOKUP($E204,新規登録!$B:$I,7,0)),\"未登録\",VLOOKUP($E204,新規登録!$B:$I,7,0)),$G$3))","v":""},{"$f":"IF($E204=\"\",\"\",IF(ISERROR(VLOOKUP($E204,氏名ﾃﾞｰﾀ!$B:$J,6,0)),IF(ISERROR(VLOOKUP($E204,新規登録!$B:$I,8,0)),\"ﾅｼ\",VLOOKUP($E204,新規登録!$B:$I,8,0)),(VLOOKUP($E204,氏名ﾃﾞｰﾀ!$B:$J,6,0))))","v":""},{"$f":"IF($E204=\"\",\"\",IF(ISERROR(VLOOKUP($E204,氏名ﾃﾞｰﾀ!$B:$J,9,0)),IF(ISERROR(VLOOKUP($E204,新規登録!$B:$I,9,0)),\"未登録\",VLOOKUP($E204,新規登録!$B:$I,9,0)),(VLOOKUP($E204,氏名ﾃﾞｰﾀ!$B:$J,9,0))))","v":""},null,null,null,null,null,null,null,null,null,null,null,null,null,null,null,null,null,null,null,null,2,{"$f":"IF(N204=\"\",\"\",VLOOKUP(N204,ﾃﾞｰﾀ!A:D,4,0))","v":""},"秒","秒"]
["","",{"$f":"IF(E205=\"\",\"\",IF(AH205=1,COUNTIF(AH$16:AH205,1)*10+2001-10,COUNTIF(AH$16:AH205,2)*10+6001-10))","v":""},190,null,{"$f":"IF($E205=\"\",\"\",IF(ISERROR(VLOOKUP($E205,氏名ﾃﾞｰﾀ!$B:$J,2,0)),IF(ISERROR(VLOOKUP($E205,新規登録!$B:$I,2,0)),\"未登録\",VLOOKUP($E205,新規登録!$B:$I,2,0)),(VLOOKUP($E205,氏名ﾃﾞｰﾀ!$B:$J,2,0))))","v":""},{"$f":"IF($E205=\"\",\"\",IF(ISERROR(VLOOKUP($E205,氏名ﾃﾞｰﾀ!$B:$J,3,0)),IF(ISERROR(VLOOKUP($E205,新規登録!$B:$I,3,0)),\"未登録\",VLOOKUP($E205,新規登録!$B:$I,3,0)),(VLOOKUP($E205,氏名ﾃﾞｰﾀ!$B:$J,3,0))))","v":""},{"$f":"IF($E205=\"\",\"\",IF(ISERROR(VLOOKUP($E205,氏名ﾃﾞｰﾀ!$B:$J,4,0)),IF(ISERROR(VLOOKUP($E205,新規登録!$B:$I,4,0)),\"未登録\",VLOOKUP($E205,新規登録!$B:$I,4,0)),(VLOOKUP($E205,氏名ﾃﾞｰﾀ!$B:$J,4,0))))","v":""},{"$f":"IF($E205=\"\",\"\",IF(ISERROR(VLOOKUP($E205,氏名ﾃﾞｰﾀ!$B:$J,5,0)),IF(ISERROR(VLOOKUP($E205,新規登録!$B:$I,5,0)),\"未登録\",VLOOKUP($E205,新規登録!$B:$I,5,0)),(VLOOKUP($E205,氏名ﾃﾞｰﾀ!$B:$J,5,0))))","v":""},{"$f":"IF($E205=\"\",\"\",IF(ISERROR(VLOOKUP($E205,氏名ﾃﾞｰﾀ!$B:$J,8,0)),IF(ISERROR(VLOOKUP($E205,新規登録!$B:$I,6,0)),\"未登録\",VLOOKUP($E205,新規登録!$B:$I,6,0)),(VLOOKUP($E205,氏名ﾃﾞｰﾀ!$B:$J,8,0))))","v":""},{"$f":"IF($E205=\"\",\"\",IF(ISERROR(VLOOKUP($E205,氏名ﾃﾞｰﾀ!$B:$J,7,0)),IF(ISERROR(VLOOKUP($E205,新規登録!$B:$I,7,0)),\"未登録\",VLOOKUP($E205,新規登録!$B:$I,7,0)),$G$3))","v":""},{"$f":"IF($E205=\"\",\"\",IF(ISERROR(VLOOKUP($E205,氏名ﾃﾞｰﾀ!$B:$J,6,0)),IF(ISERROR(VLOOKUP($E205,新規登録!$B:$I,8,0)),\"ﾅｼ\",VLOOKUP($E205,新規登録!$B:$I,8,0)),(VLOOKUP($E205,氏名ﾃﾞｰﾀ!$B:$J,6,0))))","v":""},{"$f":"IF($E205=\"\",\"\",IF(ISERROR(VLOOKUP($E205,氏名ﾃﾞｰﾀ!$B:$J,9,0)),IF(ISERROR(VLOOKUP($E205,新規登録!$B:$I,9,0)),\"未登録\",VLOOKUP($E205,新規登録!$B:$I,9,0)),(VLOOKUP($E205,氏名ﾃﾞｰﾀ!$B:$J,9,0))))","v":""},null,null,null,null,null,null,null,null,null,null,null,null,null,null,null,null,null,null,null,null,2,{"$f":"IF(N205=\"\",\"\",VLOOKUP(N205,ﾃﾞｰﾀ!A:D,4,0))","v":""},"秒","秒"]
["","",{"$f":"IF(E206=\"\",\"\",IF(AH206=1,COUNTIF(AH$16:AH206,1)*10+2001-10,COUNTIF(AH$16:AH206,2)*10+6001-10))","v":""},191,null,{"$f":"IF($E206=\"\",\"\",IF(ISERROR(VLOOKUP($E206,氏名ﾃﾞｰﾀ!$B:$J,2,0)),IF(ISERROR(VLOOKUP($E206,新規登録!$B:$I,2,0)),\"未登録\",VLOOKUP($E206,新規登録!$B:$I,2,0)),(VLOOKUP($E206,氏名ﾃﾞｰﾀ!$B:$J,2,0))))","v":""},{"$f":"IF($E206=\"\",\"\",IF(ISERROR(VLOOKUP($E206,氏名ﾃﾞｰﾀ!$B:$J,3,0)),IF(ISERROR(VLOOKUP($E206,新規登録!$B:$I,3,0)),\"未登録\",VLOOKUP($E206,新規登録!$B:$I,3,0)),(VLOOKUP($E206,氏名ﾃﾞｰﾀ!$B:$J,3,0))))","v":""},{"$f":"IF($E206=\"\",\"\",IF(ISERROR(VLOOKUP($E206,氏名ﾃﾞｰﾀ!$B:$J,4,0)),IF(ISERROR(VLOOKUP($E206,新規登録!$B:$I,4,0)),\"未登録\",VLOOKUP($E206,新規登録!$B:$I,4,0)),(VLOOKUP($E206,氏名ﾃﾞｰﾀ!$B:$J,4,0))))","v":""},{"$f":"IF($E206=\"\",\"\",IF(ISERROR(VLOOKUP($E206,氏名ﾃﾞｰﾀ!$B:$J,5,0)),IF(ISERROR(VLOOKUP($E206,新規登録!$B:$I,5,0)),\"未登録\",VLOOKUP($E206,新規登録!$B:$I,5,0)),(VLOOKUP($E206,氏名ﾃﾞｰﾀ!$B:$J,5,0))))","v":""},{"$f":"IF($E206=\"\",\"\",IF(ISERROR(VLOOKUP($E206,氏名ﾃﾞｰﾀ!$B:$J,8,0)),IF(ISERROR(VLOOKUP($E206,新規登録!$B:$I,6,0)),\"未登録\",VLOOKUP($E206,新規登録!$B:$I,6,0)),(VLOOKUP($E206,氏名ﾃﾞｰﾀ!$B:$J,8,0))))","v":""},{"$f":"IF($E206=\"\",\"\",IF(ISERROR(VLOOKUP($E206,氏名ﾃﾞｰﾀ!$B:$J,7,0)),IF(ISERROR(VLOOKUP($E206,新規登録!$B:$I,7,0)),\"未登録\",VLOOKUP($E206,新規登録!$B:$I,7,0)),$G$3))","v":""},{"$f":"IF($E206=\"\",\"\",IF(ISERROR(VLOOKUP($E206,氏名ﾃﾞｰﾀ!$B:$J,6,0)),IF(ISERROR(VLOOKUP($E206,新規登録!$B:$I,8,0)),\"ﾅｼ\",VLOOKUP($E206,新規登録!$B:$I,8,0)),(VLOOKUP($E206,氏名ﾃﾞｰﾀ!$B:$J,6,0))))","v":""},{"$f":"IF($E206=\"\",\"\",IF(ISERROR(VLOOKUP($E206,氏名ﾃﾞｰﾀ!$B:$J,9,0)),IF(ISERROR(VLOOKUP($E206,新規登録!$B:$I,9,0)),\"未登録\",VLOOKUP($E206,新規登録!$B:$I,9,0)),(VLOOKUP($E206,氏名ﾃﾞｰﾀ!$B:$J,9,0))))","v":""},null,null,null,null,null,null,null,null,null,null,null,null,null,null,null,null,null,null,null,null,2,{"$f":"IF(N206=\"\",\"\",VLOOKUP(N206,ﾃﾞｰﾀ!A:D,4,0))","v":""},"秒","秒"]
["","",{"$f":"IF(E207=\"\",\"\",IF(AH207=1,COUNTIF(AH$16:AH207,1)*10+2001-10,COUNTIF(AH$16:AH207,2)*10+6001-10))","v":""},192,null,{"$f":"IF($E207=\"\",\"\",IF(ISERROR(VLOOKUP($E207,氏名ﾃﾞｰﾀ!$B:$J,2,0)),IF(ISERROR(VLOOKUP($E207,新規登録!$B:$I,2,0)),\"未登録\",VLOOKUP($E207,新規登録!$B:$I,2,0)),(VLOOKUP($E207,氏名ﾃﾞｰﾀ!$B:$J,2,0))))","v":""},{"$f":"IF($E207=\"\",\"\",IF(ISERROR(VLOOKUP($E207,氏名ﾃﾞｰﾀ!$B:$J,3,0)),IF(ISERROR(VLOOKUP($E207,新規登録!$B:$I,3,0)),\"未登録\",VLOOKUP($E207,新規登録!$B:$I,3,0)),(VLOOKUP($E207,氏名ﾃﾞｰﾀ!$B:$J,3,0))))","v":""},{"$f":"IF($E207=\"\",\"\",IF(ISERROR(VLOOKUP($E207,氏名ﾃﾞｰﾀ!$B:$J,4,0)),IF(ISERROR(VLOOKUP($E207,新規登録!$B:$I,4,0)),\"未登録\",VLOOKUP($E207,新規登録!$B:$I,4,0)),(VLOOKUP($E207,氏名ﾃﾞｰﾀ!$B:$J,4,0))))","v":""},{"$f":"IF($E207=\"\",\"\",IF(ISERROR(VLOOKUP($E207,氏名ﾃﾞｰﾀ!$B:$J,5,0)),IF(ISERROR(VLOOKUP($E207,新規登録!$B:$I,5,0)),\"未登録\",VLOOKUP($E207,新規登録!$B:$I,5,0)),(VLOOKUP($E207,氏名ﾃﾞｰﾀ!$B:$J,5,0))))","v":""},{"$f":"IF($E207=\"\",\"\",IF(ISERROR(VLOOKUP($E207,氏名ﾃﾞｰﾀ!$B:$J,8,0)),IF(ISERROR(VLOOKUP($E207,新規登録!$B:$I,6,0)),\"未登録\",VLOOKUP($E207,新規登録!$B:$I,6,0)),(VLOOKUP($E207,氏名ﾃﾞｰﾀ!$B:$J,8,0))))","v":""},{"$f":"IF($E207=\"\",\"\",IF(ISERROR(VLOOKUP($E207,氏名ﾃﾞｰﾀ!$B:$J,7,0)),IF(ISERROR(VLOOKUP($E207,新規登録!$B:$I,7,0)),\"未登録\",VLOOKUP($E207,新規登録!$B:$I,7,0)),$G$3))","v":""},{"$f":"IF($E207=\"\",\"\",IF(ISERROR(VLOOKUP($E207,氏名ﾃﾞｰﾀ!$B:$J,6,0)),IF(ISERROR(VLOOKUP($E207,新規登録!$B:$I,8,0)),\"ﾅｼ\",VLOOKUP($E207,新規登録!$B:$I,8,0)),(VLOOKUP($E207,氏名ﾃﾞｰﾀ!$B:$J,6,0))))","v":""},{"$f":"IF($E207=\"\",\"\",IF(ISERROR(VLOOKUP($E207,氏名ﾃﾞｰﾀ!$B:$J,9,0)),IF(ISERROR(VLOOKUP($E207,新規登録!$B:$I,9,0)),\"未登録\",VLOOKUP($E207,新規登録!$B:$I,9,0)),(VLOOKUP($E207,氏名ﾃﾞｰﾀ!$B:$J,9,0))))","v":""},null,null,null,null,null,null,null,null,null,null,null,null,null,null,null,null,null,null,null,null,2,{"$f":"IF(N207=\"\",\"\",VLOOKUP(N207,ﾃﾞｰﾀ!A:D,4,0))","v":""},"秒","秒"]
[{"$f":"IF(Z208=\"\",\"\",IF(L208=\"男\",VLOOKUP(Z208,ﾘﾚｰｺｰﾄﾞ,2,0),VLOOKUP(Z208,ﾘﾚｰｺｰﾄﾞ,4,0)))","v":""},{"$f":"IF(AD208=\"\",\"\",IF(L208=\"男\",VLOOKUP(AD208,ﾘﾚｰｺｰﾄﾞ,3,0),VLOOKUP(AD208,ﾘﾚｰｺｰﾄﾞ,5,0)))","v":""},{"$f":"IF(E208=\"\",\"\",IF(AH208=1,COUNTIF(AH$16:AH208,1)*10+2001-10,COUNTIF(AH$16:AH208,2)*10+6001-10))","v":""},193,null,{"$f":"IF($E208=\"\",\"\",IF(ISERROR(VLOOKUP($E208,氏名ﾃﾞｰﾀ!$B:$J,2,0)),IF(ISERROR(VLOOKUP($E208,新規登録!$B:$I,2,0)),\"未登録\",VLOOKUP($E208,新規登録!$B:$I,2,0)),(VLOOKUP($E208,氏名ﾃﾞｰﾀ!$B:$J,2,0))))","v":""},{"$f":"IF($E208=\"\",\"\",IF(ISERROR(VLOOKUP($E208,氏名ﾃﾞｰﾀ!$B:$J,3,0)),IF(ISERROR(VLOOKUP($E208,新規登録!$B:$I,3,0)),\"未登録\",VLOOKUP($E208,新規登録!$B:$I,3,0)),(VLOOKUP($E208,氏名ﾃﾞｰﾀ!$B:$J,3,0))))","v":""},{"$f":"IF($E208=\"\",\"\",IF(ISERROR(VLOOKUP($E208,氏名ﾃﾞｰﾀ!$B:$J,4,0)),IF(ISERROR(VLOOKUP($E208,新規登録!$B:$I,4,0)),\"未登録\",VLOOKUP($E208,新規登録!$B:$I,4,0)),(VLOOKUP($E208,氏名ﾃﾞｰﾀ!$B:$J,4,0))))","v":""},{"$f":"IF($E208=\"\",\"\",IF(ISERROR(VLOOKUP($E208,氏名ﾃﾞｰﾀ!$B:$J,5,0)),IF(ISERROR(VLOOKUP($E208,新規登録!$B:$I,5,0)),\"未登録\",VLOOKUP($E208,新規登録!$B:$I,5,0)),(VLOOKUP($E208,氏名ﾃﾞｰﾀ!$B:$J,5,0))))","v":""},{"$f":"IF($E208=\"\",\"\",IF(ISERROR(VLOOKUP($E208,氏名ﾃﾞｰﾀ!$B:$J,8,0)),IF(ISERROR(VLOOKUP($E208,新規登録!$B:$I,6,0)),\"未登録\",VLOOKUP($E208,新規登録!$B:$I,6,0)),(VLOOKUP($E208,氏名ﾃﾞｰﾀ!$B:$J,8,0))))","v":""},{"$f":"IF($E208=\"\",\"\",IF(ISERROR(VLOOKUP($E208,氏名ﾃﾞｰﾀ!$B:$J,7,0)),IF(ISERROR(VLOOKUP($E208,新規登録!$B:$I,7,0)),\"未登録\",VLOOKUP($E208,新規登録!$B:$I,7,0)),$G$3))","v":""},{"$f":"IF($E208=\"\",\"\",IF(ISERROR(VLOOKUP($E208,氏名ﾃﾞｰﾀ!$B:$J,6,0)),IF(ISERROR(VLOOKUP($E208,新規登録!$B:$I,8,0)),\"ﾅｼ\",VLOOKUP($E208,新規登録!$B:$I,8,0)),(VLOOKUP($E208,氏名ﾃﾞｰﾀ!$B:$J,6,0))))","v":""},{"$f":"IF($E208=\"\",\"\",IF(ISERROR(VLOOKUP($E208,氏名ﾃﾞｰﾀ!$B:$J,9,0)),IF(ISERROR(VLOOKUP($E208,新規登録!$B:$I,9,0)),\"未登録\",VLOOKUP($E208,新規登録!$B:$I,9,0)),(VLOOKUP($E208,氏名ﾃﾞｰﾀ!$B:$J,9,0))))","v":""},null,null,null,null,null,null,null,null,null,null,null,null,null,null,null,null,null,null,null,null,{"$f":"IF(L208=\"男\",1,2)","v":2},{"$f":"IF(N208=\"\",\"\",VLOOKUP(N208,ﾃﾞｰﾀ!A:D,4,0))","v":""},{"$f":"IF(AA208=\"\",CONCATENATE(AB208,\"秒\",AC208),CONCATENATE(IF(LEN(AA208)=1,CONCATENATE(\"0\",AA208),AA208),\"分\",IF(LEN(AB208)=1,CONCATENATE(\"0\",AB208),AB208),\"秒\",IF(LEN(AC208)=1,CONCATENATE(AC208,\"0\"),AC208)))","v":"秒"},"秒"]
["","",{"$f":"IF(E209=\"\",\"\",IF(AH209=1,COUNTIF(AH$16:AH209,1)*10+2001-10,COUNTIF(AH$16:AH209,2)*10+6001-10))","v":""},194,null,{"$f":"IF($E209=\"\",\"\",IF(ISERROR(VLOOKUP($E209,氏名ﾃﾞｰﾀ!$B:$J,2,0)),IF(ISERROR(VLOOKUP($E209,新規登録!$B:$I,2,0)),\"未登録\",VLOOKUP($E209,新規登録!$B:$I,2,0)),(VLOOKUP($E209,氏名ﾃﾞｰﾀ!$B:$J,2,0))))","v":""},{"$f":"IF($E209=\"\",\"\",IF(ISERROR(VLOOKUP($E209,氏名ﾃﾞｰﾀ!$B:$J,3,0)),IF(ISERROR(VLOOKUP($E209,新規登録!$B:$I,3,0)),\"未登録\",VLOOKUP($E209,新規登録!$B:$I,3,0)),(VLOOKUP($E209,氏名ﾃﾞｰﾀ!$B:$J,3,0))))","v":""},{"$f":"IF($E209=\"\",\"\",IF(ISERROR(VLOOKUP($E209,氏名ﾃﾞｰﾀ!$B:$J,4,0)),IF(ISERROR(VLOOKUP($E209,新規登録!$B:$I,4,0)),\"未登録\",VLOOKUP($E209,新規登録!$B:$I,4,0)),(VLOOKUP($E209,氏名ﾃﾞｰﾀ!$B:$J,4,0))))","v":""},{"$f":"IF($E209=\"\",\"\",IF(ISERROR(VLOOKUP($E209,氏名ﾃﾞｰﾀ!$B:$J,5,0)),IF(ISERROR(VLOOKUP($E209,新規登録!$B:$I,5,0)),\"未登録\",VLOOKUP($E209,新規登録!$B:$I,5,0)),(VLOOKUP($E209,氏名ﾃﾞｰﾀ!$B:$J,5,0))))","v":""},{"$f":"IF($E209=\"\",\"\",IF(ISERROR(VLOOKUP($E209,氏名ﾃﾞｰﾀ!$B:$J,8,0)),IF(ISERROR(VLOOKUP($E209,新規登録!$B:$I,6,0)),\"未登録\",VLOOKUP($E209,新規登録!$B:$I,6,0)),(VLOOKUP($E209,氏名ﾃﾞｰﾀ!$B:$J,8,0))))","v":""},{"$f":"IF($E209=\"\",\"\",IF(ISERROR(VLOOKUP($E209,氏名ﾃﾞｰﾀ!$B:$J,7,0)),IF(ISERROR(VLOOKUP($E209,新規登録!$B:$I,7,0)),\"未登録\",VLOOKUP($E209,新規登録!$B:$I,7,0)),$G$3))","v":""},{"$f":"IF($E209=\"\",\"\",IF(ISERROR(VLOOKUP($E209,氏名ﾃﾞｰﾀ!$B:$J,6,0)),IF(ISERROR(VLOOKUP($E209,新規登録!$B:$I,8,0)),\"ﾅｼ\",VLOOKUP($E209,新規登録!$B:$I,8,0)),(VLOOKUP($E209,氏名ﾃﾞｰﾀ!$B:$J,6,0))))","v":""},{"$f":"IF($E209=\"\",\"\",IF(ISERROR(VLOOKUP($E209,氏名ﾃﾞｰﾀ!$B:$J,9,0)),IF(ISERROR(VLOOKUP($E209,新規登録!$B:$I,9,0)),\"未登録\",VLOOKUP($E209,新規登録!$B:$I,9,0)),(VLOOKUP($E209,氏名ﾃﾞｰﾀ!$B:$J,9,0))))","v":""},null,null,null,null,null,null,null,null,null,null,null,null,null,null,null,null,null,null,null,null,2,{"$f":"IF(N209=\"\",\"\",VLOOKUP(N209,ﾃﾞｰﾀ!A:D,4,0))","v":""},"秒",{"$f":"IF(AE209=\"\",CONCATENATE(AF209,\"秒\",AG209),CONCATENATE(IF(LEN(AE209)=1,CONCATENATE(\"0\",AE209),AE209),\"分\",IF(LEN(AF209)=1,CONCATENATE(\"0\",AF209),AF209),\"秒\",IF(LEN(AG209)=1,CONCATENATE(AG209,\"0\"),AG209)))","v":"秒"}]
["","",{"$f":"IF(E210=\"\",\"\",IF(AH210=1,COUNTIF(AH$16:AH210,1)*10+2001-10,COUNTIF(AH$16:AH210,2)*10+6001-10))","v":""},195,null,{"$f":"IF($E210=\"\",\"\",IF(ISERROR(VLOOKUP($E210,氏名ﾃﾞｰﾀ!$B:$J,2,0)),IF(ISERROR(VLOOKUP($E210,新規登録!$B:$I,2,0)),\"未登録\",VLOOKUP($E210,新規登録!$B:$I,2,0)),(VLOOKUP($E210,氏名ﾃﾞｰﾀ!$B:$J,2,0))))","v":""},{"$f":"IF($E210=\"\",\"\",IF(ISERROR(VLOOKUP($E210,氏名ﾃﾞｰﾀ!$B:$J,3,0)),IF(ISERROR(VLOOKUP($E210,新規登録!$B:$I,3,0)),\"未登録\",VLOOKUP($E210,新規登録!$B:$I,3,0)),(VLOOKUP($E210,氏名ﾃﾞｰﾀ!$B:$J,3,0))))","v":""},{"$f":"IF($E210=\"\",\"\",IF(ISERROR(VLOOKUP($E210,氏名ﾃﾞｰﾀ!$B:$J,4,0)),IF(ISERROR(VLOOKUP($E210,新規登録!$B:$I,4,0)),\"未登録\",VLOOKUP($E210,新規登録!$B:$I,4,0)),(VLOOKUP($E210,氏名ﾃﾞｰﾀ!$B:$J,4,0))))","v":""},{"$f":"IF($E210=\"\",\"\",IF(ISERROR(VLOOKUP($E210,氏名ﾃﾞｰﾀ!$B:$J,5,0)),IF(ISERROR(VLOOKUP($E210,新規登録!$B:$I,5,0)),\"未登録\",VLOOKUP($E210,新規登録!$B:$I,5,0)),(VLOOKUP($E210,氏名ﾃﾞｰﾀ!$B:$J,5,0))))","v":""},{"$f":"IF($E210=\"\",\"\",IF(ISERROR(VLOOKUP($E210,氏名ﾃﾞｰﾀ!$B:$J,8,0)),IF(ISERROR(VLOOKUP($E210,新規登録!$B:$I,6,0)),\"未登録\",VLOOKUP($E210,新規登録!$B:$I,6,0)),(VLOOKUP($E210,氏名ﾃﾞｰﾀ!$B:$J,8,0))))","v":""},{"$f":"IF($E210=\"\",\"\",IF(ISERROR(VLOOKUP($E210,氏名ﾃﾞｰﾀ!$B:$J,7,0)),IF(ISERROR(VLOOKUP($E210,新規登録!$B:$I,7,0)),\"未登録\",VLOOKUP($E210,新規登録!$B:$I,7,0)),$G$3))","v":""},{"$f":"IF($E210=\"\",\"\",IF(ISERROR(VLOOKUP($E210,氏名ﾃﾞｰﾀ!$B:$J,6,0)),IF(ISERROR(VLOOKUP($E210,新規登録!$B:$I,8,0)),\"ﾅｼ\",VLOOKUP($E210,新規登録!$B:$I,8,0)),(VLOOKUP($E210,氏名ﾃﾞｰﾀ!$B:$J,6,0))))","v":""},{"$f":"IF($E210=\"\",\"\",IF(ISERROR(VLOOKUP($E210,氏名ﾃﾞｰﾀ!$B:$J,9,0)),IF(ISERROR(VLOOKUP($E210,新規登録!$B:$I,9,0)),\"未登録\",VLOOKUP($E210,新規登録!$B:$I,9,0)),(VLOOKUP($E210,氏名ﾃﾞｰﾀ!$B:$J,9,0))))","v":""},null,null,null,null,null,null,null,null,null,null,null,null,null,null,null,null,null,null,null,null,2,{"$f":"IF(N210=\"\",\"\",VLOOKUP(N210,ﾃﾞｰﾀ!A:D,4,0))","v":""},"秒","秒"]
["","",{"$f":"IF(E211=\"\",\"\",IF(AH211=1,COUNTIF(AH$16:AH211,1)*10+2001-10,COUNTIF(AH$16:AH211,2)*10+6001-10))","v":""},196,null,{"$f":"IF($E211=\"\",\"\",IF(ISERROR(VLOOKUP($E211,氏名ﾃﾞｰﾀ!$B:$J,2,0)),IF(ISERROR(VLOOKUP($E211,新規登録!$B:$I,2,0)),\"未登録\",VLOOKUP($E211,新規登録!$B:$I,2,0)),(VLOOKUP($E211,氏名ﾃﾞｰﾀ!$B:$J,2,0))))","v":""},{"$f":"IF($E211=\"\",\"\",IF(ISERROR(VLOOKUP($E211,氏名ﾃﾞｰﾀ!$B:$J,3,0)),IF(ISERROR(VLOOKUP($E211,新規登録!$B:$I,3,0)),\"未登録\",VLOOKUP($E211,新規登録!$B:$I,3,0)),(VLOOKUP($E211,氏名ﾃﾞｰﾀ!$B:$J,3,0))))","v":""},{"$f":"IF($E211=\"\",\"\",IF(ISERROR(VLOOKUP($E211,氏名ﾃﾞｰﾀ!$B:$J,4,0)),IF(ISERROR(VLOOKUP($E211,新規登録!$B:$I,4,0)),\"未登録\",VLOOKUP($E211,新規登録!$B:$I,4,0)),(VLOOKUP($E211,氏名ﾃﾞｰﾀ!$B:$J,4,0))))","v":""},{"$f":"IF($E211=\"\",\"\",IF(ISERROR(VLOOKUP($E211,氏名ﾃﾞｰﾀ!$B:$J,5,0)),IF(ISERROR(VLOOKUP($E211,新規登録!$B:$I,5,0)),\"未登録\",VLOOKUP($E211,新規登録!$B:$I,5,0)),(VLOOKUP($E211,氏名ﾃﾞｰﾀ!$B:$J,5,0))))","v":""},{"$f":"IF($E211=\"\",\"\",IF(ISERROR(VLOOKUP($E211,氏名ﾃﾞｰﾀ!$B:$J,8,0)),IF(ISERROR(VLOOKUP($E211,新規登録!$B:$I,6,0)),\"未登録\",VLOOKUP($E211,新規登録!$B:$I,6,0)),(VLOOKUP($E211,氏名ﾃﾞｰﾀ!$B:$J,8,0))))","v":""},{"$f":"IF($E211=\"\",\"\",IF(ISERROR(VLOOKUP($E211,氏名ﾃﾞｰﾀ!$B:$J,7,0)),IF(ISERROR(VLOOKUP($E211,新規登録!$B:$I,7,0)),\"未登録\",VLOOKUP($E211,新規登録!$B:$I,7,0)),$G$3))","v":""},{"$f":"IF($E211=\"\",\"\",IF(ISERROR(VLOOKUP($E211,氏名ﾃﾞｰﾀ!$B:$J,6,0)),IF(ISERROR(VLOOKUP($E211,新規登録!$B:$I,8,0)),\"ﾅｼ\",VLOOKUP($E211,新規登録!$B:$I,8,0)),(VLOOKUP($E211,氏名ﾃﾞｰﾀ!$B:$J,6,0))))","v":""},{"$f":"IF($E211=\"\",\"\",IF(ISERROR(VLOOKUP($E211,氏名ﾃﾞｰﾀ!$B:$J,9,0)),IF(ISERROR(VLOOKUP($E211,新規登録!$B:$I,9,0)),\"未登録\",VLOOKUP($E211,新規登録!$B:$I,9,0)),(VLOOKUP($E211,氏名ﾃﾞｰﾀ!$B:$J,9,0))))","v":""},null,null,null,null,null,null,null,null,null,null,null,null,null,null,null,null,null,null,null,null,2,{"$f":"IF(N211=\"\",\"\",VLOOKUP(N211,ﾃﾞｰﾀ!A:D,4,0))","v":""},"秒","秒"]
["","",{"$f":"IF(E212=\"\",\"\",IF(AH212=1,COUNTIF(AH$16:AH212,1)*10+2001-10,COUNTIF(AH$16:AH212,2)*10+6001-10))","v":""},197,null,{"$f":"IF($E212=\"\",\"\",IF(ISERROR(VLOOKUP($E212,氏名ﾃﾞｰﾀ!$B:$J,2,0)),IF(ISERROR(VLOOKUP($E212,新規登録!$B:$I,2,0)),\"未登録\",VLOOKUP($E212,新規登録!$B:$I,2,0)),(VLOOKUP($E212,氏名ﾃﾞｰﾀ!$B:$J,2,0))))","v":""},{"$f":"IF($E212=\"\",\"\",IF(ISERROR(VLOOKUP($E212,氏名ﾃﾞｰﾀ!$B:$J,3,0)),IF(ISERROR(VLOOKUP($E212,新規登録!$B:$I,3,0)),\"未登録\",VLOOKUP($E212,新規登録!$B:$I,3,0)),(VLOOKUP($E212,氏名ﾃﾞｰﾀ!$B:$J,3,0))))","v":""},{"$f":"IF($E212=\"\",\"\",IF(ISERROR(VLOOKUP($E212,氏名ﾃﾞｰﾀ!$B:$J,4,0)),IF(ISERROR(VLOOKUP($E212,新規登録!$B:$I,4,0)),\"未登録\",VLOOKUP($E212,新規登録!$B:$I,4,0)),(VLOOKUP($E212,氏名ﾃﾞｰﾀ!$B:$J,4,0))))","v":""},{"$f":"IF($E212=\"\",\"\",IF(ISERROR(VLOOKUP($E212,氏名ﾃﾞｰﾀ!$B:$J,5,0)),IF(ISERROR(VLOOKUP($E212,新規登録!$B:$I,5,0)),\"未登録\",VLOOKUP($E212,新規登録!$B:$I,5,0)),(VLOOKUP($E212,氏名ﾃﾞｰﾀ!$B:$J,5,0))))","v":""},{"$f":"IF($E212=\"\",\"\",IF(ISERROR(VLOOKUP($E212,氏名ﾃﾞｰﾀ!$B:$J,8,0)),IF(ISERROR(VLOOKUP($E212,新規登録!$B:$I,6,0)),\"未登録\",VLOOKUP($E212,新規登録!$B:$I,6,0)),(VLOOKUP($E212,氏名ﾃﾞｰﾀ!$B:$J,8,0))))","v":""},{"$f":"IF($E212=\"\",\"\",IF(ISERROR(VLOOKUP($E212,氏名ﾃﾞｰﾀ!$B:$J,7,0)),IF(ISERROR(VLOOKUP($E212,新規登録!$B:$I,7,0)),\"未登録\",VLOOKUP($E212,新規登録!$B:$I,7,0)),$G$3))","v":""},{"$f":"IF($E212=\"\",\"\",IF(ISERROR(VLOOKUP($E212,氏名ﾃﾞｰﾀ!$B:$J,6,0)),IF(ISERROR(VLOOKUP($E212,新規登録!$B:$I,8,0)),\"ﾅｼ\",VLOOKUP($E212,新規登録!$B:$I,8,0)),(VLOOKUP($E212,氏名ﾃﾞｰﾀ!$B:$J,6,0))))","v":""},{"$f":"IF($E212=\"\",\"\",IF(ISERROR(VLOOKUP($E212,氏名ﾃﾞｰﾀ!$B:$J,9,0)),IF(ISERROR(VLOOKUP($E212,新規登録!$B:$I,9,0)),\"未登録\",VLOOKUP($E212,新規登録!$B:$I,9,0)),(VLOOKUP($E212,氏名ﾃﾞｰﾀ!$B:$J,9,0))))","v":""},null,null,null,null,null,null,null,null,null,null,null,null,null,null,null,null,null,null,null,null,2,{"$f":"IF(N212=\"\",\"\",VLOOKUP(N212,ﾃﾞｰﾀ!A:D,4,0))","v":""},"秒","秒"]
["","",{"$f":"IF(E213=\"\",\"\",IF(AH213=1,COUNTIF(AH$16:AH213,1)*10+2001-10,COUNTIF(AH$16:AH213,2)*10+6001-10))","v":""},198,null,{"$f":"IF($E213=\"\",\"\",IF(ISERROR(VLOOKUP($E213,氏名ﾃﾞｰﾀ!$B:$J,2,0)),IF(ISERROR(VLOOKUP($E213,新規登録!$B:$I,2,0)),\"未登録\",VLOOKUP($E213,新規登録!$B:$I,2,0)),(VLOOKUP($E213,氏名ﾃﾞｰﾀ!$B:$J,2,0))))","v":""},{"$f":"IF($E213=\"\",\"\",IF(ISERROR(VLOOKUP($E213,氏名ﾃﾞｰﾀ!$B:$J,3,0)),IF(ISERROR(VLOOKUP($E213,新規登録!$B:$I,3,0)),\"未登録\",VLOOKUP($E213,新規登録!$B:$I,3,0)),(VLOOKUP($E213,氏名ﾃﾞｰﾀ!$B:$J,3,0))))","v":""},{"$f":"IF($E213=\"\",\"\",IF(ISERROR(VLOOKUP($E213,氏名ﾃﾞｰﾀ!$B:$J,4,0)),IF(ISERROR(VLOOKUP($E213,新規登録!$B:$I,4,0)),\"未登録\",VLOOKUP($E213,新規登録!$B:$I,4,0)),(VLOOKUP($E213,氏名ﾃﾞｰﾀ!$B:$J,4,0))))","v":""},{"$f":"IF($E213=\"\",\"\",IF(ISERROR(VLOOKUP($E213,氏名ﾃﾞｰﾀ!$B:$J,5,0)),IF(ISERROR(VLOOKUP($E213,新規登録!$B:$I,5,0)),\"未登録\",VLOOKUP($E213,新規登録!$B:$I,5,0)),(VLOOKUP($E213,氏名ﾃﾞｰﾀ!$B:$J,5,0))))","v":""},{"$f":"IF($E213=\"\",\"\",IF(ISERROR(VLOOKUP($E213,氏名ﾃﾞｰﾀ!$B:$J,8,0)),IF(ISERROR(VLOOKUP($E213,新規登録!$B:$I,6,0)),\"未登録\",VLOOKUP($E213,新規登録!$B:$I,6,0)),(VLOOKUP($E213,氏名ﾃﾞｰﾀ!$B:$J,8,0))))","v":""},{"$f":"IF($E213=\"\",\"\",IF(ISERROR(VLOOKUP($E213,氏名ﾃﾞｰﾀ!$B:$J,7,0)),IF(ISERROR(VLOOKUP($E213,新規登録!$B:$I,7,0)),\"未登録\",VLOOKUP($E213,新規登録!$B:$I,7,0)),$G$3))","v":""},{"$f":"IF($E213=\"\",\"\",IF(ISERROR(VLOOKUP($E213,氏名ﾃﾞｰﾀ!$B:$J,6,0)),IF(ISERROR(VLOOKUP($E213,新規登録!$B:$I,8,0)),\"ﾅｼ\",VLOOKUP($E213,新規登録!$B:$I,8,0)),(VLOOKUP($E213,氏名ﾃﾞｰﾀ!$B:$J,6,0))))","v":""},{"$f":"IF($E213=\"\",\"\",IF(ISERROR(VLOOKUP($E213,氏名ﾃﾞｰﾀ!$B:$J,9,0)),IF(ISERROR(VLOOKUP($E213,新規登録!$B:$I,9,0)),\"未登録\",VLOOKUP($E213,新規登録!$B:$I,9,0)),(VLOOKUP($E213,氏名ﾃﾞｰﾀ!$B:$J,9,0))))","v":""},null,null,null,null,null,null,null,null,null,null,null,null,null,null,null,null,null,null,null,null,2,{"$f":"IF(N213=\"\",\"\",VLOOKUP(N213,ﾃﾞｰﾀ!A:D,4,0))","v":""},"秒","秒"]
["","",{"$f":"IF(E214=\"\",\"\",IF(AH214=1,COUNTIF(AH$16:AH214,1)*10+2001-10,COUNTIF(AH$16:AH214,2)*10+6001-10))","v":""},199,null,{"$f":"IF($E214=\"\",\"\",IF(ISERROR(VLOOKUP($E214,氏名ﾃﾞｰﾀ!$B:$J,2,0)),IF(ISERROR(VLOOKUP($E214,新規登録!$B:$I,2,0)),\"未登録\",VLOOKUP($E214,新規登録!$B:$I,2,0)),(VLOOKUP($E214,氏名ﾃﾞｰﾀ!$B:$J,2,0))))","v":""},{"$f":"IF($E214=\"\",\"\",IF(ISERROR(VLOOKUP($E214,氏名ﾃﾞｰﾀ!$B:$J,3,0)),IF(ISERROR(VLOOKUP($E214,新規登録!$B:$I,3,0)),\"未登録\",VLOOKUP($E214,新規登録!$B:$I,3,0)),(VLOOKUP($E214,氏名ﾃﾞｰﾀ!$B:$J,3,0))))","v":""},{"$f":"IF($E214=\"\",\"\",IF(ISERROR(VLOOKUP($E214,氏名ﾃﾞｰﾀ!$B:$J,4,0)),IF(ISERROR(VLOOKUP($E214,新規登録!$B:$I,4,0)),\"未登録\",VLOOKUP($E214,新規登録!$B:$I,4,0)),(VLOOKUP($E214,氏名ﾃﾞｰﾀ!$B:$J,4,0))))","v":""},{"$f":"IF($E214=\"\",\"\",IF(ISERROR(VLOOKUP($E214,氏名ﾃﾞｰﾀ!$B:$J,5,0)),IF(ISERROR(VLOOKUP($E214,新規登録!$B:$I,5,0)),\"未登録\",VLOOKUP($E214,新規登録!$B:$I,5,0)),(VLOOKUP($E214,氏名ﾃﾞｰﾀ!$B:$J,5,0))))","v":""},{"$f":"IF($E214=\"\",\"\",IF(ISERROR(VLOOKUP($E214,氏名ﾃﾞｰﾀ!$B:$J,8,0)),IF(ISERROR(VLOOKUP($E214,新規登録!$B:$I,6,0)),\"未登録\",VLOOKUP($E214,新規登録!$B:$I,6,0)),(VLOOKUP($E214,氏名ﾃﾞｰﾀ!$B:$J,8,0))))","v":""},{"$f":"IF($E214=\"\",\"\",IF(ISERROR(VLOOKUP($E214,氏名ﾃﾞｰﾀ!$B:$J,7,0)),IF(ISERROR(VLOOKUP($E214,新規登録!$B:$I,7,0)),\"未登録\",VLOOKUP($E214,新規登録!$B:$I,7,0)),$G$3))","v":""},{"$f":"IF($E214=\"\",\"\",IF(ISERROR(VLOOKUP($E214,氏名ﾃﾞｰﾀ!$B:$J,6,0)),IF(ISERROR(VLOOKUP($E214,新規登録!$B:$I,8,0)),\"ﾅｼ\",VLOOKUP($E214,新規登録!$B:$I,8,0)),(VLOOKUP($E214,氏名ﾃﾞｰﾀ!$B:$J,6,0))))","v":""},{"$f":"IF($E214=\"\",\"\",IF(ISERROR(VLOOKUP($E214,氏名ﾃﾞｰﾀ!$B:$J,9,0)),IF(ISERROR(VLOOKUP($E214,新規登録!$B:$I,9,0)),\"未登録\",VLOOKUP($E214,新規登録!$B:$I,9,0)),(VLOOKUP($E214,氏名ﾃﾞｰﾀ!$B:$J,9,0))))","v":""},null,null,null,null,null,null,null,null,null,null,null,null,null,null,null,null,null,null,null,null,2,{"$f":"IF(N214=\"\",\"\",VLOOKUP(N214,ﾃﾞｰﾀ!A:D,4,0))","v":""},"秒","秒"]
["","",{"$f":"IF(E215=\"\",\"\",IF(AH215=1,COUNTIF(AH$16:AH215,1)*10+2001-10,COUNTIF(AH$16:AH215,2)*10+6001-10))","v":""},200,null,{"$f":"IF($E215=\"\",\"\",IF(ISERROR(VLOOKUP($E215,氏名ﾃﾞｰﾀ!$B:$J,2,0)),IF(ISERROR(VLOOKUP($E215,新規登録!$B:$I,2,0)),\"未登録\",VLOOKUP($E215,新規登録!$B:$I,2,0)),(VLOOKUP($E215,氏名ﾃﾞｰﾀ!$B:$J,2,0))))","v":""},{"$f":"IF($E215=\"\",\"\",IF(ISERROR(VLOOKUP($E215,氏名ﾃﾞｰﾀ!$B:$J,3,0)),IF(ISERROR(VLOOKUP($E215,新規登録!$B:$I,3,0)),\"未登録\",VLOOKUP($E215,新規登録!$B:$I,3,0)),(VLOOKUP($E215,氏名ﾃﾞｰﾀ!$B:$J,3,0))))","v":""},{"$f":"IF($E215=\"\",\"\",IF(ISERROR(VLOOKUP($E215,氏名ﾃﾞｰﾀ!$B:$J,4,0)),IF(ISERROR(VLOOKUP($E215,新規登録!$B:$I,4,0)),\"未登録\",VLOOKUP($E215,新規登録!$B:$I,4,0)),(VLOOKUP($E215,氏名ﾃﾞｰﾀ!$B:$J,4,0))))","v":""},{"$f":"IF($E215=\"\",\"\",IF(ISERROR(VLOOKUP($E215,氏名ﾃﾞｰﾀ!$B:$J,5,0)),IF(ISERROR(VLOOKUP($E215,新規登録!$B:$I,5,0)),\"未登録\",VLOOKUP($E215,新規登録!$B:$I,5,0)),(VLOOKUP($E215,氏名ﾃﾞｰﾀ!$B:$J,5,0))))","v":""},{"$f":"IF($E215=\"\",\"\",IF(ISERROR(VLOOKUP($E215,氏名ﾃﾞｰﾀ!$B:$J,8,0)),IF(ISERROR(VLOOKUP($E215,新規登録!$B:$I,6,0)),\"未登録\",VLOOKUP($E215,新規登録!$B:$I,6,0)),(VLOOKUP($E215,氏名ﾃﾞｰﾀ!$B:$J,8,0))))","v":""},{"$f":"IF($E215=\"\",\"\",IF(ISERROR(VLOOKUP($E215,氏名ﾃﾞｰﾀ!$B:$J,7,0)),IF(ISERROR(VLOOKUP($E215,新規登録!$B:$I,7,0)),\"未登録\",VLOOKUP($E215,新規登録!$B:$I,7,0)),$G$3))","v":""},{"$f":"IF($E215=\"\",\"\",IF(ISERROR(VLOOKUP($E215,氏名ﾃﾞｰﾀ!$B:$J,6,0)),IF(ISERROR(VLOOKUP($E215,新規登録!$B:$I,8,0)),\"ﾅｼ\",VLOOKUP($E215,新規登録!$B:$I,8,0)),(VLOOKUP($E215,氏名ﾃﾞｰﾀ!$B:$J,6,0))))","v":""},{"$f":"IF($E215=\"\",\"\",IF(ISERROR(VLOOKUP($E215,氏名ﾃﾞｰﾀ!$B:$J,9,0)),IF(ISERROR(VLOOKUP($E215,新規登録!$B:$I,9,0)),\"未登録\",VLOOKUP($E215,新規登録!$B:$I,9,0)),(VLOOKUP($E215,氏名ﾃﾞｰﾀ!$B:$J,9,0))))","v":""},null,null,null,null,null,null,null,null,null,null,null,null,null,null,null,null,null,null,null,null,2,{"$f":"IF(N215=\"\",\"\",VLOOKUP(N215,ﾃﾞｰﾀ!A:D,4,0))","v":""},"秒","秒"]

{"sheet":"会計シート","index":3,"n_rows":24,"n_cols":23,"rows_kept":24,"cut":false,"hidden":false,"merged":[[23,13,23,16],[21,4,21,5],[19,10,19,11],[20,10,20,11],[21,10,21,11],[19,13,19,16],[20,13,20,16],[21,14,21,16],[4,20,4,22],[9,1,9,4],[9,5,9,8],[9,9,9,12],[10,2,10,4],[10,6,10,8],[10,10,10,12],[13,13,13,16],[0,2,0,3],[13,2,13,4],[13,6,13,8],[13,10,13,12],[11,2,11,4],[11,6,11,8],[11,10,11,12],[12,2,12,4],[12,6,12,8],[12,10,12,12],[4,1,4,19],[11,13,11,16],[12,13,12,16]]}
[null,"学校番号",{"$f":"ｴﾝﾄﾘｰ票!AA7","v":0},null,null,"学校名",{"$f":"ｴﾝﾄﾘｰ票!G2","v":0}]
[]
["大会名",null,{"$f":"ｴﾝﾄﾘｰ票!G1","v":"東京都高校新人陸上競技大会第４支部予選会"}]
[]
[null,"個人",null,null,null,null,null,null,null,null,null,null,null,null,null,null,null,null,null,null,"リレー"]
[null,"100m","200m","400m","800m","1500m","3000m","5000m","100mH","110mH","400mH","3000mSC","走高跳","棒高跳","走幅跳","三段跳","砲丸投","円盤投","やり投","合計","4x100mR","4x400mR","合計"]
["男子",{"$f":"COUNTIFS(ｴﾝﾄﾘｰ票!$L$16:$L$215,\"男\",ｴﾝﾄﾘｰ票!$N$16:$N$215,B6)+COUNTIFS(ｴﾝﾄﾘｰ票!$L$16:$L$215,\"男\",ｴﾝﾄﾘｰ票!$R$16:$R$215,B6)+COUNTIFS(ｴﾝﾄﾘｰ票!$L$16:$L$215,\"男\",ｴﾝﾄﾘｰ票!$V$16:$V$215,B6)","v":0},{"$f":"COUNTIFS(ｴﾝﾄﾘｰ票!$L$16:$L$215,\"男\",ｴﾝﾄﾘｰ票!$N$16:$N$215,C6)+COUNTIFS(ｴﾝﾄﾘｰ票!$L$16:$L$215,\"男\",ｴﾝﾄﾘｰ票!$R$16:$R$215,C6)+COUNTIFS(ｴﾝﾄﾘｰ票!$L$16:$L$215,\"男\",ｴﾝﾄﾘｰ票!$V$16:$V$215,C6)","v":0},{"$f":"COUNTIFS(ｴﾝﾄﾘｰ票!$L$16:$L$215,\"男\",ｴﾝﾄﾘｰ票!$N$16:$N$215,D6)+COUNTIFS(ｴﾝﾄﾘｰ票!$L$16:$L$215,\"男\",ｴﾝﾄﾘｰ票!$R$16:$R$215,D6)+COUNTIFS(ｴﾝﾄﾘｰ票!$L$16:$L$215,\"男\",ｴﾝﾄﾘｰ票!$V$16:$V$215,D6)","v":0},{"$f":"COUNTIFS(ｴﾝﾄﾘｰ票!$L$16:$L$215,\"男\",ｴﾝﾄﾘｰ票!$N$16:$N$215,E6)+COUNTIFS(ｴﾝﾄﾘｰ票!$L$16:$L$215,\"男\",ｴﾝﾄﾘｰ票!$R$16:$R$215,E6)+COUNTIFS(ｴﾝﾄﾘｰ票!$L$16:$L$215,\"男\",ｴﾝﾄﾘｰ票!$V$16:$V$215,E6)","v":0},{"$f":"COUNTIFS(ｴﾝﾄﾘｰ票!$L$16:$L$215,\"男\",ｴﾝﾄﾘｰ票!$N$16:$N$215,F6)+COUNTIFS(ｴﾝﾄﾘｰ票!$L$16:$L$215,\"男\",ｴﾝﾄﾘｰ票!$R$16:$R$215,F6)+COUNTIFS(ｴﾝﾄﾘｰ票!$L$16:$L$215,\"男\",ｴﾝﾄﾘｰ票!$V$16:$V$215,F6)","v":0},null,{"$f":"COUNTIFS(ｴﾝﾄﾘｰ票!$L$16:$L$215,\"男\",ｴﾝﾄﾘｰ票!$N$16:$N$215,H6)+COUNTIFS(ｴﾝﾄﾘｰ票!$L$16:$L$215,\"男\",ｴﾝﾄﾘｰ票!$R$16:$R$215,H6)+COUNTIFS(ｴﾝﾄﾘｰ票!$L$16:$L$215,\"男\",ｴﾝﾄﾘｰ票!$V$16:$V$215,H6)","v":0},null,{"$f":"COUNTIFS(ｴﾝﾄﾘｰ票!$L$16:$L$215,\"男\",ｴﾝﾄﾘｰ票!$N$16:$N$215,J6)+COUNTIFS(ｴﾝﾄﾘｰ票!$L$16:$L$215,\"男\",ｴﾝﾄﾘｰ票!$R$16:$R$215,J6)+COUNTIFS(ｴﾝﾄﾘｰ票!$L$16:$L$215,\"男\",ｴﾝﾄﾘｰ票!$V$16:$V$215,J6)","v":0},{"$f":"COUNTIFS(ｴﾝﾄﾘｰ票!$L$16:$L$215,\"男\",ｴﾝﾄﾘｰ票!$N$16:$N$215,K6)+COUNTIFS(ｴﾝﾄﾘｰ票!$L$16:$L$215,\"男\",ｴﾝﾄﾘｰ票!$R$16:$R$215,K6)+COUNTIFS(ｴﾝﾄﾘｰ票!$L$16:$L$215,\"男\",ｴﾝﾄﾘｰ票!$V$16:$V$215,K6)","v":0},null,{"$f":"COUNTIFS(ｴﾝﾄﾘｰ票!$L$16:$L$215,\"男\",ｴﾝﾄﾘｰ票!$N$16:$N$215,M6)+COUNTIFS(ｴﾝﾄﾘｰ票!$L$16:$L$215,\"男\",ｴﾝﾄﾘｰ票!$R$16:$R$215,M6)+COUNTIFS(ｴﾝﾄﾘｰ票!$L$16:$L$215,\"男\",ｴﾝﾄﾘｰ票!$V$16:$V$215,M6)","v":0},{"$f":"COUNTIFS(ｴﾝﾄﾘｰ票!$L$16:$L$215,\"男\",ｴﾝﾄﾘｰ票!$N$16:$N$215,N6)+COUNTIFS(ｴﾝﾄﾘｰ票!$L$16:$L$215,\"男\",ｴﾝﾄﾘｰ票!$R$16:$R$215,N6)+COUNTIFS(ｴﾝﾄﾘｰ票!$L$16:$L$215,\"男\",ｴﾝﾄﾘｰ票!$V$16:$V$215,N6)","v":0},{"$f":"COUNTIFS(ｴﾝﾄﾘｰ票!$L$16:$L$215,\"男\",ｴﾝﾄﾘｰ票!$N$16:$N$215,O6)+COUNTIFS(ｴﾝﾄﾘｰ票!$L$16:$L$215,\"男\",ｴﾝﾄﾘｰ票!$R$16:$R$215,O6)+COUNTIFS(ｴﾝﾄﾘｰ票!$L$16:$L$215,\"男\",ｴﾝﾄﾘｰ票!$V$16:$V$215,O6)","v":0},{"$f":"COUNTIFS(ｴﾝﾄﾘｰ票!$L$16:$L$215,\"男\",ｴﾝﾄﾘｰ票!$N$16:$N$215,P6)+COUNTIFS(ｴﾝﾄﾘｰ票!$L$16:$L$215,\"男\",ｴﾝﾄﾘｰ票!$R$16:$R$215,P6)+COUNTIFS(ｴﾝﾄﾘｰ票!$L$16:$L$215,\"男\",ｴﾝﾄﾘｰ票!$V$16:$V$215,P6)","v":0},{"$f":"COUNTIFS(ｴﾝﾄﾘｰ票!$L$16:$L$215,\"男\",ｴﾝﾄﾘｰ票!$N$16:$N$215,Q6)+COUNTIFS(ｴﾝﾄﾘｰ票!$L$16:$L$215,\"男\",ｴﾝﾄﾘｰ票!$R$16:$R$215,Q6)+COUNTIFS(ｴﾝﾄﾘｰ票!$L$16:$L$215,\"男\",ｴﾝﾄﾘｰ票!$V$16:$V$215,Q6)","v":0},{"$f":"COUNTIFS(ｴﾝﾄﾘｰ票!$L$16:$L$215,\"男\",ｴﾝﾄﾘｰ票!$N$16:$N$215,R6)+COUNTIFS(ｴﾝﾄﾘｰ票!$L$16:$L$215,\"男\",ｴﾝﾄﾘｰ票!$R$16:$R$215,R6)+COUNTIFS(ｴﾝﾄﾘｰ票!$L$16:$L$215,\"男\",ｴﾝﾄﾘｰ票!$V$16:$V$215,R6)","v":0},{"$f":"COUNTIFS(ｴﾝﾄﾘｰ票!$L$16:$L$215,\"男\",ｴﾝﾄﾘｰ票!$N$16:$N$215,S6)+COUNTIFS(ｴﾝﾄﾘｰ票!$L$16:$L$215,\"男\",ｴﾝﾄﾘｰ票!$R$16:$R$215,S6)+COUNTIFS(ｴﾝﾄﾘｰ票!$L$16:$L$215,\"男\",ｴﾝﾄﾘｰ票!$V$16:$V$215,S6)","v":0},{"$f":"SUM(B7:S7)+T12","v":0},{"$f":"ｴﾝﾄﾘｰ票!Z11","v":0},{"$f":"ｴﾝﾄﾘｰ票!AA11","v":0},{"$f":"SUM(U7:V7)","v":0}]
["女子",{"$f":"COUNTIFS(ｴﾝﾄﾘｰ票!$L$16:$L$215,\"女\",ｴﾝﾄﾘｰ票!$N$16:$N$215,B6)+COUNTIFS(ｴﾝﾄﾘｰ票!$L$16:$L$215,\"女\",ｴﾝﾄﾘｰ票!$R$16:$R$215,B6)+COUNTIFS(ｴﾝﾄﾘｰ票!$L$16:$L$215,\"女\",ｴﾝﾄﾘｰ票!$V$16:$V$215,B6)","v":0},{"$f":"COUNTIFS(ｴﾝﾄﾘｰ票!$L$16:$L$215,\"女\",ｴﾝﾄﾘｰ票!$N$16:$N$215,C6)+COUNTIFS(ｴﾝﾄﾘｰ票!$L$16:$L$215,\"女\",ｴﾝﾄﾘｰ票!$R$16:$R$215,C6)+COUNTIFS(ｴﾝﾄﾘｰ票!$L$16:$L$215,\"女\",ｴﾝﾄﾘｰ票!$V$16:$V$215,C6)","v":0},{"$f":"COUNTIFS(ｴﾝﾄﾘｰ票!$L$16:$L$215,\"女\",ｴﾝﾄﾘｰ票!$N$16:$N$215,D6)+COUNTIFS(ｴﾝﾄﾘｰ票!$L$16:$L$215,\"女\",ｴﾝﾄﾘｰ票!$R$16:$R$215,D6)+COUNTIFS(ｴﾝﾄﾘｰ票!$L$16:$L$215,\"女\",ｴﾝﾄﾘｰ票!$V$16:$V$215,D6)","v":0},{"$f":"COUNTIFS(ｴﾝﾄﾘｰ票!$L$16:$L$215,\"女\",ｴﾝﾄﾘｰ票!$N$16:$N$215,E6)+COUNTIFS(ｴﾝﾄﾘｰ票!$L$16:$L$215,\"女\",ｴﾝﾄﾘｰ票!$R$16:$R$215,E6)+COUNTIFS(ｴﾝﾄﾘｰ票!$L$16:$L$215,\"女\",ｴﾝﾄﾘｰ票!$V$16:$V$215,E6)","v":0},{"$f":"COUNTIFS(ｴﾝﾄﾘｰ票!$L$16:$L$215,\"女\",ｴﾝﾄﾘｰ票!$N$16:$N$215,F6)+COUNTIFS(ｴﾝﾄﾘｰ票!$L$16:$L$215,\"女\",ｴﾝﾄﾘｰ票!$R$16:$R$215,F6)+COUNTIFS(ｴﾝﾄﾘｰ票!$L$16:$L$215,\"女\",ｴﾝﾄﾘｰ票!$V$16:$V$215,F6)","v":0},{"$f":"COUNTIFS(ｴﾝﾄﾘｰ票!$L$16:$L$215,\"女\",ｴﾝﾄﾘｰ票!$N$16:$N$215,G6)+COUNTIFS(ｴﾝﾄﾘｰ票!$L$16:$L$215,\"女\",ｴﾝﾄﾘｰ票!$R$16:$R$215,G6)+COUNTIFS(ｴﾝﾄﾘｰ票!$L$16:$L$215,\"女\",ｴﾝﾄﾘｰ票!$V$16:$V$215,G6)","v":0},null,{"$f":"COUNTIFS(ｴﾝﾄﾘｰ票!$L$16:$L$215,\"女\",ｴﾝﾄﾘｰ票!$N$16:$N$215,I6)+COUNTIFS(ｴﾝﾄﾘｰ票!$L$16:$L$215,\"女\",ｴﾝﾄﾘｰ票!$R$16:$R$215,I6)+COUNTIFS(ｴﾝﾄﾘｰ票!$L$16:$L$215,\"女\",ｴﾝﾄﾘｰ票!$V$16:$V$215,I6)","v":0},null,{"$f":"COUNTIFS(ｴﾝﾄﾘｰ票!$L$16:$L$215,\"女\",ｴﾝﾄﾘｰ票!$N$16:$N$215,K6)+COUNTIFS(ｴﾝﾄﾘｰ票!$L$16:$L$215,\"女\",ｴﾝﾄﾘｰ票!$R$16:$R$215,K6)+COUNTIFS(ｴﾝﾄﾘｰ票!$L$16:$L$215,\"女\",ｴﾝﾄﾘｰ票!$V$16:$V$215,K6)","v":0},null,{"$f":"COUNTIFS(ｴﾝﾄﾘｰ票!$L$16:$L$215,\"女\",ｴﾝﾄﾘｰ票!$N$16:$N$215,M6)+COUNTIFS(ｴﾝﾄﾘｰ票!$L$16:$L$215,\"女\",ｴﾝﾄﾘｰ票!$R$16:$R$215,M6)+COUNTIFS(ｴﾝﾄﾘｰ票!$L$16:$L$215,\"女\",ｴﾝﾄﾘｰ票!$V$16:$V$215,M6)","v":0},{"$f":"COUNTIFS(ｴﾝﾄﾘｰ票!$L$16:$L$215,\"女\",ｴﾝﾄﾘｰ票!$N$16:$N$215,N6)+COUNTIFS(ｴﾝﾄﾘｰ票!$L$16:$L$215,\"女\",ｴﾝﾄﾘｰ票!$R$16:$R$215,N6)+COUNTIFS(ｴﾝﾄﾘｰ票!$L$16:$L$215,\"女\",ｴﾝﾄﾘｰ票!$V$16:$V$215,N6)","v":0},{"$f":"COUNTIFS(ｴﾝﾄﾘｰ票!$L$16:$L$215,\"女\",ｴﾝﾄﾘｰ票!$N$16:$N$215,O6)+COUNTIFS(ｴﾝﾄﾘｰ票!$L$16:$L$215,\"女\",ｴﾝﾄﾘｰ票!$R$16:$R$215,O6)+COUNTIFS(ｴﾝﾄﾘｰ票!$L$16:$L$215,\"女\",ｴﾝﾄﾘｰ票!$V$16:$V$215,O6)","v":0},{"$f":"COUNTIFS(ｴﾝﾄﾘｰ票!$L$16:$L$215,\"女\",ｴﾝﾄﾘｰ票!$N$16:$N$215,P6)+COUNTIFS(ｴﾝﾄﾘｰ票!$L$16:$L$215,\"女\",ｴﾝﾄﾘｰ票!$R$16:$R$215,P6)+COUNTIFS(ｴﾝﾄﾘｰ票!$L$16:$L$215,\"女\",ｴﾝﾄﾘｰ票!$V$16:$V$215,P6)","v":0},{"$f":"COUNTIFS(ｴﾝﾄﾘｰ票!$L$16:$L$215,\"女\",ｴﾝﾄﾘｰ票!$N$16:$N$215,Q6)+COUNTIFS(ｴﾝﾄﾘｰ票!$L$16:$L$215,\"女\",ｴﾝﾄﾘｰ票!$R$16:$R$215,Q6)+COUNTIFS(ｴﾝﾄﾘｰ票!$L$16:$L$215,\"女\",ｴﾝﾄﾘｰ票!$V$16:$V$215,Q6)","v":0},{"$f":"COUNTIFS(ｴﾝﾄﾘｰ票!$L$16:$L$215,\"女\",ｴﾝﾄﾘｰ票!$N$16:$N$215,R6)+COUNTIFS(ｴﾝﾄﾘｰ票!$L$16:$L$215,\"女\",ｴﾝﾄﾘｰ票!$R$16:$R$215,R6)+COUNTIFS(ｴﾝﾄﾘｰ票!$L$16:$L$215,\"女\",ｴﾝﾄﾘｰ票!$V$16:$V$215,R6)","v":0},{"$f":"COUNTIFS(ｴﾝﾄﾘｰ票!$L$16:$L$215,\"女\",ｴﾝﾄﾘｰ票!$N$16:$N$215,S6)+COUNTIFS(ｴﾝﾄﾘｰ票!$L$16:$L$215,\"女\",ｴﾝﾄﾘｰ票!$R$16:$R$215,S6)+COUNTIFS(ｴﾝﾄﾘｰ票!$L$16:$L$215,\"女\",ｴﾝﾄﾘｰ票!$V$16:$V$215,S6)","v":0},{"$f":"SUM(B8:S8)+T13","v":0},{"$f":"ｴﾝﾄﾘｰ票!Z12","v":0},{"$f":"ｴﾝﾄﾘｰ票!AA12","v":0},{"$f":"SUM(U8:V8)","v":0}]
[]
[null,"個人種目（600円）",null,null,null,"リレー種目（1200円）",null,null,null,"プログラム（600円）",null,null,null,null,"合計"]
["項目","数","合計",null,null,"数","合計",null,null,"数","合計"]
["男子",{"$f":"T7","v":0},{"$f":"B12*600","v":0},null,null,{"$f":"W7","v":0},{"$f":"F12*1200","v":0},null,null,{"$f":"ｴﾝﾄﾘｰ票!AC11","v":0},{"$f":"J12*600","v":0},null,null,{"$f":"SUM(C12,G12,K12)","v":0}]
["女子",{"$f":"T8","v":0},{"$f":"B13*600","v":0},null,null,{"$f":"W8","v":0},{"$f":"F13*1200","v":0},null,null,{"$f":"ｴﾝﾄﾘｰ票!AC12","v":0},{"$f":"J13*600","v":0},null,null,{"$f":"SUM(C13,G13,K13)","v":0}]
["合計",{"$f":"SUM(B12:B13)","v":0},{"$f":"SUM(C12:E13)","v":0},null,null,{"$f":"SUM(F12:F13)","v":0},{"$f":"SUM(G12:I13)","v":0},null,null,{"$f":"SUM(J12:J13)","v":0},{"$f":"SUM(K12:M13)","v":0},null,null,{"$f":"SUM(N12:Q13)","v":0}]
[]
["加盟・登録費"]
[]
[null,null,"新規加盟のみ(7500円)",null,null,null,null,"個人登録(1000円)"]
["項目","○印",null,null,"合計",null,null,"数",null,"合計",null,null,null,null,"合計"]
["男子",null,null,null,null,{"$f":"IF(B20=\"○\",\"7,500\",0)","v":0},null,null,null,null,{"$f":"IF(H20=\"\",0,H20*1000)","v":0},null,null,{"$f":"IF(F20=\"\",0,F20)+IF(K20=\"\",0,K20)","v":0}]
["女子",null,null,null,null,{"$f":"IF(B21=\"○\",\"7,500\",0)","v":0},null,null,null,null,{"$f":"IF(H21=\"\",0,H21*1000)","v":0},null,null,{"$f":"F21+K21","v":0}]
["合計",{"$f":"IF(IF(B20=\"○\",1,0)+IF(B21=\"○\",1,0)=0,\"\",IF(B20=\"○\",1,0)+IF(B21=\"○\",1,0))","v":""},null,null,{"$f":"F20+F21","v":0},null,null,{"$f":"H20+H21","v":0},null,null,{"$f":"IF(H22=\"\",0,H22*1000)","v":0},null,null,null,{"$f":"N21+N20","v":0}]
[]
[null,null,null,null,null,null,null,null,null,null,null,null,"①＋②  ",{"$f":"N14+O22","v":0}]

{"sheet":"リレー確認","index":4,"n_rows":73,"n_cols":22,"rows_kept":73,"cut":false,"hidden":false,"merged":[]}
[null,1,"男４×１００ｍ",null,null,null,null,"男４×4００ｍ",null,null,null,null,"女４×１００ｍ",null,null,null,null,"女４×4００ｍ"]
[null,2]
[null,3,"記録",null,null,null,null,"記録",null,null,null,null,"記録",null,null,null,null,"記録"]
[1,4,{"$f":"IF(ISERROR(VLOOKUP(A5,ｴﾝﾄﾘｰ票!$AO$16:$AT$205,6,0)),\"\",VLOOKUP(A5,ｴﾝﾄﾘｰ票!$AO$16:$AT$205,6,0))","v":""},"氏名",null,"性別","学年",{"$f":"IF(ISERROR(VLOOKUP(A5+100,ｴﾝﾄﾘｰ票!$AU$16:$AZ$205,6,0)),\"\",VLOOKUP(A5+100,ｴﾝﾄﾘｰ票!$AU$16:$AZ$205,6,0))","v":""},"氏名",null,"性別","学年",{"$f":"IF(ISERROR(VLOOKUP(A5+200,ｴﾝﾄﾘｰ票!$BA$16:$BF$205,6,0)),\"\",VLOOKUP(A5+200,ｴﾝﾄﾘｰ票!$BA$16:$BF$205,6,0))","v":""},"氏名",null,"性別","学年",{"$f":"IF(ISERROR(VLOOKUP(A5+300,ｴﾝﾄﾘｰ票!$BG$16:$BL$205,6,0)),\"\",VLOOKUP(A5+300,ｴﾝﾄﾘｰ票!$BG$16:$BL$205,6,0))","v":""},"氏名",null,"性別","学年"]
[11,5,{"$f":"IF(ISERROR(VLOOKUP(A5,ｴﾝﾄﾘｰ票!$A$16:$AH$215,5,0)),\"\",VLOOKUP(A5,ｴﾝﾄﾘｰ票!$A$16:$AH$215,5,0))","v":""},{"$f":"IF(C5=\"\",\"\",VLOOKUP($C5,ｴﾝﾄﾘｰ票!$E$16:$L$215,2,0))","v":""},{"$f":"IF(C5=\"\",\"\",VLOOKUP($C5,ｴﾝﾄﾘｰ票!$E$16:$L$215,3,0))","v":""},{"$f":"IF(C5=\"\",\"\",VLOOKUP($C5,ｴﾝﾄﾘｰ票!$E$16:$L$215,8,0))","v":""},{"$f":"IF(C5=\"\",\"\",VLOOKUP($C5,ｴﾝﾄﾘｰ票!$E$16:$L$215,6,0))","v":""},{"$f":"IF(ISERROR(VLOOKUP(A5+100,ｴﾝﾄﾘｰ票!$AU$16:$AZ$205,4,0)),\"\",VLOOKUP(A5+100,ｴﾝﾄﾘｰ票!$AU$16:$AZ$205,4,0))","v":""},{"$f":"IF(H5=\"\",\"\",VLOOKUP($H5,ｴﾝﾄﾘｰ票!$E$16:$L$215,2,0))","v":""},{"$f":"IF(H5=\"\",\"\",VLOOKUP($H5,ｴﾝﾄﾘｰ票!$E$16:$L$215,3,0))","v":""},{"$f":"IF(H5=\"\",\"\",VLOOKUP($H5,ｴﾝﾄﾘｰ票!$E$16:$L$215,8,0))","v":""},{"$f":"IF(H5=\"\",\"\",VLOOKUP($H5,ｴﾝﾄﾘｰ票!$E$16:$L$215,6,0))","v":""},{"$f":"IF(ISERROR(VLOOKUP(A5+200,ｴﾝﾄﾘｰ票!$BA$16:$BF$205,4,0)),\"\",VLOOKUP(A5+200,ｴﾝﾄﾘｰ票!$BA$16:$BF$205,4,0))","v":""},{"$f":"IF(M5=\"\",\"\",VLOOKUP($M5,ｴﾝﾄﾘｰ票!$E$16:$L$215,2,0))","v":""},{"$f":"IF(M5=\"\",\"\",VLOOKUP($M5,ｴﾝﾄﾘｰ票!$E$16:$L$215,3,0))","v":""},{"$f":"IF(M5=\"\",\"\",VLOOKUP($M5,ｴﾝﾄﾘｰ票!$E$16:$L$215,8,0))","v":""},{"$f":"IF(M5=\"\",\"\",VLOOKUP($M5,ｴﾝﾄﾘｰ票!$E$16:$L$215,6,0))","v":""},{"$f":"IF(ISERROR(VLOOKUP(A5+300,ｴﾝﾄﾘｰ票!$BG$16:$BL$205,4,0)),\"\",VLOOKUP(A5+300,ｴﾝﾄﾘｰ票!$BG$16:$BL$205,4,0))","v":""},{"$f":"IF(R5=\"\",\"\",VLOOKUP($R5,ｴﾝﾄﾘｰ票!$E$16:$L$215,2,0))","v":""},{"$f":"IF(R5=\"\",\"\",VLOOKUP($R5,ｴﾝﾄﾘｰ票!$E$16:$L$215,3,0))","v":""},{"$f":"IF(R5=\"\",\"\",VLOOKUP($R5,ｴﾝﾄﾘｰ票!$E$16:$L$215,8,0))","v":""},{"$f":"IF(R5=\"\",\"\",VLOOKUP($R5,ｴﾝﾄﾘｰ票!$E$16:$L$215,6,0))","v":""}]
[12,6,{"$f":"IF(ISERROR(VLOOKUP(A6,ｴﾝﾄﾘｰ票!$A$16:$AH$215,5,0)),\"\",VLOOKUP(A6,ｴﾝﾄﾘｰ票!$A$16:$AH$215,5,0))","v":""},{"$f":"IF(C6=\"\",\"\",VLOOKUP($C6,ｴﾝﾄﾘｰ票!$E$16:$L$215,2,0))","v":""},{"$f":"IF(C6=\"\",\"\",VLOOKUP($C6,ｴﾝﾄﾘｰ票!$E$16:$L$215,3,0))","v":""},{"$f":"IF(C6=\"\",\"\",VLOOKUP($C6,ｴﾝﾄﾘｰ票!$E$16:$L$215,8,0))","v":""},{"$f":"IF(C6=\"\",\"\",VLOOKUP($C6,ｴﾝﾄﾘｰ票!$E$16:$L$215,6,0))","v":""},{"$f":"IF(ISERROR(VLOOKUP(A6+100,ｴﾝﾄﾘｰ票!$AU$16:$AZ$205,4,0)),\"\",VLOOKUP(A6+100,ｴﾝﾄﾘｰ票!$AU$16:$AZ$205,4,0))","v":""},{"$f":"IF(H6=\"\",\"\",VLOOKUP($H6,ｴﾝﾄﾘｰ票!$E$16:$L$215,2,0))","v":""},{"$f":"IF(H6=\"\",\"\",VLOOKUP($H6,ｴﾝﾄﾘｰ票!$E$16:$L$215,3,0))","v":""},{"$f":"IF(H6=\"\",\"\",VLOOKUP($H6,ｴﾝﾄﾘｰ票!$E$16:$L$215,8,0))","v":""},{"$f":"IF(H6=\"\",\"\",VLOOKUP($H6,ｴﾝﾄﾘｰ票!$E$16:$L$215,6,0))","v":""},{"$f":"IF(ISERROR(VLOOKUP(A6+200,ｴﾝﾄﾘｰ票!$BA$16:$BF$205,4,0)),\"\",VLOOKUP(A6+200,ｴﾝﾄﾘｰ票!$BA$16:$BF$205,4,0))","v":""},{"$f":"IF(M6=\"\",\"\",VLOOKUP($M6,ｴﾝﾄﾘｰ票!$E$16:$L$215,2,0))","v":""},{"$f":"IF(M6=\"\",\"\",VLOOKUP($M6,ｴﾝﾄﾘｰ票!$E$16:$L$215,3,0))","v":""},{"$f":"IF(M6=\"\",\"\",VLOOKUP($M6,ｴﾝﾄﾘｰ票!$E$16:$L$215,8,0))","v":""},{"$f":"IF(M6=\"\",\"\",VLOOKUP($M6,ｴﾝﾄﾘｰ票!$E$16:$L$215,6,0))","v":""},{"$f":"IF(ISERROR(VLOOKUP(A6+300,ｴﾝﾄﾘｰ票!$BG$16:$BL$205,4,0)),\"\",VLOOKUP(A6+300,ｴﾝﾄﾘｰ票!$BG$16:$BL$205,4,0))","v":""},{"$f":"IF(R6=\"\",\"\",VLOOKUP($R6,ｴﾝﾄﾘｰ票!$E$16:$L$215,2,0))","v":""},{"$f":"IF(R6=\"\",\"\",VLOOKUP($R6,ｴﾝﾄﾘｰ票!$E$16:$L$215,3,0))","v":""},{"$f":"IF(R6=\"\",\"\",VLOOKUP($R6,ｴﾝﾄﾘｰ票!$E$16:$L$215,8,0))","v":""},{"$f":"IF(R6=\"\",\"\",VLOOKUP($R6,ｴﾝﾄﾘｰ票!$E$16:$L$215,6,0))","v":""}]
[13,7,{"$f":"IF(ISERROR(VLOOKUP(A7,ｴﾝﾄﾘｰ票!$A$16:$AH$215,5,0)),\"\",VLOOKUP(A7,ｴﾝﾄﾘｰ票!$A$16:$AH$215,5,0))","v":""},{"$f":"IF(C7=\"\",\"\",VLOOKUP($C7,ｴﾝﾄﾘｰ票!$E$16:$L$215,2,0))","v":""},{"$f":"IF(C7=\"\",\"\",VLOOKUP($C7,ｴﾝﾄﾘｰ票!$E$16:$L$215,3,0))","v":""},{"$f":"IF(C7=\"\",\"\",VLOOKUP($C7,ｴﾝﾄﾘｰ票!$E$16:$L$215,8,0))","v":""},{"$f":"IF(C7=\"\",\"\",VLOOKUP($C7,ｴﾝﾄﾘｰ票!$E$16:$L$215,6,0))","v":""},{"$f":"IF(ISERROR(VLOOKUP(A7+100,ｴﾝﾄﾘｰ票!$AU$16:$AZ$205,4,0)),\"\",VLOOKUP(A7+100,ｴﾝﾄﾘｰ票!$AU$16:$AZ$205,4,0))","v":""},{"$f":"IF(H7=\"\",\"\",VLOOKUP($H7,ｴﾝﾄﾘｰ票!$E$16:$L$215,2,0))","v":""},{"$f":"IF(H7=\"\",\"\",VLOOKUP($H7,ｴﾝﾄﾘｰ票!$E$16:$L$215,3,0))","v":""},{"$f":"IF(H7=\"\",\"\",VLOOKUP($H7,ｴﾝﾄﾘｰ票!$E$16:$L$215,8,0))","v":""},{"$f":"IF(H7=\"\",\"\",VLOOKUP($H7,ｴﾝﾄﾘｰ票!$E$16:$L$215,6,0))","v":""},{"$f":"IF(ISERROR(VLOOKUP(A7+200,ｴﾝﾄﾘｰ票!$BA$16:$BF$205,4,0)),\"\",VLOOKUP(A7+200,ｴﾝﾄﾘｰ票!$BA$16:$BF$205,4,0))","v":""},{"$f":"IF(M7=\"\",\"\",VLOOKUP($M7,ｴﾝﾄﾘｰ票!$E$16:$L$215,2,0))","v":""},{"$f":"IF(M7=\"\",\"\",VLOOKUP($M7,ｴﾝﾄﾘｰ票!$E$16:$L$215,3,0))","v":""},{"$f":"IF(M7=\"\",\"\",VLOOKUP($M7,ｴﾝﾄﾘｰ票!$E$16:$L$215,8,0))","v":""},{"$f":"IF(M7=\"\",\"\",VLOOKUP($M7,ｴﾝﾄﾘｰ票!$E$16:$L$215,6,0))","v":""},{"$f":"IF(ISERROR(VLOOKUP(A7+300,ｴﾝﾄﾘｰ票!$BG$16:$BL$205,4,0)),\"\",VLOOKUP(A7+300,ｴﾝﾄﾘｰ票!$BG$16:$BL$205,4,0))","v":""},{"$f":"IF(R7=\"\",\"\",VLOOKUP($R7,ｴﾝﾄﾘｰ票!$E$16:$L$215,2,0))","v":""},{"$f":"IF(R7=\"\",\"\",VLOOKUP($R7,ｴﾝﾄﾘｰ票!$E$16:$L$215,3,0))","v":""},{"$f":"IF(R7=\"\",\"\",VLOOKUP($R7,ｴﾝﾄﾘｰ票!$E$16:$L$215,8,0))","v":""},{"$f":"IF(R7=\"\",\"\",VLOOKUP($R7,ｴﾝﾄﾘｰ票!$E$16:$L$215,6,0))","v":""}]
[14,8,{"$f":"IF(ISERROR(VLOOKUP(A8,ｴﾝﾄﾘｰ票!$A$16:$AH$215,5,0)),\"\",VLOOKUP(A8,ｴﾝﾄﾘｰ票!$A$16:$AH$215,5,0))","v":""},{"$f":"IF(C8=\"\",\"\",VLOOKUP($C8,ｴﾝﾄﾘｰ票!$E$16:$L$215,2,0))","v":""},{"$f":"IF(C8=\"\",\"\",VLOOKUP($C8,ｴﾝﾄﾘｰ票!$E$16:$L$215,3,0))","v":""},{"$f":"IF(C8=\"\",\"\",VLOOKUP($C8,ｴﾝﾄﾘｰ票!$E$16:$L$215,8,0))","v":""},{"$f":"IF(C8=\"\",\"\",VLOOKUP($C8,ｴﾝﾄﾘｰ票!$E$16:$L$215,6,0))","v":""},{"$f":"IF(ISERROR(VLOOKUP(A8+100,ｴﾝﾄﾘｰ票!$AU$16:$AZ$205,4,0)),\"\",VLOOKUP(A8+100,ｴﾝﾄﾘｰ票!$AU$16:$AZ$205,4,0))","v":""},{"$f":"IF(H8=\"\",\"\",VLOOKUP($H8,ｴﾝﾄﾘｰ票!$E$16:$L$215,2,0))","v":""},{"$f":"IF(H8=\"\",\"\",VLOOKUP($H8,ｴﾝﾄﾘｰ票!$E$16:$L$215,3,0))","v":""},{"$f":"IF(H8=\"\",\"\",VLOOKUP($H8,ｴﾝﾄﾘｰ票!$E$16:$L$215,8,0))","v":""},{"$f":"IF(H8=\"\",\"\",VLOOKUP($H8,ｴﾝﾄﾘｰ票!$E$16:$L$215,6,0))","v":""},{"$f":"IF(ISERROR(VLOOKUP(A8+200,ｴﾝﾄﾘｰ票!$BA$16:$BF$205,4,0)),\"\",VLOOKUP(A8+200,ｴﾝﾄﾘｰ票!$BA$16:$BF$205,4,0))","v":""},{"$f":"IF(M8=\"\",\"\",VLOOKUP($M8,ｴﾝﾄﾘｰ票!$E$16:$L$215,2,0))","v":""},{"$f":"IF(M8=\"\",\"\",VLOOKUP($M8,ｴﾝﾄﾘｰ票!$E$16:$L$215,3,0))","v":""},{"$f":"IF(M8=\"\",\"\",VLOOKUP($M8,ｴﾝﾄﾘｰ票!$E$16:$L$215,8,0))","v":""},{"$f":"IF(M8=\"\",\"\",VLOOKUP($M8,ｴﾝﾄﾘｰ票!$E$16:$L$215,6,0))","v":""},{"$f":"IF(ISERROR(VLOOKUP(A8+300,ｴﾝﾄﾘｰ票!$BG$16:$BL$205,4,0)),\"\",VLOOKUP(A8+300,ｴﾝﾄﾘｰ票!$BG$16:$BL$205,4,0))","v":""},{"$f":"IF(R8=\"\",\"\",VLOOKUP($R8,ｴﾝﾄﾘｰ票!$E$16:$L$215,2,0))","v":""},{"$f":"IF(R8=\"\",\"\",VLOOKUP($R8,ｴﾝﾄﾘｰ票!$E$16:$L$215,3,0))","v":""},{"$f":"IF(R8=\"\",\"\",VLOOKUP($R8,ｴﾝﾄﾘｰ票!$E$16:$L$215,8,0))","v":""},{"$f":"IF(R8=\"\",\"\",VLOOKUP($R8,ｴﾝﾄﾘｰ票!$E$16:$L$215,6,0))","v":""}]
[15,9,{"$f":"IF(ISERROR(VLOOKUP(A9,ｴﾝﾄﾘｰ票!$A$16:$AH$215,5,0)),\"\",VLOOKUP(A9,ｴﾝﾄﾘｰ票!$A$16:$AH$215,5,0))","v":""},{"$f":"IF(C9=\"\",\"\",VLOOKUP($C9,ｴﾝﾄﾘｰ票!$E$16:$L$215,2,0))","v":""},{"$f":"IF(C9=\"\",\"\",VLOOKUP($C9,ｴﾝﾄﾘｰ票!$E$16:$L$215,3,0))","v":""},{"$f":"IF(C9=\"\",\"\",VLOOKUP($C9,ｴﾝﾄﾘｰ票!$E$16:$L$215,8,0))","v":""},{"$f":"IF(C9=\"\",\"\",VLOOKUP($C9,ｴﾝﾄﾘｰ票!$E$16:$L$215,6,0))","v":""},{"$f":"IF(ISERROR(VLOOKUP(A9+100,ｴﾝﾄﾘｰ票!$AU$16:$AZ$205,4,0)),\"\",VLOOKUP(A9+100,ｴﾝﾄﾘｰ票!$AU$16:$AZ$205,4,0))","v":""},{"$f":"IF(H9=\"\",\"\",VLOOKUP($H9,ｴﾝﾄﾘｰ票!$E$16:$L$215,2,0))","v":""},{"$f":"IF(H9=\"\",\"\",VLOOKUP($H9,ｴﾝﾄﾘｰ票!$E$16:$L$215,3,0))","v":""},{"$f":"IF(H9=\"\",\"\",VLOOKUP($H9,ｴﾝﾄﾘｰ票!$E$16:$L$215,8,0))","v":""},{"$f":"IF(H9=\"\",\"\",VLOOKUP($H9,ｴﾝﾄﾘｰ票!$E$16:$L$215,6,0))","v":""},{"$f":"IF(ISERROR(VLOOKUP(A9+200,ｴﾝﾄﾘｰ票!$BA$16:$BF$205,4,0)),\"\",VLOOKUP(A9+200,ｴﾝﾄﾘｰ票!$BA$16:$BF$205,4,0))","v":""},{"$f":"IF(M9=\"\",\"\",VLOOKUP($M9,ｴﾝﾄﾘｰ票!$E$16:$L$215,2,0))","v":""},{"$f":"IF(M9=\"\",\"\",VLOOKUP($M9,ｴﾝﾄﾘｰ票!$E$16:$L$215,3,0))","v":""},{"$f":"IF(M9=\"\",\"\",VLOOKUP($M9,ｴﾝﾄﾘｰ票!$E$16:$L$215,8,0))","v":""},{"$f":"IF(M9=\"\",\"\",VLOOKUP($M9,ｴﾝﾄﾘｰ票!$E$16:$L$215,6,0))","v":""},{"$f":"IF(ISERROR(VLOOKUP(A9+300,ｴﾝﾄﾘｰ票!$BG$16:$BL$205,4,0)),\"\",VLOOKUP(A9+300,ｴﾝﾄﾘｰ票!$BG$16:$BL$205,4,0))","v":""},{"$f":"IF(R9=\"\",\"\",VLOOKUP($R9,ｴﾝﾄﾘｰ票!$E$16:$L$215,2,0))","v":""},{"$f":"IF(R9=\"\",\"\",VLOOKUP($R9,ｴﾝﾄﾘｰ票!$E$16:$L$215,3,0))","v":""},{"$f":"IF(R9=\"\",\"\",VLOOKUP($R9,ｴﾝﾄﾘｰ票!$E$16:$L$215,8,0))","v":""},{"$f":"IF(R9=\"\",\"\",VLOOKUP($R9,ｴﾝﾄﾘｰ票!$E$16:$L$215,6,0))","v":""}]
[16,10,{"$f":"IF(ISERROR(VLOOKUP(A10,ｴﾝﾄﾘｰ票!$A$16:$AH$215,5,0)),\"\",VLOOKUP(A10,ｴﾝﾄﾘｰ票!$A$16:$AH$215,5,0))","v":""},{"$f":"IF(C10=\"\",\"\",VLOOKUP($C10,ｴﾝﾄﾘｰ票!$E$16:$L$215,2,0))","v":""},{"$f":"IF(C10=\"\",\"\",VLOOKUP($C10,ｴﾝﾄﾘｰ票!$E$16:$L$215,3,0))","v":""},{"$f":"IF(C10=\"\",\"\",VLOOKUP($C10,ｴﾝﾄﾘｰ票!$E$16:$L$215,8,0))","v":""},{"$f":"IF(C10=\"\",\"\",VLOOKUP($C10,ｴﾝﾄﾘｰ票!$E$16:$L$215,6,0))","v":""},{"$f":"IF(ISERROR(VLOOKUP(A10+100,ｴﾝﾄﾘｰ票!$AU$16:$AZ$205,4,0)),\"\",VLOOKUP(A10+100,ｴﾝﾄﾘｰ票!$AU$16:$AZ$205,4,0))","v":""},{"$f":"IF(H10=\"\",\"\",VLOOKUP($H10,ｴﾝﾄﾘｰ票!$E$16:$L$215,2,0))","v":""},{"$f":"IF(H10=\"\",\"\",VLOOKUP($H10,ｴﾝﾄﾘｰ票!$E$16:$L$215,3,0))","v":""},{"$f":"IF(H10=\"\",\"\",VLOOKUP($H10,ｴﾝﾄﾘｰ票!$E$16:$L$215,8,0))","v":""},{"$f":"IF(H10=\"\",\"\",VLOOKUP($H10,ｴﾝﾄﾘｰ票!$E$16:$L$215,6,0))","v":""},{"$f":"IF(ISERROR(VLOOKUP(A10+200,ｴﾝﾄﾘｰ票!$BA$16:$BF$205,4,0)),\"\",VLOOKUP(A10+200,ｴﾝﾄﾘｰ票!$BA$16:$BF$205,4,0))","v":""},{"$f":"IF(M10=\"\",\"\",VLOOKUP($M10,ｴﾝﾄﾘｰ票!$E$16:$L$215,2,0))","v":""},{"$f":"IF(M10=\"\",\"\",VLOOKUP($M10,ｴﾝﾄﾘｰ票!$E$16:$L$215,3,0))","v":""},{"$f":"IF(M10=\"\",\"\",VLOOKUP($M10,ｴﾝﾄﾘｰ票!$E$16:$L$215,8,0))","v":""},{"$f":"IF(M10=\"\",\"\",VLOOKUP($M10,ｴﾝﾄﾘｰ票!$E$16:$L$215,6,0))","v":""},{"$f":"IF(ISERROR(VLOOKUP(A10+300,ｴﾝﾄﾘｰ票!$BG$16:$BL$205,4,0)),\"\",VLOOKUP(A10+300,ｴﾝﾄﾘｰ票!$BG$16:$BL$205,4,0))","v":""},{"$f":"IF(R10=\"\",\"\",VLOOKUP($R10,ｴﾝﾄﾘｰ票!$E$16:$L$215,2,0))","v":""},{"$f":"IF(R10=\"\",\"\",VLOOKUP($R10,ｴﾝﾄﾘｰ票!$E$16:$L$215,3,0))","v":""},{"$f":"IF(R10=\"\",\"\",VLOOKUP($R10,ｴﾝﾄﾘｰ票!$E$16:$L$215,8,0))","v":""},{"$f":"IF(R10=\"\",\"\",VLOOKUP($R10,ｴﾝﾄﾘｰ票!$E$16:$L$215,6,0))","v":""}]
[2,11,{"$f":"IF(ISERROR(VLOOKUP(A12,ｴﾝﾄﾘｰ票!$AO$16:$AT$205,6,0)),\"\",VLOOKUP(A12,ｴﾝﾄﾘｰ票!$AO$16:$AT$205,6,0))","v":""},"氏名",null,"性別","学年",{"$f":"IF(ISERROR(VLOOKUP(A12+100,ｴﾝﾄﾘｰ票!$AU$16:$AZ$205,6,0)),\"\",VLOOKUP(A12+100,ｴﾝﾄﾘｰ票!$AU$16:$AZ$205,6,0))","v":""},"氏名",null,"性別","学年",{"$f":"IF(ISERROR(VLOOKUP(A12+200,ｴﾝﾄﾘｰ票!$BA$16:$BF$205,6,0)),\"\",VLOOKUP(A12+200,ｴﾝﾄﾘｰ票!$BA$16:$BF$205,6,0))","v":""},"氏名",null,"性別","学年",{"$f":"IF(ISERROR(VLOOKUP(A12+300,ｴﾝﾄﾘｰ票!$BG$16:$BL$205,6,0)),\"\",VLOOKUP(A12+300,ｴﾝﾄﾘｰ票!$BG$16:$BL$205,6,0))","v":""},"氏名",null,"性別","学年"]
[21,12,{"$f":"IF(ISERROR(VLOOKUP(A12,ｴﾝﾄﾘｰ票!$A$16:$AH$215,5,0)),\"\",VLOOKUP(A12,ｴﾝﾄﾘｰ票!$A$16:$AH$215,5,0))","v":""},{"$f":"IF(C12=\"\",\"\",VLOOKUP($C12,ｴﾝﾄﾘｰ票!$E$16:$L$215,2,0))","v":""},{"$f":"IF(C12=\"\",\"\",VLOOKUP($C12,ｴﾝﾄﾘｰ票!$E$16:$L$215,3,0))","v":""},{"$f":"IF(C12=\"\",\"\",VLOOKUP($C12,ｴﾝﾄﾘｰ票!$E$16:$L$215,8,0))","v":""},{"$f":"IF(C12=\"\",\"\",VLOOKUP($C12,ｴﾝﾄﾘｰ票!$E$16:$L$215,6,0))","v":""},{"$f":"IF(ISERROR(VLOOKUP(A12+100,ｴﾝﾄﾘｰ票!$AU$16:$AZ$205,4,0)),\"\",VLOOKUP(A12+100,ｴﾝﾄﾘｰ票!$AU$16:$AZ$205,4,0))","v":""},{"$f":"IF(H12=\"\",\"\",VLOOKUP($H12,ｴﾝﾄﾘｰ票!$E$16:$L$215,2,0))","v":""},{"$f":"IF(H12=\"\",\"\",VLOOKUP($H12,ｴﾝﾄﾘｰ票!$E$16:$L$215,3,0))","v":""},{"$f":"IF(H12=\"\",\"\",VLOOKUP($H12,ｴﾝﾄﾘｰ票!$E$16:$L$215,8,0))","v":""},{"$f":"IF(H12=\"\",\"\",VLOOKUP($H12,ｴﾝﾄﾘｰ票!$E$16:$L$215,6,0))","v":""},{"$f":"IF(ISERROR(VLOOKUP(A12+200,ｴﾝﾄﾘｰ票!$BA$16:$BF$205,4,0)),\"\",VLOOKUP(A12+200,ｴﾝﾄﾘｰ票!$BA$16:$BF$205,4,0))","v":""},{"$f":"IF(M12=\"\",\"\",VLOOKUP($M12,ｴﾝﾄﾘｰ票!$E$16:$L$215,2,0))","v":""},{"$f":"IF(M12=\"\",\"\",VLOOKUP($M12,ｴﾝﾄﾘｰ票!$E$16:$L$215,3,0))","v":""},{"$f":"IF(M12=\"\",\"\",VLOOKUP($M12,ｴﾝﾄﾘｰ票!$E$16:$L$215,8,0))","v":""},{"$f":"IF(M12=\"\",\"\",VLOOKUP($M12,ｴﾝﾄﾘｰ票!$E$16:$L$215,6,0))","v":""},{"$f":"IF(ISERROR(VLOOKUP(A12+300,ｴﾝﾄﾘｰ票!$BG$16:$BL$205,4,0)),\"\",VLOOKUP(A12+300,ｴﾝﾄﾘｰ票!$BG$16:$BL$205,4,0))","v":""},{"$f":"IF(R12=\"\",\"\",VLOOKUP($R12,ｴﾝﾄﾘｰ票!$E$16:$L$215,2,0))","v":""},{"$f":"IF(R12=\"\",\"\",VLOOKUP($R12,ｴﾝﾄﾘｰ票!$E$16:$L$215,3,0))","v":""},{"$f":"IF(R12=\"\",\"\",VLOOKUP($R12,ｴﾝﾄﾘｰ票!$E$16:$L$215,8,0))","v":""},{"$f":"IF(R12=\"\",\"\",VLOOKUP($R12,ｴﾝﾄﾘｰ票!$E$16:$L$215,6,0))","v":""}]
[22,13,{"$f":"IF(ISERROR(VLOOKUP(A13,ｴﾝﾄﾘｰ票!$A$16:$AH$215,5,0)),\"\",VLOOKUP(A13,ｴﾝﾄﾘｰ票!$A$16:$AH$215,5,0))","v":""},{"$f":"IF(C13=\"\",\"\",VLOOKUP($C13,ｴﾝﾄﾘｰ票!$E$16:$L$215,2,0))","v":""},{"$f":"IF(C13=\"\",\"\",VLOOKUP($C13,ｴﾝﾄﾘｰ票!$E$16:$L$215,3,0))","v":""},{"$f":"IF(C13=\"\",\"\",VLOOKUP($C13,ｴﾝﾄﾘｰ票!$E$16:$L$215,8,0))","v":""},{"$f":"IF(C13=\"\",\"\",VLOOKUP($C13,ｴﾝﾄﾘｰ票!$E$16:$L$215,6,0))","v":""},{"$f":"IF(ISERROR(VLOOKUP(A13+100,ｴﾝﾄﾘｰ票!$AU$16:$AZ$205,4,0)),\"\",VLOOKUP(A13+100,ｴﾝﾄﾘｰ票!$AU$16:$AZ$205,4,0))","v":""},{"$f":"IF(H13=\"\",\"\",VLOOKUP($H13,ｴﾝﾄﾘｰ票!$E$16:$L$215,2,0))","v":""},{"$f":"IF(H13=\"\",\"\",VLOOKUP($H13,ｴﾝﾄﾘｰ票!$E$16:$L$215,3,0))","v":""},{"$f":"IF(H13=\"\",\"\",VLOOKUP($H13,ｴﾝﾄﾘｰ票!$E$16:$L$215,8,0))","v":""},{"$f":"IF(H13=\"\",\"\",VLOOKUP($H13,ｴﾝﾄﾘｰ票!$E$16:$L$215,6,0))","v":""},{"$f":"IF(ISERROR(VLOOKUP(A13+200,ｴﾝﾄﾘｰ票!$BA$16:$BF$205,4,0)),\"\",VLOOKUP(A13+200,ｴﾝﾄﾘｰ票!$BA$16:$BF$205,4,0))","v":""},{"$f":"IF(M13=\"\",\"\",VLOOKUP($M13,ｴﾝﾄﾘｰ票!$E$16:$L$215,2,0))","v":""},{"$f":"IF(M13=\"\",\"\",VLOOKUP($M13,ｴﾝﾄﾘｰ票!$E$16:$L$215,3,0))","v":""},{"$f":"IF(M13=\"\",\"\",VLOOKUP($M13,ｴﾝﾄﾘｰ票!$E$16:$L$215,8,0))","v":""},{"$f":"IF(M13=\"\",\"\",VLOOKUP($M13,ｴﾝﾄﾘｰ票!$E$16:$L$215,6,0))","v":""},{"$f":"IF(ISERROR(VLOOKUP(A13+300,ｴﾝﾄﾘｰ票!$BG$16:$BL$205,4,0)),\"\",VLOOKUP(A13+300,ｴﾝﾄﾘｰ票!$BG$16:$BL$205,4,0))","v":""},{"$f":"IF(R13=\"\",\"\",VLOOKUP($R13,ｴﾝﾄﾘｰ票!$E$16:$L$215,2,0))","v":""},{"$f":"IF(R13=\"\",\"\",VLOOKUP($R13,ｴﾝﾄﾘｰ票!$E$16:$L$215,3,0))","v":""},{"$f":"IF(R13=\"\",\"\",VLOOKUP($R13,ｴﾝﾄﾘｰ票!$E$16:$L$215,8,0))","v":""},{"$f":"IF(R13=\"\",\"\",VLOOKUP($R13,ｴﾝﾄﾘｰ票!$E$16:$L$215,6,0))","v":""}]
[23,14,{"$f":"IF(ISERROR(VLOOKUP(A14,ｴﾝﾄﾘｰ票!$A$16:$AH$215,5,0)),\"\",VLOOKUP(A14,ｴﾝﾄﾘｰ票!$A$16:$AH$215,5,0))","v":""},{"$f":"IF(C14=\"\",\"\",VLOOKUP($C14,ｴﾝﾄﾘｰ票!$E$16:$L$215,2,0))","v":""},{"$f":"IF(C14=\"\",\"\",VLOOKUP($C14,ｴﾝﾄﾘｰ票!$E$16:$L$215,3,0))","v":""},{"$f":"IF(C14=\"\",\"\",VLOOKUP($C14,ｴﾝﾄﾘｰ票!$E$16:$L$215,8,0))","v":""},{"$f":"IF(C14=\"\",\"\",VLOOKUP($C14,ｴﾝﾄﾘｰ票!$E$16:$L$215,6,0))","v":""},{"$f":"IF(ISERROR(VLOOKUP(A14+100,ｴﾝﾄﾘｰ票!$AU$16:$AZ$205,4,0)),\"\",VLOOKUP(A14+100,ｴﾝﾄﾘｰ票!$AU$16:$AZ$205,4,0))","v":""},{"$f":"IF(H14=\"\",\"\",VLOOKUP($H14,ｴﾝﾄﾘｰ票!$E$16:$L$215,2,0))","v":""},{"$f":"IF(H14=\"\",\"\",VLOOKUP($H14,ｴﾝﾄﾘｰ票!$E$16:$L$215,3,0))","v":""},{"$f":"IF(H14=\"\",\"\",VLOOKUP($H14,ｴﾝﾄﾘｰ票!$E$16:$L$215,8,0))","v":""},{"$f":"IF(H14=\"\",\"\",VLOOKUP($H14,ｴﾝﾄﾘｰ票!$E$16:$L$215,6,0))","v":""},{"$f":"IF(ISERROR(VLOOKUP(A14+200,ｴﾝﾄﾘｰ票!$BA$16:$BF$205,4,0)),\"\",VLOOKUP(A14+200,ｴﾝﾄﾘｰ票!$BA$16:$BF$205,4,0))","v":""},{"$f":"IF(M14=\"\",\"\",VLOOKUP($M14,ｴﾝﾄﾘｰ票!$E$16:$L$215,2,0))","v":""},{"$f":"IF(M14=\"\",\"\",VLOOKUP($M14,ｴﾝﾄﾘｰ票!$E$16:$L$215,3,0))","v":""},{"$f":"IF(M14=\"\",\"\",VLOOKUP($M14,ｴﾝﾄﾘｰ票!$E$16:$L$215,8,0))","v":""},{"$f":"IF(M14=\"\",\"\",VLOOKUP($M14,ｴﾝﾄﾘｰ票!$E$16:$L$215,6,0))","v":""},{"$f":"IF(ISERROR(VLOOKUP(A14+300,ｴﾝﾄﾘｰ票!$BG$16:$BL$205,4,0)),\"\",VLOOKUP(A14+300,ｴﾝﾄﾘｰ票!$BG$16:$BL$205,4,0))","v":""},{"$f":"IF(R14=\"\",\"\",VLOOKUP($R14,ｴﾝﾄﾘｰ票!$E$16:$L$215,2,0))","v":""},{"$f":"IF(R14=\"\",\"\",VLOOKUP($R14,ｴﾝﾄﾘｰ票!$E$16:$L$215,3,0))","v":""},{"$f":"IF(R14=\"\",\"\",VLOOKUP($R14,ｴﾝﾄﾘｰ票!$E$16:$L$215,8,0))","v":""},{"$f":"IF(R14=\"\",\"\",VLOOKUP($R14,ｴﾝﾄﾘｰ票!$E$16:$L$215,6,0))","v":""}]
[24,15,{"$f":"IF(ISERROR(VLOOKUP(A15,ｴﾝﾄﾘｰ票!$A$16:$AH$215,5,0)),\"\",VLOOKUP(A15,ｴﾝﾄﾘｰ票!$A$16:$AH$215,5,0))","v":""},{"$f":"IF(C15=\"\",\"\",VLOOKUP($C15,ｴﾝﾄﾘｰ票!$E$16:$L$215,2,0))","v":""},{"$f":"IF(C15=\"\",\"\",VLOOKUP($C15,ｴﾝﾄﾘｰ票!$E$16:$L$215,3,0))","v":""},{"$f":"IF(C15=\"\",\"\",VLOOKUP($C15,ｴﾝﾄﾘｰ票!$E$16:$L$215,8,0))","v":""},{"$f":"IF(C15=\"\",\"\",VLOOKUP($C15,ｴﾝﾄﾘｰ票!$E$16:$L$215,6,0))","v":""},{"$f":"IF(ISERROR(VLOOKUP(A15+100,ｴﾝﾄﾘｰ票!$AU$16:$AZ$205,4,0)),\"\",VLOOKUP(A15+100,ｴﾝﾄﾘｰ票!$AU$16:$AZ$205,4,0))","v":""},{"$f":"IF(H15=\"\",\"\",VLOOKUP($H15,ｴﾝﾄﾘｰ票!$E$16:$L$215,2,0))","v":""},{"$f":"IF(H15=\"\",\"\",VLOOKUP($H15,ｴﾝﾄﾘｰ票!$E$16:$L$215,3,0))","v":""},{"$f":"IF(H15=\"\",\"\",VLOOKUP($H15,ｴﾝﾄﾘｰ票!$E$16:$L$215,8,0))","v":""},{"$f":"IF(H15=\"\",\"\",VLOOKUP($H15,ｴﾝﾄﾘｰ票!$E$16:$L$215,6,0))","v":""},{"$f":"IF(ISERROR(VLOOKUP(A15+200,ｴﾝﾄﾘｰ票!$BA$16:$BF$205,4,0)),\"\",VLOOKUP(A15+200,ｴﾝﾄﾘｰ票!$BA$16:$BF$205,4,0))","v":""},{"$f":"IF(M15=\"\",\"\",VLOOKUP($M15,ｴﾝﾄﾘｰ票!$E$16:$L$215,2,0))","v":""},{"$f":"IF(M15=\"\",\"\",VLOOKUP($M15,ｴﾝﾄﾘｰ票!$E$16:$L$215,3,0))","v":""},{"$f":"IF(M15=\"\",\"\",VLOOKUP($M15,ｴﾝﾄﾘｰ票!$E$16:$L$215,8,0))","v":""},{"$f":"IF(M15=\"\",\"\",VLOOKUP($M15,ｴﾝﾄﾘｰ票!$E$16:$L$215,6,0))","v":""},{"$f":"IF(ISERROR(VLOOKUP(A15+300,ｴﾝﾄﾘｰ票!$BG$16:$BL$205,4,0)),\"\",VLOOKUP(A15+300,ｴﾝﾄﾘｰ票!$BG$16:$BL$205,4,0))","v":""},{"$f":"IF(R15=\"\",\"\",VLOOKUP($R15,ｴﾝﾄﾘｰ票!$E$16:$L$215,2,0))","v":""},{"$f":"IF(R15=\"\",\"\",VLOOKUP($R15,ｴﾝﾄﾘｰ票!$E$16:$L$215,3,0))","v":""},{"$f":"IF(R15=\"\",\"\",VLOOKUP($R15,ｴﾝﾄﾘｰ票!$E$16:$L$215,8,0))","v":""},{"$f":"IF(R15=\"\",\"\",VLOOKUP($R15,ｴﾝﾄﾘｰ票!$E$16:$L$215,6,0))","v":""}]
[25,16,{"$f":"IF(ISERROR(VLOOKUP(A16,ｴﾝﾄﾘｰ票!$A$16:$AH$215,5,0)),\"\",VLOOKUP(A16,ｴﾝﾄﾘｰ票!$A$16:$AH$215,5,0))","v":""},{"$f":"IF(C16=\"\",\"\",VLOOKUP($C16,ｴﾝﾄﾘｰ票!$E$16:$L$215,2,0))","v":""},{"$f":"IF(C16=\"\",\"\",VLOOKUP($C16,ｴﾝﾄﾘｰ票!$E$16:$L$215,3,0))","v":""},{"$f":"IF(C16=\"\",\"\",VLOOKUP($C16,ｴﾝﾄﾘｰ票!$E$16:$L$215,8,0))","v":""},{"$f":"IF(C16=\"\",\"\",VLOOKUP($C16,ｴﾝﾄﾘｰ票!$E$16:$L$215,6,0))","v":""},{"$f":"IF(ISERROR(VLOOKUP(A16+100,ｴﾝﾄﾘｰ票!$AU$16:$AZ$205,4,0)),\"\",VLOOKUP(A16+100,ｴﾝﾄﾘｰ票!$AU$16:$AZ$205,4,0))","v":""},{"$f":"IF(H16=\"\",\"\",VLOOKUP($H16,ｴﾝﾄﾘｰ票!$E$16:$L$215,2,0))","v":""},{"$f":"IF(H16=\"\",\"\",VLOOKUP($H16,ｴﾝﾄﾘｰ票!$E$16:$L$215,3,0))","v":""},{"$f":"IF(H16=\"\",\"\",VLOOKUP($H16,ｴﾝﾄﾘｰ票!$E$16:$L$215,8,0))","v":""},{"$f":"IF(H16=\"\",\"\",VLOOKUP($H16,ｴﾝﾄﾘｰ票!$E$16:$L$215,6,0))","v":""},{"$f":"IF(ISERROR(VLOOKUP(A16+200,ｴﾝﾄﾘｰ票!$BA$16:$BF$205,4,0)),\"\",VLOOKUP(A16+200,ｴﾝﾄﾘｰ票!$BA$16:$BF$205,4,0))","v":""},{"$f":"IF(M16=\"\",\"\",VLOOKUP($M16,ｴﾝﾄﾘｰ票!$E$16:$L$215,2,0))","v":""},{"$f":"IF(M16=\"\",\"\",VLOOKUP($M16,ｴﾝﾄﾘｰ票!$E$16:$L$215,3,0))","v":""},{"$f":"IF(M16=\"\",\"\",VLOOKUP($M16,ｴﾝﾄﾘｰ票!$E$16:$L$215,8,0))","v":""},{"$f":"IF(M16=\"\",\"\",VLOOKUP($M16,ｴﾝﾄﾘｰ票!$E$16:$L$215,6,0))","v":""},{"$f":"IF(ISERROR(VLOOKUP(A16+300,ｴﾝﾄﾘｰ票!$BG$16:$BL$205,4,0)),\"\",VLOOKUP(A16+300,ｴﾝﾄﾘｰ票!$BG$16:$BL$205,4,0))","v":""},{"$f":"IF(R16=\"\",\"\",VLOOKUP($R16,ｴﾝﾄﾘｰ票!$E$16:$L$215,2,0))","v":""},{"$f":"IF(R16=\"\",\"\",VLOOKUP($R16,ｴﾝﾄﾘｰ票!$E$16:$L$215,3,0))","v":""},{"$f":"IF(R16=\"\",\"\",VLOOKUP($R16,ｴﾝﾄﾘｰ票!$E$16:$L$215,8,0))","v":""},{"$f":"IF(R16=\"\",\"\",VLOOKUP($R16,ｴﾝﾄﾘｰ票!$E$16:$L$215,6,0))","v":""}]
[26,17,{"$f":"IF(ISERROR(VLOOKUP(A17,ｴﾝﾄﾘｰ票!$A$16:$AH$215,5,0)),\"\",VLOOKUP(A17,ｴﾝﾄﾘｰ票!$A$16:$AH$215,5,0))","v":""},{"$f":"IF(C17=\"\",\"\",VLOOKUP($C17,ｴﾝﾄﾘｰ票!$E$16:$L$215,2,0))","v":""},{"$f":"IF(C17=\"\",\"\",VLOOKUP($C17,ｴﾝﾄﾘｰ票!$E$16:$L$215,3,0))","v":""},{"$f":"IF(C17=\"\",\"\",VLOOKUP($C17,ｴﾝﾄﾘｰ票!$E$16:$L$215,8,0))","v":""},{"$f":"IF(C17=\"\",\"\",VLOOKUP($C17,ｴﾝﾄﾘｰ票!$E$16:$L$215,6,0))","v":""},{"$f":"IF(ISERROR(VLOOKUP(A17+100,ｴﾝﾄﾘｰ票!$AU$16:$AZ$205,4,0)),\"\",VLOOKUP(A17+100,ｴﾝﾄﾘｰ票!$AU$16:$AZ$205,4,0))","v":""},{"$f":"IF(H17=\"\",\"\",VLOOKUP($H17,ｴﾝﾄﾘｰ票!$E$16:$L$215,2,0))","v":""},{"$f":"IF(H17=\"\",\"\",VLOOKUP($H17,ｴﾝﾄﾘｰ票!$E$16:$L$215,3,0))","v":""},{"$f":"IF(H17=\"\",\"\",VLOOKUP($H17,ｴﾝﾄﾘｰ票!$E$16:$L$215,8,0))","v":""},{"$f":"IF(H17=\"\",\"\",VLOOKUP($H17,ｴﾝﾄﾘｰ票!$E$16:$L$215,6,0))","v":""},{"$f":"IF(ISERROR(VLOOKUP(A17+200,ｴﾝﾄﾘｰ票!$BA$16:$BF$205,4,0)),\"\",VLOOKUP(A17+200,ｴﾝﾄﾘｰ票!$BA$16:$BF$205,4,0))","v":""},{"$f":"IF(M17=\"\",\"\",VLOOKUP($M17,ｴﾝﾄﾘｰ票!$E$16:$L$215,2,0))","v":""},{"$f":"IF(M17=\"\",\"\",VLOOKUP($M17,ｴﾝﾄﾘｰ票!$E$16:$L$215,3,0))","v":""},{"$f":"IF(M17=\"\",\"\",VLOOKUP($M17,ｴﾝﾄﾘｰ票!$E$16:$L$215,8,0))","v":""},{"$f":"IF(M17=\"\",\"\",VLOOKUP($M17,ｴﾝﾄﾘｰ票!$E$16:$L$215,6,0))","v":""},{"$f":"IF(ISERROR(VLOOKUP(A17+300,ｴﾝﾄﾘｰ票!$BG$16:$BL$205,4,0)),\"\",VLOOKUP(A17+300,ｴﾝﾄﾘｰ票!$BG$16:$BL$205,4,0))","v":""},{"$f":"IF(R17=\"\",\"\",VLOOKUP($R17,ｴﾝﾄﾘｰ票!$E$16:$L$215,2,0))","v":""},{"$f":"IF(R17=\"\",\"\",VLOOKUP($R17,ｴﾝﾄﾘｰ票!$E$16:$L$215,3,0))","v":""},{"$f":"IF(R17=\"\",\"\",VLOOKUP($R17,ｴﾝﾄﾘｰ票!$E$16:$L$215,8,0))","v":""},{"$f":"IF(R17=\"\",\"\",VLOOKUP($R17,ｴﾝﾄﾘｰ票!$E$16:$L$215,6,0))","v":""}]
[3,18,{"$f":"IF(ISERROR(VLOOKUP(A19,ｴﾝﾄﾘｰ票!$AO$16:$AT$205,6,0)),\"\",VLOOKUP(A19,ｴﾝﾄﾘｰ票!$AO$16:$AT$205,6,0))","v":""},"氏名",null,"性別","学年",{"$f":"IF(ISERROR(VLOOKUP(A19+100,ｴﾝﾄﾘｰ票!$AU$16:$AZ$205,6,0)),\"\",VLOOKUP(A19+100,ｴﾝﾄﾘｰ票!$AU$16:$AZ$205,6,0))","v":""},"氏名",null,"性別","学年",{"$f":"IF(ISERROR(VLOOKUP(A19+200,ｴﾝﾄﾘｰ票!$BA$16:$BF$205,6,0)),\"\",VLOOKUP(A19+200,ｴﾝﾄﾘｰ票!$BA$16:$BF$205,6,0))","v":""},"氏名",null,"性別","学年",{"$f":"IF(ISERROR(VLOOKUP(A19+300,ｴﾝﾄﾘｰ票!$BG$16:$BL$205,6,0)),\"\",VLOOKUP(A19+300,ｴﾝﾄﾘｰ票!$BG$16:$BL$205,6,0))","v":""},"氏名",null,"性別","学年"]
[31,19,{"$f":"IF(ISERROR(VLOOKUP(A19,ｴﾝﾄﾘｰ票!$A$16:$AH$215,5,0)),\"\",VLOOKUP(A19,ｴﾝﾄﾘｰ票!$A$16:$AH$215,5,0))","v":""},{"$f":"IF(C19=\"\",\"\",VLOOKUP($C19,ｴﾝﾄﾘｰ票!$E$16:$L$215,2,0))","v":""},{"$f":"IF(C19=\"\",\"\",VLOOKUP($C19,ｴﾝﾄﾘｰ票!$E$16:$L$215,3,0))","v":""},{"$f":"IF(C19=\"\",\"\",VLOOKUP($C19,ｴﾝﾄﾘｰ票!$E$16:$L$215,8,0))","v":""},{"$f":"IF(C19=\"\",\"\",VLOOKUP($C19,ｴﾝﾄﾘｰ票!$E$16:$L$215,6,0))","v":""},{"$f":"IF(ISERROR(VLOOKUP(A19+100,ｴﾝﾄﾘｰ票!$AU$16:$AZ$205,4,0)),\"\",VLOOKUP(A19+100,ｴﾝﾄﾘｰ票!$AU$16:$AZ$205,4,0))","v":""},{"$f":"IF(H19=\"\",\"\",VLOOKUP($H19,ｴﾝﾄﾘｰ票!$E$16:$L$215,2,0))","v":""},{"$f":"IF(H19=\"\",\"\",VLOOKUP($H19,ｴﾝﾄﾘｰ票!$E$16:$L$215,3,0))","v":""},{"$f":"IF(H19=\"\",\"\",VLOOKUP($H19,ｴﾝﾄﾘｰ票!$E$16:$L$215,8,0))","v":""},{"$f":"IF(H19=\"\",\"\",VLOOKUP($H19,ｴﾝﾄﾘｰ票!$E$16:$L$215,6,0))","v":""},{"$f":"IF(ISERROR(VLOOKUP(A19+200,ｴﾝﾄﾘｰ票!$BA$16:$BF$205,4,0)),\"\",VLOOKUP(A19+200,ｴﾝﾄﾘｰ票!$BA$16:$BF$205,4,0))","v":""},{"$f":"IF(M19=\"\",\"\",VLOOKUP($M19,ｴﾝﾄﾘｰ票!$E$16:$L$215,2,0))","v":""},{"$f":"IF(M19=\"\",\"\",VLOOKUP($M19,ｴﾝﾄﾘｰ票!$E$16:$L$215,3,0))","v":""},{"$f":"IF(M19=\"\",\"\",VLOOKUP($M19,ｴﾝﾄﾘｰ票!$E$16:$L$215,8,0))","v":""},{"$f":"IF(M19=\"\",\"\",VLOOKUP($M19,ｴﾝﾄﾘｰ票!$E$16:$L$215,6,0))","v":""},{"$f":"IF(ISERROR(VLOOKUP(A19+300,ｴﾝﾄﾘｰ票!$BG$16:$BL$205,4,0)),\"\",VLOOKUP(A19+300,ｴﾝﾄﾘｰ票!$BG$16:$BL$205,4,0))","v":""},{"$f":"IF(R19=\"\",\"\",VLOOKUP($R19,ｴﾝﾄﾘｰ票!$E$16:$L$215,2,0))","v":""},{"$f":"IF(R19=\"\",\"\",VLOOKUP($R19,ｴﾝﾄﾘｰ票!$E$16:$L$215,3,0))","v":""},{"$f":"IF(R19=\"\",\"\",VLOOKUP($R19,ｴﾝﾄﾘｰ票!$E$16:$L$215,8,0))","v":""},{"$f":"IF(R19=\"\",\"\",VLOOKUP($R19,ｴﾝﾄﾘｰ票!$E$16:$L$215,6,0))","v":""}]
[32,20,{"$f":"IF(ISERROR(VLOOKUP(A20,ｴﾝﾄﾘｰ票!$A$16:$AH$215,5,0)),\"\",VLOOKUP(A20,ｴﾝﾄﾘｰ票!$A$16:$AH$215,5,0))","v":""},{"$f":"IF(C20=\"\",\"\",VLOOKUP($C20,ｴﾝﾄﾘｰ票!$E$16:$L$215,2,0))","v":""},{"$f":"IF(C20=\"\",\"\",VLOOKUP($C20,ｴﾝﾄﾘｰ票!$E$16:$L$215,3,0))","v":""},{"$f":"IF(C20=\"\",\"\",VLOOKUP($C20,ｴﾝﾄﾘｰ票!$E$16:$L$215,8,0))","v":""},{"$f":"IF(C20=\"\",\"\",VLOOKUP($C20,ｴﾝﾄﾘｰ票!$E$16:$L$215,6,0))","v":""},{"$f":"IF(ISERROR(VLOOKUP(A20+100,ｴﾝﾄﾘｰ票!$AU$16:$AZ$205,4,0)),\"\",VLOOKUP(A20+100,ｴﾝﾄﾘｰ票!$AU$16:$AZ$205,4,0))","v":""},{"$f":"IF(H20=\"\",\"\",VLOOKUP($H20,ｴﾝﾄﾘｰ票!$E$16:$L$215,2,0))","v":""},{"$f":"IF(H20=\"\",\"\",VLOOKUP($H20,ｴﾝﾄﾘｰ票!$E$16:$L$215,3,0))","v":""},{"$f":"IF(H20=\"\",\"\",VLOOKUP($H20,ｴﾝﾄﾘｰ票!$E$16:$L$215,8,0))","v":""},{"$f":"IF(H20=\"\",\"\",VLOOKUP($H20,ｴﾝﾄﾘｰ票!$E$16:$L$215,6,0))","v":""},{"$f":"IF(ISERROR(VLOOKUP(A20+200,ｴﾝﾄﾘｰ票!$BA$16:$BF$205,4,0)),\"\",VLOOKUP(A20+200,ｴﾝﾄﾘｰ票!$BA$16:$BF$205,4,0))","v":""},{"$f":"IF(M20=\"\",\"\",VLOOKUP($M20,ｴﾝﾄﾘｰ票!$E$16:$L$215,2,0))","v":""},{"$f":"IF(M20=\"\",\"\",VLOOKUP($M20,ｴﾝﾄﾘｰ票!$E$16:$L$215,3,0))","v":""},{"$f":"IF(M20=\"\",\"\",VLOOKUP($M20,ｴﾝﾄﾘｰ票!$E$16:$L$215,8,0))","v":""},{"$f":"IF(M20=\"\",\"\",VLOOKUP($M20,ｴﾝﾄﾘｰ票!$E$16:$L$215,6,0))","v":""},{"$f":"IF(ISERROR(VLOOKUP(A20+300,ｴﾝﾄﾘｰ票!$BG$16:$BL$205,4,0)),\"\",VLOOKUP(A20+300,ｴﾝﾄﾘｰ票!$BG$16:$BL$205,4,0))","v":""},{"$f":"IF(R20=\"\",\"\",VLOOKUP($R20,ｴﾝﾄﾘｰ票!$E$16:$L$215,2,0))","v":""},{"$f":"IF(R20=\"\",\"\",VLOOKUP($R20,ｴﾝﾄﾘｰ票!$E$16:$L$215,3,0))","v":""},{"$f":"IF(R20=\"\",\"\",VLOOKUP($R20,ｴﾝﾄﾘｰ票!$E$16:$L$215,8,0))","v":""},{"$f":"IF(R20=\"\",\"\",VLOOKUP($R20,ｴﾝﾄﾘｰ票!$E$16:$L$215,6,0))","v":""}]
[33,21,{"$f":"IF(ISERROR(VLOOKUP(A21,ｴﾝﾄﾘｰ票!$A$16:$AH$215,5,0)),\"\",VLOOKUP(A21,ｴﾝﾄﾘｰ票!$A$16:$AH$215,5,0))","v":""},{"$f":"IF(C21=\"\",\"\",VLOOKUP($C21,ｴﾝﾄﾘｰ票!$E$16:$L$215,2,0))","v":""},{"$f":"IF(C21=\"\",\"\",VLOOKUP($C21,ｴﾝﾄﾘｰ票!$E$16:$L$215,3,0))","v":""},{"$f":"IF(C21=\"\",\"\",VLOOKUP($C21,ｴﾝﾄﾘｰ票!$E$16:$L$215,8,0))","v":""},{"$f":"IF(C21=\"\",\"\",VLOOKUP($C21,ｴﾝﾄﾘｰ票!$E$16:$L$215,6,0))","v":""},{"$f":"IF(ISERROR(VLOOKUP(A21+100,ｴﾝﾄﾘｰ票!$AU$16:$AZ$205,4,0)),\"\",VLOOKUP(A21+100,ｴﾝﾄﾘｰ票!$AU$16:$AZ$205,4,0))","v":""},{"$f":"IF(H21=\"\",\"\",VLOOKUP($H21,ｴﾝﾄﾘｰ票!$E$16:$L$215,2,0))","v":""},{"$f":"IF(H21=\"\",\"\",VLOOKUP($H21,ｴﾝﾄﾘｰ票!$E$16:$L$215,3,0))","v":""},{"$f":"IF(H21=\"\",\"\",VLOOKUP($H21,ｴﾝﾄﾘｰ票!$E$16:$L$215,8,0))","v":""},{"$f":"IF(H21=\"\",\"\",VLOOKUP($H21,ｴﾝﾄﾘｰ票!$E$16:$L$215,6,0))","v":""},{"$f":"IF(ISERROR(VLOOKUP(A21+200,ｴﾝﾄﾘｰ票!$BA$16:$BF$205,4,0)),\"\",VLOOKUP(A21+200,ｴﾝﾄﾘｰ票!$BA$16:$BF$205,4,0))","v":""},{"$f":"IF(M21=\"\",\"\",VLOOKUP($M21,ｴﾝﾄﾘｰ票!$E$16:$L$215,2,0))","v":""},{"$f":"IF(M21=\"\",\"\",VLOOKUP($M21,ｴﾝﾄﾘｰ票!$E$16:$L$215,3,0))","v":""},{"$f":"IF(M21=\"\",\"\",VLOOKUP($M21,ｴﾝﾄﾘｰ票!$E$16:$L$215,8,0))","v":""},{"$f":"IF(M21=\"\",\"\",VLOOKUP($M21,ｴﾝﾄﾘｰ票!$E$16:$L$215,6,0))","v":""},{"$f":"IF(ISERROR(VLOOKUP(A21+300,ｴﾝﾄﾘｰ票!$BG$16:$BL$205,4,0)),\"\",VLOOKUP(A21+300,ｴﾝﾄﾘｰ票!$BG$16:$BL$205,4,0))","v":""},{"$f":"IF(R21=\"\",\"\",VLOOKUP($R21,ｴﾝﾄﾘｰ票!$E$16:$L$215,2,0))","v":""},{"$f":"IF(R21=\"\",\"\",VLOOKUP($R21,ｴﾝﾄﾘｰ票!$E$16:$L$215,3,0))","v":""},{"$f":"IF(R21=\"\",\"\",VLOOKUP($R21,ｴﾝﾄﾘｰ票!$E$16:$L$215,8,0))","v":""},{"$f":"IF(R21=\"\",\"\",VLOOKUP($R21,ｴﾝﾄﾘｰ票!$E$16:$L$215,6,0))","v":""}]
[34,22,{"$f":"IF(ISERROR(VLOOKUP(A22,ｴﾝﾄﾘｰ票!$A$16:$AH$215,5,0)),\"\",VLOOKUP(A22,ｴﾝﾄﾘｰ票!$A$16:$AH$215,5,0))","v":""},{"$f":"IF(C22=\"\",\"\",VLOOKUP($C22,ｴﾝﾄﾘｰ票!$E$16:$L$215,2,0))","v":""},{"$f":"IF(C22=\"\",\"\",VLOOKUP($C22,ｴﾝﾄﾘｰ票!$E$16:$L$215,3,0))","v":""},{"$f":"IF(C22=\"\",\"\",VLOOKUP($C22,ｴﾝﾄﾘｰ票!$E$16:$L$215,8,0))","v":""},{"$f":"IF(C22=\"\",\"\",VLOOKUP($C22,ｴﾝﾄﾘｰ票!$E$16:$L$215,6,0))","v":""},{"$f":"IF(ISERROR(VLOOKUP(A22+100,ｴﾝﾄﾘｰ票!$AU$16:$AZ$205,4,0)),\"\",VLOOKUP(A22+100,ｴﾝﾄﾘｰ票!$AU$16:$AZ$205,4,0))","v":""},{"$f":"IF(H22=\"\",\"\",VLOOKUP($H22,ｴﾝﾄﾘｰ票!$E$16:$L$215,2,0))","v":""},{"$f":"IF(H22=\"\",\"\",VLOOKUP($H22,ｴﾝﾄﾘｰ票!$E$16:$L$215,3,0))","v":""},{"$f":"IF(H22=\"\",\"\",VLOOKUP($H22,ｴﾝﾄﾘｰ票!$E$16:$L$215,8,0))","v":""},{"$f":"IF(H22=\"\",\"\",VLOOKUP($H22,ｴﾝﾄﾘｰ票!$E$16:$L$215,6,0))","v":""},{"$f":"IF(ISERROR(VLOOKUP(A22+200,ｴﾝﾄﾘｰ票!$BA$16:$BF$205,4,0)),\"\",VLOOKUP(A22+200,ｴﾝﾄﾘｰ票!$BA$16:$BF$205,4,0))","v":""},{"$f":"IF(M22=\"\",\"\",VLOOKUP($M22,ｴﾝﾄﾘｰ票!$E$16:$L$215,2,0))","v":""},{"$f":"IF(M22=\"\",\"\",VLOOKUP($M22,ｴﾝﾄﾘｰ票!$E$16:$L$215,3,0))","v":""},{"$f":"IF(M22=\"\",\"\",VLOOKUP($M22,ｴﾝﾄﾘｰ票!$E$16:$L$215,8,0))","v":""},{"$f":"IF(M22=\"\",\"\",VLOOKUP($M22,ｴﾝﾄﾘｰ票!$E$16:$L$215,6,0))","v":""},{"$f":"IF(ISERROR(VLOOKUP(A22+300,ｴﾝﾄﾘｰ票!$BG$16:$BL$205,4,0)),\"\",VLOOKUP(A22+300,ｴﾝﾄﾘｰ票!$BG$16:$BL$205,4,0))","v":""},{"$f":"IF(R22=\"\",\"\",VLOOKUP($R22,ｴﾝﾄﾘｰ票!$E$16:$L$215,2,0))","v":""},{"$f":"IF(R22=\"\",\"\",VLOOKUP($R22,ｴﾝﾄﾘｰ票!$E$16:$L$215,3,0))","v":""},{"$f":"IF(R22=\"\",\"\",VLOOKUP($R22,ｴﾝﾄﾘｰ票!$E$16:$L$215,8,0))","v":""},{"$f":"IF(R22=\"\",\"\",VLOOKUP($R22,ｴﾝﾄﾘｰ票!$E$16:$L$215,6,0))","v":""}]
[35,23,{"$f":"IF(ISERROR(VLOOKUP(A23,ｴﾝﾄﾘｰ票!$A$16:$AH$215,5,0)),\"\",VLOOKUP(A23,ｴﾝﾄﾘｰ票!$A$16:$AH$215,5,0))","v":""},{"$f":"IF(C23=\"\",\"\",VLOOKUP($C23,ｴﾝﾄﾘｰ票!$E$16:$L$215,2,0))","v":""},{"$f":"IF(C23=\"\",\"\",VLOOKUP($C23,ｴﾝﾄﾘｰ票!$E$16:$L$215,3,0))","v":""},{"$f":"IF(C23=\"\",\"\",VLOOKUP($C23,ｴﾝﾄﾘｰ票!$E$16:$L$215,8,0))","v":""},{"$f":"IF(C23=\"\",\"\",VLOOKUP($C23,ｴﾝﾄﾘｰ票!$E$16:$L$215,6,0))","v":""},{"$f":"IF(ISERROR(VLOOKUP(A23+100,ｴﾝﾄﾘｰ票!$AU$16:$AZ$205,4,0)),\"\",VLOOKUP(A23+100,ｴﾝﾄﾘｰ票!$AU$16:$AZ$205,4,0))","v":""},{"$f":"IF(H23=\"\",\"\",VLOOKUP($H23,ｴﾝﾄﾘｰ票!$E$16:$L$215,2,0))","v":""},{"$f":"IF(H23=\"\",\"\",VLOOKUP($H23,ｴﾝﾄﾘｰ票!$E$16:$L$215,3,0))","v":""},{"$f":"IF(H23=\"\",\"\",VLOOKUP($H23,ｴﾝﾄﾘｰ票!$E$16:$L$215,8,0))","v":""},{"$f":"IF(H23=\"\",\"\",VLOOKUP($H23,ｴﾝﾄﾘｰ票!$E$16:$L$215,6,0))","v":""},{"$f":"IF(ISERROR(VLOOKUP(A23+200,ｴﾝﾄﾘｰ票!$BA$16:$BF$205,4,0)),\"\",VLOOKUP(A23+200,ｴﾝﾄﾘｰ票!$BA$16:$BF$205,4,0))","v":""},{"$f":"IF(M23=\"\",\"\",VLOOKUP($M23,ｴﾝﾄﾘｰ票!$E$16:$L$215,2,0))","v":""},{"$f":"IF(M23=\"\",\"\",VLOOKUP($M23,ｴﾝﾄﾘｰ票!$E$16:$L$215,3,0))","v":""},{"$f":"IF(M23=\"\",\"\",VLOOKUP($M23,ｴﾝﾄﾘｰ票!$E$16:$L$215,8,0))","v":""},{"$f":"IF(M23=\"\",\"\",VLOOKUP($M23,ｴﾝﾄﾘｰ票!$E$16:$L$215,6,0))","v":""},{"$f":"IF(ISERROR(VLOOKUP(A23+300,ｴﾝﾄﾘｰ票!$BG$16:$BL$205,4,0)),\"\",VLOOKUP(A23+300,ｴﾝﾄﾘｰ票!$BG$16:$BL$205,4,0))","v":""},{"$f":"IF(R23=\"\",\"\",VLOOKUP($R23,ｴﾝﾄﾘｰ票!$E$16:$L$215,2,0))","v":""},{"$f":"IF(R23=\"\",\"\",VLOOKUP($R23,ｴﾝﾄﾘｰ票!$E$16:$L$215,3,0))","v":""},{"$f":"IF(R23=\"\",\"\",VLOOKUP($R23,ｴﾝﾄﾘｰ票!$E$16:$L$215,8,0))","v":""},{"$f":"IF(R23=\"\",\"\",VLOOKUP($R23,ｴﾝﾄﾘｰ票!$E$16:$L$215,6,0))","v":""}]
[36,24,{"$f":"IF(ISERROR(VLOOKUP(A24,ｴﾝﾄﾘｰ票!$A$16:$AH$215,5,0)),\"\",VLOOKUP(A24,ｴﾝﾄﾘｰ票!$A$16:$AH$215,5,0))","v":""},{"$f":"IF(C24=\"\",\"\",VLOOKUP($C24,ｴﾝﾄﾘｰ票!$E$16:$L$215,2,0))","v":""},{"$f":"IF(C24=\"\",\"\",VLOOKUP($C24,ｴﾝﾄﾘｰ票!$E$16:$L$215,3,0))","v":""},{"$f":"IF(C24=\"\",\"\",VLOOKUP($C24,ｴﾝﾄﾘｰ票!$E$16:$L$215,8,0))","v":""},{"$f":"IF(C24=\"\",\"\",VLOOKUP($C24,ｴﾝﾄﾘｰ票!$E$16:$L$215,6,0))","v":""},{"$f":"IF(ISERROR(VLOOKUP(A24+100,ｴﾝﾄﾘｰ票!$AU$16:$AZ$205,4,0)),\"\",VLOOKUP(A24+100,ｴﾝﾄﾘｰ票!$AU$16:$AZ$205,4,0))","v":""},{"$f":"IF(H24=\"\",\"\",VLOOKUP($H24,ｴﾝﾄﾘｰ票!$E$16:$L$215,2,0))","v":""},{"$f":"IF(H24=\"\",\"\",VLOOKUP($H24,ｴﾝﾄﾘｰ票!$E$16:$L$215,3,0))","v":""},{"$f":"IF(H24=\"\",\"\",VLOOKUP($H24,ｴﾝﾄﾘｰ票!$E$16:$L$215,8,0))","v":""},{"$f":"IF(H24=\"\",\"\",VLOOKUP($H24,ｴﾝﾄﾘｰ票!$E$16:$L$215,6,0))","v":""},{"$f":"IF(ISERROR(VLOOKUP(A24+200,ｴﾝﾄﾘｰ票!$BA$16:$BF$205,4,0)),\"\",VLOOKUP(A24+200,ｴﾝﾄﾘｰ票!$BA$16:$BF$205,4,0))","v":""},{"$f":"IF(M24=\"\",\"\",VLOOKUP($M24,ｴﾝﾄﾘｰ票!$E$16:$L$215,2,0))","v":""},{"$f":"IF(M24=\"\",\"\",VLOOKUP($M24,ｴﾝﾄﾘｰ票!$E$16:$L$215,3,0))","v":""},{"$f":"IF(M24=\"\",\"\",VLOOKUP($M24,ｴﾝﾄﾘｰ票!$E$16:$L$215,8,0))","v":""},{"$f":"IF(M24=\"\",\"\",VLOOKUP($M24,ｴﾝﾄﾘｰ票!$E$16:$L$215,6,0))","v":""},{"$f":"IF(ISERROR(VLOOKUP(A24+300,ｴﾝﾄﾘｰ票!$BG$16:$BL$205,4,0)),\"\",VLOOKUP(A24+300,ｴﾝﾄﾘｰ票!$BG$16:$BL$205,4,0))","v":""},{"$f":"IF(R24=\"\",\"\",VLOOKUP($R24,ｴﾝﾄﾘｰ票!$E$16:$L$215,2,0))","v":""},{"$f":"IF(R24=\"\",\"\",VLOOKUP($R24,ｴﾝﾄﾘｰ票!$E$16:$L$215,3,0))","v":""},{"$f":"IF(R24=\"\",\"\",VLOOKUP($R24,ｴﾝﾄﾘｰ票!$E$16:$L$215,8,0))","v":""},{"$f":"IF(R24=\"\",\"\",VLOOKUP($R24,ｴﾝﾄﾘｰ票!$E$16:$L$215,6,0))","v":""}]
[4,25,{"$f":"IF(ISERROR(VLOOKUP(A26,ｴﾝﾄﾘｰ票!$AO$16:$AT$205,6,0)),\"\",VLOOKUP(A26,ｴﾝﾄﾘｰ票!$AO$16:$AT$205,6,0))","v":""},"氏名",null,"性別","学年",{"$f":"IF(ISERROR(VLOOKUP(A26+100,ｴﾝﾄﾘｰ票!$AU$16:$AZ$205,6,0)),\"\",VLOOKUP(A26+100,ｴﾝﾄﾘｰ票!$AU$16:$AZ$205,6,0))","v":""},"氏名",null,"性別","学年",{"$f":"IF(ISERROR(VLOOKUP(A26+200,ｴﾝﾄﾘｰ票!$BA$16:$BF$205,6,0)),\"\",VLOOKUP(A26+200,ｴﾝﾄﾘｰ票!$BA$16:$BF$205,6,0))","v":""},"氏名",null,"性別","学年",{"$f":"IF(ISERROR(VLOOKUP(A26+300,ｴﾝﾄﾘｰ票!$BG$16:$BL$205,6,0)),\"\",VLOOKUP(A26+300,ｴﾝﾄﾘｰ票!$BG$16:$BL$205,6,0))","v":""},"氏名",null,"性別","学年"]
[41,26,{"$f":"IF(ISERROR(VLOOKUP(A26,ｴﾝﾄﾘｰ票!$A$16:$AH$215,5,0)),\"\",VLOOKUP(A26,ｴﾝﾄﾘｰ票!$A$16:$AH$215,5,0))","v":""},{"$f":"IF(C26=\"\",\"\",VLOOKUP($C26,ｴﾝﾄﾘｰ票!$E$16:$L$215,2,0))","v":""},{"$f":"IF(C26=\"\",\"\",VLOOKUP($C26,ｴﾝﾄﾘｰ票!$E$16:$L$215,3,0))","v":""},{"$f":"IF(C26=\"\",\"\",VLOOKUP($C26,ｴﾝﾄﾘｰ票!$E$16:$L$215,8,0))","v":""},{"$f":"IF(C26=\"\",\"\",VLOOKUP($C26,ｴﾝﾄﾘｰ票!$E$16:$L$215,6,0))","v":""},{"$f":"IF(ISERROR(VLOOKUP(A26+100,ｴﾝﾄﾘｰ票!$AU$16:$AZ$205,4,0)),\"\",VLOOKUP(A26+100,ｴﾝﾄﾘｰ票!$AU$16:$AZ$205,4,0))","v":""},{"$f":"IF(H26=\"\",\"\",VLOOKUP($H26,ｴﾝﾄﾘｰ票!$E$16:$L$215,2,0))","v":""},{"$f":"IF(H26=\"\",\"\",VLOOKUP($H26,ｴﾝﾄﾘｰ票!$E$16:$L$215,3,0))","v":""},{"$f":"IF(H26=\"\",\"\",VLOOKUP($H26,ｴﾝﾄﾘｰ票!$E$16:$L$215,8,0))","v":""},{"$f":"IF(H26=\"\",\"\",VLOOKUP($H26,ｴﾝﾄﾘｰ票!$E$16:$L$215,6,0))","v":""},{"$f":"IF(ISERROR(VLOOKUP(A26+200,ｴﾝﾄﾘｰ票!$BA$16:$BF$205,4,0)),\"\",VLOOKUP(A26+200,ｴﾝﾄﾘｰ票!$BA$16:$BF$205,4,0))","v":""},{"$f":"IF(M26=\"\",\"\",VLOOKUP($M26,ｴﾝﾄﾘｰ票!$E$16:$L$215,2,0))","v":""},{"$f":"IF(M26=\"\",\"\",VLOOKUP($M26,ｴﾝﾄﾘｰ票!$E$16:$L$215,3,0))","v":""},{"$f":"IF(M26=\"\",\"\",VLOOKUP($M26,ｴﾝﾄﾘｰ票!$E$16:$L$215,8,0))","v":""},{"$f":"IF(M26=\"\",\"\",VLOOKUP($M26,ｴﾝﾄﾘｰ票!$E$16:$L$215,6,0))","v":""},{"$f":"IF(ISERROR(VLOOKUP(A26+300,ｴﾝﾄﾘｰ票!$BG$16:$BL$205,4,0)),\"\",VLOOKUP(A26+300,ｴﾝﾄﾘｰ票!$BG$16:$BL$205,4,0))","v":""},{"$f":"IF(R26=\"\",\"\",VLOOKUP($R26,ｴﾝﾄﾘｰ票!$E$16:$L$215,2,0))","v":""},{"$f":"IF(R26=\"\",\"\",VLOOKUP($R26,ｴﾝﾄﾘｰ票!$E$16:$L$215,3,0))","v":""},{"$f":"IF(R26=\"\",\"\",VLOOKUP($R26,ｴﾝﾄﾘｰ票!$E$16:$L$215,8,0))","v":""},{"$f":"IF(R26=\"\",\"\",VLOOKUP($R26,ｴﾝﾄﾘｰ票!$E$16:$L$215,6,0))","v":""}]
[42,27,{"$f":"IF(ISERROR(VLOOKUP(A27,ｴﾝﾄﾘｰ票!$A$16:$AH$215,5,0)),\"\",VLOOKUP(A27,ｴﾝﾄﾘｰ票!$A$16:$AH$215,5,0))","v":""},{"$f":"IF(C27=\"\",\"\",VLOOKUP($C27,ｴﾝﾄﾘｰ票!$E$16:$L$215,2,0))","v":""},{"$f":"IF(C27=\"\",\"\",VLOOKUP($C27,ｴﾝﾄﾘｰ票!$E$16:$L$215,3,0))","v":""},{"$f":"IF(C27=\"\",\"\",VLOOKUP($C27,ｴﾝﾄﾘｰ票!$E$16:$L$215,8,0))","v":""},{"$f":"IF(C27=\"\",\"\",VLOOKUP($C27,ｴﾝﾄﾘｰ票!$E$16:$L$215,6,0))","v":""},{"$f":"IF(ISERROR(VLOOKUP(A27+100,ｴﾝﾄﾘｰ票!$AU$16:$AZ$205,4,0)),\"\",VLOOKUP(A27+100,ｴﾝﾄﾘｰ票!$AU$16:$AZ$205,4,0))","v":""},{"$f":"IF(H27=\"\",\"\",VLOOKUP($H27,ｴﾝﾄﾘｰ票!$E$16:$L$215,2,0))","v":""},{"$f":"IF(H27=\"\",\"\",VLOOKUP($H27,ｴﾝﾄﾘｰ票!$E$16:$L$215,3,0))","v":""},{"$f":"IF(H27=\"\",\"\",VLOOKUP($H27,ｴﾝﾄﾘｰ票!$E$16:$L$215,8,0))","v":""},{"$f":"IF(H27=\"\",\"\",VLOOKUP($H27,ｴﾝﾄﾘｰ票!$E$16:$L$215,6,0))","v":""},{"$f":"IF(ISERROR(VLOOKUP(A27+200,ｴﾝﾄﾘｰ票!$BA$16:$BF$205,4,0)),\"\",VLOOKUP(A27+200,ｴﾝﾄﾘｰ票!$BA$16:$BF$205,4,0))","v":""},{"$f":"IF(M27=\"\",\"\",VLOOKUP($M27,ｴﾝﾄﾘｰ票!$E$16:$L$215,2,0))","v":""},{"$f":"IF(M27=\"\",\"\",VLOOKUP($M27,ｴﾝﾄﾘｰ票!$E$16:$L$215,3,0))","v":""},{"$f":"IF(M27=\"\",\"\",VLOOKUP($M27,ｴﾝﾄﾘｰ票!$E$16:$L$215,8,0))","v":""},{"$f":"IF(M27=\"\",\"\",VLOOKUP($M27,ｴﾝﾄﾘｰ票!$E$16:$L$215,6,0))","v":""},{"$f":"IF(ISERROR(VLOOKUP(A27+300,ｴﾝﾄﾘｰ票!$BG$16:$BL$205,4,0)),\"\",VLOOKUP(A27+300,ｴﾝﾄﾘｰ票!$BG$16:$BL$205,4,0))","v":""},{"$f":"IF(R27=\"\",\"\",VLOOKUP($R27,ｴﾝﾄﾘｰ票!$E$16:$L$215,2,0))","v":""},{"$f":"IF(R27=\"\",\"\",VLOOKUP($R27,ｴﾝﾄﾘｰ票!$E$16:$L$215,3,0))","v":""},{"$f":"IF(R27=\"\",\"\",VLOOKUP($R27,ｴﾝﾄﾘｰ票!$E$16:$L$215,8,0))","v":""},{"$f":"IF(R27=\"\",\"\",VLOOKUP($R27,ｴﾝﾄﾘｰ票!$E$16:$L$215,6,0))","v":""}]
[43,28,{"$f":"IF(ISERROR(VLOOKUP(A28,ｴﾝﾄﾘｰ票!$A$16:$AH$215,5,0)),\"\",VLOOKUP(A28,ｴﾝﾄﾘｰ票!$A$16:$AH$215,5,0))","v":""},{"$f":"IF(C28=\"\",\"\",VLOOKUP($C28,ｴﾝﾄﾘｰ票!$E$16:$L$215,2,0))","v":""},{"$f":"IF(C28=\"\",\"\",VLOOKUP($C28,ｴﾝﾄﾘｰ票!$E$16:$L$215,3,0))","v":""},{"$f":"IF(C28=\"\",\"\",VLOOKUP($C28,ｴﾝﾄﾘｰ票!$E$16:$L$215,8,0))","v":""},{"$f":"IF(C28=\"\",\"\",VLOOKUP($C28,ｴﾝﾄﾘｰ票!$E$16:$L$215,6,0))","v":""},{"$f":"IF(ISERROR(VLOOKUP(A28+100,ｴﾝﾄﾘｰ票!$AU$16:$AZ$205,4,0)),\"\",VLOOKUP(A28+100,ｴﾝﾄﾘｰ票!$AU$16:$AZ$205,4,0))","v":""},{"$f":"IF(H28=\"\",\"\",VLOOKUP($H28,ｴﾝﾄﾘｰ票!$E$16:$L$215,2,0))","v":""},{"$f":"IF(H28=\"\",\"\",VLOOKUP($H28,ｴﾝﾄﾘｰ票!$E$16:$L$215,3,0))","v":""},{"$f":"IF(H28=\"\",\"\",VLOOKUP($H28,ｴﾝﾄﾘｰ票!$E$16:$L$215,8,0))","v":""},{"$f":"IF(H28=\"\",\"\",VLOOKUP($H28,ｴﾝﾄﾘｰ票!$E$16:$L$215,6,0))","v":""},{"$f":"IF(ISERROR(VLOOKUP(A28+200,ｴﾝﾄﾘｰ票!$BA$16:$BF$205,4,0)),\"\",VLOOKUP(A28+200,ｴﾝﾄﾘｰ票!$BA$16:$BF$205,4,0))","v":""},{"$f":"IF(M28=\"\",\"\",VLOOKUP($M28,ｴﾝﾄﾘｰ票!$E$16:$L$215,2,0))","v":""},{"$f":"IF(M28=\"\",\"\",VLOOKUP($M28,ｴﾝﾄﾘｰ票!$E$16:$L$215,3,0))","v":""},{"$f":"IF(M28=\"\",\"\",VLOOKUP($M28,ｴﾝﾄﾘｰ票!$E$16:$L$215,8,0))","v":""},{"$f":"IF(M28=\"\",\"\",VLOOKUP($M28,ｴﾝﾄﾘｰ票!$E$16:$L$215,6,0))","v":""},{"$f":"IF(ISERROR(VLOOKUP(A28+300,ｴﾝﾄﾘｰ票!$BG$16:$BL$205,4,0)),\"\",VLOOKUP(A28+300,ｴﾝﾄﾘｰ票!$BG$16:$BL$205,4,0))","v":""},{"$f":"IF(R28=\"\",\"\",VLOOKUP($R28,ｴﾝﾄﾘｰ票!$E$16:$L$215,2,0))","v":""},{"$f":"IF(R28=\"\",\"\",VLOOKUP($R28,ｴﾝﾄﾘｰ票!$E$16:$L$215,3,0))","v":""},{"$f":"IF(R28=\"\",\"\",VLOOKUP($R28,ｴﾝﾄﾘｰ票!$E$16:$L$215,8,0))","v":""},{"$f":"IF(R28=\"\",\"\",VLOOKUP($R28,ｴﾝﾄﾘｰ票!$E$16:$L$215,6,0))","v":""}]
[44,29,{"$f":"IF(ISERROR(VLOOKUP(A29,ｴﾝﾄﾘｰ票!$A$16:$AH$215,5,0)),\"\",VLOOKUP(A29,ｴﾝﾄﾘｰ票!$A$16:$AH$215,5,0))","v":""},{"$f":"IF(C29=\"\",\"\",VLOOKUP($C29,ｴﾝﾄﾘｰ票!$E$16:$L$215,2,0))","v":""},{"$f":"IF(C29=\"\",\"\",VLOOKUP($C29,ｴﾝﾄﾘｰ票!$E$16:$L$215,3,0))","v":""},{"$f":"IF(C29=\"\",\"\",VLOOKUP($C29,ｴﾝﾄﾘｰ票!$E$16:$L$215,8,0))","v":""},{"$f":"IF(C29=\"\",\"\",VLOOKUP($C29,ｴﾝﾄﾘｰ票!$E$16:$L$215,6,0))","v":""},{"$f":"IF(ISERROR(VLOOKUP(A29+100,ｴﾝﾄﾘｰ票!$AU$16:$AZ$205,4,0)),\"\",VLOOKUP(A29+100,ｴﾝﾄﾘｰ票!$AU$16:$AZ$205,4,0))","v":""},{"$f":"IF(H29=\"\",\"\",VLOOKUP($H29,ｴﾝﾄﾘｰ票!$E$16:$L$215,2,0))","v":""},{"$f":"IF(H29=\"\",\"\",VLOOKUP($H29,ｴﾝﾄﾘｰ票!$E$16:$L$215,3,0))","v":""},{"$f":"IF(H29=\"\",\"\",VLOOKUP($H29,ｴﾝﾄﾘｰ票!$E$16:$L$215,8,0))","v":""},{"$f":"IF(H29=\"\",\"\",VLOOKUP($H29,ｴﾝﾄﾘｰ票!$E$16:$L$215,6,0))","v":""},{"$f":"IF(ISERROR(VLOOKUP(A29+200,ｴﾝﾄﾘｰ票!$BA$16:$BF$205,4,0)),\"\",VLOOKUP(A29+200,ｴﾝﾄﾘｰ票!$BA$16:$BF$205,4,0))","v":""},{"$f":"IF(M29=\"\",\"\",VLOOKUP($M29,ｴﾝﾄﾘｰ票!$E$16:$L$215,2,0))","v":""},{"$f":"IF(M29=\"\",\"\",VLOOKUP($M29,ｴﾝﾄﾘｰ票!$E$16:$L$215,3,0))","v":""},{"$f":"IF(M29=\"\",\"\",VLOOKUP($M29,ｴﾝﾄﾘｰ票!$E$16:$L$215,8,0))","v":""},{"$f":"IF(M29=\"\",\"\",VLOOKUP($M29,ｴﾝﾄﾘｰ票!$E$16:$L$215,6,0))","v":""},{"$f":"IF(ISERROR(VLOOKUP(A29+300,ｴﾝﾄﾘｰ票!$BG$16:$BL$205,4,0)),\"\",VLOOKUP(A29+300,ｴﾝﾄﾘｰ票!$BG$16:$BL$205,4,0))","v":""},{"$f":"IF(R29=\"\",\"\",VLOOKUP($R29,ｴﾝﾄﾘｰ票!$E$16:$L$215,2,0))","v":""},{"$f":"IF(R29=\"\",\"\",VLOOKUP($R29,ｴﾝﾄﾘｰ票!$E$16:$L$215,3,0))","v":""},{"$f":"IF(R29=\"\",\"\",VLOOKUP($R29,ｴﾝﾄﾘｰ票!$E$16:$L$215,8,0))","v":""},{"$f":"IF(R29=\"\",\"\",VLOOKUP($R29,ｴﾝﾄﾘｰ票!$E$16:$L$215,6,0))","v":""}]
[45,30,{"$f":"IF(ISERROR(VLOOKUP(A30,ｴﾝﾄﾘｰ票!$A$16:$AH$215,5,0)),\"\",VLOOKUP(A30,ｴﾝﾄﾘｰ票!$A$16:$AH$215,5,0))","v":""},{"$f":"IF(C30=\"\",\"\",VLOOKUP($C30,ｴﾝﾄﾘｰ票!$E$16:$L$215,2,0))","v":""},{"$f":"IF(C30=\"\",\"\",VLOOKUP($C30,ｴﾝﾄﾘｰ票!$E$16:$L$215,3,0))","v":""},{"$f":"IF(C30=\"\",\"\",VLOOKUP($C30,ｴﾝﾄﾘｰ票!$E$16:$L$215,8,0))","v":""},{"$f":"IF(C30=\"\",\"\",VLOOKUP($C30,ｴﾝﾄﾘｰ票!$E$16:$L$215,6,0))","v":""},{"$f":"IF(ISERROR(VLOOKUP(A30+100,ｴﾝﾄﾘｰ票!$AU$16:$AZ$205,4,0)),\"\",VLOOKUP(A30+100,ｴﾝﾄﾘｰ票!$AU$16:$AZ$205,4,0))","v":""},{"$f":"IF(H30=\"\",\"\",VLOOKUP($H30,ｴﾝﾄﾘｰ票!$E$16:$L$215,2,0))","v":""},{"$f":"IF(H30=\"\",\"\",VLOOKUP($H30,ｴﾝﾄﾘｰ票!$E$16:$L$215,3,0))","v":""},{"$f":"IF(H30=\"\",\"\",VLOOKUP($H30,ｴﾝﾄﾘｰ票!$E$16:$L$215,8,0))","v":""},{"$f":"IF(H30=\"\",\"\",VLOOKUP($H30,ｴﾝﾄﾘｰ票!$E$16:$L$215,6,0))","v":""},{"$f":"IF(ISERROR(VLOOKUP(A30+200,ｴﾝﾄﾘｰ票!$BA$16:$BF$205,4,0)),\"\",VLOOKUP(A30+200,ｴﾝﾄﾘｰ票!$BA$16:$BF$205,4,0))","v":""},{"$f":"IF(M30=\"\",\"\",VLOOKUP($M30,ｴﾝﾄﾘｰ票!$E$16:$L$215,2,0))","v":""},{"$f":"IF(M30=\"\",\"\",VLOOKUP($M30,ｴﾝﾄﾘｰ票!$E$16:$L$215,3,0))","v":""},{"$f":"IF(M30=\"\",\"\",VLOOKUP($M30,ｴﾝﾄﾘｰ票!$E$16:$L$215,8,0))","v":""},{"$f":"IF(M30=\"\",\"\",VLOOKUP($M30,ｴﾝﾄﾘｰ票!$E$16:$L$215,6,0))","v":""},{"$f":"IF(ISERROR(VLOOKUP(A30+300,ｴﾝﾄﾘｰ票!$BG$16:$BL$205,4,0)),\"\",VLOOKUP(A30+300,ｴﾝﾄﾘｰ票!$BG$16:$BL$205,4,0))","v":""},{"$f":"IF(R30=\"\",\"\",VLOOKUP($R30,ｴﾝﾄﾘｰ票!$E$16:$L$215,2,0))","v":""},{"$f":"IF(R30=\"\",\"\",VLOOKUP($R30,ｴﾝﾄﾘｰ票!$E$16:$L$215,3,0))","v":""},{"$f":"IF(R30=\"\",\"\",VLOOKUP($R30,ｴﾝﾄﾘｰ票!$E$16:$L$215,8,0))","v":""},{"$f":"IF(R30=\"\",\"\",VLOOKUP($R30,ｴﾝﾄﾘｰ票!$E$16:$L$215,6,0))","v":""}]
[46,31,{"$f":"IF(ISERROR(VLOOKUP(A31,ｴﾝﾄﾘｰ票!$A$16:$AH$215,5,0)),\"\",VLOOKUP(A31,ｴﾝﾄﾘｰ票!$A$16:$AH$215,5,0))","v":""},{"$f":"IF(C31=\"\",\"\",VLOOKUP($C31,ｴﾝﾄﾘｰ票!$E$16:$L$215,2,0))","v":""},{"$f":"IF(C31=\"\",\"\",VLOOKUP($C31,ｴﾝﾄﾘｰ票!$E$16:$L$215,3,0))","v":""},{"$f":"IF(C31=\"\",\"\",VLOOKUP($C31,ｴﾝﾄﾘｰ票!$E$16:$L$215,8,0))","v":""},{"$f":"IF(C31=\"\",\"\",VLOOKUP($C31,ｴﾝﾄﾘｰ票!$E$16:$L$215,6,0))","v":""},{"$f":"IF(ISERROR(VLOOKUP(A31+100,ｴﾝﾄﾘｰ票!$AU$16:$AZ$205,4,0)),\"\",VLOOKUP(A31+100,ｴﾝﾄﾘｰ票!$AU$16:$AZ$205,4,0))","v":""},{"$f":"IF(H31=\"\",\"\",VLOOKUP($H31,ｴﾝﾄﾘｰ票!$E$16:$L$215,2,0))","v":""},{"$f":"IF(H31=\"\",\"\",VLOOKUP($H31,ｴﾝﾄﾘｰ票!$E$16:$L$215,3,0))","v":""},{"$f":"IF(H31=\"\",\"\",VLOOKUP($H31,ｴﾝﾄﾘｰ票!$E$16:$L$215,8,0))","v":""},{"$f":"IF(H31=\"\",\"\",VLOOKUP($H31,ｴﾝﾄﾘｰ票!$E$16:$L$215,6,0))","v":""},{"$f":"IF(ISERROR(VLOOKUP(A31+200,ｴﾝﾄﾘｰ票!$BA$16:$BF$205,4,0)),\"\",VLOOKUP(A31+200,ｴﾝﾄﾘｰ票!$BA$16:$BF$205,4,0))","v":""},{"$f":"IF(M31=\"\",\"\",VLOOKUP($M31,ｴﾝﾄﾘｰ票!$E$16:$L$215,2,0))","v":""},{"$f":"IF(M31=\"\",\"\",VLOOKUP($M31,ｴﾝﾄﾘｰ票!$E$16:$L$215,3,0))","v":""},{"$f":"IF(M31=\"\",\"\",VLOOKUP($M31,ｴﾝﾄﾘｰ票!$E$16:$L$215,8,0))","v":""},{"$f":"IF(M31=\"\",\"\",VLOOKUP($M31,ｴﾝﾄﾘｰ票!$E$16:$L$215,6,0))","v":""},{"$f":"IF(ISERROR(VLOOKUP(A31+300,ｴﾝﾄﾘｰ票!$BG$16:$BL$205,4,0)),\"\",VLOOKUP(A31+300,ｴﾝﾄﾘｰ票!$BG$16:$BL$205,4,0))","v":""},{"$f":"IF(R31=\"\",\"\",VLOOKUP($R31,ｴﾝﾄﾘｰ票!$E$16:$L$215,2,0))","v":""},{"$f":"IF(R31=\"\",\"\",VLOOKUP($R31,ｴﾝﾄﾘｰ票!$E$16:$L$215,3,0))","v":""},{"$f":"IF(R31=\"\",\"\",VLOOKUP($R31,ｴﾝﾄﾘｰ票!$E$16:$L$215,8,0))","v":""},{"$f":"IF(R31=\"\",\"\",VLOOKUP($R31,ｴﾝﾄﾘｰ票!$E$16:$L$215,6,0))","v":""}]
[5,32,{"$f":"IF(ISERROR(VLOOKUP(A33,ｴﾝﾄﾘｰ票!$AO$16:$AT$205,6,0)),\"\",VLOOKUP(A33,ｴﾝﾄﾘｰ票!$AO$16:$AT$205,6,0))","v":""},"氏名",null,"性別","学年",{"$f":"IF(ISERROR(VLOOKUP(A33+100,ｴﾝﾄﾘｰ票!$AU$16:$AZ$205,6,0)),\"\",VLOOKUP(A33+100,ｴﾝﾄﾘｰ票!$AU$16:$AZ$205,6,0))","v":""},"氏名",null,"性別","学年",{"$f":"IF(ISERROR(VLOOKUP(A33+200,ｴﾝﾄﾘｰ票!$BA$16:$BF$205,6,0)),\"\",VLOOKUP(A33+200,ｴﾝﾄﾘｰ票!$BA$16:$BF$205,6,0))","v":""},"氏名",null,"性別","学年",{"$f":"IF(ISERROR(VLOOKUP(A33+300,ｴﾝﾄﾘｰ票!$BG$16:$BL$205,6,0)),\"\",VLOOKUP(A33+300,ｴﾝﾄﾘｰ票!$BG$16:$BL$205,6,0))","v":""},"氏名",null,"性別","学年"]
[51,33,{"$f":"IF(ISERROR(VLOOKUP(A33,ｴﾝﾄﾘｰ票!$A$16:$AH$215,5,0)),\"\",VLOOKUP(A33,ｴﾝﾄﾘｰ票!$A$16:$AH$215,5,0))","v":""},{"$f":"IF(C33=\"\",\"\",VLOOKUP($C33,ｴﾝﾄﾘｰ票!$E$16:$L$215,2,0))","v":""},{"$f":"IF(C33=\"\",\"\",VLOOKUP($C33,ｴﾝﾄﾘｰ票!$E$16:$L$215,3,0))","v":""},{"$f":"IF(C33=\"\",\"\",VLOOKUP($C33,ｴﾝﾄﾘｰ票!$E$16:$L$215,8,0))","v":""},{"$f":"IF(C33=\"\",\"\",VLOOKUP($C33,ｴﾝﾄﾘｰ票!$E$16:$L$215,6,0))","v":""},{"$f":"IF(ISERROR(VLOOKUP(A33+100,ｴﾝﾄﾘｰ票!$AU$16:$AZ$205,4,0)),\"\",VLOOKUP(A33+100,ｴﾝﾄﾘｰ票!$AU$16:$AZ$205,4,0))","v":""},{"$f":"IF(H33=\"\",\"\",VLOOKUP($H33,ｴﾝﾄﾘｰ票!$E$16:$L$215,2,0))","v":""},{"$f":"IF(H33=\"\",\"\",VLOOKUP($H33,ｴﾝﾄﾘｰ票!$E$16:$L$215,3,0))","v":""},{"$f":"IF(H33=\"\",\"\",VLOOKUP($H33,ｴﾝﾄﾘｰ票!$E$16:$L$215,8,0))","v":""},{"$f":"IF(H33=\"\",\"\",VLOOKUP($H33,ｴﾝﾄﾘｰ票!$E$16:$L$215,6,0))","v":""},{"$f":"IF(ISERROR(VLOOKUP(A33+200,ｴﾝﾄﾘｰ票!$BA$16:$BF$205,4,0)),\"\",VLOOKUP(A33+200,ｴﾝﾄﾘｰ票!$BA$16:$BF$205,4,0))","v":""},{"$f":"IF(M33=\"\",\"\",VLOOKUP($M33,ｴﾝﾄﾘｰ票!$E$16:$L$215,2,0))","v":""},{"$f":"IF(M33=\"\",\"\",VLOOKUP($M33,ｴﾝﾄﾘｰ票!$E$16:$L$215,3,0))","v":""},{"$f":"IF(M33=\"\",\"\",VLOOKUP($M33,ｴﾝﾄﾘｰ票!$E$16:$L$215,8,0))","v":""},{"$f":"IF(M33=\"\",\"\",VLOOKUP($M33,ｴﾝﾄﾘｰ票!$E$16:$L$215,6,0))","v":""},{"$f":"IF(ISERROR(VLOOKUP(A33+300,ｴﾝﾄﾘｰ票!$BG$16:$BL$205,4,0)),\"\",VLOOKUP(A33+300,ｴﾝﾄﾘｰ票!$BG$16:$BL$205,4,0))","v":""},{"$f":"IF(R33=\"\",\"\",VLOOKUP($R33,ｴﾝﾄﾘｰ票!$E$16:$L$215,2,0))","v":""},{"$f":"IF(R33=\"\",\"\",VLOOKUP($R33,ｴﾝﾄﾘｰ票!$E$16:$L$215,3,0))","v":""},{"$f":"IF(R33=\"\",\"\",VLOOKUP($R33,ｴﾝﾄﾘｰ票!$E$16:$L$215,8,0))","v":""},{"$f":"IF(R33=\"\",\"\",VLOOKUP($R33,ｴﾝﾄﾘｰ票!$E$16:$L$215,6,0))","v":""}]
[52,34,{"$f":"IF(ISERROR(VLOOKUP(A34,ｴﾝﾄﾘｰ票!$A$16:$AH$215,5,0)),\"\",VLOOKUP(A34,ｴﾝﾄﾘｰ票!$A$16:$AH$215,5,0))","v":""},{"$f":"IF(C34=\"\",\"\",VLOOKUP($C34,ｴﾝﾄﾘｰ票!$E$16:$L$215,2,0))","v":""},{"$f":"IF(C34=\"\",\"\",VLOOKUP($C34,ｴﾝﾄﾘｰ票!$E$16:$L$215,3,0))","v":""},{"$f":"IF(C34=\"\",\"\",VLOOKUP($C34,ｴﾝﾄﾘｰ票!$E$16:$L$215,8,0))","v":""},{"$f":"IF(C34=\"\",\"\",VLOOKUP($C34,ｴﾝﾄﾘｰ票!$E$16:$L$215,6,0))","v":""},{"$f":"IF(ISERROR(VLOOKUP(A34+100,ｴﾝﾄﾘｰ票!$AU$16:$AZ$205,4,0)),\"\",VLOOKUP(A34+100,ｴﾝﾄﾘｰ票!$AU$16:$AZ$205,4,0))","v":""},{"$f":"IF(H34=\"\",\"\",VLOOKUP($H34,ｴﾝﾄﾘｰ票!$E$16:$L$215,2,0))","v":""},{"$f":"IF(H34=\"\",\"\",VLOOKUP($H34,ｴﾝﾄﾘｰ票!$E$16:$L$215,3,0))","v":""},{"$f":"IF(H34=\"\",\"\",VLOOKUP($H34,ｴﾝﾄﾘｰ票!$E$16:$L$215,8,0))","v":""},{"$f":"IF(H34=\"\",\"\",VLOOKUP($H34,ｴﾝﾄﾘｰ票!$E$16:$L$215,6,0))","v":""},{"$f":"IF(ISERROR(VLOOKUP(A34+200,ｴﾝﾄﾘｰ票!$BA$16:$BF$205,4,0)),\"\",VLOOKUP(A34+200,ｴﾝﾄﾘｰ票!$BA$16:$BF$205,4,0))","v":""},{"$f":"IF(M34=\"\",\"\",VLOOKUP($M34,ｴﾝﾄﾘｰ票!$E$16:$L$215,2,0))","v":""},{"$f":"IF(M34=\"\",\"\",VLOOKUP($M34,ｴﾝﾄﾘｰ票!$E$16:$L$215,3,0))","v":""},{"$f":"IF(M34=\"\",\"\",VLOOKUP($M34,ｴﾝﾄﾘｰ票!$E$16:$L$215,8,0))","v":""},{"$f":"IF(M34=\"\",\"\",VLOOKUP($M34,ｴﾝﾄﾘｰ票!$E$16:$L$215,6,0))","v":""},{"$f":"IF(ISERROR(VLOOKUP(A34+300,ｴﾝﾄﾘｰ票!$BG$16:$BL$205,4,0)),\"\",VLOOKUP(A34+300,ｴﾝﾄﾘｰ票!$BG$16:$BL$205,4,0))","v":""},{"$f":"IF(R34=\"\",\"\",VLOOKUP($R34,ｴﾝﾄﾘｰ票!$E$16:$L$215,2,0))","v":""},{"$f":"IF(R34=\"\",\"\",VLOOKUP($R34,ｴﾝﾄﾘｰ票!$E$16:$L$215,3,0))","v":""},{"$f":"IF(R34=\"\",\"\",VLOOKUP($R34,ｴﾝﾄﾘｰ票!$E$16:$L$215,8,0))","v":""},{"$f":"IF(R34=\"\",\"\",VLOOKUP($R34,ｴﾝﾄﾘｰ票!$E$16:$L$215,6,0))","v":""}]
[53,35,{"$f":"IF(ISERROR(VLOOKUP(A35,ｴﾝﾄﾘｰ票!$A$16:$AH$215,5,0)),\"\",VLOOKUP(A35,ｴﾝﾄﾘｰ票!$A$16:$AH$215,5,0))","v":""},{"$f":"IF(C35=\"\",\"\",VLOOKUP($C35,ｴﾝﾄﾘｰ票!$E$16:$L$215,2,0))","v":""},{"$f":"IF(C35=\"\",\"\",VLOOKUP($C35,ｴﾝﾄﾘｰ票!$E$16:$L$215,3,0))","v":""},{"$f":"IF(C35=\"\",\"\",VLOOKUP($C35,ｴﾝﾄﾘｰ票!$E$16:$L$215,8,0))","v":""},{"$f":"IF(C35=\"\",\"\",VLOOKUP($C35,ｴﾝﾄﾘｰ票!$E$16:$L$215,6,0))","v":""},{"$f":"IF(ISERROR(VLOOKUP(A35+100,ｴﾝﾄﾘｰ票!$AU$16:$AZ$205,4,0)),\"\",VLOOKUP(A35+100,ｴﾝﾄﾘｰ票!$AU$16:$AZ$205,4,0))","v":""},{"$f":"IF(H35=\"\",\"\",VLOOKUP($H35,ｴﾝﾄﾘｰ票!$E$16:$L$215,2,0))","v":""},{"$f":"IF(H35=\"\",\"\",VLOOKUP($H35,ｴﾝﾄﾘｰ票!$E$16:$L$215,3,0))","v":""},{"$f":"IF(H35=\"\",\"\",VLOOKUP($H35,ｴﾝﾄﾘｰ票!$E$16:$L$215,8,0))","v":""},{"$f":"IF(H35=\"\",\"\",VLOOKUP($H35,ｴﾝﾄﾘｰ票!$E$16:$L$215,6,0))","v":""},{"$f":"IF(ISERROR(VLOOKUP(A35+200,ｴﾝﾄﾘｰ票!$BA$16:$BF$205,4,0)),\"\",VLOOKUP(A35+200,ｴﾝﾄﾘｰ票!$BA$16:$BF$205,4,0))","v":""},{"$f":"IF(M35=\"\",\"\",VLOOKUP($M35,ｴﾝﾄﾘｰ票!$E$16:$L$215,2,0))","v":""},{"$f":"IF(M35=\"\",\"\",VLOOKUP($M35,ｴﾝﾄﾘｰ票!$E$16:$L$215,3,0))","v":""},{"$f":"IF(M35=\"\",\"\",VLOOKUP($M35,ｴﾝﾄﾘｰ票!$E$16:$L$215,8,0))","v":""},{"$f":"IF(M35=\"\",\"\",VLOOKUP($M35,ｴﾝﾄﾘｰ票!$E$16:$L$215,6,0))","v":""},{"$f":"IF(ISERROR(VLOOKUP(A35+300,ｴﾝﾄﾘｰ票!$BG$16:$BL$205,4,0)),\"\",VLOOKUP(A35+300,ｴﾝﾄﾘｰ票!$BG$16:$BL$205,4,0))","v":""},{"$f":"IF(R35=\"\",\"\",VLOOKUP($R35,ｴﾝﾄﾘｰ票!$E$16:$L$215,2,0))","v":""},{"$f":"IF(R35=\"\",\"\",VLOOKUP($R35,ｴﾝﾄﾘｰ票!$E$16:$L$215,3,0))","v":""},{"$f":"IF(R35=\"\",\"\",VLOOKUP($R35,ｴﾝﾄﾘｰ票!$E$16:$L$215,8,0))","v":""},{"$f":"IF(R35=\"\",\"\",VLOOKUP($R35,ｴﾝﾄﾘｰ票!$E$16:$L$215,6,0))","v":""}]
[54,36,{"$f":"IF(ISERROR(VLOOKUP(A36,ｴﾝﾄﾘｰ票!$A$16:$AH$215,5,0)),\"\",VLOOKUP(A36,ｴﾝﾄﾘｰ票!$A$16:$AH$215,5,0))","v":""},{"$f":"IF(C36=\"\",\"\",VLOOKUP($C36,ｴﾝﾄﾘｰ票!$E$16:$L$215,2,0))","v":""},{"$f":"IF(C36=\"\",\"\",VLOOKUP($C36,ｴﾝﾄﾘｰ票!$E$16:$L$215,3,0))","v":""},{"$f":"IF(C36=\"\",\"\",VLOOKUP($C36,ｴﾝﾄﾘｰ票!$E$16:$L$215,8,0))","v":""},{"$f":"IF(C36=\"\",\"\",VLOOKUP($C36,ｴﾝﾄﾘｰ票!$E$16:$L$215,6,0))","v":""},{"$f":"IF(ISERROR(VLOOKUP(A36+100,ｴﾝﾄﾘｰ票!$AU$16:$AZ$205,4,0)),\"\",VLOOKUP(A36+100,ｴﾝﾄﾘｰ票!$AU$16:$AZ$205,4,0))","v":""},{"$f":"IF(H36=\"\",\"\",VLOOKUP($H36,ｴﾝﾄﾘｰ票!$E$16:$L$215,2,0))","v":""},{"$f":"IF(H36=\"\",\"\",VLOOKUP($H36,ｴﾝﾄﾘｰ票!$E$16:$L$215,3,0))","v":""},{"$f":"IF(H36=\"\",\"\",VLOOKUP($H36,ｴﾝﾄﾘｰ票!$E$16:$L$215,8,0))","v":""},{"$f":"IF(H36=\"\",\"\",VLOOKUP($H36,ｴﾝﾄﾘｰ票!$E$16:$L$215,6,0))","v":""},{"$f":"IF(ISERROR(VLOOKUP(A36+200,ｴﾝﾄﾘｰ票!$BA$16:$BF$205,4,0)),\"\",VLOOKUP(A36+200,ｴﾝﾄﾘｰ票!$BA$16:$BF$205,4,0))","v":""},{"$f":"IF(M36=\"\",\"\",VLOOKUP($M36,ｴﾝﾄﾘｰ票!$E$16:$L$215,2,0))","v":""},{"$f":"IF(M36=\"\",\"\",VLOOKUP($M36,ｴﾝﾄﾘｰ票!$E$16:$L$215,3,0))","v":""},{"$f":"IF(M36=\"\",\"\",VLOOKUP($M36,ｴﾝﾄﾘｰ票!$E$16:$L$215,8,0))","v":""},{"$f":"IF(M36=\"\",\"\",VLOOKUP($M36,ｴﾝﾄﾘｰ票!$E$16:$L$215,6,0))","v":""},{"$f":"IF(ISERROR(VLOOKUP(A36+300,ｴﾝﾄﾘｰ票!$BG$16:$BL$205,4,0)),\"\",VLOOKUP(A36+300,ｴﾝﾄﾘｰ票!$BG$16:$BL$205,4,0))","v":""},{"$f":"IF(R36=\"\",\"\",VLOOKUP($R36,ｴﾝﾄﾘｰ票!$E$16:$L$215,2,0))","v":""},{"$f":"IF(R36=\"\",\"\",VLOOKUP($R36,ｴﾝﾄﾘｰ票!$E$16:$L$215,3,0))","v":""},{"$f":"IF(R36=\"\",\"\",VLOOKUP($R36,ｴﾝﾄﾘｰ票!$E$16:$L$215,8,0))","v":""},{"$f":"IF(R36=\"\",\"\",VLOOKUP($R36,ｴﾝﾄﾘｰ票!$E$16:$L$215,6,0))","v":""}]
[55,37,{"$f":"IF(ISERROR(VLOOKUP(A37,ｴﾝﾄﾘｰ票!$A$16:$AH$215,5,0)),\"\",VLOOKUP(A37,ｴﾝﾄﾘｰ票!$A$16:$AH$215,5,0))","v":""},{"$f":"IF(C37=\"\",\"\",VLOOKUP($C37,ｴﾝﾄﾘｰ票!$E$16:$L$215,2,0))","v":""},{"$f":"IF(C37=\"\",\"\",VLOOKUP($C37,ｴﾝﾄﾘｰ票!$E$16:$L$215,3,0))","v":""},{"$f":"IF(C37=\"\",\"\",VLOOKUP($C37,ｴﾝﾄﾘｰ票!$E$16:$L$215,8,0))","v":""},{"$f":"IF(C37=\"\",\"\",VLOOKUP($C37,ｴﾝﾄﾘｰ票!$E$16:$L$215,6,0))","v":""},{"$f":"IF(ISERROR(VLOOKUP(A37+100,ｴﾝﾄﾘｰ票!$AU$16:$AZ$205,4,0)),\"\",VLOOKUP(A37+100,ｴﾝﾄﾘｰ票!$AU$16:$AZ$205,4,0))","v":""},{"$f":"IF(H37=\"\",\"\",VLOOKUP($H37,ｴﾝﾄﾘｰ票!$E$16:$L$215,2,0))","v":""},{"$f":"IF(H37=\"\",\"\",VLOOKUP($H37,ｴﾝﾄﾘｰ票!$E$16:$L$215,3,0))","v":""},{"$f":"IF(H37=\"\",\"\",VLOOKUP($H37,ｴﾝﾄﾘｰ票!$E$16:$L$215,8,0))","v":""},{"$f":"IF(H37=\"\",\"\",VLOOKUP($H37,ｴﾝﾄﾘｰ票!$E$16:$L$215,6,0))","v":""},{"$f":"IF(ISERROR(VLOOKUP(A37+200,ｴﾝﾄﾘｰ票!$BA$16:$BF$205,4,0)),\"\",VLOOKUP(A37+200,ｴﾝﾄﾘｰ票!$BA$16:$BF$205,4,0))","v":""},{"$f":"IF(M37=\"\",\"\",VLOOKUP($M37,ｴﾝﾄﾘｰ票!$E$16:$L$215,2,0))","v":""},{"$f":"IF(M37=\"\",\"\",VLOOKUP($M37,ｴﾝﾄﾘｰ票!$E$16:$L$215,3,0))","v":""},{"$f":"IF(M37=\"\",\"\",VLOOKUP($M37,ｴﾝﾄﾘｰ票!$E$16:$L$215,8,0))","v":""},{"$f":"IF(M37=\"\",\"\",VLOOKUP($M37,ｴﾝﾄﾘｰ票!$E$16:$L$215,6,0))","v":""},{"$f":"IF(ISERROR(VLOOKUP(A37+300,ｴﾝﾄﾘｰ票!$BG$16:$BL$205,4,0)),\"\",VLOOKUP(A37+300,ｴﾝﾄﾘｰ票!$BG$16:$BL$205,4,0))","v":""},{"$f":"IF(R37=\"\",\"\",VLOOKUP($R37,ｴﾝﾄﾘｰ票!$E$16:$L$215,2,0))","v":""},{"$f":"IF(R37=\"\",\"\",VLOOKUP($R37,ｴﾝﾄﾘｰ票!$E$16:$L$215,3,0))","v":""},{"$f":"IF(R37=\"\",\"\",VLOOKUP($R37,ｴﾝﾄﾘｰ票!$E$16:$L$215,8,0))","v":""},{"$f":"IF(R37=\"\",\"\",VLOOKUP($R37,ｴﾝﾄﾘｰ票!$E$16:$L$215,6,0))","v":""}]
[56,38,{"$f":"IF(ISERROR(VLOOKUP(A38,ｴﾝﾄﾘｰ票!$A$16:$AH$215,5,0)),\"\",VLOOKUP(A38,ｴﾝﾄﾘｰ票!$A$16:$AH$215,5,0))","v":""},{"$f":"IF(C38=\"\",\"\",VLOOKUP($C38,ｴﾝﾄﾘｰ票!$E$16:$L$215,2,0))","v":""},{"$f":"IF(C38=\"\",\"\",VLOOKUP($C38,ｴﾝﾄﾘｰ票!$E$16:$L$215,3,0))","v":""},{"$f":"IF(C38=\"\",\"\",VLOOKUP($C38,ｴﾝﾄﾘｰ票!$E$16:$L$215,8,0))","v":""},{"$f":"IF(C38=\"\",\"\",VLOOKUP($C38,ｴﾝﾄﾘｰ票!$E$16:$L$215,6,0))","v":""},{"$f":"IF(ISERROR(VLOOKUP(A38+100,ｴﾝﾄﾘｰ票!$AU$16:$AZ$205,4,0)),\"\",VLOOKUP(A38+100,ｴﾝﾄﾘｰ票!$AU$16:$AZ$205,4,0))","v":""},{"$f":"IF(H38=\"\",\"\",VLOOKUP($H38,ｴﾝﾄﾘｰ票!$E$16:$L$215,2,0))","v":""},{"$f":"IF(H38=\"\",\"\",VLOOKUP($H38,ｴﾝﾄﾘｰ票!$E$16:$L$215,3,0))","v":""},{"$f":"IF(H38=\"\",\"\",VLOOKUP($H38,ｴﾝﾄﾘｰ票!$E$16:$L$215,8,0))","v":""},{"$f":"IF(H38=\"\",\"\",VLOOKUP($H38,ｴﾝﾄﾘｰ票!$E$16:$L$215,6,0))","v":""},{"$f":"IF(ISERROR(VLOOKUP(A38+200,ｴﾝﾄﾘｰ票!$BA$16:$BF$205,4,0)),\"\",VLOOKUP(A38+200,ｴﾝﾄﾘｰ票!$BA$16:$BF$205,4,0))","v":""},{"$f":"IF(M38=\"\",\"\",VLOOKUP($M38,ｴﾝﾄﾘｰ票!$E$16:$L$215,2,0))","v":""},{"$f":"IF(M38=\"\",\"\",VLOOKUP($M38,ｴﾝﾄﾘｰ票!$E$16:$L$215,3,0))","v":""},{"$f":"IF(M38=\"\",\"\",VLOOKUP($M38,ｴﾝﾄﾘｰ票!$E$16:$L$215,8,0))","v":""},{"$f":"IF(M38=\"\",\"\",VLOOKUP($M38,ｴﾝﾄﾘｰ票!$E$16:$L$215,6,0))","v":""},{"$f":"IF(ISERROR(VLOOKUP(A38+300,ｴﾝﾄﾘｰ票!$BG$16:$BL$205,4,0)),\"\",VLOOKUP(A38+300,ｴﾝﾄﾘｰ票!$BG$16:$BL$205,4,0))","v":""},{"$f":"IF(R38=\"\",\"\",VLOOKUP($R38,ｴﾝﾄﾘｰ票!$E$16:$L$215,2,0))","v":""},{"$f":"IF(R38=\"\",\"\",VLOOKUP($R38,ｴﾝﾄﾘｰ票!$E$16:$L$215,3,0))","v":""},{"$f":"IF(R38=\"\",\"\",VLOOKUP($R38,ｴﾝﾄﾘｰ票!$E$16:$L$215,8,0))","v":""},{"$f":"IF(R38=\"\",\"\",VLOOKUP($R38,ｴﾝﾄﾘｰ票!$E$16:$L$215,6,0))","v":""}]
[6,39,{"$f":"IF(ISERROR(VLOOKUP(A40,ｴﾝﾄﾘｰ票!$AO$16:$AT$205,6,0)),\"\",VLOOKUP(A40,ｴﾝﾄﾘｰ票!$AO$16:$AT$205,6,0))","v":""},"氏名",null,"性別","学年",{"$f":"IF(ISERROR(VLOOKUP(A40+100,ｴﾝﾄﾘｰ票!$AU$16:$AZ$205,6,0)),\"\",VLOOKUP(A40+100,ｴﾝﾄﾘｰ票!$AU$16:$AZ$205,6,0))","v":""},"氏名",null,"性別","学年",{"$f":"IF(ISERROR(VLOOKUP(A40+200,ｴﾝﾄﾘｰ票!$BA$16:$BF$205,6,0)),\"\",VLOOKUP(A40+200,ｴﾝﾄﾘｰ票!$BA$16:$BF$205,6,0))","v":""},"氏名",null,"性別","学年",{"$f":"IF(ISERROR(VLOOKUP(A40+300,ｴﾝﾄﾘｰ票!$BG$16:$BL$205,6,0)),\"\",VLOOKUP(A40+300,ｴﾝﾄﾘｰ票!$BG$16:$BL$205,6,0))","v":""},"氏名",null,"性別","学年"]
[61,40,{"$f":"IF(ISERROR(VLOOKUP(A40,ｴﾝﾄﾘｰ票!$A$16:$AH$215,5,0)),\"\",VLOOKUP(A40,ｴﾝﾄﾘｰ票!$A$16:$AH$215,5,0))","v":""},{"$f":"IF(C40=\"\",\"\",VLOOKUP($C40,ｴﾝﾄﾘｰ票!$E$16:$L$215,2,0))","v":""},{"$f":"IF(C40=\"\",\"\",VLOOKUP($C40,ｴﾝﾄﾘｰ票!$E$16:$L$215,3,0))","v":""},{"$f":"IF(C40=\"\",\"\",VLOOKUP($C40,ｴﾝﾄﾘｰ票!$E$16:$L$215,8,0))","v":""},{"$f":"IF(C40=\"\",\"\",VLOOKUP($C40,ｴﾝﾄﾘｰ票!$E$16:$L$215,6,0))","v":""},{"$f":"IF(ISERROR(VLOOKUP(A40+100,ｴﾝﾄﾘｰ票!$AU$16:$AZ$205,4,0)),\"\",VLOOKUP(A40+100,ｴﾝﾄﾘｰ票!$AU$16:$AZ$205,4,0))","v":""},{"$f":"IF(H40=\"\",\"\",VLOOKUP($H40,ｴﾝﾄﾘｰ票!$E$16:$L$215,2,0))","v":""},{"$f":"IF(H40=\"\",\"\",VLOOKUP($H40,ｴﾝﾄﾘｰ票!$E$16:$L$215,3,0))","v":""},{"$f":"IF(H40=\"\",\"\",VLOOKUP($H40,ｴﾝﾄﾘｰ票!$E$16:$L$215,8,0))","v":""},{"$f":"IF(H40=\"\",\"\",VLOOKUP($H40,ｴﾝﾄﾘｰ票!$E$16:$L$215,6,0))","v":""},{"$f":"IF(ISERROR(VLOOKUP(A40+200,ｴﾝﾄﾘｰ票!$BA$16:$BF$205,4,0)),\"\",VLOOKUP(A40+200,ｴﾝﾄﾘｰ票!$BA$16:$BF$205,4,0))","v":""},{"$f":"IF(M40=\"\",\"\",VLOOKUP($M40,ｴﾝﾄﾘｰ票!$E$16:$L$215,2,0))","v":""},{"$f":"IF(M40=\"\",\"\",VLOOKUP($M40,ｴﾝﾄﾘｰ票!$E$16:$L$215,3,0))","v":""},{"$f":"IF(M40=\"\",\"\",VLOOKUP($M40,ｴﾝﾄﾘｰ票!$E$16:$L$215,8,0))","v":""},{"$f":"IF(M40=\"\",\"\",VLOOKUP($M40,ｴﾝﾄﾘｰ票!$E$16:$L$215,6,0))","v":""},{"$f":"IF(ISERROR(VLOOKUP(A40+300,ｴﾝﾄﾘｰ票!$BG$16:$BL$205,4,0)),\"\",VLOOKUP(A40+300,ｴﾝﾄﾘｰ票!$BG$16:$BL$205,4,0))","v":""},{"$f":"IF(R40=\"\",\"\",VLOOKUP($R40,ｴﾝﾄﾘｰ票!$E$16:$L$215,2,0))","v":""},{"$f":"IF(R40=\"\",\"\",VLOOKUP($R40,ｴﾝﾄﾘｰ票!$E$16:$L$215,3,0))","v":""},{"$f":"IF(R40=\"\",\"\",VLOOKUP($R40,ｴﾝﾄﾘｰ票!$E$16:$L$215,8,0))","v":""},{"$f":"IF(R40=\"\",\"\",VLOOKUP($R40,ｴﾝﾄﾘｰ票!$E$16:$L$215,6,0))","v":""}]
[62,41,{"$f":"IF(ISERROR(VLOOKUP(A41,ｴﾝﾄﾘｰ票!$A$16:$AH$215,5,0)),\"\",VLOOKUP(A41,ｴﾝﾄﾘｰ票!$A$16:$AH$215,5,0))","v":""},{"$f":"IF(C41=\"\",\"\",VLOOKUP($C41,ｴﾝﾄﾘｰ票!$E$16:$L$215,2,0))","v":""},{"$f":"IF(C41=\"\",\"\",VLOOKUP($C41,ｴﾝﾄﾘｰ票!$E$16:$L$215,3,0))","v":""},{"$f":"IF(C41=\"\",\"\",VLOOKUP($C41,ｴﾝﾄﾘｰ票!$E$16:$L$215,8,0))","v":""},{"$f":"IF(C41=\"\",\"\",VLOOKUP($C41,ｴﾝﾄﾘｰ票!$E$16:$L$215,6,0))","v":""},{"$f":"IF(ISERROR(VLOOKUP(A41+100,ｴﾝﾄﾘｰ票!$AU$16:$AZ$205,4,0)),\"\",VLOOKUP(A41+100,ｴﾝﾄﾘｰ票!$AU$16:$AZ$205,4,0))","v":""},{"$f":"IF(H41=\"\",\"\",VLOOKUP($H41,ｴﾝﾄﾘｰ票!$E$16:$L$215,2,0))","v":""},{"$f":"IF(H41=\"\",\"\",VLOOKUP($H41,ｴﾝﾄﾘｰ票!$E$16:$L$215,3,0))","v":""},{"$f":"IF(H41=\"\",\"\",VLOOKUP($H41,ｴﾝﾄﾘｰ票!$E$16:$L$215,8,0))","v":""},{"$f":"IF(H41=\"\",\"\",VLOOKUP($H41,ｴﾝﾄﾘｰ票!$E$16:$L$215,6,0))","v":""},{"$f":"IF(ISERROR(VLOOKUP(A41+200,ｴﾝﾄﾘｰ票!$BA$16:$BF$205,4,0)),\"\",VLOOKUP(A41+200,ｴﾝﾄﾘｰ票!$BA$16:$BF$205,4,0))","v":""},{"$f":"IF(M41=\"\",\"\",VLOOKUP($M41,ｴﾝﾄﾘｰ票!$E$16:$L$215,2,0))","v":""},{"$f":"IF(M41=\"\",\"\",VLOOKUP($M41,ｴﾝﾄﾘｰ票!$E$16:$L$215,3,0))","v":""},{"$f":"IF(M41=\"\",\"\",VLOOKUP($M41,ｴﾝﾄﾘｰ票!$E$16:$L$215,8,0))","v":""},{"$f":"IF(M41=\"\",\"\",VLOOKUP($M41,ｴﾝﾄﾘｰ票!$E$16:$L$215,6,0))","v":""},{"$f":"IF(ISERROR(VLOOKUP(A41+300,ｴﾝﾄﾘｰ票!$BG$16:$BL$205,4,0)),\"\",VLOOKUP(A41+300,ｴﾝﾄﾘｰ票!$BG$16:$BL$205,4,0))","v":""},{"$f":"IF(R41=\"\",\"\",VLOOKUP($R41,ｴﾝﾄﾘｰ票!$E$16:$L$215,2,0))","v":""},{"$f":"IF(R41=\"\",\"\",VLOOKUP($R41,ｴﾝﾄﾘｰ票!$E$16:$L$215,3,0))","v":""},{"$f":"IF(R41=\"\",\"\",VLOOKUP($R41,ｴﾝﾄﾘｰ票!$E$16:$L$215,8,0))","v":""},{"$f":"IF(R41=\"\",\"\",VLOOKUP($R41,ｴﾝﾄﾘｰ票!$E$16:$L$215,6,0))","v":""}]
[63,42,{"$f":"IF(ISERROR(VLOOKUP(A42,ｴﾝﾄﾘｰ票!$A$16:$AH$215,5,0)),\"\",VLOOKUP(A42,ｴﾝﾄﾘｰ票!$A$16:$AH$215,5,0))","v":""},{"$f":"IF(C42=\"\",\"\",VLOOKUP($C42,ｴﾝﾄﾘｰ票!$E$16:$L$215,2,0))","v":""},{"$f":"IF(C42=\"\",\"\",VLOOKUP($C42,ｴﾝﾄﾘｰ票!$E$16:$L$215,3,0))","v":""},{"$f":"IF(C42=\"\",\"\",VLOOKUP($C42,ｴﾝﾄﾘｰ票!$E$16:$L$215,8,0))","v":""},{"$f":"IF(C42=\"\",\"\",VLOOKUP($C42,ｴﾝﾄﾘｰ票!$E$16:$L$215,6,0))","v":""},{"$f":"IF(ISERROR(VLOOKUP(A42+100,ｴﾝﾄﾘｰ票!$AU$16:$AZ$205,4,0)),\"\",VLOOKUP(A42+100,ｴﾝﾄﾘｰ票!$AU$16:$AZ$205,4,0))","v":""},{"$f":"IF(H42=\"\",\"\",VLOOKUP($H42,ｴﾝﾄﾘｰ票!$E$16:$L$215,2,0))","v":""},{"$f":"IF(H42=\"\",\"\",VLOOKUP($H42,ｴﾝﾄﾘｰ票!$E$16:$L$215,3,0))","v":""},{"$f":"IF(H42=\"\",\"\",VLOOKUP($H42,ｴﾝﾄﾘｰ票!$E$16:$L$215,8,0))","v":""},{"$f":"IF(H42=\"\",\"\",VLOOKUP($H42,ｴﾝﾄﾘｰ票!$E$16:$L$215,6,0))","v":""},{"$f":"IF(ISERROR(VLOOKUP(A42+200,ｴﾝﾄﾘｰ票!$BA$16:$BF$205,4,0)),\"\",VLOOKUP(A42+200,ｴﾝﾄﾘｰ票!$BA$16:$BF$205,4,0))","v":""},{"$f":"IF(M42=\"\",\"\",VLOOKUP($M42,ｴﾝﾄﾘｰ票!$E$16:$L$215,2,0))","v":""},{"$f":"IF(M42=\"\",\"\",VLOOKUP($M42,ｴﾝﾄﾘｰ票!$E$16:$L$215,3,0))","v":""},{"$f":"IF(M42=\"\",\"\",VLOOKUP($M42,ｴﾝﾄﾘｰ票!$E$16:$L$215,8,0))","v":""},{"$f":"IF(M42=\"\",\"\",VLOOKUP($M42,ｴﾝﾄﾘｰ票!$E$16:$L$215,6,0))","v":""},{"$f":"IF(ISERROR(VLOOKUP(A42+300,ｴﾝﾄﾘｰ票!$BG$16:$BL$205,4,0)),\"\",VLOOKUP(A42+300,ｴﾝﾄﾘｰ票!$BG$16:$BL$205,4,0))","v":""},{"$f":"IF(R42=\"\",\"\",VLOOKUP($R42,ｴﾝﾄﾘｰ票!$E$16:$L$215,2,0))","v":""},{"$f":"IF(R42=\"\",\"\",VLOOKUP($R42,ｴﾝﾄﾘｰ票!$E$16:$L$215,3,0))","v":""},{"$f":"IF(R42=\"\",\"\",VLOOKUP($R42,ｴﾝﾄﾘｰ票!$E$16:$L$215,8,0))","v":""},{"$f":"IF(R42=\"\",\"\",VLOOKUP($R42,ｴﾝﾄﾘｰ票!$E$16:$L$215,6,0))","v":""}]
[64,43,{"$f":"IF(ISERROR(VLOOKUP(A43,ｴﾝﾄﾘｰ票!$A$16:$AH$215,5,0)),\"\",VLOOKUP(A43,ｴﾝﾄﾘｰ票!$A$16:$AH$215,5,0))","v":""},{"$f":"IF(C43=\"\",\"\",VLOOKUP($C43,ｴﾝﾄﾘｰ票!$E$16:$L$215,2,0))","v":""},{"$f":"IF(C43=\"\",\"\",VLOOKUP($C43,ｴﾝﾄﾘｰ票!$E$16:$L$215,3,0))","v":""},{"$f":"IF(C43=\"\",\"\",VLOOKUP($C43,ｴﾝﾄﾘｰ票!$E$16:$L$215,8,0))","v":""},{"$f":"IF(C43=\"\",\"\",VLOOKUP($C43,ｴﾝﾄﾘｰ票!$E$16:$L$215,6,0))","v":""},{"$f":"IF(ISERROR(VLOOKUP(A43+100,ｴﾝﾄﾘｰ票!$AU$16:$AZ$205,4,0)),\"\",VLOOKUP(A43+100,ｴﾝﾄﾘｰ票!$AU$16:$AZ$205,4,0))","v":""},{"$f":"IF(H43=\"\",\"\",VLOOKUP($H43,ｴﾝﾄﾘｰ票!$E$16:$L$215,2,0))","v":""},{"$f":"IF(H43=\"\",\"\",VLOOKUP($H43,ｴﾝﾄﾘｰ票!$E$16:$L$215,3,0))","v":""},{"$f":"IF(H43=\"\",\"\",VLOOKUP($H43,ｴﾝﾄﾘｰ票!$E$16:$L$215,8,0))","v":""},{"$f":"IF(H43=\"\",\"\",VLOOKUP($H43,ｴﾝﾄﾘｰ票!$E$16:$L$215,6,0))","v":""},{"$f":"IF(ISERROR(VLOOKUP(A43+200,ｴﾝﾄﾘｰ票!$BA$16:$BF$205,4,0)),\"\",VLOOKUP(A43+200,ｴﾝﾄﾘｰ票!$BA$16:$BF$205,4,0))","v":""},{"$f":"IF(M43=\"\",\"\",VLOOKUP($M43,ｴﾝﾄﾘｰ票!$E$16:$L$215,2,0))","v":""},{"$f":"IF(M43=\"\",\"\",VLOOKUP($M43,ｴﾝﾄﾘｰ票!$E$16:$L$215,3,0))","v":""},{"$f":"IF(M43=\"\",\"\",VLOOKUP($M43,ｴﾝﾄﾘｰ票!$E$16:$L$215,8,0))","v":""},{"$f":"IF(M43=\"\",\"\",VLOOKUP($M43,ｴﾝﾄﾘｰ票!$E$16:$L$215,6,0))","v":""},{"$f":"IF(ISERROR(VLOOKUP(A43+300,ｴﾝﾄﾘｰ票!$BG$16:$BL$205,4,0)),\"\",VLOOKUP(A43+300,ｴﾝﾄﾘｰ票!$BG$16:$BL$205,4,0))","v":""},{"$f":"IF(R43=\"\",\"\",VLOOKUP($R43,ｴﾝﾄﾘｰ票!$E$16:$L$215,2,0))","v":""},{"$f":"IF(R43=\"\",\"\",VLOOKUP($R43,ｴﾝﾄﾘｰ票!$E$16:$L$215,3,0))","v":""},{"$f":"IF(R43=\"\",\"\",VLOOKUP($R43,ｴﾝﾄﾘｰ票!$E$16:$L$215,8,0))","v":""},{"$f":"IF(R43=\"\",\"\",VLOOKUP($R43,ｴﾝﾄﾘｰ票!$E$16:$L$215,6,0))","v":""}]
[65,44,{"$f":"IF(ISERROR(VLOOKUP(A44,ｴﾝﾄﾘｰ票!$A$16:$AH$215,5,0)),\"\",VLOOKUP(A44,ｴﾝﾄﾘｰ票!$A$16:$AH$215,5,0))","v":""},{"$f":"IF(C44=\"\",\"\",VLOOKUP($C44,ｴﾝﾄﾘｰ票!$E$16:$L$215,2,0))","v":""},{"$f":"IF(C44=\"\",\"\",VLOOKUP($C44,ｴﾝﾄﾘｰ票!$E$16:$L$215,3,0))","v":""},{"$f":"IF(C44=\"\",\"\",VLOOKUP($C44,ｴﾝﾄﾘｰ票!$E$16:$L$215,8,0))","v":""},{"$f":"IF(C44=\"\",\"\",VLOOKUP($C44,ｴﾝﾄﾘｰ票!$E$16:$L$215,6,0))","v":""},{"$f":"IF(ISERROR(VLOOKUP(A44+100,ｴﾝﾄﾘｰ票!$AU$16:$AZ$205,4,0)),\"\",VLOOKUP(A44+100,ｴﾝﾄﾘｰ票!$AU$16:$AZ$205,4,0))","v":""},{"$f":"IF(H44=\"\",\"\",VLOOKUP($H44,ｴﾝﾄﾘｰ票!$E$16:$L$215,2,0))","v":""},{"$f":"IF(H44=\"\",\"\",VLOOKUP($H44,ｴﾝﾄﾘｰ票!$E$16:$L$215,3,0))","v":""},{"$f":"IF(H44=\"\",\"\",VLOOKUP($H44,ｴﾝﾄﾘｰ票!$E$16:$L$215,8,0))","v":""},{"$f":"IF(H44=\"\",\"\",VLOOKUP($H44,ｴﾝﾄﾘｰ票!$E$16:$L$215,6,0))","v":""},{"$f":"IF(ISERROR(VLOOKUP(A44+200,ｴﾝﾄﾘｰ票!$BA$16:$BF$205,4,0)),\"\",VLOOKUP(A44+200,ｴﾝﾄﾘｰ票!$BA$16:$BF$205,4,0))","v":""},{"$f":"IF(M44=\"\",\"\",VLOOKUP($M44,ｴﾝﾄﾘｰ票!$E$16:$L$215,2,0))","v":""},{"$f":"IF(M44=\"\",\"\",VLOOKUP($M44,ｴﾝﾄﾘｰ票!$E$16:$L$215,3,0))","v":""},{"$f":"IF(M44=\"\",\"\",VLOOKUP($M44,ｴﾝﾄﾘｰ票!$E$16:$L$215,8,0))","v":""},{"$f":"IF(M44=\"\",\"\",VLOOKUP($M44,ｴﾝﾄﾘｰ票!$E$16:$L$215,6,0))","v":""},{"$f":"IF(ISERROR(VLOOKUP(A44+300,ｴﾝﾄﾘｰ票!$BG$16:$BL$205,4,0)),\"\",VLOOKUP(A44+300,ｴﾝﾄﾘｰ票!$BG$16:$BL$205,4,0))","v":""},{"$f":"IF(R44=\"\",\"\",VLOOKUP($R44,ｴﾝﾄﾘｰ票!$E$16:$L$215,2,0))","v":""},{"$f":"IF(R44=\"\",\"\",VLOOKUP($R44,ｴﾝﾄﾘｰ票!$E$16:$L$215,3,0))","v":""},{"$f":"IF(R44=\"\",\"\",VLOOKUP($R44,ｴﾝﾄﾘｰ票!$E$16:$L$215,8,0))","v":""},{"$f":"IF(R44=\"\",\"\",VLOOKUP($R44,ｴﾝﾄﾘｰ票!$E$16:$L$215,6,0))","v":""}]
[66,45,{"$f":"IF(ISERROR(VLOOKUP(A45,ｴﾝﾄﾘｰ票!$A$16:$AH$215,5,0)),\"\",VLOOKUP(A45,ｴﾝﾄﾘｰ票!$A$16:$AH$215,5,0))","v":""},{"$f":"IF(C45=\"\",\"\",VLOOKUP($C45,ｴﾝﾄﾘｰ票!$E$16:$L$215,2,0))","v":""},{"$f":"IF(C45=\"\",\"\",VLOOKUP($C45,ｴﾝﾄﾘｰ票!$E$16:$L$215,3,0))","v":""},{"$f":"IF(C45=\"\",\"\",VLOOKUP($C45,ｴﾝﾄﾘｰ票!$E$16:$L$215,8,0))","v":""},{"$f":"IF(C45=\"\",\"\",VLOOKUP($C45,ｴﾝﾄﾘｰ票!$E$16:$L$215,6,0))","v":""},{"$f":"IF(ISERROR(VLOOKUP(A45+100,ｴﾝﾄﾘｰ票!$AU$16:$AZ$205,4,0)),\"\",VLOOKUP(A45+100,ｴﾝﾄﾘｰ票!$AU$16:$AZ$205,4,0))","v":""},{"$f":"IF(H45=\"\",\"\",VLOOKUP($H45,ｴﾝﾄﾘｰ票!$E$16:$L$215,2,0))","v":""},{"$f":"IF(H45=\"\",\"\",VLOOKUP($H45,ｴﾝﾄﾘｰ票!$E$16:$L$215,3,0))","v":""},{"$f":"IF(H45=\"\",\"\",VLOOKUP($H45,ｴﾝﾄﾘｰ票!$E$16:$L$215,8,0))","v":""},{"$f":"IF(H45=\"\",\"\",VLOOKUP($H45,ｴﾝﾄﾘｰ票!$E$16:$L$215,6,0))","v":""},{"$f":"IF(ISERROR(VLOOKUP(A45+200,ｴﾝﾄﾘｰ票!$BA$16:$BF$205,4,0)),\"\",VLOOKUP(A45+200,ｴﾝﾄﾘｰ票!$BA$16:$BF$205,4,0))","v":""},{"$f":"IF(M45=\"\",\"\",VLOOKUP($M45,ｴﾝﾄﾘｰ票!$E$16:$L$215,2,0))","v":""},{"$f":"IF(M45=\"\",\"\",VLOOKUP($M45,ｴﾝﾄﾘｰ票!$E$16:$L$215,3,0))","v":""},{"$f":"IF(M45=\"\",\"\",VLOOKUP($M45,ｴﾝﾄﾘｰ票!$E$16:$L$215,8,0))","v":""},{"$f":"IF(M45=\"\",\"\",VLOOKUP($M45,ｴﾝﾄﾘｰ票!$E$16:$L$215,6,0))","v":""},{"$f":"IF(ISERROR(VLOOKUP(A45+300,ｴﾝﾄﾘｰ票!$BG$16:$BL$205,4,0)),\"\",VLOOKUP(A45+300,ｴﾝﾄﾘｰ票!$BG$16:$BL$205,4,0))","v":""},{"$f":"IF(R45=\"\",\"\",VLOOKUP($R45,ｴﾝﾄﾘｰ票!$E$16:$L$215,2,0))","v":""},{"$f":"IF(R45=\"\",\"\",VLOOKUP($R45,ｴﾝﾄﾘｰ票!$E$16:$L$215,3,0))","v":""},{"$f":"IF(R45=\"\",\"\",VLOOKUP($R45,ｴﾝﾄﾘｰ票!$E$16:$L$215,8,0))","v":""},{"$f":"IF(R45=\"\",\"\",VLOOKUP($R45,ｴﾝﾄﾘｰ票!$E$16:$L$215,6,0))","v":""}]
[7,46,{"$f":"IF(ISERROR(VLOOKUP(A47,ｴﾝﾄﾘｰ票!$AO$16:$AT$205,6,0)),\"\",VLOOKUP(A47,ｴﾝﾄﾘｰ票!$AO$16:$AT$205,6,0))","v":""},"氏名",null,"性別","学年",{"$f":"IF(ISERROR(VLOOKUP(A47+100,ｴﾝﾄﾘｰ票!$AU$16:$AZ$205,6,0)),\"\",VLOOKUP(A47+100,ｴﾝﾄﾘｰ票!$AU$16:$AZ$205,6,0))","v":""},"氏名",null,"性別","学年",{"$f":"IF(ISERROR(VLOOKUP(A47+200,ｴﾝﾄﾘｰ票!$BA$16:$BF$205,6,0)),\"\",VLOOKUP(A47+200,ｴﾝﾄﾘｰ票!$BA$16:$BF$205,6,0))","v":""},"氏名",null,"性別","学年",{"$f":"IF(ISERROR(VLOOKUP(A47+300,ｴﾝﾄﾘｰ票!$BG$16:$BL$205,6,0)),\"\",VLOOKUP(A47+300,ｴﾝﾄﾘｰ票!$BG$16:$BL$205,6,0))","v":""},"氏名",null,"性別","学年"]
[71,47,{"$f":"IF(ISERROR(VLOOKUP(A47,ｴﾝﾄﾘｰ票!$A$16:$AH$215,5,0)),\"\",VLOOKUP(A47,ｴﾝﾄﾘｰ票!$A$16:$AH$215,5,0))","v":""},{"$f":"IF(C47=\"\",\"\",VLOOKUP($C47,ｴﾝﾄﾘｰ票!$E$16:$L$215,2,0))","v":""},{"$f":"IF(C47=\"\",\"\",VLOOKUP($C47,ｴﾝﾄﾘｰ票!$E$16:$L$215,3,0))","v":""},{"$f":"IF(C47=\"\",\"\",VLOOKUP($C47,ｴﾝﾄﾘｰ票!$E$16:$L$215,8,0))","v":""},{"$f":"IF(C47=\"\",\"\",VLOOKUP($C47,ｴﾝﾄﾘｰ票!$E$16:$L$215,6,0))","v":""},{"$f":"IF(ISERROR(VLOOKUP(A47+100,ｴﾝﾄﾘｰ票!$AU$16:$AZ$205,4,0)),\"\",VLOOKUP(A47+100,ｴﾝﾄﾘｰ票!$AU$16:$AZ$205,4,0))","v":""},{"$f":"IF(H47=\"\",\"\",VLOOKUP($H47,ｴﾝﾄﾘｰ票!$E$16:$L$215,2,0))","v":""},{"$f":"IF(H47=\"\",\"\",VLOOKUP($H47,ｴﾝﾄﾘｰ票!$E$16:$L$215,3,0))","v":""},{"$f":"IF(H47=\"\",\"\",VLOOKUP($H47,ｴﾝﾄﾘｰ票!$E$16:$L$215,8,0))","v":""},{"$f":"IF(H47=\"\",\"\",VLOOKUP($H47,ｴﾝﾄﾘｰ票!$E$16:$L$215,6,0))","v":""},{"$f":"IF(ISERROR(VLOOKUP(A47+200,ｴﾝﾄﾘｰ票!$BA$16:$BF$205,4,0)),\"\",VLOOKUP(A47+200,ｴﾝﾄﾘｰ票!$BA$16:$BF$205,4,0))","v":""},{"$f":"IF(M47=\"\",\"\",VLOOKUP($M47,ｴﾝﾄﾘｰ票!$E$16:$L$215,2,0))","v":""},{"$f":"IF(M47=\"\",\"\",VLOOKUP($M47,ｴﾝﾄﾘｰ票!$E$16:$L$215,3,0))","v":""},{"$f":"IF(M47=\"\",\"\",VLOOKUP($M47,ｴﾝﾄﾘｰ票!$E$16:$L$215,8,0))","v":""},{"$f":"IF(M47=\"\",\"\",VLOOKUP($M47,ｴﾝﾄﾘｰ票!$E$16:$L$215,6,0))","v":""},{"$f":"IF(ISERROR(VLOOKUP(A47+300,ｴﾝﾄﾘｰ票!$BG$16:$BL$205,4,0)),\"\",VLOOKUP(A47+300,ｴﾝﾄﾘｰ票!$BG$16:$BL$205,4,0))","v":""},{"$f":"IF(R47=\"\",\"\",VLOOKUP($R47,ｴﾝﾄﾘｰ票!$E$16:$L$215,2,0))","v":""},{"$f":"IF(R47=\"\",\"\",VLOOKUP($R47,ｴﾝﾄﾘｰ票!$E$16:$L$215,3,0))","v":""},{"$f":"IF(R47=\"\",\"\",VLOOKUP($R47,ｴﾝﾄﾘｰ票!$E$16:$L$215,8,0))","v":""},{"$f":"IF(R47=\"\",\"\",VLOOKUP($R47,ｴﾝﾄﾘｰ票!$E$16:$L$215,6,0))","v":""}]
[72,48,{"$f":"IF(ISERROR(VLOOKUP(A48,ｴﾝﾄﾘｰ票!$A$16:$AH$215,5,0)),\"\",VLOOKUP(A48,ｴﾝﾄﾘｰ票!$A$16:$AH$215,5,0))","v":""},{"$f":"IF(C48=\"\",\"\",VLOOKUP($C48,ｴﾝﾄﾘｰ票!$E$16:$L$215,2,0))","v":""},{"$f":"IF(C48=\"\",\"\",VLOOKUP($C48,ｴﾝﾄﾘｰ票!$E$16:$L$215,3,0))","v":""},{"$f":"IF(C48=\"\",\"\",VLOOKUP($C48,ｴﾝﾄﾘｰ票!$E$16:$L$215,8,0))","v":""},{"$f":"IF(C48=\"\",\"\",VLOOKUP($C48,ｴﾝﾄﾘｰ票!$E$16:$L$215,6,0))","v":""},{"$f":"IF(ISERROR(VLOOKUP(A48+100,ｴﾝﾄﾘｰ票!$AU$16:$AZ$205,4,0)),\"\",VLOOKUP(A48+100,ｴﾝﾄﾘｰ票!$AU$16:$AZ$205,4,0))","v":""},{"$f":"IF(H48=\"\",\"\",VLOOKUP($H48,ｴﾝﾄﾘｰ票!$E$16:$L$215,2,0))","v":""},{"$f":"IF(H48=\"\",\"\",VLOOKUP($H48,ｴﾝﾄﾘｰ票!$E$16:$L$215,3,0))","v":""},{"$f":"IF(H48=\"\",\"\",VLOOKUP($H48,ｴﾝﾄﾘｰ票!$E$16:$L$215,8,0))","v":""},{"$f":"IF(H48=\"\",\"\",VLOOKUP($H48,ｴﾝﾄﾘｰ票!$E$16:$L$215,6,0))","v":""},{"$f":"IF(ISERROR(VLOOKUP(A48+200,ｴﾝﾄﾘｰ票!$BA$16:$BF$205,4,0)),\"\",VLOOKUP(A48+200,ｴﾝﾄﾘｰ票!$BA$16:$BF$205,4,0))","v":""},{"$f":"IF(M48=\"\",\"\",VLOOKUP($M48,ｴﾝﾄﾘｰ票!$E$16:$L$215,2,0))","v":""},{"$f":"IF(M48=\"\",\"\",VLOOKUP($M48,ｴﾝﾄﾘｰ票!$E$16:$L$215,3,0))","v":""},{"$f":"IF(M48=\"\",\"\",VLOOKUP($M48,ｴﾝﾄﾘｰ票!$E$16:$L$215,8,0))","v":""},{"$f":"IF(M48=\"\",\"\",VLOOKUP($M48,ｴﾝﾄﾘｰ票!$E$16:$L$215,6,0))","v":""},{"$f":"IF(ISERROR(VLOOKUP(A48+300,ｴﾝﾄﾘｰ票!$BG$16:$BL$205,4,0)),\"\",VLOOKUP(A48+300,ｴﾝﾄﾘｰ票!$BG$16:$BL$205,4,0))","v":""},{"$f":"IF(R48=\"\",\"\",VLOOKUP($R48,ｴﾝﾄﾘｰ票!$E$16:$L$215,2,0))","v":""},{"$f":"IF(R48=\"\",\"\",VLOOKUP($R48,ｴﾝﾄﾘｰ票!$E$16:$L$215,3,0))","v":""},{"$f":"IF(R48=\"\",\"\",VLOOKUP($R48,ｴﾝﾄﾘｰ票!$E$16:$L$215,8,0))","v":""},{"$f":"IF(R48=\"\",\"\",VLOOKUP($R48,ｴﾝﾄﾘｰ票!$E$16:$L$215,6,0))","v":""}]
[73,49,{"$f":"IF(ISERROR(VLOOKUP(A49,ｴﾝﾄﾘｰ票!$A$16:$AH$215,5,0)),\"\",VLOOKUP(A49,ｴﾝﾄﾘｰ票!$A$16:$AH$215,5,0))","v":""},{"$f":"IF(C49=\"\",\"\",VLOOKUP($C49,ｴﾝﾄﾘｰ票!$E$16:$L$215,2,0))","v":""},{"$f":"IF(C49=\"\",\"\",VLOOKUP($C49,ｴﾝﾄﾘｰ票!$E$16:$L$215,3,0))","v":""},{"$f":"IF(C49=\"\",\"\",VLOOKUP($C49,ｴﾝﾄﾘｰ票!$E$16:$L$215,8,0))","v":""},{"$f":"IF(C49=\"\",\"\",VLOOKUP($C49,ｴﾝﾄﾘｰ票!$E$16:$L$215,6,0))","v":""},{"$f":"IF(ISERROR(VLOOKUP(A49+100,ｴﾝﾄﾘｰ票!$AU$16:$AZ$205,4,0)),\"\",VLOOKUP(A49+100,ｴﾝﾄﾘｰ票!$AU$16:$AZ$205,4,0))","v":""},{"$f":"IF(H49=\"\",\"\",VLOOKUP($H49,ｴﾝﾄﾘｰ票!$E$16:$L$215,2,0))","v":""},{"$f":"IF(H49=\"\",\"\",VLOOKUP($H49,ｴﾝﾄﾘｰ票!$E$16:$L$215,3,0))","v":""},{"$f":"IF(H49=\"\",\"\",VLOOKUP($H49,ｴﾝﾄﾘｰ票!$E$16:$L$215,8,0))","v":""},{"$f":"IF(H49=\"\",\"\",VLOOKUP($H49,ｴﾝﾄﾘｰ票!$E$16:$L$215,6,0))","v":""},{"$f":"IF(ISERROR(VLOOKUP(A49+200,ｴﾝﾄﾘｰ票!$BA$16:$BF$205,4,0)),\"\",VLOOKUP(A49+200,ｴﾝﾄﾘｰ票!$BA$16:$BF$205,4,0))","v":""},{"$f":"IF(M49=\"\",\"\",VLOOKUP($M49,ｴﾝﾄﾘｰ票!$E$16:$L$215,2,0))","v":""},{"$f":"IF(M49=\"\",\"\",VLOOKUP($M49,ｴﾝﾄﾘｰ票!$E$16:$L$215,3,0))","v":""},{"$f":"IF(M49=\"\",\"\",VLOOKUP($M49,ｴﾝﾄﾘｰ票!$E$16:$L$215,8,0))","v":""},{"$f":"IF(M49=\"\",\"\",VLOOKUP($M49,ｴﾝﾄﾘｰ票!$E$16:$L$215,6,0))","v":""},{"$f":"IF(ISERROR(VLOOKUP(A49+300,ｴﾝﾄﾘｰ票!$BG$16:$BL$205,4,0)),\"\",VLOOKUP(A49+300,ｴﾝﾄﾘｰ票!$BG$16:$BL$205,4,0))","v":""},{"$f":"IF(R49=\"\",\"\",VLOOKUP($R49,ｴﾝﾄﾘｰ票!$E$16:$L$215,2,0))","v":""},{"$f":"IF(R49=\"\",\"\",VLOOKUP($R49,ｴﾝﾄﾘｰ票!$E$16:$L$215,3,0))","v":""},{"$f":"IF(R49=\"\",\"\",VLOOKUP($R49,ｴﾝﾄﾘｰ票!$E$16:$L$215,8,0))","v":""},{"$f":"IF(R49=\"\",\"\",VLOOKUP($R49,ｴﾝﾄﾘｰ票!$E$16:$L$215,6,0))","v":""}]
[74,50,{"$f":"IF(ISERROR(VLOOKUP(A50,ｴﾝﾄﾘｰ票!$A$16:$AH$215,5,0)),\"\",VLOOKUP(A50,ｴﾝﾄﾘｰ票!$A$16:$AH$215,5,0))","v":""},{"$f":"IF(C50=\"\",\"\",VLOOKUP($C50,ｴﾝﾄﾘｰ票!$E$16:$L$215,2,0))","v":""},{"$f":"IF(C50=\"\",\"\",VLOOKUP($C50,ｴﾝﾄﾘｰ票!$E$16:$L$215,3,0))","v":""},{"$f":"IF(C50=\"\",\"\",VLOOKUP($C50,ｴﾝﾄﾘｰ票!$E$16:$L$215,8,0))","v":""},{"$f":"IF(C50=\"\",\"\",VLOOKUP($C50,ｴﾝﾄﾘｰ票!$E$16:$L$215,6,0))","v":""},{"$f":"IF(ISERROR(VLOOKUP(A50+100,ｴﾝﾄﾘｰ票!$AU$16:$AZ$205,4,0)),\"\",VLOOKUP(A50+100,ｴﾝﾄﾘｰ票!$AU$16:$AZ$205,4,0))","v":""},{"$f":"IF(H50=\"\",\"\",VLOOKUP($H50,ｴﾝﾄﾘｰ票!$E$16:$L$215,2,0))","v":""},{"$f":"IF(H50=\"\",\"\",VLOOKUP($H50,ｴﾝﾄﾘｰ票!$E$16:$L$215,3,0))","v":""},{"$f":"IF(H50=\"\",\"\",VLOOKUP($H50,ｴﾝﾄﾘｰ票!$E$16:$L$215,8,0))","v":""},{"$f":"IF(H50=\"\",\"\",VLOOKUP($H50,ｴﾝﾄﾘｰ票!$E$16:$L$215,6,0))","v":""},{"$f":"IF(ISERROR(VLOOKUP(A50+200,ｴﾝﾄﾘｰ票!$BA$16:$BF$205,4,0)),\"\",VLOOKUP(A50+200,ｴﾝﾄﾘｰ票!$BA$16:$BF$205,4,0))","v":""},{"$f":"IF(M50=\"\",\"\",VLOOKUP($M50,ｴﾝﾄﾘｰ票!$E$16:$L$215,2,0))","v":""},{"$f":"IF(M50=\"\",\"\",VLOOKUP($M50,ｴﾝﾄﾘｰ票!$E$16:$L$215,3,0))","v":""},{"$f":"IF(M50=\"\",\"\",VLOOKUP($M50,ｴﾝﾄﾘｰ票!$E$16:$L$215,8,0))","v":""},{"$f":"IF(M50=\"\",\"\",VLOOKUP($M50,ｴﾝﾄﾘｰ票!$E$16:$L$215,6,0))","v":""},{"$f":"IF(ISERROR(VLOOKUP(A50+300,ｴﾝﾄﾘｰ票!$BG$16:$BL$205,4,0)),\"\",VLOOKUP(A50+300,ｴﾝﾄﾘｰ票!$BG$16:$BL$205,4,0))","v":""},{"$f":"IF(R50=\"\",\"\",VLOOKUP($R50,ｴﾝﾄﾘｰ票!$E$16:$L$215,2,0))","v":""},{"$f":"IF(R50=\"\",\"\",VLOOKUP($R50,ｴﾝﾄﾘｰ票!$E$16:$L$215,3,0))","v":""},{"$f":"IF(R50=\"\",\"\",VLOOKUP($R50,ｴﾝﾄﾘｰ票!$E$16:$L$215,8,0))","v":""},{"$f":"IF(R50=\"\",\"\",VLOOKUP($R50,ｴﾝﾄﾘｰ票!$E$16:$L$215,6,0))","v":""}]
[75,51,{"$f":"IF(ISERROR(VLOOKUP(A51,ｴﾝﾄﾘｰ票!$A$16:$AH$215,5,0)),\"\",VLOOKUP(A51,ｴﾝﾄﾘｰ票!$A$16:$AH$215,5,0))","v":""},{"$f":"IF(C51=\"\",\"\",VLOOKUP($C51,ｴﾝﾄﾘｰ票!$E$16:$L$215,2,0))","v":""},{"$f":"IF(C51=\"\",\"\",VLOOKUP($C51,ｴﾝﾄﾘｰ票!$E$16:$L$215,3,0))","v":""},{"$f":"IF(C51=\"\",\"\",VLOOKUP($C51,ｴﾝﾄﾘｰ票!$E$16:$L$215,8,0))","v":""},{"$f":"IF(C51=\"\",\"\",VLOOKUP($C51,ｴﾝﾄﾘｰ票!$E$16:$L$215,6,0))","v":""},{"$f":"IF(ISERROR(VLOOKUP(A51+100,ｴﾝﾄﾘｰ票!$AU$16:$AZ$205,4,0)),\"\",VLOOKUP(A51+100,ｴﾝﾄﾘｰ票!$AU$16:$AZ$205,4,0))","v":""},{"$f":"IF(H51=\"\",\"\",VLOOKUP($H51,ｴﾝﾄﾘｰ票!$E$16:$L$215,2,0))","v":""},{"$f":"IF(H51=\"\",\"\",VLOOKUP($H51,ｴﾝﾄﾘｰ票!$E$16:$L$215,3,0))","v":""},{"$f":"IF(H51=\"\",\"\",VLOOKUP($H51,ｴﾝﾄﾘｰ票!$E$16:$L$215,8,0))","v":""},{"$f":"IF(H51=\"\",\"\",VLOOKUP($H51,ｴﾝﾄﾘｰ票!$E$16:$L$215,6,0))","v":""},{"$f":"IF(ISERROR(VLOOKUP(A51+200,ｴﾝﾄﾘｰ票!$BA$16:$BF$205,4,0)),\"\",VLOOKUP(A51+200,ｴﾝﾄﾘｰ票!$BA$16:$BF$205,4,0))","v":""},{"$f":"IF(M51=\"\",\"\",VLOOKUP($M51,ｴﾝﾄﾘｰ票!$E$16:$L$215,2,0))","v":""},{"$f":"IF(M51=\"\",\"\",VLOOKUP($M51,ｴﾝﾄﾘｰ票!$E$16:$L$215,3,0))","v":""},{"$f":"IF(M51=\"\",\"\",VLOOKUP($M51,ｴﾝﾄﾘｰ票!$E$16:$L$215,8,0))","v":""},{"$f":"IF(M51=\"\",\"\",VLOOKUP($M51,ｴﾝﾄﾘｰ票!$E$16:$L$215,6,0))","v":""},{"$f":"IF(ISERROR(VLOOKUP(A51+300,ｴﾝﾄﾘｰ票!$BG$16:$BL$205,4,0)),\"\",VLOOKUP(A51+300,ｴﾝﾄﾘｰ票!$BG$16:$BL$205,4,0))","v":""},{"$f":"IF(R51=\"\",\"\",VLOOKUP($R51,ｴﾝﾄﾘｰ票!$E$16:$L$215,2,0))","v":""},{"$f":"IF(R51=\"\",\"\",VLOOKUP($R51,ｴﾝﾄﾘｰ票!$E$16:$L$215,3,0))","v":""},{"$f":"IF(R51=\"\",\"\",VLOOKUP($R51,ｴﾝﾄﾘｰ票!$E$16:$L$215,8,0))","v":""},{"$f":"IF(R51=\"\",\"\",VLOOKUP($R51,ｴﾝﾄﾘｰ票!$E$16:$L$215,6,0))","v":""}]
[76,52,{"$f":"IF(ISERROR(VLOOKUP(A52,ｴﾝﾄﾘｰ票!$A$16:$AH$215,5,0)),\"\",VLOOKUP(A52,ｴﾝﾄﾘｰ票!$A$16:$AH$215,5,0))","v":""},{"$f":"IF(C52=\"\",\"\",VLOOKUP($C52,ｴﾝﾄﾘｰ票!$E$16:$L$215,2,0))","v":""},{"$f":"IF(C52=\"\",\"\",VLOOKUP($C52,ｴﾝﾄﾘｰ票!$E$16:$L$215,3,0))","v":""},{"$f":"IF(C52=\"\",\"\",VLOOKUP($C52,ｴﾝﾄﾘｰ票!$E$16:$L$215,8,0))","v":""},{"$f":"IF(C52=\"\",\"\",VLOOKUP($C52,ｴﾝﾄﾘｰ票!$E$16:$L$215,6,0))","v":""},{"$f":"IF(ISERROR(VLOOKUP(A52+100,ｴﾝﾄﾘｰ票!$AU$16:$AZ$205,4,0)),\"\",VLOOKUP(A52+100,ｴﾝﾄﾘｰ票!$AU$16:$AZ$205,4,0))","v":""},{"$f":"IF(H52=\"\",\"\",VLOOKUP($H52,ｴﾝﾄﾘｰ票!$E$16:$L$215,2,0))","v":""},{"$f":"IF(H52=\"\",\"\",VLOOKUP($H52,ｴﾝﾄﾘｰ票!$E$16:$L$215,3,0))","v":""},{"$f":"IF(H52=\"\",\"\",VLOOKUP($H52,ｴﾝﾄﾘｰ票!$E$16:$L$215,8,0))","v":""},{"$f":"IF(H52=\"\",\"\",VLOOKUP($H52,ｴﾝﾄﾘｰ票!$E$16:$L$215,6,0))","v":""},{"$f":"IF(ISERROR(VLOOKUP(A52+200,ｴﾝﾄﾘｰ票!$BA$16:$BF$205,4,0)),\"\",VLOOKUP(A52+200,ｴﾝﾄﾘｰ票!$BA$16:$BF$205,4,0))","v":""},{"$f":"IF(M52=\"\",\"\",VLOOKUP($M52,ｴﾝﾄﾘｰ票!$E$16:$L$215,2,0))","v":""},{"$f":"IF(M52=\"\",\"\",VLOOKUP($M52,ｴﾝﾄﾘｰ票!$E$16:$L$215,3,0))","v":""},{"$f":"IF(M52=\"\",\"\",VLOOKUP($M52,ｴﾝﾄﾘｰ票!$E$16:$L$215,8,0))","v":""},{"$f":"IF(M52=\"\",\"\",VLOOKUP($M52,ｴﾝﾄﾘｰ票!$E$16:$L$215,6,0))","v":""},{"$f":"IF(ISERROR(VLOOKUP(A52+300,ｴﾝﾄﾘｰ票!$BG$16:$BL$205,4,0)),\"\",VLOOKUP(A52+300,ｴﾝﾄﾘｰ票!$BG$16:$BL$205,4,0))","v":""},{"$f":"IF(R52=\"\",\"\",VLOOKUP($R52,ｴﾝﾄﾘｰ票!$E$16:$L$215,2,0))","v":""},{"$f":"IF(R52=\"\",\"\",VLOOKUP($R52,ｴﾝﾄﾘｰ票!$E$16:$L$215,3,0))","v":""},{"$f":"IF(R52=\"\",\"\",VLOOKUP($R52,ｴﾝﾄﾘｰ票!$E$16:$L$215,8,0))","v":""},{"$f":"IF(R52=\"\",\"\",VLOOKUP($R52,ｴﾝﾄﾘｰ票!$E$16:$L$215,6,0))","v":""}]
[8,53,{"$f":"IF(ISERROR(VLOOKUP(A54,ｴﾝﾄﾘｰ票!$AO$16:$AT$205,6,0)),\"\",VLOOKUP(A54,ｴﾝﾄﾘｰ票!$AO$16:$AT$205,6,0))","v":""},"氏名",null,"性別","学年",{"$f":"IF(ISERROR(VLOOKUP(A54+100,ｴﾝﾄﾘｰ票!$AU$16:$AZ$205,6,0)),\"\",VLOOKUP(A54+100,ｴﾝﾄﾘｰ票!$AU$16:$AZ$205,6,0))","v":""},"氏名",null,"性別","学年",{"$f":"IF(ISERROR(VLOOKUP(A54+200,ｴﾝﾄﾘｰ票!$BA$16:$BF$205,6,0)),\"\",VLOOKUP(A54+200,ｴﾝﾄﾘｰ票!$BA$16:$BF$205,6,0))","v":""},"氏名",null,"性別","学年",{"$f":"IF(ISERROR(VLOOKUP(A54+300,ｴﾝﾄﾘｰ票!$BG$16:$BL$205,6,0)),\"\",VLOOKUP(A54+300,ｴﾝﾄﾘｰ票!$BG$16:$BL$205,6,0))","v":""},"氏名",null,"性別","学年"]
[81,54,{"$f":"IF(ISERROR(VLOOKUP(A54,ｴﾝﾄﾘｰ票!$A$16:$AH$215,5,0)),\"\",VLOOKUP(A54,ｴﾝﾄﾘｰ票!$A$16:$AH$215,5,0))","v":""},{"$f":"IF(C54=\"\",\"\",VLOOKUP($C54,ｴﾝﾄﾘｰ票!$E$16:$L$215,2,0))","v":""},{"$f":"IF(C54=\"\",\"\",VLOOKUP($C54,ｴﾝﾄﾘｰ票!$E$16:$L$215,3,0))","v":""},{"$f":"IF(C54=\"\",\"\",VLOOKUP($C54,ｴﾝﾄﾘｰ票!$E$16:$L$215,8,0))","v":""},{"$f":"IF(C54=\"\",\"\",VLOOKUP($C54,ｴﾝﾄﾘｰ票!$E$16:$L$215,6,0))","v":""},{"$f":"IF(ISERROR(VLOOKUP(A54+100,ｴﾝﾄﾘｰ票!$AU$16:$AZ$205,4,0)),\"\",VLOOKUP(A54+100,ｴﾝﾄﾘｰ票!$AU$16:$AZ$205,4,0))","v":""},{"$f":"IF(H54=\"\",\"\",VLOOKUP($H54,ｴﾝﾄﾘｰ票!$E$16:$L$215,2,0))","v":""},{"$f":"IF(H54=\"\",\"\",VLOOKUP($H54,ｴﾝﾄﾘｰ票!$E$16:$L$215,3,0))","v":""},{"$f":"IF(H54=\"\",\"\",VLOOKUP($H54,ｴﾝﾄﾘｰ票!$E$16:$L$215,8,0))","v":""},{"$f":"IF(H54=\"\",\"\",VLOOKUP($H54,ｴﾝﾄﾘｰ票!$E$16:$L$215,6,0))","v":""},{"$f":"IF(ISERROR(VLOOKUP(A54+200,ｴﾝﾄﾘｰ票!$BA$16:$BF$205,4,0)),\"\",VLOOKUP(A54+200,ｴﾝﾄﾘｰ票!$BA$16:$BF$205,4,0))","v":""},{"$f":"IF(M54=\"\",\"\",VLOOKUP($M54,ｴﾝﾄﾘｰ票!$E$16:$L$215,2,0))","v":""},{"$f":"IF(M54=\"\",\"\",VLOOKUP($M54,ｴﾝﾄﾘｰ票!$E$16:$L$215,3,0))","v":""},{"$f":"IF(M54=\"\",\"\",VLOOKUP($M54,ｴﾝﾄﾘｰ票!$E$16:$L$215,8,0))","v":""},{"$f":"IF(M54=\"\",\"\",VLOOKUP($M54,ｴﾝﾄﾘｰ票!$E$16:$L$215,6,0))","v":""},{"$f":"IF(ISERROR(VLOOKUP(A54+300,ｴﾝﾄﾘｰ票!$BG$16:$BL$205,4,0)),\"\",VLOOKUP(A54+300,ｴﾝﾄﾘｰ票!$BG$16:$BL$205,4,0))","v":""},{"$f":"IF(R54=\"\",\"\",VLOOKUP($R54,ｴﾝﾄﾘｰ票!$E$16:$L$215,2,0))","v":""},{"$f":"IF(R54=\"\",\"\",VLOOKUP($R54,ｴﾝﾄﾘｰ票!$E$16:$L$215,3,0))","v":""},{"$f":"IF(R54=\"\",\"\",VLOOKUP($R54,ｴﾝﾄﾘｰ票!$E$16:$L$215,8,0))","v":""},{"$f":"IF(R54=\"\",\"\",VLOOKUP($R54,ｴﾝﾄﾘｰ票!$E$16:$L$215,6,0))","v":""}]
[82,55,{"$f":"IF(ISERROR(VLOOKUP(A55,ｴﾝﾄﾘｰ票!$A$16:$AH$215,5,0)),\"\",VLOOKUP(A55,ｴﾝﾄﾘｰ票!$A$16:$AH$215,5,0))","v":""},{"$f":"IF(C55=\"\",\"\",VLOOKUP($C55,ｴﾝﾄﾘｰ票!$E$16:$L$215,2,0))","v":""},{"$f":"IF(C55=\"\",\"\",VLOOKUP($C55,ｴﾝﾄﾘｰ票!$E$16:$L$215,3,0))","v":""},{"$f":"IF(C55=\"\",\"\",VLOOKUP($C55,ｴﾝﾄﾘｰ票!$E$16:$L$215,8,0))","v":""},{"$f":"IF(C55=\"\",\"\",VLOOKUP($C55,ｴﾝﾄﾘｰ票!$E$16:$L$215,6,0))","v":""},{"$f":"IF(ISERROR(VLOOKUP(A55+100,ｴﾝﾄﾘｰ票!$AU$16:$AZ$205,4,0)),\"\",VLOOKUP(A55+100,ｴﾝﾄﾘｰ票!$AU$16:$AZ$205,4,0))","v":""},{"$f":"IF(H55=\"\",\"\",VLOOKUP($H55,ｴﾝﾄﾘｰ票!$E$16:$L$215,2,0))","v":""},{"$f":"IF(H55=\"\",\"\",VLOOKUP($H55,ｴﾝﾄﾘｰ票!$E$16:$L$215,3,0))","v":""},{"$f":"IF(H55=\"\",\"\",VLOOKUP($H55,ｴﾝﾄﾘｰ票!$E$16:$L$215,8,0))","v":""},{"$f":"IF(H55=\"\",\"\",VLOOKUP($H55,ｴﾝﾄﾘｰ票!$E$16:$L$215,6,0))","v":""},{"$f":"IF(ISERROR(VLOOKUP(A55+200,ｴﾝﾄﾘｰ票!$BA$16:$BF$205,4,0)),\"\",VLOOKUP(A55+200,ｴﾝﾄﾘｰ票!$BA$16:$BF$205,4,0))","v":""},{"$f":"IF(M55=\"\",\"\",VLOOKUP($M55,ｴﾝﾄﾘｰ票!$E$16:$L$215,2,0))","v":""},{"$f":"IF(M55=\"\",\"\",VLOOKUP($M55,ｴﾝﾄﾘｰ票!$E$16:$L$215,3,0))","v":""},{"$f":"IF(M55=\"\",\"\",VLOOKUP($M55,ｴﾝﾄﾘｰ票!$E$16:$L$215,8,0))","v":""},{"$f":"IF(M55=\"\",\"\",VLOOKUP($M55,ｴﾝﾄﾘｰ票!$E$16:$L$215,6,0))","v":""},{"$f":"IF(ISERROR(VLOOKUP(A55+300,ｴﾝﾄﾘｰ票!$BG$16:$BL$205,4,0)),\"\",VLOOKUP(A55+300,ｴﾝﾄﾘｰ票!$BG$16:$BL$205,4,0))","v":""},{"$f":"IF(R55=\"\",\"\",VLOOKUP($R55,ｴﾝﾄﾘｰ票!$E$16:$L$215,2,0))","v":""},{"$f":"IF(R55=\"\",\"\",VLOOKUP($R55,ｴﾝﾄﾘｰ票!$E$16:$L$215,3,0))","v":""},{"$f":"IF(R55=\"\",\"\",VLOOKUP($R55,ｴﾝﾄﾘｰ票!$E$16:$L$215,8,0))","v":""},{"$f":"IF(R55=\"\",\"\",VLOOKUP($R55,ｴﾝﾄﾘｰ票!$E$16:$L$215,6,0))","v":""}]
[83,56,{"$f":"IF(ISERROR(VLOOKUP(A56,ｴﾝﾄﾘｰ票!$A$16:$AH$215,5,0)),\"\",VLOOKUP(A56,ｴﾝﾄﾘｰ票!$A$16:$AH$215,5,0))","v":""},{"$f":"IF(C56=\"\",\"\",VLOOKUP($C56,ｴﾝﾄﾘｰ票!$E$16:$L$215,2,0))","v":""},{"$f":"IF(C56=\"\",\"\",VLOOKUP($C56,ｴﾝﾄﾘｰ票!$E$16:$L$215,3,0))","v":""},{"$f":"IF(C56=\"\",\"\",VLOOKUP($C56,ｴﾝﾄﾘｰ票!$E$16:$L$215,8,0))","v":""},{"$f":"IF(C56=\"\",\"\",VLOOKUP($C56,ｴﾝﾄﾘｰ票!$E$16:$L$215,6,0))","v":""},{"$f":"IF(ISERROR(VLOOKUP(A56+100,ｴﾝﾄﾘｰ票!$AU$16:$AZ$205,4,0)),\"\",VLOOKUP(A56+100,ｴﾝﾄﾘｰ票!$AU$16:$AZ$205,4,0))","v":""},{"$f":"IF(H56=\"\",\"\",VLOOKUP($H56,ｴﾝﾄﾘｰ票!$E$16:$L$215,2,0))","v":""},{"$f":"IF(H56=\"\",\"\",VLOOKUP($H56,ｴﾝﾄﾘｰ票!$E$16:$L$215,3,0))","v":""},{"$f":"IF(H56=\"\",\"\",VLOOKUP($H56,ｴﾝﾄﾘｰ票!$E$16:$L$215,8,0))","v":""},{"$f":"IF(H56=\"\",\"\",VLOOKUP($H56,ｴﾝﾄﾘｰ票!$E$16:$L$215,6,0))","v":""},{"$f":"IF(ISERROR(VLOOKUP(A56+200,ｴﾝﾄﾘｰ票!$BA$16:$BF$205,4,0)),\"\",VLOOKUP(A56+200,ｴﾝﾄﾘｰ票!$BA$16:$BF$205,4,0))","v":""},{"$f":"IF(M56=\"\",\"\",VLOOKUP($M56,ｴﾝﾄﾘｰ票!$E$16:$L$215,2,0))","v":""},{"$f":"IF(M56=\"\",\"\",VLOOKUP($M56,ｴﾝﾄﾘｰ票!$E$16:$L$215,3,0))","v":""},{"$f":"IF(M56=\"\",\"\",VLOOKUP($M56,ｴﾝﾄﾘｰ票!$E$16:$L$215,8,0))","v":""},{"$f":"IF(M56=\"\",\"\",VLOOKUP($M56,ｴﾝﾄﾘｰ票!$E$16:$L$215,6,0))","v":""},{"$f":"IF(ISERROR(VLOOKUP(A56+300,ｴﾝﾄﾘｰ票!$BG$16:$BL$205,4,0)),\"\",VLOOKUP(A56+300,ｴﾝﾄﾘｰ票!$BG$16:$BL$205,4,0))","v":""},{"$f":"IF(R56=\"\",\"\",VLOOKUP($R56,ｴﾝﾄﾘｰ票!$E$16:$L$215,2,0))","v":""},{"$f":"IF(R56=\"\",\"\",VLOOKUP($R56,ｴﾝﾄﾘｰ票!$E$16:$L$215,3,0))","v":""},{"$f":"IF(R56=\"\",\"\",VLOOKUP($R56,ｴﾝﾄﾘｰ票!$E$16:$L$215,8,0))","v":""},{"$f":"IF(R56=\"\",\"\",VLOOKUP($R56,ｴﾝﾄﾘｰ票!$E$16:$L$215,6,0))","v":""}]
[84,57,{"$f":"IF(ISERROR(VLOOKUP(A57,ｴﾝﾄﾘｰ票!$A$16:$AH$215,5,0)),\"\",VLOOKUP(A57,ｴﾝﾄﾘｰ票!$A$16:$AH$215,5,0))","v":""},{"$f":"IF(C57=\"\",\"\",VLOOKUP($C57,ｴﾝﾄﾘｰ票!$E$16:$L$215,2,0))","v":""},{"$f":"IF(C57=\"\",\"\",VLOOKUP($C57,ｴﾝﾄﾘｰ票!$E$16:$L$215,3,0))","v":""},{"$f":"IF(C57=\"\",\"\",VLOOKUP($C57,ｴﾝﾄﾘｰ票!$E$16:$L$215,8,0))","v":""},{"$f":"IF(C57=\"\",\"\",VLOOKUP($C57,ｴﾝﾄﾘｰ票!$E$16:$L$215,6,0))","v":""},{"$f":"IF(ISERROR(VLOOKUP(A57+100,ｴﾝﾄﾘｰ票!$AU$16:$AZ$205,4,0)),\"\",VLOOKUP(A57+100,ｴﾝﾄﾘｰ票!$AU$16:$AZ$205,4,0))","v":""},{"$f":"IF(H57=\"\",\"\",VLOOKUP($H57,ｴﾝﾄﾘｰ票!$E$16:$L$215,2,0))","v":""},{"$f":"IF(H57=\"\",\"\",VLOOKUP($H57,ｴﾝﾄﾘｰ票!$E$16:$L$215,3,0))","v":""},{"$f":"IF(H57=\"\",\"\",VLOOKUP($H57,ｴﾝﾄﾘｰ票!$E$16:$L$215,8,0))","v":""},{"$f":"IF(H57=\"\",\"\",VLOOKUP($H57,ｴﾝﾄﾘｰ票!$E$16:$L$215,6,0))","v":""},{"$f":"IF(ISERROR(VLOOKUP(A57+200,ｴﾝﾄﾘｰ票!$BA$16:$BF$205,4,0)),\"\",VLOOKUP(A57+200,ｴﾝﾄﾘｰ票!$BA$16:$BF$205,4,0))","v":""},{"$f":"IF(M57=\"\",\"\",VLOOKUP($M57,ｴﾝﾄﾘｰ票!$E$16:$L$215,2,0))","v":""},{"$f":"IF(M57=\"\",\"\",VLOOKUP($M57,ｴﾝﾄﾘｰ票!$E$16:$L$215,3,0))","v":""},{"$f":"IF(M57=\"\",\"\",VLOOKUP($M57,ｴﾝﾄﾘｰ票!$E$16:$L$215,8,0))","v":""},{"$f":"IF(M57=\"\",\"\",VLOOKUP($M57,ｴﾝﾄﾘｰ票!$E$16:$L$215,6,0))","v":""},{"$f":"IF(ISERROR(VLOOKUP(A57+300,ｴﾝﾄﾘｰ票!$BG$16:$BL$205,4,0)),\"\",VLOOKUP(A57+300,ｴﾝﾄﾘｰ票!$BG$16:$BL$205,4,0))","v":""},{"$f":"IF(R57=\"\",\"\",VLOOKUP($R57,ｴﾝﾄﾘｰ票!$E$16:$L$215,2,0))","v":""},{"$f":"IF(R57=\"\",\"\",VLOOKUP($R57,ｴﾝﾄﾘｰ票!$E$16:$L$215,3,0))","v":""},{"$f":"IF(R57=\"\",\"\",VLOOKUP($R57,ｴﾝﾄﾘｰ票!$E$16:$L$215,8,0))","v":""},{"$f":"IF(R57=\"\",\"\",VLOOKUP($R57,ｴﾝﾄﾘｰ票!$E$16:$L$215,6,0))","v":""}]
[85,58,{"$f":"IF(ISERROR(VLOOKUP(A58,ｴﾝﾄﾘｰ票!$A$16:$AH$215,5,0)),\"\",VLOOKUP(A58,ｴﾝﾄﾘｰ票!$A$16:$AH$215,5,0))","v":""},{"$f":"IF(C58=\"\",\"\",VLOOKUP($C58,ｴﾝﾄﾘｰ票!$E$16:$L$215,2,0))","v":""},{"$f":"IF(C58=\"\",\"\",VLOOKUP($C58,ｴﾝﾄﾘｰ票!$E$16:$L$215,3,0))","v":""},{"$f":"IF(C58=\"\",\"\",VLOOKUP($C58,ｴﾝﾄﾘｰ票!$E$16:$L$215,8,0))","v":""},{"$f":"IF(C58=\"\",\"\",VLOOKUP($C58,ｴﾝﾄﾘｰ票!$E$16:$L$215,6,0))","v":""},{"$f":"IF(ISERROR(VLOOKUP(A58+100,ｴﾝﾄﾘｰ票!$AU$16:$AZ$205,4,0)),\"\",VLOOKUP(A58+100,ｴﾝﾄﾘｰ票!$AU$16:$AZ$205,4,0))","v":""},{"$f":"IF(H58=\"\",\"\",VLOOKUP($H58,ｴﾝﾄﾘｰ票!$E$16:$L$215,2,0))","v":""},{"$f":"IF(H58=\"\",\"\",VLOOKUP($H58,ｴﾝﾄﾘｰ票!$E$16:$L$215,3,0))","v":""},{"$f":"IF(H58=\"\",\"\",VLOOKUP($H58,ｴﾝﾄﾘｰ票!$E$16:$L$215,8,0))","v":""},{"$f":"IF(H58=\"\",\"\",VLOOKUP($H58,ｴﾝﾄﾘｰ票!$E$16:$L$215,6,0))","v":""},{"$f":"IF(ISERROR(VLOOKUP(A58+200,ｴﾝﾄﾘｰ票!$BA$16:$BF$205,4,0)),\"\",VLOOKUP(A58+200,ｴﾝﾄﾘｰ票!$BA$16:$BF$205,4,0))","v":""},{"$f":"IF(M58=\"\",\"\",VLOOKUP($M58,ｴﾝﾄﾘｰ票!$E$16:$L$215,2,0))","v":""},{"$f":"IF(M58=\"\",\"\",VLOOKUP($M58,ｴﾝﾄﾘｰ票!$E$16:$L$215,3,0))","v":""},{"$f":"IF(M58=\"\",\"\",VLOOKUP($M58,ｴﾝﾄﾘｰ票!$E$16:$L$215,8,0))","v":""},{"$f":"IF(M58=\"\",\"\",VLOOKUP($M58,ｴﾝﾄﾘｰ票!$E$16:$L$215,6,0))","v":""},{"$f":"IF(ISERROR(VLOOKUP(A58+300,ｴﾝﾄﾘｰ票!$BG$16:$BL$205,4,0)),\"\",VLOOKUP(A58+300,ｴﾝﾄﾘｰ票!$BG$16:$BL$205,4,0))","v":""},{"$f":"IF(R58=\"\",\"\",VLOOKUP($R58,ｴﾝﾄﾘｰ票!$E$16:$L$215,2,0))","v":""},{"$f":"IF(R58=\"\",\"\",VLOOKUP($R58,ｴﾝﾄﾘｰ票!$E$16:$L$215,3,0))","v":""},{"$f":"IF(R58=\"\",\"\",VLOOKUP($R58,ｴﾝﾄﾘｰ票!$E$16:$L$215,8,0))","v":""},{"$f":"IF(R58=\"\",\"\",VLOOKUP($R58,ｴﾝﾄﾘｰ票!$E$16:$L$215,6,0))","v":""}]
[86,59,{"$f":"IF(ISERROR(VLOOKUP(A59,ｴﾝﾄﾘｰ票!$A$16:$AH$215,5,0)),\"\",VLOOKUP(A59,ｴﾝﾄﾘｰ票!$A$16:$AH$215,5,0))","v":""},{"$f":"IF(C59=\"\",\"\",VLOOKUP($C59,ｴﾝﾄﾘｰ票!$E$16:$L$215,2,0))","v":""},{"$f":"IF(C59=\"\",\"\",VLOOKUP($C59,ｴﾝﾄﾘｰ票!$E$16:$L$215,3,0))","v":""},{"$f":"IF(C59=\"\",\"\",VLOOKUP($C59,ｴﾝﾄﾘｰ票!$E$16:$L$215,8,0))","v":""},{"$f":"IF(C59=\"\",\"\",VLOOKUP($C59,ｴﾝﾄﾘｰ票!$E$16:$L$215,6,0))","v":""},{"$f":"IF(ISERROR(VLOOKUP(A59+100,ｴﾝﾄﾘｰ票!$AU$16:$AZ$205,4,0)),\"\",VLOOKUP(A59+100,ｴﾝﾄﾘｰ票!$AU$16:$AZ$205,4,0))","v":""},{"$f":"IF(H59=\"\",\"\",VLOOKUP($H59,ｴﾝﾄﾘｰ票!$E$16:$L$215,2,0))","v":""},{"$f":"IF(H59=\"\",\"\",VLOOKUP($H59,ｴﾝﾄﾘｰ票!$E$16:$L$215,3,0))","v":""},{"$f":"IF(H59=\"\",\"\",VLOOKUP($H59,ｴﾝﾄﾘｰ票!$E$16:$L$215,8,0))","v":""},{"$f":"IF(H59=\"\",\"\",VLOOKUP($H59,ｴﾝﾄﾘｰ票!$E$16:$L$215,6,0))","v":""},{"$f":"IF(ISERROR(VLOOKUP(A59+200,ｴﾝﾄﾘｰ票!$BA$16:$BF$205,4,0)),\"\",VLOOKUP(A59+200,ｴﾝﾄﾘｰ票!$BA$16:$BF$205,4,0))","v":""},{"$f":"IF(M59=\"\",\"\",VLOOKUP($M59,ｴﾝﾄﾘｰ票!$E$16:$L$215,2,0))","v":""},{"$f":"IF(M59=\"\",\"\",VLOOKUP($M59,ｴﾝﾄﾘｰ票!$E$16:$L$215,3,0))","v":""},{"$f":"IF(M59=\"\",\"\",VLOOKUP($M59,ｴﾝﾄﾘｰ票!$E$16:$L$215,8,0))","v":""},{"$f":"IF(M59=\"\",\"\",VLOOKUP($M59,ｴﾝﾄﾘｰ票!$E$16:$L$215,6,0))","v":""},{"$f":"IF(ISERROR(VLOOKUP(A59+300,ｴﾝﾄﾘｰ票!$BG$16:$BL$205,4,0)),\"\",VLOOKUP(A59+300,ｴﾝﾄﾘｰ票!$BG$16:$BL$205,4,0))","v":""},{"$f":"IF(R59=\"\",\"\",VLOOKUP($R59,ｴﾝﾄﾘｰ票!$E$16:$L$215,2,0))","v":""},{"$f":"IF(R59=\"\",\"\",VLOOKUP($R59,ｴﾝﾄﾘｰ票!$E$16:$L$215,3,0))","v":""},{"$f":"IF(R59=\"\",\"\",VLOOKUP($R59,ｴﾝﾄﾘｰ票!$E$16:$L$215,8,0))","v":""},{"$f":"IF(R59=\"\",\"\",VLOOKUP($R59,ｴﾝﾄﾘｰ票!$E$16:$L$215,6,0))","v":""}]
[9,60,{"$f":"IF(ISERROR(VLOOKUP(A61,ｴﾝﾄﾘｰ票!$AO$16:$AT$205,6,0)),\"\",VLOOKUP(A61,ｴﾝﾄﾘｰ票!$AO$16:$AT$205,6,0))","v":""},"氏名",null,"性別","学年",{"$f":"IF(ISERROR(VLOOKUP(A61+100,ｴﾝﾄﾘｰ票!$AU$16:$AZ$205,6,0)),\"\",VLOOKUP(A61+100,ｴﾝﾄﾘｰ票!$AU$16:$AZ$205,6,0))","v":""},"氏名",null,"性別","学年",{"$f":"IF(ISERROR(VLOOKUP(A61+200,ｴﾝﾄﾘｰ票!$BA$16:$BF$205,6,0)),\"\",VLOOKUP(A61+200,ｴﾝﾄﾘｰ票!$BA$16:$BF$205,6,0))","v":""},"氏名",null,"性別","学年",{"$f":"IF(ISERROR(VLOOKUP(A61+300,ｴﾝﾄﾘｰ票!$BG$16:$BL$205,6,0)),\"\",VLOOKUP(A61+300,ｴﾝﾄﾘｰ票!$BG$16:$BL$205,6,0))","v":""},"氏名",null,"性別","学年"]
[91,61,{"$f":"IF(ISERROR(VLOOKUP(A61,ｴﾝﾄﾘｰ票!$A$16:$AH$215,5,0)),\"\",VLOOKUP(A61,ｴﾝﾄﾘｰ票!$A$16:$AH$215,5,0))","v":""},{"$f":"IF(C61=\"\",\"\",VLOOKUP($C61,ｴﾝﾄﾘｰ票!$E$16:$L$215,2,0))","v":""},{"$f":"IF(C61=\"\",\"\",VLOOKUP($C61,ｴﾝﾄﾘｰ票!$E$16:$L$215,3,0))","v":""},{"$f":"IF(C61=\"\",\"\",VLOOKUP($C61,ｴﾝﾄﾘｰ票!$E$16:$L$215,8,0))","v":""},{"$f":"IF(C61=\"\",\"\",VLOOKUP($C61,ｴﾝﾄﾘｰ票!$E$16:$L$215,6,0))","v":""},{"$f":"IF(ISERROR(VLOOKUP(A61+100,ｴﾝﾄﾘｰ票!$AU$16:$AZ$205,4,0)),\"\",VLOOKUP(A61+100,ｴﾝﾄﾘｰ票!$AU$16:$AZ$205,4,0))","v":""},{"$f":"IF(H61=\"\",\"\",VLOOKUP($H61,ｴﾝﾄﾘｰ票!$E$16:$L$215,2,0))","v":""},{"$f":"IF(H61=\"\",\"\",VLOOKUP($H61,ｴﾝﾄﾘｰ票!$E$16:$L$215,3,0))","v":""},{"$f":"IF(H61=\"\",\"\",VLOOKUP($H61,ｴﾝﾄﾘｰ票!$E$16:$L$215,8,0))","v":""},{"$f":"IF(H61=\"\",\"\",VLOOKUP($H61,ｴﾝﾄﾘｰ票!$E$16:$L$215,6,0))","v":""},{"$f":"IF(ISERROR(VLOOKUP(A61+200,ｴﾝﾄﾘｰ票!$BA$16:$BF$205,4,0)),\"\",VLOOKUP(A61+200,ｴﾝﾄﾘｰ票!$BA$16:$BF$205,4,0))","v":""},{"$f":"IF(M61=\"\",\"\",VLOOKUP($M61,ｴﾝﾄﾘｰ票!$E$16:$L$215,2,0))","v":""},{"$f":"IF(M61=\"\",\"\",VLOOKUP($M61,ｴﾝﾄﾘｰ票!$E$16:$L$215,3,0))","v":""},{"$f":"IF(M61=\"\",\"\",VLOOKUP($M61,ｴﾝﾄﾘｰ票!$E$16:$L$215,8,0))","v":""},{"$f":"IF(M61=\"\",\"\",VLOOKUP($M61,ｴﾝﾄﾘｰ票!$E$16:$L$215,6,0))","v":""},{"$f":"IF(ISERROR(VLOOKUP(A61+300,ｴﾝﾄﾘｰ票!$BG$16:$BL$205,4,0)),\"\",VLOOKUP(A61+300,ｴﾝﾄﾘｰ票!$BG$16:$BL$205,4,0))","v":""},{"$f":"IF(R61=\"\",\"\",VLOOKUP($R61,ｴﾝﾄﾘｰ票!$E$16:$L$215,2,0))","v":""},{"$f":"IF(R61=\"\",\"\",VLOOKUP($R61,ｴﾝﾄﾘｰ票!$E$16:$L$215,3,0))","v":""},{"$f":"IF(R61=\"\",\"\",VLOOKUP($R61,ｴﾝﾄﾘｰ票!$E$16:$L$215,8,0))","v":""},{"$f":"IF(R61=\"\",\"\",VLOOKUP($R61,ｴﾝﾄﾘｰ票!$E$16:$L$215,6,0))","v":""}]
[92,62,{"$f":"IF(ISERROR(VLOOKUP(A62,ｴﾝﾄﾘｰ票!$A$16:$AH$215,5,0)),\"\",VLOOKUP(A62,ｴﾝﾄﾘｰ票!$A$16:$AH$215,5,0))","v":""},{"$f":"IF(C62=\"\",\"\",VLOOKUP($C62,ｴﾝﾄﾘｰ票!$E$16:$L$215,2,0))","v":""},{"$f":"IF(C62=\"\",\"\",VLOOKUP($C62,ｴﾝﾄﾘｰ票!$E$16:$L$215,3,0))","v":""},{"$f":"IF(C62=\"\",\"\",VLOOKUP($C62,ｴﾝﾄﾘｰ票!$E$16:$L$215,8,0))","v":""},{"$f":"IF(C62=\"\",\"\",VLOOKUP($C62,ｴﾝﾄﾘｰ票!$E$16:$L$215,6,0))","v":""},{"$f":"IF(ISERROR(VLOOKUP(A62+100,ｴﾝﾄﾘｰ票!$AU$16:$AZ$205,4,0)),\"\",VLOOKUP(A62+100,ｴﾝﾄﾘｰ票!$AU$16:$AZ$205,4,0))","v":""},{"$f":"IF(H62=\"\",\"\",VLOOKUP($H62,ｴﾝﾄﾘｰ票!$E$16:$L$215,2,0))","v":""},{"$f":"IF(H62=\"\",\"\",VLOOKUP($H62,ｴﾝﾄﾘｰ票!$E$16:$L$215,3,0))","v":""},{"$f":"IF(H62=\"\",\"\",VLOOKUP($H62,ｴﾝﾄﾘｰ票!$E$16:$L$215,8,0))","v":""},{"$f":"IF(H62=\"\",\"\",VLOOKUP($H62,ｴﾝﾄﾘｰ票!$E$16:$L$215,6,0))","v":""},{"$f":"IF(ISERROR(VLOOKUP(A62+200,ｴﾝﾄﾘｰ票!$BA$16:$BF$205,4,0)),\"\",VLOOKUP(A62+200,ｴﾝﾄﾘｰ票!$BA$16:$BF$205,4,0))","v":""},{"$f":"IF(M62=\"\",\"\",VLOOKUP($M62,ｴﾝﾄﾘｰ票!$E$16:$L$215,2,0))","v":""},{"$f":"IF(M62=\"\",\"\",VLOOKUP($M62,ｴﾝﾄﾘｰ票!$E$16:$L$215,3,0))","v":""},{"$f":"IF(M62=\"\",\"\",VLOOKUP($M62,ｴﾝﾄﾘｰ票!$E$16:$L$215,8,0))","v":""},{"$f":"IF(M62=\"\",\"\",VLOOKUP($M62,ｴﾝﾄﾘｰ票!$E$16:$L$215,6,0))","v":""},{"$f":"IF(ISERROR(VLOOKUP(A62+300,ｴﾝﾄﾘｰ票!$BG$16:$BL$205,4,0)),\"\",VLOOKUP(A62+300,ｴﾝﾄﾘｰ票!$BG$16:$BL$205,4,0))","v":""},{"$f":"IF(R62=\"\",\"\",VLOOKUP($R62,ｴﾝﾄﾘｰ票!$E$16:$L$215,2,0))","v":""},{"$f":"IF(R62=\"\",\"\",VLOOKUP($R62,ｴﾝﾄﾘｰ票!$E$16:$L$215,3,0))","v":""},{"$f":"IF(R62=\"\",\"\",VLOOKUP($R62,ｴﾝﾄﾘｰ票!$E$16:$L$215,8,0))","v":""},{"$f":"IF(R62=\"\",\"\",VLOOKUP($R62,ｴﾝﾄﾘｰ票!$E$16:$L$215,6,0))","v":""}]
[93,63,{"$f":"IF(ISERROR(VLOOKUP(A63,ｴﾝﾄﾘｰ票!$A$16:$AH$215,5,0)),\"\",VLOOKUP(A63,ｴﾝﾄﾘｰ票!$A$16:$AH$215,5,0))","v":""},{"$f":"IF(C63=\"\",\"\",VLOOKUP($C63,ｴﾝﾄﾘｰ票!$E$16:$L$215,2,0))","v":""},{"$f":"IF(C63=\"\",\"\",VLOOKUP($C63,ｴﾝﾄﾘｰ票!$E$16:$L$215,3,0))","v":""},{"$f":"IF(C63=\"\",\"\",VLOOKUP($C63,ｴﾝﾄﾘｰ票!$E$16:$L$215,8,0))","v":""},{"$f":"IF(C63=\"\",\"\",VLOOKUP($C63,ｴﾝﾄﾘｰ票!$E$16:$L$215,6,0))","v":""},{"$f":"IF(ISERROR(VLOOKUP(A63+100,ｴﾝﾄﾘｰ票!$AU$16:$AZ$205,4,0)),\"\",VLOOKUP(A63+100,ｴﾝﾄﾘｰ票!$AU$16:$AZ$205,4,0))","v":""},{"$f":"IF(H63=\"\",\"\",VLOOKUP($H63,ｴﾝﾄﾘｰ票!$E$16:$L$215,2,0))","v":""},{"$f":"IF(H63=\"\",\"\",VLOOKUP($H63,ｴﾝﾄﾘｰ票!$E$16:$L$215,3,0))","v":""},{"$f":"IF(H63=\"\",\"\",VLOOKUP($H63,ｴﾝﾄﾘｰ票!$E$16:$L$215,8,0))","v":""},{"$f":"IF(H63=\"\",\"\",VLOOKUP($H63,ｴﾝﾄﾘｰ票!$E$16:$L$215,6,0))","v":""},{"$f":"IF(ISERROR(VLOOKUP(A63+200,ｴﾝﾄﾘｰ票!$BA$16:$BF$205,4,0)),\"\",VLOOKUP(A63+200,ｴﾝﾄﾘｰ票!$BA$16:$BF$205,4,0))","v":""},{"$f":"IF(M63=\"\",\"\",VLOOKUP($M63,ｴﾝﾄﾘｰ票!$E$16:$L$215,2,0))","v":""},{"$f":"IF(M63=\"\",\"\",VLOOKUP($M63,ｴﾝﾄﾘｰ票!$E$16:$L$215,3,0))","v":""},{"$f":"IF(M63=\"\",\"\",VLOOKUP($M63,ｴﾝﾄﾘｰ票!$E$16:$L$215,8,0))","v":""},{"$f":"IF(M63=\"\",\"\",VLOOKUP($M63,ｴﾝﾄﾘｰ票!$E$16:$L$215,6,0))","v":""},{"$f":"IF(ISERROR(VLOOKUP(A63+300,ｴﾝﾄﾘｰ票!$BG$16:$BL$205,4,0)),\"\",VLOOKUP(A63+300,ｴﾝﾄﾘｰ票!$BG$16:$BL$205,4,0))","v":""},{"$f":"IF(R63=\"\",\"\",VLOOKUP($R63,ｴﾝﾄﾘｰ票!$E$16:$L$215,2,0))","v":""},{"$f":"IF(R63=\"\",\"\",VLOOKUP($R63,ｴﾝﾄﾘｰ票!$E$16:$L$215,3,0))","v":""},{"$f":"IF(R63=\"\",\"\",VLOOKUP($R63,ｴﾝﾄﾘｰ票!$E$16:$L$215,8,0))","v":""},{"$f":"IF(R63=\"\",\"\",VLOOKUP($R63,ｴﾝﾄﾘｰ票!$E$16:$L$215,6,0))","v":""}]
[94,64,{"$f":"IF(ISERROR(VLOOKUP(A64,ｴﾝﾄﾘｰ票!$A$16:$AH$215,5,0)),\"\",VLOOKUP(A64,ｴﾝﾄﾘｰ票!$A$16:$AH$215,5,0))","v":""},{"$f":"IF(C64=\"\",\"\",VLOOKUP($C64,ｴﾝﾄﾘｰ票!$E$16:$L$215,2,0))","v":""},{"$f":"IF(C64=\"\",\"\",VLOOKUP($C64,ｴﾝﾄﾘｰ票!$E$16:$L$215,3,0))","v":""},{"$f":"IF(C64=\"\",\"\",VLOOKUP($C64,ｴﾝﾄﾘｰ票!$E$16:$L$215,8,0))","v":""},{"$f":"IF(C64=\"\",\"\",VLOOKUP($C64,ｴﾝﾄﾘｰ票!$E$16:$L$215,6,0))","v":""},{"$f":"IF(ISERROR(VLOOKUP(A64+100,ｴﾝﾄﾘｰ票!$AU$16:$AZ$205,4,0)),\"\",VLOOKUP(A64+100,ｴﾝﾄﾘｰ票!$AU$16:$AZ$205,4,0))","v":""},{"$f":"IF(H64=\"\",\"\",VLOOKUP($H64,ｴﾝﾄﾘｰ票!$E$16:$L$215,2,0))","v":""},{"$f":"IF(H64=\"\",\"\",VLOOKUP($H64,ｴﾝﾄﾘｰ票!$E$16:$L$215,3,0))","v":""},{"$f":"IF(H64=\"\",\"\",VLOOKUP($H64,ｴﾝﾄﾘｰ票!$E$16:$L$215,8,0))","v":""},{"$f":"IF(H64=\"\",\"\",VLOOKUP($H64,ｴﾝﾄﾘｰ票!$E$16:$L$215,6,0))","v":""},{"$f":"IF(ISERROR(VLOOKUP(A64+200,ｴﾝﾄﾘｰ票!$BA$16:$BF$205,4,0)),\"\",VLOOKUP(A64+200,ｴﾝﾄﾘｰ票!$BA$16:$BF$205,4,0))","v":""},{"$f":"IF(M64=\"\",\"\",VLOOKUP($M64,ｴﾝﾄﾘｰ票!$E$16:$L$215,2,0))","v":""},{"$f":"IF(M64=\"\",\"\",VLOOKUP($M64,ｴﾝﾄﾘｰ票!$E$16:$L$215,3,0))","v":""},{"$f":"IF(M64=\"\",\"\",VLOOKUP($M64,ｴﾝﾄﾘｰ票!$E$16:$L$215,8,0))","v":""},{"$f":"IF(M64=\"\",\"\",VLOOKUP($M64,ｴﾝﾄﾘｰ票!$E$16:$L$215,6,0))","v":""},{"$f":"IF(ISERROR(VLOOKUP(A64+300,ｴﾝﾄﾘｰ票!$BG$16:$BL$205,4,0)),\"\",VLOOKUP(A64+300,ｴﾝﾄﾘｰ票!$BG$16:$BL$205,4,0))","v":""},{"$f":"IF(R64=\"\",\"\",VLOOKUP($R64,ｴﾝﾄﾘｰ票!$E$16:$L$215,2,0))","v":""},{"$f":"IF(R64=\"\",\"\",VLOOKUP($R64,ｴﾝﾄﾘｰ票!$E$16:$L$215,3,0))","v":""},{"$f":"IF(R64=\"\",\"\",VLOOKUP($R64,ｴﾝﾄﾘｰ票!$E$16:$L$215,8,0))","v":""},{"$f":"IF(R64=\"\",\"\",VLOOKUP($R64,ｴﾝﾄﾘｰ票!$E$16:$L$215,6,0))","v":""}]
[95,65,{"$f":"IF(ISERROR(VLOOKUP(A65,ｴﾝﾄﾘｰ票!$A$16:$AH$215,5,0)),\"\",VLOOKUP(A65,ｴﾝﾄﾘｰ票!$A$16:$AH$215,5,0))","v":""},{"$f":"IF(C65=\"\",\"\",VLOOKUP($C65,ｴﾝﾄﾘｰ票!$E$16:$L$215,2,0))","v":""},{"$f":"IF(C65=\"\",\"\",VLOOKUP($C65,ｴﾝﾄﾘｰ票!$E$16:$L$215,3,0))","v":""},{"$f":"IF(C65=\"\",\"\",VLOOKUP($C65,ｴﾝﾄﾘｰ票!$E$16:$L$215,8,0))","v":""},{"$f":"IF(C65=\"\",\"\",VLOOKUP($C65,ｴﾝﾄﾘｰ票!$E$16:$L$215,6,0))","v":""},{"$f":"IF(ISERROR(VLOOKUP(A65+100,ｴﾝﾄﾘｰ票!$AU$16:$AZ$205,4,0)),\"\",VLOOKUP(A65+100,ｴﾝﾄﾘｰ票!$AU$16:$AZ$205,4,0))","v":""},{"$f":"IF(H65=\"\",\"\",VLOOKUP($H65,ｴﾝﾄﾘｰ票!$E$16:$L$215,2,0))","v":""},{"$f":"IF(H65=\"\",\"\",VLOOKUP($H65,ｴﾝﾄﾘｰ票!$E$16:$L$215,3,0))","v":""},{"$f":"IF(H65=\"\",\"\",VLOOKUP($H65,ｴﾝﾄﾘｰ票!$E$16:$L$215,8,0))","v":""},{"$f":"IF(H65=\"\",\"\",VLOOKUP($H65,ｴﾝﾄﾘｰ票!$E$16:$L$215,6,0))","v":""},{"$f":"IF(ISERROR(VLOOKUP(A65+200,ｴﾝﾄﾘｰ票!$BA$16:$BF$205,4,0)),\"\",VLOOKUP(A65+200,ｴﾝﾄﾘｰ票!$BA$16:$BF$205,4,0))","v":""},{"$f":"IF(M65=\"\",\"\",VLOOKUP($M65,ｴﾝﾄﾘｰ票!$E$16:$L$215,2,0))","v":""},{"$f":"IF(M65=\"\",\"\",VLOOKUP($M65,ｴﾝﾄﾘｰ票!$E$16:$L$215,3,0))","v":""},{"$f":"IF(M65=\"\",\"\",VLOOKUP($M65,ｴﾝﾄﾘｰ票!$E$16:$L$215,8,0))","v":""},{"$f":"IF(M65=\"\",\"\",VLOOKUP($M65,ｴﾝﾄﾘｰ票!$E$16:$L$215,6,0))","v":""},{"$f":"IF(ISERROR(VLOOKUP(A65+300,ｴﾝﾄﾘｰ票!$BG$16:$BL$205,4,0)),\"\",VLOOKUP(A65+300,ｴﾝﾄﾘｰ票!$BG$16:$BL$205,4,0))","v":""},{"$f":"IF(R65=\"\",\"\",VLOOKUP($R65,ｴﾝﾄﾘｰ票!$E$16:$L$215,2,0))","v":""},{"$f":"IF(R65=\"\",\"\",VLOOKUP($R65,ｴﾝﾄﾘｰ票!$E$16:$L$215,3,0))","v":""},{"$f":"IF(R65=\"\",\"\",VLOOKUP($R65,ｴﾝﾄﾘｰ票!$E$16:$L$215,8,0))","v":""},{"$f":"IF(R65=\"\",\"\",VLOOKUP($R65,ｴﾝﾄﾘｰ票!$E$16:$L$215,6,0))","v":""}]
[96,66,{"$f":"IF(ISERROR(VLOOKUP(A66,ｴﾝﾄﾘｰ票!$A$16:$AH$215,5,0)),\"\",VLOOKUP(A66,ｴﾝﾄﾘｰ票!$A$16:$AH$215,5,0))","v":""},{"$f":"IF(C66=\"\",\"\",VLOOKUP($C66,ｴﾝﾄﾘｰ票!$E$16:$L$215,2,0))","v":""},{"$f":"IF(C66=\"\",\"\",VLOOKUP($C66,ｴﾝﾄﾘｰ票!$E$16:$L$215,3,0))","v":""},{"$f":"IF(C66=\"\",\"\",VLOOKUP($C66,ｴﾝﾄﾘｰ票!$E$16:$L$215,8,0))","v":""},{"$f":"IF(C66=\"\",\"\",VLOOKUP($C66,ｴﾝﾄﾘｰ票!$E$16:$L$215,6,0))","v":""},{"$f":"IF(ISERROR(VLOOKUP(A66+100,ｴﾝﾄﾘｰ票!$AU$16:$AZ$205,4,0)),\"\",VLOOKUP(A66+100,ｴﾝﾄﾘｰ票!$AU$16:$AZ$205,4,0))","v":""},{"$f":"IF(H66=\"\",\"\",VLOOKUP($H66,ｴﾝﾄﾘｰ票!$E$16:$L$215,2,0))","v":""},{"$f":"IF(H66=\"\",\"\",VLOOKUP($H66,ｴﾝﾄﾘｰ票!$E$16:$L$215,3,0))","v":""},{"$f":"IF(H66=\"\",\"\",VLOOKUP($H66,ｴﾝﾄﾘｰ票!$E$16:$L$215,8,0))","v":""},{"$f":"IF(H66=\"\",\"\",VLOOKUP($H66,ｴﾝﾄﾘｰ票!$E$16:$L$215,6,0))","v":""},{"$f":"IF(ISERROR(VLOOKUP(A66+200,ｴﾝﾄﾘｰ票!$BA$16:$BF$205,4,0)),\"\",VLOOKUP(A66+200,ｴﾝﾄﾘｰ票!$BA$16:$BF$205,4,0))","v":""},{"$f":"IF(M66=\"\",\"\",VLOOKUP($M66,ｴﾝﾄﾘｰ票!$E$16:$L$215,2,0))","v":""},{"$f":"IF(M66=\"\",\"\",VLOOKUP($M66,ｴﾝﾄﾘｰ票!$E$16:$L$215,3,0))","v":""},{"$f":"IF(M66=\"\",\"\",VLOOKUP($M66,ｴﾝﾄﾘｰ票!$E$16:$L$215,8,0))","v":""},{"$f":"IF(M66=\"\",\"\",VLOOKUP($M66,ｴﾝﾄﾘｰ票!$E$16:$L$215,6,0))","v":""},{"$f":"IF(ISERROR(VLOOKUP(A66+300,ｴﾝﾄﾘｰ票!$BG$16:$BL$205,4,0)),\"\",VLOOKUP(A66+300,ｴﾝﾄﾘｰ票!$BG$16:$BL$205,4,0))","v":""},{"$f":"IF(R66=\"\",\"\",VLOOKUP($R66,ｴﾝﾄﾘｰ票!$E$16:$L$215,2,0))","v":""},{"$f":"IF(R66=\"\",\"\",VLOOKUP($R66,ｴﾝﾄﾘｰ票!$E$16:$L$215,3,0))","v":""},{"$f":"IF(R66=\"\",\"\",VLOOKUP($R66,ｴﾝﾄﾘｰ票!$E$16:$L$215,8,0))","v":""},{"$f":"IF(R66=\"\",\"\",VLOOKUP($R66,ｴﾝﾄﾘｰ票!$E$16:$L$215,6,0))","v":""}]
[10,67,{"$f":"IF(ISERROR(VLOOKUP(A68,ｴﾝﾄﾘｰ票!$AO$16:$AT$205,6,0)),\"\",VLOOKUP(A68,ｴﾝﾄﾘｰ票!$AO$16:$AT$205,6,0))","v":""},"氏名",null,"性別","学年",{"$f":"IF(ISERROR(VLOOKUP(A68+100,ｴﾝﾄﾘｰ票!$AU$16:$AZ$205,6,0)),\"\",VLOOKUP(A68+100,ｴﾝﾄﾘｰ票!$AU$16:$AZ$205,6,0))","v":""},"氏名",null,"性別","学年",{"$f":"IF(ISERROR(VLOOKUP(A68+200,ｴﾝﾄﾘｰ票!$BA$16:$BF$205,6,0)),\"\",VLOOKUP(A68+200,ｴﾝﾄﾘｰ票!$BA$16:$BF$205,6,0))","v":""},"氏名",null,"性別","学年",{"$f":"IF(ISERROR(VLOOKUP(A68+300,ｴﾝﾄﾘｰ票!$BG$16:$BL$205,6,0)),\"\",VLOOKUP(A68+300,ｴﾝﾄﾘｰ票!$BG$16:$BL$205,6,0))","v":""},"氏名",null,"性別","学年"]
[101,68,{"$f":"IF(ISERROR(VLOOKUP(A68,ｴﾝﾄﾘｰ票!$A$16:$AH$215,5,0)),\"\",VLOOKUP(A68,ｴﾝﾄﾘｰ票!$A$16:$AH$215,5,0))","v":""},{"$f":"IF(C68=\"\",\"\",VLOOKUP($C68,ｴﾝﾄﾘｰ票!$E$16:$L$215,2,0))","v":""},{"$f":"IF(C68=\"\",\"\",VLOOKUP($C68,ｴﾝﾄﾘｰ票!$E$16:$L$215,3,0))","v":""},{"$f":"IF(C68=\"\",\"\",VLOOKUP($C68,ｴﾝﾄﾘｰ票!$E$16:$L$215,8,0))","v":""},{"$f":"IF(C68=\"\",\"\",VLOOKUP($C68,ｴﾝﾄﾘｰ票!$E$16:$L$215,6,0))","v":""},{"$f":"IF(ISERROR(VLOOKUP(A68+100,ｴﾝﾄﾘｰ票!$AU$16:$AZ$205,4,0)),\"\",VLOOKUP(A68+100,ｴﾝﾄﾘｰ票!$AU$16:$AZ$205,4,0))","v":""},{"$f":"IF(H68=\"\",\"\",VLOOKUP($H68,ｴﾝﾄﾘｰ票!$E$16:$L$215,2,0))","v":""},{"$f":"IF(H68=\"\",\"\",VLOOKUP($H68,ｴﾝﾄﾘｰ票!$E$16:$L$215,3,0))","v":""},{"$f":"IF(H68=\"\",\"\",VLOOKUP($H68,ｴﾝﾄﾘｰ票!$E$16:$L$215,8,0))","v":""},{"$f":"IF(H68=\"\",\"\",VLOOKUP($H68,ｴﾝﾄﾘｰ票!$E$16:$L$215,6,0))","v":""},{"$f":"IF(ISERROR(VLOOKUP(A68+200,ｴﾝﾄﾘｰ票!$BA$16:$BF$205,4,0)),\"\",VLOOKUP(A68+200,ｴﾝﾄﾘｰ票!$BA$16:$BF$205,4,0))","v":""},{"$f":"IF(M68=\"\",\"\",VLOOKUP($M68,ｴﾝﾄﾘｰ票!$E$16:$L$215,2,0))","v":""},{"$f":"IF(M68=\"\",\"\",VLOOKUP($M68,ｴﾝﾄﾘｰ票!$E$16:$L$215,3,0))","v":""},{"$f":"IF(M68=\"\",\"\",VLOOKUP($M68,ｴﾝﾄﾘｰ票!$E$16:$L$215,8,0))","v":""},{"$f":"IF(M68=\"\",\"\",VLOOKUP($M68,ｴﾝﾄﾘｰ票!$E$16:$L$215,6,0))","v":""},{"$f":"IF(ISERROR(VLOOKUP(A68+300,ｴﾝﾄﾘｰ票!$BG$16:$BL$205,4,0)),\"\",VLOOKUP(A68+300,ｴﾝﾄﾘｰ票!$BG$16:$BL$205,4,0))","v":""},{"$f":"IF(R68=\"\",\"\",VLOOKUP($R68,ｴﾝﾄﾘｰ票!$E$16:$L$215,2,0))","v":""},{"$f":"IF(R68=\"\",\"\",VLOOKUP($R68,ｴﾝﾄﾘｰ票!$E$16:$L$215,3,0))","v":""},{"$f":"IF(R68=\"\",\"\",VLOOKUP($R68,ｴﾝﾄﾘｰ票!$E$16:$L$215,8,0))","v":""},{"$f":"IF(R68=\"\",\"\",VLOOKUP($R68,ｴﾝﾄﾘｰ票!$E$16:$L$215,6,0))","v":""}]
[102,69,{"$f":"IF(ISERROR(VLOOKUP(A69,ｴﾝﾄﾘｰ票!$A$16:$AH$215,5,0)),\"\",VLOOKUP(A69,ｴﾝﾄﾘｰ票!$A$16:$AH$215,5,0))","v":""},{"$f":"IF(C69=\"\",\"\",VLOOKUP($C69,ｴﾝﾄﾘｰ票!$E$16:$L$215,2,0))","v":""},{"$f":"IF(C69=\"\",\"\",VLOOKUP($C69,ｴﾝﾄﾘｰ票!$E$16:$L$215,3,0))","v":""},{"$f":"IF(C69=\"\",\"\",VLOOKUP($C69,ｴﾝﾄﾘｰ票!$E$16:$L$215,8,0))","v":""},{"$f":"IF(C69=\"\",\"\",VLOOKUP($C69,ｴﾝﾄﾘｰ票!$E$16:$L$215,6,0))","v":""},{"$f":"IF(ISERROR(VLOOKUP(A69+100,ｴﾝﾄﾘｰ票!$AU$16:$AZ$205,4,0)),\"\",VLOOKUP(A69+100,ｴﾝﾄﾘｰ票!$AU$16:$AZ$205,4,0))","v":""},{"$f":"IF(H69=\"\",\"\",VLOOKUP($H69,ｴﾝﾄﾘｰ票!$E$16:$L$215,2,0))","v":""},{"$f":"IF(H69=\"\",\"\",VLOOKUP($H69,ｴﾝﾄﾘｰ票!$E$16:$L$215,3,0))","v":""},{"$f":"IF(H69=\"\",\"\",VLOOKUP($H69,ｴﾝﾄﾘｰ票!$E$16:$L$215,8,0))","v":""},{"$f":"IF(H69=\"\",\"\",VLOOKUP($H69,ｴﾝﾄﾘｰ票!$E$16:$L$215,6,0))","v":""},{"$f":"IF(ISERROR(VLOOKUP(A69+200,ｴﾝﾄﾘｰ票!$BA$16:$BF$205,4,0)),\"\",VLOOKUP(A69+200,ｴﾝﾄﾘｰ票!$BA$16:$BF$205,4,0))","v":""},{"$f":"IF(M69=\"\",\"\",VLOOKUP($M69,ｴﾝﾄﾘｰ票!$E$16:$L$215,2,0))","v":""},{"$f":"IF(M69=\"\",\"\",VLOOKUP($M69,ｴﾝﾄﾘｰ票!$E$16:$L$215,3,0))","v":""},{"$f":"IF(M69=\"\",\"\",VLOOKUP($M69,ｴﾝﾄﾘｰ票!$E$16:$L$215,8,0))","v":""},{"$f":"IF(M69=\"\",\"\",VLOOKUP($M69,ｴﾝﾄﾘｰ票!$E$16:$L$215,6,0))","v":""},{"$f":"IF(ISERROR(VLOOKUP(A69+300,ｴﾝﾄﾘｰ票!$BG$16:$BL$205,4,0)),\"\",VLOOKUP(A69+300,ｴﾝﾄﾘｰ票!$BG$16:$BL$205,4,0))","v":""},{"$f":"IF(R69=\"\",\"\",VLOOKUP($R69,ｴﾝﾄﾘｰ票!$E$16:$L$215,2,0))","v":""},{"$f":"IF(R69=\"\",\"\",VLOOKUP($R69,ｴﾝﾄﾘｰ票!$E$16:$L$215,3,0))","v":""},{"$f":"IF(R69=\"\",\"\",VLOOKUP($R69,ｴﾝﾄﾘｰ票!$E$16:$L$215,8,0))","v":""},{"$f":"IF(R69=\"\",\"\",VLOOKUP($R69,ｴﾝﾄﾘｰ票!$E$16:$L$215,6,0))","v":""}]
[103,70,{"$f":"IF(ISERROR(VLOOKUP(A70,ｴﾝﾄﾘｰ票!$A$16:$AH$215,5,0)),\"\",VLOOKUP(A70,ｴﾝﾄﾘｰ票!$A$16:$AH$215,5,0))","v":""},{"$f":"IF(C70=\"\",\"\",VLOOKUP($C70,ｴﾝﾄﾘｰ票!$E$16:$L$215,2,0))","v":""},{"$f":"IF(C70=\"\",\"\",VLOOKUP($C70,ｴﾝﾄﾘｰ票!$E$16:$L$215,3,0))","v":""},{"$f":"IF(C70=\"\",\"\",VLOOKUP($C70,ｴﾝﾄﾘｰ票!$E$16:$L$215,8,0))","v":""},{"$f":"IF(C70=\"\",\"\",VLOOKUP($C70,ｴﾝﾄﾘｰ票!$E$16:$L$215,6,0))","v":""},{"$f":"IF(ISERROR(VLOOKUP(A70+100,ｴﾝﾄﾘｰ票!$AU$16:$AZ$205,4,0)),\"\",VLOOKUP(A70+100,ｴﾝﾄﾘｰ票!$AU$16:$AZ$205,4,0))","v":""},{"$f":"IF(H70=\"\",\"\",VLOOKUP($H70,ｴﾝﾄﾘｰ票!$E$16:$L$215,2,0))","v":""},{"$f":"IF(H70=\"\",\"\",VLOOKUP($H70,ｴﾝﾄﾘｰ票!$E$16:$L$215,3,0))","v":""},{"$f":"IF(H70=\"\",\"\",VLOOKUP($H70,ｴﾝﾄﾘｰ票!$E$16:$L$215,8,0))","v":""},{"$f":"IF(H70=\"\",\"\",VLOOKUP($H70,ｴﾝﾄﾘｰ票!$E$16:$L$215,6,0))","v":""},{"$f":"IF(ISERROR(VLOOKUP(A70+200,ｴﾝﾄﾘｰ票!$BA$16:$BF$205,4,0)),\"\",VLOOKUP(A70+200,ｴﾝﾄﾘｰ票!$BA$16:$BF$205,4,0))","v":""},{"$f":"IF(M70=\"\",\"\",VLOOKUP($M70,ｴﾝﾄﾘｰ票!$E$16:$L$215,2,0))","v":""},{"$f":"IF(M70=\"\",\"\",VLOOKUP($M70,ｴﾝﾄﾘｰ票!$E$16:$L$215,3,0))","v":""},{"$f":"IF(M70=\"\",\"\",VLOOKUP($M70,ｴﾝﾄﾘｰ票!$E$16:$L$215,8,0))","v":""},{"$f":"IF(M70=\"\",\"\",VLOOKUP($M70,ｴﾝﾄﾘｰ票!$E$16:$L$215,6,0))","v":""},{"$f":"IF(ISERROR(VLOOKUP(A70+300,ｴﾝﾄﾘｰ票!$BG$16:$BL$205,4,0)),\"\",VLOOKUP(A70+300,ｴﾝﾄﾘｰ票!$BG$16:$BL$205,4,0))","v":""},{"$f":"IF(R70=\"\",\"\",VLOOKUP($R70,ｴﾝﾄﾘｰ票!$E$16:$L$215,2,0))","v":""},{"$f":"IF(R70=\"\",\"\",VLOOKUP($R70,ｴﾝﾄﾘｰ票!$E$16:$L$215,3,0))","v":""},{"$f":"IF(R70=\"\",\"\",VLOOKUP($R70,ｴﾝﾄﾘｰ票!$E$16:$L$215,8,0))","v":""},{"$f":"IF(R70=\"\",\"\",VLOOKUP($R70,ｴﾝﾄﾘｰ票!$E$16:$L$215,6,0))","v":""}]
[104,71,{"$f":"IF(ISERROR(VLOOKUP(A71,ｴﾝﾄﾘｰ票!$A$16:$AH$215,5,0)),\"\",VLOOKUP(A71,ｴﾝﾄﾘｰ票!$A$16:$AH$215,5,0))","v":""},{"$f":"IF(C71=\"\",\"\",VLOOKUP($C71,ｴﾝﾄﾘｰ票!$E$16:$L$215,2,0))","v":""},{"$f":"IF(C71=\"\",\"\",VLOOKUP($C71,ｴﾝﾄﾘｰ票!$E$16:$L$215,3,0))","v":""},{"$f":"IF(C71=\"\",\"\",VLOOKUP($C71,ｴﾝﾄﾘｰ票!$E$16:$L$215,8,0))","v":""},{"$f":"IF(C71=\"\",\"\",VLOOKUP($C71,ｴﾝﾄﾘｰ票!$E$16:$L$215,6,0))","v":""},{"$f":"IF(ISERROR(VLOOKUP(A71+100,ｴﾝﾄﾘｰ票!$AU$16:$AZ$205,4,0)),\"\",VLOOKUP(A71+100,ｴﾝﾄﾘｰ票!$AU$16:$AZ$205,4,0))","v":""},{"$f":"IF(H71=\"\",\"\",VLOOKUP($H71,ｴﾝﾄﾘｰ票!$E$16:$L$215,2,0))","v":""},{"$f":"IF(H71=\"\",\"\",VLOOKUP($H71,ｴﾝﾄﾘｰ票!$E$16:$L$215,3,0))","v":""},{"$f":"IF(H71=\"\",\"\",VLOOKUP($H71,ｴﾝﾄﾘｰ票!$E$16:$L$215,8,0))","v":""},{"$f":"IF(H71=\"\",\"\",VLOOKUP($H71,ｴﾝﾄﾘｰ票!$E$16:$L$215,6,0))","v":""},{"$f":"IF(ISERROR(VLOOKUP(A71+200,ｴﾝﾄﾘｰ票!$BA$16:$BF$205,4,0)),\"\",VLOOKUP(A71+200,ｴﾝﾄﾘｰ票!$BA$16:$BF$205,4,0))","v":""},{"$f":"IF(M71=\"\",\"\",VLOOKUP($M71,ｴﾝﾄﾘｰ票!$E$16:$L$215,2,0))","v":""},{"$f":"IF(M71=\"\",\"\",VLOOKUP($M71,ｴﾝﾄﾘｰ票!$E$16:$L$215,3,0))","v":""},{"$f":"IF(M71=\"\",\"\",VLOOKUP($M71,ｴﾝﾄﾘｰ票!$E$16:$L$215,8,0))","v":""},{"$f":"IF(M71=\"\",\"\",VLOOKUP($M71,ｴﾝﾄﾘｰ票!$E$16:$L$215,6,0))","v":""},{"$f":"IF(ISERROR(VLOOKUP(A71+300,ｴﾝﾄﾘｰ票!$BG$16:$BL$205,4,0)),\"\",VLOOKUP(A71+300,ｴﾝﾄﾘｰ票!$BG$16:$BL$205,4,0))","v":""},{"$f":"IF(R71=\"\",\"\",VLOOKUP($R71,ｴﾝﾄﾘｰ票!$E$16:$L$215,2,0))","v":""},{"$f":"IF(R71=\"\",\"\",VLOOKUP($R71,ｴﾝﾄﾘｰ票!$E$16:$L$215,3,0))","v":""},{"$f":"IF(R71=\"\",\"\",VLOOKUP($R71,ｴﾝﾄﾘｰ票!$E$16:$L$215,8,0))","v":""},{"$f":"IF(R71=\"\",\"\",VLOOKUP($R71,ｴﾝﾄﾘｰ票!$E$16:$L$215,6,0))","v":""}]
[105,72,{"$f":"IF(ISERROR(VLOOKUP(A72,ｴﾝﾄﾘｰ票!$A$16:$AH$215,5,0)),\"\",VLOOKUP(A72,ｴﾝﾄﾘｰ票!$A$16:$AH$215,5,0))","v":""},{"$f":"IF(C72=\"\",\"\",VLOOKUP($C72,ｴﾝﾄﾘｰ票!$E$16:$L$215,2,0))","v":""},{"$f":"IF(C72=\"\",\"\",VLOOKUP($C72,ｴﾝﾄﾘｰ票!$E$16:$L$215,3,0))","v":""},{"$f":"IF(C72=\"\",\"\",VLOOKUP($C72,ｴﾝﾄﾘｰ票!$E$16:$L$215,8,0))","v":""},{"$f":"IF(C72=\"\",\"\",VLOOKUP($C72,ｴﾝﾄﾘｰ票!$E$16:$L$215,6,0))","v":""},{"$f":"IF(ISERROR(VLOOKUP(A72+100,ｴﾝﾄﾘｰ票!$AU$16:$AZ$205,4,0)),\"\",VLOOKUP(A72+100,ｴﾝﾄﾘｰ票!$AU$16:$AZ$205,4,0))","v":""},{"$f":"IF(H72=\"\",\"\",VLOOKUP($H72,ｴﾝﾄﾘｰ票!$E$16:$L$215,2,0))","v":""},{"$f":"IF(H72=\"\",\"\",VLOOKUP($H72,ｴﾝﾄﾘｰ票!$E$16:$L$215,3,0))","v":""},{"$f":"IF(H72=\"\",\"\",VLOOKUP($H72,ｴﾝﾄﾘｰ票!$E$16:$L$215,8,0))","v":""},{"$f":"IF(H72=\"\",\"\",VLOOKUP($H72,ｴﾝﾄﾘｰ票!$E$16:$L$215,6,0))","v":""},{"$f":"IF(ISERROR(VLOOKUP(A72+200,ｴﾝﾄﾘｰ票!$BA$16:$BF$205,4,0)),\"\",VLOOKUP(A72+200,ｴﾝﾄﾘｰ票!$BA$16:$BF$205,4,0))","v":""},{"$f":"IF(M72=\"\",\"\",VLOOKUP($M72,ｴﾝﾄﾘｰ票!$E$16:$L$215,2,0))","v":""},{"$f":"IF(M72=\"\",\"\",VLOOKUP($M72,ｴﾝﾄﾘｰ票!$E$16:$L$215,3,0))","v":""},{"$f":"IF(M72=\"\",\"\",VLOOKUP($M72,ｴﾝﾄﾘｰ票!$E$16:$L$215,8,0))","v":""},{"$f":"IF(M72=\"\",\"\",VLOOKUP($M72,ｴﾝﾄﾘｰ票!$E$16:$L$215,6,0))","v":""},{"$f":"IF(ISERROR(VLOOKUP(A72+300,ｴﾝﾄﾘｰ票!$BG$16:$BL$205,4,0)),\"\",VLOOKUP(A72+300,ｴﾝﾄﾘｰ票!$BG$16:$BL$205,4,0))","v":""},{"$f":"IF(R72=\"\",\"\",VLOOKUP($R72,ｴﾝﾄﾘｰ票!$E$16:$L$215,2,0))","v":""},{"$f":"IF(R72=\"\",\"\",VLOOKUP($R72,ｴﾝﾄﾘｰ票!$E$16:$L$215,3,0))","v":""},{"$f":"IF(R72=\"\",\"\",VLOOKUP($R72,ｴﾝﾄﾘｰ票!$E$16:$L$215,8,0))","v":""},{"$f":"IF(R72=\"\",\"\",VLOOKUP($R72,ｴﾝﾄﾘｰ票!$E$16:$L$215,6,0))","v":""}]
[106,73,{"$f":"IF(ISERROR(VLOOKUP(A73,ｴﾝﾄﾘｰ票!$A$16:$AH$215,5,0)),\"\",VLOOKUP(A73,ｴﾝﾄﾘｰ票!$A$16:$AH$215,5,0))","v":""},{"$f":"IF(C73=\"\",\"\",VLOOKUP($C73,ｴﾝﾄﾘｰ票!$E$16:$L$215,2,0))","v":""},{"$f":"IF(C73=\"\",\"\",VLOOKUP($C73,ｴﾝﾄﾘｰ票!$E$16:$L$215,3,0))","v":""},{"$f":"IF(C73=\"\",\"\",VLOOKUP($C73,ｴﾝﾄﾘｰ票!$E$16:$L$215,8,0))","v":""},{"$f":"IF(C73=\"\",\"\",VLOOKUP($C73,ｴﾝﾄﾘｰ票!$E$16:$L$215,6,0))","v":""},{"$f":"IF(ISERROR(VLOOKUP(A73+100,ｴﾝﾄﾘｰ票!$AU$16:$AZ$205,4,0)),\"\",VLOOKUP(A73+100,ｴﾝﾄﾘｰ票!$AU$16:$AZ$205,4,0))","v":""},{"$f":"IF(H73=\"\",\"\",VLOOKUP($H73,ｴﾝﾄﾘｰ票!$E$16:$L$215,2,0))","v":""},{"$f":"IF(H73=\"\",\"\",VLOOKUP($H73,ｴﾝﾄﾘｰ票!$E$16:$L$215,3,0))","v":""},{"$f":"IF(H73=\"\",\"\",VLOOKUP($H73,ｴﾝﾄﾘｰ票!$E$16:$L$215,8,0))","v":""},{"$f":"IF(H73=\"\",\"\",VLOOKUP($H73,ｴﾝﾄﾘｰ票!$E$16:$L$215,6,0))","v":""},{"$f":"IF(ISERROR(VLOOKUP(A73+200,ｴﾝﾄﾘｰ票!$BA$16:$BF$205,4,0)),\"\",VLOOKUP(A73+200,ｴﾝﾄﾘｰ票!$BA$16:$BF$205,4,0))","v":""},{"$f":"IF(M73=\"\",\"\",VLOOKUP($M73,ｴﾝﾄﾘｰ票!$E$16:$L$215,2,0))","v":""},{"$f":"IF(M73=\"\",\"\",VLOOKUP($M73,ｴﾝﾄﾘｰ票!$E$16:$L$215,3,0))","v":""},{"$f":"IF(M73=\"\",\"\",VLOOKUP($M73,ｴﾝﾄﾘｰ票!$E$16:$L$215,8,0))","v":""},{"$f":"IF(M73=\"\",\"\",VLOOKUP($M73,ｴﾝﾄﾘｰ票!$E$16:$L$215,6,0))","v":""},{"$f":"IF(ISERROR(VLOOKUP(A73+300,ｴﾝﾄﾘｰ票!$BG$16:$BL$205,4,0)),\"\",VLOOKUP(A73+300,ｴﾝﾄﾘｰ票!$BG$16:$BL$205,4,0))","v":""},{"$f":"IF(R73=\"\",\"\",VLOOKUP($R73,ｴﾝﾄﾘｰ票!$E$16:$L$215,2,0))","v":""},{"$f":"IF(R73=\"\",\"\",VLOOKUP($R73,ｴﾝﾄﾘｰ票!$E$16:$L$215,3,0))","v":""},{"$f":"IF(R73=\"\",\"\",VLOOKUP($R73,ｴﾝﾄﾘｰ票!$E$16:$L$215,8,0))","v":""},{"$f":"IF(R73=\"\",\"\",VLOOKUP($R73,ｴﾝﾄﾘｰ票!$E$16:$L$215,6,0))","v":""}]

{"sheet":"Ａ票男(都予選)","index":5,"n_rows":150,"n_cols":26,"rows_kept":150,"cut":false,"hidden":false,"merged":[[147,14,147,15],[148,14,148,15],[149,14,149,15],[141,14,141,15],[142,14,142,15],[143,14,143,15],[144,14,144,15],[145,14,145,15],[146,14,146,15],[135,14,135,15],[136,14,136,15],[137,14,137,15],[138,14,138,15],[139,14,139,15],[140,14,140,15],[129,24,129,25],[130,14,130,15],[131,14,131,15],[132,14,132,15],[133,14,133,15],[134,14,134,15],[129,9,129,10],[129,11,129,12],[129,14,129,15],[129,17,129,18],[129,19,129,20],[118,14,118,15],[119,14,119,15],[120,14,120,15],[123,0,124,1],[123,2,124,9],[125,0,126,1],[125,2,126,8],[125,9,126,9],[112,14,112,15],[113,14,113,15],[114,14,114,15],[115,14,115,15],[116,14,116,15],[117,14,117,15],[106,14,106,15],[107,14,107,15],[108,14,108,15],[109,14,109,15],[110,14,110,15],[111,14,111,15],[100,24,100,25],[101,14,101,15],[102,14,102,15],[103,14,103,15],[104,14,104,15],[105,14,105,15],[100,9,100,10],[100,11,100,12],[100,14,100,15],[100,17,100,18],[100,19,100,20],[89,14,89,15],[90,14,90,15],[91,14,91,15],[94,0,95,1],[94,2,95,9],[96,0,97,1],[96,2,97,8],[96,9,97,9],[83,14,83,15],[84,14,84,15],[85,14,85,15],[86,14,86,15],[87,14,87,15],[88,14,88,15],[77,14,77,15],[78,14,78,15],[79,14,79,15],[80,14,80,15],[81,14,81,15],[82,14,82,15],[71,24,71,25],[72,14,72,15],[73,14,73,15],[74,14,74,15],[75,14,75,15],[76,14,76,15],[71,9,71,10],[71,11,71,12],[71,14,71,15],[71,17,71,18],[71,19,71,20],[60,14,60,15],[61,14,61,15],[62,14,62,15],[65,0,66,1],[65,2,66,9],[67,0,68,1],[67,2,68,8],[67,9,68,9],[54,14,54,15],[55,14,55,15],[56,14,56,15],[57,14,57,15],[58,14,58,15],[59,14,59,15],[48,14,48,15],[49,14,49,15],[50,14,50,15],[51,14,51,15],[52,14,52,15],[53,14,53,15],[42,24,42,25],[43,14,43,15],[44,14,44,15],[45,14,45,15],[46,14,46,15],[47,14,47,15],[42,9,42,10],[42,11,42,12],[42,14,42,15],[42,17,42,18],[42,19,42,20],[33,10,33,11],[36,0,37,1],[36,2,37,9],[38,0,39,1],[38,2,39,8],[38,9,39,9],[32,2,32,3],[32,4,32,6],[32,7,32,9],[33,2,33,3],[33,5,33,6],[33,7,33,9],[27,14,27,15],[28,14,28,15],[30,2,30,3],[30,4,30,6],[30,7,30,9],[31,2,31,3],[31,4,31,6],[31,7,31,9],[21,14,21,15],[22,14,22,15],[23,14,23,15],[24,14,24,15],[25,14,25,15],[26,14,26,15],[15,14,15,15],[16,14,16,15],[17,14,17,15],[18,14,18,15],[19,14,19,15],[20,14,20,15],[9,14,9,15],[10,14,10,15],[11,14,11,15],[12,14,12,15],[13,14,13,15],[14,14,14,15],[8,11,8,12],[8,14,8,15],[8,17,8,18],[8,19,8,20],[8,21,8,22],[8,24,8,25],[2,0,3,1],[2,2,3,9],[4,0,5,1],[4,2,5,8],[4,9,5,9],[8,9,8,10]]}
[null,{"$f":"ｴﾝﾄﾘｰ票!$G$1","v":"東京都高校新人陸上競技大会第４支部予選会"},null,null,null,null,null,null,null,null,null,null,null,null,null,null,null,null,null,null,null,null,null,null,null,"申込用紙(A票）"]
[{"$f":"ｴﾝﾄﾘｰ票!R1","v":"平成30年度"},null,null,null,null,null,null,null,null,null,null,null,null,null,null,null,null,null,null,null,null,null,null,"男子",null,"Ｎｏ．１"]
["学校名",null,{"$f":"ｴﾝﾄﾘｰ票!$G$2","v":0},null,null,null,null,null,null,null,"学校所在地",null,{"$f":"ｴﾝﾄﾘｰ票!$G$5","v":0}]
[null,null,null,null,null,null,null,null,null,null,"電話",null,{"$f":"ｴﾝﾄﾘｰ票!$G$6","v":"00:00:00"},null,null,null,null,"ＦＡＸ",null,{"$f":"ｴﾝﾄﾘｰ票!$G$7","v":0}]
["学校長",null,{"$f":"ｴﾝﾄﾘｰ票!$G$4","v":0},null,null,null,null,null,null,"印","顧問氏名",null,{"$f":"ｴﾝﾄﾘｰ票!$G$8","v":0},null,null,null,"印"]
[null,null,null,null,null,null,null,null,null,null,"連絡先",null,{"$f":"ｴﾝﾄﾘｰ票!$G$9","v":0}]
[]
[null,null,null,null,null,null,null,null,null,null,null,null,null,"種目",null,null,null,null,null,null,null,"本大会種目"]
[null,"番号","出場者氏名",null,null,null,null,"学年",null,"個人",null,"個人",null,"個人","4×100",null,"4×400","個人",null,"個人",null,"個人",null,"4×100","4×400"]
[1,{"$f":"IF(ISERROR(VLOOKUP(A10*10-9+2000,ｴﾝﾄﾘｰ票!C$15:AI$215,3,0)),\"\",VLOOKUP(A10*10-9+2000,ｴﾝﾄﾘｰ票!C$15:AI$215,3,0))","v":""},{"$f":"IF(B10=\"\",\"\",CONCATENATE(VLOOKUP(B10,ｴﾝﾄﾘｰ票!$E$16:$L$215,2,0),\"　\",VLOOKUP(B10,ｴﾝﾄﾘｰ票!$E$16:$L$215,3,0)))","v":""},null,null,null,null,{"$f":"IF(B10=\"\",\"\",VLOOKUP(B10,ｴﾝﾄﾘｰ票!$E$16:$L$215,6,0))","v":""},null,{"$f":"IF(B10=\"\",\"\",IF(VLOOKUP(B10,ｴﾝﾄﾘｰ票!$E$16:$Y$215,10,0)=\"\",\"\",VLOOKUP(B10,ｴﾝﾄﾘｰ票!$E$16:$Y$215,10,0)))","v":""},null,{"$f":"IF(B10=\"\",\"\",IF(VLOOKUP(B10,ｴﾝﾄﾘｰ票!$E$16:$Y$215,14,0)=\"\",\"\",VLOOKUP(B10,ｴﾝﾄﾘｰ票!$E$16:$Y$215,14,0)))","v":""},null,{"$f":"IF(B10=\"\",\"\",IF(VLOOKUP(B10,ｴﾝﾄﾘｰ票!$E$16:$Y$215,18,0)=\"\",\"\",VLOOKUP(B10,ｴﾝﾄﾘｰ票!$E$16:$Y$215,18,0)))","v":""},{"$f":"IF(B10=\"\",\"\",IF(ISERROR(VLOOKUP(B10,ｴﾝﾄﾘｰ票!$AR$16:$AT$205,1,0)),\"\",VLOOKUP(B10,ｴﾝﾄﾘｰ票!$AR$16:$AT$205,2,0)))","v":""},null,{"$f":"IF(B10=\"\",\"\",IF(ISERROR(VLOOKUP(B10,ｴﾝﾄﾘｰ票!$AX$16:$AZ$205,1,0)),\"\",VLOOKUP(B10,ｴﾝﾄﾘｰ票!$AX$16:$AZ$205,2,0)))","v":""}]
[2,{"$f":"IF(ISERROR(VLOOKUP(A11*10-9+2000,ｴﾝﾄﾘｰ票!C$15:AI$215,3,0)),\"\",VLOOKUP(A11*10-9+2000,ｴﾝﾄﾘｰ票!C$15:AI$215,3,0))","v":""},{"$f":"IF(B11=\"\",\"\",CONCATENATE(VLOOKUP(B11,ｴﾝﾄﾘｰ票!$E$16:$L$215,2,0),\"　\",VLOOKUP(B11,ｴﾝﾄﾘｰ票!$E$16:$L$215,3,0)))","v":""},null,null,null,null,{"$f":"IF(B11=\"\",\"\",VLOOKUP(B11,ｴﾝﾄﾘｰ票!$E$16:$L$215,6,0))","v":""},null,{"$f":"IF(B11=\"\",\"\",IF(VLOOKUP(B11,ｴﾝﾄﾘｰ票!$E$16:$Y$215,10,0)=\"\",\"\",VLOOKUP(B11,ｴﾝﾄﾘｰ票!$E$16:$Y$215,10,0)))","v":""},null,{"$f":"IF(B11=\"\",\"\",IF(VLOOKUP(B11,ｴﾝﾄﾘｰ票!$E$16:$Y$215,14,0)=\"\",\"\",VLOOKUP(B11,ｴﾝﾄﾘｰ票!$E$16:$Y$215,14,0)))","v":""},null,{"$f":"IF(B11=\"\",\"\",IF(VLOOKUP(B11,ｴﾝﾄﾘｰ票!$E$16:$Y$215,18,0)=\"\",\"\",VLOOKUP(B11,ｴﾝﾄﾘｰ票!$E$16:$Y$215,18,0)))","v":""},{"$f":"IF(B11=\"\",\"\",IF(ISERROR(VLOOKUP(B11,ｴﾝﾄﾘｰ票!$AR$16:$AT$205,1,0)),\"\",VLOOKUP(B11,ｴﾝﾄﾘｰ票!$AR$16:$AT$205,2,0)))","v":""},null,{"$f":"IF(B11=\"\",\"\",IF(ISERROR(VLOOKUP(B11,ｴﾝﾄﾘｰ票!$AX$16:$AZ$205,1,0)),\"\",VLOOKUP(B11,ｴﾝﾄﾘｰ票!$AX$16:$AZ$205,2,0)))","v":""}]
[3,{"$f":"IF(ISERROR(VLOOKUP(A12*10-9+2000,ｴﾝﾄﾘｰ票!C$15:AI$215,3,0)),\"\",VLOOKUP(A12*10-9+2000,ｴﾝﾄﾘｰ票!C$15:AI$215,3,0))","v":""},{"$f":"IF(B12=\"\",\"\",CONCATENATE(VLOOKUP(B12,ｴﾝﾄﾘｰ票!$E$16:$L$215,2,0),\"　\",VLOOKUP(B12,ｴﾝﾄﾘｰ票!$E$16:$L$215,3,0)))","v":""},null,null,null,null,{"$f":"IF(B12=\"\",\"\",VLOOKUP(B12,ｴﾝﾄﾘｰ票!$E$16:$L$215,6,0))","v":""},null,{"$f":"IF(B12=\"\",\"\",IF(VLOOKUP(B12,ｴﾝﾄﾘｰ票!$E$16:$Y$215,10,0)=\"\",\"\",VLOOKUP(B12,ｴﾝﾄﾘｰ票!$E$16:$Y$215,10,0)))","v":""},null,{"$f":"IF(B12=\"\",\"\",IF(VLOOKUP(B12,ｴﾝﾄﾘｰ票!$E$16:$Y$215,14,0)=\"\",\"\",VLOOKUP(B12,ｴﾝﾄﾘｰ票!$E$16:$Y$215,14,0)))","v":""},null,{"$f":"IF(B12=\"\",\"\",IF(VLOOKUP(B12,ｴﾝﾄﾘｰ票!$E$16:$Y$215,18,0)=\"\",\"\",VLOOKUP(B12,ｴﾝﾄﾘｰ票!$E$16:$Y$215,18,0)))","v":""},{"$f":"IF(B12=\"\",\"\",IF(ISERROR(VLOOKUP(B12,ｴﾝﾄﾘｰ票!$AR$16:$AT$205,1,0)),\"\",VLOOKUP(B12,ｴﾝﾄﾘｰ票!$AR$16:$AT$205,2,0)))","v":""},null,{"$f":"IF(B12=\"\",\"\",IF(ISERROR(VLOOKUP(B12,ｴﾝﾄﾘｰ票!$AX$16:$AZ$205,1,0)),\"\",VLOOKUP(B12,ｴﾝﾄﾘｰ票!$AX$16:$AZ$205,2,0)))","v":""}]
[4,{"$f":"IF(ISERROR(VLOOKUP(A13*10-9+2000,ｴﾝﾄﾘｰ票!C$15:AI$215,3,0)),\"\",VLOOKUP(A13*10-9+2000,ｴﾝﾄﾘｰ票!C$15:AI$215,3,0))","v":""},{"$f":"IF(B13=\"\",\"\",CONCATENATE(VLOOKUP(B13,ｴﾝﾄﾘｰ票!$E$16:$L$215,2,0),\"　\",VLOOKUP(B13,ｴﾝﾄﾘｰ票!$E$16:$L$215,3,0)))","v":""},null,null,null,null,{"$f":"IF(B13=\"\",\"\",VLOOKUP(B13,ｴﾝﾄﾘｰ票!$E$16:$L$215,6,0))","v":""},null,{"$f":"IF(B13=\"\",\"\",IF(VLOOKUP(B13,ｴﾝﾄﾘｰ票!$E$16:$Y$215,10,0)=\"\",\"\",VLOOKUP(B13,ｴﾝﾄﾘｰ票!$E$16:$Y$215,10,0)))","v":""},null,{"$f":"IF(B13=\"\",\"\",IF(VLOOKUP(B13,ｴﾝﾄﾘｰ票!$E$16:$Y$215,14,0)=\"\",\"\",VLOOKUP(B13,ｴﾝﾄﾘｰ票!$E$16:$Y$215,14,0)))","v":""},null,{"$f":"IF(B13=\"\",\"\",IF(VLOOKUP(B13,ｴﾝﾄﾘｰ票!$E$16:$Y$215,18,0)=\"\",\"\",VLOOKUP(B13,ｴﾝﾄﾘｰ票!$E$16:$Y$215,18,0)))","v":""},{"$f":"IF(B13=\"\",\"\",IF(ISERROR(VLOOKUP(B13,ｴﾝﾄﾘｰ票!$AR$16:$AT$205,1,0)),\"\",VLOOKUP(B13,ｴﾝﾄﾘｰ票!$AR$16:$AT$205,2,0)))","v":""},null,{"$f":"IF(B13=\"\",\"\",IF(ISERROR(VLOOKUP(B13,ｴﾝﾄﾘｰ票!$AX$16:$AZ$205,1,0)),\"\",VLOOKUP(B13,ｴﾝﾄﾘｰ票!$AX$16:$AZ$205,2,0)))","v":""}]
[5,{"$f":"IF(ISERROR(VLOOKUP(A14*10-9+2000,ｴﾝﾄﾘｰ票!C$15:AI$215,3,0)),\"\",VLOOKUP(A14*10-9+2000,ｴﾝﾄﾘｰ票!C$15:AI$215,3,0))","v":""},{"$f":"IF(B14=\"\",\"\",CONCATENATE(VLOOKUP(B14,ｴﾝﾄﾘｰ票!$E$16:$L$215,2,0),\"　\",VLOOKUP(B14,ｴﾝﾄﾘｰ票!$E$16:$L$215,3,0)))","v":""},null,null,null,null,{"$f":"IF(B14=\"\",\"\",VLOOKUP(B14,ｴﾝﾄﾘｰ票!$E$16:$L$215,6,0))","v":""},null,{"$f":"IF(B14=\"\",\"\",IF(VLOOKUP(B14,ｴﾝﾄﾘｰ票!$E$16:$Y$215,10,0)=\"\",\"\",VLOOKUP(B14,ｴﾝﾄﾘｰ票!$E$16:$Y$215,10,0)))","v":""},null,{"$f":"IF(B14=\"\",\"\",IF(VLOOKUP(B14,ｴﾝﾄﾘｰ票!$E$16:$Y$215,14,0)=\"\",\"\",VLOOKUP(B14,ｴﾝﾄﾘｰ票!$E$16:$Y$215,14,0)))","v":""},null,{"$f":"IF(B14=\"\",\"\",IF(VLOOKUP(B14,ｴﾝﾄﾘｰ票!$E$16:$Y$215,18,0)=\"\",\"\",VLOOKUP(B14,ｴﾝﾄﾘｰ票!$E$16:$Y$215,18,0)))","v":""},{"$f":"IF(B14=\"\",\"\",IF(ISERROR(VLOOKUP(B14,ｴﾝﾄﾘｰ票!$AR$16:$AT$205,1,0)),\"\",VLOOKUP(B14,ｴﾝﾄﾘｰ票!$AR$16:$AT$205,2,0)))","v":""},null,{"$f":"IF(B14=\"\",\"\",IF(ISERROR(VLOOKUP(B14,ｴﾝﾄﾘｰ票!$AX$16:$AZ$205,1,0)),\"\",VLOOKUP(B14,ｴﾝﾄﾘｰ票!$AX$16:$AZ$205,2,0)))","v":""}]
[6,{"$f":"IF(ISERROR(VLOOKUP(A15*10-9+2000,ｴﾝﾄﾘｰ票!C$15:AI$215,3,0)),\"\",VLOOKUP(A15*10-9+2000,ｴﾝﾄﾘｰ票!C$15:AI$215,3,0))","v":""},{"$f":"IF(B15=\"\",\"\",CONCATENATE(VLOOKUP(B15,ｴﾝﾄﾘｰ票!$E$16:$L$215,2,0),\"　\",VLOOKUP(B15,ｴﾝﾄﾘｰ票!$E$16:$L$215,3,0)))","v":""},null,null,null,null,{"$f":"IF(B15=\"\",\"\",VLOOKUP(B15,ｴﾝﾄﾘｰ票!$E$16:$L$215,6,0))","v":""},null,{"$f":"IF(B15=\"\",\"\",IF(VLOOKUP(B15,ｴﾝﾄﾘｰ票!$E$16:$Y$215,10,0)=\"\",\"\",VLOOKUP(B15,ｴﾝﾄﾘｰ票!$E$16:$Y$215,10,0)))","v":""},null,{"$f":"IF(B15=\"\",\"\",IF(VLOOKUP(B15,ｴﾝﾄﾘｰ票!$E$16:$Y$215,14,0)=\"\",\"\",VLOOKUP(B15,ｴﾝﾄﾘｰ票!$E$16:$Y$215,14,0)))","v":""},null,{"$f":"IF(B15=\"\",\"\",IF(VLOOKUP(B15,ｴﾝﾄﾘｰ票!$E$16:$Y$215,18,0)=\"\",\"\",VLOOKUP(B15,ｴﾝﾄﾘｰ票!$E$16:$Y$215,18,0)))","v":""},{"$f":"IF(B15=\"\",\"\",IF(ISERROR(VLOOKUP(B15,ｴﾝﾄﾘｰ票!$AR$16:$AT$205,1,0)),\"\",VLOOKUP(B15,ｴﾝﾄﾘｰ票!$AR$16:$AT$205,2,0)))","v":""},null,{"$f":"IF(B15=\"\",\"\",IF(ISERROR(VLOOKUP(B15,ｴﾝﾄﾘｰ票!$AX$16:$AZ$205,1,0)),\"\",VLOOKUP(B15,ｴﾝﾄﾘｰ票!$AX$16:$AZ$205,2,0)))","v":""}]
[7,{"$f":"IF(ISERROR(VLOOKUP(A16*10-9+2000,ｴﾝﾄﾘｰ票!C$15:AI$215,3,0)),\"\",VLOOKUP(A16*10-9+2000,ｴﾝﾄﾘｰ票!C$15:AI$215,3,0))","v":""},{"$f":"IF(B16=\"\",\"\",CONCATENATE(VLOOKUP(B16,ｴﾝﾄﾘｰ票!$E$16:$L$215,2,0),\"　\",VLOOKUP(B16,ｴﾝﾄﾘｰ票!$E$16:$L$215,3,0)))","v":""},null,null,null,null,{"$f":"IF(B16=\"\",\"\",VLOOKUP(B16,ｴﾝﾄﾘｰ票!$E$16:$L$215,6,0))","v":""},null,{"$f":"IF(B16=\"\",\"\",IF(VLOOKUP(B16,ｴﾝﾄﾘｰ票!$E$16:$Y$215,10,0)=\"\",\"\",VLOOKUP(B16,ｴﾝﾄﾘｰ票!$E$16:$Y$215,10,0)))","v":""},null,{"$f":"IF(B16=\"\",\"\",IF(VLOOKUP(B16,ｴﾝﾄﾘｰ票!$E$16:$Y$215,14,0)=\"\",\"\",VLOOKUP(B16,ｴﾝﾄﾘｰ票!$E$16:$Y$215,14,0)))","v":""},null,{"$f":"IF(B16=\"\",\"\",IF(VLOOKUP(B16,ｴﾝﾄﾘｰ票!$E$16:$Y$215,18,0)=\"\",\"\",VLOOKUP(B16,ｴﾝﾄﾘｰ票!$E$16:$Y$215,18,0)))","v":""},{"$f":"IF(B16=\"\",\"\",IF(ISERROR(VLOOKUP(B16,ｴﾝﾄﾘｰ票!$AR$16:$AT$205,1,0)),\"\",VLOOKUP(B16,ｴﾝﾄﾘｰ票!$AR$16:$AT$205,2,0)))","v":""},null,{"$f":"IF(B16=\"\",\"\",IF(ISERROR(VLOOKUP(B16,ｴﾝﾄﾘｰ票!$AX$16:$AZ$205,1,0)),\"\",VLOOKUP(B16,ｴﾝﾄﾘｰ票!$AX$16:$AZ$205,2,0)))","v":""}]
[8,{"$f":"IF(ISERROR(VLOOKUP(A17*10-9+2000,ｴﾝﾄﾘｰ票!C$15:AI$215,3,0)),\"\",VLOOKUP(A17*10-9+2000,ｴﾝﾄﾘｰ票!C$15:AI$215,3,0))","v":""},{"$f":"IF(B17=\"\",\"\",CONCATENATE(VLOOKUP(B17,ｴﾝﾄﾘｰ票!$E$16:$L$215,2,0),\"　\",VLOOKUP(B17,ｴﾝﾄﾘｰ票!$E$16:$L$215,3,0)))","v":""},null,null,null,null,{"$f":"IF(B17=\"\",\"\",VLOOKUP(B17,ｴﾝﾄﾘｰ票!$E$16:$L$215,6,0))","v":""},null,{"$f":"IF(B17=\"\",\"\",IF(VLOOKUP(B17,ｴﾝﾄﾘｰ票!$E$16:$Y$215,10,0)=\"\",\"\",VLOOKUP(B17,ｴﾝﾄﾘｰ票!$E$16:$Y$215,10,0)))","v":""},null,{"$f":"IF(B17=\"\",\"\",IF(VLOOKUP(B17,ｴﾝﾄﾘｰ票!$E$16:$Y$215,14,0)=\"\",\"\",VLOOKUP(B17,ｴﾝﾄﾘｰ票!$E$16:$Y$215,14,0)))","v":""},null,{"$f":"IF(B17=\"\",\"\",IF(VLOOKUP(B17,ｴﾝﾄﾘｰ票!$E$16:$Y$215,18,0)=\"\",\"\",VLOOKUP(B17,ｴﾝﾄﾘｰ票!$E$16:$Y$215,18,0)))","v":""},{"$f":"IF(B17=\"\",\"\",IF(ISERROR(VLOOKUP(B17,ｴﾝﾄﾘｰ票!$AR$16:$AT$205,1,0)),\"\",VLOOKUP(B17,ｴﾝﾄﾘｰ票!$AR$16:$AT$205,2,0)))","v":""},null,{"$f":"IF(B17=\"\",\"\",IF(ISERROR(VLOOKUP(B17,ｴﾝﾄﾘｰ票!$AX$16:$AZ$205,1,0)),\"\",VLOOKUP(B17,ｴﾝﾄﾘｰ票!$AX$16:$AZ$205,2,0)))","v":""}]
[9,{"$f":"IF(ISERROR(VLOOKUP(A18*10-9+2000,ｴﾝﾄﾘｰ票!C$15:AI$215,3,0)),\"\",VLOOKUP(A18*10-9+2000,ｴﾝﾄﾘｰ票!C$15:AI$215,3,0))","v":""},{"$f":"IF(B18=\"\",\"\",CONCATENATE(VLOOKUP(B18,ｴﾝﾄﾘｰ票!$E$16:$L$215,2,0),\"　\",VLOOKUP(B18,ｴﾝﾄﾘｰ票!$E$16:$L$215,3,0)))","v":""},null,null,null,null,{"$f":"IF(B18=\"\",\"\",VLOOKUP(B18,ｴﾝﾄﾘｰ票!$E$16:$L$215,6,0))","v":""},null,{"$f":"IF(B18=\"\",\"\",IF(VLOOKUP(B18,ｴﾝﾄﾘｰ票!$E$16:$Y$215,10,0)=\"\",\"\",VLOOKUP(B18,ｴﾝﾄﾘｰ票!$E$16:$Y$215,10,0)))","v":""},null,{"$f":"IF(B18=\"\",\"\",IF(VLOOKUP(B18,ｴﾝﾄﾘｰ票!$E$16:$Y$215,14,0)=\"\",\"\",VLOOKUP(B18,ｴﾝﾄﾘｰ票!$E$16:$Y$215,14,0)))","v":""},null,{"$f":"IF(B18=\"\",\"\",IF(VLOOKUP(B18,ｴﾝﾄﾘｰ票!$E$16:$Y$215,18,0)=\"\",\"\",VLOOKUP(B18,ｴﾝﾄﾘｰ票!$E$16:$Y$215,18,0)))","v":""},{"$f":"IF(B18=\"\",\"\",IF(ISERROR(VLOOKUP(B18,ｴﾝﾄﾘｰ票!$AR$16:$AT$205,1,0)),\"\",VLOOKUP(B18,ｴﾝﾄﾘｰ票!$AR$16:$AT$205,2,0)))","v":""},null,{"$f":"IF(B18=\"\",\"\",IF(ISERROR(VLOOKUP(B18,ｴﾝﾄﾘｰ票!$AX$16:$AZ$205,1,0)),\"\",VLOOKUP(B18,ｴﾝﾄﾘｰ票!$AX$16:$AZ$205,2,0)))","v":""}]
[10,{"$f":"IF(ISERROR(VLOOKUP(A19*10-9+2000,ｴﾝﾄﾘｰ票!C$15:AI$215,3,0)),\"\",VLOOKUP(A19*10-9+2000,ｴﾝﾄﾘｰ票!C$15:AI$215,3,0))","v":""},{"$f":"IF(B19=\"\",\"\",CONCATENATE(VLOOKUP(B19,ｴﾝﾄﾘｰ票!$E$16:$L$215,2,0),\"　\",VLOOKUP(B19,ｴﾝﾄﾘｰ票!$E$16:$L$215,3,0)))","v":""},null,null,null,null,{"$f":"IF(B19=\"\",\"\",VLOOKUP(B19,ｴﾝﾄﾘｰ票!$E$16:$L$215,6,0))","v":""},null,{"$f":"IF(B19=\"\",\"\",IF(VLOOKUP(B19,ｴﾝﾄﾘｰ票!$E$16:$Y$215,10,0)=\"\",\"\",VLOOKUP(B19,ｴﾝﾄﾘｰ票!$E$16:$Y$215,10,0)))","v":""},null,{"$f":"IF(B19=\"\",\"\",IF(VLOOKUP(B19,ｴﾝﾄﾘｰ票!$E$16:$Y$215,14,0)=\"\",\"\",VLOOKUP(B19,ｴﾝﾄﾘｰ票!$E$16:$Y$215,14,0)))","v":""},null,{"$f":"IF(B19=\"\",\"\",IF(VLOOKUP(B19,ｴﾝﾄﾘｰ票!$E$16:$Y$215,18,0)=\"\",\"\",VLOOKUP(B19,ｴﾝﾄﾘｰ票!$E$16:$Y$215,18,0)))","v":""},{"$f":"IF(B19=\"\",\"\",IF(ISERROR(VLOOKUP(B19,ｴﾝﾄﾘｰ票!$AR$16:$AT$205,1,0)),\"\",VLOOKUP(B19,ｴﾝﾄﾘｰ票!$AR$16:$AT$205,2,0)))","v":""},null,{"$f":"IF(B19=\"\",\"\",IF(ISERROR(VLOOKUP(B19,ｴﾝﾄﾘｰ票!$AX$16:$AZ$205,1,0)),\"\",VLOOKUP(B19,ｴﾝﾄﾘｰ票!$AX$16:$AZ$205,2,0)))","v":""}]
[11,{"$f":"IF(ISERROR(VLOOKUP(A20*10-9+2000,ｴﾝﾄﾘｰ票!C$15:AI$215,3,0)),\"\",VLOOKUP(A20*10-9+2000,ｴﾝﾄﾘｰ票!C$15:AI$215,3,0))","v":""},{"$f":"IF(B20=\"\",\"\",CONCATENATE(VLOOKUP(B20,ｴﾝﾄﾘｰ票!$E$16:$L$215,2,0),\"　\",VLOOKUP(B20,ｴﾝﾄﾘｰ票!$E$16:$L$215,3,0)))","v":""},null,null,null,null,{"$f":"IF(B20=\"\",\"\",VLOOKUP(B20,ｴﾝﾄﾘｰ票!$E$16:$L$215,6,0))","v":""},null,{"$f":"IF(B20=\"\",\"\",IF(VLOOKUP(B20,ｴﾝﾄﾘｰ票!$E$16:$Y$215,10,0)=\"\",\"\",VLOOKUP(B20,ｴﾝﾄﾘｰ票!$E$16:$Y$215,10,0)))","v":""},null,{"$f":"IF(B20=\"\",\"\",IF(VLOOKUP(B20,ｴﾝﾄﾘｰ票!$E$16:$Y$215,14,0)=\"\",\"\",VLOOKUP(B20,ｴﾝﾄﾘｰ票!$E$16:$Y$215,14,0)))","v":""},null,{"$f":"IF(B20=\"\",\"\",IF(VLOOKUP(B20,ｴﾝﾄﾘｰ票!$E$16:$Y$215,18,0)=\"\",\"\",VLOOKUP(B20,ｴﾝﾄﾘｰ票!$E$16:$Y$215,18,0)))","v":""},{"$f":"IF(B20=\"\",\"\",IF(ISERROR(VLOOKUP(B20,ｴﾝﾄﾘｰ票!$AR$16:$AT$205,1,0)),\"\",VLOOKUP(B20,ｴﾝﾄﾘｰ票!$AR$16:$AT$205,2,0)))","v":""},null,{"$f":"IF(B20=\"\",\"\",IF(ISERROR(VLOOKUP(B20,ｴﾝﾄﾘｰ票!$AX$16:$AZ$205,1,0)),\"\",VLOOKUP(B20,ｴﾝﾄﾘｰ票!$AX$16:$AZ$205,2,0)))","v":""}]
[12,{"$f":"IF(ISERROR(VLOOKUP(A21*10-9+2000,ｴﾝﾄﾘｰ票!C$15:AI$215,3,0)),\"\",VLOOKUP(A21*10-9+2000,ｴﾝﾄﾘｰ票!C$15:AI$215,3,0))","v":""},{"$f":"IF(B21=\"\",\"\",CONCATENATE(VLOOKUP(B21,ｴﾝﾄﾘｰ票!$E$16:$L$215,2,0),\"　\",VLOOKUP(B21,ｴﾝﾄﾘｰ票!$E$16:$L$215,3,0)))","v":""},null,null,null,null,{"$f":"IF(B21=\"\",\"\",VLOOKUP(B21,ｴﾝﾄﾘｰ票!$E$16:$L$215,6,0))","v":""},null,{"$f":"IF(B21=\"\",\"\",IF(VLOOKUP(B21,ｴﾝﾄﾘｰ票!$E$16:$Y$215,10,0)=\"\",\"\",VLOOKUP(B21,ｴﾝﾄﾘｰ票!$E$16:$Y$215,10,0)))","v":""},null,{"$f":"IF(B21=\"\",\"\",IF(VLOOKUP(B21,ｴﾝﾄﾘｰ票!$E$16:$Y$215,14,0)=\"\",\"\",VLOOKUP(B21,ｴﾝﾄﾘｰ票!$E$16:$Y$215,14,0)))","v":""},null,{"$f":"IF(B21=\"\",\"\",IF(VLOOKUP(B21,ｴﾝﾄﾘｰ票!$E$16:$Y$215,18,0)=\"\",\"\",VLOOKUP(B21,ｴﾝﾄﾘｰ票!$E$16:$Y$215,18,0)))","v":""},{"$f":"IF(B21=\"\",\"\",IF(ISERROR(VLOOKUP(B21,ｴﾝﾄﾘｰ票!$AR$16:$AT$205,1,0)),\"\",VLOOKUP(B21,ｴﾝﾄﾘｰ票!$AR$16:$AT$205,2,0)))","v":""},null,{"$f":"IF(B21=\"\",\"\",IF(ISERROR(VLOOKUP(B21,ｴﾝﾄﾘｰ票!$AX$16:$AZ$205,1,0)),\"\",VLOOKUP(B21,ｴﾝﾄﾘｰ票!$AX$16:$AZ$205,2,0)))","v":""}]
[13,{"$f":"IF(ISERROR(VLOOKUP(A22*10-9+2000,ｴﾝﾄﾘｰ票!C$15:AI$215,3,0)),\"\",VLOOKUP(A22*10-9+2000,ｴﾝﾄﾘｰ票!C$15:AI$215,3,0))","v":""},{"$f":"IF(B22=\"\",\"\",CONCATENATE(VLOOKUP(B22,ｴﾝﾄﾘｰ票!$E$16:$L$215,2,0),\"　\",VLOOKUP(B22,ｴﾝﾄﾘｰ票!$E$16:$L$215,3,0)))","v":""},null,null,null,null,{"$f":"IF(B22=\"\",\"\",VLOOKUP(B22,ｴﾝﾄﾘｰ票!$E$16:$L$215,6,0))","v":""},null,{"$f":"IF(B22=\"\",\"\",IF(VLOOKUP(B22,ｴﾝﾄﾘｰ票!$E$16:$Y$215,10,0)=\"\",\"\",VLOOKUP(B22,ｴﾝﾄﾘｰ票!$E$16:$Y$215,10,0)))","v":""},null,{"$f":"IF(B22=\"\",\"\",IF(VLOOKUP(B22,ｴﾝﾄﾘｰ票!$E$16:$Y$215,14,0)=\"\",\"\",VLOOKUP(B22,ｴﾝﾄﾘｰ票!$E$16:$Y$215,14,0)))","v":""},null,{"$f":"IF(B22=\"\",\"\",IF(VLOOKUP(B22,ｴﾝﾄﾘｰ票!$E$16:$Y$215,18,0)=\"\",\"\",VLOOKUP(B22,ｴﾝﾄﾘｰ票!$E$16:$Y$215,18,0)))","v":""},{"$f":"IF(B22=\"\",\"\",IF(ISERROR(VLOOKUP(B22,ｴﾝﾄﾘｰ票!$AR$16:$AT$205,1,0)),\"\",VLOOKUP(B22,ｴﾝﾄﾘｰ票!$AR$16:$AT$205,2,0)))","v":""},null,{"$f":"IF(B22=\"\",\"\",IF(ISERROR(VLOOKUP(B22,ｴﾝﾄﾘｰ票!$AX$16:$AZ$205,1,0)),\"\",VLOOKUP(B22,ｴﾝﾄﾘｰ票!$AX$16:$AZ$205,2,0)))","v":""}]
[14,{"$f":"IF(ISERROR(VLOOKUP(A23*10-9+2000,ｴﾝﾄﾘｰ票!C$15:AI$215,3,0)),\"\",VLOOKUP(A23*10-9+2000,ｴﾝﾄﾘｰ票!C$15:AI$215,3,0))","v":""},{"$f":"IF(B23=\"\",\"\",CONCATENATE(VLOOKUP(B23,ｴﾝﾄﾘｰ票!$E$16:$L$215,2,0),\"　\",VLOOKUP(B23,ｴﾝﾄﾘｰ票!$E$16:$L$215,3,0)))","v":""},null,null,null,null,{"$f":"IF(B23=\"\",\"\",VLOOKUP(B23,ｴﾝﾄﾘｰ票!$E$16:$L$215,6,0))","v":""},null,{"$f":"IF(B23=\"\",\"\",IF(VLOOKUP(B23,ｴﾝﾄﾘｰ票!$E$16:$Y$215,10,0)=\"\",\"\",VLOOKUP(B23,ｴﾝﾄﾘｰ票!$E$16:$Y$215,10,0)))","v":""},null,{"$f":"IF(B23=\"\",\"\",IF(VLOOKUP(B23,ｴﾝﾄﾘｰ票!$E$16:$Y$215,14,0)=\"\",\"\",VLOOKUP(B23,ｴﾝﾄﾘｰ票!$E$16:$Y$215,14,0)))","v":""},null,{"$f":"IF(B23=\"\",\"\",IF(VLOOKUP(B23,ｴﾝﾄﾘｰ票!$E$16:$Y$215,18,0)=\"\",\"\",VLOOKUP(B23,ｴﾝﾄﾘｰ票!$E$16:$Y$215,18,0)))","v":""},{"$f":"IF(B23=\"\",\"\",IF(ISERROR(VLOOKUP(B23,ｴﾝﾄﾘｰ票!$AR$16:$AT$205,1,0)),\"\",VLOOKUP(B23,ｴﾝﾄﾘｰ票!$AR$16:$AT$205,2,0)))","v":""},null,{"$f":"IF(B23=\"\",\"\",IF(ISERROR(VLOOKUP(B23,ｴﾝﾄﾘｰ票!$AX$16:$AZ$205,1,0)),\"\",VLOOKUP(B23,ｴﾝﾄﾘｰ票!$AX$16:$AZ$205,2,0)))","v":""}]
[15,{"$f":"IF(ISERROR(VLOOKUP(A24*10-9+2000,ｴﾝﾄﾘｰ票!C$15:AI$215,3,0)),\"\",VLOOKUP(A24*10-9+2000,ｴﾝﾄﾘｰ票!C$15:AI$215,3,0))","v":""},{"$f":"IF(B24=\"\",\"\",CONCATENATE(VLOOKUP(B24,ｴﾝﾄﾘｰ票!$E$16:$L$215,2,0),\"　\",VLOOKUP(B24,ｴﾝﾄﾘｰ票!$E$16:$L$215,3,0)))","v":""},null,null,null,null,{"$f":"IF(B24=\"\",\"\",VLOOKUP(B24,ｴﾝﾄﾘｰ票!$E$16:$L$215,6,0))","v":""},null,{"$f":"IF(B24=\"\",\"\",IF(VLOOKUP(B24,ｴﾝﾄﾘｰ票!$E$16:$Y$215,10,0)=\"\",\"\",VLOOKUP(B24,ｴﾝﾄﾘｰ票!$E$16:$Y$215,10,0)))","v":""},null,{"$f":"IF(B24=\"\",\"\",IF(VLOOKUP(B24,ｴﾝﾄﾘｰ票!$E$16:$Y$215,14,0)=\"\",\"\",VLOOKUP(B24,ｴﾝﾄﾘｰ票!$E$16:$Y$215,14,0)))","v":""},null,{"$f":"IF(B24=\"\",\"\",IF(VLOOKUP(B24,ｴﾝﾄﾘｰ票!$E$16:$Y$215,18,0)=\"\",\"\",VLOOKUP(B24,ｴﾝﾄﾘｰ票!$E$16:$Y$215,18,0)))","v":""},{"$f":"IF(B24=\"\",\"\",IF(ISERROR(VLOOKUP(B24,ｴﾝﾄﾘｰ票!$AR$16:$AT$205,1,0)),\"\",VLOOKUP(B24,ｴﾝﾄﾘｰ票!$AR$16:$AT$205,2,0)))","v":""},null,{"$f":"IF(B24=\"\",\"\",IF(ISERROR(VLOOKUP(B24,ｴﾝﾄﾘｰ票!$AX$16:$AZ$205,1,0)),\"\",VLOOKUP(B24,ｴﾝﾄﾘｰ票!$AX$16:$AZ$205,2,0)))","v":""}]
[16,{"$f":"IF(ISERROR(VLOOKUP(A25*10-9+2000,ｴﾝﾄﾘｰ票!C$15:AI$215,3,0)),\"\",VLOOKUP(A25*10-9+2000,ｴﾝﾄﾘｰ票!C$15:AI$215,3,0))","v":""},{"$f":"IF(B25=\"\",\"\",CONCATENATE(VLOOKUP(B25,ｴﾝﾄﾘｰ票!$E$16:$L$215,2,0),\"　\",VLOOKUP(B25,ｴﾝﾄﾘｰ票!$E$16:$L$215,3,0)))","v":""},null,null,null,null,{"$f":"IF(B25=\"\",\"\",VLOOKUP(B25,ｴﾝﾄﾘｰ票!$E$16:$L$215,6,0))","v":""},null,{"$f":"IF(B25=\"\",\"\",IF(VLOOKUP(B25,ｴﾝﾄﾘｰ票!$E$16:$Y$215,10,0)=\"\",\"\",VLOOKUP(B25,ｴﾝﾄﾘｰ票!$E$16:$Y$215,10,0)))","v":""},null,{"$f":"IF(B25=\"\",\"\",IF(VLOOKUP(B25,ｴﾝﾄﾘｰ票!$E$16:$Y$215,14,0)=\"\",\"\",VLOOKUP(B25,ｴﾝﾄﾘｰ票!$E$16:$Y$215,14,0)))","v":""},null,{"$f":"IF(B25=\"\",\"\",IF(VLOOKUP(B25,ｴﾝﾄﾘｰ票!$E$16:$Y$215,18,0)=\"\",\"\",VLOOKUP(B25,ｴﾝﾄﾘｰ票!$E$16:$Y$215,18,0)))","v":""},{"$f":"IF(B25=\"\",\"\",IF(ISERROR(VLOOKUP(B25,ｴﾝﾄﾘｰ票!$AR$16:$AT$205,1,0)),\"\",VLOOKUP(B25,ｴﾝﾄﾘｰ票!$AR$16:$AT$205,2,0)))","v":""},null,{"$f":"IF(B25=\"\",\"\",IF(ISERROR(VLOOKUP(B25,ｴﾝﾄﾘｰ票!$AX$16:$AZ$205,1,0)),\"\",VLOOKUP(B25,ｴﾝﾄﾘｰ票!$AX$16:$AZ$205,2,0)))","v":""}]
[17,{"$f":"IF(ISERROR(VLOOKUP(A26*10-9+2000,ｴﾝﾄﾘｰ票!C$15:AI$215,3,0)),\"\",VLOOKUP(A26*10-9+2000,ｴﾝﾄﾘｰ票!C$15:AI$215,3,0))","v":""},{"$f":"IF(B26=\"\",\"\",CONCATENATE(VLOOKUP(B26,ｴﾝﾄﾘｰ票!$E$16:$L$215,2,0),\"　\",VLOOKUP(B26,ｴﾝﾄﾘｰ票!$E$16:$L$215,3,0)))","v":""},null,null,null,null,{"$f":"IF(B26=\"\",\"\",VLOOKUP(B26,ｴﾝﾄﾘｰ票!$E$16:$L$215,6,0))","v":""},null,{"$f":"IF(B26=\"\",\"\",IF(VLOOKUP(B26,ｴﾝﾄﾘｰ票!$E$16:$Y$215,10,0)=\"\",\"\",VLOOKUP(B26,ｴﾝﾄﾘｰ票!$E$16:$Y$215,10,0)))","v":""},null,{"$f":"IF(B26=\"\",\"\",IF(VLOOKUP(B26,ｴﾝﾄﾘｰ票!$E$16:$Y$215,14,0)=\"\",\"\",VLOOKUP(B26,ｴﾝﾄﾘｰ票!$E$16:$Y$215,14,0)))","v":""},null,{"$f":"IF(B26=\"\",\"\",IF(VLOOKUP(B26,ｴﾝﾄﾘｰ票!$E$16:$Y$215,18,0)=\"\",\"\",VLOOKUP(B26,ｴﾝﾄﾘｰ票!$E$16:$Y$215,18,0)))","v":""},{"$f":"IF(B26=\"\",\"\",IF(ISERROR(VLOOKUP(B26,ｴﾝﾄﾘｰ票!$AR$16:$AT$205,1,0)),\"\",VLOOKUP(B26,ｴﾝﾄﾘｰ票!$AR$16:$AT$205,2,0)))","v":""},null,{"$f":"IF(B26=\"\",\"\",IF(ISERROR(VLOOKUP(B26,ｴﾝﾄﾘｰ票!$AX$16:$AZ$205,1,0)),\"\",VLOOKUP(B26,ｴﾝﾄﾘｰ票!$AX$16:$AZ$205,2,0)))","v":""}]
[18,{"$f":"IF(ISERROR(VLOOKUP(A27*10-9+2000,ｴﾝﾄﾘｰ票!C$15:AI$215,3,0)),\"\",VLOOKUP(A27*10-9+2000,ｴﾝﾄﾘｰ票!C$15:AI$215,3,0))","v":""},{"$f":"IF(B27=\"\",\"\",CONCATENATE(VLOOKUP(B27,ｴﾝﾄﾘｰ票!$E$16:$L$215,2,0),\"　\",VLOOKUP(B27,ｴﾝﾄﾘｰ票!$E$16:$L$215,3,0)))","v":""},null,null,null,null,{"$f":"IF(B27=\"\",\"\",VLOOKUP(B27,ｴﾝﾄﾘｰ票!$E$16:$L$215,6,0))","v":""},null,{"$f":"IF(B27=\"\",\"\",IF(VLOOKUP(B27,ｴﾝﾄﾘｰ票!$E$16:$Y$215,10,0)=\"\",\"\",VLOOKUP(B27,ｴﾝﾄﾘｰ票!$E$16:$Y$215,10,0)))","v":""},null,{"$f":"IF(B27=\"\",\"\",IF(VLOOKUP(B27,ｴﾝﾄﾘｰ票!$E$16:$Y$215,14,0)=\"\",\"\",VLOOKUP(B27,ｴﾝﾄﾘｰ票!$E$16:$Y$215,14,0)))","v":""},null,{"$f":"IF(B27=\"\",\"\",IF(VLOOKUP(B27,ｴﾝﾄﾘｰ票!$E$16:$Y$215,18,0)=\"\",\"\",VLOOKUP(B27,ｴﾝﾄﾘｰ票!$E$16:$Y$215,18,0)))","v":""},{"$f":"IF(B27=\"\",\"\",IF(ISERROR(VLOOKUP(B27,ｴﾝﾄﾘｰ票!$AR$16:$AT$205,1,0)),\"\",VLOOKUP(B27,ｴﾝﾄﾘｰ票!$AR$16:$AT$205,2,0)))","v":""},null,{"$f":"IF(B27=\"\",\"\",IF(ISERROR(VLOOKUP(B27,ｴﾝﾄﾘｰ票!$AX$16:$AZ$205,1,0)),\"\",VLOOKUP(B27,ｴﾝﾄﾘｰ票!$AX$16:$AZ$205,2,0)))","v":""}]
[19,{"$f":"IF(ISERROR(VLOOKUP(A28*10-9+2000,ｴﾝﾄﾘｰ票!C$15:AI$215,3,0)),\"\",VLOOKUP(A28*10-9+2000,ｴﾝﾄﾘｰ票!C$15:AI$215,3,0))","v":""},{"$f":"IF(B28=\"\",\"\",CONCATENATE(VLOOKUP(B28,ｴﾝﾄﾘｰ票!$E$16:$L$215,2,0),\"　\",VLOOKUP(B28,ｴﾝﾄﾘｰ票!$E$16:$L$215,3,0)))","v":""},null,null,null,null,{"$f":"IF(B28=\"\",\"\",VLOOKUP(B28,ｴﾝﾄﾘｰ票!$E$16:$L$215,6,0))","v":""},null,{"$f":"IF(B28=\"\",\"\",IF(VLOOKUP(B28,ｴﾝﾄﾘｰ票!$E$16:$Y$215,10,0)=\"\",\"\",VLOOKUP(B28,ｴﾝﾄﾘｰ票!$E$16:$Y$215,10,0)))","v":""},null,{"$f":"IF(B28=\"\",\"\",IF(VLOOKUP(B28,ｴﾝﾄﾘｰ票!$E$16:$Y$215,14,0)=\"\",\"\",VLOOKUP(B28,ｴﾝﾄﾘｰ票!$E$16:$Y$215,14,0)))","v":""},null,{"$f":"IF(B28=\"\",\"\",IF(VLOOKUP(B28,ｴﾝﾄﾘｰ票!$E$16:$Y$215,18,0)=\"\",\"\",VLOOKUP(B28,ｴﾝﾄﾘｰ票!$E$16:$Y$215,18,0)))","v":""},{"$f":"IF(B28=\"\",\"\",IF(ISERROR(VLOOKUP(B28,ｴﾝﾄﾘｰ票!$AR$16:$AT$205,1,0)),\"\",VLOOKUP(B28,ｴﾝﾄﾘｰ票!$AR$16:$AT$205,2,0)))","v":""},null,{"$f":"IF(B28=\"\",\"\",IF(ISERROR(VLOOKUP(B28,ｴﾝﾄﾘｰ票!$AX$16:$AZ$205,1,0)),\"\",VLOOKUP(B28,ｴﾝﾄﾘｰ票!$AX$16:$AZ$205,2,0)))","v":""}]
[20,{"$f":"IF(ISERROR(VLOOKUP(A29*10-9+2000,ｴﾝﾄﾘｰ票!C$15:AI$215,3,0)),\"\",VLOOKUP(A29*10-9+2000,ｴﾝﾄﾘｰ票!C$15:AI$215,3,0))","v":""},{"$f":"IF(B29=\"\",\"\",CONCATENATE(VLOOKUP(B29,ｴﾝﾄﾘｰ票!$E$16:$L$215,2,0),\"　\",VLOOKUP(B29,ｴﾝﾄﾘｰ票!$E$16:$L$215,3,0)))","v":""},null,null,null,null,{"$f":"IF(B29=\"\",\"\",VLOOKUP(B29,ｴﾝﾄﾘｰ票!$E$16:$L$215,6,0))","v":""},null,{"$f":"IF(B29=\"\",\"\",IF(VLOOKUP(B29,ｴﾝﾄﾘｰ票!$E$16:$Y$215,10,0)=\"\",\"\",VLOOKUP(B29,ｴﾝﾄﾘｰ票!$E$16:$Y$215,10,0)))","v":""},null,{"$f":"IF(B29=\"\",\"\",IF(VLOOKUP(B29,ｴﾝﾄﾘｰ票!$E$16:$Y$215,14,0)=\"\",\"\",VLOOKUP(B29,ｴﾝﾄﾘｰ票!$E$16:$Y$215,14,0)))","v":""},null,{"$f":"IF(B29=\"\",\"\",IF(VLOOKUP(B29,ｴﾝﾄﾘｰ票!$E$16:$Y$215,18,0)=\"\",\"\",VLOOKUP(B29,ｴﾝﾄﾘｰ票!$E$16:$Y$215,18,0)))","v":""},{"$f":"IF(B29=\"\",\"\",IF(ISERROR(VLOOKUP(B29,ｴﾝﾄﾘｰ票!$AR$16:$AT$205,1,0)),\"\",VLOOKUP(B29,ｴﾝﾄﾘｰ票!$AR$16:$AT$205,2,0)))","v":""},null,{"$f":"IF(B29=\"\",\"\",IF(ISERROR(VLOOKUP(B29,ｴﾝﾄﾘｰ票!$AX$16:$AZ$205,1,0)),\"\",VLOOKUP(B29,ｴﾝﾄﾘｰ票!$AX$16:$AZ$205,2,0)))","v":""}]
[null,null,"＜予選会＞",null,null,null,null,null,null,null,null,null,null,"＜本大会＞"]
[null,null,"個人",null,"ﾘﾚｰ",null,null,"プログラム",null,null,null,null,null,"個人",null,"ﾘﾚｰ",null,"混成",null,null,"プログラム"]
[null,null,"@600円",null,"＠1200円",null,null,"＠600円",null,null,null,null,null,"@1000円",null,"＠1600円",null,"＠2000円",null,null,"＠800円"]
[null,null,{"$f":"500-COUNTBLANK(J10:N29)-COUNTBLANK(J44:N63)-COUNTBLANK(J73:N92)-COUNTBLANK(J131:N150)-COUNTBLANK(J102:N121)","v":0},null,{"$f":"ｴﾝﾄﾘｰ票!Z11+ｴﾝﾄﾘｰ票!AA11","v":0},null,null,{"$f":"ｴﾝﾄﾘｰ票!AC11","v":0},null,null,null,"合計",null,null,"種目",null,"チーム",null,null,"種目",null,null,"部","合計"]
[null,null,{"$f":"C33*600","v":0},null,null,{"$f":"E33*1200","v":0},null,{"$f":"H33*600","v":0},null,null,{"$f":"C34+F34+H34","v":0},null,null,null,"円",null,"円",null,null,"円",null,null,"円",null,null,"円"]
[null,{"$f":"ｴﾝﾄﾘｰ票!$G$1","v":"東京都高校新人陸上競技大会第４支部予選会"},null,null,null,null,null,null,null,null,null,null,null,null,null,null,null,null,null,null,null,null,null,null,null,"申込用紙(A票）"]
[{"$f":"A2","v":"平成30年度"},null,null,null,null,null,null,null,null,null,null,null,null,null,null,null,null,null,null,null,null,null,null,"男子",null,"Ｎｏ．2"]
["学校名",null,{"$f":"ｴﾝﾄﾘｰ票!$G$2","v":0},null,null,null,null,null,null,null,"学校所在地",null,{"$f":"ｴﾝﾄﾘｰ票!$G$5","v":0}]
[null,null,null,null,null,null,null,null,null,null,"電話",null,{"$f":"ｴﾝﾄﾘｰ票!$G$6","v":"00:00:00"},null,null,null,null,"ＦＡＸ",null,{"$f":"ｴﾝﾄﾘｰ票!$G$7","v":0}]
["学校長",null,{"$f":"ｴﾝﾄﾘｰ票!$G$4","v":0},null,null,null,null,null,null,"印","顧問氏名",null,{"$f":"ｴﾝﾄﾘｰ票!$G$8","v":0},null,null,null,"印"]
[null,null,null,null,null,null,null,null,null,null,"連絡先",null,{"$f":"ｴﾝﾄﾘｰ票!$G$9","v":0}]
[]
[null,null,null,null,null,null,null,null,null,null,null,null,null,"種目",null,null,null,null,null,null,null,"本大会種目"]
[null,"番号","出場者氏名",null,null,null,null,"学年",null,"個人",null,"個人",null,"個人","4×100",null,"4×400","個人",null,"個人",null,"個人",null,"4×100","4×400"]
[21,{"$f":"IF(ISERROR(VLOOKUP(A44*10-9+2000,ｴﾝﾄﾘｰ票!C$15:AI$215,3,0)),\"\",VLOOKUP(A44*10-9+2000,ｴﾝﾄﾘｰ票!C$15:AI$215,3,0))","v":""},{"$f":"IF(B44=\"\",\"\",CONCATENATE(VLOOKUP(B44,ｴﾝﾄﾘｰ票!$E$16:$L$215,2,0),\"　\",VLOOKUP(B44,ｴﾝﾄﾘｰ票!$E$16:$L$215,3,0)))","v":""},null,null,null,null,{"$f":"IF(B44=\"\",\"\",VLOOKUP(B44,ｴﾝﾄﾘｰ票!$E$16:$L$215,6,0))","v":""},null,{"$f":"IF(B44=\"\",\"\",IF(VLOOKUP(B44,ｴﾝﾄﾘｰ票!$E$16:$Y$215,10,0)=\"\",\"\",VLOOKUP(B44,ｴﾝﾄﾘｰ票!$E$16:$Y$215,10,0)))","v":""},null,{"$f":"IF(B44=\"\",\"\",IF(VLOOKUP(B44,ｴﾝﾄﾘｰ票!$E$16:$Y$215,14,0)=\"\",\"\",VLOOKUP(B44,ｴﾝﾄﾘｰ票!$E$16:$Y$215,14,0)))","v":""},null,{"$f":"IF(B44=\"\",\"\",IF(VLOOKUP(B44,ｴﾝﾄﾘｰ票!$E$16:$Y$215,18,0)=\"\",\"\",VLOOKUP(B44,ｴﾝﾄﾘｰ票!$E$16:$Y$215,18,0)))","v":""},{"$f":"IF(B44=\"\",\"\",IF(ISERROR(VLOOKUP(B44,ｴﾝﾄﾘｰ票!$AR$16:$AT$205,1,0)),\"\",VLOOKUP(B44,ｴﾝﾄﾘｰ票!$AR$16:$AT$205,2,0)))","v":""},null,{"$f":"IF(B44=\"\",\"\",IF(ISERROR(VLOOKUP(B44,ｴﾝﾄﾘｰ票!$AX$16:$AZ$205,1,0)),\"\",VLOOKUP(B44,ｴﾝﾄﾘｰ票!$AX$16:$AZ$205,2,0)))","v":""}]
[22,{"$f":"IF(ISERROR(VLOOKUP(A45*10-9+2000,ｴﾝﾄﾘｰ票!C$15:AI$215,3,0)),\"\",VLOOKUP(A45*10-9+2000,ｴﾝﾄﾘｰ票!C$15:AI$215,3,0))","v":""},{"$f":"IF(B45=\"\",\"\",CONCATENATE(VLOOKUP(B45,ｴﾝﾄﾘｰ票!$E$16:$L$215,2,0),\"　\",VLOOKUP(B45,ｴﾝﾄﾘｰ票!$E$16:$L$215,3,0)))","v":""},null,null,null,null,{"$f":"IF(B45=\"\",\"\",VLOOKUP(B45,ｴﾝﾄﾘｰ票!$E$16:$L$215,6,0))","v":""},null,{"$f":"IF(B45=\"\",\"\",IF(VLOOKUP(B45,ｴﾝﾄﾘｰ票!$E$16:$Y$215,10,0)=\"\",\"\",VLOOKUP(B45,ｴﾝﾄﾘｰ票!$E$16:$Y$215,10,0)))","v":""},null,{"$f":"IF(B45=\"\",\"\",IF(VLOOKUP(B45,ｴﾝﾄﾘｰ票!$E$16:$Y$215,14,0)=\"\",\"\",VLOOKUP(B45,ｴﾝﾄﾘｰ票!$E$16:$Y$215,14,0)))","v":""},null,{"$f":"IF(B45=\"\",\"\",IF(VLOOKUP(B45,ｴﾝﾄﾘｰ票!$E$16:$Y$215,18,0)=\"\",\"\",VLOOKUP(B45,ｴﾝﾄﾘｰ票!$E$16:$Y$215,18,0)))","v":""},{"$f":"IF(B45=\"\",\"\",IF(ISERROR(VLOOKUP(B45,ｴﾝﾄﾘｰ票!$AR$16:$AT$205,1,0)),\"\",VLOOKUP(B45,ｴﾝﾄﾘｰ票!$AR$16:$AT$205,2,0)))","v":""},null,{"$f":"IF(B45=\"\",\"\",IF(ISERROR(VLOOKUP(B45,ｴﾝﾄﾘｰ票!$AX$16:$AZ$205,1,0)),\"\",VLOOKUP(B45,ｴﾝﾄﾘｰ票!$AX$16:$AZ$205,2,0)))","v":""}]
[23,{"$f":"IF(ISERROR(VLOOKUP(A46*10-9+2000,ｴﾝﾄﾘｰ票!C$15:AI$215,3,0)),\"\",VLOOKUP(A46*10-9+2000,ｴﾝﾄﾘｰ票!C$15:AI$215,3,0))","v":""},{"$f":"IF(B46=\"\",\"\",CONCATENATE(VLOOKUP(B46,ｴﾝﾄﾘｰ票!$E$16:$L$215,2,0),\"　\",VLOOKUP(B46,ｴﾝﾄﾘｰ票!$E$16:$L$215,3,0)))","v":""},null,null,null,null,{"$f":"IF(B46=\"\",\"\",VLOOKUP(B46,ｴﾝﾄﾘｰ票!$E$16:$L$215,6,0))","v":""},null,{"$f":"IF(B46=\"\",\"\",IF(VLOOKUP(B46,ｴﾝﾄﾘｰ票!$E$16:$Y$215,10,0)=\"\",\"\",VLOOKUP(B46,ｴﾝﾄﾘｰ票!$E$16:$Y$215,10,0)))","v":""},null,{"$f":"IF(B46=\"\",\"\",IF(VLOOKUP(B46,ｴﾝﾄﾘｰ票!$E$16:$Y$215,14,0)=\"\",\"\",VLOOKUP(B46,ｴﾝﾄﾘｰ票!$E$16:$Y$215,14,0)))","v":""},null,{"$f":"IF(B46=\"\",\"\",IF(VLOOKUP(B46,ｴﾝﾄﾘｰ票!$E$16:$Y$215,18,0)=\"\",\"\",VLOOKUP(B46,ｴﾝﾄﾘｰ票!$E$16:$Y$215,18,0)))","v":""},{"$f":"IF(B46=\"\",\"\",IF(ISERROR(VLOOKUP(B46,ｴﾝﾄﾘｰ票!$AR$16:$AT$205,1,0)),\"\",VLOOKUP(B46,ｴﾝﾄﾘｰ票!$AR$16:$AT$205,2,0)))","v":""},null,{"$f":"IF(B46=\"\",\"\",IF(ISERROR(VLOOKUP(B46,ｴﾝﾄﾘｰ票!$AX$16:$AZ$205,1,0)),\"\",VLOOKUP(B46,ｴﾝﾄﾘｰ票!$AX$16:$AZ$205,2,0)))","v":""}]
[24,{"$f":"IF(ISERROR(VLOOKUP(A47*10-9+2000,ｴﾝﾄﾘｰ票!C$15:AI$215,3,0)),\"\",VLOOKUP(A47*10-9+2000,ｴﾝﾄﾘｰ票!C$15:AI$215,3,0))","v":""},{"$f":"IF(B47=\"\",\"\",CONCATENATE(VLOOKUP(B47,ｴﾝﾄﾘｰ票!$E$16:$L$215,2,0),\"　\",VLOOKUP(B47,ｴﾝﾄﾘｰ票!$E$16:$L$215,3,0)))","v":""},null,null,null,null,{"$f":"IF(B47=\"\",\"\",VLOOKUP(B47,ｴﾝﾄﾘｰ票!$E$16:$L$215,6,0))","v":""},null,{"$f":"IF(B47=\"\",\"\",IF(VLOOKUP(B47,ｴﾝﾄﾘｰ票!$E$16:$Y$215,10,0)=\"\",\"\",VLOOKUP(B47,ｴﾝﾄﾘｰ票!$E$16:$Y$215,10,0)))","v":""},null,{"$f":"IF(B47=\"\",\"\",IF(VLOOKUP(B47,ｴﾝﾄﾘｰ票!$E$16:$Y$215,14,0)=\"\",\"\",VLOOKUP(B47,ｴﾝﾄﾘｰ票!$E$16:$Y$215,14,0)))","v":""},null,{"$f":"IF(B47=\"\",\"\",IF(VLOOKUP(B47,ｴﾝﾄﾘｰ票!$E$16:$Y$215,18,0)=\"\",\"\",VLOOKUP(B47,ｴﾝﾄﾘｰ票!$E$16:$Y$215,18,0)))","v":""},{"$f":"IF(B47=\"\",\"\",IF(ISERROR(VLOOKUP(B47,ｴﾝﾄﾘｰ票!$AR$16:$AT$205,1,0)),\"\",VLOOKUP(B47,ｴﾝﾄﾘｰ票!$AR$16:$AT$205,2,0)))","v":""},null,{"$f":"IF(B47=\"\",\"\",IF(ISERROR(VLOOKUP(B47,ｴﾝﾄﾘｰ票!$AX$16:$AZ$205,1,0)),\"\",VLOOKUP(B47,ｴﾝﾄﾘｰ票!$AX$16:$AZ$205,2,0)))","v":""}]
[25,{"$f":"IF(ISERROR(VLOOKUP(A48*10-9+2000,ｴﾝﾄﾘｰ票!C$15:AI$215,3,0)),\"\",VLOOKUP(A48*10-9+2000,ｴﾝﾄﾘｰ票!C$15:AI$215,3,0))","v":""},{"$f":"IF(B48=\"\",\"\",CONCATENATE(VLOOKUP(B48,ｴﾝﾄﾘｰ票!$E$16:$L$215,2,0),\"　\",VLOOKUP(B48,ｴﾝﾄﾘｰ票!$E$16:$L$215,3,0)))","v":""},null,null,null,null,{"$f":"IF(B48=\"\",\"\",VLOOKUP(B48,ｴﾝﾄﾘｰ票!$E$16:$L$215,6,0))","v":""},null,{"$f":"IF(B48=\"\",\"\",IF(VLOOKUP(B48,ｴﾝﾄﾘｰ票!$E$16:$Y$215,10,0)=\"\",\"\",VLOOKUP(B48,ｴﾝﾄﾘｰ票!$E$16:$Y$215,10,0)))","v":""},null,{"$f":"IF(B48=\"\",\"\",IF(VLOOKUP(B48,ｴﾝﾄﾘｰ票!$E$16:$Y$215,14,0)=\"\",\"\",VLOOKUP(B48,ｴﾝﾄﾘｰ票!$E$16:$Y$215,14,0)))","v":""},null,{"$f":"IF(B48=\"\",\"\",IF(VLOOKUP(B48,ｴﾝﾄﾘｰ票!$E$16:$Y$215,18,0)=\"\",\"\",VLOOKUP(B48,ｴﾝﾄﾘｰ票!$E$16:$Y$215,18,0)))","v":""},{"$f":"IF(B48=\"\",\"\",IF(ISERROR(VLOOKUP(B48,ｴﾝﾄﾘｰ票!$AR$16:$AT$205,1,0)),\"\",VLOOKUP(B48,ｴﾝﾄﾘｰ票!$AR$16:$AT$205,2,0)))","v":""},null,{"$f":"IF(B48=\"\",\"\",IF(ISERROR(VLOOKUP(B48,ｴﾝﾄﾘｰ票!$AX$16:$AZ$205,1,0)),\"\",VLOOKUP(B48,ｴﾝﾄﾘｰ票!$AX$16:$AZ$205,2,0)))","v":""}]
[26,{"$f":"IF(ISERROR(VLOOKUP(A49*10-9+2000,ｴﾝﾄﾘｰ票!C$15:AI$215,3,0)),\"\",VLOOKUP(A49*10-9+2000,ｴﾝﾄﾘｰ票!C$15:AI$215,3,0))","v":""},{"$f":"IF(B49=\"\",\"\",CONCATENATE(VLOOKUP(B49,ｴﾝﾄﾘｰ票!$E$16:$L$215,2,0),\"　\",VLOOKUP(B49,ｴﾝﾄﾘｰ票!$E$16:$L$215,3,0)))","v":""},null,null,null,null,{"$f":"IF(B49=\"\",\"\",VLOOKUP(B49,ｴﾝﾄﾘｰ票!$E$16:$L$215,6,0))","v":""},null,{"$f":"IF(B49=\"\",\"\",IF(VLOOKUP(B49,ｴﾝﾄﾘｰ票!$E$16:$Y$215,10,0)=\"\",\"\",VLOOKUP(B49,ｴﾝﾄﾘｰ票!$E$16:$Y$215,10,0)))","v":""},null,{"$f":"IF(B49=\"\",\"\",IF(VLOOKUP(B49,ｴﾝﾄﾘｰ票!$E$16:$Y$215,14,0)=\"\",\"\",VLOOKUP(B49,ｴﾝﾄﾘｰ票!$E$16:$Y$215,14,0)))","v":""},null,{"$f":"IF(B49=\"\",\"\",IF(VLOOKUP(B49,ｴﾝﾄﾘｰ票!$E$16:$Y$215,18,0)=\"\",\"\",VLOOKUP(B49,ｴﾝﾄﾘｰ票!$E$16:$Y$215,18,0)))","v":""},{"$f":"IF(B49=\"\",\"\",IF(ISERROR(VLOOKUP(B49,ｴﾝﾄﾘｰ票!$AR$16:$AT$205,1,0)),\"\",VLOOKUP(B49,ｴﾝﾄﾘｰ票!$AR$16:$AT$205,2,0)))","v":""},null,{"$f":"IF(B49=\"\",\"\",IF(ISERROR(VLOOKUP(B49,ｴﾝﾄﾘｰ票!$AX$16:$AZ$205,1,0)),\"\",VLOOKUP(B49,ｴﾝﾄﾘｰ票!$AX$16:$AZ$205,2,0)))","v":""}]
[27,{"$f":"IF(ISERROR(VLOOKUP(A50*10-9+2000,ｴﾝﾄﾘｰ票!C$15:AI$215,3,0)),\"\",VLOOKUP(A50*10-9+2000,ｴﾝﾄﾘｰ票!C$15:AI$215,3,0))","v":""},{"$f":"IF(B50=\"\",\"\",CONCATENATE(VLOOKUP(B50,ｴﾝﾄﾘｰ票!$E$16:$L$215,2,0),\"　\",VLOOKUP(B50,ｴﾝﾄﾘｰ票!$E$16:$L$215,3,0)))","v":""},null,null,null,null,{"$f":"IF(B50=\"\",\"\",VLOOKUP(B50,ｴﾝﾄﾘｰ票!$E$16:$L$215,6,0))","v":""},null,{"$f":"IF(B50=\"\",\"\",IF(VLOOKUP(B50,ｴﾝﾄﾘｰ票!$E$16:$Y$215,10,0)=\"\",\"\",VLOOKUP(B50,ｴﾝﾄﾘｰ票!$E$16:$Y$215,10,0)))","v":""},null,{"$f":"IF(B50=\"\",\"\",IF(VLOOKUP(B50,ｴﾝﾄﾘｰ票!$E$16:$Y$215,14,0)=\"\",\"\",VLOOKUP(B50,ｴﾝﾄﾘｰ票!$E$16:$Y$215,14,0)))","v":""},null,{"$f":"IF(B50=\"\",\"\",IF(VLOOKUP(B50,ｴﾝﾄﾘｰ票!$E$16:$Y$215,18,0)=\"\",\"\",VLOOKUP(B50,ｴﾝﾄﾘｰ票!$E$16:$Y$215,18,0)))","v":""},{"$f":"IF(B50=\"\",\"\",IF(ISERROR(VLOOKUP(B50,ｴﾝﾄﾘｰ票!$AR$16:$AT$205,1,0)),\"\",VLOOKUP(B50,ｴﾝﾄﾘｰ票!$AR$16:$AT$205,2,0)))","v":""},null,{"$f":"IF(B50=\"\",\"\",IF(ISERROR(VLOOKUP(B50,ｴﾝﾄﾘｰ票!$AX$16:$AZ$205,1,0)),\"\",VLOOKUP(B50,ｴﾝﾄﾘｰ票!$AX$16:$AZ$205,2,0)))","v":""}]
[28,{"$f":"IF(ISERROR(VLOOKUP(A51*10-9+2000,ｴﾝﾄﾘｰ票!C$15:AI$215,3,0)),\"\",VLOOKUP(A51*10-9+2000,ｴﾝﾄﾘｰ票!C$15:AI$215,3,0))","v":""},{"$f":"IF(B51=\"\",\"\",CONCATENATE(VLOOKUP(B51,ｴﾝﾄﾘｰ票!$E$16:$L$215,2,0),\"　\",VLOOKUP(B51,ｴﾝﾄﾘｰ票!$E$16:$L$215,3,0)))","v":""},null,null,null,null,{"$f":"IF(B51=\"\",\"\",VLOOKUP(B51,ｴﾝﾄﾘｰ票!$E$16:$L$215,6,0))","v":""},null,{"$f":"IF(B51=\"\",\"\",IF(VLOOKUP(B51,ｴﾝﾄﾘｰ票!$E$16:$Y$215,10,0)=\"\",\"\",VLOOKUP(B51,ｴﾝﾄﾘｰ票!$E$16:$Y$215,10,0)))","v":""},null,{"$f":"IF(B51=\"\",\"\",IF(VLOOKUP(B51,ｴﾝﾄﾘｰ票!$E$16:$Y$215,14,0)=\"\",\"\",VLOOKUP(B51,ｴﾝﾄﾘｰ票!$E$16:$Y$215,14,0)))","v":""},null,{"$f":"IF(B51=\"\",\"\",IF(VLOOKUP(B51,ｴﾝﾄﾘｰ票!$E$16:$Y$215,18,0)=\"\",\"\",VLOOKUP(B51,ｴﾝﾄﾘｰ票!$E$16:$Y$215,18,0)))","v":""},{"$f":"IF(B51=\"\",\"\",IF(ISERROR(VLOOKUP(B51,ｴﾝﾄﾘｰ票!$AR$16:$AT$205,1,0)),\"\",VLOOKUP(B51,ｴﾝﾄﾘｰ票!$AR$16:$AT$205,2,0)))","v":""},null,{"$f":"IF(B51=\"\",\"\",IF(ISERROR(VLOOKUP(B51,ｴﾝﾄﾘｰ票!$AX$16:$AZ$205,1,0)),\"\",VLOOKUP(B51,ｴﾝﾄﾘｰ票!$AX$16:$AZ$205,2,0)))","v":""}]
[29,{"$f":"IF(ISERROR(VLOOKUP(A52*10-9+2000,ｴﾝﾄﾘｰ票!C$15:AI$215,3,0)),\"\",VLOOKUP(A52*10-9+2000,ｴﾝﾄﾘｰ票!C$15:AI$215,3,0))","v":""},{"$f":"IF(B52=\"\",\"\",CONCATENATE(VLOOKUP(B52,ｴﾝﾄﾘｰ票!$E$16:$L$215,2,0),\"　\",VLOOKUP(B52,ｴﾝﾄﾘｰ票!$E$16:$L$215,3,0)))","v":""},null,null,null,null,{"$f":"IF(B52=\"\",\"\",VLOOKUP(B52,ｴﾝﾄﾘｰ票!$E$16:$L$215,6,0))","v":""},null,{"$f":"IF(B52=\"\",\"\",IF(VLOOKUP(B52,ｴﾝﾄﾘｰ票!$E$16:$Y$215,10,0)=\"\",\"\",VLOOKUP(B52,ｴﾝﾄﾘｰ票!$E$16:$Y$215,10,0)))","v":""},null,{"$f":"IF(B52=\"\",\"\",IF(VLOOKUP(B52,ｴﾝﾄﾘｰ票!$E$16:$Y$215,14,0)=\"\",\"\",VLOOKUP(B52,ｴﾝﾄﾘｰ票!$E$16:$Y$215,14,0)))","v":""},null,{"$f":"IF(B52=\"\",\"\",IF(VLOOKUP(B52,ｴﾝﾄﾘｰ票!$E$16:$Y$215,18,0)=\"\",\"\",VLOOKUP(B52,ｴﾝﾄﾘｰ票!$E$16:$Y$215,18,0)))","v":""},{"$f":"IF(B52=\"\",\"\",IF(ISERROR(VLOOKUP(B52,ｴﾝﾄﾘｰ票!$AR$16:$AT$205,1,0)),\"\",VLOOKUP(B52,ｴﾝﾄﾘｰ票!$AR$16:$AT$205,2,0)))","v":""},null,{"$f":"IF(B52=\"\",\"\",IF(ISERROR(VLOOKUP(B52,ｴﾝﾄﾘｰ票!$AX$16:$AZ$205,1,0)),\"\",VLOOKUP(B52,ｴﾝﾄﾘｰ票!$AX$16:$AZ$205,2,0)))","v":""}]
[30,{"$f":"IF(ISERROR(VLOOKUP(A53*10-9+2000,ｴﾝﾄﾘｰ票!C$15:AI$215,3,0)),\"\",VLOOKUP(A53*10-9+2000,ｴﾝﾄﾘｰ票!C$15:AI$215,3,0))","v":""},{"$f":"IF(B53=\"\",\"\",CONCATENATE(VLOOKUP(B53,ｴﾝﾄﾘｰ票!$E$16:$L$215,2,0),\"　\",VLOOKUP(B53,ｴﾝﾄﾘｰ票!$E$16:$L$215,3,0)))","v":""},null,null,null,null,{"$f":"IF(B53=\"\",\"\",VLOOKUP(B53,ｴﾝﾄﾘｰ票!$E$16:$L$215,6,0))","v":""},null,{"$f":"IF(B53=\"\",\"\",IF(VLOOKUP(B53,ｴﾝﾄﾘｰ票!$E$16:$Y$215,10,0)=\"\",\"\",VLOOKUP(B53,ｴﾝﾄﾘｰ票!$E$16:$Y$215,10,0)))","v":""},null,{"$f":"IF(B53=\"\",\"\",IF(VLOOKUP(B53,ｴﾝﾄﾘｰ票!$E$16:$Y$215,14,0)=\"\",\"\",VLOOKUP(B53,ｴﾝﾄﾘｰ票!$E$16:$Y$215,14,0)))","v":""},null,{"$f":"IF(B53=\"\",\"\",IF(VLOOKUP(B53,ｴﾝﾄﾘｰ票!$E$16:$Y$215,18,0)=\"\",\"\",VLOOKUP(B53,ｴﾝﾄﾘｰ票!$E$16:$Y$215,18,0)))","v":""},{"$f":"IF(B53=\"\",\"\",IF(ISERROR(VLOOKUP(B53,ｴﾝﾄﾘｰ票!$AR$16:$AT$205,1,0)),\"\",VLOOKUP(B53,ｴﾝﾄﾘｰ票!$AR$16:$AT$205,2,0)))","v":""},null,{"$f":"IF(B53=\"\",\"\",IF(ISERROR(VLOOKUP(B53,ｴﾝﾄﾘｰ票!$AX$16:$AZ$205,1,0)),\"\",VLOOKUP(B53,ｴﾝﾄﾘｰ票!$AX$16:$AZ$205,2,0)))","v":""}]
[31,{"$f":"IF(ISERROR(VLOOKUP(A54*10-9+2000,ｴﾝﾄﾘｰ票!C$15:AI$215,3,0)),\"\",VLOOKUP(A54*10-9+2000,ｴﾝﾄﾘｰ票!C$15:AI$215,3,0))","v":""},{"$f":"IF(B54=\"\",\"\",CONCATENATE(VLOOKUP(B54,ｴﾝﾄﾘｰ票!$E$16:$L$215,2,0),\"　\",VLOOKUP(B54,ｴﾝﾄﾘｰ票!$E$16:$L$215,3,0)))","v":""},null,null,null,null,{"$f":"IF(B54=\"\",\"\",VLOOKUP(B54,ｴﾝﾄﾘｰ票!$E$16:$L$215,6,0))","v":""},null,{"$f":"IF(B54=\"\",\"\",IF(VLOOKUP(B54,ｴﾝﾄﾘｰ票!$E$16:$Y$215,10,0)=\"\",\"\",VLOOKUP(B54,ｴﾝﾄﾘｰ票!$E$16:$Y$215,10,0)))","v":""},null,{"$f":"IF(B54=\"\",\"\",IF(VLOOKUP(B54,ｴﾝﾄﾘｰ票!$E$16:$Y$215,14,0)=\"\",\"\",VLOOKUP(B54,ｴﾝﾄﾘｰ票!$E$16:$Y$215,14,0)))","v":""},null,{"$f":"IF(B54=\"\",\"\",IF(VLOOKUP(B54,ｴﾝﾄﾘｰ票!$E$16:$Y$215,18,0)=\"\",\"\",VLOOKUP(B54,ｴﾝﾄﾘｰ票!$E$16:$Y$215,18,0)))","v":""},{"$f":"IF(B54=\"\",\"\",IF(ISERROR(VLOOKUP(B54,ｴﾝﾄﾘｰ票!$AR$16:$AT$205,1,0)),\"\",VLOOKUP(B54,ｴﾝﾄﾘｰ票!$AR$16:$AT$205,2,0)))","v":""},null,{"$f":"IF(B54=\"\",\"\",IF(ISERROR(VLOOKUP(B54,ｴﾝﾄﾘｰ票!$AX$16:$AZ$205,1,0)),\"\",VLOOKUP(B54,ｴﾝﾄﾘｰ票!$AX$16:$AZ$205,2,0)))","v":""}]
[32,{"$f":"IF(ISERROR(VLOOKUP(A55*10-9+2000,ｴﾝﾄﾘｰ票!C$15:AI$215,3,0)),\"\",VLOOKUP(A55*10-9+2000,ｴﾝﾄﾘｰ票!C$15:AI$215,3,0))","v":""},{"$f":"IF(B55=\"\",\"\",CONCATENATE(VLOOKUP(B55,ｴﾝﾄﾘｰ票!$E$16:$L$215,2,0),\"　\",VLOOKUP(B55,ｴﾝﾄﾘｰ票!$E$16:$L$215,3,0)))","v":""},null,null,null,null,{"$f":"IF(B55=\"\",\"\",VLOOKUP(B55,ｴﾝﾄﾘｰ票!$E$16:$L$215,6,0))","v":""},null,{"$f":"IF(B55=\"\",\"\",IF(VLOOKUP(B55,ｴﾝﾄﾘｰ票!$E$16:$Y$215,10,0)=\"\",\"\",VLOOKUP(B55,ｴﾝﾄﾘｰ票!$E$16:$Y$215,10,0)))","v":""},null,{"$f":"IF(B55=\"\",\"\",IF(VLOOKUP(B55,ｴﾝﾄﾘｰ票!$E$16:$Y$215,14,0)=\"\",\"\",VLOOKUP(B55,ｴﾝﾄﾘｰ票!$E$16:$Y$215,14,0)))","v":""},null,{"$f":"IF(B55=\"\",\"\",IF(VLOOKUP(B55,ｴﾝﾄﾘｰ票!$E$16:$Y$215,18,0)=\"\",\"\",VLOOKUP(B55,ｴﾝﾄﾘｰ票!$E$16:$Y$215,18,0)))","v":""},{"$f":"IF(B55=\"\",\"\",IF(ISERROR(VLOOKUP(B55,ｴﾝﾄﾘｰ票!$AR$16:$AT$205,1,0)),\"\",VLOOKUP(B55,ｴﾝﾄﾘｰ票!$AR$16:$AT$205,2,0)))","v":""},null,{"$f":"IF(B55=\"\",\"\",IF(ISERROR(VLOOKUP(B55,ｴﾝﾄﾘｰ票!$AX$16:$AZ$205,1,0)),\"\",VLOOKUP(B55,ｴﾝﾄﾘｰ票!$AX$16:$AZ$205,2,0)))","v":""}]
[33,{"$f":"IF(ISERROR(VLOOKUP(A56*10-9+2000,ｴﾝﾄﾘｰ票!C$15:AI$215,3,0)),\"\",VLOOKUP(A56*10-9+2000,ｴﾝﾄﾘｰ票!C$15:AI$215,3,0))","v":""},{"$f":"IF(B56=\"\",\"\",CONCATENATE(VLOOKUP(B56,ｴﾝﾄﾘｰ票!$E$16:$L$215,2,0),\"　\",VLOOKUP(B56,ｴﾝﾄﾘｰ票!$E$16:$L$215,3,0)))","v":""},null,null,null,null,{"$f":"IF(B56=\"\",\"\",VLOOKUP(B56,ｴﾝﾄﾘｰ票!$E$16:$L$215,6,0))","v":""},null,{"$f":"IF(B56=\"\",\"\",IF(VLOOKUP(B56,ｴﾝﾄﾘｰ票!$E$16:$Y$215,10,0)=\"\",\"\",VLOOKUP(B56,ｴﾝﾄﾘｰ票!$E$16:$Y$215,10,0)))","v":""},null,{"$f":"IF(B56=\"\",\"\",IF(VLOOKUP(B56,ｴﾝﾄﾘｰ票!$E$16:$Y$215,14,0)=\"\",\"\",VLOOKUP(B56,ｴﾝﾄﾘｰ票!$E$16:$Y$215,14,0)))","v":""},null,{"$f":"IF(B56=\"\",\"\",IF(VLOOKUP(B56,ｴﾝﾄﾘｰ票!$E$16:$Y$215,18,0)=\"\",\"\",VLOOKUP(B56,ｴﾝﾄﾘｰ票!$E$16:$Y$215,18,0)))","v":""},{"$f":"IF(B56=\"\",\"\",IF(ISERROR(VLOOKUP(B56,ｴﾝﾄﾘｰ票!$AR$16:$AT$205,1,0)),\"\",VLOOKUP(B56,ｴﾝﾄﾘｰ票!$AR$16:$AT$205,2,0)))","v":""},null,{"$f":"IF(B56=\"\",\"\",IF(ISERROR(VLOOKUP(B56,ｴﾝﾄﾘｰ票!$AX$16:$AZ$205,1,0)),\"\",VLOOKUP(B56,ｴﾝﾄﾘｰ票!$AX$16:$AZ$205,2,0)))","v":""}]
[34,{"$f":"IF(ISERROR(VLOOKUP(A57*10-9+2000,ｴﾝﾄﾘｰ票!C$15:AI$215,3,0)),\"\",VLOOKUP(A57*10-9+2000,ｴﾝﾄﾘｰ票!C$15:AI$215,3,0))","v":""},{"$f":"IF(B57=\"\",\"\",CONCATENATE(VLOOKUP(B57,ｴﾝﾄﾘｰ票!$E$16:$L$215,2,0),\"　\",VLOOKUP(B57,ｴﾝﾄﾘｰ票!$E$16:$L$215,3,0)))","v":""},null,null,null,null,{"$f":"IF(B57=\"\",\"\",VLOOKUP(B57,ｴﾝﾄﾘｰ票!$E$16:$L$215,6,0))","v":""},null,{"$f":"IF(B57=\"\",\"\",IF(VLOOKUP(B57,ｴﾝﾄﾘｰ票!$E$16:$Y$215,10,0)=\"\",\"\",VLOOKUP(B57,ｴﾝﾄﾘｰ票!$E$16:$Y$215,10,0)))","v":""},null,{"$f":"IF(B57=\"\",\"\",IF(VLOOKUP(B57,ｴﾝﾄﾘｰ票!$E$16:$Y$215,14,0)=\"\",\"\",VLOOKUP(B57,ｴﾝﾄﾘｰ票!$E$16:$Y$215,14,0)))","v":""},null,{"$f":"IF(B57=\"\",\"\",IF(VLOOKUP(B57,ｴﾝﾄﾘｰ票!$E$16:$Y$215,18,0)=\"\",\"\",VLOOKUP(B57,ｴﾝﾄﾘｰ票!$E$16:$Y$215,18,0)))","v":""},{"$f":"IF(B57=\"\",\"\",IF(ISERROR(VLOOKUP(B57,ｴﾝﾄﾘｰ票!$AR$16:$AT$205,1,0)),\"\",VLOOKUP(B57,ｴﾝﾄﾘｰ票!$AR$16:$AT$205,2,0)))","v":""},null,{"$f":"IF(B57=\"\",\"\",IF(ISERROR(VLOOKUP(B57,ｴﾝﾄﾘｰ票!$AX$16:$AZ$205,1,0)),\"\",VLOOKUP(B57,ｴﾝﾄﾘｰ票!$AX$16:$AZ$205,2,0)))","v":""}]
[35,{"$f":"IF(ISERROR(VLOOKUP(A58*10-9+2000,ｴﾝﾄﾘｰ票!C$15:AI$215,3,0)),\"\",VLOOKUP(A58*10-9+2000,ｴﾝﾄﾘｰ票!C$15:AI$215,3,0))","v":""},{"$f":"IF(B58=\"\",\"\",CONCATENATE(VLOOKUP(B58,ｴﾝﾄﾘｰ票!$E$16:$L$215,2,0),\"　\",VLOOKUP(B58,ｴﾝﾄﾘｰ票!$E$16:$L$215,3,0)))","v":""},null,null,null,null,{"$f":"IF(B58=\"\",\"\",VLOOKUP(B58,ｴﾝﾄﾘｰ票!$E$16:$L$215,6,0))","v":""},null,{"$f":"IF(B58=\"\",\"\",IF(VLOOKUP(B58,ｴﾝﾄﾘｰ票!$E$16:$Y$215,10,0)=\"\",\"\",VLOOKUP(B58,ｴﾝﾄﾘｰ票!$E$16:$Y$215,10,0)))","v":""},null,{"$f":"IF(B58=\"\",\"\",IF(VLOOKUP(B58,ｴﾝﾄﾘｰ票!$E$16:$Y$215,14,0)=\"\",\"\",VLOOKUP(B58,ｴﾝﾄﾘｰ票!$E$16:$Y$215,14,0)))","v":""},null,{"$f":"IF(B58=\"\",\"\",IF(VLOOKUP(B58,ｴﾝﾄﾘｰ票!$E$16:$Y$215,18,0)=\"\",\"\",VLOOKUP(B58,ｴﾝﾄﾘｰ票!$E$16:$Y$215,18,0)))","v":""},{"$f":"IF(B58=\"\",\"\",IF(ISERROR(VLOOKUP(B58,ｴﾝﾄﾘｰ票!$AR$16:$AT$205,1,0)),\"\",VLOOKUP(B58,ｴﾝﾄﾘｰ票!$AR$16:$AT$205,2,0)))","v":""},null,{"$f":"IF(B58=\"\",\"\",IF(ISERROR(VLOOKUP(B58,ｴﾝﾄﾘｰ票!$AX$16:$AZ$205,1,0)),\"\",VLOOKUP(B58,ｴﾝﾄﾘｰ票!$AX$16:$AZ$205,2,0)))","v":""}]
[36,{"$f":"IF(ISERROR(VLOOKUP(A59*10-9+2000,ｴﾝﾄﾘｰ票!C$15:AI$215,3,0)),\"\",VLOOKUP(A59*10-9+2000,ｴﾝﾄﾘｰ票!C$15:AI$215,3,0))","v":""},{"$f":"IF(B59=\"\",\"\",CONCATENATE(VLOOKUP(B59,ｴﾝﾄﾘｰ票!$E$16:$L$215,2,0),\"　\",VLOOKUP(B59,ｴﾝﾄﾘｰ票!$E$16:$L$215,3,0)))","v":""},null,null,null,null,{"$f":"IF(B59=\"\",\"\",VLOOKUP(B59,ｴﾝﾄﾘｰ票!$E$16:$L$215,6,0))","v":""},null,{"$f":"IF(B59=\"\",\"\",IF(VLOOKUP(B59,ｴﾝﾄﾘｰ票!$E$16:$Y$215,10,0)=\"\",\"\",VLOOKUP(B59,ｴﾝﾄﾘｰ票!$E$16:$Y$215,10,0)))","v":""},null,{"$f":"IF(B59=\"\",\"\",IF(VLOOKUP(B59,ｴﾝﾄﾘｰ票!$E$16:$Y$215,14,0)=\"\",\"\",VLOOKUP(B59,ｴﾝﾄﾘｰ票!$E$16:$Y$215,14,0)))","v":""},null,{"$f":"IF(B59=\"\",\"\",IF(VLOOKUP(B59,ｴﾝﾄﾘｰ票!$E$16:$Y$215,18,0)=\"\",\"\",VLOOKUP(B59,ｴﾝﾄﾘｰ票!$E$16:$Y$215,18,0)))","v":""},{"$f":"IF(B59=\"\",\"\",IF(ISERROR(VLOOKUP(B59,ｴﾝﾄﾘｰ票!$AR$16:$AT$205,1,0)),\"\",VLOOKUP(B59,ｴﾝﾄﾘｰ票!$AR$16:$AT$205,2,0)))","v":""},null,{"$f":"IF(B59=\"\",\"\",IF(ISERROR(VLOOKUP(B59,ｴﾝﾄﾘｰ票!$AX$16:$AZ$205,1,0)),\"\",VLOOKUP(B59,ｴﾝﾄﾘｰ票!$AX$16:$AZ$205,2,0)))","v":""}]
[37,{"$f":"IF(ISERROR(VLOOKUP(A60*10-9+2000,ｴﾝﾄﾘｰ票!C$15:AI$215,3,0)),\"\",VLOOKUP(A60*10-9+2000,ｴﾝﾄﾘｰ票!C$15:AI$215,3,0))","v":""},{"$f":"IF(B60=\"\",\"\",CONCATENATE(VLOOKUP(B60,ｴﾝﾄﾘｰ票!$E$16:$L$215,2,0),\"　\",VLOOKUP(B60,ｴﾝﾄﾘｰ票!$E$16:$L$215,3,0)))","v":""},null,null,null,null,{"$f":"IF(B60=\"\",\"\",VLOOKUP(B60,ｴﾝﾄﾘｰ票!$E$16:$L$215,6,0))","v":""},null,{"$f":"IF(B60=\"\",\"\",IF(VLOOKUP(B60,ｴﾝﾄﾘｰ票!$E$16:$Y$215,10,0)=\"\",\"\",VLOOKUP(B60,ｴﾝﾄﾘｰ票!$E$16:$Y$215,10,0)))","v":""},null,{"$f":"IF(B60=\"\",\"\",IF(VLOOKUP(B60,ｴﾝﾄﾘｰ票!$E$16:$Y$215,14,0)=\"\",\"\",VLOOKUP(B60,ｴﾝﾄﾘｰ票!$E$16:$Y$215,14,0)))","v":""},null,{"$f":"IF(B60=\"\",\"\",IF(VLOOKUP(B60,ｴﾝﾄﾘｰ票!$E$16:$Y$215,18,0)=\"\",\"\",VLOOKUP(B60,ｴﾝﾄﾘｰ票!$E$16:$Y$215,18,0)))","v":""},{"$f":"IF(B60=\"\",\"\",IF(ISERROR(VLOOKUP(B60,ｴﾝﾄﾘｰ票!$AR$16:$AT$205,1,0)),\"\",VLOOKUP(B60,ｴﾝﾄﾘｰ票!$AR$16:$AT$205,2,0)))","v":""},null,{"$f":"IF(B60=\"\",\"\",IF(ISERROR(VLOOKUP(B60,ｴﾝﾄﾘｰ票!$AX$16:$AZ$205,1,0)),\"\",VLOOKUP(B60,ｴﾝﾄﾘｰ票!$AX$16:$AZ$205,2,0)))","v":""}]
[38,{"$f":"IF(ISERROR(VLOOKUP(A61*10-9+2000,ｴﾝﾄﾘｰ票!C$15:AI$215,3,0)),\"\",VLOOKUP(A61*10-9+2000,ｴﾝﾄﾘｰ票!C$15:AI$215,3,0))","v":""},{"$f":"IF(B61=\"\",\"\",CONCATENATE(VLOOKUP(B61,ｴﾝﾄﾘｰ票!$E$16:$L$215,2,0),\"　\",VLOOKUP(B61,ｴﾝﾄﾘｰ票!$E$16:$L$215,3,0)))","v":""},null,null,null,null,{"$f":"IF(B61=\"\",\"\",VLOOKUP(B61,ｴﾝﾄﾘｰ票!$E$16:$L$215,6,0))","v":""},null,{"$f":"IF(B61=\"\",\"\",IF(VLOOKUP(B61,ｴﾝﾄﾘｰ票!$E$16:$Y$215,10,0)=\"\",\"\",VLOOKUP(B61,ｴﾝﾄﾘｰ票!$E$16:$Y$215,10,0)))","v":""},null,{"$f":"IF(B61=\"\",\"\",IF(VLOOKUP(B61,ｴﾝﾄﾘｰ票!$E$16:$Y$215,14,0)=\"\",\"\",VLOOKUP(B61,ｴﾝﾄﾘｰ票!$E$16:$Y$215,14,0)))","v":""},null,{"$f":"IF(B61=\"\",\"\",IF(VLOOKUP(B61,ｴﾝﾄﾘｰ票!$E$16:$Y$215,18,0)=\"\",\"\",VLOOKUP(B61,ｴﾝﾄﾘｰ票!$E$16:$Y$215,18,0)))","v":""},{"$f":"IF(B61=\"\",\"\",IF(ISERROR(VLOOKUP(B61,ｴﾝﾄﾘｰ票!$AR$16:$AT$205,1,0)),\"\",VLOOKUP(B61,ｴﾝﾄﾘｰ票!$AR$16:$AT$205,2,0)))","v":""},null,{"$f":"IF(B61=\"\",\"\",IF(ISERROR(VLOOKUP(B61,ｴﾝﾄﾘｰ票!$AX$16:$AZ$205,1,0)),\"\",VLOOKUP(B61,ｴﾝﾄﾘｰ票!$AX$16:$AZ$205,2,0)))","v":""}]
[39,{"$f":"IF(ISERROR(VLOOKUP(A62*10-9+2000,ｴﾝﾄﾘｰ票!C$15:AI$215,3,0)),\"\",VLOOKUP(A62*10-9+2000,ｴﾝﾄﾘｰ票!C$15:AI$215,3,0))","v":""},{"$f":"IF(B62=\"\",\"\",CONCATENATE(VLOOKUP(B62,ｴﾝﾄﾘｰ票!$E$16:$L$215,2,0),\"　\",VLOOKUP(B62,ｴﾝﾄﾘｰ票!$E$16:$L$215,3,0)))","v":""},null,null,null,null,{"$f":"IF(B62=\"\",\"\",VLOOKUP(B62,ｴﾝﾄﾘｰ票!$E$16:$L$215,6,0))","v":""},null,{"$f":"IF(B62=\"\",\"\",IF(VLOOKUP(B62,ｴﾝﾄﾘｰ票!$E$16:$Y$215,10,0)=\"\",\"\",VLOOKUP(B62,ｴﾝﾄﾘｰ票!$E$16:$Y$215,10,0)))","v":""},null,{"$f":"IF(B62=\"\",\"\",IF(VLOOKUP(B62,ｴﾝﾄﾘｰ票!$E$16:$Y$215,14,0)=\"\",\"\",VLOOKUP(B62,ｴﾝﾄﾘｰ票!$E$16:$Y$215,14,0)))","v":""},null,{"$f":"IF(B62=\"\",\"\",IF(VLOOKUP(B62,ｴﾝﾄﾘｰ票!$E$16:$Y$215,18,0)=\"\",\"\",VLOOKUP(B62,ｴﾝﾄﾘｰ票!$E$16:$Y$215,18,0)))","v":""},{"$f":"IF(B62=\"\",\"\",IF(ISERROR(VLOOKUP(B62,ｴﾝﾄﾘｰ票!$AR$16:$AT$205,1,0)),\"\",VLOOKUP(B62,ｴﾝﾄﾘｰ票!$AR$16:$AT$205,2,0)))","v":""},null,{"$f":"IF(B62=\"\",\"\",IF(ISERROR(VLOOKUP(B62,ｴﾝﾄﾘｰ票!$AX$16:$AZ$205,1,0)),\"\",VLOOKUP(B62,ｴﾝﾄﾘｰ票!$AX$16:$AZ$205,2,0)))","v":""}]
[40,{"$f":"IF(ISERROR(VLOOKUP(A63*10-9+2000,ｴﾝﾄﾘｰ票!C$15:AI$215,3,0)),\"\",VLOOKUP(A63*10-9+2000,ｴﾝﾄﾘｰ票!C$15:AI$215,3,0))","v":""},{"$f":"IF(B63=\"\",\"\",CONCATENATE(VLOOKUP(B63,ｴﾝﾄﾘｰ票!$E$16:$L$215,2,0),\"　\",VLOOKUP(B63,ｴﾝﾄﾘｰ票!$E$16:$L$215,3,0)))","v":""},null,null,null,null,{"$f":"IF(B63=\"\",\"\",VLOOKUP(B63,ｴﾝﾄﾘｰ票!$E$16:$L$215,6,0))","v":""},null,{"$f":"IF(B63=\"\",\"\",IF(VLOOKUP(B63,ｴﾝﾄﾘｰ票!$E$16:$Y$215,10,0)=\"\",\"\",VLOOKUP(B63,ｴﾝﾄﾘｰ票!$E$16:$Y$215,10,0)))","v":""},null,{"$f":"IF(B63=\"\",\"\",IF(VLOOKUP(B63,ｴﾝﾄﾘｰ票!$E$16:$Y$215,14,0)=\"\",\"\",VLOOKUP(B63,ｴﾝﾄﾘｰ票!$E$16:$Y$215,14,0)))","v":""},null,{"$f":"IF(B63=\"\",\"\",IF(VLOOKUP(B63,ｴﾝﾄﾘｰ票!$E$16:$Y$215,18,0)=\"\",\"\",VLOOKUP(B63,ｴﾝﾄﾘｰ票!$E$16:$Y$215,18,0)))","v":""},{"$f":"IF(B63=\"\",\"\",IF(ISERROR(VLOOKUP(B63,ｴﾝﾄﾘｰ票!$AR$16:$AT$205,1,0)),\"\",VLOOKUP(B63,ｴﾝﾄﾘｰ票!$AR$16:$AT$205,2,0)))","v":""},null,{"$f":"IF(B63=\"\",\"\",IF(ISERROR(VLOOKUP(B63,ｴﾝﾄﾘｰ票!$AX$16:$AZ$205,1,0)),\"\",VLOOKUP(B63,ｴﾝﾄﾘｰ票!$AX$16:$AZ$205,2,0)))","v":""}]
[null,{"$f":"ｴﾝﾄﾘｰ票!$G$1","v":"東京都高校新人陸上競技大会第４支部予選会"},null,null,null,null,null,null,null,null,null,null,null,null,null,null,null,null,null,null,null,null,null,null,null,"申込用紙(A票）"]
[{"$f":"A2","v":"平成30年度"},null,null,null,null,null,null,null,null,null,null,null,null,null,null,null,null,null,null,null,null,null,null,"男子",null,"Ｎｏ．3"]
["学校名",null,{"$f":"ｴﾝﾄﾘｰ票!$G$2","v":0},null,null,null,null,null,null,null,"学校所在地",null,{"$f":"ｴﾝﾄﾘｰ票!$G$5","v":0}]
[null,null,null,null,null,null,null,null,null,null,"電話",null,{"$f":"ｴﾝﾄﾘｰ票!$G$6","v":"00:00:00"},null,null,null,null,"ＦＡＸ",null,{"$f":"ｴﾝﾄﾘｰ票!$G$7","v":0}]
["学校長",null,{"$f":"ｴﾝﾄﾘｰ票!$G$4","v":0},null,null,null,null,null,null,"印","顧問氏名",null,{"$f":"ｴﾝﾄﾘｰ票!$G$8","v":0},null,null,null,"印"]
[null,null,null,null,null,null,null,null,null,null,"連絡先",null,{"$f":"ｴﾝﾄﾘｰ票!$G$9","v":0}]
[]
[null,null,null,null,null,null,null,null,null,null,null,null,null,"種目",null,null,null,null,null,null,null,"本大会種目"]
[null,"番号","出場者氏名",null,null,null,null,"学年",null,"個人",null,"個人",null,"個人","4×100",null,"4×400","個人",null,"個人",null,"個人",null,"4×100","4×400"]
[41,{"$f":"IF(ISERROR(VLOOKUP(A73*10-9+2000,ｴﾝﾄﾘｰ票!C$15:AI$215,3,0)),\"\",VLOOKUP(A73*10-9+2000,ｴﾝﾄﾘｰ票!C$15:AI$215,3,0))","v":""},{"$f":"IF(B73=\"\",\"\",CONCATENATE(VLOOKUP(B73,ｴﾝﾄﾘｰ票!$E$16:$L$215,2,0),\"　\",VLOOKUP(B73,ｴﾝﾄﾘｰ票!$E$16:$L$215,3,0)))","v":""},null,null,null,null,{"$f":"IF(B73=\"\",\"\",VLOOKUP(B73,ｴﾝﾄﾘｰ票!$E$16:$L$215,6,0))","v":""},null,{"$f":"IF(B73=\"\",\"\",IF(VLOOKUP(B73,ｴﾝﾄﾘｰ票!$E$16:$Y$215,10,0)=\"\",\"\",VLOOKUP(B73,ｴﾝﾄﾘｰ票!$E$16:$Y$215,10,0)))","v":""},null,{"$f":"IF(B73=\"\",\"\",IF(VLOOKUP(B73,ｴﾝﾄﾘｰ票!$E$16:$Y$215,14,0)=\"\",\"\",VLOOKUP(B73,ｴﾝﾄﾘｰ票!$E$16:$Y$215,14,0)))","v":""},null,{"$f":"IF(B73=\"\",\"\",IF(VLOOKUP(B73,ｴﾝﾄﾘｰ票!$E$16:$Y$215,18,0)=\"\",\"\",VLOOKUP(B73,ｴﾝﾄﾘｰ票!$E$16:$Y$215,18,0)))","v":""},{"$f":"IF(B73=\"\",\"\",IF(ISERROR(VLOOKUP(B73,ｴﾝﾄﾘｰ票!$AR$16:$AT$205,1,0)),\"\",VLOOKUP(B73,ｴﾝﾄﾘｰ票!$AR$16:$AT$205,2,0)))","v":""},null,{"$f":"IF(B73=\"\",\"\",IF(ISERROR(VLOOKUP(B73,ｴﾝﾄﾘｰ票!$AX$16:$AZ$205,1,0)),\"\",VLOOKUP(B73,ｴﾝﾄﾘｰ票!$AX$16:$AZ$205,2,0)))","v":""}]
[42,{"$f":"IF(ISERROR(VLOOKUP(A74*10-9+2000,ｴﾝﾄﾘｰ票!C$15:AI$215,3,0)),\"\",VLOOKUP(A74*10-9+2000,ｴﾝﾄﾘｰ票!C$15:AI$215,3,0))","v":""},{"$f":"IF(B74=\"\",\"\",CONCATENATE(VLOOKUP(B74,ｴﾝﾄﾘｰ票!$E$16:$L$215,2,0),\"　\",VLOOKUP(B74,ｴﾝﾄﾘｰ票!$E$16:$L$215,3,0)))","v":""},null,null,null,null,{"$f":"IF(B74=\"\",\"\",VLOOKUP(B74,ｴﾝﾄﾘｰ票!$E$16:$L$215,6,0))","v":""},null,{"$f":"IF(B74=\"\",\"\",IF(VLOOKUP(B74,ｴﾝﾄﾘｰ票!$E$16:$Y$215,10,0)=\"\",\"\",VLOOKUP(B74,ｴﾝﾄﾘｰ票!$E$16:$Y$215,10,0)))","v":""},null,{"$f":"IF(B74=\"\",\"\",IF(VLOOKUP(B74,ｴﾝﾄﾘｰ票!$E$16:$Y$215,14,0)=\"\",\"\",VLOOKUP(B74,ｴﾝﾄﾘｰ票!$E$16:$Y$215,14,0)))","v":""},null,{"$f":"IF(B74=\"\",\"\",IF(VLOOKUP(B74,ｴﾝﾄﾘｰ票!$E$16:$Y$215,18,0)=\"\",\"\",VLOOKUP(B74,ｴﾝﾄﾘｰ票!$E$16:$Y$215,18,0)))","v":""},{"$f":"IF(B74=\"\",\"\",IF(ISERROR(VLOOKUP(B74,ｴﾝﾄﾘｰ票!$AR$16:$AT$205,1,0)),\"\",VLOOKUP(B74,ｴﾝﾄﾘｰ票!$AR$16:$AT$205,2,0)))","v":""},null,{"$f":"IF(B74=\"\",\"\",IF(ISERROR(VLOOKUP(B74,ｴﾝﾄﾘｰ票!$AX$16:$AZ$205,1,0)),\"\",VLOOKUP(B74,ｴﾝﾄﾘｰ票!$AX$16:$AZ$205,2,0)))","v":""}]
[43,{"$f":"IF(ISERROR(VLOOKUP(A75*10-9+2000,ｴﾝﾄﾘｰ票!C$15:AI$215,3,0)),\"\",VLOOKUP(A75*10-9+2000,ｴﾝﾄﾘｰ票!C$15:AI$215,3,0))","v":""},{"$f":"IF(B75=\"\",\"\",CONCATENATE(VLOOKUP(B75,ｴﾝﾄﾘｰ票!$E$16:$L$215,2,0),\"　\",VLOOKUP(B75,ｴﾝﾄﾘｰ票!$E$16:$L$215,3,0)))","v":""},null,null,null,null,{"$f":"IF(B75=\"\",\"\",VLOOKUP(B75,ｴﾝﾄﾘｰ票!$E$16:$L$215,6,0))","v":""},null,{"$f":"IF(B75=\"\",\"\",IF(VLOOKUP(B75,ｴﾝﾄﾘｰ票!$E$16:$Y$215,10,0)=\"\",\"\",VLOOKUP(B75,ｴﾝﾄﾘｰ票!$E$16:$Y$215,10,0)))","v":""},null,{"$f":"IF(B75=\"\",\"\",IF(VLOOKUP(B75,ｴﾝﾄﾘｰ票!$E$16:$Y$215,14,0)=\"\",\"\",VLOOKUP(B75,ｴﾝﾄﾘｰ票!$E$16:$Y$215,14,0)))","v":""},null,{"$f":"IF(B75=\"\",\"\",IF(VLOOKUP(B75,ｴﾝﾄﾘｰ票!$E$16:$Y$215,18,0)=\"\",\"\",VLOOKUP(B75,ｴﾝﾄﾘｰ票!$E$16:$Y$215,18,0)))","v":""},{"$f":"IF(B75=\"\",\"\",IF(ISERROR(VLOOKUP(B75,ｴﾝﾄﾘｰ票!$AR$16:$AT$205,1,0)),\"\",VLOOKUP(B75,ｴﾝﾄﾘｰ票!$AR$16:$AT$205,2,0)))","v":""},null,{"$f":"IF(B75=\"\",\"\",IF(ISERROR(VLOOKUP(B75,ｴﾝﾄﾘｰ票!$AX$16:$AZ$205,1,0)),\"\",VLOOKUP(B75,ｴﾝﾄﾘｰ票!$AX$16:$AZ$205,2,0)))","v":""}]
[44,{"$f":"IF(ISERROR(VLOOKUP(A76*10-9+2000,ｴﾝﾄﾘｰ票!C$15:AI$215,3,0)),\"\",VLOOKUP(A76*10-9+2000,ｴﾝﾄﾘｰ票!C$15:AI$215,3,0))","v":""},{"$f":"IF(B76=\"\",\"\",CONCATENATE(VLOOKUP(B76,ｴﾝﾄﾘｰ票!$E$16:$L$215,2,0),\"　\",VLOOKUP(B76,ｴﾝﾄﾘｰ票!$E$16:$L$215,3,0)))","v":""},null,null,null,null,{"$f":"IF(B76=\"\",\"\",VLOOKUP(B76,ｴﾝﾄﾘｰ票!$E$16:$L$215,6,0))","v":""},null,{"$f":"IF(B76=\"\",\"\",IF(VLOOKUP(B76,ｴﾝﾄﾘｰ票!$E$16:$Y$215,10,0)=\"\",\"\",VLOOKUP(B76,ｴﾝﾄﾘｰ票!$E$16:$Y$215,10,0)))","v":""},null,{"$f":"IF(B76=\"\",\"\",IF(VLOOKUP(B76,ｴﾝﾄﾘｰ票!$E$16:$Y$215,14,0)=\"\",\"\",VLOOKUP(B76,ｴﾝﾄﾘｰ票!$E$16:$Y$215,14,0)))","v":""},null,{"$f":"IF(B76=\"\",\"\",IF(VLOOKUP(B76,ｴﾝﾄﾘｰ票!$E$16:$Y$215,18,0)=\"\",\"\",VLOOKUP(B76,ｴﾝﾄﾘｰ票!$E$16:$Y$215,18,0)))","v":""},{"$f":"IF(B76=\"\",\"\",IF(ISERROR(VLOOKUP(B76,ｴﾝﾄﾘｰ票!$AR$16:$AT$205,1,0)),\"\",VLOOKUP(B76,ｴﾝﾄﾘｰ票!$AR$16:$AT$205,2,0)))","v":""},null,{"$f":"IF(B76=\"\",\"\",IF(ISERROR(VLOOKUP(B76,ｴﾝﾄﾘｰ票!$AX$16:$AZ$205,1,0)),\"\",VLOOKUP(B76,ｴﾝﾄﾘｰ票!$AX$16:$AZ$205,2,0)))","v":""}]
[45,{"$f":"IF(ISERROR(VLOOKUP(A77*10-9+2000,ｴﾝﾄﾘｰ票!C$15:AI$215,3,0)),\"\",VLOOKUP(A77*10-9+2000,ｴﾝﾄﾘｰ票!C$15:AI$215,3,0))","v":""},{"$f":"IF(B77=\"\",\"\",CONCATENATE(VLOOKUP(B77,ｴﾝﾄﾘｰ票!$E$16:$L$215,2,0),\"　\",VLOOKUP(B77,ｴﾝﾄﾘｰ票!$E$16:$L$215,3,0)))","v":""},null,null,null,null,{"$f":"IF(B77=\"\",\"\",VLOOKUP(B77,ｴﾝﾄﾘｰ票!$E$16:$L$215,6,0))","v":""},null,{"$f":"IF(B77=\"\",\"\",IF(VLOOKUP(B77,ｴﾝﾄﾘｰ票!$E$16:$Y$215,10,0)=\"\",\"\",VLOOKUP(B77,ｴﾝﾄﾘｰ票!$E$16:$Y$215,10,0)))","v":""},null,{"$f":"IF(B77=\"\",\"\",IF(VLOOKUP(B77,ｴﾝﾄﾘｰ票!$E$16:$Y$215,14,0)=\"\",\"\",VLOOKUP(B77,ｴﾝﾄﾘｰ票!$E$16:$Y$215,14,0)))","v":""},null,{"$f":"IF(B77=\"\",\"\",IF(VLOOKUP(B77,ｴﾝﾄﾘｰ票!$E$16:$Y$215,18,0)=\"\",\"\",VLOOKUP(B77,ｴﾝﾄﾘｰ票!$E$16:$Y$215,18,0)))","v":""},{"$f":"IF(B77=\"\",\"\",IF(ISERROR(VLOOKUP(B77,ｴﾝﾄﾘｰ票!$AR$16:$AT$205,1,0)),\"\",VLOOKUP(B77,ｴﾝﾄﾘｰ票!$AR$16:$AT$205,2,0)))","v":""},null,{"$f":"IF(B77=\"\",\"\",IF(ISERROR(VLOOKUP(B77,ｴﾝﾄﾘｰ票!$AX$16:$AZ$205,1,0)),\"\",VLOOKUP(B77,ｴﾝﾄﾘｰ票!$AX$16:$AZ$205,2,0)))","v":""}]
[46,{"$f":"IF(ISERROR(VLOOKUP(A78*10-9+2000,ｴﾝﾄﾘｰ票!C$15:AI$215,3,0)),\"\",VLOOKUP(A78*10-9+2000,ｴﾝﾄﾘｰ票!C$15:AI$215,3,0))","v":""},{"$f":"IF(B78=\"\",\"\",CONCATENATE(VLOOKUP(B78,ｴﾝﾄﾘｰ票!$E$16:$L$215,2,0),\"　\",VLOOKUP(B78,ｴﾝﾄﾘｰ票!$E$16:$L$215,3,0)))","v":""},null,null,null,null,{"$f":"IF(B78=\"\",\"\",VLOOKUP(B78,ｴﾝﾄﾘｰ票!$E$16:$L$215,6,0))","v":""},null,{"$f":"IF(B78=\"\",\"\",IF(VLOOKUP(B78,ｴﾝﾄﾘｰ票!$E$16:$Y$215,10,0)=\"\",\"\",VLOOKUP(B78,ｴﾝﾄﾘｰ票!$E$16:$Y$215,10,0)))","v":""},null,{"$f":"IF(B78=\"\",\"\",IF(VLOOKUP(B78,ｴﾝﾄﾘｰ票!$E$16:$Y$215,14,0)=\"\",\"\",VLOOKUP(B78,ｴﾝﾄﾘｰ票!$E$16:$Y$215,14,0)))","v":""},null,{"$f":"IF(B78=\"\",\"\",IF(VLOOKUP(B78,ｴﾝﾄﾘｰ票!$E$16:$Y$215,18,0)=\"\",\"\",VLOOKUP(B78,ｴﾝﾄﾘｰ票!$E$16:$Y$215,18,0)))","v":""},{"$f":"IF(B78=\"\",\"\",IF(ISERROR(VLOOKUP(B78,ｴﾝﾄﾘｰ票!$AR$16:$AT$205,1,0)),\"\",VLOOKUP(B78,ｴﾝﾄﾘｰ票!$AR$16:$AT$205,2,0)))","v":""},null,{"$f":"IF(B78=\"\",\"\",IF(ISERROR(VLOOKUP(B78,ｴﾝﾄﾘｰ票!$AX$16:$AZ$205,1,0)),\"\",VLOOKUP(B78,ｴﾝﾄﾘｰ票!$AX$16:$AZ$205,2,0)))","v":""}]
[47,{"$f":"IF(ISERROR(VLOOKUP(A79*10-9+2000,ｴﾝﾄﾘｰ票!C$15:AI$215,3,0)),\"\",VLOOKUP(A79*10-9+2000,ｴﾝﾄﾘｰ票!C$15:AI$215,3,0))","v":""},{"$f":"IF(B79=\"\",\"\",CONCATENATE(VLOOKUP(B79,ｴﾝﾄﾘｰ票!$E$16:$L$215,2,0),\"　\",VLOOKUP(B79,ｴﾝﾄﾘｰ票!$E$16:$L$215,3,0)))","v":""},null,null,null,null,{"$f":"IF(B79=\"\",\"\",VLOOKUP(B79,ｴﾝﾄﾘｰ票!$E$16:$L$215,6,0))","v":""},null,{"$f":"IF(B79=\"\",\"\",IF(VLOOKUP(B79,ｴﾝﾄﾘｰ票!$E$16:$Y$215,10,0)=\"\",\"\",VLOOKUP(B79,ｴﾝﾄﾘｰ票!$E$16:$Y$215,10,0)))","v":""},null,{"$f":"IF(B79=\"\",\"\",IF(VLOOKUP(B79,ｴﾝﾄﾘｰ票!$E$16:$Y$215,14,0)=\"\",\"\",VLOOKUP(B79,ｴﾝﾄﾘｰ票!$E$16:$Y$215,14,0)))","v":""},null,{"$f":"IF(B79=\"\",\"\",IF(VLOOKUP(B79,ｴﾝﾄﾘｰ票!$E$16:$Y$215,18,0)=\"\",\"\",VLOOKUP(B79,ｴﾝﾄﾘｰ票!$E$16:$Y$215,18,0)))","v":""},{"$f":"IF(B79=\"\",\"\",IF(ISERROR(VLOOKUP(B79,ｴﾝﾄﾘｰ票!$AR$16:$AT$205,1,0)),\"\",VLOOKUP(B79,ｴﾝﾄﾘｰ票!$AR$16:$AT$205,2,0)))","v":""},null,{"$f":"IF(B79=\"\",\"\",IF(ISERROR(VLOOKUP(B79,ｴﾝﾄﾘｰ票!$AX$16:$AZ$205,1,0)),\"\",VLOOKUP(B79,ｴﾝﾄﾘｰ票!$AX$16:$AZ$205,2,0)))","v":""}]
[48,{"$f":"IF(ISERROR(VLOOKUP(A80*10-9+2000,ｴﾝﾄﾘｰ票!C$15:AI$215,3,0)),\"\",VLOOKUP(A80*10-9+2000,ｴﾝﾄﾘｰ票!C$15:AI$215,3,0))","v":""},{"$f":"IF(B80=\"\",\"\",CONCATENATE(VLOOKUP(B80,ｴﾝﾄﾘｰ票!$E$16:$L$215,2,0),\"　\",VLOOKUP(B80,ｴﾝﾄﾘｰ票!$E$16:$L$215,3,0)))","v":""},null,null,null,null,{"$f":"IF(B80=\"\",\"\",VLOOKUP(B80,ｴﾝﾄﾘｰ票!$E$16:$L$215,6,0))","v":""},null,{"$f":"IF(B80=\"\",\"\",IF(VLOOKUP(B80,ｴﾝﾄﾘｰ票!$E$16:$Y$215,10,0)=\"\",\"\",VLOOKUP(B80,ｴﾝﾄﾘｰ票!$E$16:$Y$215,10,0)))","v":""},null,{"$f":"IF(B80=\"\",\"\",IF(VLOOKUP(B80,ｴﾝﾄﾘｰ票!$E$16:$Y$215,14,0)=\"\",\"\",VLOOKUP(B80,ｴﾝﾄﾘｰ票!$E$16:$Y$215,14,0)))","v":""},null,{"$f":"IF(B80=\"\",\"\",IF(VLOOKUP(B80,ｴﾝﾄﾘｰ票!$E$16:$Y$215,18,0)=\"\",\"\",VLOOKUP(B80,ｴﾝﾄﾘｰ票!$E$16:$Y$215,18,0)))","v":""},{"$f":"IF(B80=\"\",\"\",IF(ISERROR(VLOOKUP(B80,ｴﾝﾄﾘｰ票!$AR$16:$AT$205,1,0)),\"\",VLOOKUP(B80,ｴﾝﾄﾘｰ票!$AR$16:$AT$205,2,0)))","v":""},null,{"$f":"IF(B80=\"\",\"\",IF(ISERROR(VLOOKUP(B80,ｴﾝﾄﾘｰ票!$AX$16:$AZ$205,1,0)),\"\",VLOOKUP(B80,ｴﾝﾄﾘｰ票!$AX$16:$AZ$205,2,0)))","v":""}]
[49,{"$f":"IF(ISERROR(VLOOKUP(A81*10-9+2000,ｴﾝﾄﾘｰ票!C$15:AI$215,3,0)),\"\",VLOOKUP(A81*10-9+2000,ｴﾝﾄﾘｰ票!C$15:AI$215,3,0))","v":""},{"$f":"IF(B81=\"\",\"\",CONCATENATE(VLOOKUP(B81,ｴﾝﾄﾘｰ票!$E$16:$L$215,2,0),\"　\",VLOOKUP(B81,ｴﾝﾄﾘｰ票!$E$16:$L$215,3,0)))","v":""},null,null,null,null,{"$f":"IF(B81=\"\",\"\",VLOOKUP(B81,ｴﾝﾄﾘｰ票!$E$16:$L$215,6,0))","v":""},null,{"$f":"IF(B81=\"\",\"\",IF(VLOOKUP(B81,ｴﾝﾄﾘｰ票!$E$16:$Y$215,10,0)=\"\",\"\",VLOOKUP(B81,ｴﾝﾄﾘｰ票!$E$16:$Y$215,10,0)))","v":""},null,{"$f":"IF(B81=\"\",\"\",IF(VLOOKUP(B81,ｴﾝﾄﾘｰ票!$E$16:$Y$215,14,0)=\"\",\"\",VLOOKUP(B81,ｴﾝﾄﾘｰ票!$E$16:$Y$215,14,0)))","v":""},null,{"$f":"IF(B81=\"\",\"\",IF(VLOOKUP(B81,ｴﾝﾄﾘｰ票!$E$16:$Y$215,18,0)=\"\",\"\",VLOOKUP(B81,ｴﾝﾄﾘｰ票!$E$16:$Y$215,18,0)))","v":""},{"$f":"IF(B81=\"\",\"\",IF(ISERROR(VLOOKUP(B81,ｴﾝﾄﾘｰ票!$AR$16:$AT$205,1,0)),\"\",VLOOKUP(B81,ｴﾝﾄﾘｰ票!$AR$16:$AT$205,2,0)))","v":""},null,{"$f":"IF(B81=\"\",\"\",IF(ISERROR(VLOOKUP(B81,ｴﾝﾄﾘｰ票!$AX$16:$AZ$205,1,0)),\"\",VLOOKUP(B81,ｴﾝﾄﾘｰ票!$AX$16:$AZ$205,2,0)))","v":""}]
[50,{"$f":"IF(ISERROR(VLOOKUP(A82*10-9+2000,ｴﾝﾄﾘｰ票!C$15:AI$215,3,0)),\"\",VLOOKUP(A82*10-9+2000,ｴﾝﾄﾘｰ票!C$15:AI$215,3,0))","v":""},{"$f":"IF(B82=\"\",\"\",CONCATENATE(VLOOKUP(B82,ｴﾝﾄﾘｰ票!$E$16:$L$215,2,0),\"　\",VLOOKUP(B82,ｴﾝﾄﾘｰ票!$E$16:$L$215,3,0)))","v":""},null,null,null,null,{"$f":"IF(B82=\"\",\"\",VLOOKUP(B82,ｴﾝﾄﾘｰ票!$E$16:$L$215,6,0))","v":""},null,{"$f":"IF(B82=\"\",\"\",IF(VLOOKUP(B82,ｴﾝﾄﾘｰ票!$E$16:$Y$215,10,0)=\"\",\"\",VLOOKUP(B82,ｴﾝﾄﾘｰ票!$E$16:$Y$215,10,0)))","v":""},null,{"$f":"IF(B82=\"\",\"\",IF(VLOOKUP(B82,ｴﾝﾄﾘｰ票!$E$16:$Y$215,14,0)=\"\",\"\",VLOOKUP(B82,ｴﾝﾄﾘｰ票!$E$16:$Y$215,14,0)))","v":""},null,{"$f":"IF(B82=\"\",\"\",IF(VLOOKUP(B82,ｴﾝﾄﾘｰ票!$E$16:$Y$215,18,0)=\"\",\"\",VLOOKUP(B82,ｴﾝﾄﾘｰ票!$E$16:$Y$215,18,0)))","v":""},{"$f":"IF(B82=\"\",\"\",IF(ISERROR(VLOOKUP(B82,ｴﾝﾄﾘｰ票!$AR$16:$AT$205,1,0)),\"\",VLOOKUP(B82,ｴﾝﾄﾘｰ票!$AR$16:$AT$205,2,0)))","v":""},null,{"$f":"IF(B82=\"\",\"\",IF(ISERROR(VLOOKUP(B82,ｴﾝﾄﾘｰ票!$AX$16:$AZ$205,1,0)),\"\",VLOOKUP(B82,ｴﾝﾄﾘｰ票!$AX$16:$AZ$205,2,0)))","v":""}]
[51,{"$f":"IF(ISERROR(VLOOKUP(A83*10-9+2000,ｴﾝﾄﾘｰ票!C$15:AI$215,3,0)),\"\",VLOOKUP(A83*10-9+2000,ｴﾝﾄﾘｰ票!C$15:AI$215,3,0))","v":""},{"$f":"IF(B83=\"\",\"\",CONCATENATE(VLOOKUP(B83,ｴﾝﾄﾘｰ票!$E$16:$L$215,2,0),\"　\",VLOOKUP(B83,ｴﾝﾄﾘｰ票!$E$16:$L$215,3,0)))","v":""},null,null,null,null,{"$f":"IF(B83=\"\",\"\",VLOOKUP(B83,ｴﾝﾄﾘｰ票!$E$16:$L$215,6,0))","v":""},null,{"$f":"IF(B83=\"\",\"\",IF(VLOOKUP(B83,ｴﾝﾄﾘｰ票!$E$16:$Y$215,10,0)=\"\",\"\",VLOOKUP(B83,ｴﾝﾄﾘｰ票!$E$16:$Y$215,10,0)))","v":""},null,{"$f":"IF(B83=\"\",\"\",IF(VLOOKUP(B83,ｴﾝﾄﾘｰ票!$E$16:$Y$215,14,0)=\"\",\"\",VLOOKUP(B83,ｴﾝﾄﾘｰ票!$E$16:$Y$215,14,0)))","v":""},null,{"$f":"IF(B83=\"\",\"\",IF(VLOOKUP(B83,ｴﾝﾄﾘｰ票!$E$16:$Y$215,18,0)=\"\",\"\",VLOOKUP(B83,ｴﾝﾄﾘｰ票!$E$16:$Y$215,18,0)))","v":""},{"$f":"IF(B83=\"\",\"\",IF(ISERROR(VLOOKUP(B83,ｴﾝﾄﾘｰ票!$AR$16:$AT$205,1,0)),\"\",VLOOKUP(B83,ｴﾝﾄﾘｰ票!$AR$16:$AT$205,2,0)))","v":""},null,{"$f":"IF(B83=\"\",\"\",IF(ISERROR(VLOOKUP(B83,ｴﾝﾄﾘｰ票!$AX$16:$AZ$205,1,0)),\"\",VLOOKUP(B83,ｴﾝﾄﾘｰ票!$AX$16:$AZ$205,2,0)))","v":""}]
[52,{"$f":"IF(ISERROR(VLOOKUP(A84*10-9+2000,ｴﾝﾄﾘｰ票!C$15:AI$215,3,0)),\"\",VLOOKUP(A84*10-9+2000,ｴﾝﾄﾘｰ票!C$15:AI$215,3,0))","v":""},{"$f":"IF(B84=\"\",\"\",CONCATENATE(VLOOKUP(B84,ｴﾝﾄﾘｰ票!$E$16:$L$215,2,0),\"　\",VLOOKUP(B84,ｴﾝﾄﾘｰ票!$E$16:$L$215,3,0)))","v":""},null,null,null,null,{"$f":"IF(B84=\"\",\"\",VLOOKUP(B84,ｴﾝﾄﾘｰ票!$E$16:$L$215,6,0))","v":""},null,{"$f":"IF(B84=\"\",\"\",IF(VLOOKUP(B84,ｴﾝﾄﾘｰ票!$E$16:$Y$215,10,0)=\"\",\"\",VLOOKUP(B84,ｴﾝﾄﾘｰ票!$E$16:$Y$215,10,0)))","v":""},null,{"$f":"IF(B84=\"\",\"\",IF(VLOOKUP(B84,ｴﾝﾄﾘｰ票!$E$16:$Y$215,14,0)=\"\",\"\",VLOOKUP(B84,ｴﾝﾄﾘｰ票!$E$16:$Y$215,14,0)))","v":""},null,{"$f":"IF(B84=\"\",\"\",IF(VLOOKUP(B84,ｴﾝﾄﾘｰ票!$E$16:$Y$215,18,0)=\"\",\"\",VLOOKUP(B84,ｴﾝﾄﾘｰ票!$E$16:$Y$215,18,0)))","v":""},{"$f":"IF(B84=\"\",\"\",IF(ISERROR(VLOOKUP(B84,ｴﾝﾄﾘｰ票!$AR$16:$AT$205,1,0)),\"\",VLOOKUP(B84,ｴﾝﾄﾘｰ票!$AR$16:$AT$205,2,0)))","v":""},null,{"$f":"IF(B84=\"\",\"\",IF(ISERROR(VLOOKUP(B84,ｴﾝﾄﾘｰ票!$AX$16:$AZ$205,1,0)),\"\",VLOOKUP(B84,ｴﾝﾄﾘｰ票!$AX$16:$AZ$205,2,0)))","v":""}]
[53,{"$f":"IF(ISERROR(VLOOKUP(A85*10-9+2000,ｴﾝﾄﾘｰ票!C$15:AI$215,3,0)),\"\",VLOOKUP(A85*10-9+2000,ｴﾝﾄﾘｰ票!C$15:AI$215,3,0))","v":""},{"$f":"IF(B85=\"\",\"\",CONCATENATE(VLOOKUP(B85,ｴﾝﾄﾘｰ票!$E$16:$L$215,2,0),\"　\",VLOOKUP(B85,ｴﾝﾄﾘｰ票!$E$16:$L$215,3,0)))","v":""},null,null,null,null,{"$f":"IF(B85=\"\",\"\",VLOOKUP(B85,ｴﾝﾄﾘｰ票!$E$16:$L$215,6,0))","v":""},null,{"$f":"IF(B85=\"\",\"\",IF(VLOOKUP(B85,ｴﾝﾄﾘｰ票!$E$16:$Y$215,10,0)=\"\",\"\",VLOOKUP(B85,ｴﾝﾄﾘｰ票!$E$16:$Y$215,10,0)))","v":""},null,{"$f":"IF(B85=\"\",\"\",IF(VLOOKUP(B85,ｴﾝﾄﾘｰ票!$E$16:$Y$215,14,0)=\"\",\"\",VLOOKUP(B85,ｴﾝﾄﾘｰ票!$E$16:$Y$215,14,0)))","v":""},null,{"$f":"IF(B85=\"\",\"\",IF(VLOOKUP(B85,ｴﾝﾄﾘｰ票!$E$16:$Y$215,18,0)=\"\",\"\",VLOOKUP(B85,ｴﾝﾄﾘｰ票!$E$16:$Y$215,18,0)))","v":""},{"$f":"IF(B85=\"\",\"\",IF(ISERROR(VLOOKUP(B85,ｴﾝﾄﾘｰ票!$AR$16:$AT$205,1,0)),\"\",VLOOKUP(B85,ｴﾝﾄﾘｰ票!$AR$16:$AT$205,2,0)))","v":""},null,{"$f":"IF(B85=\"\",\"\",IF(ISERROR(VLOOKUP(B85,ｴﾝﾄﾘｰ票!$AX$16:$AZ$205,1,0)),\"\",VLOOKUP(B85,ｴﾝﾄﾘｰ票!$AX$16:$AZ$205,2,0)))","v":""}]
[54,{"$f":"IF(ISERROR(VLOOKUP(A86*10-9+2000,ｴﾝﾄﾘｰ票!C$15:AI$215,3,0)),\"\",VLOOKUP(A86*10-9+2000,ｴﾝﾄﾘｰ票!C$15:AI$215,3,0))","v":""},{"$f":"IF(B86=\"\",\"\",CONCATENATE(VLOOKUP(B86,ｴﾝﾄﾘｰ票!$E$16:$L$215,2,0),\"　\",VLOOKUP(B86,ｴﾝﾄﾘｰ票!$E$16:$L$215,3,0)))","v":""},null,null,null,null,{"$f":"IF(B86=\"\",\"\",VLOOKUP(B86,ｴﾝﾄﾘｰ票!$E$16:$L$215,6,0))","v":""},null,{"$f":"IF(B86=\"\",\"\",IF(VLOOKUP(B86,ｴﾝﾄﾘｰ票!$E$16:$Y$215,10,0)=\"\",\"\",VLOOKUP(B86,ｴﾝﾄﾘｰ票!$E$16:$Y$215,10,0)))","v":""},null,{"$f":"IF(B86=\"\",\"\",IF(VLOOKUP(B86,ｴﾝﾄﾘｰ票!$E$16:$Y$215,14,0)=\"\",\"\",VLOOKUP(B86,ｴﾝﾄﾘｰ票!$E$16:$Y$215,14,0)))","v":""},null,{"$f":"IF(B86=\"\",\"\",IF(VLOOKUP(B86,ｴﾝﾄﾘｰ票!$E$16:$Y$215,18,0)=\"\",\"\",VLOOKUP(B86,ｴﾝﾄﾘｰ票!$E$16:$Y$215,18,0)))","v":""},{"$f":"IF(B86=\"\",\"\",IF(ISERROR(VLOOKUP(B86,ｴﾝﾄﾘｰ票!$AR$16:$AT$205,1,0)),\"\",VLOOKUP(B86,ｴﾝﾄﾘｰ票!$AR$16:$AT$205,2,0)))","v":""},null,{"$f":"IF(B86=\"\",\"\",IF(ISERROR(VLOOKUP(B86,ｴﾝﾄﾘｰ票!$AX$16:$AZ$205,1,0)),\"\",VLOOKUP(B86,ｴﾝﾄﾘｰ票!$AX$16:$AZ$205,2,0)))","v":""}]
[55,{"$f":"IF(ISERROR(VLOOKUP(A87*10-9+2000,ｴﾝﾄﾘｰ票!C$15:AI$215,3,0)),\"\",VLOOKUP(A87*10-9+2000,ｴﾝﾄﾘｰ票!C$15:AI$215,3,0))","v":""},{"$f":"IF(B87=\"\",\"\",CONCATENATE(VLOOKUP(B87,ｴﾝﾄﾘｰ票!$E$16:$L$215,2,0),\"　\",VLOOKUP(B87,ｴﾝﾄﾘｰ票!$E$16:$L$215,3,0)))","v":""},null,null,null,null,{"$f":"IF(B87=\"\",\"\",VLOOKUP(B87,ｴﾝﾄﾘｰ票!$E$16:$L$215,6,0))","v":""},null,{"$f":"IF(B87=\"\",\"\",IF(VLOOKUP(B87,ｴﾝﾄﾘｰ票!$E$16:$Y$215,10,0)=\"\",\"\",VLOOKUP(B87,ｴﾝﾄﾘｰ票!$E$16:$Y$215,10,0)))","v":""},null,{"$f":"IF(B87=\"\",\"\",IF(VLOOKUP(B87,ｴﾝﾄﾘｰ票!$E$16:$Y$215,14,0)=\"\",\"\",VLOOKUP(B87,ｴﾝﾄﾘｰ票!$E$16:$Y$215,14,0)))","v":""},null,{"$f":"IF(B87=\"\",\"\",IF(VLOOKUP(B87,ｴﾝﾄﾘｰ票!$E$16:$Y$215,18,0)=\"\",\"\",VLOOKUP(B87,ｴﾝﾄﾘｰ票!$E$16:$Y$215,18,0)))","v":""},{"$f":"IF(B87=\"\",\"\",IF(ISERROR(VLOOKUP(B87,ｴﾝﾄﾘｰ票!$AR$16:$AT$205,1,0)),\"\",VLOOKUP(B87,ｴﾝﾄﾘｰ票!$AR$16:$AT$205,2,0)))","v":""},null,{"$f":"IF(B87=\"\",\"\",IF(ISERROR(VLOOKUP(B87,ｴﾝﾄﾘｰ票!$AX$16:$AZ$205,1,0)),\"\",VLOOKUP(B87,ｴﾝﾄﾘｰ票!$AX$16:$AZ$205,2,0)))","v":""}]
[56,{"$f":"IF(ISERROR(VLOOKUP(A88*10-9+2000,ｴﾝﾄﾘｰ票!C$15:AI$215,3,0)),\"\",VLOOKUP(A88*10-9+2000,ｴﾝﾄﾘｰ票!C$15:AI$215,3,0))","v":""},{"$f":"IF(B88=\"\",\"\",CONCATENATE(VLOOKUP(B88,ｴﾝﾄﾘｰ票!$E$16:$L$215,2,0),\"　\",VLOOKUP(B88,ｴﾝﾄﾘｰ票!$E$16:$L$215,3,0)))","v":""},null,null,null,null,{"$f":"IF(B88=\"\",\"\",VLOOKUP(B88,ｴﾝﾄﾘｰ票!$E$16:$L$215,6,0))","v":""},null,{"$f":"IF(B88=\"\",\"\",IF(VLOOKUP(B88,ｴﾝﾄﾘｰ票!$E$16:$Y$215,10,0)=\"\",\"\",VLOOKUP(B88,ｴﾝﾄﾘｰ票!$E$16:$Y$215,10,0)))","v":""},null,{"$f":"IF(B88=\"\",\"\",IF(VLOOKUP(B88,ｴﾝﾄﾘｰ票!$E$16:$Y$215,14,0)=\"\",\"\",VLOOKUP(B88,ｴﾝﾄﾘｰ票!$E$16:$Y$215,14,0)))","v":""},null,{"$f":"IF(B88=\"\",\"\",IF(VLOOKUP(B88,ｴﾝﾄﾘｰ票!$E$16:$Y$215,18,0)=\"\",\"\",VLOOKUP(B88,ｴﾝﾄﾘｰ票!$E$16:$Y$215,18,0)))","v":""},{"$f":"IF(B88=\"\",\"\",IF(ISERROR(VLOOKUP(B88,ｴﾝﾄﾘｰ票!$AR$16:$AT$205,1,0)),\"\",VLOOKUP(B88,ｴﾝﾄﾘｰ票!$AR$16:$AT$205,2,0)))","v":""},null,{"$f":"IF(B88=\"\",\"\",IF(ISERROR(VLOOKUP(B88,ｴﾝﾄﾘｰ票!$AX$16:$AZ$205,1,0)),\"\",VLOOKUP(B88,ｴﾝﾄﾘｰ票!$AX$16:$AZ$205,2,0)))","v":""}]
[57,{"$f":"IF(ISERROR(VLOOKUP(A89*10-9+2000,ｴﾝﾄﾘｰ票!C$15:AI$215,3,0)),\"\",VLOOKUP(A89*10-9+2000,ｴﾝﾄﾘｰ票!C$15:AI$215,3,0))","v":""},{"$f":"IF(B89=\"\",\"\",CONCATENATE(VLOOKUP(B89,ｴﾝﾄﾘｰ票!$E$16:$L$215,2,0),\"　\",VLOOKUP(B89,ｴﾝﾄﾘｰ票!$E$16:$L$215,3,0)))","v":""},null,null,null,null,{"$f":"IF(B89=\"\",\"\",VLOOKUP(B89,ｴﾝﾄﾘｰ票!$E$16:$L$215,6,0))","v":""},null,{"$f":"IF(B89=\"\",\"\",IF(VLOOKUP(B89,ｴﾝﾄﾘｰ票!$E$16:$Y$215,10,0)=\"\",\"\",VLOOKUP(B89,ｴﾝﾄﾘｰ票!$E$16:$Y$215,10,0)))","v":""},null,{"$f":"IF(B89=\"\",\"\",IF(VLOOKUP(B89,ｴﾝﾄﾘｰ票!$E$16:$Y$215,14,0)=\"\",\"\",VLOOKUP(B89,ｴﾝﾄﾘｰ票!$E$16:$Y$215,14,0)))","v":""},null,{"$f":"IF(B89=\"\",\"\",IF(VLOOKUP(B89,ｴﾝﾄﾘｰ票!$E$16:$Y$215,18,0)=\"\",\"\",VLOOKUP(B89,ｴﾝﾄﾘｰ票!$E$16:$Y$215,18,0)))","v":""},{"$f":"IF(B89=\"\",\"\",IF(ISERROR(VLOOKUP(B89,ｴﾝﾄﾘｰ票!$AR$16:$AT$205,1,0)),\"\",VLOOKUP(B89,ｴﾝﾄﾘｰ票!$AR$16:$AT$205,2,0)))","v":""},null,{"$f":"IF(B89=\"\",\"\",IF(ISERROR(VLOOKUP(B89,ｴﾝﾄﾘｰ票!$AX$16:$AZ$205,1,0)),\"\",VLOOKUP(B89,ｴﾝﾄﾘｰ票!$AX$16:$AZ$205,2,0)))","v":""}]
[58,{"$f":"IF(ISERROR(VLOOKUP(A90*10-9+2000,ｴﾝﾄﾘｰ票!C$15:AI$215,3,0)),\"\",VLOOKUP(A90*10-9+2000,ｴﾝﾄﾘｰ票!C$15:AI$215,3,0))","v":""},{"$f":"IF(B90=\"\",\"\",CONCATENATE(VLOOKUP(B90,ｴﾝﾄﾘｰ票!$E$16:$L$215,2,0),\"　\",VLOOKUP(B90,ｴﾝﾄﾘｰ票!$E$16:$L$215,3,0)))","v":""},null,null,null,null,{"$f":"IF(B90=\"\",\"\",VLOOKUP(B90,ｴﾝﾄﾘｰ票!$E$16:$L$215,6,0))","v":""},null,{"$f":"IF(B90=\"\",\"\",IF(VLOOKUP(B90,ｴﾝﾄﾘｰ票!$E$16:$Y$215,10,0)=\"\",\"\",VLOOKUP(B90,ｴﾝﾄﾘｰ票!$E$16:$Y$215,10,0)))","v":""},null,{"$f":"IF(B90=\"\",\"\",IF(VLOOKUP(B90,ｴﾝﾄﾘｰ票!$E$16:$Y$215,14,0)=\"\",\"\",VLOOKUP(B90,ｴﾝﾄﾘｰ票!$E$16:$Y$215,14,0)))","v":""},null,{"$f":"IF(B90=\"\",\"\",IF(VLOOKUP(B90,ｴﾝﾄﾘｰ票!$E$16:$Y$215,18,0)=\"\",\"\",VLOOKUP(B90,ｴﾝﾄﾘｰ票!$E$16:$Y$215,18,0)))","v":""},{"$f":"IF(B90=\"\",\"\",IF(ISERROR(VLOOKUP(B90,ｴﾝﾄﾘｰ票!$AR$16:$AT$205,1,0)),\"\",VLOOKUP(B90,ｴﾝﾄﾘｰ票!$AR$16:$AT$205,2,0)))","v":""},null,{"$f":"IF(B90=\"\",\"\",IF(ISERROR(VLOOKUP(B90,ｴﾝﾄﾘｰ票!$AX$16:$AZ$205,1,0)),\"\",VLOOKUP(B90,ｴﾝﾄﾘｰ票!$AX$16:$AZ$205,2,0)))","v":""}]
[59,{"$f":"IF(ISERROR(VLOOKUP(A91*10-9+2000,ｴﾝﾄﾘｰ票!C$15:AI$215,3,0)),\"\",VLOOKUP(A91*10-9+2000,ｴﾝﾄﾘｰ票!C$15:AI$215,3,0))","v":""},{"$f":"IF(B91=\"\",\"\",CONCATENATE(VLOOKUP(B91,ｴﾝﾄﾘｰ票!$E$16:$L$215,2,0),\"　\",VLOOKUP(B91,ｴﾝﾄﾘｰ票!$E$16:$L$215,3,0)))","v":""},null,null,null,null,{"$f":"IF(B91=\"\",\"\",VLOOKUP(B91,ｴﾝﾄﾘｰ票!$E$16:$L$215,6,0))","v":""},null,{"$f":"IF(B91=\"\",\"\",IF(VLOOKUP(B91,ｴﾝﾄﾘｰ票!$E$16:$Y$215,10,0)=\"\",\"\",VLOOKUP(B91,ｴﾝﾄﾘｰ票!$E$16:$Y$215,10,0)))","v":""},null,{"$f":"IF(B91=\"\",\"\",IF(VLOOKUP(B91,ｴﾝﾄﾘｰ票!$E$16:$Y$215,14,0)=\"\",\"\",VLOOKUP(B91,ｴﾝﾄﾘｰ票!$E$16:$Y$215,14,0)))","v":""},null,{"$f":"IF(B91=\"\",\"\",IF(VLOOKUP(B91,ｴﾝﾄﾘｰ票!$E$16:$Y$215,18,0)=\"\",\"\",VLOOKUP(B91,ｴﾝﾄﾘｰ票!$E$16:$Y$215,18,0)))","v":""},{"$f":"IF(B91=\"\",\"\",IF(ISERROR(VLOOKUP(B91,ｴﾝﾄﾘｰ票!$AR$16:$AT$205,1,0)),\"\",VLOOKUP(B91,ｴﾝﾄﾘｰ票!$AR$16:$AT$205,2,0)))","v":""},null,{"$f":"IF(B91=\"\",\"\",IF(ISERROR(VLOOKUP(B91,ｴﾝﾄﾘｰ票!$AX$16:$AZ$205,1,0)),\"\",VLOOKUP(B91,ｴﾝﾄﾘｰ票!$AX$16:$AZ$205,2,0)))","v":""}]
[60,{"$f":"IF(ISERROR(VLOOKUP(A92*10-9+2000,ｴﾝﾄﾘｰ票!C$15:AI$215,3,0)),\"\",VLOOKUP(A92*10-9+2000,ｴﾝﾄﾘｰ票!C$15:AI$215,3,0))","v":""},{"$f":"IF(B92=\"\",\"\",CONCATENATE(VLOOKUP(B92,ｴﾝﾄﾘｰ票!$E$16:$L$215,2,0),\"　\",VLOOKUP(B92,ｴﾝﾄﾘｰ票!$E$16:$L$215,3,0)))","v":""},null,null,null,null,{"$f":"IF(B92=\"\",\"\",VLOOKUP(B92,ｴﾝﾄﾘｰ票!$E$16:$L$215,6,0))","v":""},null,{"$f":"IF(B92=\"\",\"\",IF(VLOOKUP(B92,ｴﾝﾄﾘｰ票!$E$16:$Y$215,10,0)=\"\",\"\",VLOOKUP(B92,ｴﾝﾄﾘｰ票!$E$16:$Y$215,10,0)))","v":""},null,{"$f":"IF(B92=\"\",\"\",IF(VLOOKUP(B92,ｴﾝﾄﾘｰ票!$E$16:$Y$215,14,0)=\"\",\"\",VLOOKUP(B92,ｴﾝﾄﾘｰ票!$E$16:$Y$215,14,0)))","v":""},null,{"$f":"IF(B92=\"\",\"\",IF(VLOOKUP(B92,ｴﾝﾄﾘｰ票!$E$16:$Y$215,18,0)=\"\",\"\",VLOOKUP(B92,ｴﾝﾄﾘｰ票!$E$16:$Y$215,18,0)))","v":""},{"$f":"IF(B92=\"\",\"\",IF(ISERROR(VLOOKUP(B92,ｴﾝﾄﾘｰ票!$AR$16:$AT$205,1,0)),\"\",VLOOKUP(B92,ｴﾝﾄﾘｰ票!$AR$16:$AT$205,2,0)))","v":""},null,{"$f":"IF(B92=\"\",\"\",IF(ISERROR(VLOOKUP(B92,ｴﾝﾄﾘｰ票!$AX$16:$AZ$205,1,0)),\"\",VLOOKUP(B92,ｴﾝﾄﾘｰ票!$AX$16:$AZ$205,2,0)))","v":""}]
[null,{"$f":"ｴﾝﾄﾘｰ票!$G$1","v":"東京都高校新人陸上競技大会第４支部予選会"},null,null,null,null,null,null,null,null,null,null,null,null,null,null,null,null,null,null,null,null,null,null,null,"申込用紙(A票）"]
[{"$f":"A2","v":"平成30年度"},null,null,null,null,null,null,null,null,null,null,null,null,null,null,null,null,null,null,null,null,null,null,"男子",null,"Ｎｏ．4"]
["学校名",null,{"$f":"ｴﾝﾄﾘｰ票!$G$2","v":0},null,null,null,null,null,null,null,"学校所在地",null,{"$f":"ｴﾝﾄﾘｰ票!$G$5","v":0}]
[null,null,null,null,null,null,null,null,null,null,"電話",null,{"$f":"ｴﾝﾄﾘｰ票!$G$6","v":"00:00:00"},null,null,null,null,"ＦＡＸ",null,{"$f":"ｴﾝﾄﾘｰ票!$G$7","v":0}]
["学校長",null,{"$f":"ｴﾝﾄﾘｰ票!$G$4","v":0},null,null,null,null,null,null,"印","顧問氏名",null,{"$f":"ｴﾝﾄﾘｰ票!$G$8","v":0},null,null,null,"印"]
[null,null,null,null,null,null,null,null,null,null,"連絡先",null,{"$f":"ｴﾝﾄﾘｰ票!$G$9","v":0}]
[]
[null,null,null,null,null,null,null,null,null,null,null,null,null,"種目",null,null,null,null,null,null,null,"本大会種目"]
[null,"番号","出場者氏名",null,null,null,null,"学年",null,"個人",null,"個人",null,"個人","4×100",null,"4×400","個人",null,"個人",null,"個人",null,"4×100","4×400"]
[61,{"$f":"IF(ISERROR(VLOOKUP(A102*10-9+2000,ｴﾝﾄﾘｰ票!C$15:AI$215,3,0)),\"\",VLOOKUP(A102*10-9+2000,ｴﾝﾄﾘｰ票!C$15:AI$215,3,0))","v":""},{"$f":"IF(B102=\"\",\"\",CONCATENATE(VLOOKUP(B102,ｴﾝﾄﾘｰ票!$E$16:$L$215,2,0),\"　\",VLOOKUP(B102,ｴﾝﾄﾘｰ票!$E$16:$L$215,3,0)))","v":""},null,null,null,null,{"$f":"IF(B102=\"\",\"\",VLOOKUP(B102,ｴﾝﾄﾘｰ票!$E$16:$L$215,6,0))","v":""},null,{"$f":"IF(B102=\"\",\"\",IF(VLOOKUP(B102,ｴﾝﾄﾘｰ票!$E$16:$Y$215,10,0)=\"\",\"\",VLOOKUP(B102,ｴﾝﾄﾘｰ票!$E$16:$Y$215,10,0)))","v":""},null,{"$f":"IF(B102=\"\",\"\",IF(VLOOKUP(B102,ｴﾝﾄﾘｰ票!$E$16:$Y$215,14,0)=\"\",\"\",VLOOKUP(B102,ｴﾝﾄﾘｰ票!$E$16:$Y$215,14,0)))","v":""},null,{"$f":"IF(B102=\"\",\"\",IF(VLOOKUP(B102,ｴﾝﾄﾘｰ票!$E$16:$Y$215,18,0)=\"\",\"\",VLOOKUP(B102,ｴﾝﾄﾘｰ票!$E$16:$Y$215,18,0)))","v":""},{"$f":"IF(B102=\"\",\"\",IF(ISERROR(VLOOKUP(B102,ｴﾝﾄﾘｰ票!$AR$16:$AT$205,1,0)),\"\",VLOOKUP(B102,ｴﾝﾄﾘｰ票!$AR$16:$AT$205,2,0)))","v":""},null,{"$f":"IF(B102=\"\",\"\",IF(ISERROR(VLOOKUP(B102,ｴﾝﾄﾘｰ票!$AX$16:$AZ$205,1,0)),\"\",VLOOKUP(B102,ｴﾝﾄﾘｰ票!$AX$16:$AZ$205,2,0)))","v":""}]
[62,{"$f":"IF(ISERROR(VLOOKUP(A103*10-9+2000,ｴﾝﾄﾘｰ票!C$15:AI$215,3,0)),\"\",VLOOKUP(A103*10-9+2000,ｴﾝﾄﾘｰ票!C$15:AI$215,3,0))","v":""},{"$f":"IF(B103=\"\",\"\",CONCATENATE(VLOOKUP(B103,ｴﾝﾄﾘｰ票!$E$16:$L$215,2,0),\"　\",VLOOKUP(B103,ｴﾝﾄﾘｰ票!$E$16:$L$215,3,0)))","v":""},null,null,null,null,{"$f":"IF(B103=\"\",\"\",VLOOKUP(B103,ｴﾝﾄﾘｰ票!$E$16:$L$215,6,0))","v":""},null,{"$f":"IF(B103=\"\",\"\",IF(VLOOKUP(B103,ｴﾝﾄﾘｰ票!$E$16:$Y$215,10,0)=\"\",\"\",VLOOKUP(B103,ｴﾝﾄﾘｰ票!$E$16:$Y$215,10,0)))","v":""},null,{"$f":"IF(B103=\"\",\"\",IF(VLOOKUP(B103,ｴﾝﾄﾘｰ票!$E$16:$Y$215,14,0)=\"\",\"\",VLOOKUP(B103,ｴﾝﾄﾘｰ票!$E$16:$Y$215,14,0)))","v":""},null,{"$f":"IF(B103=\"\",\"\",IF(VLOOKUP(B103,ｴﾝﾄﾘｰ票!$E$16:$Y$215,18,0)=\"\",\"\",VLOOKUP(B103,ｴﾝﾄﾘｰ票!$E$16:$Y$215,18,0)))","v":""},{"$f":"IF(B103=\"\",\"\",IF(ISERROR(VLOOKUP(B103,ｴﾝﾄﾘｰ票!$AR$16:$AT$205,1,0)),\"\",VLOOKUP(B103,ｴﾝﾄﾘｰ票!$AR$16:$AT$205,2,0)))","v":""},null,{"$f":"IF(B103=\"\",\"\",IF(ISERROR(VLOOKUP(B103,ｴﾝﾄﾘｰ票!$AX$16:$AZ$205,1,0)),\"\",VLOOKUP(B103,ｴﾝﾄﾘｰ票!$AX$16:$AZ$205,2,0)))","v":""}]
[63,{"$f":"IF(ISERROR(VLOOKUP(A104*10-9+2000,ｴﾝﾄﾘｰ票!C$15:AI$215,3,0)),\"\",VLOOKUP(A104*10-9+2000,ｴﾝﾄﾘｰ票!C$15:AI$215,3,0))","v":""},{"$f":"IF(B104=\"\",\"\",CONCATENATE(VLOOKUP(B104,ｴﾝﾄﾘｰ票!$E$16:$L$215,2,0),\"　\",VLOOKUP(B104,ｴﾝﾄﾘｰ票!$E$16:$L$215,3,0)))","v":""},null,null,null,null,{"$f":"IF(B104=\"\",\"\",VLOOKUP(B104,ｴﾝﾄﾘｰ票!$E$16:$L$215,6,0))","v":""},null,{"$f":"IF(B104=\"\",\"\",IF(VLOOKUP(B104,ｴﾝﾄﾘｰ票!$E$16:$Y$215,10,0)=\"\",\"\",VLOOKUP(B104,ｴﾝﾄﾘｰ票!$E$16:$Y$215,10,0)))","v":""},null,{"$f":"IF(B104=\"\",\"\",IF(VLOOKUP(B104,ｴﾝﾄﾘｰ票!$E$16:$Y$215,14,0)=\"\",\"\",VLOOKUP(B104,ｴﾝﾄﾘｰ票!$E$16:$Y$215,14,0)))","v":""},null,{"$f":"IF(B104=\"\",\"\",IF(VLOOKUP(B104,ｴﾝﾄﾘｰ票!$E$16:$Y$215,18,0)=\"\",\"\",VLOOKUP(B104,ｴﾝﾄﾘｰ票!$E$16:$Y$215,18,0)))","v":""},{"$f":"IF(B104=\"\",\"\",IF(ISERROR(VLOOKUP(B104,ｴﾝﾄﾘｰ票!$AR$16:$AT$205,1,0)),\"\",VLOOKUP(B104,ｴﾝﾄﾘｰ票!$AR$16:$AT$205,2,0)))","v":""},null,{"$f":"IF(B104=\"\",\"\",IF(ISERROR(VLOOKUP(B104,ｴﾝﾄﾘｰ票!$AX$16:$AZ$205,1,0)),\"\",VLOOKUP(B104,ｴﾝﾄﾘｰ票!$AX$16:$AZ$205,2,0)))","v":""}]
[64,{"$f":"IF(ISERROR(VLOOKUP(A105*10-9+2000,ｴﾝﾄﾘｰ票!C$15:AI$215,3,0)),\"\",VLOOKUP(A105*10-9+2000,ｴﾝﾄﾘｰ票!C$15:AI$215,3,0))","v":""},{"$f":"IF(B105=\"\",\"\",CONCATENATE(VLOOKUP(B105,ｴﾝﾄﾘｰ票!$E$16:$L$215,2,0),\"　\",VLOOKUP(B105,ｴﾝﾄﾘｰ票!$E$16:$L$215,3,0)))","v":""},null,null,null,null,{"$f":"IF(B105=\"\",\"\",VLOOKUP(B105,ｴﾝﾄﾘｰ票!$E$16:$L$215,6,0))","v":""},null,{"$f":"IF(B105=\"\",\"\",IF(VLOOKUP(B105,ｴﾝﾄﾘｰ票!$E$16:$Y$215,10,0)=\"\",\"\",VLOOKUP(B105,ｴﾝﾄﾘｰ票!$E$16:$Y$215,10,0)))","v":""},null,{"$f":"IF(B105=\"\",\"\",IF(VLOOKUP(B105,ｴﾝﾄﾘｰ票!$E$16:$Y$215,14,0)=\"\",\"\",VLOOKUP(B105,ｴﾝﾄﾘｰ票!$E$16:$Y$215,14,0)))","v":""},null,{"$f":"IF(B105=\"\",\"\",IF(VLOOKUP(B105,ｴﾝﾄﾘｰ票!$E$16:$Y$215,18,0)=\"\",\"\",VLOOKUP(B105,ｴﾝﾄﾘｰ票!$E$16:$Y$215,18,0)))","v":""},{"$f":"IF(B105=\"\",\"\",IF(ISERROR(VLOOKUP(B105,ｴﾝﾄﾘｰ票!$AR$16:$AT$205,1,0)),\"\",VLOOKUP(B105,ｴﾝﾄﾘｰ票!$AR$16:$AT$205,2,0)))","v":""},null,{"$f":"IF(B105=\"\",\"\",IF(ISERROR(VLOOKUP(B105,ｴﾝﾄﾘｰ票!$AX$16:$AZ$205,1,0)),\"\",VLOOKUP(B105,ｴﾝﾄﾘｰ票!$AX$16:$AZ$205,2,0)))","v":""}]
[65,{"$f":"IF(ISERROR(VLOOKUP(A106*10-9+2000,ｴﾝﾄﾘｰ票!C$15:AI$215,3,0)),\"\",VLOOKUP(A106*10-9+2000,ｴﾝﾄﾘｰ票!C$15:AI$215,3,0))","v":""},{"$f":"IF(B106=\"\",\"\",CONCATENATE(VLOOKUP(B106,ｴﾝﾄﾘｰ票!$E$16:$L$215,2,0),\"　\",VLOOKUP(B106,ｴﾝﾄﾘｰ票!$E$16:$L$215,3,0)))","v":""},null,null,null,null,{"$f":"IF(B106=\"\",\"\",VLOOKUP(B106,ｴﾝﾄﾘｰ票!$E$16:$L$215,6,0))","v":""},null,{"$f":"IF(B106=\"\",\"\",IF(VLOOKUP(B106,ｴﾝﾄﾘｰ票!$E$16:$Y$215,10,0)=\"\",\"\",VLOOKUP(B106,ｴﾝﾄﾘｰ票!$E$16:$Y$215,10,0)))","v":""},null,{"$f":"IF(B106=\"\",\"\",IF(VLOOKUP(B106,ｴﾝﾄﾘｰ票!$E$16:$Y$215,14,0)=\"\",\"\",VLOOKUP(B106,ｴﾝﾄﾘｰ票!$E$16:$Y$215,14,0)))","v":""},null,{"$f":"IF(B106=\"\",\"\",IF(VLOOKUP(B106,ｴﾝﾄﾘｰ票!$E$16:$Y$215,18,0)=\"\",\"\",VLOOKUP(B106,ｴﾝﾄﾘｰ票!$E$16:$Y$215,18,0)))","v":""},{"$f":"IF(B106=\"\",\"\",IF(ISERROR(VLOOKUP(B106,ｴﾝﾄﾘｰ票!$AR$16:$AT$205,1,0)),\"\",VLOOKUP(B106,ｴﾝﾄﾘｰ票!$AR$16:$AT$205,2,0)))","v":""},null,{"$f":"IF(B106=\"\",\"\",IF(ISERROR(VLOOKUP(B106,ｴﾝﾄﾘｰ票!$AX$16:$AZ$205,1,0)),\"\",VLOOKUP(B106,ｴﾝﾄﾘｰ票!$AX$16:$AZ$205,2,0)))","v":""}]
[66,{"$f":"IF(ISERROR(VLOOKUP(A107*10-9+2000,ｴﾝﾄﾘｰ票!C$15:AI$215,3,0)),\"\",VLOOKUP(A107*10-9+2000,ｴﾝﾄﾘｰ票!C$15:AI$215,3,0))","v":""},{"$f":"IF(B107=\"\",\"\",CONCATENATE(VLOOKUP(B107,ｴﾝﾄﾘｰ票!$E$16:$L$215,2,0),\"　\",VLOOKUP(B107,ｴﾝﾄﾘｰ票!$E$16:$L$215,3,0)))","v":""},null,null,null,null,{"$f":"IF(B107=\"\",\"\",VLOOKUP(B107,ｴﾝﾄﾘｰ票!$E$16:$L$215,6,0))","v":""},null,{"$f":"IF(B107=\"\",\"\",IF(VLOOKUP(B107,ｴﾝﾄﾘｰ票!$E$16:$Y$215,10,0)=\"\",\"\",VLOOKUP(B107,ｴﾝﾄﾘｰ票!$E$16:$Y$215,10,0)))","v":""},null,{"$f":"IF(B107=\"\",\"\",IF(VLOOKUP(B107,ｴﾝﾄﾘｰ票!$E$16:$Y$215,14,0)=\"\",\"\",VLOOKUP(B107,ｴﾝﾄﾘｰ票!$E$16:$Y$215,14,0)))","v":""},null,{"$f":"IF(B107=\"\",\"\",IF(VLOOKUP(B107,ｴﾝﾄﾘｰ票!$E$16:$Y$215,18,0)=\"\",\"\",VLOOKUP(B107,ｴﾝﾄﾘｰ票!$E$16:$Y$215,18,0)))","v":""},{"$f":"IF(B107=\"\",\"\",IF(ISERROR(VLOOKUP(B107,ｴﾝﾄﾘｰ票!$AR$16:$AT$205,1,0)),\"\",VLOOKUP(B107,ｴﾝﾄﾘｰ票!$AR$16:$AT$205,2,0)))","v":""},null,{"$f":"IF(B107=\"\",\"\",IF(ISERROR(VLOOKUP(B107,ｴﾝﾄﾘｰ票!$AX$16:$AZ$205,1,0)),\"\",VLOOKUP(B107,ｴﾝﾄﾘｰ票!$AX$16:$AZ$205,2,0)))","v":""}]
[67,{"$f":"IF(ISERROR(VLOOKUP(A108*10-9+2000,ｴﾝﾄﾘｰ票!C$15:AI$215,3,0)),\"\",VLOOKUP(A108*10-9+2000,ｴﾝﾄﾘｰ票!C$15:AI$215,3,0))","v":""},{"$f":"IF(B108=\"\",\"\",CONCATENATE(VLOOKUP(B108,ｴﾝﾄﾘｰ票!$E$16:$L$215,2,0),\"　\",VLOOKUP(B108,ｴﾝﾄﾘｰ票!$E$16:$L$215,3,0)))","v":""},null,null,null,null,{"$f":"IF(B108=\"\",\"\",VLOOKUP(B108,ｴﾝﾄﾘｰ票!$E$16:$L$215,6,0))","v":""},null,{"$f":"IF(B108=\"\",\"\",IF(VLOOKUP(B108,ｴﾝﾄﾘｰ票!$E$16:$Y$215,10,0)=\"\",\"\",VLOOKUP(B108,ｴﾝﾄﾘｰ票!$E$16:$Y$215,10,0)))","v":""},null,{"$f":"IF(B108=\"\",\"\",IF(VLOOKUP(B108,ｴﾝﾄﾘｰ票!$E$16:$Y$215,14,0)=\"\",\"\",VLOOKUP(B108,ｴﾝﾄﾘｰ票!$E$16:$Y$215,14,0)))","v":""},null,{"$f":"IF(B108=\"\",\"\",IF(VLOOKUP(B108,ｴﾝﾄﾘｰ票!$E$16:$Y$215,18,0)=\"\",\"\",VLOOKUP(B108,ｴﾝﾄﾘｰ票!$E$16:$Y$215,18,0)))","v":""},{"$f":"IF(B108=\"\",\"\",IF(ISERROR(VLOOKUP(B108,ｴﾝﾄﾘｰ票!$AR$16:$AT$205,1,0)),\"\",VLOOKUP(B108,ｴﾝﾄﾘｰ票!$AR$16:$AT$205,2,0)))","v":""},null,{"$f":"IF(B108=\"\",\"\",IF(ISERROR(VLOOKUP(B108,ｴﾝﾄﾘｰ票!$AX$16:$AZ$205,1,0)),\"\",VLOOKUP(B108,ｴﾝﾄﾘｰ票!$AX$16:$AZ$205,2,0)))","v":""}]
[68,{"$f":"IF(ISERROR(VLOOKUP(A109*10-9+2000,ｴﾝﾄﾘｰ票!C$15:AI$215,3,0)),\"\",VLOOKUP(A109*10-9+2000,ｴﾝﾄﾘｰ票!C$15:AI$215,3,0))","v":""},{"$f":"IF(B109=\"\",\"\",CONCATENATE(VLOOKUP(B109,ｴﾝﾄﾘｰ票!$E$16:$L$215,2,0),\"　\",VLOOKUP(B109,ｴﾝﾄﾘｰ票!$E$16:$L$215,3,0)))","v":""},null,null,null,null,{"$f":"IF(B109=\"\",\"\",VLOOKUP(B109,ｴﾝﾄﾘｰ票!$E$16:$L$215,6,0))","v":""},null,{"$f":"IF(B109=\"\",\"\",IF(VLOOKUP(B109,ｴﾝﾄﾘｰ票!$E$16:$Y$215,10,0)=\"\",\"\",VLOOKUP(B109,ｴﾝﾄﾘｰ票!$E$16:$Y$215,10,0)))","v":""},null,{"$f":"IF(B109=\"\",\"\",IF(VLOOKUP(B109,ｴﾝﾄﾘｰ票!$E$16:$Y$215,14,0)=\"\",\"\",VLOOKUP(B109,ｴﾝﾄﾘｰ票!$E$16:$Y$215,14,0)))","v":""},null,{"$f":"IF(B109=\"\",\"\",IF(VLOOKUP(B109,ｴﾝﾄﾘｰ票!$E$16:$Y$215,18,0)=\"\",\"\",VLOOKUP(B109,ｴﾝﾄﾘｰ票!$E$16:$Y$215,18,0)))","v":""},{"$f":"IF(B109=\"\",\"\",IF(ISERROR(VLOOKUP(B109,ｴﾝﾄﾘｰ票!$AR$16:$AT$205,1,0)),\"\",VLOOKUP(B109,ｴﾝﾄﾘｰ票!$AR$16:$AT$205,2,0)))","v":""},null,{"$f":"IF(B109=\"\",\"\",IF(ISERROR(VLOOKUP(B109,ｴﾝﾄﾘｰ票!$AX$16:$AZ$205,1,0)),\"\",VLOOKUP(B109,ｴﾝﾄﾘｰ票!$AX$16:$AZ$205,2,0)))","v":""}]
[69,{"$f":"IF(ISERROR(VLOOKUP(A110*10-9+2000,ｴﾝﾄﾘｰ票!C$15:AI$215,3,0)),\"\",VLOOKUP(A110*10-9+2000,ｴﾝﾄﾘｰ票!C$15:AI$215,3,0))","v":""},{"$f":"IF(B110=\"\",\"\",CONCATENATE(VLOOKUP(B110,ｴﾝﾄﾘｰ票!$E$16:$L$215,2,0),\"　\",VLOOKUP(B110,ｴﾝﾄﾘｰ票!$E$16:$L$215,3,0)))","v":""},null,null,null,null,{"$f":"IF(B110=\"\",\"\",VLOOKUP(B110,ｴﾝﾄﾘｰ票!$E$16:$L$215,6,0))","v":""},null,{"$f":"IF(B110=\"\",\"\",IF(VLOOKUP(B110,ｴﾝﾄﾘｰ票!$E$16:$Y$215,10,0)=\"\",\"\",VLOOKUP(B110,ｴﾝﾄﾘｰ票!$E$16:$Y$215,10,0)))","v":""},null,{"$f":"IF(B110=\"\",\"\",IF(VLOOKUP(B110,ｴﾝﾄﾘｰ票!$E$16:$Y$215,14,0)=\"\",\"\",VLOOKUP(B110,ｴﾝﾄﾘｰ票!$E$16:$Y$215,14,0)))","v":""},null,{"$f":"IF(B110=\"\",\"\",IF(VLOOKUP(B110,ｴﾝﾄﾘｰ票!$E$16:$Y$215,18,0)=\"\",\"\",VLOOKUP(B110,ｴﾝﾄﾘｰ票!$E$16:$Y$215,18,0)))","v":""},{"$f":"IF(B110=\"\",\"\",IF(ISERROR(VLOOKUP(B110,ｴﾝﾄﾘｰ票!$AR$16:$AT$205,1,0)),\"\",VLOOKUP(B110,ｴﾝﾄﾘｰ票!$AR$16:$AT$205,2,0)))","v":""},null,{"$f":"IF(B110=\"\",\"\",IF(ISERROR(VLOOKUP(B110,ｴﾝﾄﾘｰ票!$AX$16:$AZ$205,1,0)),\"\",VLOOKUP(B110,ｴﾝﾄﾘｰ票!$AX$16:$AZ$205,2,0)))","v":""}]
[70,{"$f":"IF(ISERROR(VLOOKUP(A111*10-9+2000,ｴﾝﾄﾘｰ票!C$15:AI$215,3,0)),\"\",VLOOKUP(A111*10-9+2000,ｴﾝﾄﾘｰ票!C$15:AI$215,3,0))","v":""},{"$f":"IF(B111=\"\",\"\",CONCATENATE(VLOOKUP(B111,ｴﾝﾄﾘｰ票!$E$16:$L$215,2,0),\"　\",VLOOKUP(B111,ｴﾝﾄﾘｰ票!$E$16:$L$215,3,0)))","v":""},null,null,null,null,{"$f":"IF(B111=\"\",\"\",VLOOKUP(B111,ｴﾝﾄﾘｰ票!$E$16:$L$215,6,0))","v":""},null,{"$f":"IF(B111=\"\",\"\",IF(VLOOKUP(B111,ｴﾝﾄﾘｰ票!$E$16:$Y$215,10,0)=\"\",\"\",VLOOKUP(B111,ｴﾝﾄﾘｰ票!$E$16:$Y$215,10,0)))","v":""},null,{"$f":"IF(B111=\"\",\"\",IF(VLOOKUP(B111,ｴﾝﾄﾘｰ票!$E$16:$Y$215,14,0)=\"\",\"\",VLOOKUP(B111,ｴﾝﾄﾘｰ票!$E$16:$Y$215,14,0)))","v":""},null,{"$f":"IF(B111=\"\",\"\",IF(VLOOKUP(B111,ｴﾝﾄﾘｰ票!$E$16:$Y$215,18,0)=\"\",\"\",VLOOKUP(B111,ｴﾝﾄﾘｰ票!$E$16:$Y$215,18,0)))","v":""},{"$f":"IF(B111=\"\",\"\",IF(ISERROR(VLOOKUP(B111,ｴﾝﾄﾘｰ票!$AR$16:$AT$205,1,0)),\"\",VLOOKUP(B111,ｴﾝﾄﾘｰ票!$AR$16:$AT$205,2,0)))","v":""},null,{"$f":"IF(B111=\"\",\"\",IF(ISERROR(VLOOKUP(B111,ｴﾝﾄﾘｰ票!$AX$16:$AZ$205,1,0)),\"\",VLOOKUP(B111,ｴﾝﾄﾘｰ票!$AX$16:$AZ$205,2,0)))","v":""}]
[71,{"$f":"IF(ISERROR(VLOOKUP(A112*10-9+2000,ｴﾝﾄﾘｰ票!C$15:AI$215,3,0)),\"\",VLOOKUP(A112*10-9+2000,ｴﾝﾄﾘｰ票!C$15:AI$215,3,0))","v":""},{"$f":"IF(B112=\"\",\"\",CONCATENATE(VLOOKUP(B112,ｴﾝﾄﾘｰ票!$E$16:$L$215,2,0),\"　\",VLOOKUP(B112,ｴﾝﾄﾘｰ票!$E$16:$L$215,3,0)))","v":""},null,null,null,null,{"$f":"IF(B112=\"\",\"\",VLOOKUP(B112,ｴﾝﾄﾘｰ票!$E$16:$L$215,6,0))","v":""},null,{"$f":"IF(B112=\"\",\"\",IF(VLOOKUP(B112,ｴﾝﾄﾘｰ票!$E$16:$Y$215,10,0)=\"\",\"\",VLOOKUP(B112,ｴﾝﾄﾘｰ票!$E$16:$Y$215,10,0)))","v":""},null,{"$f":"IF(B112=\"\",\"\",IF(VLOOKUP(B112,ｴﾝﾄﾘｰ票!$E$16:$Y$215,14,0)=\"\",\"\",VLOOKUP(B112,ｴﾝﾄﾘｰ票!$E$16:$Y$215,14,0)))","v":""},null,{"$f":"IF(B112=\"\",\"\",IF(VLOOKUP(B112,ｴﾝﾄﾘｰ票!$E$16:$Y$215,18,0)=\"\",\"\",VLOOKUP(B112,ｴﾝﾄﾘｰ票!$E$16:$Y$215,18,0)))","v":""},{"$f":"IF(B112=\"\",\"\",IF(ISERROR(VLOOKUP(B112,ｴﾝﾄﾘｰ票!$AR$16:$AT$205,1,0)),\"\",VLOOKUP(B112,ｴﾝﾄﾘｰ票!$AR$16:$AT$205,2,0)))","v":""},null,{"$f":"IF(B112=\"\",\"\",IF(ISERROR(VLOOKUP(B112,ｴﾝﾄﾘｰ票!$AX$16:$AZ$205,1,0)),\"\",VLOOKUP(B112,ｴﾝﾄﾘｰ票!$AX$16:$AZ$205,2,0)))","v":""}]
[72,{"$f":"IF(ISERROR(VLOOKUP(A113*10-9+2000,ｴﾝﾄﾘｰ票!C$15:AI$215,3,0)),\"\",VLOOKUP(A113*10-9+2000,ｴﾝﾄﾘｰ票!C$15:AI$215,3,0))","v":""},{"$f":"IF(B113=\"\",\"\",CONCATENATE(VLOOKUP(B113,ｴﾝﾄﾘｰ票!$E$16:$L$215,2,0),\"　\",VLOOKUP(B113,ｴﾝﾄﾘｰ票!$E$16:$L$215,3,0)))","v":""},null,null,null,null,{"$f":"IF(B113=\"\",\"\",VLOOKUP(B113,ｴﾝﾄﾘｰ票!$E$16:$L$215,6,0))","v":""},null,{"$f":"IF(B113=\"\",\"\",IF(VLOOKUP(B113,ｴﾝﾄﾘｰ票!$E$16:$Y$215,10,0)=\"\",\"\",VLOOKUP(B113,ｴﾝﾄﾘｰ票!$E$16:$Y$215,10,0)))","v":""},null,{"$f":"IF(B113=\"\",\"\",IF(VLOOKUP(B113,ｴﾝﾄﾘｰ票!$E$16:$Y$215,14,0)=\"\",\"\",VLOOKUP(B113,ｴﾝﾄﾘｰ票!$E$16:$Y$215,14,0)))","v":""},null,{"$f":"IF(B113=\"\",\"\",IF(VLOOKUP(B113,ｴﾝﾄﾘｰ票!$E$16:$Y$215,18,0)=\"\",\"\",VLOOKUP(B113,ｴﾝﾄﾘｰ票!$E$16:$Y$215,18,0)))","v":""},{"$f":"IF(B113=\"\",\"\",IF(ISERROR(VLOOKUP(B113,ｴﾝﾄﾘｰ票!$AR$16:$AT$205,1,0)),\"\",VLOOKUP(B113,ｴﾝﾄﾘｰ票!$AR$16:$AT$205,2,0)))","v":""},null,{"$f":"IF(B113=\"\",\"\",IF(ISERROR(VLOOKUP(B113,ｴﾝﾄﾘｰ票!$AX$16:$AZ$205,1,0)),\"\",VLOOKUP(B113,ｴﾝﾄﾘｰ票!$AX$16:$AZ$205,2,0)))","v":""}]
[73,{"$f":"IF(ISERROR(VLOOKUP(A114*10-9+2000,ｴﾝﾄﾘｰ票!C$15:AI$215,3,0)),\"\",VLOOKUP(A114*10-9+2000,ｴﾝﾄﾘｰ票!C$15:AI$215,3,0))","v":""},{"$f":"IF(B114=\"\",\"\",CONCATENATE(VLOOKUP(B114,ｴﾝﾄﾘｰ票!$E$16:$L$215,2,0),\"　\",VLOOKUP(B114,ｴﾝﾄﾘｰ票!$E$16:$L$215,3,0)))","v":""},null,null,null,null,{"$f":"IF(B114=\"\",\"\",VLOOKUP(B114,ｴﾝﾄﾘｰ票!$E$16:$L$215,6,0))","v":""},null,{"$f":"IF(B114=\"\",\"\",IF(VLOOKUP(B114,ｴﾝﾄﾘｰ票!$E$16:$Y$215,10,0)=\"\",\"\",VLOOKUP(B114,ｴﾝﾄﾘｰ票!$E$16:$Y$215,10,0)))","v":""},null,{"$f":"IF(B114=\"\",\"\",IF(VLOOKUP(B114,ｴﾝﾄﾘｰ票!$E$16:$Y$215,14,0)=\"\",\"\",VLOOKUP(B114,ｴﾝﾄﾘｰ票!$E$16:$Y$215,14,0)))","v":""},null,{"$f":"IF(B114=\"\",\"\",IF(VLOOKUP(B114,ｴﾝﾄﾘｰ票!$E$16:$Y$215,18,0)=\"\",\"\",VLOOKUP(B114,ｴﾝﾄﾘｰ票!$E$16:$Y$215,18,0)))","v":""},{"$f":"IF(B114=\"\",\"\",IF(ISERROR(VLOOKUP(B114,ｴﾝﾄﾘｰ票!$AR$16:$AT$205,1,0)),\"\",VLOOKUP(B114,ｴﾝﾄﾘｰ票!$AR$16:$AT$205,2,0)))","v":""},null,{"$f":"IF(B114=\"\",\"\",IF(ISERROR(VLOOKUP(B114,ｴﾝﾄﾘｰ票!$AX$16:$AZ$205,1,0)),\"\",VLOOKUP(B114,ｴﾝﾄﾘｰ票!$AX$16:$AZ$205,2,0)))","v":""}]
[74,{"$f":"IF(ISERROR(VLOOKUP(A115*10-9+2000,ｴﾝﾄﾘｰ票!C$15:AI$215,3,0)),\"\",VLOOKUP(A115*10-9+2000,ｴﾝﾄﾘｰ票!C$15:AI$215,3,0))","v":""},{"$f":"IF(B115=\"\",\"\",CONCATENATE(VLOOKUP(B115,ｴﾝﾄﾘｰ票!$E$16:$L$215,2,0),\"　\",VLOOKUP(B115,ｴﾝﾄﾘｰ票!$E$16:$L$215,3,0)))","v":""},null,null,null,null,{"$f":"IF(B115=\"\",\"\",VLOOKUP(B115,ｴﾝﾄﾘｰ票!$E$16:$L$215,6,0))","v":""},null,{"$f":"IF(B115=\"\",\"\",IF(VLOOKUP(B115,ｴﾝﾄﾘｰ票!$E$16:$Y$215,10,0)=\"\",\"\",VLOOKUP(B115,ｴﾝﾄﾘｰ票!$E$16:$Y$215,10,0)))","v":""},null,{"$f":"IF(B115=\"\",\"\",IF(VLOOKUP(B115,ｴﾝﾄﾘｰ票!$E$16:$Y$215,14,0)=\"\",\"\",VLOOKUP(B115,ｴﾝﾄﾘｰ票!$E$16:$Y$215,14,0)))","v":""},null,{"$f":"IF(B115=\"\",\"\",IF(VLOOKUP(B115,ｴﾝﾄﾘｰ票!$E$16:$Y$215,18,0)=\"\",\"\",VLOOKUP(B115,ｴﾝﾄﾘｰ票!$E$16:$Y$215,18,0)))","v":""},{"$f":"IF(B115=\"\",\"\",IF(ISERROR(VLOOKUP(B115,ｴﾝﾄﾘｰ票!$AR$16:$AT$205,1,0)),\"\",VLOOKUP(B115,ｴﾝﾄﾘｰ票!$AR$16:$AT$205,2,0)))","v":""},null,{"$f":"IF(B115=\"\",\"\",IF(ISERROR(VLOOKUP(B115,ｴﾝﾄﾘｰ票!$AX$16:$AZ$205,1,0)),\"\",VLOOKUP(B115,ｴﾝﾄﾘｰ票!$AX$16:$AZ$205,2,0)))","v":""}]
[75,{"$f":"IF(ISERROR(VLOOKUP(A116*10-9+2000,ｴﾝﾄﾘｰ票!C$15:AI$215,3,0)),\"\",VLOOKUP(A116*10-9+2000,ｴﾝﾄﾘｰ票!C$15:AI$215,3,0))","v":""},{"$f":"IF(B116=\"\",\"\",CONCATENATE(VLOOKUP(B116,ｴﾝﾄﾘｰ票!$E$16:$L$215,2,0),\"　\",VLOOKUP(B116,ｴﾝﾄﾘｰ票!$E$16:$L$215,3,0)))","v":""},null,null,null,null,{"$f":"IF(B116=\"\",\"\",VLOOKUP(B116,ｴﾝﾄﾘｰ票!$E$16:$L$215,6,0))","v":""},null,{"$f":"IF(B116=\"\",\"\",IF(VLOOKUP(B116,ｴﾝﾄﾘｰ票!$E$16:$Y$215,10,0)=\"\",\"\",VLOOKUP(B116,ｴﾝﾄﾘｰ票!$E$16:$Y$215,10,0)))","v":""},null,{"$f":"IF(B116=\"\",\"\",IF(VLOOKUP(B116,ｴﾝﾄﾘｰ票!$E$16:$Y$215,14,0)=\"\",\"\",VLOOKUP(B116,ｴﾝﾄﾘｰ票!$E$16:$Y$215,14,0)))","v":""},null,{"$f":"IF(B116=\"\",\"\",IF(VLOOKUP(B116,ｴﾝﾄﾘｰ票!$E$16:$Y$215,18,0)=\"\",\"\",VLOOKUP(B116,ｴﾝﾄﾘｰ票!$E$16:$Y$215,18,0)))","v":""},{"$f":"IF(B116=\"\",\"\",IF(ISERROR(VLOOKUP(B116,ｴﾝﾄﾘｰ票!$AR$16:$AT$205,1,0)),\"\",VLOOKUP(B116,ｴﾝﾄﾘｰ票!$AR$16:$AT$205,2,0)))","v":""},null,{"$f":"IF(B116=\"\",\"\",IF(ISERROR(VLOOKUP(B116,ｴﾝﾄﾘｰ票!$AX$16:$AZ$205,1,0)),\"\",VLOOKUP(B116,ｴﾝﾄﾘｰ票!$AX$16:$AZ$205,2,0)))","v":""}]
[76,{"$f":"IF(ISERROR(VLOOKUP(A117*10-9+2000,ｴﾝﾄﾘｰ票!C$15:AI$215,3,0)),\"\",VLOOKUP(A117*10-9+2000,ｴﾝﾄﾘｰ票!C$15:AI$215,3,0))","v":""},{"$f":"IF(B117=\"\",\"\",CONCATENATE(VLOOKUP(B117,ｴﾝﾄﾘｰ票!$E$16:$L$215,2,0),\"　\",VLOOKUP(B117,ｴﾝﾄﾘｰ票!$E$16:$L$215,3,0)))","v":""},null,null,null,null,{"$f":"IF(B117=\"\",\"\",VLOOKUP(B117,ｴﾝﾄﾘｰ票!$E$16:$L$215,6,0))","v":""},null,{"$f":"IF(B117=\"\",\"\",IF(VLOOKUP(B117,ｴﾝﾄﾘｰ票!$E$16:$Y$215,10,0)=\"\",\"\",VLOOKUP(B117,ｴﾝﾄﾘｰ票!$E$16:$Y$215,10,0)))","v":""},null,{"$f":"IF(B117=\"\",\"\",IF(VLOOKUP(B117,ｴﾝﾄﾘｰ票!$E$16:$Y$215,14,0)=\"\",\"\",VLOOKUP(B117,ｴﾝﾄﾘｰ票!$E$16:$Y$215,14,0)))","v":""},null,{"$f":"IF(B117=\"\",\"\",IF(VLOOKUP(B117,ｴﾝﾄﾘｰ票!$E$16:$Y$215,18,0)=\"\",\"\",VLOOKUP(B117,ｴﾝﾄﾘｰ票!$E$16:$Y$215,18,0)))","v":""},{"$f":"IF(B117=\"\",\"\",IF(ISERROR(VLOOKUP(B117,ｴﾝﾄﾘｰ票!$AR$16:$AT$205,1,0)),\"\",VLOOKUP(B117,ｴﾝﾄﾘｰ票!$AR$16:$AT$205,2,0)))","v":""},null,{"$f":"IF(B117=\"\",\"\",IF(ISERROR(VLOOKUP(B117,ｴﾝﾄﾘｰ票!$AX$16:$AZ$205,1,0)),\"\",VLOOKUP(B117,ｴﾝﾄﾘｰ票!$AX$16:$AZ$205,2,0)))","v":""}]
[77,{"$f":"IF(ISERROR(VLOOKUP(A118*10-9+2000,ｴﾝﾄﾘｰ票!C$15:AI$215,3,0)),\"\",VLOOKUP(A118*10-9+2000,ｴﾝﾄﾘｰ票!C$15:AI$215,3,0))","v":""},{"$f":"IF(B118=\"\",\"\",CONCATENATE(VLOOKUP(B118,ｴﾝﾄﾘｰ票!$E$16:$L$215,2,0),\"　\",VLOOKUP(B118,ｴﾝﾄﾘｰ票!$E$16:$L$215,3,0)))","v":""},null,null,null,null,{"$f":"IF(B118=\"\",\"\",VLOOKUP(B118,ｴﾝﾄﾘｰ票!$E$16:$L$215,6,0))","v":""},null,{"$f":"IF(B118=\"\",\"\",IF(VLOOKUP(B118,ｴﾝﾄﾘｰ票!$E$16:$Y$215,10,0)=\"\",\"\",VLOOKUP(B118,ｴﾝﾄﾘｰ票!$E$16:$Y$215,10,0)))","v":""},null,{"$f":"IF(B118=\"\",\"\",IF(VLOOKUP(B118,ｴﾝﾄﾘｰ票!$E$16:$Y$215,14,0)=\"\",\"\",VLOOKUP(B118,ｴﾝﾄﾘｰ票!$E$16:$Y$215,14,0)))","v":""},null,{"$f":"IF(B118=\"\",\"\",IF(VLOOKUP(B118,ｴﾝﾄﾘｰ票!$E$16:$Y$215,18,0)=\"\",\"\",VLOOKUP(B118,ｴﾝﾄﾘｰ票!$E$16:$Y$215,18,0)))","v":""},{"$f":"IF(B118=\"\",\"\",IF(ISERROR(VLOOKUP(B118,ｴﾝﾄﾘｰ票!$AR$16:$AT$205,1,0)),\"\",VLOOKUP(B118,ｴﾝﾄﾘｰ票!$AR$16:$AT$205,2,0)))","v":""},null,{"$f":"IF(B118=\"\",\"\",IF(ISERROR(VLOOKUP(B118,ｴﾝﾄﾘｰ票!$AX$16:$AZ$205,1,0)),\"\",VLOOKUP(B118,ｴﾝﾄﾘｰ票!$AX$16:$AZ$205,2,0)))","v":""}]
[78,{"$f":"IF(ISERROR(VLOOKUP(A119*10-9+2000,ｴﾝﾄﾘｰ票!C$15:AI$215,3,0)),\"\",VLOOKUP(A119*10-9+2000,ｴﾝﾄﾘｰ票!C$15:AI$215,3,0))","v":""},{"$f":"IF(B119=\"\",\"\",CONCATENATE(VLOOKUP(B119,ｴﾝﾄﾘｰ票!$E$16:$L$215,2,0),\"　\",VLOOKUP(B119,ｴﾝﾄﾘｰ票!$E$16:$L$215,3,0)))","v":""},null,null,null,null,{"$f":"IF(B119=\"\",\"\",VLOOKUP(B119,ｴﾝﾄﾘｰ票!$E$16:$L$215,6,0))","v":""},null,{"$f":"IF(B119=\"\",\"\",IF(VLOOKUP(B119,ｴﾝﾄﾘｰ票!$E$16:$Y$215,10,0)=\"\",\"\",VLOOKUP(B119,ｴﾝﾄﾘｰ票!$E$16:$Y$215,10,0)))","v":""},null,{"$f":"IF(B119=\"\",\"\",IF(VLOOKUP(B119,ｴﾝﾄﾘｰ票!$E$16:$Y$215,14,0)=\"\",\"\",VLOOKUP(B119,ｴﾝﾄﾘｰ票!$E$16:$Y$215,14,0)))","v":""},null,{"$f":"IF(B119=\"\",\"\",IF(VLOOKUP(B119,ｴﾝﾄﾘｰ票!$E$16:$Y$215,18,0)=\"\",\"\",VLOOKUP(B119,ｴﾝﾄﾘｰ票!$E$16:$Y$215,18,0)))","v":""},{"$f":"IF(B119=\"\",\"\",IF(ISERROR(VLOOKUP(B119,ｴﾝﾄﾘｰ票!$AR$16:$AT$205,1,0)),\"\",VLOOKUP(B119,ｴﾝﾄﾘｰ票!$AR$16:$AT$205,2,0)))","v":""},null,{"$f":"IF(B119=\"\",\"\",IF(ISERROR(VLOOKUP(B119,ｴﾝﾄﾘｰ票!$AX$16:$AZ$205,1,0)),\"\",VLOOKUP(B119,ｴﾝﾄﾘｰ票!$AX$16:$AZ$205,2,0)))","v":""}]
[79,{"$f":"IF(ISERROR(VLOOKUP(A120*10-9+2000,ｴﾝﾄﾘｰ票!C$15:AI$215,3,0)),\"\",VLOOKUP(A120*10-9+2000,ｴﾝﾄﾘｰ票!C$15:AI$215,3,0))","v":""},{"$f":"IF(B120=\"\",\"\",CONCATENATE(VLOOKUP(B120,ｴﾝﾄﾘｰ票!$E$16:$L$215,2,0),\"　\",VLOOKUP(B120,ｴﾝﾄﾘｰ票!$E$16:$L$215,3,0)))","v":""},null,null,null,null,{"$f":"IF(B120=\"\",\"\",VLOOKUP(B120,ｴﾝﾄﾘｰ票!$E$16:$L$215,6,0))","v":""},null,{"$f":"IF(B120=\"\",\"\",IF(VLOOKUP(B120,ｴﾝﾄﾘｰ票!$E$16:$Y$215,10,0)=\"\",\"\",VLOOKUP(B120,ｴﾝﾄﾘｰ票!$E$16:$Y$215,10,0)))","v":""},null,{"$f":"IF(B120=\"\",\"\",IF(VLOOKUP(B120,ｴﾝﾄﾘｰ票!$E$16:$Y$215,14,0)=\"\",\"\",VLOOKUP(B120,ｴﾝﾄﾘｰ票!$E$16:$Y$215,14,0)))","v":""},null,{"$f":"IF(B120=\"\",\"\",IF(VLOOKUP(B120,ｴﾝﾄﾘｰ票!$E$16:$Y$215,18,0)=\"\",\"\",VLOOKUP(B120,ｴﾝﾄﾘｰ票!$E$16:$Y$215,18,0)))","v":""},{"$f":"IF(B120=\"\",\"\",IF(ISERROR(VLOOKUP(B120,ｴﾝﾄﾘｰ票!$AR$16:$AT$205,1,0)),\"\",VLOOKUP(B120,ｴﾝﾄﾘｰ票!$AR$16:$AT$205,2,0)))","v":""},null,{"$f":"IF(B120=\"\",\"\",IF(ISERROR(VLOOKUP(B120,ｴﾝﾄﾘｰ票!$AX$16:$AZ$205,1,0)),\"\",VLOOKUP(B120,ｴﾝﾄﾘｰ票!$AX$16:$AZ$205,2,0)))","v":""}]
[80,{"$f":"IF(ISERROR(VLOOKUP(A121*10-9+2000,ｴﾝﾄﾘｰ票!C$15:AI$215,3,0)),\"\",VLOOKUP(A121*10-9+2000,ｴﾝﾄﾘｰ票!C$15:AI$215,3,0))","v":""},{"$f":"IF(B121=\"\",\"\",CONCATENATE(VLOOKUP(B121,ｴﾝﾄﾘｰ票!$E$16:$L$215,2,0),\"　\",VLOOKUP(B121,ｴﾝﾄﾘｰ票!$E$16:$L$215,3,0)))","v":""},null,null,null,null,{"$f":"IF(B121=\"\",\"\",VLOOKUP(B121,ｴﾝﾄﾘｰ票!$E$16:$L$215,6,0))","v":""},null,{"$f":"IF(B121=\"\",\"\",IF(VLOOKUP(B121,ｴﾝﾄﾘｰ票!$E$16:$Y$215,10,0)=\"\",\"\",VLOOKUP(B121,ｴﾝﾄﾘｰ票!$E$16:$Y$215,10,0)))","v":""},null,{"$f":"IF(B121=\"\",\"\",IF(VLOOKUP(B121,ｴﾝﾄﾘｰ票!$E$16:$Y$215,14,0)=\"\",\"\",VLOOKUP(B121,ｴﾝﾄﾘｰ票!$E$16:$Y$215,14,0)))","v":""},null,{"$f":"IF(B121=\"\",\"\",IF(VLOOKUP(B121,ｴﾝﾄﾘｰ票!$E$16:$Y$215,18,0)=\"\",\"\",VLOOKUP(B121,ｴﾝﾄﾘｰ票!$E$16:$Y$215,18,0)))","v":""},{"$f":"IF(B121=\"\",\"\",IF(ISERROR(VLOOKUP(B121,ｴﾝﾄﾘｰ票!$AR$16:$AT$205,1,0)),\"\",VLOOKUP(B121,ｴﾝﾄﾘｰ票!$AR$16:$AT$205,2,0)))","v":""},null,{"$f":"IF(B121=\"\",\"\",IF(ISERROR(VLOOKUP(B121,ｴﾝﾄﾘｰ票!$AX$16:$AZ$205,1,0)),\"\",VLOOKUP(B121,ｴﾝﾄﾘｰ票!$AX$16:$AZ$205,2,0)))","v":""}]
[null,{"$f":"ｴﾝﾄﾘｰ票!$G$1","v":"東京都高校新人陸上競技大会第４支部予選会"},null,null,null,null,null,null,null,null,null,null,null,null,null,null,null,null,null,null,null,null,null,null,null,"申込用紙(A票）"]
[{"$f":"A2","v":"平成30年度"},null,null,null,null,null,null,null,null,null,null,null,null,null,null,null,null,null,null,null,null,null,null,"男子",null,"Ｎｏ．5"]
["学校名",null,{"$f":"ｴﾝﾄﾘｰ票!$G$2","v":0},null,null,null,null,null,null,null,"学校所在地",null,{"$f":"ｴﾝﾄﾘｰ票!$G$5","v":0}]
[null,null,null,null,null,null,null,null,null,null,"電話",null,{"$f":"ｴﾝﾄﾘｰ票!$G$6","v":"00:00:00"},null,null,null,null,"ＦＡＸ",null,{"$f":"ｴﾝﾄﾘｰ票!$G$7","v":0}]
["学校長",null,{"$f":"ｴﾝﾄﾘｰ票!$G$4","v":0},null,null,null,null,null,null,"印","顧問氏名",null,{"$f":"ｴﾝﾄﾘｰ票!$G$8","v":0},null,null,null,"印"]
[null,null,null,null,null,null,null,null,null,null,"連絡先",null,{"$f":"ｴﾝﾄﾘｰ票!$G$9","v":0}]
[]
[null,null,null,null,null,null,null,null,null,null,null,null,null,"種目",null,null,null,null,null,null,null,"本大会種目"]
[null,"番号","出場者氏名",null,null,null,null,"学年",null,"個人",null,"個人",null,"個人","4×100",null,"4×400","個人",null,"個人",null,"個人",null,"4×100","4×400"]
[81,{"$f":"IF(ISERROR(VLOOKUP(A131*10-9+2000,ｴﾝﾄﾘｰ票!C$15:AI$215,3,0)),\"\",VLOOKUP(A131*10-9+2000,ｴﾝﾄﾘｰ票!C$15:AI$215,3,0))","v":""},{"$f":"IF(B131=\"\",\"\",CONCATENATE(VLOOKUP(B131,ｴﾝﾄﾘｰ票!$E$16:$L$215,2,0),\"　\",VLOOKUP(B131,ｴﾝﾄﾘｰ票!$E$16:$L$215,3,0)))","v":""},null,null,null,null,{"$f":"IF(B131=\"\",\"\",VLOOKUP(B131,ｴﾝﾄﾘｰ票!$E$16:$L$215,6,0))","v":""},null,{"$f":"IF(B131=\"\",\"\",IF(VLOOKUP(B131,ｴﾝﾄﾘｰ票!$E$16:$Y$215,10,0)=\"\",\"\",VLOOKUP(B131,ｴﾝﾄﾘｰ票!$E$16:$Y$215,10,0)))","v":""},null,{"$f":"IF(B131=\"\",\"\",IF(VLOOKUP(B131,ｴﾝﾄﾘｰ票!$E$16:$Y$215,14,0)=\"\",\"\",VLOOKUP(B131,ｴﾝﾄﾘｰ票!$E$16:$Y$215,14,0)))","v":""},null,{"$f":"IF(B131=\"\",\"\",IF(VLOOKUP(B131,ｴﾝﾄﾘｰ票!$E$16:$Y$215,18,0)=\"\",\"\",VLOOKUP(B131,ｴﾝﾄﾘｰ票!$E$16:$Y$215,18,0)))","v":""},{"$f":"IF(B131=\"\",\"\",IF(ISERROR(VLOOKUP(B131,ｴﾝﾄﾘｰ票!$AR$16:$AT$205,1,0)),\"\",VLOOKUP(B131,ｴﾝﾄﾘｰ票!$AR$16:$AT$205,2,0)))","v":""},null,{"$f":"IF(B131=\"\",\"\",IF(ISERROR(VLOOKUP(B131,ｴﾝﾄﾘｰ票!$AX$16:$AZ$205,1,0)),\"\",VLOOKUP(B131,ｴﾝﾄﾘｰ票!$AX$16:$AZ$205,2,0)))","v":""}]
[82,{"$f":"IF(ISERROR(VLOOKUP(A132*10-9+2000,ｴﾝﾄﾘｰ票!C$15:AI$215,3,0)),\"\",VLOOKUP(A132*10-9+2000,ｴﾝﾄﾘｰ票!C$15:AI$215,3,0))","v":""},{"$f":"IF(B132=\"\",\"\",CONCATENATE(VLOOKUP(B132,ｴﾝﾄﾘｰ票!$E$16:$L$215,2,0),\"　\",VLOOKUP(B132,ｴﾝﾄﾘｰ票!$E$16:$L$215,3,0)))","v":""},null,null,null,null,{"$f":"IF(B132=\"\",\"\",VLOOKUP(B132,ｴﾝﾄﾘｰ票!$E$16:$L$215,6,0))","v":""},null,{"$f":"IF(B132=\"\",\"\",IF(VLOOKUP(B132,ｴﾝﾄﾘｰ票!$E$16:$Y$215,10,0)=\"\",\"\",VLOOKUP(B132,ｴﾝﾄﾘｰ票!$E$16:$Y$215,10,0)))","v":""},null,{"$f":"IF(B132=\"\",\"\",IF(VLOOKUP(B132,ｴﾝﾄﾘｰ票!$E$16:$Y$215,14,0)=\"\",\"\",VLOOKUP(B132,ｴﾝﾄﾘｰ票!$E$16:$Y$215,14,0)))","v":""},null,{"$f":"IF(B132=\"\",\"\",IF(VLOOKUP(B132,ｴﾝﾄﾘｰ票!$E$16:$Y$215,18,0)=\"\",\"\",VLOOKUP(B132,ｴﾝﾄﾘｰ票!$E$16:$Y$215,18,0)))","v":""},{"$f":"IF(B132=\"\",\"\",IF(ISERROR(VLOOKUP(B132,ｴﾝﾄﾘｰ票!$AR$16:$AT$205,1,0)),\"\",VLOOKUP(B132,ｴﾝﾄﾘｰ票!$AR$16:$AT$205,2,0)))","v":""},null,{"$f":"IF(B132=\"\",\"\",IF(ISERROR(VLOOKUP(B132,ｴﾝﾄﾘｰ票!$AX$16:$AZ$205,1,0)),\"\",VLOOKUP(B132,ｴﾝﾄﾘｰ票!$AX$16:$AZ$205,2,0)))","v":""}]
[83,{"$f":"IF(ISERROR(VLOOKUP(A133*10-9+2000,ｴﾝﾄﾘｰ票!C$15:AI$215,3,0)),\"\",VLOOKUP(A133*10-9+2000,ｴﾝﾄﾘｰ票!C$15:AI$215,3,0))","v":""},{"$f":"IF(B133=\"\",\"\",CONCATENATE(VLOOKUP(B133,ｴﾝﾄﾘｰ票!$E$16:$L$215,2,0),\"　\",VLOOKUP(B133,ｴﾝﾄﾘｰ票!$E$16:$L$215,3,0)))","v":""},null,null,null,null,{"$f":"IF(B133=\"\",\"\",VLOOKUP(B133,ｴﾝﾄﾘｰ票!$E$16:$L$215,6,0))","v":""},null,{"$f":"IF(B133=\"\",\"\",IF(VLOOKUP(B133,ｴﾝﾄﾘｰ票!$E$16:$Y$215,10,0)=\"\",\"\",VLOOKUP(B133,ｴﾝﾄﾘｰ票!$E$16:$Y$215,10,0)))","v":""},null,{"$f":"IF(B133=\"\",\"\",IF(VLOOKUP(B133,ｴﾝﾄﾘｰ票!$E$16:$Y$215,14,0)=\"\",\"\",VLOOKUP(B133,ｴﾝﾄﾘｰ票!$E$16:$Y$215,14,0)))","v":""},null,{"$f":"IF(B133=\"\",\"\",IF(VLOOKUP(B133,ｴﾝﾄﾘｰ票!$E$16:$Y$215,18,0)=\"\",\"\",VLOOKUP(B133,ｴﾝﾄﾘｰ票!$E$16:$Y$215,18,0)))","v":""},{"$f":"IF(B133=\"\",\"\",IF(ISERROR(VLOOKUP(B133,ｴﾝﾄﾘｰ票!$AR$16:$AT$205,1,0)),\"\",VLOOKUP(B133,ｴﾝﾄﾘｰ票!$AR$16:$AT$205,2,0)))","v":""},null,{"$f":"IF(B133=\"\",\"\",IF(ISERROR(VLOOKUP(B133,ｴﾝﾄﾘｰ票!$AX$16:$AZ$205,1,0)),\"\",VLOOKUP(B133,ｴﾝﾄﾘｰ票!$AX$16:$AZ$205,2,0)))","v":""}]
[84,{"$f":"IF(ISERROR(VLOOKUP(A134*10-9+2000,ｴﾝﾄﾘｰ票!C$15:AI$215,3,0)),\"\",VLOOKUP(A134*10-9+2000,ｴﾝﾄﾘｰ票!C$15:AI$215,3,0))","v":""},{"$f":"IF(B134=\"\",\"\",CONCATENATE(VLOOKUP(B134,ｴﾝﾄﾘｰ票!$E$16:$L$215,2,0),\"　\",VLOOKUP(B134,ｴﾝﾄﾘｰ票!$E$16:$L$215,3,0)))","v":""},null,null,null,null,{"$f":"IF(B134=\"\",\"\",VLOOKUP(B134,ｴﾝﾄﾘｰ票!$E$16:$L$215,6,0))","v":""},null,{"$f":"IF(B134=\"\",\"\",IF(VLOOKUP(B134,ｴﾝﾄﾘｰ票!$E$16:$Y$215,10,0)=\"\",\"\",VLOOKUP(B134,ｴﾝﾄﾘｰ票!$E$16:$Y$215,10,0)))","v":""},null,{"$f":"IF(B134=\"\",\"\",IF(VLOOKUP(B134,ｴﾝﾄﾘｰ票!$E$16:$Y$215,14,0)=\"\",\"\",VLOOKUP(B134,ｴﾝﾄﾘｰ票!$E$16:$Y$215,14,0)))","v":""},null,{"$f":"IF(B134=\"\",\"\",IF(VLOOKUP(B134,ｴﾝﾄﾘｰ票!$E$16:$Y$215,18,0)=\"\",\"\",VLOOKUP(B134,ｴﾝﾄﾘｰ票!$E$16:$Y$215,18,0)))","v":""},{"$f":"IF(B134=\"\",\"\",IF(ISERROR(VLOOKUP(B134,ｴﾝﾄﾘｰ票!$AR$16:$AT$205,1,0)),\"\",VLOOKUP(B134,ｴﾝﾄﾘｰ票!$AR$16:$AT$205,2,0)))","v":""},null,{"$f":"IF(B134=\"\",\"\",IF(ISERROR(VLOOKUP(B134,ｴﾝﾄﾘｰ票!$AX$16:$AZ$205,1,0)),\"\",VLOOKUP(B134,ｴﾝﾄﾘｰ票!$AX$16:$AZ$205,2,0)))","v":""}]
[85,{"$f":"IF(ISERROR(VLOOKUP(A135*10-9+2000,ｴﾝﾄﾘｰ票!C$15:AI$215,3,0)),\"\",VLOOKUP(A135*10-9+2000,ｴﾝﾄﾘｰ票!C$15:AI$215,3,0))","v":""},{"$f":"IF(B135=\"\",\"\",CONCATENATE(VLOOKUP(B135,ｴﾝﾄﾘｰ票!$E$16:$L$215,2,0),\"　\",VLOOKUP(B135,ｴﾝﾄﾘｰ票!$E$16:$L$215,3,0)))","v":""},null,null,null,null,{"$f":"IF(B135=\"\",\"\",VLOOKUP(B135,ｴﾝﾄﾘｰ票!$E$16:$L$215,6,0))","v":""},null,{"$f":"IF(B135=\"\",\"\",IF(VLOOKUP(B135,ｴﾝﾄﾘｰ票!$E$16:$Y$215,10,0)=\"\",\"\",VLOOKUP(B135,ｴﾝﾄﾘｰ票!$E$16:$Y$215,10,0)))","v":""},null,{"$f":"IF(B135=\"\",\"\",IF(VLOOKUP(B135,ｴﾝﾄﾘｰ票!$E$16:$Y$215,14,0)=\"\",\"\",VLOOKUP(B135,ｴﾝﾄﾘｰ票!$E$16:$Y$215,14,0)))","v":""},null,{"$f":"IF(B135=\"\",\"\",IF(VLOOKUP(B135,ｴﾝﾄﾘｰ票!$E$16:$Y$215,18,0)=\"\",\"\",VLOOKUP(B135,ｴﾝﾄﾘｰ票!$E$16:$Y$215,18,0)))","v":""},{"$f":"IF(B135=\"\",\"\",IF(ISERROR(VLOOKUP(B135,ｴﾝﾄﾘｰ票!$AR$16:$AT$205,1,0)),\"\",VLOOKUP(B135,ｴﾝﾄﾘｰ票!$AR$16:$AT$205,2,0)))","v":""},null,{"$f":"IF(B135=\"\",\"\",IF(ISERROR(VLOOKUP(B135,ｴﾝﾄﾘｰ票!$AX$16:$AZ$205,1,0)),\"\",VLOOKUP(B135,ｴﾝﾄﾘｰ票!$AX$16:$AZ$205,2,0)))","v":""}]
[86,{"$f":"IF(ISERROR(VLOOKUP(A136*10-9+2000,ｴﾝﾄﾘｰ票!C$15:AI$215,3,0)),\"\",VLOOKUP(A136*10-9+2000,ｴﾝﾄﾘｰ票!C$15:AI$215,3,0))","v":""},{"$f":"IF(B136=\"\",\"\",CONCATENATE(VLOOKUP(B136,ｴﾝﾄﾘｰ票!$E$16:$L$215,2,0),\"　\",VLOOKUP(B136,ｴﾝﾄﾘｰ票!$E$16:$L$215,3,0)))","v":""},null,null,null,null,{"$f":"IF(B136=\"\",\"\",VLOOKUP(B136,ｴﾝﾄﾘｰ票!$E$16:$L$215,6,0))","v":""},null,{"$f":"IF(B136=\"\",\"\",IF(VLOOKUP(B136,ｴﾝﾄﾘｰ票!$E$16:$Y$215,10,0)=\"\",\"\",VLOOKUP(B136,ｴﾝﾄﾘｰ票!$E$16:$Y$215,10,0)))","v":""},null,{"$f":"IF(B136=\"\",\"\",IF(VLOOKUP(B136,ｴﾝﾄﾘｰ票!$E$16:$Y$215,14,0)=\"\",\"\",VLOOKUP(B136,ｴﾝﾄﾘｰ票!$E$16:$Y$215,14,0)))","v":""},null,{"$f":"IF(B136=\"\",\"\",IF(VLOOKUP(B136,ｴﾝﾄﾘｰ票!$E$16:$Y$215,18,0)=\"\",\"\",VLOOKUP(B136,ｴﾝﾄﾘｰ票!$E$16:$Y$215,18,0)))","v":""},{"$f":"IF(B136=\"\",\"\",IF(ISERROR(VLOOKUP(B136,ｴﾝﾄﾘｰ票!$AR$16:$AT$205,1,0)),\"\",VLOOKUP(B136,ｴﾝﾄﾘｰ票!$AR$16:$AT$205,2,0)))","v":""},null,{"$f":"IF(B136=\"\",\"\",IF(ISERROR(VLOOKUP(B136,ｴﾝﾄﾘｰ票!$AX$16:$AZ$205,1,0)),\"\",VLOOKUP(B136,ｴﾝﾄﾘｰ票!$AX$16:$AZ$205,2,0)))","v":""}]
[87,{"$f":"IF(ISERROR(VLOOKUP(A137*10-9+2000,ｴﾝﾄﾘｰ票!C$15:AI$215,3,0)),\"\",VLOOKUP(A137*10-9+2000,ｴﾝﾄﾘｰ票!C$15:AI$215,3,0))","v":""},{"$f":"IF(B137=\"\",\"\",CONCATENATE(VLOOKUP(B137,ｴﾝﾄﾘｰ票!$E$16:$L$215,2,0),\"　\",VLOOKUP(B137,ｴﾝﾄﾘｰ票!$E$16:$L$215,3,0)))","v":""},null,null,null,null,{"$f":"IF(B137=\"\",\"\",VLOOKUP(B137,ｴﾝﾄﾘｰ票!$E$16:$L$215,6,0))","v":""},null,{"$f":"IF(B137=\"\",\"\",IF(VLOOKUP(B137,ｴﾝﾄﾘｰ票!$E$16:$Y$215,10,0)=\"\",\"\",VLOOKUP(B137,ｴﾝﾄﾘｰ票!$E$16:$Y$215,10,0)))","v":""},null,{"$f":"IF(B137=\"\",\"\",IF(VLOOKUP(B137,ｴﾝﾄﾘｰ票!$E$16:$Y$215,14,0)=\"\",\"\",VLOOKUP(B137,ｴﾝﾄﾘｰ票!$E$16:$Y$215,14,0)))","v":""},null,{"$f":"IF(B137=\"\",\"\",IF(VLOOKUP(B137,ｴﾝﾄﾘｰ票!$E$16:$Y$215,18,0)=\"\",\"\",VLOOKUP(B137,ｴﾝﾄﾘｰ票!$E$16:$Y$215,18,0)))","v":""},{"$f":"IF(B137=\"\",\"\",IF(ISERROR(VLOOKUP(B137,ｴﾝﾄﾘｰ票!$AR$16:$AT$205,1,0)),\"\",VLOOKUP(B137,ｴﾝﾄﾘｰ票!$AR$16:$AT$205,2,0)))","v":""},null,{"$f":"IF(B137=\"\",\"\",IF(ISERROR(VLOOKUP(B137,ｴﾝﾄﾘｰ票!$AX$16:$AZ$205,1,0)),\"\",VLOOKUP(B137,ｴﾝﾄﾘｰ票!$AX$16:$AZ$205,2,0)))","v":""}]
[88,{"$f":"IF(ISERROR(VLOOKUP(A138*10-9+2000,ｴﾝﾄﾘｰ票!C$15:AI$215,3,0)),\"\",VLOOKUP(A138*10-9+2000,ｴﾝﾄﾘｰ票!C$15:AI$215,3,0))","v":""},{"$f":"IF(B138=\"\",\"\",CONCATENATE(VLOOKUP(B138,ｴﾝﾄﾘｰ票!$E$16:$L$215,2,0),\"　\",VLOOKUP(B138,ｴﾝﾄﾘｰ票!$E$16:$L$215,3,0)))","v":""},null,null,null,null,{"$f":"IF(B138=\"\",\"\",VLOOKUP(B138,ｴﾝﾄﾘｰ票!$E$16:$L$215,6,0))","v":""},null,{"$f":"IF(B138=\"\",\"\",IF(VLOOKUP(B138,ｴﾝﾄﾘｰ票!$E$16:$Y$215,10,0)=\"\",\"\",VLOOKUP(B138,ｴﾝﾄﾘｰ票!$E$16:$Y$215,10,0)))","v":""},null,{"$f":"IF(B138=\"\",\"\",IF(VLOOKUP(B138,ｴﾝﾄﾘｰ票!$E$16:$Y$215,14,0)=\"\",\"\",VLOOKUP(B138,ｴﾝﾄﾘｰ票!$E$16:$Y$215,14,0)))","v":""},null,{"$f":"IF(B138=\"\",\"\",IF(VLOOKUP(B138,ｴﾝﾄﾘｰ票!$E$16:$Y$215,18,0)=\"\",\"\",VLOOKUP(B138,ｴﾝﾄﾘｰ票!$E$16:$Y$215,18,0)))","v":""},{"$f":"IF(B138=\"\",\"\",IF(ISERROR(VLOOKUP(B138,ｴﾝﾄﾘｰ票!$AR$16:$AT$205,1,0)),\"\",VLOOKUP(B138,ｴﾝﾄﾘｰ票!$AR$16:$AT$205,2,0)))","v":""},null,{"$f":"IF(B138=\"\",\"\",IF(ISERROR(VLOOKUP(B138,ｴﾝﾄﾘｰ票!$AX$16:$AZ$205,1,0)),\"\",VLOOKUP(B138,ｴﾝﾄﾘｰ票!$AX$16:$AZ$205,2,0)))","v":""}]
[89,{"$f":"IF(ISERROR(VLOOKUP(A139*10-9+2000,ｴﾝﾄﾘｰ票!C$15:AI$215,3,0)),\"\",VLOOKUP(A139*10-9+2000,ｴﾝﾄﾘｰ票!C$15:AI$215,3,0))","v":""},{"$f":"IF(B139=\"\",\"\",CONCATENATE(VLOOKUP(B139,ｴﾝﾄﾘｰ票!$E$16:$L$215,2,0),\"　\",VLOOKUP(B139,ｴﾝﾄﾘｰ票!$E$16:$L$215,3,0)))","v":""},null,null,null,null,{"$f":"IF(B139=\"\",\"\",VLOOKUP(B139,ｴﾝﾄﾘｰ票!$E$16:$L$215,6,0))","v":""},null,{"$f":"IF(B139=\"\",\"\",IF(VLOOKUP(B139,ｴﾝﾄﾘｰ票!$E$16:$Y$215,10,0)=\"\",\"\",VLOOKUP(B139,ｴﾝﾄﾘｰ票!$E$16:$Y$215,10,0)))","v":""},null,{"$f":"IF(B139=\"\",\"\",IF(VLOOKUP(B139,ｴﾝﾄﾘｰ票!$E$16:$Y$215,14,0)=\"\",\"\",VLOOKUP(B139,ｴﾝﾄﾘｰ票!$E$16:$Y$215,14,0)))","v":""},null,{"$f":"IF(B139=\"\",\"\",IF(VLOOKUP(B139,ｴﾝﾄﾘｰ票!$E$16:$Y$215,18,0)=\"\",\"\",VLOOKUP(B139,ｴﾝﾄﾘｰ票!$E$16:$Y$215,18,0)))","v":""},{"$f":"IF(B139=\"\",\"\",IF(ISERROR(VLOOKUP(B139,ｴﾝﾄﾘｰ票!$AR$16:$AT$205,1,0)),\"\",VLOOKUP(B139,ｴﾝﾄﾘｰ票!$AR$16:$AT$205,2,0)))","v":""},null,{"$f":"IF(B139=\"\",\"\",IF(ISERROR(VLOOKUP(B139,ｴﾝﾄﾘｰ票!$AX$16:$AZ$205,1,0)),\"\",VLOOKUP(B139,ｴﾝﾄﾘｰ票!$AX$16:$AZ$205,2,0)))","v":""}]
[90,{"$f":"IF(ISERROR(VLOOKUP(A140*10-9+2000,ｴﾝﾄﾘｰ票!C$15:AI$215,3,0)),\"\",VLOOKUP(A140*10-9+2000,ｴﾝﾄﾘｰ票!C$15:AI$215,3,0))","v":""},{"$f":"IF(B140=\"\",\"\",CONCATENATE(VLOOKUP(B140,ｴﾝﾄﾘｰ票!$E$16:$L$215,2,0),\"　\",VLOOKUP(B140,ｴﾝﾄﾘｰ票!$E$16:$L$215,3,0)))","v":""},null,null,null,null,{"$f":"IF(B140=\"\",\"\",VLOOKUP(B140,ｴﾝﾄﾘｰ票!$E$16:$L$215,6,0))","v":""},null,{"$f":"IF(B140=\"\",\"\",IF(VLOOKUP(B140,ｴﾝﾄﾘｰ票!$E$16:$Y$215,10,0)=\"\",\"\",VLOOKUP(B140,ｴﾝﾄﾘｰ票!$E$16:$Y$215,10,0)))","v":""},null,{"$f":"IF(B140=\"\",\"\",IF(VLOOKUP(B140,ｴﾝﾄﾘｰ票!$E$16:$Y$215,14,0)=\"\",\"\",VLOOKUP(B140,ｴﾝﾄﾘｰ票!$E$16:$Y$215,14,0)))","v":""},null,{"$f":"IF(B140=\"\",\"\",IF(VLOOKUP(B140,ｴﾝﾄﾘｰ票!$E$16:$Y$215,18,0)=\"\",\"\",VLOOKUP(B140,ｴﾝﾄﾘｰ票!$E$16:$Y$215,18,0)))","v":""},{"$f":"IF(B140=\"\",\"\",IF(ISERROR(VLOOKUP(B140,ｴﾝﾄﾘｰ票!$AR$16:$AT$205,1,0)),\"\",VLOOKUP(B140,ｴﾝﾄﾘｰ票!$AR$16:$AT$205,2,0)))","v":""},null,{"$f":"IF(B140=\"\",\"\",IF(ISERROR(VLOOKUP(B140,ｴﾝﾄﾘｰ票!$AX$16:$AZ$205,1,0)),\"\",VLOOKUP(B140,ｴﾝﾄﾘｰ票!$AX$16:$AZ$205,2,0)))","v":""}]
[91,{"$f":"IF(ISERROR(VLOOKUP(A141*10-9+2000,ｴﾝﾄﾘｰ票!C$15:AI$215,3,0)),\"\",VLOOKUP(A141*10-9+2000,ｴﾝﾄﾘｰ票!C$15:AI$215,3,0))","v":""},{"$f":"IF(B141=\"\",\"\",CONCATENATE(VLOOKUP(B141,ｴﾝﾄﾘｰ票!$E$16:$L$215,2,0),\"　\",VLOOKUP(B141,ｴﾝﾄﾘｰ票!$E$16:$L$215,3,0)))","v":""},null,null,null,null,{"$f":"IF(B141=\"\",\"\",VLOOKUP(B141,ｴﾝﾄﾘｰ票!$E$16:$L$215,6,0))","v":""},null,{"$f":"IF(B141=\"\",\"\",IF(VLOOKUP(B141,ｴﾝﾄﾘｰ票!$E$16:$Y$215,10,0)=\"\",\"\",VLOOKUP(B141,ｴﾝﾄﾘｰ票!$E$16:$Y$215,10,0)))","v":""},null,{"$f":"IF(B141=\"\",\"\",IF(VLOOKUP(B141,ｴﾝﾄﾘｰ票!$E$16:$Y$215,14,0)=\"\",\"\",VLOOKUP(B141,ｴﾝﾄﾘｰ票!$E$16:$Y$215,14,0)))","v":""},null,{"$f":"IF(B141=\"\",\"\",IF(VLOOKUP(B141,ｴﾝﾄﾘｰ票!$E$16:$Y$215,18,0)=\"\",\"\",VLOOKUP(B141,ｴﾝﾄﾘｰ票!$E$16:$Y$215,18,0)))","v":""},{"$f":"IF(B141=\"\",\"\",IF(ISERROR(VLOOKUP(B141,ｴﾝﾄﾘｰ票!$AR$16:$AT$205,1,0)),\"\",VLOOKUP(B141,ｴﾝﾄﾘｰ票!$AR$16:$AT$205,2,0)))","v":""},null,{"$f":"IF(B141=\"\",\"\",IF(ISERROR(VLOOKUP(B141,ｴﾝﾄﾘｰ票!$AX$16:$AZ$205,1,0)),\"\",VLOOKUP(B141,ｴﾝﾄﾘｰ票!$AX$16:$AZ$205,2,0)))","v":""}]
[92,{"$f":"IF(ISERROR(VLOOKUP(A142*10-9+2000,ｴﾝﾄﾘｰ票!C$15:AI$215,3,0)),\"\",VLOOKUP(A142*10-9+2000,ｴﾝﾄﾘｰ票!C$15:AI$215,3,0))","v":""},{"$f":"IF(B142=\"\",\"\",CONCATENATE(VLOOKUP(B142,ｴﾝﾄﾘｰ票!$E$16:$L$215,2,0),\"　\",VLOOKUP(B142,ｴﾝﾄﾘｰ票!$E$16:$L$215,3,0)))","v":""},null,null,null,null,{"$f":"IF(B142=\"\",\"\",VLOOKUP(B142,ｴﾝﾄﾘｰ票!$E$16:$L$215,6,0))","v":""},null,{"$f":"IF(B142=\"\",\"\",IF(VLOOKUP(B142,ｴﾝﾄﾘｰ票!$E$16:$Y$215,10,0)=\"\",\"\",VLOOKUP(B142,ｴﾝﾄﾘｰ票!$E$16:$Y$215,10,0)))","v":""},null,{"$f":"IF(B142=\"\",\"\",IF(VLOOKUP(B142,ｴﾝﾄﾘｰ票!$E$16:$Y$215,14,0)=\"\",\"\",VLOOKUP(B142,ｴﾝﾄﾘｰ票!$E$16:$Y$215,14,0)))","v":""},null,{"$f":"IF(B142=\"\",\"\",IF(VLOOKUP(B142,ｴﾝﾄﾘｰ票!$E$16:$Y$215,18,0)=\"\",\"\",VLOOKUP(B142,ｴﾝﾄﾘｰ票!$E$16:$Y$215,18,0)))","v":""},{"$f":"IF(B142=\"\",\"\",IF(ISERROR(VLOOKUP(B142,ｴﾝﾄﾘｰ票!$AR$16:$AT$205,1,0)),\"\",VLOOKUP(B142,ｴﾝﾄﾘｰ票!$AR$16:$AT$205,2,0)))","v":""},null,{"$f":"IF(B142=\"\",\"\",IF(ISERROR(VLOOKUP(B142,ｴﾝﾄﾘｰ票!$AX$16:$AZ$205,1,0)),\"\",VLOOKUP(B142,ｴﾝﾄﾘｰ票!$AX$16:$AZ$205,2,0)))","v":""}]
[93,{"$f":"IF(ISERROR(VLOOKUP(A143*10-9+2000,ｴﾝﾄﾘｰ票!C$15:AI$215,3,0)),\"\",VLOOKUP(A143*10-9+2000,ｴﾝﾄﾘｰ票!C$15:AI$215,3,0))","v":""},{"$f":"IF(B143=\"\",\"\",CONCATENATE(VLOOKUP(B143,ｴﾝﾄﾘｰ票!$E$16:$L$215,2,0),\"　\",VLOOKUP(B143,ｴﾝﾄﾘｰ票!$E$16:$L$215,3,0)))","v":""},null,null,null,null,{"$f":"IF(B143=\"\",\"\",VLOOKUP(B143,ｴﾝﾄﾘｰ票!$E$16:$L$215,6,0))","v":""},null,{"$f":"IF(B143=\"\",\"\",IF(VLOOKUP(B143,ｴﾝﾄﾘｰ票!$E$16:$Y$215,10,0)=\"\",\"\",VLOOKUP(B143,ｴﾝﾄﾘｰ票!$E$16:$Y$215,10,0)))","v":""},null,{"$f":"IF(B143=\"\",\"\",IF(VLOOKUP(B143,ｴﾝﾄﾘｰ票!$E$16:$Y$215,14,0)=\"\",\"\",VLOOKUP(B143,ｴﾝﾄﾘｰ票!$E$16:$Y$215,14,0)))","v":""},null,{"$f":"IF(B143=\"\",\"\",IF(VLOOKUP(B143,ｴﾝﾄﾘｰ票!$E$16:$Y$215,18,0)=\"\",\"\",VLOOKUP(B143,ｴﾝﾄﾘｰ票!$E$16:$Y$215,18,0)))","v":""},{"$f":"IF(B143=\"\",\"\",IF(ISERROR(VLOOKUP(B143,ｴﾝﾄﾘｰ票!$AR$16:$AT$205,1,0)),\"\",VLOOKUP(B143,ｴﾝﾄﾘｰ票!$AR$16:$AT$205,2,0)))","v":""},null,{"$f":"IF(B143=\"\",\"\",IF(ISERROR(VLOOKUP(B143,ｴﾝﾄﾘｰ票!$AX$16:$AZ$205,1,0)),\"\",VLOOKUP(B143,ｴﾝﾄﾘｰ票!$AX$16:$AZ$205,2,0)))","v":""}]
[94,{"$f":"IF(ISERROR(VLOOKUP(A144*10-9+2000,ｴﾝﾄﾘｰ票!C$15:AI$215,3,0)),\"\",VLOOKUP(A144*10-9+2000,ｴﾝﾄﾘｰ票!C$15:AI$215,3,0))","v":""},{"$f":"IF(B144=\"\",\"\",CONCATENATE(VLOOKUP(B144,ｴﾝﾄﾘｰ票!$E$16:$L$215,2,0),\"　\",VLOOKUP(B144,ｴﾝﾄﾘｰ票!$E$16:$L$215,3,0)))","v":""},null,null,null,null,{"$f":"IF(B144=\"\",\"\",VLOOKUP(B144,ｴﾝﾄﾘｰ票!$E$16:$L$215,6,0))","v":""},null,{"$f":"IF(B144=\"\",\"\",IF(VLOOKUP(B144,ｴﾝﾄﾘｰ票!$E$16:$Y$215,10,0)=\"\",\"\",VLOOKUP(B144,ｴﾝﾄﾘｰ票!$E$16:$Y$215,10,0)))","v":""},null,{"$f":"IF(B144=\"\",\"\",IF(VLOOKUP(B144,ｴﾝﾄﾘｰ票!$E$16:$Y$215,14,0)=\"\",\"\",VLOOKUP(B144,ｴﾝﾄﾘｰ票!$E$16:$Y$215,14,0)))","v":""},null,{"$f":"IF(B144=\"\",\"\",IF(VLOOKUP(B144,ｴﾝﾄﾘｰ票!$E$16:$Y$215,18,0)=\"\",\"\",VLOOKUP(B144,ｴﾝﾄﾘｰ票!$E$16:$Y$215,18,0)))","v":""},{"$f":"IF(B144=\"\",\"\",IF(ISERROR(VLOOKUP(B144,ｴﾝﾄﾘｰ票!$AR$16:$AT$205,1,0)),\"\",VLOOKUP(B144,ｴﾝﾄﾘｰ票!$AR$16:$AT$205,2,0)))","v":""},null,{"$f":"IF(B144=\"\",\"\",IF(ISERROR(VLOOKUP(B144,ｴﾝﾄﾘｰ票!$AX$16:$AZ$205,1,0)),\"\",VLOOKUP(B144,ｴﾝﾄﾘｰ票!$AX$16:$AZ$205,2,0)))","v":""}]
[95,{"$f":"IF(ISERROR(VLOOKUP(A145*10-9+2000,ｴﾝﾄﾘｰ票!C$15:AI$215,3,0)),\"\",VLOOKUP(A145*10-9+2000,ｴﾝﾄﾘｰ票!C$15:AI$215,3,0))","v":""},{"$f":"IF(B145=\"\",\"\",CONCATENATE(VLOOKUP(B145,ｴﾝﾄﾘｰ票!$E$16:$L$215,2,0),\"　\",VLOOKUP(B145,ｴﾝﾄﾘｰ票!$E$16:$L$215,3,0)))","v":""},null,null,null,null,{"$f":"IF(B145=\"\",\"\",VLOOKUP(B145,ｴﾝﾄﾘｰ票!$E$16:$L$215,6,0))","v":""},null,{"$f":"IF(B145=\"\",\"\",IF(VLOOKUP(B145,ｴﾝﾄﾘｰ票!$E$16:$Y$215,10,0)=\"\",\"\",VLOOKUP(B145,ｴﾝﾄﾘｰ票!$E$16:$Y$215,10,0)))","v":""},null,{"$f":"IF(B145=\"\",\"\",IF(VLOOKUP(B145,ｴﾝﾄﾘｰ票!$E$16:$Y$215,14,0)=\"\",\"\",VLOOKUP(B145,ｴﾝﾄﾘｰ票!$E$16:$Y$215,14,0)))","v":""},null,{"$f":"IF(B145=\"\",\"\",IF(VLOOKUP(B145,ｴﾝﾄﾘｰ票!$E$16:$Y$215,18,0)=\"\",\"\",VLOOKUP(B145,ｴﾝﾄﾘｰ票!$E$16:$Y$215,18,0)))","v":""},{"$f":"IF(B145=\"\",\"\",IF(ISERROR(VLOOKUP(B145,ｴﾝﾄﾘｰ票!$AR$16:$AT$205,1,0)),\"\",VLOOKUP(B145,ｴﾝﾄﾘｰ票!$AR$16:$AT$205,2,0)))","v":""},null,{"$f":"IF(B145=\"\",\"\",IF(ISERROR(VLOOKUP(B145,ｴﾝﾄﾘｰ票!$AX$16:$AZ$205,1,0)),\"\",VLOOKUP(B145,ｴﾝﾄﾘｰ票!$AX$16:$AZ$205,2,0)))","v":""}]
[96,{"$f":"IF(ISERROR(VLOOKUP(A146*10-9+2000,ｴﾝﾄﾘｰ票!C$15:AI$215,3,0)),\"\",VLOOKUP(A146*10-9+2000,ｴﾝﾄﾘｰ票!C$15:AI$215,3,0))","v":""},{"$f":"IF(B146=\"\",\"\",CONCATENATE(VLOOKUP(B146,ｴﾝﾄﾘｰ票!$E$16:$L$215,2,0),\"　\",VLOOKUP(B146,ｴﾝﾄﾘｰ票!$E$16:$L$215,3,0)))","v":""},null,null,null,null,{"$f":"IF(B146=\"\",\"\",VLOOKUP(B146,ｴﾝﾄﾘｰ票!$E$16:$L$215,6,0))","v":""},null,{"$f":"IF(B146=\"\",\"\",IF(VLOOKUP(B146,ｴﾝﾄﾘｰ票!$E$16:$Y$215,10,0)=\"\",\"\",VLOOKUP(B146,ｴﾝﾄﾘｰ票!$E$16:$Y$215,10,0)))","v":""},null,{"$f":"IF(B146=\"\",\"\",IF(VLOOKUP(B146,ｴﾝﾄﾘｰ票!$E$16:$Y$215,14,0)=\"\",\"\",VLOOKUP(B146,ｴﾝﾄﾘｰ票!$E$16:$Y$215,14,0)))","v":""},null,{"$f":"IF(B146=\"\",\"\",IF(VLOOKUP(B146,ｴﾝﾄﾘｰ票!$E$16:$Y$215,18,0)=\"\",\"\",VLOOKUP(B146,ｴﾝﾄﾘｰ票!$E$16:$Y$215,18,0)))","v":""},{"$f":"IF(B146=\"\",\"\",IF(ISERROR(VLOOKUP(B146,ｴﾝﾄﾘｰ票!$AR$16:$AT$205,1,0)),\"\",VLOOKUP(B146,ｴﾝﾄﾘｰ票!$AR$16:$AT$205,2,0)))","v":""},null,{"$f":"IF(B146=\"\",\"\",IF(ISERROR(VLOOKUP(B146,ｴﾝﾄﾘｰ票!$AX$16:$AZ$205,1,0)),\"\",VLOOKUP(B146,ｴﾝﾄﾘｰ票!$AX$16:$AZ$205,2,0)))","v":""}]
[97,{"$f":"IF(ISERROR(VLOOKUP(A147*10-9+2000,ｴﾝﾄﾘｰ票!C$15:AI$215,3,0)),\"\",VLOOKUP(A147*10-9+2000,ｴﾝﾄﾘｰ票!C$15:AI$215,3,0))","v":""},{"$f":"IF(B147=\"\",\"\",CONCATENATE(VLOOKUP(B147,ｴﾝﾄﾘｰ票!$E$16:$L$215,2,0),\"　\",VLOOKUP(B147,ｴﾝﾄﾘｰ票!$E$16:$L$215,3,0)))","v":""},null,null,null,null,{"$f":"IF(B147=\"\",\"\",VLOOKUP(B147,ｴﾝﾄﾘｰ票!$E$16:$L$215,6,0))","v":""},null,{"$f":"IF(B147=\"\",\"\",IF(VLOOKUP(B147,ｴﾝﾄﾘｰ票!$E$16:$Y$215,10,0)=\"\",\"\",VLOOKUP(B147,ｴﾝﾄﾘｰ票!$E$16:$Y$215,10,0)))","v":""},null,{"$f":"IF(B147=\"\",\"\",IF(VLOOKUP(B147,ｴﾝﾄﾘｰ票!$E$16:$Y$215,14,0)=\"\",\"\",VLOOKUP(B147,ｴﾝﾄﾘｰ票!$E$16:$Y$215,14,0)))","v":""},null,{"$f":"IF(B147=\"\",\"\",IF(VLOOKUP(B147,ｴﾝﾄﾘｰ票!$E$16:$Y$215,18,0)=\"\",\"\",VLOOKUP(B147,ｴﾝﾄﾘｰ票!$E$16:$Y$215,18,0)))","v":""},{"$f":"IF(B147=\"\",\"\",IF(ISERROR(VLOOKUP(B147,ｴﾝﾄﾘｰ票!$AR$16:$AT$205,1,0)),\"\",VLOOKUP(B147,ｴﾝﾄﾘｰ票!$AR$16:$AT$205,2,0)))","v":""},null,{"$f":"IF(B147=\"\",\"\",IF(ISERROR(VLOOKUP(B147,ｴﾝﾄﾘｰ票!$AX$16:$AZ$205,1,0)),\"\",VLOOKUP(B147,ｴﾝﾄﾘｰ票!$AX$16:$AZ$205,2,0)))","v":""}]
[98,{"$f":"IF(ISERROR(VLOOKUP(A148*10-9+2000,ｴﾝﾄﾘｰ票!C$15:AI$215,3,0)),\"\",VLOOKUP(A148*10-9+2000,ｴﾝﾄﾘｰ票!C$15:AI$215,3,0))","v":""},{"$f":"IF(B148=\"\",\"\",CONCATENATE(VLOOKUP(B148,ｴﾝﾄﾘｰ票!$E$16:$L$215,2,0),\"　\",VLOOKUP(B148,ｴﾝﾄﾘｰ票!$E$16:$L$215,3,0)))","v":""},null,null,null,null,{"$f":"IF(B148=\"\",\"\",VLOOKUP(B148,ｴﾝﾄﾘｰ票!$E$16:$L$215,6,0))","v":""},null,{"$f":"IF(B148=\"\",\"\",IF(VLOOKUP(B148,ｴﾝﾄﾘｰ票!$E$16:$Y$215,10,0)=\"\",\"\",VLOOKUP(B148,ｴﾝﾄﾘｰ票!$E$16:$Y$215,10,0)))","v":""},null,{"$f":"IF(B148=\"\",\"\",IF(VLOOKUP(B148,ｴﾝﾄﾘｰ票!$E$16:$Y$215,14,0)=\"\",\"\",VLOOKUP(B148,ｴﾝﾄﾘｰ票!$E$16:$Y$215,14,0)))","v":""},null,{"$f":"IF(B148=\"\",\"\",IF(VLOOKUP(B148,ｴﾝﾄﾘｰ票!$E$16:$Y$215,18,0)=\"\",\"\",VLOOKUP(B148,ｴﾝﾄﾘｰ票!$E$16:$Y$215,18,0)))","v":""},{"$f":"IF(B148=\"\",\"\",IF(ISERROR(VLOOKUP(B148,ｴﾝﾄﾘｰ票!$AR$16:$AT$205,1,0)),\"\",VLOOKUP(B148,ｴﾝﾄﾘｰ票!$AR$16:$AT$205,2,0)))","v":""},null,{"$f":"IF(B148=\"\",\"\",IF(ISERROR(VLOOKUP(B148,ｴﾝﾄﾘｰ票!$AX$16:$AZ$205,1,0)),\"\",VLOOKUP(B148,ｴﾝﾄﾘｰ票!$AX$16:$AZ$205,2,0)))","v":""}]
[99,{"$f":"IF(ISERROR(VLOOKUP(A149*10-9+2000,ｴﾝﾄﾘｰ票!C$15:AI$215,3,0)),\"\",VLOOKUP(A149*10-9+2000,ｴﾝﾄﾘｰ票!C$15:AI$215,3,0))","v":""},{"$f":"IF(B149=\"\",\"\",CONCATENATE(VLOOKUP(B149,ｴﾝﾄﾘｰ票!$E$16:$L$215,2,0),\"　\",VLOOKUP(B149,ｴﾝﾄﾘｰ票!$E$16:$L$215,3,0)))","v":""},null,null,null,null,{"$f":"IF(B149=\"\",\"\",VLOOKUP(B149,ｴﾝﾄﾘｰ票!$E$16:$L$215,6,0))","v":""},null,{"$f":"IF(B149=\"\",\"\",IF(VLOOKUP(B149,ｴﾝﾄﾘｰ票!$E$16:$Y$215,10,0)=\"\",\"\",VLOOKUP(B149,ｴﾝﾄﾘｰ票!$E$16:$Y$215,10,0)))","v":""},null,{"$f":"IF(B149=\"\",\"\",IF(VLOOKUP(B149,ｴﾝﾄﾘｰ票!$E$16:$Y$215,14,0)=\"\",\"\",VLOOKUP(B149,ｴﾝﾄﾘｰ票!$E$16:$Y$215,14,0)))","v":""},null,{"$f":"IF(B149=\"\",\"\",IF(VLOOKUP(B149,ｴﾝﾄﾘｰ票!$E$16:$Y$215,18,0)=\"\",\"\",VLOOKUP(B149,ｴﾝﾄﾘｰ票!$E$16:$Y$215,18,0)))","v":""},{"$f":"IF(B149=\"\",\"\",IF(ISERROR(VLOOKUP(B149,ｴﾝﾄﾘｰ票!$AR$16:$AT$205,1,0)),\"\",VLOOKUP(B149,ｴﾝﾄﾘｰ票!$AR$16:$AT$205,2,0)))","v":""},null,{"$f":"IF(B149=\"\",\"\",IF(ISERROR(VLOOKUP(B149,ｴﾝﾄﾘｰ票!$AX$16:$AZ$205,1,0)),\"\",VLOOKUP(B149,ｴﾝﾄﾘｰ票!$AX$16:$AZ$205,2,0)))","v":""}]
[100,{"$f":"IF(ISERROR(VLOOKUP(A150*10-9+2000,ｴﾝﾄﾘｰ票!C$15:AI$215,3,0)),\"\",VLOOKUP(A150*10-9+2000,ｴﾝﾄﾘｰ票!C$15:AI$215,3,0))","v":""},{"$f":"IF(B150=\"\",\"\",CONCATENATE(VLOOKUP(B150,ｴﾝﾄﾘｰ票!$E$16:$L$215,2,0),\"　\",VLOOKUP(B150,ｴﾝﾄﾘｰ票!$E$16:$L$215,3,0)))","v":""},null,null,null,null,{"$f":"IF(B150=\"\",\"\",VLOOKUP(B150,ｴﾝﾄﾘｰ票!$E$16:$L$215,6,0))","v":""},null,{"$f":"IF(B150=\"\",\"\",IF(VLOOKUP(B150,ｴﾝﾄﾘｰ票!$E$16:$Y$215,10,0)=\"\",\"\",VLOOKUP(B150,ｴﾝﾄﾘｰ票!$E$16:$Y$215,10,0)))","v":""},null,{"$f":"IF(B150=\"\",\"\",IF(VLOOKUP(B150,ｴﾝﾄﾘｰ票!$E$16:$Y$215,14,0)=\"\",\"\",VLOOKUP(B150,ｴﾝﾄﾘｰ票!$E$16:$Y$215,14,0)))","v":""},null,{"$f":"IF(B150=\"\",\"\",IF(VLOOKUP(B150,ｴﾝﾄﾘｰ票!$E$16:$Y$215,18,0)=\"\",\"\",VLOOKUP(B150,ｴﾝﾄﾘｰ票!$E$16:$Y$215,18,0)))","v":""},{"$f":"IF(B150=\"\",\"\",IF(ISERROR(VLOOKUP(B150,ｴﾝﾄﾘｰ票!$AR$16:$AT$205,1,0)),\"\",VLOOKUP(B150,ｴﾝﾄﾘｰ票!$AR$16:$AT$205,2,0)))","v":""},null,{"$f":"IF(B150=\"\",\"\",IF(ISERROR(VLOOKUP(B150,ｴﾝﾄﾘｰ票!$AX$16:$AZ$205,1,0)),\"\",VLOOKUP(B150,ｴﾝﾄﾘｰ票!$AX$16:$AZ$205,2,0)))","v":""}]

{"sheet":"Ａ票女(都予選)","index":6,"n_rows":150,"n_cols":26,"rows_kept":150,"cut":false,"hidden":false,"merged":[[149,14,149,15],[143,14,143,15],[144,14,144,15],[145,14,145,15],[146,14,146,15],[147,14,147,15],[148,14,148,15],[137,14,137,15],[138,14,138,15],[139,14,139,15],[140,14,140,15],[141,14,141,15],[142,14,142,15],[131,14,131,15],[132,14,132,15],[133,14,133,15],[134,14,134,15],[135,14,135,15],[136,14,136,15],[129,14,129,15],[129,17,129,18],[129,19,129,20],[129,21,129,22],[129,24,129,25],[130,14,130,15],[125,0,126,1],[125,2,126,8],[125,9,126,9],[129,9,129,10],[129,11,129,12],[117,14,117,15],[118,14,118,15],[119,14,119,15],[120,14,120,15],[123,0,124,1],[123,2,124,9],[111,14,111,15],[112,14,112,15],[113,14,113,15],[114,14,114,15],[115,14,115,15],[116,14,116,15],[105,14,105,15],[106,14,106,15],[107,14,107,15],[108,14,108,15],[109,14,109,15],[110,14,110,15],[100,21,100,22],[100,24,100,25],[101,14,101,15],[102,14,102,15],[103,14,103,15],[104,14,104,15],[100,9,100,10],[100,11,100,12],[100,14,100,15],[100,17,100,18],[100,19,100,20],[91,14,91,15],[94,0,95,1],[94,2,95,9],[96,0,97,1],[96,2,97,8],[96,9,97,9],[85,14,85,15],[86,14,86,15],[87,14,87,15],[88,14,88,15],[89,14,89,15],[90,14,90,15],[79,14,79,15],[80,14,80,15],[81,14,81,15],[82,14,82,15],[83,14,83,15],[84,14,84,15],[73,14,73,15],[74,14,74,15],[75,14,75,15],[76,14,76,15],[77,14,77,15],[78,14,78,15],[71,14,71,15],[71,17,71,18],[71,19,71,20],[71,21,71,22],[71,24,71,25],[72,14,72,15],[67,0,68,1],[67,2,68,8],[67,9,68,9],[71,9,71,10],[71,11,71,12],[59,14,59,15],[60,14,60,15],[61,14,61,15],[62,14,62,15],[65,0,66,1],[65,2,66,9],[53,14,53,15],[54,14,54,15],[55,14,55,15],[56,14,56,15],[57,14,57,15],[58,14,58,15],[47,14,47,15],[48,14,48,15],[49,14,49,15],[50,14,50,15],[51,14,51,15],[52,14,52,15],[42,21,42,22],[42,24,42,25],[43,14,43,15],[44,14,44,15],[45,14,45,15],[46,14,46,15],[42,9,42,10],[42,11,42,12],[42,14,42,15],[42,17,42,18],[42,19,42,20],[33,10,33,11],[36,0,37,1],[36,2,37,9],[38,0,39,1],[38,2,39,8],[38,9,39,9],[32,2,32,3],[32,4,32,6],[32,7,32,9],[33,2,33,3],[33,5,33,6],[33,7,33,9],[27,14,27,15],[28,14,28,15],[30,2,30,3],[30,4,30,6],[30,7,30,9],[31,2,31,3],[31,4,31,6],[31,7,31,9],[21,14,21,15],[22,14,22,15],[23,14,23,15],[24,14,24,15],[25,14,25,15],[26,14,26,15],[15,14,15,15],[16,14,16,15],[17,14,17,15],[18,14,18,15],[19,14,19,15],[20,14,20,15],[9,14,9,15],[10,14,10,15],[11,14,11,15],[12,14,12,15],[13,14,13,15],[14,14,14,15],[8,11,8,12],[8,14,8,15],[8,17,8,18],[8,19,8,20],[8,21,8,22],[8,24,8,25],[2,0,3,1],[2,2,3,9],[4,0,5,1],[4,2,5,8],[4,9,5,9],[8,9,8,10]]}
[null,{"$f":"ｴﾝﾄﾘｰ票!$G$1","v":"東京都高校新人陸上競技大会第４支部予選会"},null,null,null,null,null,null,null,null,null,null,null,null,null,null,null,null,null,null,null,null,null,null,null,"申込用紙(A票）"]
[{"$f":"ｴﾝﾄﾘｰ票!R1","v":"平成30年度"},null,null,null,null,null,null,null,null,null,null,null,null,null,null,null,null,null,null,null,null,null,null,"女子",null,"Ｎｏ．１"]
["学校名",null,{"$f":"ｴﾝﾄﾘｰ票!$G$2","v":0},null,null,null,null,null,null,null,"学校所在地",null,{"$f":"ｴﾝﾄﾘｰ票!$G$5","v":0}]
[null,null,null,null,null,null,null,null,null,null,"電話",null,{"$f":"ｴﾝﾄﾘｰ票!$G$6","v":"00:00:00"},null,null,null,null,"ＦＡＸ",null,{"$f":"ｴﾝﾄﾘｰ票!$G$7","v":0}]
["学校長",null,{"$f":"ｴﾝﾄﾘｰ票!$G$4","v":0},null,null,null,null,null,null,"印","顧問氏名",null,{"$f":"ｴﾝﾄﾘｰ票!$G$8","v":0},null,null,null,"印"]
[null,null,null,null,null,null,null,null,null,null,"連絡先",null,{"$f":"ｴﾝﾄﾘｰ票!$G$9","v":0}]
[]
[null,null,null,null,null,null,null,null,null,null,null,null,null,"種目",null,null,null,null,null,null,null,"本大会種目"]
[null,"番号","出場者氏名",null,null,null,null,"学年",null,"個人",null,"個人",null,"個人","4×100",null,"4×400","個人",null,"個人",null,"個人",null,"4×100","4×400"]
[1,{"$f":"IF(ISERROR(VLOOKUP(A10*10-9+6000,ｴﾝﾄﾘｰ票!C$15:AI$215,3,0)),\"\",VLOOKUP(A10*10-9+6000,ｴﾝﾄﾘｰ票!C$15:AI$215,3,0))","v":""},{"$f":"IF(B10=\"\",\"\",CONCATENATE(VLOOKUP(B10,ｴﾝﾄﾘｰ票!$E$16:$L$215,2,0),\"　\",VLOOKUP(B10,ｴﾝﾄﾘｰ票!$E$16:$L$215,3,0)))","v":""},null,null,null,null,{"$f":"IF(B10=\"\",\"\",VLOOKUP(B10,ｴﾝﾄﾘｰ票!$E$16:$L$215,6,0))","v":""},null,{"$f":"IF(B10=\"\",\"\",IF(VLOOKUP(B10,ｴﾝﾄﾘｰ票!$E$16:$Y$215,10,0)=\"\",\"\",VLOOKUP(B10,ｴﾝﾄﾘｰ票!$E$16:$Y$215,10,0)))","v":""},null,{"$f":"IF(B10=\"\",\"\",IF(VLOOKUP(B10,ｴﾝﾄﾘｰ票!$E$16:$Y$215,14,0)=\"\",\"\",VLOOKUP(B10,ｴﾝﾄﾘｰ票!$E$16:$Y$215,14,0)))","v":""},null,{"$f":"IF(B10=\"\",\"\",IF(VLOOKUP(B10,ｴﾝﾄﾘｰ票!$E$16:$Y$215,18,0)=\"\",\"\",VLOOKUP(B10,ｴﾝﾄﾘｰ票!$E$16:$Y$215,18,0)))","v":""},{"$f":"IF(B10=\"\",\"\",IF(ISERROR(VLOOKUP(B10,ｴﾝﾄﾘｰ票!$BD$16:$BE$205,1,0)),\"\",VLOOKUP(B10,ｴﾝﾄﾘｰ票!$BD$16:$BE$205,2,0)))","v":""},null,{"$f":"IF(B10=\"\",\"\",IF(ISERROR(VLOOKUP(B10,ｴﾝﾄﾘｰ票!$BJ$16:$BK$205,1,0)),\"\",VLOOKUP(B10,ｴﾝﾄﾘｰ票!$BJ$16:$BK$205,2,0)))","v":""}]
[2,{"$f":"IF(ISERROR(VLOOKUP(A11*10-9+6000,ｴﾝﾄﾘｰ票!C$15:AI$215,3,0)),\"\",VLOOKUP(A11*10-9+6000,ｴﾝﾄﾘｰ票!C$15:AI$215,3,0))","v":""},{"$f":"IF(B11=\"\",\"\",CONCATENATE(VLOOKUP(B11,ｴﾝﾄﾘｰ票!$E$16:$L$215,2,0),\"　\",VLOOKUP(B11,ｴﾝﾄﾘｰ票!$E$16:$L$215,3,0)))","v":""},null,null,null,null,{"$f":"IF(B11=\"\",\"\",VLOOKUP(B11,ｴﾝﾄﾘｰ票!$E$16:$L$215,6,0))","v":""},null,{"$f":"IF(B11=\"\",\"\",IF(VLOOKUP(B11,ｴﾝﾄﾘｰ票!$E$16:$Y$215,10,0)=\"\",\"\",VLOOKUP(B11,ｴﾝﾄﾘｰ票!$E$16:$Y$215,10,0)))","v":""},null,{"$f":"IF(B11=\"\",\"\",IF(VLOOKUP(B11,ｴﾝﾄﾘｰ票!$E$16:$Y$215,14,0)=\"\",\"\",VLOOKUP(B11,ｴﾝﾄﾘｰ票!$E$16:$Y$215,14,0)))","v":""},null,{"$f":"IF(B11=\"\",\"\",IF(VLOOKUP(B11,ｴﾝﾄﾘｰ票!$E$16:$Y$215,18,0)=\"\",\"\",VLOOKUP(B11,ｴﾝﾄﾘｰ票!$E$16:$Y$215,18,0)))","v":""},{"$f":"IF(B11=\"\",\"\",IF(ISERROR(VLOOKUP(B11,ｴﾝﾄﾘｰ票!$BD$16:$BE$205,1,0)),\"\",VLOOKUP(B11,ｴﾝﾄﾘｰ票!$BD$16:$BE$205,2,0)))","v":""},null,{"$f":"IF(B11=\"\",\"\",IF(ISERROR(VLOOKUP(B11,ｴﾝﾄﾘｰ票!$BJ$16:$BK$205,1,0)),\"\",VLOOKUP(B11,ｴﾝﾄﾘｰ票!$BJ$16:$BK$205,2,0)))","v":""}]
[3,{"$f":"IF(ISERROR(VLOOKUP(A12*10-9+6000,ｴﾝﾄﾘｰ票!C$15:AI$215,3,0)),\"\",VLOOKUP(A12*10-9+6000,ｴﾝﾄﾘｰ票!C$15:AI$215,3,0))","v":""},{"$f":"IF(B12=\"\",\"\",CONCATENATE(VLOOKUP(B12,ｴﾝﾄﾘｰ票!$E$16:$L$215,2,0),\"　\",VLOOKUP(B12,ｴﾝﾄﾘｰ票!$E$16:$L$215,3,0)))","v":""},null,null,null,null,{"$f":"IF(B12=\"\",\"\",VLOOKUP(B12,ｴﾝﾄﾘｰ票!$E$16:$L$215,6,0))","v":""},null,{"$f":"IF(B12=\"\",\"\",IF(VLOOKUP(B12,ｴﾝﾄﾘｰ票!$E$16:$Y$215,10,0)=\"\",\"\",VLOOKUP(B12,ｴﾝﾄﾘｰ票!$E$16:$Y$215,10,0)))","v":""},null,{"$f":"IF(B12=\"\",\"\",IF(VLOOKUP(B12,ｴﾝﾄﾘｰ票!$E$16:$Y$215,14,0)=\"\",\"\",VLOOKUP(B12,ｴﾝﾄﾘｰ票!$E$16:$Y$215,14,0)))","v":""},null,{"$f":"IF(B12=\"\",\"\",IF(VLOOKUP(B12,ｴﾝﾄﾘｰ票!$E$16:$Y$215,18,0)=\"\",\"\",VLOOKUP(B12,ｴﾝﾄﾘｰ票!$E$16:$Y$215,18,0)))","v":""},{"$f":"IF(B12=\"\",\"\",IF(ISERROR(VLOOKUP(B12,ｴﾝﾄﾘｰ票!$BD$16:$BE$205,1,0)),\"\",VLOOKUP(B12,ｴﾝﾄﾘｰ票!$BD$16:$BE$205,2,0)))","v":""},null,{"$f":"IF(B12=\"\",\"\",IF(ISERROR(VLOOKUP(B12,ｴﾝﾄﾘｰ票!$BJ$16:$BK$205,1,0)),\"\",VLOOKUP(B12,ｴﾝﾄﾘｰ票!$BJ$16:$BK$205,2,0)))","v":""}]
[4,{"$f":"IF(ISERROR(VLOOKUP(A13*10-9+6000,ｴﾝﾄﾘｰ票!C$15:AI$215,3,0)),\"\",VLOOKUP(A13*10-9+6000,ｴﾝﾄﾘｰ票!C$15:AI$215,3,0))","v":""},{"$f":"IF(B13=\"\",\"\",CONCATENATE(VLOOKUP(B13,ｴﾝﾄﾘｰ票!$E$16:$L$215,2,0),\"　\",VLOOKUP(B13,ｴﾝﾄﾘｰ票!$E$16:$L$215,3,0)))","v":""},null,null,null,null,{"$f":"IF(B13=\"\",\"\",VLOOKUP(B13,ｴﾝﾄﾘｰ票!$E$16:$L$215,6,0))","v":""},null,{"$f":"IF(B13=\"\",\"\",IF(VLOOKUP(B13,ｴﾝﾄﾘｰ票!$E$16:$Y$215,10,0)=\"\",\"\",VLOOKUP(B13,ｴﾝﾄﾘｰ票!$E$16:$Y$215,10,0)))","v":""},null,{"$f":"IF(B13=\"\",\"\",IF(VLOOKUP(B13,ｴﾝﾄﾘｰ票!$E$16:$Y$215,14,0)=\"\",\"\",VLOOKUP(B13,ｴﾝﾄﾘｰ票!$E$16:$Y$215,14,0)))","v":""},null,{"$f":"IF(B13=\"\",\"\",IF(VLOOKUP(B13,ｴﾝﾄﾘｰ票!$E$16:$Y$215,18,0)=\"\",\"\",VLOOKUP(B13,ｴﾝﾄﾘｰ票!$E$16:$Y$215,18,0)))","v":""},{"$f":"IF(B13=\"\",\"\",IF(ISERROR(VLOOKUP(B13,ｴﾝﾄﾘｰ票!$BD$16:$BE$205,1,0)),\"\",VLOOKUP(B13,ｴﾝﾄﾘｰ票!$BD$16:$BE$205,2,0)))","v":""},null,{"$f":"IF(B13=\"\",\"\",IF(ISERROR(VLOOKUP(B13,ｴﾝﾄﾘｰ票!$BJ$16:$BK$205,1,0)),\"\",VLOOKUP(B13,ｴﾝﾄﾘｰ票!$BJ$16:$BK$205,2,0)))","v":""}]
[5,{"$f":"IF(ISERROR(VLOOKUP(A14*10-9+6000,ｴﾝﾄﾘｰ票!C$15:AI$215,3,0)),\"\",VLOOKUP(A14*10-9+6000,ｴﾝﾄﾘｰ票!C$15:AI$215,3,0))","v":""},{"$f":"IF(B14=\"\",\"\",CONCATENATE(VLOOKUP(B14,ｴﾝﾄﾘｰ票!$E$16:$L$215,2,0),\"　\",VLOOKUP(B14,ｴﾝﾄﾘｰ票!$E$16:$L$215,3,0)))","v":""},null,null,null,null,{"$f":"IF(B14=\"\",\"\",VLOOKUP(B14,ｴﾝﾄﾘｰ票!$E$16:$L$215,6,0))","v":""},null,{"$f":"IF(B14=\"\",\"\",IF(VLOOKUP(B14,ｴﾝﾄﾘｰ票!$E$16:$Y$215,10,0)=\"\",\"\",VLOOKUP(B14,ｴﾝﾄﾘｰ票!$E$16:$Y$215,10,0)))","v":""},null,{"$f":"IF(B14=\"\",\"\",IF(VLOOKUP(B14,ｴﾝﾄﾘｰ票!$E$16:$Y$215,14,0)=\"\",\"\",VLOOKUP(B14,ｴﾝﾄﾘｰ票!$E$16:$Y$215,14,0)))","v":""},null,{"$f":"IF(B14=\"\",\"\",IF(VLOOKUP(B14,ｴﾝﾄﾘｰ票!$E$16:$Y$215,18,0)=\"\",\"\",VLOOKUP(B14,ｴﾝﾄﾘｰ票!$E$16:$Y$215,18,0)))","v":""},{"$f":"IF(B14=\"\",\"\",IF(ISERROR(VLOOKUP(B14,ｴﾝﾄﾘｰ票!$BD$16:$BE$205,1,0)),\"\",VLOOKUP(B14,ｴﾝﾄﾘｰ票!$BD$16:$BE$205,2,0)))","v":""},null,{"$f":"IF(B14=\"\",\"\",IF(ISERROR(VLOOKUP(B14,ｴﾝﾄﾘｰ票!$BJ$16:$BK$205,1,0)),\"\",VLOOKUP(B14,ｴﾝﾄﾘｰ票!$BJ$16:$BK$205,2,0)))","v":""}]
[6,{"$f":"IF(ISERROR(VLOOKUP(A15*10-9+6000,ｴﾝﾄﾘｰ票!C$15:AI$215,3,0)),\"\",VLOOKUP(A15*10-9+6000,ｴﾝﾄﾘｰ票!C$15:AI$215,3,0))","v":""},{"$f":"IF(B15=\"\",\"\",CONCATENATE(VLOOKUP(B15,ｴﾝﾄﾘｰ票!$E$16:$L$215,2,0),\"　\",VLOOKUP(B15,ｴﾝﾄﾘｰ票!$E$16:$L$215,3,0)))","v":""},null,null,null,null,{"$f":"IF(B15=\"\",\"\",VLOOKUP(B15,ｴﾝﾄﾘｰ票!$E$16:$L$215,6,0))","v":""},null,{"$f":"IF(B15=\"\",\"\",IF(VLOOKUP(B15,ｴﾝﾄﾘｰ票!$E$16:$Y$215,10,0)=\"\",\"\",VLOOKUP(B15,ｴﾝﾄﾘｰ票!$E$16:$Y$215,10,0)))","v":""},null,{"$f":"IF(B15=\"\",\"\",IF(VLOOKUP(B15,ｴﾝﾄﾘｰ票!$E$16:$Y$215,14,0)=\"\",\"\",VLOOKUP(B15,ｴﾝﾄﾘｰ票!$E$16:$Y$215,14,0)))","v":""},null,{"$f":"IF(B15=\"\",\"\",IF(VLOOKUP(B15,ｴﾝﾄﾘｰ票!$E$16:$Y$215,18,0)=\"\",\"\",VLOOKUP(B15,ｴﾝﾄﾘｰ票!$E$16:$Y$215,18,0)))","v":""},{"$f":"IF(B15=\"\",\"\",IF(ISERROR(VLOOKUP(B15,ｴﾝﾄﾘｰ票!$BD$16:$BE$205,1,0)),\"\",VLOOKUP(B15,ｴﾝﾄﾘｰ票!$BD$16:$BE$205,2,0)))","v":""},null,{"$f":"IF(B15=\"\",\"\",IF(ISERROR(VLOOKUP(B15,ｴﾝﾄﾘｰ票!$BJ$16:$BK$205,1,0)),\"\",VLOOKUP(B15,ｴﾝﾄﾘｰ票!$BJ$16:$BK$205,2,0)))","v":""}]
[7,{"$f":"IF(ISERROR(VLOOKUP(A16*10-9+6000,ｴﾝﾄﾘｰ票!C$15:AI$215,3,0)),\"\",VLOOKUP(A16*10-9+6000,ｴﾝﾄﾘｰ票!C$15:AI$215,3,0))","v":""},{"$f":"IF(B16=\"\",\"\",CONCATENATE(VLOOKUP(B16,ｴﾝﾄﾘｰ票!$E$16:$L$215,2,0),\"　\",VLOOKUP(B16,ｴﾝﾄﾘｰ票!$E$16:$L$215,3,0)))","v":""},null,null,null,null,{"$f":"IF(B16=\"\",\"\",VLOOKUP(B16,ｴﾝﾄﾘｰ票!$E$16:$L$215,6,0))","v":""},null,{"$f":"IF(B16=\"\",\"\",IF(VLOOKUP(B16,ｴﾝﾄﾘｰ票!$E$16:$Y$215,10,0)=\"\",\"\",VLOOKUP(B16,ｴﾝﾄﾘｰ票!$E$16:$Y$215,10,0)))","v":""},null,{"$f":"IF(B16=\"\",\"\",IF(VLOOKUP(B16,ｴﾝﾄﾘｰ票!$E$16:$Y$215,14,0)=\"\",\"\",VLOOKUP(B16,ｴﾝﾄﾘｰ票!$E$16:$Y$215,14,0)))","v":""},null,{"$f":"IF(B16=\"\",\"\",IF(VLOOKUP(B16,ｴﾝﾄﾘｰ票!$E$16:$Y$215,18,0)=\"\",\"\",VLOOKUP(B16,ｴﾝﾄﾘｰ票!$E$16:$Y$215,18,0)))","v":""},{"$f":"IF(B16=\"\",\"\",IF(ISERROR(VLOOKUP(B16,ｴﾝﾄﾘｰ票!$BD$16:$BE$205,1,0)),\"\",VLOOKUP(B16,ｴﾝﾄﾘｰ票!$BD$16:$BE$205,2,0)))","v":""},null,{"$f":"IF(B16=\"\",\"\",IF(ISERROR(VLOOKUP(B16,ｴﾝﾄﾘｰ票!$BJ$16:$BK$205,1,0)),\"\",VLOOKUP(B16,ｴﾝﾄﾘｰ票!$BJ$16:$BK$205,2,0)))","v":""}]
[8,{"$f":"IF(ISERROR(VLOOKUP(A17*10-9+6000,ｴﾝﾄﾘｰ票!C$15:AI$215,3,0)),\"\",VLOOKUP(A17*10-9+6000,ｴﾝﾄﾘｰ票!C$15:AI$215,3,0))","v":""},{"$f":"IF(B17=\"\",\"\",CONCATENATE(VLOOKUP(B17,ｴﾝﾄﾘｰ票!$E$16:$L$215,2,0),\"　\",VLOOKUP(B17,ｴﾝﾄﾘｰ票!$E$16:$L$215,3,0)))","v":""},null,null,null,null,{"$f":"IF(B17=\"\",\"\",VLOOKUP(B17,ｴﾝﾄﾘｰ票!$E$16:$L$215,6,0))","v":""},null,{"$f":"IF(B17=\"\",\"\",IF(VLOOKUP(B17,ｴﾝﾄﾘｰ票!$E$16:$Y$215,10,0)=\"\",\"\",VLOOKUP(B17,ｴﾝﾄﾘｰ票!$E$16:$Y$215,10,0)))","v":""},null,{"$f":"IF(B17=\"\",\"\",IF(VLOOKUP(B17,ｴﾝﾄﾘｰ票!$E$16:$Y$215,14,0)=\"\",\"\",VLOOKUP(B17,ｴﾝﾄﾘｰ票!$E$16:$Y$215,14,0)))","v":""},null,{"$f":"IF(B17=\"\",\"\",IF(VLOOKUP(B17,ｴﾝﾄﾘｰ票!$E$16:$Y$215,18,0)=\"\",\"\",VLOOKUP(B17,ｴﾝﾄﾘｰ票!$E$16:$Y$215,18,0)))","v":""},{"$f":"IF(B17=\"\",\"\",IF(ISERROR(VLOOKUP(B17,ｴﾝﾄﾘｰ票!$BD$16:$BE$205,1,0)),\"\",VLOOKUP(B17,ｴﾝﾄﾘｰ票!$BD$16:$BE$205,2,0)))","v":""},null,{"$f":"IF(B17=\"\",\"\",IF(ISERROR(VLOOKUP(B17,ｴﾝﾄﾘｰ票!$BJ$16:$BK$205,1,0)),\"\",VLOOKUP(B17,ｴﾝﾄﾘｰ票!$BJ$16:$BK$205,2,0)))","v":""}]
[9,{"$f":"IF(ISERROR(VLOOKUP(A18*10-9+6000,ｴﾝﾄﾘｰ票!C$15:AI$215,3,0)),\"\",VLOOKUP(A18*10-9+6000,ｴﾝﾄﾘｰ票!C$15:AI$215,3,0))","v":""},{"$f":"IF(B18=\"\",\"\",CONCATENATE(VLOOKUP(B18,ｴﾝﾄﾘｰ票!$E$16:$L$215,2,0),\"　\",VLOOKUP(B18,ｴﾝﾄﾘｰ票!$E$16:$L$215,3,0)))","v":""},null,null,null,null,{"$f":"IF(B18=\"\",\"\",VLOOKUP(B18,ｴﾝﾄﾘｰ票!$E$16:$L$215,6,0))","v":""},null,{"$f":"IF(B18=\"\",\"\",IF(VLOOKUP(B18,ｴﾝﾄﾘｰ票!$E$16:$Y$215,10,0)=\"\",\"\",VLOOKUP(B18,ｴﾝﾄﾘｰ票!$E$16:$Y$215,10,0)))","v":""},null,{"$f":"IF(B18=\"\",\"\",IF(VLOOKUP(B18,ｴﾝﾄﾘｰ票!$E$16:$Y$215,14,0)=\"\",\"\",VLOOKUP(B18,ｴﾝﾄﾘｰ票!$E$16:$Y$215,14,0)))","v":""},null,{"$f":"IF(B18=\"\",\"\",IF(VLOOKUP(B18,ｴﾝﾄﾘｰ票!$E$16:$Y$215,18,0)=\"\",\"\",VLOOKUP(B18,ｴﾝﾄﾘｰ票!$E$16:$Y$215,18,0)))","v":""},{"$f":"IF(B18=\"\",\"\",IF(ISERROR(VLOOKUP(B18,ｴﾝﾄﾘｰ票!$BD$16:$BE$205,1,0)),\"\",VLOOKUP(B18,ｴﾝﾄﾘｰ票!$BD$16:$BE$205,2,0)))","v":""},null,{"$f":"IF(B18=\"\",\"\",IF(ISERROR(VLOOKUP(B18,ｴﾝﾄﾘｰ票!$BJ$16:$BK$205,1,0)),\"\",VLOOKUP(B18,ｴﾝﾄﾘｰ票!$BJ$16:$BK$205,2,0)))","v":""}]
[10,{"$f":"IF(ISERROR(VLOOKUP(A19*10-9+6000,ｴﾝﾄﾘｰ票!C$15:AI$215,3,0)),\"\",VLOOKUP(A19*10-9+6000,ｴﾝﾄﾘｰ票!C$15:AI$215,3,0))","v":""},{"$f":"IF(B19=\"\",\"\",CONCATENATE(VLOOKUP(B19,ｴﾝﾄﾘｰ票!$E$16:$L$215,2,0),\"　\",VLOOKUP(B19,ｴﾝﾄﾘｰ票!$E$16:$L$215,3,0)))","v":""},null,null,null,null,{"$f":"IF(B19=\"\",\"\",VLOOKUP(B19,ｴﾝﾄﾘｰ票!$E$16:$L$215,6,0))","v":""},null,{"$f":"IF(B19=\"\",\"\",IF(VLOOKUP(B19,ｴﾝﾄﾘｰ票!$E$16:$Y$215,10,0)=\"\",\"\",VLOOKUP(B19,ｴﾝﾄﾘｰ票!$E$16:$Y$215,10,0)))","v":""},null,{"$f":"IF(B19=\"\",\"\",IF(VLOOKUP(B19,ｴﾝﾄﾘｰ票!$E$16:$Y$215,14,0)=\"\",\"\",VLOOKUP(B19,ｴﾝﾄﾘｰ票!$E$16:$Y$215,14,0)))","v":""},null,{"$f":"IF(B19=\"\",\"\",IF(VLOOKUP(B19,ｴﾝﾄﾘｰ票!$E$16:$Y$215,18,0)=\"\",\"\",VLOOKUP(B19,ｴﾝﾄﾘｰ票!$E$16:$Y$215,18,0)))","v":""},{"$f":"IF(B19=\"\",\"\",IF(ISERROR(VLOOKUP(B19,ｴﾝﾄﾘｰ票!$BD$16:$BE$205,1,0)),\"\",VLOOKUP(B19,ｴﾝﾄﾘｰ票!$BD$16:$BE$205,2,0)))","v":""},null,{"$f":"IF(B19=\"\",\"\",IF(ISERROR(VLOOKUP(B19,ｴﾝﾄﾘｰ票!$BJ$16:$BK$205,1,0)),\"\",VLOOKUP(B19,ｴﾝﾄﾘｰ票!$BJ$16:$BK$205,2,0)))","v":""}]
[11,{"$f":"IF(ISERROR(VLOOKUP(A20*10-9+6000,ｴﾝﾄﾘｰ票!C$15:AI$215,3,0)),\"\",VLOOKUP(A20*10-9+6000,ｴﾝﾄﾘｰ票!C$15:AI$215,3,0))","v":""},{"$f":"IF(B20=\"\",\"\",CONCATENATE(VLOOKUP(B20,ｴﾝﾄﾘｰ票!$E$16:$L$215,2,0),\"　\",VLOOKUP(B20,ｴﾝﾄﾘｰ票!$E$16:$L$215,3,0)))","v":""},null,null,null,null,{"$f":"IF(B20=\"\",\"\",VLOOKUP(B20,ｴﾝﾄﾘｰ票!$E$16:$L$215,6,0))","v":""},null,{"$f":"IF(B20=\"\",\"\",IF(VLOOKUP(B20,ｴﾝﾄﾘｰ票!$E$16:$Y$215,10,0)=\"\",\"\",VLOOKUP(B20,ｴﾝﾄﾘｰ票!$E$16:$Y$215,10,0)))","v":""},null,{"$f":"IF(B20=\"\",\"\",IF(VLOOKUP(B20,ｴﾝﾄﾘｰ票!$E$16:$Y$215,14,0)=\"\",\"\",VLOOKUP(B20,ｴﾝﾄﾘｰ票!$E$16:$Y$215,14,0)))","v":""},null,{"$f":"IF(B20=\"\",\"\",IF(VLOOKUP(B20,ｴﾝﾄﾘｰ票!$E$16:$Y$215,18,0)=\"\",\"\",VLOOKUP(B20,ｴﾝﾄﾘｰ票!$E$16:$Y$215,18,0)))","v":""},{"$f":"IF(B20=\"\",\"\",IF(ISERROR(VLOOKUP(B20,ｴﾝﾄﾘｰ票!$BD$16:$BE$205,1,0)),\"\",VLOOKUP(B20,ｴﾝﾄﾘｰ票!$BD$16:$BE$205,2,0)))","v":""},null,{"$f":"IF(B20=\"\",\"\",IF(ISERROR(VLOOKUP(B20,ｴﾝﾄﾘｰ票!$BJ$16:$BK$205,1,0)),\"\",VLOOKUP(B20,ｴﾝﾄﾘｰ票!$BJ$16:$BK$205,2,0)))","v":""}]
[12,{"$f":"IF(ISERROR(VLOOKUP(A21*10-9+6000,ｴﾝﾄﾘｰ票!C$15:AI$215,3,0)),\"\",VLOOKUP(A21*10-9+6000,ｴﾝﾄﾘｰ票!C$15:AI$215,3,0))","v":""},{"$f":"IF(B21=\"\",\"\",CONCATENATE(VLOOKUP(B21,ｴﾝﾄﾘｰ票!$E$16:$L$215,2,0),\"　\",VLOOKUP(B21,ｴﾝﾄﾘｰ票!$E$16:$L$215,3,0)))","v":""},null,null,null,null,{"$f":"IF(B21=\"\",\"\",VLOOKUP(B21,ｴﾝﾄﾘｰ票!$E$16:$L$215,6,0))","v":""},null,{"$f":"IF(B21=\"\",\"\",IF(VLOOKUP(B21,ｴﾝﾄﾘｰ票!$E$16:$Y$215,10,0)=\"\",\"\",VLOOKUP(B21,ｴﾝﾄﾘｰ票!$E$16:$Y$215,10,0)))","v":""},null,{"$f":"IF(B21=\"\",\"\",IF(VLOOKUP(B21,ｴﾝﾄﾘｰ票!$E$16:$Y$215,14,0)=\"\",\"\",VLOOKUP(B21,ｴﾝﾄﾘｰ票!$E$16:$Y$215,14,0)))","v":""},null,{"$f":"IF(B21=\"\",\"\",IF(VLOOKUP(B21,ｴﾝﾄﾘｰ票!$E$16:$Y$215,18,0)=\"\",\"\",VLOOKUP(B21,ｴﾝﾄﾘｰ票!$E$16:$Y$215,18,0)))","v":""},{"$f":"IF(B21=\"\",\"\",IF(ISERROR(VLOOKUP(B21,ｴﾝﾄﾘｰ票!$BD$16:$BE$205,1,0)),\"\",VLOOKUP(B21,ｴﾝﾄﾘｰ票!$BD$16:$BE$205,2,0)))","v":""},null,{"$f":"IF(B21=\"\",\"\",IF(ISERROR(VLOOKUP(B21,ｴﾝﾄﾘｰ票!$BJ$16:$BK$205,1,0)),\"\",VLOOKUP(B21,ｴﾝﾄﾘｰ票!$BJ$16:$BK$205,2,0)))","v":""}]
[13,{"$f":"IF(ISERROR(VLOOKUP(A22*10-9+6000,ｴﾝﾄﾘｰ票!C$15:AI$215,3,0)),\"\",VLOOKUP(A22*10-9+6000,ｴﾝﾄﾘｰ票!C$15:AI$215,3,0))","v":""},{"$f":"IF(B22=\"\",\"\",CONCATENATE(VLOOKUP(B22,ｴﾝﾄﾘｰ票!$E$16:$L$215,2,0),\"　\",VLOOKUP(B22,ｴﾝﾄﾘｰ票!$E$16:$L$215,3,0)))","v":""},null,null,null,null,{"$f":"IF(B22=\"\",\"\",VLOOKUP(B22,ｴﾝﾄﾘｰ票!$E$16:$L$215,6,0))","v":""},null,{"$f":"IF(B22=\"\",\"\",IF(VLOOKUP(B22,ｴﾝﾄﾘｰ票!$E$16:$Y$215,10,0)=\"\",\"\",VLOOKUP(B22,ｴﾝﾄﾘｰ票!$E$16:$Y$215,10,0)))","v":""},null,{"$f":"IF(B22=\"\",\"\",IF(VLOOKUP(B22,ｴﾝﾄﾘｰ票!$E$16:$Y$215,14,0)=\"\",\"\",VLOOKUP(B22,ｴﾝﾄﾘｰ票!$E$16:$Y$215,14,0)))","v":""},null,{"$f":"IF(B22=\"\",\"\",IF(VLOOKUP(B22,ｴﾝﾄﾘｰ票!$E$16:$Y$215,18,0)=\"\",\"\",VLOOKUP(B22,ｴﾝﾄﾘｰ票!$E$16:$Y$215,18,0)))","v":""},{"$f":"IF(B22=\"\",\"\",IF(ISERROR(VLOOKUP(B22,ｴﾝﾄﾘｰ票!$BD$16:$BE$205,1,0)),\"\",VLOOKUP(B22,ｴﾝﾄﾘｰ票!$BD$16:$BE$205,2,0)))","v":""},null,{"$f":"IF(B22=\"\",\"\",IF(ISERROR(VLOOKUP(B22,ｴﾝﾄﾘｰ票!$BJ$16:$BK$205,1,0)),\"\",VLOOKUP(B22,ｴﾝﾄﾘｰ票!$BJ$16:$BK$205,2,0)))","v":""}]
[14,{"$f":"IF(ISERROR(VLOOKUP(A23*10-9+6000,ｴﾝﾄﾘｰ票!C$15:AI$215,3,0)),\"\",VLOOKUP(A23*10-9+6000,ｴﾝﾄﾘｰ票!C$15:AI$215,3,0))","v":""},{"$f":"IF(B23=\"\",\"\",CONCATENATE(VLOOKUP(B23,ｴﾝﾄﾘｰ票!$E$16:$L$215,2,0),\"　\",VLOOKUP(B23,ｴﾝﾄﾘｰ票!$E$16:$L$215,3,0)))","v":""},null,null,null,null,{"$f":"IF(B23=\"\",\"\",VLOOKUP(B23,ｴﾝﾄﾘｰ票!$E$16:$L$215,6,0))","v":""},null,{"$f":"IF(B23=\"\",\"\",IF(VLOOKUP(B23,ｴﾝﾄﾘｰ票!$E$16:$Y$215,10,0)=\"\",\"\",VLOOKUP(B23,ｴﾝﾄﾘｰ票!$E$16:$Y$215,10,0)))","v":""},null,{"$f":"IF(B23=\"\",\"\",IF(VLOOKUP(B23,ｴﾝﾄﾘｰ票!$E$16:$Y$215,14,0)=\"\",\"\",VLOOKUP(B23,ｴﾝﾄﾘｰ票!$E$16:$Y$215,14,0)))","v":""},null,{"$f":"IF(B23=\"\",\"\",IF(VLOOKUP(B23,ｴﾝﾄﾘｰ票!$E$16:$Y$215,18,0)=\"\",\"\",VLOOKUP(B23,ｴﾝﾄﾘｰ票!$E$16:$Y$215,18,0)))","v":""},{"$f":"IF(B23=\"\",\"\",IF(ISERROR(VLOOKUP(B23,ｴﾝﾄﾘｰ票!$BD$16:$BE$205,1,0)),\"\",VLOOKUP(B23,ｴﾝﾄﾘｰ票!$BD$16:$BE$205,2,0)))","v":""},null,{"$f":"IF(B23=\"\",\"\",IF(ISERROR(VLOOKUP(B23,ｴﾝﾄﾘｰ票!$BJ$16:$BK$205,1,0)),\"\",VLOOKUP(B23,ｴﾝﾄﾘｰ票!$BJ$16:$BK$205,2,0)))","v":""}]
[15,{"$f":"IF(ISERROR(VLOOKUP(A24*10-9+6000,ｴﾝﾄﾘｰ票!C$15:AI$215,3,0)),\"\",VLOOKUP(A24*10-9+6000,ｴﾝﾄﾘｰ票!C$15:AI$215,3,0))","v":""},{"$f":"IF(B24=\"\",\"\",CONCATENATE(VLOOKUP(B24,ｴﾝﾄﾘｰ票!$E$16:$L$215,2,0),\"　\",VLOOKUP(B24,ｴﾝﾄﾘｰ票!$E$16:$L$215,3,0)))","v":""},null,null,null,null,{"$f":"IF(B24=\"\",\"\",VLOOKUP(B24,ｴﾝﾄﾘｰ票!$E$16:$L$215,6,0))","v":""},null,{"$f":"IF(B24=\"\",\"\",IF(VLOOKUP(B24,ｴﾝﾄﾘｰ票!$E$16:$Y$215,10,0)=\"\",\"\",VLOOKUP(B24,ｴﾝﾄﾘｰ票!$E$16:$Y$215,10,0)))","v":""},null,{"$f":"IF(B24=\"\",\"\",IF(VLOOKUP(B24,ｴﾝﾄﾘｰ票!$E$16:$Y$215,14,0)=\"\",\"\",VLOOKUP(B24,ｴﾝﾄﾘｰ票!$E$16:$Y$215,14,0)))","v":""},null,{"$f":"IF(B24=\"\",\"\",IF(VLOOKUP(B24,ｴﾝﾄﾘｰ票!$E$16:$Y$215,18,0)=\"\",\"\",VLOOKUP(B24,ｴﾝﾄﾘｰ票!$E$16:$Y$215,18,0)))","v":""},{"$f":"IF(B24=\"\",\"\",IF(ISERROR(VLOOKUP(B24,ｴﾝﾄﾘｰ票!$BD$16:$BE$205,1,0)),\"\",VLOOKUP(B24,ｴﾝﾄﾘｰ票!$BD$16:$BE$205,2,0)))","v":""},null,{"$f":"IF(B24=\"\",\"\",IF(ISERROR(VLOOKUP(B24,ｴﾝﾄﾘｰ票!$BJ$16:$BK$205,1,0)),\"\",VLOOKUP(B24,ｴﾝﾄﾘｰ票!$BJ$16:$BK$205,2,0)))","v":""}]
[16,{"$f":"IF(ISERROR(VLOOKUP(A25*10-9+6000,ｴﾝﾄﾘｰ票!C$15:AI$215,3,0)),\"\",VLOOKUP(A25*10-9+6000,ｴﾝﾄﾘｰ票!C$15:AI$215,3,0))","v":""},{"$f":"IF(B25=\"\",\"\",CONCATENATE(VLOOKUP(B25,ｴﾝﾄﾘｰ票!$E$16:$L$215,2,0),\"　\",VLOOKUP(B25,ｴﾝﾄﾘｰ票!$E$16:$L$215,3,0)))","v":""},null,null,null,null,{"$f":"IF(B25=\"\",\"\",VLOOKUP(B25,ｴﾝﾄﾘｰ票!$E$16:$L$215,6,0))","v":""},null,{"$f":"IF(B25=\"\",\"\",IF(VLOOKUP(B25,ｴﾝﾄﾘｰ票!$E$16:$Y$215,10,0)=\"\",\"\",VLOOKUP(B25,ｴﾝﾄﾘｰ票!$E$16:$Y$215,10,0)))","v":""},null,{"$f":"IF(B25=\"\",\"\",IF(VLOOKUP(B25,ｴﾝﾄﾘｰ票!$E$16:$Y$215,14,0)=\"\",\"\",VLOOKUP(B25,ｴﾝﾄﾘｰ票!$E$16:$Y$215,14,0)))","v":""},null,{"$f":"IF(B25=\"\",\"\",IF(VLOOKUP(B25,ｴﾝﾄﾘｰ票!$E$16:$Y$215,18,0)=\"\",\"\",VLOOKUP(B25,ｴﾝﾄﾘｰ票!$E$16:$Y$215,18,0)))","v":""},{"$f":"IF(B25=\"\",\"\",IF(ISERROR(VLOOKUP(B25,ｴﾝﾄﾘｰ票!$BD$16:$BE$205,1,0)),\"\",VLOOKUP(B25,ｴﾝﾄﾘｰ票!$BD$16:$BE$205,2,0)))","v":""},null,{"$f":"IF(B25=\"\",\"\",IF(ISERROR(VLOOKUP(B25,ｴﾝﾄﾘｰ票!$BJ$16:$BK$205,1,0)),\"\",VLOOKUP(B25,ｴﾝﾄﾘｰ票!$BJ$16:$BK$205,2,0)))","v":""}]
[17,{"$f":"IF(ISERROR(VLOOKUP(A26*10-9+6000,ｴﾝﾄﾘｰ票!C$15:AI$215,3,0)),\"\",VLOOKUP(A26*10-9+6000,ｴﾝﾄﾘｰ票!C$15:AI$215,3,0))","v":""},{"$f":"IF(B26=\"\",\"\",CONCATENATE(VLOOKUP(B26,ｴﾝﾄﾘｰ票!$E$16:$L$215,2,0),\"　\",VLOOKUP(B26,ｴﾝﾄﾘｰ票!$E$16:$L$215,3,0)))","v":""},null,null,null,null,{"$f":"IF(B26=\"\",\"\",VLOOKUP(B26,ｴﾝﾄﾘｰ票!$E$16:$L$215,6,0))","v":""},null,{"$f":"IF(B26=\"\",\"\",IF(VLOOKUP(B26,ｴﾝﾄﾘｰ票!$E$16:$Y$215,10,0)=\"\",\"\",VLOOKUP(B26,ｴﾝﾄﾘｰ票!$E$16:$Y$215,10,0)))","v":""},null,{"$f":"IF(B26=\"\",\"\",IF(VLOOKUP(B26,ｴﾝﾄﾘｰ票!$E$16:$Y$215,14,0)=\"\",\"\",VLOOKUP(B26,ｴﾝﾄﾘｰ票!$E$16:$Y$215,14,0)))","v":""},null,{"$f":"IF(B26=\"\",\"\",IF(VLOOKUP(B26,ｴﾝﾄﾘｰ票!$E$16:$Y$215,18,0)=\"\",\"\",VLOOKUP(B26,ｴﾝﾄﾘｰ票!$E$16:$Y$215,18,0)))","v":""},{"$f":"IF(B26=\"\",\"\",IF(ISERROR(VLOOKUP(B26,ｴﾝﾄﾘｰ票!$BD$16:$BE$205,1,0)),\"\",VLOOKUP(B26,ｴﾝﾄﾘｰ票!$BD$16:$BE$205,2,0)))","v":""},null,{"$f":"IF(B26=\"\",\"\",IF(ISERROR(VLOOKUP(B26,ｴﾝﾄﾘｰ票!$BJ$16:$BK$205,1,0)),\"\",VLOOKUP(B26,ｴﾝﾄﾘｰ票!$BJ$16:$BK$205,2,0)))","v":""}]
[18,{"$f":"IF(ISERROR(VLOOKUP(A27*10-9+6000,ｴﾝﾄﾘｰ票!C$15:AI$215,3,0)),\"\",VLOOKUP(A27*10-9+6000,ｴﾝﾄﾘｰ票!C$15:AI$215,3,0))","v":""},{"$f":"IF(B27=\"\",\"\",CONCATENATE(VLOOKUP(B27,ｴﾝﾄﾘｰ票!$E$16:$L$215,2,0),\"　\",VLOOKUP(B27,ｴﾝﾄﾘｰ票!$E$16:$L$215,3,0)))","v":""},null,null,null,null,{"$f":"IF(B27=\"\",\"\",VLOOKUP(B27,ｴﾝﾄﾘｰ票!$E$16:$L$215,6,0))","v":""},null,{"$f":"IF(B27=\"\",\"\",IF(VLOOKUP(B27,ｴﾝﾄﾘｰ票!$E$16:$Y$215,10,0)=\"\",\"\",VLOOKUP(B27,ｴﾝﾄﾘｰ票!$E$16:$Y$215,10,0)))","v":""},null,{"$f":"IF(B27=\"\",\"\",IF(VLOOKUP(B27,ｴﾝﾄﾘｰ票!$E$16:$Y$215,14,0)=\"\",\"\",VLOOKUP(B27,ｴﾝﾄﾘｰ票!$E$16:$Y$215,14,0)))","v":""},null,{"$f":"IF(B27=\"\",\"\",IF(VLOOKUP(B27,ｴﾝﾄﾘｰ票!$E$16:$Y$215,18,0)=\"\",\"\",VLOOKUP(B27,ｴﾝﾄﾘｰ票!$E$16:$Y$215,18,0)))","v":""},{"$f":"IF(B27=\"\",\"\",IF(ISERROR(VLOOKUP(B27,ｴﾝﾄﾘｰ票!$BD$16:$BE$205,1,0)),\"\",VLOOKUP(B27,ｴﾝﾄﾘｰ票!$BD$16:$BE$205,2,0)))","v":""},null,{"$f":"IF(B27=\"\",\"\",IF(ISERROR(VLOOKUP(B27,ｴﾝﾄﾘｰ票!$BJ$16:$BK$205,1,0)),\"\",VLOOKUP(B27,ｴﾝﾄﾘｰ票!$BJ$16:$BK$205,2,0)))","v":""}]
[19,{"$f":"IF(ISERROR(VLOOKUP(A28*10-9+6000,ｴﾝﾄﾘｰ票!C$15:AI$215,3,0)),\"\",VLOOKUP(A28*10-9+6000,ｴﾝﾄﾘｰ票!C$15:AI$215,3,0))","v":""},{"$f":"IF(B28=\"\",\"\",CONCATENATE(VLOOKUP(B28,ｴﾝﾄﾘｰ票!$E$16:$L$215,2,0),\"　\",VLOOKUP(B28,ｴﾝﾄﾘｰ票!$E$16:$L$215,3,0)))","v":""},null,null,null,null,{"$f":"IF(B28=\"\",\"\",VLOOKUP(B28,ｴﾝﾄﾘｰ票!$E$16:$L$215,6,0))","v":""},null,{"$f":"IF(B28=\"\",\"\",IF(VLOOKUP(B28,ｴﾝﾄﾘｰ票!$E$16:$Y$215,10,0)=\"\",\"\",VLOOKUP(B28,ｴﾝﾄﾘｰ票!$E$16:$Y$215,10,0)))","v":""},null,{"$f":"IF(B28=\"\",\"\",IF(VLOOKUP(B28,ｴﾝﾄﾘｰ票!$E$16:$Y$215,14,0)=\"\",\"\",VLOOKUP(B28,ｴﾝﾄﾘｰ票!$E$16:$Y$215,14,0)))","v":""},null,{"$f":"IF(B28=\"\",\"\",IF(VLOOKUP(B28,ｴﾝﾄﾘｰ票!$E$16:$Y$215,18,0)=\"\",\"\",VLOOKUP(B28,ｴﾝﾄﾘｰ票!$E$16:$Y$215,18,0)))","v":""},{"$f":"IF(B28=\"\",\"\",IF(ISERROR(VLOOKUP(B28,ｴﾝﾄﾘｰ票!$BD$16:$BE$205,1,0)),\"\",VLOOKUP(B28,ｴﾝﾄﾘｰ票!$BD$16:$BE$205,2,0)))","v":""},null,{"$f":"IF(B28=\"\",\"\",IF(ISERROR(VLOOKUP(B28,ｴﾝﾄﾘｰ票!$BJ$16:$BK$205,1,0)),\"\",VLOOKUP(B28,ｴﾝﾄﾘｰ票!$BJ$16:$BK$205,2,0)))","v":""}]
[20,{"$f":"IF(ISERROR(VLOOKUP(A29*10-9+6000,ｴﾝﾄﾘｰ票!C$15:AI$215,3,0)),\"\",VLOOKUP(A29*10-9+6000,ｴﾝﾄﾘｰ票!C$15:AI$215,3,0))","v":""},{"$f":"IF(B29=\"\",\"\",CONCATENATE(VLOOKUP(B29,ｴﾝﾄﾘｰ票!$E$16:$L$215,2,0),\"　\",VLOOKUP(B29,ｴﾝﾄﾘｰ票!$E$16:$L$215,3,0)))","v":""},null,null,null,null,{"$f":"IF(B29=\"\",\"\",VLOOKUP(B29,ｴﾝﾄﾘｰ票!$E$16:$L$215,6,0))","v":""},null,{"$f":"IF(B29=\"\",\"\",IF(VLOOKUP(B29,ｴﾝﾄﾘｰ票!$E$16:$Y$215,10,0)=\"\",\"\",VLOOKUP(B29,ｴﾝﾄﾘｰ票!$E$16:$Y$215,10,0)))","v":""},null,{"$f":"IF(B29=\"\",\"\",IF(VLOOKUP(B29,ｴﾝﾄﾘｰ票!$E$16:$Y$215,14,0)=\"\",\"\",VLOOKUP(B29,ｴﾝﾄﾘｰ票!$E$16:$Y$215,14,0)))","v":""},null,{"$f":"IF(B29=\"\",\"\",IF(VLOOKUP(B29,ｴﾝﾄﾘｰ票!$E$16:$Y$215,18,0)=\"\",\"\",VLOOKUP(B29,ｴﾝﾄﾘｰ票!$E$16:$Y$215,18,0)))","v":""},{"$f":"IF(B29=\"\",\"\",IF(ISERROR(VLOOKUP(B29,ｴﾝﾄﾘｰ票!$BD$16:$BE$205,1,0)),\"\",VLOOKUP(B29,ｴﾝﾄﾘｰ票!$BD$16:$BE$205,2,0)))","v":""},null,{"$f":"IF(B29=\"\",\"\",IF(ISERROR(VLOOKUP(B29,ｴﾝﾄﾘｰ票!$BJ$16:$BK$205,1,0)),\"\",VLOOKUP(B29,ｴﾝﾄﾘｰ票!$BJ$16:$BK$205,2,0)))","v":""}]
[null,null,"＜予選会＞",null,null,null,null,null,null,null,null,null,null,"＜本大会＞"]
[null,null,"個人",null,"ﾘﾚｰ",null,null,"プログラム",null,null,null,null,null,"個人",null,"ﾘﾚｰ",null,"混成",null,null,"プログラム"]
[null,null,"@600円",null,"＠1200円",null,null,"＠600円",null,null,null,null,null,"@1000円",null,"＠1600円",null,"＠2000円",null,null,"＠800円"]
[null,null,{"$f":"500-COUNTBLANK(J10:N29)-COUNTBLANK(J44:N63)-COUNTBLANK(J102:N121)-COUNTBLANK(J131:N150)-COUNTBLANK(J73:N92)","v":0},null,{"$f":"ｴﾝﾄﾘｰ票!Z12+ｴﾝﾄﾘｰ票!AA12","v":0},null,null,{"$f":"ｴﾝﾄﾘｰ票!AC12","v":0},null,null,null,"合計",null,null,"種目",null,"チーム",null,null,"種目",null,null,"部","合計"]
[null,null,{"$f":"C33*600","v":0},null,null,{"$f":"E33*1200","v":0},null,{"$f":"H33*600","v":0},null,null,{"$f":"C34+F34+H34","v":0},null,null,null,"円",null,"円",null,null,"円",null,null,"円",null,null,"円"]
[null,{"$f":"ｴﾝﾄﾘｰ票!$G$1","v":"東京都高校新人陸上競技大会第４支部予選会"},null,null,null,null,null,null,null,null,null,null,null,null,null,null,null,null,null,null,null,null,null,null,null,"申込用紙(A票）"]
[{"$f":"A2","v":"平成30年度"},null,null,null,null,null,null,null,null,null,null,null,null,null,null,null,null,null,null,null,null,null,null,"女子",null,"Ｎｏ．２"]
["学校名",null,{"$f":"ｴﾝﾄﾘｰ票!$G$2","v":0},null,null,null,null,null,null,null,"学校所在地",null,{"$f":"ｴﾝﾄﾘｰ票!$G$5","v":0}]
[null,null,null,null,null,null,null,null,null,null,"電話",null,{"$f":"ｴﾝﾄﾘｰ票!$G$6","v":"00:00:00"},null,null,null,null,"ＦＡＸ",null,{"$f":"ｴﾝﾄﾘｰ票!$G$7","v":0}]
["学校長",null,{"$f":"ｴﾝﾄﾘｰ票!$G$4","v":0},null,null,null,null,null,null,"印","顧問氏名",null,{"$f":"ｴﾝﾄﾘｰ票!$G$8","v":0},null,null,null,"印"]
[null,null,null,null,null,null,null,null,null,null,"連絡先",null,{"$f":"ｴﾝﾄﾘｰ票!$G$9","v":0}]
[]
[null,null,null,null,null,null,null,null,null,null,null,null,null,"種目",null,null,null,null,null,null,null,"本大会種目"]
[null,"番号","出場者氏名",null,null,null,null,"学年",null,"個人",null,"個人",null,"個人","4×100",null,"4×400","個人",null,"個人",null,"個人",null,"4×100","4×400"]
[21,{"$f":"IF(ISERROR(VLOOKUP(A44*10-9+6000,ｴﾝﾄﾘｰ票!C$15:AI$215,3,0)),\"\",VLOOKUP(A44*10-9+6000,ｴﾝﾄﾘｰ票!C$15:AI$215,3,0))","v":""},{"$f":"IF(B44=\"\",\"\",CONCATENATE(VLOOKUP(B44,ｴﾝﾄﾘｰ票!$E$16:$L$215,2,0),\"　\",VLOOKUP(B44,ｴﾝﾄﾘｰ票!$E$16:$L$215,3,0)))","v":""},null,null,null,null,{"$f":"IF(B44=\"\",\"\",VLOOKUP(B44,ｴﾝﾄﾘｰ票!$E$16:$L$215,6,0))","v":""},null,{"$f":"IF(B44=\"\",\"\",IF(VLOOKUP(B44,ｴﾝﾄﾘｰ票!$E$16:$Y$215,10,0)=\"\",\"\",VLOOKUP(B44,ｴﾝﾄﾘｰ票!$E$16:$Y$215,10,0)))","v":""},null,{"$f":"IF(B44=\"\",\"\",IF(VLOOKUP(B44,ｴﾝﾄﾘｰ票!$E$16:$Y$215,14,0)=\"\",\"\",VLOOKUP(B44,ｴﾝﾄﾘｰ票!$E$16:$Y$215,14,0)))","v":""},null,{"$f":"IF(B44=\"\",\"\",IF(VLOOKUP(B44,ｴﾝﾄﾘｰ票!$E$16:$Y$215,18,0)=\"\",\"\",VLOOKUP(B44,ｴﾝﾄﾘｰ票!$E$16:$Y$215,18,0)))","v":""},{"$f":"IF(B44=\"\",\"\",IF(ISERROR(VLOOKUP(B44,ｴﾝﾄﾘｰ票!$BD$16:$BE$205,1,0)),\"\",VLOOKUP(B44,ｴﾝﾄﾘｰ票!$BD$16:$BE$205,2,0)))","v":""},null,{"$f":"IF(B44=\"\",\"\",IF(ISERROR(VLOOKUP(B44,ｴﾝﾄﾘｰ票!$BJ$16:$BK$205,1,0)),\"\",VLOOKUP(B44,ｴﾝﾄﾘｰ票!$BJ$16:$BK$205,2,0)))","v":""}]
[22,{"$f":"IF(ISERROR(VLOOKUP(A45*10-9+6000,ｴﾝﾄﾘｰ票!C$15:AI$215,3,0)),\"\",VLOOKUP(A45*10-9+6000,ｴﾝﾄﾘｰ票!C$15:AI$215,3,0))","v":""},{"$f":"IF(B45=\"\",\"\",CONCATENATE(VLOOKUP(B45,ｴﾝﾄﾘｰ票!$E$16:$L$215,2,0),\"　\",VLOOKUP(B45,ｴﾝﾄﾘｰ票!$E$16:$L$215,3,0)))","v":""},null,null,null,null,{"$f":"IF(B45=\"\",\"\",VLOOKUP(B45,ｴﾝﾄﾘｰ票!$E$16:$L$215,6,0))","v":""},null,{"$f":"IF(B45=\"\",\"\",IF(VLOOKUP(B45,ｴﾝﾄﾘｰ票!$E$16:$Y$215,10,0)=\"\",\"\",VLOOKUP(B45,ｴﾝﾄﾘｰ票!$E$16:$Y$215,10,0)))","v":""},null,{"$f":"IF(B45=\"\",\"\",IF(VLOOKUP(B45,ｴﾝﾄﾘｰ票!$E$16:$Y$215,14,0)=\"\",\"\",VLOOKUP(B45,ｴﾝﾄﾘｰ票!$E$16:$Y$215,14,0)))","v":""},null,{"$f":"IF(B45=\"\",\"\",IF(VLOOKUP(B45,ｴﾝﾄﾘｰ票!$E$16:$Y$215,18,0)=\"\",\"\",VLOOKUP(B45,ｴﾝﾄﾘｰ票!$E$16:$Y$215,18,0)))","v":""},{"$f":"IF(B45=\"\",\"\",IF(ISERROR(VLOOKUP(B45,ｴﾝﾄﾘｰ票!$BD$16:$BE$205,1,0)),\"\",VLOOKUP(B45,ｴﾝﾄﾘｰ票!$BD$16:$BE$205,2,0)))","v":""},null,{"$f":"IF(B45=\"\",\"\",IF(ISERROR(VLOOKUP(B45,ｴﾝﾄﾘｰ票!$BJ$16:$BK$205,1,0)),\"\",VLOOKUP(B45,ｴﾝﾄﾘｰ票!$BJ$16:$BK$205,2,0)))","v":""}]
[23,{"$f":"IF(ISERROR(VLOOKUP(A46*10-9+6000,ｴﾝﾄﾘｰ票!C$15:AI$215,3,0)),\"\",VLOOKUP(A46*10-9+6000,ｴﾝﾄﾘｰ票!C$15:AI$215,3,0))","v":""},{"$f":"IF(B46=\"\",\"\",CONCATENATE(VLOOKUP(B46,ｴﾝﾄﾘｰ票!$E$16:$L$215,2,0),\"　\",VLOOKUP(B46,ｴﾝﾄﾘｰ票!$E$16:$L$215,3,0)))","v":""},null,null,null,null,{"$f":"IF(B46=\"\",\"\",VLOOKUP(B46,ｴﾝﾄﾘｰ票!$E$16:$L$215,6,0))","v":""},null,{"$f":"IF(B46=\"\",\"\",IF(VLOOKUP(B46,ｴﾝﾄﾘｰ票!$E$16:$Y$215,10,0)=\"\",\"\",VLOOKUP(B46,ｴﾝﾄﾘｰ票!$E$16:$Y$215,10,0)))","v":""},null,{"$f":"IF(B46=\"\",\"\",IF(VLOOKUP(B46,ｴﾝﾄﾘｰ票!$E$16:$Y$215,14,0)=\"\",\"\",VLOOKUP(B46,ｴﾝﾄﾘｰ票!$E$16:$Y$215,14,0)))","v":""},null,{"$f":"IF(B46=\"\",\"\",IF(VLOOKUP(B46,ｴﾝﾄﾘｰ票!$E$16:$Y$215,18,0)=\"\",\"\",VLOOKUP(B46,ｴﾝﾄﾘｰ票!$E$16:$Y$215,18,0)))","v":""},{"$f":"IF(B46=\"\",\"\",IF(ISERROR(VLOOKUP(B46,ｴﾝﾄﾘｰ票!$BD$16:$BE$205,1,0)),\"\",VLOOKUP(B46,ｴﾝﾄﾘｰ票!$BD$16:$BE$205,2,0)))","v":""},null,{"$f":"IF(B46=\"\",\"\",IF(ISERROR(VLOOKUP(B46,ｴﾝﾄﾘｰ票!$BJ$16:$BK$205,1,0)),\"\",VLOOKUP(B46,ｴﾝﾄﾘｰ票!$BJ$16:$BK$205,2,0)))","v":""}]
[24,{"$f":"IF(ISERROR(VLOOKUP(A47*10-9+6000,ｴﾝﾄﾘｰ票!C$15:AI$215,3,0)),\"\",VLOOKUP(A47*10-9+6000,ｴﾝﾄﾘｰ票!C$15:AI$215,3,0))","v":""},{"$f":"IF(B47=\"\",\"\",CONCATENATE(VLOOKUP(B47,ｴﾝﾄﾘｰ票!$E$16:$L$215,2,0),\"　\",VLOOKUP(B47,ｴﾝﾄﾘｰ票!$E$16:$L$215,3,0)))","v":""},null,null,null,null,{"$f":"IF(B47=\"\",\"\",VLOOKUP(B47,ｴﾝﾄﾘｰ票!$E$16:$L$215,6,0))","v":""},null,{"$f":"IF(B47=\"\",\"\",IF(VLOOKUP(B47,ｴﾝﾄﾘｰ票!$E$16:$Y$215,10,0)=\"\",\"\",VLOOKUP(B47,ｴﾝﾄﾘｰ票!$E$16:$Y$215,10,0)))","v":""},null,{"$f":"IF(B47=\"\",\"\",IF(VLOOKUP(B47,ｴﾝﾄﾘｰ票!$E$16:$Y$215,14,0)=\"\",\"\",VLOOKUP(B47,ｴﾝﾄﾘｰ票!$E$16:$Y$215,14,0)))","v":""},null,{"$f":"IF(B47=\"\",\"\",IF(VLOOKUP(B47,ｴﾝﾄﾘｰ票!$E$16:$Y$215,18,0)=\"\",\"\",VLOOKUP(B47,ｴﾝﾄﾘｰ票!$E$16:$Y$215,18,0)))","v":""},{"$f":"IF(B47=\"\",\"\",IF(ISERROR(VLOOKUP(B47,ｴﾝﾄﾘｰ票!$BD$16:$BE$205,1,0)),\"\",VLOOKUP(B47,ｴﾝﾄﾘｰ票!$BD$16:$BE$205,2,0)))","v":""},null,{"$f":"IF(B47=\"\",\"\",IF(ISERROR(VLOOKUP(B47,ｴﾝﾄﾘｰ票!$BJ$16:$BK$205,1,0)),\"\",VLOOKUP(B47,ｴﾝﾄﾘｰ票!$BJ$16:$BK$205,2,0)))","v":""}]
[25,{"$f":"IF(ISERROR(VLOOKUP(A48*10-9+6000,ｴﾝﾄﾘｰ票!C$15:AI$215,3,0)),\"\",VLOOKUP(A48*10-9+6000,ｴﾝﾄﾘｰ票!C$15:AI$215,3,0))","v":""},{"$f":"IF(B48=\"\",\"\",CONCATENATE(VLOOKUP(B48,ｴﾝﾄﾘｰ票!$E$16:$L$215,2,0),\"　\",VLOOKUP(B48,ｴﾝﾄﾘｰ票!$E$16:$L$215,3,0)))","v":""},null,null,null,null,{"$f":"IF(B48=\"\",\"\",VLOOKUP(B48,ｴﾝﾄﾘｰ票!$E$16:$L$215,6,0))","v":""},null,{"$f":"IF(B48=\"\",\"\",IF(VLOOKUP(B48,ｴﾝﾄﾘｰ票!$E$16:$Y$215,10,0)=\"\",\"\",VLOOKUP(B48,ｴﾝﾄﾘｰ票!$E$16:$Y$215,10,0)))","v":""},null,{"$f":"IF(B48=\"\",\"\",IF(VLOOKUP(B48,ｴﾝﾄﾘｰ票!$E$16:$Y$215,14,0)=\"\",\"\",VLOOKUP(B48,ｴﾝﾄﾘｰ票!$E$16:$Y$215,14,0)))","v":""},null,{"$f":"IF(B48=\"\",\"\",IF(VLOOKUP(B48,ｴﾝﾄﾘｰ票!$E$16:$Y$215,18,0)=\"\",\"\",VLOOKUP(B48,ｴﾝﾄﾘｰ票!$E$16:$Y$215,18,0)))","v":""},{"$f":"IF(B48=\"\",\"\",IF(ISERROR(VLOOKUP(B48,ｴﾝﾄﾘｰ票!$BD$16:$BE$205,1,0)),\"\",VLOOKUP(B48,ｴﾝﾄﾘｰ票!$BD$16:$BE$205,2,0)))","v":""},null,{"$f":"IF(B48=\"\",\"\",IF(ISERROR(VLOOKUP(B48,ｴﾝﾄﾘｰ票!$BJ$16:$BK$205,1,0)),\"\",VLOOKUP(B48,ｴﾝﾄﾘｰ票!$BJ$16:$BK$205,2,0)))","v":""}]
[26,{"$f":"IF(ISERROR(VLOOKUP(A49*10-9+6000,ｴﾝﾄﾘｰ票!C$15:AI$215,3,0)),\"\",VLOOKUP(A49*10-9+6000,ｴﾝﾄﾘｰ票!C$15:AI$215,3,0))","v":""},{"$f":"IF(B49=\"\",\"\",CONCATENATE(VLOOKUP(B49,ｴﾝﾄﾘｰ票!$E$16:$L$215,2,0),\"　\",VLOOKUP(B49,ｴﾝﾄﾘｰ票!$E$16:$L$215,3,0)))","v":""},null,null,null,null,{"$f":"IF(B49=\"\",\"\",VLOOKUP(B49,ｴﾝﾄﾘｰ票!$E$16:$L$215,6,0))","v":""},null,{"$f":"IF(B49=\"\",\"\",IF(VLOOKUP(B49,ｴﾝﾄﾘｰ票!$E$16:$Y$215,10,0)=\"\",\"\",VLOOKUP(B49,ｴﾝﾄﾘｰ票!$E$16:$Y$215,10,0)))","v":""},null,{"$f":"IF(B49=\"\",\"\",IF(VLOOKUP(B49,ｴﾝﾄﾘｰ票!$E$16:$Y$215,14,0)=\"\",\"\",VLOOKUP(B49,ｴﾝﾄﾘｰ票!$E$16:$Y$215,14,0)))","v":""},null,{"$f":"IF(B49=\"\",\"\",IF(VLOOKUP(B49,ｴﾝﾄﾘｰ票!$E$16:$Y$215,18,0)=\"\",\"\",VLOOKUP(B49,ｴﾝﾄﾘｰ票!$E$16:$Y$215,18,0)))","v":""},{"$f":"IF(B49=\"\",\"\",IF(ISERROR(VLOOKUP(B49,ｴﾝﾄﾘｰ票!$BD$16:$BE$205,1,0)),\"\",VLOOKUP(B49,ｴﾝﾄﾘｰ票!$BD$16:$BE$205,2,0)))","v":""},null,{"$f":"IF(B49=\"\",\"\",IF(ISERROR(VLOOKUP(B49,ｴﾝﾄﾘｰ票!$BJ$16:$BK$205,1,0)),\"\",VLOOKUP(B49,ｴﾝﾄﾘｰ票!$BJ$16:$BK$205,2,0)))","v":""}]
[27,{"$f":"IF(ISERROR(VLOOKUP(A50*10-9+6000,ｴﾝﾄﾘｰ票!C$15:AI$215,3,0)),\"\",VLOOKUP(A50*10-9+6000,ｴﾝﾄﾘｰ票!C$15:AI$215,3,0))","v":""},{"$f":"IF(B50=\"\",\"\",CONCATENATE(VLOOKUP(B50,ｴﾝﾄﾘｰ票!$E$16:$L$215,2,0),\"　\",VLOOKUP(B50,ｴﾝﾄﾘｰ票!$E$16:$L$215,3,0)))","v":""},null,null,null,null,{"$f":"IF(B50=\"\",\"\",VLOOKUP(B50,ｴﾝﾄﾘｰ票!$E$16:$L$215,6,0))","v":""},null,{"$f":"IF(B50=\"\",\"\",IF(VLOOKUP(B50,ｴﾝﾄﾘｰ票!$E$16:$Y$215,10,0)=\"\",\"\",VLOOKUP(B50,ｴﾝﾄﾘｰ票!$E$16:$Y$215,10,0)))","v":""},null,{"$f":"IF(B50=\"\",\"\",IF(VLOOKUP(B50,ｴﾝﾄﾘｰ票!$E$16:$Y$215,14,0)=\"\",\"\",VLOOKUP(B50,ｴﾝﾄﾘｰ票!$E$16:$Y$215,14,0)))","v":""},null,{"$f":"IF(B50=\"\",\"\",IF(VLOOKUP(B50,ｴﾝﾄﾘｰ票!$E$16:$Y$215,18,0)=\"\",\"\",VLOOKUP(B50,ｴﾝﾄﾘｰ票!$E$16:$Y$215,18,0)))","v":""},{"$f":"IF(B50=\"\",\"\",IF(ISERROR(VLOOKUP(B50,ｴﾝﾄﾘｰ票!$BD$16:$BE$205,1,0)),\"\",VLOOKUP(B50,ｴﾝﾄﾘｰ票!$BD$16:$BE$205,2,0)))","v":""},null,{"$f":"IF(B50=\"\",\"\",IF(ISERROR(VLOOKUP(B50,ｴﾝﾄﾘｰ票!$BJ$16:$BK$205,1,0)),\"\",VLOOKUP(B50,ｴﾝﾄﾘｰ票!$BJ$16:$BK$205,2,0)))","v":""}]
[28,{"$f":"IF(ISERROR(VLOOKUP(A51*10-9+6000,ｴﾝﾄﾘｰ票!C$15:AI$215,3,0)),\"\",VLOOKUP(A51*10-9+6000,ｴﾝﾄﾘｰ票!C$15:AI$215,3,0))","v":""},{"$f":"IF(B51=\"\",\"\",CONCATENATE(VLOOKUP(B51,ｴﾝﾄﾘｰ票!$E$16:$L$215,2,0),\"　\",VLOOKUP(B51,ｴﾝﾄﾘｰ票!$E$16:$L$215,3,0)))","v":""},null,null,null,null,{"$f":"IF(B51=\"\",\"\",VLOOKUP(B51,ｴﾝﾄﾘｰ票!$E$16:$L$215,6,0))","v":""},null,{"$f":"IF(B51=\"\",\"\",IF(VLOOKUP(B51,ｴﾝﾄﾘｰ票!$E$16:$Y$215,10,0)=\"\",\"\",VLOOKUP(B51,ｴﾝﾄﾘｰ票!$E$16:$Y$215,10,0)))","v":""},null,{"$f":"IF(B51=\"\",\"\",IF(VLOOKUP(B51,ｴﾝﾄﾘｰ票!$E$16:$Y$215,14,0)=\"\",\"\",VLOOKUP(B51,ｴﾝﾄﾘｰ票!$E$16:$Y$215,14,0)))","v":""},null,{"$f":"IF(B51=\"\",\"\",IF(VLOOKUP(B51,ｴﾝﾄﾘｰ票!$E$16:$Y$215,18,0)=\"\",\"\",VLOOKUP(B51,ｴﾝﾄﾘｰ票!$E$16:$Y$215,18,0)))","v":""},{"$f":"IF(B51=\"\",\"\",IF(ISERROR(VLOOKUP(B51,ｴﾝﾄﾘｰ票!$BD$16:$BE$205,1,0)),\"\",VLOOKUP(B51,ｴﾝﾄﾘｰ票!$BD$16:$BE$205,2,0)))","v":""},null,{"$f":"IF(B51=\"\",\"\",IF(ISERROR(VLOOKUP(B51,ｴﾝﾄﾘｰ票!$BJ$16:$BK$205,1,0)),\"\",VLOOKUP(B51,ｴﾝﾄﾘｰ票!$BJ$16:$BK$205,2,0)))","v":""}]
[29,{"$f":"IF(ISERROR(VLOOKUP(A52*10-9+6000,ｴﾝﾄﾘｰ票!C$15:AI$215,3,0)),\"\",VLOOKUP(A52*10-9+6000,ｴﾝﾄﾘｰ票!C$15:AI$215,3,0))","v":""},{"$f":"IF(B52=\"\",\"\",CONCATENATE(VLOOKUP(B52,ｴﾝﾄﾘｰ票!$E$16:$L$215,2,0),\"　\",VLOOKUP(B52,ｴﾝﾄﾘｰ票!$E$16:$L$215,3,0)))","v":""},null,null,null,null,{"$f":"IF(B52=\"\",\"\",VLOOKUP(B52,ｴﾝﾄﾘｰ票!$E$16:$L$215,6,0))","v":""},null,{"$f":"IF(B52=\"\",\"\",IF(VLOOKUP(B52,ｴﾝﾄﾘｰ票!$E$16:$Y$215,10,0)=\"\",\"\",VLOOKUP(B52,ｴﾝﾄﾘｰ票!$E$16:$Y$215,10,0)))","v":""},null,{"$f":"IF(B52=\"\",\"\",IF(VLOOKUP(B52,ｴﾝﾄﾘｰ票!$E$16:$Y$215,14,0)=\"\",\"\",VLOOKUP(B52,ｴﾝﾄﾘｰ票!$E$16:$Y$215,14,0)))","v":""},null,{"$f":"IF(B52=\"\",\"\",IF(VLOOKUP(B52,ｴﾝﾄﾘｰ票!$E$16:$Y$215,18,0)=\"\",\"\",VLOOKUP(B52,ｴﾝﾄﾘｰ票!$E$16:$Y$215,18,0)))","v":""},{"$f":"IF(B52=\"\",\"\",IF(ISERROR(VLOOKUP(B52,ｴﾝﾄﾘｰ票!$BD$16:$BE$205,1,0)),\"\",VLOOKUP(B52,ｴﾝﾄﾘｰ票!$BD$16:$BE$205,2,0)))","v":""},null,{"$f":"IF(B52=\"\",\"\",IF(ISERROR(VLOOKUP(B52,ｴﾝﾄﾘｰ票!$BJ$16:$BK$205,1,0)),\"\",VLOOKUP(B52,ｴﾝﾄﾘｰ票!$BJ$16:$BK$205,2,0)))","v":""}]
[30,{"$f":"IF(ISERROR(VLOOKUP(A53*10-9+6000,ｴﾝﾄﾘｰ票!C$15:AI$215,3,0)),\"\",VLOOKUP(A53*10-9+6000,ｴﾝﾄﾘｰ票!C$15:AI$215,3,0))","v":""},{"$f":"IF(B53=\"\",\"\",CONCATENATE(VLOOKUP(B53,ｴﾝﾄﾘｰ票!$E$16:$L$215,2,0),\"　\",VLOOKUP(B53,ｴﾝﾄﾘｰ票!$E$16:$L$215,3,0)))","v":""},null,null,null,null,{"$f":"IF(B53=\"\",\"\",VLOOKUP(B53,ｴﾝﾄﾘｰ票!$E$16:$L$215,6,0))","v":""},null,{"$f":"IF(B53=\"\",\"\",IF(VLOOKUP(B53,ｴﾝﾄﾘｰ票!$E$16:$Y$215,10,0)=\"\",\"\",VLOOKUP(B53,ｴﾝﾄﾘｰ票!$E$16:$Y$215,10,0)))","v":""},null,{"$f":"IF(B53=\"\",\"\",IF(VLOOKUP(B53,ｴﾝﾄﾘｰ票!$E$16:$Y$215,14,0)=\"\",\"\",VLOOKUP(B53,ｴﾝﾄﾘｰ票!$E$16:$Y$215,14,0)))","v":""},null,{"$f":"IF(B53=\"\",\"\",IF(VLOOKUP(B53,ｴﾝﾄﾘｰ票!$E$16:$Y$215,18,0)=\"\",\"\",VLOOKUP(B53,ｴﾝﾄﾘｰ票!$E$16:$Y$215,18,0)))","v":""},{"$f":"IF(B53=\"\",\"\",IF(ISERROR(VLOOKUP(B53,ｴﾝﾄﾘｰ票!$BD$16:$BE$205,1,0)),\"\",VLOOKUP(B53,ｴﾝﾄﾘｰ票!$BD$16:$BE$205,2,0)))","v":""},null,{"$f":"IF(B53=\"\",\"\",IF(ISERROR(VLOOKUP(B53,ｴﾝﾄﾘｰ票!$BJ$16:$BK$205,1,0)),\"\",VLOOKUP(B53,ｴﾝﾄﾘｰ票!$BJ$16:$BK$205,2,0)))","v":""}]
[31,{"$f":"IF(ISERROR(VLOOKUP(A54*10-9+6000,ｴﾝﾄﾘｰ票!C$15:AI$215,3,0)),\"\",VLOOKUP(A54*10-9+6000,ｴﾝﾄﾘｰ票!C$15:AI$215,3,0))","v":""},{"$f":"IF(B54=\"\",\"\",CONCATENATE(VLOOKUP(B54,ｴﾝﾄﾘｰ票!$E$16:$L$215,2,0),\"　\",VLOOKUP(B54,ｴﾝﾄﾘｰ票!$E$16:$L$215,3,0)))","v":""},null,null,null,null,{"$f":"IF(B54=\"\",\"\",VLOOKUP(B54,ｴﾝﾄﾘｰ票!$E$16:$L$215,6,0))","v":""},null,{"$f":"IF(B54=\"\",\"\",IF(VLOOKUP(B54,ｴﾝﾄﾘｰ票!$E$16:$Y$215,10,0)=\"\",\"\",VLOOKUP(B54,ｴﾝﾄﾘｰ票!$E$16:$Y$215,10,0)))","v":""},null,{"$f":"IF(B54=\"\",\"\",IF(VLOOKUP(B54,ｴﾝﾄﾘｰ票!$E$16:$Y$215,14,0)=\"\",\"\",VLOOKUP(B54,ｴﾝﾄﾘｰ票!$E$16:$Y$215,14,0)))","v":""},null,{"$f":"IF(B54=\"\",\"\",IF(VLOOKUP(B54,ｴﾝﾄﾘｰ票!$E$16:$Y$215,18,0)=\"\",\"\",VLOOKUP(B54,ｴﾝﾄﾘｰ票!$E$16:$Y$215,18,0)))","v":""},{"$f":"IF(B54=\"\",\"\",IF(ISERROR(VLOOKUP(B54,ｴﾝﾄﾘｰ票!$BD$16:$BE$205,1,0)),\"\",VLOOKUP(B54,ｴﾝﾄﾘｰ票!$BD$16:$BE$205,2,0)))","v":""},null,{"$f":"IF(B54=\"\",\"\",IF(ISERROR(VLOOKUP(B54,ｴﾝﾄﾘｰ票!$BJ$16:$BK$205,1,0)),\"\",VLOOKUP(B54,ｴﾝﾄﾘｰ票!$BJ$16:$BK$205,2,0)))","v":""}]
[32,{"$f":"IF(ISERROR(VLOOKUP(A55*10-9+6000,ｴﾝﾄﾘｰ票!C$15:AI$215,3,0)),\"\",VLOOKUP(A55*10-9+6000,ｴﾝﾄﾘｰ票!C$15:AI$215,3,0))","v":""},{"$f":"IF(B55=\"\",\"\",CONCATENATE(VLOOKUP(B55,ｴﾝﾄﾘｰ票!$E$16:$L$215,2,0),\"　\",VLOOKUP(B55,ｴﾝﾄﾘｰ票!$E$16:$L$215,3,0)))","v":""},null,null,null,null,{"$f":"IF(B55=\"\",\"\",VLOOKUP(B55,ｴﾝﾄﾘｰ票!$E$16:$L$215,6,0))","v":""},null,{"$f":"IF(B55=\"\",\"\",IF(VLOOKUP(B55,ｴﾝﾄﾘｰ票!$E$16:$Y$215,10,0)=\"\",\"\",VLOOKUP(B55,ｴﾝﾄﾘｰ票!$E$16:$Y$215,10,0)))","v":""},null,{"$f":"IF(B55=\"\",\"\",IF(VLOOKUP(B55,ｴﾝﾄﾘｰ票!$E$16:$Y$215,14,0)=\"\",\"\",VLOOKUP(B55,ｴﾝﾄﾘｰ票!$E$16:$Y$215,14,0)))","v":""},null,{"$f":"IF(B55=\"\",\"\",IF(VLOOKUP(B55,ｴﾝﾄﾘｰ票!$E$16:$Y$215,18,0)=\"\",\"\",VLOOKUP(B55,ｴﾝﾄﾘｰ票!$E$16:$Y$215,18,0)))","v":""},{"$f":"IF(B55=\"\",\"\",IF(ISERROR(VLOOKUP(B55,ｴﾝﾄﾘｰ票!$BD$16:$BE$205,1,0)),\"\",VLOOKUP(B55,ｴﾝﾄﾘｰ票!$BD$16:$BE$205,2,0)))","v":""},null,{"$f":"IF(B55=\"\",\"\",IF(ISERROR(VLOOKUP(B55,ｴﾝﾄﾘｰ票!$BJ$16:$BK$205,1,0)),\"\",VLOOKUP(B55,ｴﾝﾄﾘｰ票!$BJ$16:$BK$205,2,0)))","v":""}]
[33,{"$f":"IF(ISERROR(VLOOKUP(A56*10-9+6000,ｴﾝﾄﾘｰ票!C$15:AI$215,3,0)),\"\",VLOOKUP(A56*10-9+6000,ｴﾝﾄﾘｰ票!C$15:AI$215,3,0))","v":""},{"$f":"IF(B56=\"\",\"\",CONCATENATE(VLOOKUP(B56,ｴﾝﾄﾘｰ票!$E$16:$L$215,2,0),\"　\",VLOOKUP(B56,ｴﾝﾄﾘｰ票!$E$16:$L$215,3,0)))","v":""},null,null,null,null,{"$f":"IF(B56=\"\",\"\",VLOOKUP(B56,ｴﾝﾄﾘｰ票!$E$16:$L$215,6,0))","v":""},null,{"$f":"IF(B56=\"\",\"\",IF(VLOOKUP(B56,ｴﾝﾄﾘｰ票!$E$16:$Y$215,10,0)=\"\",\"\",VLOOKUP(B56,ｴﾝﾄﾘｰ票!$E$16:$Y$215,10,0)))","v":""},null,{"$f":"IF(B56=\"\",\"\",IF(VLOOKUP(B56,ｴﾝﾄﾘｰ票!$E$16:$Y$215,14,0)=\"\",\"\",VLOOKUP(B56,ｴﾝﾄﾘｰ票!$E$16:$Y$215,14,0)))","v":""},null,{"$f":"IF(B56=\"\",\"\",IF(VLOOKUP(B56,ｴﾝﾄﾘｰ票!$E$16:$Y$215,18,0)=\"\",\"\",VLOOKUP(B56,ｴﾝﾄﾘｰ票!$E$16:$Y$215,18,0)))","v":""},{"$f":"IF(B56=\"\",\"\",IF(ISERROR(VLOOKUP(B56,ｴﾝﾄﾘｰ票!$BD$16:$BE$205,1,0)),\"\",VLOOKUP(B56,ｴﾝﾄﾘｰ票!$BD$16:$BE$205,2,0)))","v":""},null,{"$f":"IF(B56=\"\",\"\",IF(ISERROR(VLOOKUP(B56,ｴﾝﾄﾘｰ票!$BJ$16:$BK$205,1,0)),\"\",VLOOKUP(B56,ｴﾝﾄﾘｰ票!$BJ$16:$BK$205,2,0)))","v":""}]
[34,{"$f":"IF(ISERROR(VLOOKUP(A57*10-9+6000,ｴﾝﾄﾘｰ票!C$15:AI$215,3,0)),\"\",VLOOKUP(A57*10-9+6000,ｴﾝﾄﾘｰ票!C$15:AI$215,3,0))","v":""},{"$f":"IF(B57=\"\",\"\",CONCATENATE(VLOOKUP(B57,ｴﾝﾄﾘｰ票!$E$16:$L$215,2,0),\"　\",VLOOKUP(B57,ｴﾝﾄﾘｰ票!$E$16:$L$215,3,0)))","v":""},null,null,null,null,{"$f":"IF(B57=\"\",\"\",VLOOKUP(B57,ｴﾝﾄﾘｰ票!$E$16:$L$215,6,0))","v":""},null,{"$f":"IF(B57=\"\",\"\",IF(VLOOKUP(B57,ｴﾝﾄﾘｰ票!$E$16:$Y$215,10,0)=\"\",\"\",VLOOKUP(B57,ｴﾝﾄﾘｰ票!$E$16:$Y$215,10,0)))","v":""},null,{"$f":"IF(B57=\"\",\"\",IF(VLOOKUP(B57,ｴﾝﾄﾘｰ票!$E$16:$Y$215,14,0)=\"\",\"\",VLOOKUP(B57,ｴﾝﾄﾘｰ票!$E$16:$Y$215,14,0)))","v":""},null,{"$f":"IF(B57=\"\",\"\",IF(VLOOKUP(B57,ｴﾝﾄﾘｰ票!$E$16:$Y$215,18,0)=\"\",\"\",VLOOKUP(B57,ｴﾝﾄﾘｰ票!$E$16:$Y$215,18,0)))","v":""},{"$f":"IF(B57=\"\",\"\",IF(ISERROR(VLOOKUP(B57,ｴﾝﾄﾘｰ票!$BD$16:$BE$205,1,0)),\"\",VLOOKUP(B57,ｴﾝﾄﾘｰ票!$BD$16:$BE$205,2,0)))","v":""},null,{"$f":"IF(B57=\"\",\"\",IF(ISERROR(VLOOKUP(B57,ｴﾝﾄﾘｰ票!$BJ$16:$BK$205,1,0)),\"\",VLOOKUP(B57,ｴﾝﾄﾘｰ票!$BJ$16:$BK$205,2,0)))","v":""}]
[35,{"$f":"IF(ISERROR(VLOOKUP(A58*10-9+6000,ｴﾝﾄﾘｰ票!C$15:AI$215,3,0)),\"\",VLOOKUP(A58*10-9+6000,ｴﾝﾄﾘｰ票!C$15:AI$215,3,0))","v":""},{"$f":"IF(B58=\"\",\"\",CONCATENATE(VLOOKUP(B58,ｴﾝﾄﾘｰ票!$E$16:$L$215,2,0),\"　\",VLOOKUP(B58,ｴﾝﾄﾘｰ票!$E$16:$L$215,3,0)))","v":""},null,null,null,null,{"$f":"IF(B58=\"\",\"\",VLOOKUP(B58,ｴﾝﾄﾘｰ票!$E$16:$L$215,6,0))","v":""},null,{"$f":"IF(B58=\"\",\"\",IF(VLOOKUP(B58,ｴﾝﾄﾘｰ票!$E$16:$Y$215,10,0)=\"\",\"\",VLOOKUP(B58,ｴﾝﾄﾘｰ票!$E$16:$Y$215,10,0)))","v":""},null,{"$f":"IF(B58=\"\",\"\",IF(VLOOKUP(B58,ｴﾝﾄﾘｰ票!$E$16:$Y$215,14,0)=\"\",\"\",VLOOKUP(B58,ｴﾝﾄﾘｰ票!$E$16:$Y$215,14,0)))","v":""},null,{"$f":"IF(B58=\"\",\"\",IF(VLOOKUP(B58,ｴﾝﾄﾘｰ票!$E$16:$Y$215,18,0)=\"\",\"\",VLOOKUP(B58,ｴﾝﾄﾘｰ票!$E$16:$Y$215,18,0)))","v":""},{"$f":"IF(B58=\"\",\"\",IF(ISERROR(VLOOKUP(B58,ｴﾝﾄﾘｰ票!$BD$16:$BE$205,1,0)),\"\",VLOOKUP(B58,ｴﾝﾄﾘｰ票!$BD$16:$BE$205,2,0)))","v":""},null,{"$f":"IF(B58=\"\",\"\",IF(ISERROR(VLOOKUP(B58,ｴﾝﾄﾘｰ票!$BJ$16:$BK$205,1,0)),\"\",VLOOKUP(B58,ｴﾝﾄﾘｰ票!$BJ$16:$BK$205,2,0)))","v":""}]
[36,{"$f":"IF(ISERROR(VLOOKUP(A59*10-9+6000,ｴﾝﾄﾘｰ票!C$15:AI$215,3,0)),\"\",VLOOKUP(A59*10-9+6000,ｴﾝﾄﾘｰ票!C$15:AI$215,3,0))","v":""},{"$f":"IF(B59=\"\",\"\",CONCATENATE(VLOOKUP(B59,ｴﾝﾄﾘｰ票!$E$16:$L$215,2,0),\"　\",VLOOKUP(B59,ｴﾝﾄﾘｰ票!$E$16:$L$215,3,0)))","v":""},null,null,null,null,{"$f":"IF(B59=\"\",\"\",VLOOKUP(B59,ｴﾝﾄﾘｰ票!$E$16:$L$215,6,0))","v":""},null,{"$f":"IF(B59=\"\",\"\",IF(VLOOKUP(B59,ｴﾝﾄﾘｰ票!$E$16:$Y$215,10,0)=\"\",\"\",VLOOKUP(B59,ｴﾝﾄﾘｰ票!$E$16:$Y$215,10,0)))","v":""},null,{"$f":"IF(B59=\"\",\"\",IF(VLOOKUP(B59,ｴﾝﾄﾘｰ票!$E$16:$Y$215,14,0)=\"\",\"\",VLOOKUP(B59,ｴﾝﾄﾘｰ票!$E$16:$Y$215,14,0)))","v":""},null,{"$f":"IF(B59=\"\",\"\",IF(VLOOKUP(B59,ｴﾝﾄﾘｰ票!$E$16:$Y$215,18,0)=\"\",\"\",VLOOKUP(B59,ｴﾝﾄﾘｰ票!$E$16:$Y$215,18,0)))","v":""},{"$f":"IF(B59=\"\",\"\",IF(ISERROR(VLOOKUP(B59,ｴﾝﾄﾘｰ票!$BD$16:$BE$205,1,0)),\"\",VLOOKUP(B59,ｴﾝﾄﾘｰ票!$BD$16:$BE$205,2,0)))","v":""},null,{"$f":"IF(B59=\"\",\"\",IF(ISERROR(VLOOKUP(B59,ｴﾝﾄﾘｰ票!$BJ$16:$BK$205,1,0)),\"\",VLOOKUP(B59,ｴﾝﾄﾘｰ票!$BJ$16:$BK$205,2,0)))","v":""}]
[37,{"$f":"IF(ISERROR(VLOOKUP(A60*10-9+6000,ｴﾝﾄﾘｰ票!C$15:AI$215,3,0)),\"\",VLOOKUP(A60*10-9+6000,ｴﾝﾄﾘｰ票!C$15:AI$215,3,0))","v":""},{"$f":"IF(B60=\"\",\"\",CONCATENATE(VLOOKUP(B60,ｴﾝﾄﾘｰ票!$E$16:$L$215,2,0),\"　\",VLOOKUP(B60,ｴﾝﾄﾘｰ票!$E$16:$L$215,3,0)))","v":""},null,null,null,null,{"$f":"IF(B60=\"\",\"\",VLOOKUP(B60,ｴﾝﾄﾘｰ票!$E$16:$L$215,6,0))","v":""},null,{"$f":"IF(B60=\"\",\"\",IF(VLOOKUP(B60,ｴﾝﾄﾘｰ票!$E$16:$Y$215,10,0)=\"\",\"\",VLOOKUP(B60,ｴﾝﾄﾘｰ票!$E$16:$Y$215,10,0)))","v":""},null,{"$f":"IF(B60=\"\",\"\",IF(VLOOKUP(B60,ｴﾝﾄﾘｰ票!$E$16:$Y$215,14,0)=\"\",\"\",VLOOKUP(B60,ｴﾝﾄﾘｰ票!$E$16:$Y$215,14,0)))","v":""},null,{"$f":"IF(B60=\"\",\"\",IF(VLOOKUP(B60,ｴﾝﾄﾘｰ票!$E$16:$Y$215,18,0)=\"\",\"\",VLOOKUP(B60,ｴﾝﾄﾘｰ票!$E$16:$Y$215,18,0)))","v":""},{"$f":"IF(B60=\"\",\"\",IF(ISERROR(VLOOKUP(B60,ｴﾝﾄﾘｰ票!$BD$16:$BE$205,1,0)),\"\",VLOOKUP(B60,ｴﾝﾄﾘｰ票!$BD$16:$BE$205,2,0)))","v":""},null,{"$f":"IF(B60=\"\",\"\",IF(ISERROR(VLOOKUP(B60,ｴﾝﾄﾘｰ票!$BJ$16:$BK$205,1,0)),\"\",VLOOKUP(B60,ｴﾝﾄﾘｰ票!$BJ$16:$BK$205,2,0)))","v":""}]
[38,{"$f":"IF(ISERROR(VLOOKUP(A61*10-9+6000,ｴﾝﾄﾘｰ票!C$15:AI$215,3,0)),\"\",VLOOKUP(A61*10-9+6000,ｴﾝﾄﾘｰ票!C$15:AI$215,3,0))","v":""},{"$f":"IF(B61=\"\",\"\",CONCATENATE(VLOOKUP(B61,ｴﾝﾄﾘｰ票!$E$16:$L$215,2,0),\"　\",VLOOKUP(B61,ｴﾝﾄﾘｰ票!$E$16:$L$215,3,0)))","v":""},null,null,null,null,{"$f":"IF(B61=\"\",\"\",VLOOKUP(B61,ｴﾝﾄﾘｰ票!$E$16:$L$215,6,0))","v":""},null,{"$f":"IF(B61=\"\",\"\",IF(VLOOKUP(B61,ｴﾝﾄﾘｰ票!$E$16:$Y$215,10,0)=\"\",\"\",VLOOKUP(B61,ｴﾝﾄﾘｰ票!$E$16:$Y$215,10,0)))","v":""},null,{"$f":"IF(B61=\"\",\"\",IF(VLOOKUP(B61,ｴﾝﾄﾘｰ票!$E$16:$Y$215,14,0)=\"\",\"\",VLOOKUP(B61,ｴﾝﾄﾘｰ票!$E$16:$Y$215,14,0)))","v":""},null,{"$f":"IF(B61=\"\",\"\",IF(VLOOKUP(B61,ｴﾝﾄﾘｰ票!$E$16:$Y$215,18,0)=\"\",\"\",VLOOKUP(B61,ｴﾝﾄﾘｰ票!$E$16:$Y$215,18,0)))","v":""},{"$f":"IF(B61=\"\",\"\",IF(ISERROR(VLOOKUP(B61,ｴﾝﾄﾘｰ票!$BD$16:$BE$205,1,0)),\"\",VLOOKUP(B61,ｴﾝﾄﾘｰ票!$BD$16:$BE$205,2,0)))","v":""},null,{"$f":"IF(B61=\"\",\"\",IF(ISERROR(VLOOKUP(B61,ｴﾝﾄﾘｰ票!$BJ$16:$BK$205,1,0)),\"\",VLOOKUP(B61,ｴﾝﾄﾘｰ票!$BJ$16:$BK$205,2,0)))","v":""}]
[39,{"$f":"IF(ISERROR(VLOOKUP(A62*10-9+6000,ｴﾝﾄﾘｰ票!C$15:AI$215,3,0)),\"\",VLOOKUP(A62*10-9+6000,ｴﾝﾄﾘｰ票!C$15:AI$215,3,0))","v":""},{"$f":"IF(B62=\"\",\"\",CONCATENATE(VLOOKUP(B62,ｴﾝﾄﾘｰ票!$E$16:$L$215,2,0),\"　\",VLOOKUP(B62,ｴﾝﾄﾘｰ票!$E$16:$L$215,3,0)))","v":""},null,null,null,null,{"$f":"IF(B62=\"\",\"\",VLOOKUP(B62,ｴﾝﾄﾘｰ票!$E$16:$L$215,6,0))","v":""},null,{"$f":"IF(B62=\"\",\"\",IF(VLOOKUP(B62,ｴﾝﾄﾘｰ票!$E$16:$Y$215,10,0)=\"\",\"\",VLOOKUP(B62,ｴﾝﾄﾘｰ票!$E$16:$Y$215,10,0)))","v":""},null,{"$f":"IF(B62=\"\",\"\",IF(VLOOKUP(B62,ｴﾝﾄﾘｰ票!$E$16:$Y$215,14,0)=\"\",\"\",VLOOKUP(B62,ｴﾝﾄﾘｰ票!$E$16:$Y$215,14,0)))","v":""},null,{"$f":"IF(B62=\"\",\"\",IF(VLOOKUP(B62,ｴﾝﾄﾘｰ票!$E$16:$Y$215,18,0)=\"\",\"\",VLOOKUP(B62,ｴﾝﾄﾘｰ票!$E$16:$Y$215,18,0)))","v":""},{"$f":"IF(B62=\"\",\"\",IF(ISERROR(VLOOKUP(B62,ｴﾝﾄﾘｰ票!$BD$16:$BE$205,1,0)),\"\",VLOOKUP(B62,ｴﾝﾄﾘｰ票!$BD$16:$BE$205,2,0)))","v":""},null,{"$f":"IF(B62=\"\",\"\",IF(ISERROR(VLOOKUP(B62,ｴﾝﾄﾘｰ票!$BJ$16:$BK$205,1,0)),\"\",VLOOKUP(B62,ｴﾝﾄﾘｰ票!$BJ$16:$BK$205,2,0)))","v":""}]
[40,{"$f":"IF(ISERROR(VLOOKUP(A63*10-9+6000,ｴﾝﾄﾘｰ票!C$15:AI$215,3,0)),\"\",VLOOKUP(A63*10-9+6000,ｴﾝﾄﾘｰ票!C$15:AI$215,3,0))","v":""},{"$f":"IF(B63=\"\",\"\",CONCATENATE(VLOOKUP(B63,ｴﾝﾄﾘｰ票!$E$16:$L$215,2,0),\"　\",VLOOKUP(B63,ｴﾝﾄﾘｰ票!$E$16:$L$215,3,0)))","v":""},null,null,null,null,{"$f":"IF(B63=\"\",\"\",VLOOKUP(B63,ｴﾝﾄﾘｰ票!$E$16:$L$215,6,0))","v":""},null,{"$f":"IF(B63=\"\",\"\",IF(VLOOKUP(B63,ｴﾝﾄﾘｰ票!$E$16:$Y$215,10,0)=\"\",\"\",VLOOKUP(B63,ｴﾝﾄﾘｰ票!$E$16:$Y$215,10,0)))","v":""},null,{"$f":"IF(B63=\"\",\"\",IF(VLOOKUP(B63,ｴﾝﾄﾘｰ票!$E$16:$Y$215,14,0)=\"\",\"\",VLOOKUP(B63,ｴﾝﾄﾘｰ票!$E$16:$Y$215,14,0)))","v":""},null,{"$f":"IF(B63=\"\",\"\",IF(VLOOKUP(B63,ｴﾝﾄﾘｰ票!$E$16:$Y$215,18,0)=\"\",\"\",VLOOKUP(B63,ｴﾝﾄﾘｰ票!$E$16:$Y$215,18,0)))","v":""},{"$f":"IF(B63=\"\",\"\",IF(ISERROR(VLOOKUP(B63,ｴﾝﾄﾘｰ票!$BD$16:$BE$205,1,0)),\"\",VLOOKUP(B63,ｴﾝﾄﾘｰ票!$BD$16:$BE$205,2,0)))","v":""},null,{"$f":"IF(B63=\"\",\"\",IF(ISERROR(VLOOKUP(B63,ｴﾝﾄﾘｰ票!$BJ$16:$BK$205,1,0)),\"\",VLOOKUP(B63,ｴﾝﾄﾘｰ票!$BJ$16:$BK$205,2,0)))","v":""}]
[null,{"$f":"ｴﾝﾄﾘｰ票!$G$1","v":"東京都高校新人陸上競技大会第４支部予選会"},null,null,null,null,null,null,null,null,null,null,null,null,null,null,null,null,null,null,null,null,null,null,null,"申込用紙(A票）"]
[{"$f":"A2","v":"平成30年度"},null,null,null,null,null,null,null,null,null,null,null,null,null,null,null,null,null,null,null,null,null,null,"女子",null,"Ｎｏ．３"]
["学校名",null,{"$f":"ｴﾝﾄﾘｰ票!$G$2","v":0},null,null,null,null,null,null,null,"学校所在地",null,{"$f":"ｴﾝﾄﾘｰ票!$G$5","v":0}]
[null,null,null,null,null,null,null,null,null,null,"電話",null,{"$f":"ｴﾝﾄﾘｰ票!$G$6","v":"00:00:00"},null,null,null,null,"ＦＡＸ",null,{"$f":"ｴﾝﾄﾘｰ票!$G$7","v":0}]
["学校長",null,{"$f":"ｴﾝﾄﾘｰ票!$G$4","v":0},null,null,null,null,null,null,"印","顧問氏名",null,{"$f":"ｴﾝﾄﾘｰ票!$G$8","v":0},null,null,null,"印"]
[null,null,null,null,null,null,null,null,null,null,"連絡先",null,{"$f":"ｴﾝﾄﾘｰ票!$G$9","v":0}]
[]
[null,null,null,null,null,null,null,null,null,null,null,null,null,"種目",null,null,null,null,null,null,null,"本大会種目"]
[null,"番号","出場者氏名",null,null,null,null,"学年",null,"個人",null,"個人",null,"個人","4×100",null,"4×400","個人",null,"個人",null,"個人",null,"4×100","4×400"]
[41,{"$f":"IF(ISERROR(VLOOKUP(A73*10-9+6000,ｴﾝﾄﾘｰ票!C$15:AI$215,3,0)),\"\",VLOOKUP(A73*10-9+6000,ｴﾝﾄﾘｰ票!C$15:AI$215,3,0))","v":""},{"$f":"IF(B73=\"\",\"\",CONCATENATE(VLOOKUP(B73,ｴﾝﾄﾘｰ票!$E$16:$L$215,2,0),\"　\",VLOOKUP(B73,ｴﾝﾄﾘｰ票!$E$16:$L$215,3,0)))","v":""},null,null,null,null,{"$f":"IF(B73=\"\",\"\",VLOOKUP(B73,ｴﾝﾄﾘｰ票!$E$16:$L$215,6,0))","v":""},null,{"$f":"IF(B73=\"\",\"\",IF(VLOOKUP(B73,ｴﾝﾄﾘｰ票!$E$16:$Y$215,10,0)=\"\",\"\",VLOOKUP(B73,ｴﾝﾄﾘｰ票!$E$16:$Y$215,10,0)))","v":""},null,{"$f":"IF(B73=\"\",\"\",IF(VLOOKUP(B73,ｴﾝﾄﾘｰ票!$E$16:$Y$215,14,0)=\"\",\"\",VLOOKUP(B73,ｴﾝﾄﾘｰ票!$E$16:$Y$215,14,0)))","v":""},null,{"$f":"IF(B73=\"\",\"\",IF(VLOOKUP(B73,ｴﾝﾄﾘｰ票!$E$16:$Y$215,18,0)=\"\",\"\",VLOOKUP(B73,ｴﾝﾄﾘｰ票!$E$16:$Y$215,18,0)))","v":""},{"$f":"IF(B73=\"\",\"\",IF(ISERROR(VLOOKUP(B73,ｴﾝﾄﾘｰ票!$BD$16:$BE$205,1,0)),\"\",VLOOKUP(B73,ｴﾝﾄﾘｰ票!$BD$16:$BE$205,2,0)))","v":""},null,{"$f":"IF(B73=\"\",\"\",IF(ISERROR(VLOOKUP(B73,ｴﾝﾄﾘｰ票!$BJ$16:$BK$205,1,0)),\"\",VLOOKUP(B73,ｴﾝﾄﾘｰ票!$BJ$16:$BK$205,2,0)))","v":""}]
[42,{"$f":"IF(ISERROR(VLOOKUP(A74*10-9+6000,ｴﾝﾄﾘｰ票!C$15:AI$215,3,0)),\"\",VLOOKUP(A74*10-9+6000,ｴﾝﾄﾘｰ票!C$15:AI$215,3,0))","v":""},{"$f":"IF(B74=\"\",\"\",CONCATENATE(VLOOKUP(B74,ｴﾝﾄﾘｰ票!$E$16:$L$215,2,0),\"　\",VLOOKUP(B74,ｴﾝﾄﾘｰ票!$E$16:$L$215,3,0)))","v":""},null,null,null,null,{"$f":"IF(B74=\"\",\"\",VLOOKUP(B74,ｴﾝﾄﾘｰ票!$E$16:$L$215,6,0))","v":""},null,{"$f":"IF(B74=\"\",\"\",IF(VLOOKUP(B74,ｴﾝﾄﾘｰ票!$E$16:$Y$215,10,0)=\"\",\"\",VLOOKUP(B74,ｴﾝﾄﾘｰ票!$E$16:$Y$215,10,0)))","v":""},null,{"$f":"IF(B74=\"\",\"\",IF(VLOOKUP(B74,ｴﾝﾄﾘｰ票!$E$16:$Y$215,14,0)=\"\",\"\",VLOOKUP(B74,ｴﾝﾄﾘｰ票!$E$16:$Y$215,14,0)))","v":""},null,{"$f":"IF(B74=\"\",\"\",IF(VLOOKUP(B74,ｴﾝﾄﾘｰ票!$E$16:$Y$215,18,0)=\"\",\"\",VLOOKUP(B74,ｴﾝﾄﾘｰ票!$E$16:$Y$215,18,0)))","v":""},{"$f":"IF(B74=\"\",\"\",IF(ISERROR(VLOOKUP(B74,ｴﾝﾄﾘｰ票!$BD$16:$BE$205,1,0)),\"\",VLOOKUP(B74,ｴﾝﾄﾘｰ票!$BD$16:$BE$205,2,0)))","v":""},null,{"$f":"IF(B74=\"\",\"\",IF(ISERROR(VLOOKUP(B74,ｴﾝﾄﾘｰ票!$BJ$16:$BK$205,1,0)),\"\",VLOOKUP(B74,ｴﾝﾄﾘｰ票!$BJ$16:$BK$205,2,0)))","v":""}]
[43,{"$f":"IF(ISERROR(VLOOKUP(A75*10-9+6000,ｴﾝﾄﾘｰ票!C$15:AI$215,3,0)),\"\",VLOOKUP(A75*10-9+6000,ｴﾝﾄﾘｰ票!C$15:AI$215,3,0))","v":""},{"$f":"IF(B75=\"\",\"\",CONCATENATE(VLOOKUP(B75,ｴﾝﾄﾘｰ票!$E$16:$L$215,2,0),\"　\",VLOOKUP(B75,ｴﾝﾄﾘｰ票!$E$16:$L$215,3,0)))","v":""},null,null,null,null,{"$f":"IF(B75=\"\",\"\",VLOOKUP(B75,ｴﾝﾄﾘｰ票!$E$16:$L$215,6,0))","v":""},null,{"$f":"IF(B75=\"\",\"\",IF(VLOOKUP(B75,ｴﾝﾄﾘｰ票!$E$16:$Y$215,10,0)=\"\",\"\",VLOOKUP(B75,ｴﾝﾄﾘｰ票!$E$16:$Y$215,10,0)))","v":""},null,{"$f":"IF(B75=\"\",\"\",IF(VLOOKUP(B75,ｴﾝﾄﾘｰ票!$E$16:$Y$215,14,0)=\"\",\"\",VLOOKUP(B75,ｴﾝﾄﾘｰ票!$E$16:$Y$215,14,0)))","v":""},null,{"$f":"IF(B75=\"\",\"\",IF(VLOOKUP(B75,ｴﾝﾄﾘｰ票!$E$16:$Y$215,18,0)=\"\",\"\",VLOOKUP(B75,ｴﾝﾄﾘｰ票!$E$16:$Y$215,18,0)))","v":""},{"$f":"IF(B75=\"\",\"\",IF(ISERROR(VLOOKUP(B75,ｴﾝﾄﾘｰ票!$BD$16:$BE$205,1,0)),\"\",VLOOKUP(B75,ｴﾝﾄﾘｰ票!$BD$16:$BE$205,2,0)))","v":""},null,{"$f":"IF(B75=\"\",\"\",IF(ISERROR(VLOOKUP(B75,ｴﾝﾄﾘｰ票!$BJ$16:$BK$205,1,0)),\"\",VLOOKUP(B75,ｴﾝﾄﾘｰ票!$BJ$16:$BK$205,2,0)))","v":""}]
[44,{"$f":"IF(ISERROR(VLOOKUP(A76*10-9+6000,ｴﾝﾄﾘｰ票!C$15:AI$215,3,0)),\"\",VLOOKUP(A76*10-9+6000,ｴﾝﾄﾘｰ票!C$15:AI$215,3,0))","v":""},{"$f":"IF(B76=\"\",\"\",CONCATENATE(VLOOKUP(B76,ｴﾝﾄﾘｰ票!$E$16:$L$215,2,0),\"　\",VLOOKUP(B76,ｴﾝﾄﾘｰ票!$E$16:$L$215,3,0)))","v":""},null,null,null,null,{"$f":"IF(B76=\"\",\"\",VLOOKUP(B76,ｴﾝﾄﾘｰ票!$E$16:$L$215,6,0))","v":""},null,{"$f":"IF(B76=\"\",\"\",IF(VLOOKUP(B76,ｴﾝﾄﾘｰ票!$E$16:$Y$215,10,0)=\"\",\"\",VLOOKUP(B76,ｴﾝﾄﾘｰ票!$E$16:$Y$215,10,0)))","v":""},null,{"$f":"IF(B76=\"\",\"\",IF(VLOOKUP(B76,ｴﾝﾄﾘｰ票!$E$16:$Y$215,14,0)=\"\",\"\",VLOOKUP(B76,ｴﾝﾄﾘｰ票!$E$16:$Y$215,14,0)))","v":""},null,{"$f":"IF(B76=\"\",\"\",IF(VLOOKUP(B76,ｴﾝﾄﾘｰ票!$E$16:$Y$215,18,0)=\"\",\"\",VLOOKUP(B76,ｴﾝﾄﾘｰ票!$E$16:$Y$215,18,0)))","v":""},{"$f":"IF(B76=\"\",\"\",IF(ISERROR(VLOOKUP(B76,ｴﾝﾄﾘｰ票!$BD$16:$BE$205,1,0)),\"\",VLOOKUP(B76,ｴﾝﾄﾘｰ票!$BD$16:$BE$205,2,0)))","v":""},null,{"$f":"IF(B76=\"\",\"\",IF(ISERROR(VLOOKUP(B76,ｴﾝﾄﾘｰ票!$BJ$16:$BK$205,1,0)),\"\",VLOOKUP(B76,ｴﾝﾄﾘｰ票!$BJ$16:$BK$205,2,0)))","v":""}]
[45,{"$f":"IF(ISERROR(VLOOKUP(A77*10-9+6000,ｴﾝﾄﾘｰ票!C$15:AI$215,3,0)),\"\",VLOOKUP(A77*10-9+6000,ｴﾝﾄﾘｰ票!C$15:AI$215,3,0))","v":""},{"$f":"IF(B77=\"\",\"\",CONCATENATE(VLOOKUP(B77,ｴﾝﾄﾘｰ票!$E$16:$L$215,2,0),\"　\",VLOOKUP(B77,ｴﾝﾄﾘｰ票!$E$16:$L$215,3,0)))","v":""},null,null,null,null,{"$f":"IF(B77=\"\",\"\",VLOOKUP(B77,ｴﾝﾄﾘｰ票!$E$16:$L$215,6,0))","v":""},null,{"$f":"IF(B77=\"\",\"\",IF(VLOOKUP(B77,ｴﾝﾄﾘｰ票!$E$16:$Y$215,10,0)=\"\",\"\",VLOOKUP(B77,ｴﾝﾄﾘｰ票!$E$16:$Y$215,10,0)))","v":""},null,{"$f":"IF(B77=\"\",\"\",IF(VLOOKUP(B77,ｴﾝﾄﾘｰ票!$E$16:$Y$215,14,0)=\"\",\"\",VLOOKUP(B77,ｴﾝﾄﾘｰ票!$E$16:$Y$215,14,0)))","v":""},null,{"$f":"IF(B77=\"\",\"\",IF(VLOOKUP(B77,ｴﾝﾄﾘｰ票!$E$16:$Y$215,18,0)=\"\",\"\",VLOOKUP(B77,ｴﾝﾄﾘｰ票!$E$16:$Y$215,18,0)))","v":""},{"$f":"IF(B77=\"\",\"\",IF(ISERROR(VLOOKUP(B77,ｴﾝﾄﾘｰ票!$BD$16:$BE$205,1,0)),\"\",VLOOKUP(B77,ｴﾝﾄﾘｰ票!$BD$16:$BE$205,2,0)))","v":""},null,{"$f":"IF(B77=\"\",\"\",IF(ISERROR(VLOOKUP(B77,ｴﾝﾄﾘｰ票!$BJ$16:$BK$205,1,0)),\"\",VLOOKUP(B77,ｴﾝﾄﾘｰ票!$BJ$16:$BK$205,2,0)))","v":""}]
[46,{"$f":"IF(ISERROR(VLOOKUP(A78*10-9+6000,ｴﾝﾄﾘｰ票!C$15:AI$215,3,0)),\"\",VLOOKUP(A78*10-9+6000,ｴﾝﾄﾘｰ票!C$15:AI$215,3,0))","v":""},{"$f":"IF(B78=\"\",\"\",CONCATENATE(VLOOKUP(B78,ｴﾝﾄﾘｰ票!$E$16:$L$215,2,0),\"　\",VLOOKUP(B78,ｴﾝﾄﾘｰ票!$E$16:$L$215,3,0)))","v":""},null,null,null,null,{"$f":"IF(B78=\"\",\"\",VLOOKUP(B78,ｴﾝﾄﾘｰ票!$E$16:$L$215,6,0))","v":""},null,{"$f":"IF(B78=\"\",\"\",IF(VLOOKUP(B78,ｴﾝﾄﾘｰ票!$E$16:$Y$215,10,0)=\"\",\"\",VLOOKUP(B78,ｴﾝﾄﾘｰ票!$E$16:$Y$215,10,0)))","v":""},null,{"$f":"IF(B78=\"\",\"\",IF(VLOOKUP(B78,ｴﾝﾄﾘｰ票!$E$16:$Y$215,14,0)=\"\",\"\",VLOOKUP(B78,ｴﾝﾄﾘｰ票!$E$16:$Y$215,14,0)))","v":""},null,{"$f":"IF(B78=\"\",\"\",IF(VLOOKUP(B78,ｴﾝﾄﾘｰ票!$E$16:$Y$215,18,0)=\"\",\"\",VLOOKUP(B78,ｴﾝﾄﾘｰ票!$E$16:$Y$215,18,0)))","v":""},{"$f":"IF(B78=\"\",\"\",IF(ISERROR(VLOOKUP(B78,ｴﾝﾄﾘｰ票!$BD$16:$BE$205,1,0)),\"\",VLOOKUP(B78,ｴﾝﾄﾘｰ票!$BD$16:$BE$205,2,0)))","v":""},null,{"$f":"IF(B78=\"\",\"\",IF(ISERROR(VLOOKUP(B78,ｴﾝﾄﾘｰ票!$BJ$16:$BK$205,1,0)),\"\",VLOOKUP(B78,ｴﾝﾄﾘｰ票!$BJ$16:$BK$205,2,0)))","v":""}]
[47,{"$f":"IF(ISERROR(VLOOKUP(A79*10-9+6000,ｴﾝﾄﾘｰ票!C$15:AI$215,3,0)),\"\",VLOOKUP(A79*10-9+6000,ｴﾝﾄﾘｰ票!C$15:AI$215,3,0))","v":""},{"$f":"IF(B79=\"\",\"\",CONCATENATE(VLOOKUP(B79,ｴﾝﾄﾘｰ票!$E$16:$L$215,2,0),\"　\",VLOOKUP(B79,ｴﾝﾄﾘｰ票!$E$16:$L$215,3,0)))","v":""},null,null,null,null,{"$f":"IF(B79=\"\",\"\",VLOOKUP(B79,ｴﾝﾄﾘｰ票!$E$16:$L$215,6,0))","v":""},null,{"$f":"IF(B79=\"\",\"\",IF(VLOOKUP(B79,ｴﾝﾄﾘｰ票!$E$16:$Y$215,10,0)=\"\",\"\",VLOOKUP(B79,ｴﾝﾄﾘｰ票!$E$16:$Y$215,10,0)))","v":""},null,{"$f":"IF(B79=\"\",\"\",IF(VLOOKUP(B79,ｴﾝﾄﾘｰ票!$E$16:$Y$215,14,0)=\"\",\"\",VLOOKUP(B79,ｴﾝﾄﾘｰ票!$E$16:$Y$215,14,0)))","v":""},null,{"$f":"IF(B79=\"\",\"\",IF(VLOOKUP(B79,ｴﾝﾄﾘｰ票!$E$16:$Y$215,18,0)=\"\",\"\",VLOOKUP(B79,ｴﾝﾄﾘｰ票!$E$16:$Y$215,18,0)))","v":""},{"$f":"IF(B79=\"\",\"\",IF(ISERROR(VLOOKUP(B79,ｴﾝﾄﾘｰ票!$BD$16:$BE$205,1,0)),\"\",VLOOKUP(B79,ｴﾝﾄﾘｰ票!$BD$16:$BE$205,2,0)))","v":""},null,{"$f":"IF(B79=\"\",\"\",IF(ISERROR(VLOOKUP(B79,ｴﾝﾄﾘｰ票!$BJ$16:$BK$205,1,0)),\"\",VLOOKUP(B79,ｴﾝﾄﾘｰ票!$BJ$16:$BK$205,2,0)))","v":""}]
[48,{"$f":"IF(ISERROR(VLOOKUP(A80*10-9+6000,ｴﾝﾄﾘｰ票!C$15:AI$215,3,0)),\"\",VLOOKUP(A80*10-9+6000,ｴﾝﾄﾘｰ票!C$15:AI$215,3,0))","v":""},{"$f":"IF(B80=\"\",\"\",CONCATENATE(VLOOKUP(B80,ｴﾝﾄﾘｰ票!$E$16:$L$215,2,0),\"　\",VLOOKUP(B80,ｴﾝﾄﾘｰ票!$E$16:$L$215,3,0)))","v":""},null,null,null,null,{"$f":"IF(B80=\"\",\"\",VLOOKUP(B80,ｴﾝﾄﾘｰ票!$E$16:$L$215,6,0))","v":""},null,{"$f":"IF(B80=\"\",\"\",IF(VLOOKUP(B80,ｴﾝﾄﾘｰ票!$E$16:$Y$215,10,0)=\"\",\"\",VLOOKUP(B80,ｴﾝﾄﾘｰ票!$E$16:$Y$215,10,0)))","v":""},null,{"$f":"IF(B80=\"\",\"\",IF(VLOOKUP(B80,ｴﾝﾄﾘｰ票!$E$16:$Y$215,14,0)=\"\",\"\",VLOOKUP(B80,ｴﾝﾄﾘｰ票!$E$16:$Y$215,14,0)))","v":""},null,{"$f":"IF(B80=\"\",\"\",IF(VLOOKUP(B80,ｴﾝﾄﾘｰ票!$E$16:$Y$215,18,0)=\"\",\"\",VLOOKUP(B80,ｴﾝﾄﾘｰ票!$E$16:$Y$215,18,0)))","v":""},{"$f":"IF(B80=\"\",\"\",IF(ISERROR(VLOOKUP(B80,ｴﾝﾄﾘｰ票!$BD$16:$BE$205,1,0)),\"\",VLOOKUP(B80,ｴﾝﾄﾘｰ票!$BD$16:$BE$205,2,0)))","v":""},null,{"$f":"IF(B80=\"\",\"\",IF(ISERROR(VLOOKUP(B80,ｴﾝﾄﾘｰ票!$BJ$16:$BK$205,1,0)),\"\",VLOOKUP(B80,ｴﾝﾄﾘｰ票!$BJ$16:$BK$205,2,0)))","v":""}]
[49,{"$f":"IF(ISERROR(VLOOKUP(A81*10-9+6000,ｴﾝﾄﾘｰ票!C$15:AI$215,3,0)),\"\",VLOOKUP(A81*10-9+6000,ｴﾝﾄﾘｰ票!C$15:AI$215,3,0))","v":""},{"$f":"IF(B81=\"\",\"\",CONCATENATE(VLOOKUP(B81,ｴﾝﾄﾘｰ票!$E$16:$L$215,2,0),\"　\",VLOOKUP(B81,ｴﾝﾄﾘｰ票!$E$16:$L$215,3,0)))","v":""},null,null,null,null,{"$f":"IF(B81=\"\",\"\",VLOOKUP(B81,ｴﾝﾄﾘｰ票!$E$16:$L$215,6,0))","v":""},null,{"$f":"IF(B81=\"\",\"\",IF(VLOOKUP(B81,ｴﾝﾄﾘｰ票!$E$16:$Y$215,10,0)=\"\",\"\",VLOOKUP(B81,ｴﾝﾄﾘｰ票!$E$16:$Y$215,10,0)))","v":""},null,{"$f":"IF(B81=\"\",\"\",IF(VLOOKUP(B81,ｴﾝﾄﾘｰ票!$E$16:$Y$215,14,0)=\"\",\"\",VLOOKUP(B81,ｴﾝﾄﾘｰ票!$E$16:$Y$215,14,0)))","v":""},null,{"$f":"IF(B81=\"\",\"\",IF(VLOOKUP(B81,ｴﾝﾄﾘｰ票!$E$16:$Y$215,18,0)=\"\",\"\",VLOOKUP(B81,ｴﾝﾄﾘｰ票!$E$16:$Y$215,18,0)))","v":""},{"$f":"IF(B81=\"\",\"\",IF(ISERROR(VLOOKUP(B81,ｴﾝﾄﾘｰ票!$BD$16:$BE$205,1,0)),\"\",VLOOKUP(B81,ｴﾝﾄﾘｰ票!$BD$16:$BE$205,2,0)))","v":""},null,{"$f":"IF(B81=\"\",\"\",IF(ISERROR(VLOOKUP(B81,ｴﾝﾄﾘｰ票!$BJ$16:$BK$205,1,0)),\"\",VLOOKUP(B81,ｴﾝﾄﾘｰ票!$BJ$16:$BK$205,2,0)))","v":""}]
[50,{"$f":"IF(ISERROR(VLOOKUP(A82*10-9+6000,ｴﾝﾄﾘｰ票!C$15:AI$215,3,0)),\"\",VLOOKUP(A82*10-9+6000,ｴﾝﾄﾘｰ票!C$15:AI$215,3,0))","v":""},{"$f":"IF(B82=\"\",\"\",CONCATENATE(VLOOKUP(B82,ｴﾝﾄﾘｰ票!$E$16:$L$215,2,0),\"　\",VLOOKUP(B82,ｴﾝﾄﾘｰ票!$E$16:$L$215,3,0)))","v":""},null,null,null,null,{"$f":"IF(B82=\"\",\"\",VLOOKUP(B82,ｴﾝﾄﾘｰ票!$E$16:$L$215,6,0))","v":""},null,{"$f":"IF(B82=\"\",\"\",IF(VLOOKUP(B82,ｴﾝﾄﾘｰ票!$E$16:$Y$215,10,0)=\"\",\"\",VLOOKUP(B82,ｴﾝﾄﾘｰ票!$E$16:$Y$215,10,0)))","v":""},null,{"$f":"IF(B82=\"\",\"\",IF(VLOOKUP(B82,ｴﾝﾄﾘｰ票!$E$16:$Y$215,14,0)=\"\",\"\",VLOOKUP(B82,ｴﾝﾄﾘｰ票!$E$16:$Y$215,14,0)))","v":""},null,{"$f":"IF(B82=\"\",\"\",IF(VLOOKUP(B82,ｴﾝﾄﾘｰ票!$E$16:$Y$215,18,0)=\"\",\"\",VLOOKUP(B82,ｴﾝﾄﾘｰ票!$E$16:$Y$215,18,0)))","v":""},{"$f":"IF(B82=\"\",\"\",IF(ISERROR(VLOOKUP(B82,ｴﾝﾄﾘｰ票!$BD$16:$BE$205,1,0)),\"\",VLOOKUP(B82,ｴﾝﾄﾘｰ票!$BD$16:$BE$205,2,0)))","v":""},null,{"$f":"IF(B82=\"\",\"\",IF(ISERROR(VLOOKUP(B82,ｴﾝﾄﾘｰ票!$BJ$16:$BK$205,1,0)),\"\",VLOOKUP(B82,ｴﾝﾄﾘｰ票!$BJ$16:$BK$205,2,0)))","v":""}]
[51,{"$f":"IF(ISERROR(VLOOKUP(A83*10-9+6000,ｴﾝﾄﾘｰ票!C$15:AI$215,3,0)),\"\",VLOOKUP(A83*10-9+6000,ｴﾝﾄﾘｰ票!C$15:AI$215,3,0))","v":""},{"$f":"IF(B83=\"\",\"\",CONCATENATE(VLOOKUP(B83,ｴﾝﾄﾘｰ票!$E$16:$L$215,2,0),\"　\",VLOOKUP(B83,ｴﾝﾄﾘｰ票!$E$16:$L$215,3,0)))","v":""},null,null,null,null,{"$f":"IF(B83=\"\",\"\",VLOOKUP(B83,ｴﾝﾄﾘｰ票!$E$16:$L$215,6,0))","v":""},null,{"$f":"IF(B83=\"\",\"\",IF(VLOOKUP(B83,ｴﾝﾄﾘｰ票!$E$16:$Y$215,10,0)=\"\",\"\",VLOOKUP(B83,ｴﾝﾄﾘｰ票!$E$16:$Y$215,10,0)))","v":""},null,{"$f":"IF(B83=\"\",\"\",IF(VLOOKUP(B83,ｴﾝﾄﾘｰ票!$E$16:$Y$215,14,0)=\"\",\"\",VLOOKUP(B83,ｴﾝﾄﾘｰ票!$E$16:$Y$215,14,0)))","v":""},null,{"$f":"IF(B83=\"\",\"\",IF(VLOOKUP(B83,ｴﾝﾄﾘｰ票!$E$16:$Y$215,18,0)=\"\",\"\",VLOOKUP(B83,ｴﾝﾄﾘｰ票!$E$16:$Y$215,18,0)))","v":""},{"$f":"IF(B83=\"\",\"\",IF(ISERROR(VLOOKUP(B83,ｴﾝﾄﾘｰ票!$BD$16:$BE$205,1,0)),\"\",VLOOKUP(B83,ｴﾝﾄﾘｰ票!$BD$16:$BE$205,2,0)))","v":""},null,{"$f":"IF(B83=\"\",\"\",IF(ISERROR(VLOOKUP(B83,ｴﾝﾄﾘｰ票!$BJ$16:$BK$205,1,0)),\"\",VLOOKUP(B83,ｴﾝﾄﾘｰ票!$BJ$16:$BK$205,2,0)))","v":""}]
[52,{"$f":"IF(ISERROR(VLOOKUP(A84*10-9+6000,ｴﾝﾄﾘｰ票!C$15:AI$215,3,0)),\"\",VLOOKUP(A84*10-9+6000,ｴﾝﾄﾘｰ票!C$15:AI$215,3,0))","v":""},{"$f":"IF(B84=\"\",\"\",CONCATENATE(VLOOKUP(B84,ｴﾝﾄﾘｰ票!$E$16:$L$215,2,0),\"　\",VLOOKUP(B84,ｴﾝﾄﾘｰ票!$E$16:$L$215,3,0)))","v":""},null,null,null,null,{"$f":"IF(B84=\"\",\"\",VLOOKUP(B84,ｴﾝﾄﾘｰ票!$E$16:$L$215,6,0))","v":""},null,{"$f":"IF(B84=\"\",\"\",IF(VLOOKUP(B84,ｴﾝﾄﾘｰ票!$E$16:$Y$215,10,0)=\"\",\"\",VLOOKUP(B84,ｴﾝﾄﾘｰ票!$E$16:$Y$215,10,0)))","v":""},null,{"$f":"IF(B84=\"\",\"\",IF(VLOOKUP(B84,ｴﾝﾄﾘｰ票!$E$16:$Y$215,14,0)=\"\",\"\",VLOOKUP(B84,ｴﾝﾄﾘｰ票!$E$16:$Y$215,14,0)))","v":""},null,{"$f":"IF(B84=\"\",\"\",IF(VLOOKUP(B84,ｴﾝﾄﾘｰ票!$E$16:$Y$215,18,0)=\"\",\"\",VLOOKUP(B84,ｴﾝﾄﾘｰ票!$E$16:$Y$215,18,0)))","v":""},{"$f":"IF(B84=\"\",\"\",IF(ISERROR(VLOOKUP(B84,ｴﾝﾄﾘｰ票!$BD$16:$BE$205,1,0)),\"\",VLOOKUP(B84,ｴﾝﾄﾘｰ票!$BD$16:$BE$205,2,0)))","v":""},null,{"$f":"IF(B84=\"\",\"\",IF(ISERROR(VLOOKUP(B84,ｴﾝﾄﾘｰ票!$BJ$16:$BK$205,1,0)),\"\",VLOOKUP(B84,ｴﾝﾄﾘｰ票!$BJ$16:$BK$205,2,0)))","v":""}]
[53,{"$f":"IF(ISERROR(VLOOKUP(A85*10-9+6000,ｴﾝﾄﾘｰ票!C$15:AI$215,3,0)),\"\",VLOOKUP(A85*10-9+6000,ｴﾝﾄﾘｰ票!C$15:AI$215,3,0))","v":""},{"$f":"IF(B85=\"\",\"\",CONCATENATE(VLOOKUP(B85,ｴﾝﾄﾘｰ票!$E$16:$L$215,2,0),\"　\",VLOOKUP(B85,ｴﾝﾄﾘｰ票!$E$16:$L$215,3,0)))","v":""},null,null,null,null,{"$f":"IF(B85=\"\",\"\",VLOOKUP(B85,ｴﾝﾄﾘｰ票!$E$16:$L$215,6,0))","v":""},null,{"$f":"IF(B85=\"\",\"\",IF(VLOOKUP(B85,ｴﾝﾄﾘｰ票!$E$16:$Y$215,10,0)=\"\",\"\",VLOOKUP(B85,ｴﾝﾄﾘｰ票!$E$16:$Y$215,10,0)))","v":""},null,{"$f":"IF(B85=\"\",\"\",IF(VLOOKUP(B85,ｴﾝﾄﾘｰ票!$E$16:$Y$215,14,0)=\"\",\"\",VLOOKUP(B85,ｴﾝﾄﾘｰ票!$E$16:$Y$215,14,0)))","v":""},null,{"$f":"IF(B85=\"\",\"\",IF(VLOOKUP(B85,ｴﾝﾄﾘｰ票!$E$16:$Y$215,18,0)=\"\",\"\",VLOOKUP(B85,ｴﾝﾄﾘｰ票!$E$16:$Y$215,18,0)))","v":""},{"$f":"IF(B85=\"\",\"\",IF(ISERROR(VLOOKUP(B85,ｴﾝﾄﾘｰ票!$BD$16:$BE$205,1,0)),\"\",VLOOKUP(B85,ｴﾝﾄﾘｰ票!$BD$16:$BE$205,2,0)))","v":""},null,{"$f":"IF(B85=\"\",\"\",IF(ISERROR(VLOOKUP(B85,ｴﾝﾄﾘｰ票!$BJ$16:$BK$205,1,0)),\"\",VLOOKUP(B85,ｴﾝﾄﾘｰ票!$BJ$16:$BK$205,2,0)))","v":""}]
[54,{"$f":"IF(ISERROR(VLOOKUP(A86*10-9+6000,ｴﾝﾄﾘｰ票!C$15:AI$215,3,0)),\"\",VLOOKUP(A86*10-9+6000,ｴﾝﾄﾘｰ票!C$15:AI$215,3,0))","v":""},{"$f":"IF(B86=\"\",\"\",CONCATENATE(VLOOKUP(B86,ｴﾝﾄﾘｰ票!$E$16:$L$215,2,0),\"　\",VLOOKUP(B86,ｴﾝﾄﾘｰ票!$E$16:$L$215,3,0)))","v":""},null,null,null,null,{"$f":"IF(B86=\"\",\"\",VLOOKUP(B86,ｴﾝﾄﾘｰ票!$E$16:$L$215,6,0))","v":""},null,{"$f":"IF(B86=\"\",\"\",IF(VLOOKUP(B86,ｴﾝﾄﾘｰ票!$E$16:$Y$215,10,0)=\"\",\"\",VLOOKUP(B86,ｴﾝﾄﾘｰ票!$E$16:$Y$215,10,0)))","v":""},null,{"$f":"IF(B86=\"\",\"\",IF(VLOOKUP(B86,ｴﾝﾄﾘｰ票!$E$16:$Y$215,14,0)=\"\",\"\",VLOOKUP(B86,ｴﾝﾄﾘｰ票!$E$16:$Y$215,14,0)))","v":""},null,{"$f":"IF(B86=\"\",\"\",IF(VLOOKUP(B86,ｴﾝﾄﾘｰ票!$E$16:$Y$215,18,0)=\"\",\"\",VLOOKUP(B86,ｴﾝﾄﾘｰ票!$E$16:$Y$215,18,0)))","v":""},{"$f":"IF(B86=\"\",\"\",IF(ISERROR(VLOOKUP(B86,ｴﾝﾄﾘｰ票!$BD$16:$BE$205,1,0)),\"\",VLOOKUP(B86,ｴﾝﾄﾘｰ票!$BD$16:$BE$205,2,0)))","v":""},null,{"$f":"IF(B86=\"\",\"\",IF(ISERROR(VLOOKUP(B86,ｴﾝﾄﾘｰ票!$BJ$16:$BK$205,1,0)),\"\",VLOOKUP(B86,ｴﾝﾄﾘｰ票!$BJ$16:$BK$205,2,0)))","v":""}]
[55,{"$f":"IF(ISERROR(VLOOKUP(A87*10-9+6000,ｴﾝﾄﾘｰ票!C$15:AI$215,3,0)),\"\",VLOOKUP(A87*10-9+6000,ｴﾝﾄﾘｰ票!C$15:AI$215,3,0))","v":""},{"$f":"IF(B87=\"\",\"\",CONCATENATE(VLOOKUP(B87,ｴﾝﾄﾘｰ票!$E$16:$L$215,2,0),\"　\",VLOOKUP(B87,ｴﾝﾄﾘｰ票!$E$16:$L$215,3,0)))","v":""},null,null,null,null,{"$f":"IF(B87=\"\",\"\",VLOOKUP(B87,ｴﾝﾄﾘｰ票!$E$16:$L$215,6,0))","v":""},null,{"$f":"IF(B87=\"\",\"\",IF(VLOOKUP(B87,ｴﾝﾄﾘｰ票!$E$16:$Y$215,10,0)=\"\",\"\",VLOOKUP(B87,ｴﾝﾄﾘｰ票!$E$16:$Y$215,10,0)))","v":""},null,{"$f":"IF(B87=\"\",\"\",IF(VLOOKUP(B87,ｴﾝﾄﾘｰ票!$E$16:$Y$215,14,0)=\"\",\"\",VLOOKUP(B87,ｴﾝﾄﾘｰ票!$E$16:$Y$215,14,0)))","v":""},null,{"$f":"IF(B87=\"\",\"\",IF(VLOOKUP(B87,ｴﾝﾄﾘｰ票!$E$16:$Y$215,18,0)=\"\",\"\",VLOOKUP(B87,ｴﾝﾄﾘｰ票!$E$16:$Y$215,18,0)))","v":""},{"$f":"IF(B87=\"\",\"\",IF(ISERROR(VLOOKUP(B87,ｴﾝﾄﾘｰ票!$BD$16:$BE$205,1,0)),\"\",VLOOKUP(B87,ｴﾝﾄﾘｰ票!$BD$16:$BE$205,2,0)))","v":""},null,{"$f":"IF(B87=\"\",\"\",IF(ISERROR(VLOOKUP(B87,ｴﾝﾄﾘｰ票!$BJ$16:$BK$205,1,0)),\"\",VLOOKUP(B87,ｴﾝﾄﾘｰ票!$BJ$16:$BK$205,2,0)))","v":""}]
[56,{"$f":"IF(ISERROR(VLOOKUP(A88*10-9+6000,ｴﾝﾄﾘｰ票!C$15:AI$215,3,0)),\"\",VLOOKUP(A88*10-9+6000,ｴﾝﾄﾘｰ票!C$15:AI$215,3,0))","v":""},{"$f":"IF(B88=\"\",\"\",CONCATENATE(VLOOKUP(B88,ｴﾝﾄﾘｰ票!$E$16:$L$215,2,0),\"　\",VLOOKUP(B88,ｴﾝﾄﾘｰ票!$E$16:$L$215,3,0)))","v":""},null,null,null,null,{"$f":"IF(B88=\"\",\"\",VLOOKUP(B88,ｴﾝﾄﾘｰ票!$E$16:$L$215,6,0))","v":""},null,{"$f":"IF(B88=\"\",\"\",IF(VLOOKUP(B88,ｴﾝﾄﾘｰ票!$E$16:$Y$215,10,0)=\"\",\"\",VLOOKUP(B88,ｴﾝﾄﾘｰ票!$E$16:$Y$215,10,0)))","v":""},null,{"$f":"IF(B88=\"\",\"\",IF(VLOOKUP(B88,ｴﾝﾄﾘｰ票!$E$16:$Y$215,14,0)=\"\",\"\",VLOOKUP(B88,ｴﾝﾄﾘｰ票!$E$16:$Y$215,14,0)))","v":""},null,{"$f":"IF(B88=\"\",\"\",IF(VLOOKUP(B88,ｴﾝﾄﾘｰ票!$E$16:$Y$215,18,0)=\"\",\"\",VLOOKUP(B88,ｴﾝﾄﾘｰ票!$E$16:$Y$215,18,0)))","v":""},{"$f":"IF(B88=\"\",\"\",IF(ISERROR(VLOOKUP(B88,ｴﾝﾄﾘｰ票!$BD$16:$BE$205,1,0)),\"\",VLOOKUP(B88,ｴﾝﾄﾘｰ票!$BD$16:$BE$205,2,0)))","v":""},null,{"$f":"IF(B88=\"\",\"\",IF(ISERROR(VLOOKUP(B88,ｴﾝﾄﾘｰ票!$BJ$16:$BK$205,1,0)),\"\",VLOOKUP(B88,ｴﾝﾄﾘｰ票!$BJ$16:$BK$205,2,0)))","v":""}]
[57,{"$f":"IF(ISERROR(VLOOKUP(A89*10-9+6000,ｴﾝﾄﾘｰ票!C$15:AI$215,3,0)),\"\",VLOOKUP(A89*10-9+6000,ｴﾝﾄﾘｰ票!C$15:AI$215,3,0))","v":""},{"$f":"IF(B89=\"\",\"\",CONCATENATE(VLOOKUP(B89,ｴﾝﾄﾘｰ票!$E$16:$L$215,2,0),\"　\",VLOOKUP(B89,ｴﾝﾄﾘｰ票!$E$16:$L$215,3,0)))","v":""},null,null,null,null,{"$f":"IF(B89=\"\",\"\",VLOOKUP(B89,ｴﾝﾄﾘｰ票!$E$16:$L$215,6,0))","v":""},null,{"$f":"IF(B89=\"\",\"\",IF(VLOOKUP(B89,ｴﾝﾄﾘｰ票!$E$16:$Y$215,10,0)=\"\",\"\",VLOOKUP(B89,ｴﾝﾄﾘｰ票!$E$16:$Y$215,10,0)))","v":""},null,{"$f":"IF(B89=\"\",\"\",IF(VLOOKUP(B89,ｴﾝﾄﾘｰ票!$E$16:$Y$215,14,0)=\"\",\"\",VLOOKUP(B89,ｴﾝﾄﾘｰ票!$E$16:$Y$215,14,0)))","v":""},null,{"$f":"IF(B89=\"\",\"\",IF(VLOOKUP(B89,ｴﾝﾄﾘｰ票!$E$16:$Y$215,18,0)=\"\",\"\",VLOOKUP(B89,ｴﾝﾄﾘｰ票!$E$16:$Y$215,18,0)))","v":""},{"$f":"IF(B89=\"\",\"\",IF(ISERROR(VLOOKUP(B89,ｴﾝﾄﾘｰ票!$BD$16:$BE$205,1,0)),\"\",VLOOKUP(B89,ｴﾝﾄﾘｰ票!$BD$16:$BE$205,2,0)))","v":""},null,{"$f":"IF(B89=\"\",\"\",IF(ISERROR(VLOOKUP(B89,ｴﾝﾄﾘｰ票!$BJ$16:$BK$205,1,0)),\"\",VLOOKUP(B89,ｴﾝﾄﾘｰ票!$BJ$16:$BK$205,2,0)))","v":""}]
[58,{"$f":"IF(ISERROR(VLOOKUP(A90*10-9+6000,ｴﾝﾄﾘｰ票!C$15:AI$215,3,0)),\"\",VLOOKUP(A90*10-9+6000,ｴﾝﾄﾘｰ票!C$15:AI$215,3,0))","v":""},{"$f":"IF(B90=\"\",\"\",CONCATENATE(VLOOKUP(B90,ｴﾝﾄﾘｰ票!$E$16:$L$215,2,0),\"　\",VLOOKUP(B90,ｴﾝﾄﾘｰ票!$E$16:$L$215,3,0)))","v":""},null,null,null,null,{"$f":"IF(B90=\"\",\"\",VLOOKUP(B90,ｴﾝﾄﾘｰ票!$E$16:$L$215,6,0))","v":""},null,{"$f":"IF(B90=\"\",\"\",IF(VLOOKUP(B90,ｴﾝﾄﾘｰ票!$E$16:$Y$215,10,0)=\"\",\"\",VLOOKUP(B90,ｴﾝﾄﾘｰ票!$E$16:$Y$215,10,0)))","v":""},null,{"$f":"IF(B90=\"\",\"\",IF(VLOOKUP(B90,ｴﾝﾄﾘｰ票!$E$16:$Y$215,14,0)=\"\",\"\",VLOOKUP(B90,ｴﾝﾄﾘｰ票!$E$16:$Y$215,14,0)))","v":""},null,{"$f":"IF(B90=\"\",\"\",IF(VLOOKUP(B90,ｴﾝﾄﾘｰ票!$E$16:$Y$215,18,0)=\"\",\"\",VLOOKUP(B90,ｴﾝﾄﾘｰ票!$E$16:$Y$215,18,0)))","v":""},{"$f":"IF(B90=\"\",\"\",IF(ISERROR(VLOOKUP(B90,ｴﾝﾄﾘｰ票!$BD$16:$BE$205,1,0)),\"\",VLOOKUP(B90,ｴﾝﾄﾘｰ票!$BD$16:$BE$205,2,0)))","v":""},null,{"$f":"IF(B90=\"\",\"\",IF(ISERROR(VLOOKUP(B90,ｴﾝﾄﾘｰ票!$BJ$16:$BK$205,1,0)),\"\",VLOOKUP(B90,ｴﾝﾄﾘｰ票!$BJ$16:$BK$205,2,0)))","v":""}]
[59,{"$f":"IF(ISERROR(VLOOKUP(A91*10-9+6000,ｴﾝﾄﾘｰ票!C$15:AI$215,3,0)),\"\",VLOOKUP(A91*10-9+6000,ｴﾝﾄﾘｰ票!C$15:AI$215,3,0))","v":""},{"$f":"IF(B91=\"\",\"\",CONCATENATE(VLOOKUP(B91,ｴﾝﾄﾘｰ票!$E$16:$L$215,2,0),\"　\",VLOOKUP(B91,ｴﾝﾄﾘｰ票!$E$16:$L$215,3,0)))","v":""},null,null,null,null,{"$f":"IF(B91=\"\",\"\",VLOOKUP(B91,ｴﾝﾄﾘｰ票!$E$16:$L$215,6,0))","v":""},null,{"$f":"IF(B91=\"\",\"\",IF(VLOOKUP(B91,ｴﾝﾄﾘｰ票!$E$16:$Y$215,10,0)=\"\",\"\",VLOOKUP(B91,ｴﾝﾄﾘｰ票!$E$16:$Y$215,10,0)))","v":""},null,{"$f":"IF(B91=\"\",\"\",IF(VLOOKUP(B91,ｴﾝﾄﾘｰ票!$E$16:$Y$215,14,0)=\"\",\"\",VLOOKUP(B91,ｴﾝﾄﾘｰ票!$E$16:$Y$215,14,0)))","v":""},null,{"$f":"IF(B91=\"\",\"\",IF(VLOOKUP(B91,ｴﾝﾄﾘｰ票!$E$16:$Y$215,18,0)=\"\",\"\",VLOOKUP(B91,ｴﾝﾄﾘｰ票!$E$16:$Y$215,18,0)))","v":""},{"$f":"IF(B91=\"\",\"\",IF(ISERROR(VLOOKUP(B91,ｴﾝﾄﾘｰ票!$BD$16:$BE$205,1,0)),\"\",VLOOKUP(B91,ｴﾝﾄﾘｰ票!$BD$16:$BE$205,2,0)))","v":""},null,{"$f":"IF(B91=\"\",\"\",IF(ISERROR(VLOOKUP(B91,ｴﾝﾄﾘｰ票!$BJ$16:$BK$205,1,0)),\"\",VLOOKUP(B91,ｴﾝﾄﾘｰ票!$BJ$16:$BK$205,2,0)))","v":""}]
[60,{"$f":"IF(ISERROR(VLOOKUP(A92*10-9+6000,ｴﾝﾄﾘｰ票!C$15:AI$215,3,0)),\"\",VLOOKUP(A92*10-9+6000,ｴﾝﾄﾘｰ票!C$15:AI$215,3,0))","v":""},{"$f":"IF(B92=\"\",\"\",CONCATENATE(VLOOKUP(B92,ｴﾝﾄﾘｰ票!$E$16:$L$215,2,0),\"　\",VLOOKUP(B92,ｴﾝﾄﾘｰ票!$E$16:$L$215,3,0)))","v":""},null,null,null,null,{"$f":"IF(B92=\"\",\"\",VLOOKUP(B92,ｴﾝﾄﾘｰ票!$E$16:$L$215,6,0))","v":""},null,{"$f":"IF(B92=\"\",\"\",IF(VLOOKUP(B92,ｴﾝﾄﾘｰ票!$E$16:$Y$215,10,0)=\"\",\"\",VLOOKUP(B92,ｴﾝﾄﾘｰ票!$E$16:$Y$215,10,0)))","v":""},null,{"$f":"IF(B92=\"\",\"\",IF(VLOOKUP(B92,ｴﾝﾄﾘｰ票!$E$16:$Y$215,14,0)=\"\",\"\",VLOOKUP(B92,ｴﾝﾄﾘｰ票!$E$16:$Y$215,14,0)))","v":""},null,{"$f":"IF(B92=\"\",\"\",IF(VLOOKUP(B92,ｴﾝﾄﾘｰ票!$E$16:$Y$215,18,0)=\"\",\"\",VLOOKUP(B92,ｴﾝﾄﾘｰ票!$E$16:$Y$215,18,0)))","v":""},{"$f":"IF(B92=\"\",\"\",IF(ISERROR(VLOOKUP(B92,ｴﾝﾄﾘｰ票!$BD$16:$BE$205,1,0)),\"\",VLOOKUP(B92,ｴﾝﾄﾘｰ票!$BD$16:$BE$205,2,0)))","v":""},null,{"$f":"IF(B92=\"\",\"\",IF(ISERROR(VLOOKUP(B92,ｴﾝﾄﾘｰ票!$BJ$16:$BK$205,1,0)),\"\",VLOOKUP(B92,ｴﾝﾄﾘｰ票!$BJ$16:$BK$205,2,0)))","v":""}]
[null,{"$f":"ｴﾝﾄﾘｰ票!$G$1","v":"東京都高校新人陸上競技大会第４支部予選会"},null,null,null,null,null,null,null,null,null,null,null,null,null,null,null,null,null,null,null,null,null,null,null,"申込用紙(A票）"]
[{"$f":"A2","v":"平成30年度"},null,null,null,null,null,null,null,null,null,null,null,null,null,null,null,null,null,null,null,null,null,null,"女子",null,"Ｎｏ．４"]
["学校名",null,{"$f":"ｴﾝﾄﾘｰ票!$G$2","v":0},null,null,null,null,null,null,null,"学校所在地",null,{"$f":"ｴﾝﾄﾘｰ票!$G$5","v":0}]
[null,null,null,null,null,null,null,null,null,null,"電話",null,{"$f":"ｴﾝﾄﾘｰ票!$G$6","v":"00:00:00"},null,null,null,null,"ＦＡＸ",null,{"$f":"ｴﾝﾄﾘｰ票!$G$7","v":0}]
["学校長",null,{"$f":"ｴﾝﾄﾘｰ票!$G$4","v":0},null,null,null,null,null,null,"印","顧問氏名",null,{"$f":"ｴﾝﾄﾘｰ票!$G$8","v":0},null,null,null,"印"]
[null,null,null,null,null,null,null,null,null,null,"連絡先",null,{"$f":"ｴﾝﾄﾘｰ票!$G$9","v":0}]
[]
[null,null,null,null,null,null,null,null,null,null,null,null,null,"種目",null,null,null,null,null,null,null,"本大会種目"]
[null,"番号","出場者氏名",null,null,null,null,"学年",null,"個人",null,"個人",null,"個人","4×100",null,"4×400","個人",null,"個人",null,"個人",null,"4×100","4×400"]
[61,{"$f":"IF(ISERROR(VLOOKUP(A102*10-9+6000,ｴﾝﾄﾘｰ票!C$15:AI$215,3,0)),\"\",VLOOKUP(A102*10-9+6000,ｴﾝﾄﾘｰ票!C$15:AI$215,3,0))","v":""},{"$f":"IF(B102=\"\",\"\",CONCATENATE(VLOOKUP(B102,ｴﾝﾄﾘｰ票!$E$16:$L$215,2,0),\"　\",VLOOKUP(B102,ｴﾝﾄﾘｰ票!$E$16:$L$215,3,0)))","v":""},null,null,null,null,{"$f":"IF(B102=\"\",\"\",VLOOKUP(B102,ｴﾝﾄﾘｰ票!$E$16:$L$215,6,0))","v":""},null,{"$f":"IF(B102=\"\",\"\",IF(VLOOKUP(B102,ｴﾝﾄﾘｰ票!$E$16:$Y$215,10,0)=\"\",\"\",VLOOKUP(B102,ｴﾝﾄﾘｰ票!$E$16:$Y$215,10,0)))","v":""},null,{"$f":"IF(B102=\"\",\"\",IF(VLOOKUP(B102,ｴﾝﾄﾘｰ票!$E$16:$Y$215,14,0)=\"\",\"\",VLOOKUP(B102,ｴﾝﾄﾘｰ票!$E$16:$Y$215,14,0)))","v":""},null,{"$f":"IF(B102=\"\",\"\",IF(VLOOKUP(B102,ｴﾝﾄﾘｰ票!$E$16:$Y$215,18,0)=\"\",\"\",VLOOKUP(B102,ｴﾝﾄﾘｰ票!$E$16:$Y$215,18,0)))","v":""},{"$f":"IF(B102=\"\",\"\",IF(ISERROR(VLOOKUP(B102,ｴﾝﾄﾘｰ票!$BD$16:$BE$205,1,0)),\"\",VLOOKUP(B102,ｴﾝﾄﾘｰ票!$BD$16:$BE$205,2,0)))","v":""},null,{"$f":"IF(B102=\"\",\"\",IF(ISERROR(VLOOKUP(B102,ｴﾝﾄﾘｰ票!$BJ$16:$BK$205,1,0)),\"\",VLOOKUP(B102,ｴﾝﾄﾘｰ票!$BJ$16:$BK$205,2,0)))","v":""}]
[62,{"$f":"IF(ISERROR(VLOOKUP(A103*10-9+6000,ｴﾝﾄﾘｰ票!C$15:AI$215,3,0)),\"\",VLOOKUP(A103*10-9+6000,ｴﾝﾄﾘｰ票!C$15:AI$215,3,0))","v":""},{"$f":"IF(B103=\"\",\"\",CONCATENATE(VLOOKUP(B103,ｴﾝﾄﾘｰ票!$E$16:$L$215,2,0),\"　\",VLOOKUP(B103,ｴﾝﾄﾘｰ票!$E$16:$L$215,3,0)))","v":""},null,null,null,null,{"$f":"IF(B103=\"\",\"\",VLOOKUP(B103,ｴﾝﾄﾘｰ票!$E$16:$L$215,6,0))","v":""},null,{"$f":"IF(B103=\"\",\"\",IF(VLOOKUP(B103,ｴﾝﾄﾘｰ票!$E$16:$Y$215,10,0)=\"\",\"\",VLOOKUP(B103,ｴﾝﾄﾘｰ票!$E$16:$Y$215,10,0)))","v":""},null,{"$f":"IF(B103=\"\",\"\",IF(VLOOKUP(B103,ｴﾝﾄﾘｰ票!$E$16:$Y$215,14,0)=\"\",\"\",VLOOKUP(B103,ｴﾝﾄﾘｰ票!$E$16:$Y$215,14,0)))","v":""},null,{"$f":"IF(B103=\"\",\"\",IF(VLOOKUP(B103,ｴﾝﾄﾘｰ票!$E$16:$Y$215,18,0)=\"\",\"\",VLOOKUP(B103,ｴﾝﾄﾘｰ票!$E$16:$Y$215,18,0)))","v":""},{"$f":"IF(B103=\"\",\"\",IF(ISERROR(VLOOKUP(B103,ｴﾝﾄﾘｰ票!$BD$16:$BE$205,1,0)),\"\",VLOOKUP(B103,ｴﾝﾄﾘｰ票!$BD$16:$BE$205,2,0)))","v":""},null,{"$f":"IF(B103=\"\",\"\",IF(ISERROR(VLOOKUP(B103,ｴﾝﾄﾘｰ票!$BJ$16:$BK$205,1,0)),\"\",VLOOKUP(B103,ｴﾝﾄﾘｰ票!$BJ$16:$BK$205,2,0)))","v":""}]
[63,{"$f":"IF(ISERROR(VLOOKUP(A104*10-9+6000,ｴﾝﾄﾘｰ票!C$15:AI$215,3,0)),\"\",VLOOKUP(A104*10-9+6000,ｴﾝﾄﾘｰ票!C$15:AI$215,3,0))","v":""},{"$f":"IF(B104=\"\",\"\",CONCATENATE(VLOOKUP(B104,ｴﾝﾄﾘｰ票!$E$16:$L$215,2,0),\"　\",VLOOKUP(B104,ｴﾝﾄﾘｰ票!$E$16:$L$215,3,0)))","v":""},null,null,null,null,{"$f":"IF(B104=\"\",\"\",VLOOKUP(B104,ｴﾝﾄﾘｰ票!$E$16:$L$215,6,0))","v":""},null,{"$f":"IF(B104=\"\",\"\",IF(VLOOKUP(B104,ｴﾝﾄﾘｰ票!$E$16:$Y$215,10,0)=\"\",\"\",VLOOKUP(B104,ｴﾝﾄﾘｰ票!$E$16:$Y$215,10,0)))","v":""},null,{"$f":"IF(B104=\"\",\"\",IF(VLOOKUP(B104,ｴﾝﾄﾘｰ票!$E$16:$Y$215,14,0)=\"\",\"\",VLOOKUP(B104,ｴﾝﾄﾘｰ票!$E$16:$Y$215,14,0)))","v":""},null,{"$f":"IF(B104=\"\",\"\",IF(VLOOKUP(B104,ｴﾝﾄﾘｰ票!$E$16:$Y$215,18,0)=\"\",\"\",VLOOKUP(B104,ｴﾝﾄﾘｰ票!$E$16:$Y$215,18,0)))","v":""},{"$f":"IF(B104=\"\",\"\",IF(ISERROR(VLOOKUP(B104,ｴﾝﾄﾘｰ票!$BD$16:$BE$205,1,0)),\"\",VLOOKUP(B104,ｴﾝﾄﾘｰ票!$BD$16:$BE$205,2,0)))","v":""},null,{"$f":"IF(B104=\"\",\"\",IF(ISERROR(VLOOKUP(B104,ｴﾝﾄﾘｰ票!$BJ$16:$BK$205,1,0)),\"\",VLOOKUP(B104,ｴﾝﾄﾘｰ票!$BJ$16:$BK$205,2,0)))","v":""}]
[64,{"$f":"IF(ISERROR(VLOOKUP(A105*10-9+6000,ｴﾝﾄﾘｰ票!C$15:AI$215,3,0)),\"\",VLOOKUP(A105*10-9+6000,ｴﾝﾄﾘｰ票!C$15:AI$215,3,0))","v":""},{"$f":"IF(B105=\"\",\"\",CONCATENATE(VLOOKUP(B105,ｴﾝﾄﾘｰ票!$E$16:$L$215,2,0),\"　\",VLOOKUP(B105,ｴﾝﾄﾘｰ票!$E$16:$L$215,3,0)))","v":""},null,null,null,null,{"$f":"IF(B105=\"\",\"\",VLOOKUP(B105,ｴﾝﾄﾘｰ票!$E$16:$L$215,6,0))","v":""},null,{"$f":"IF(B105=\"\",\"\",IF(VLOOKUP(B105,ｴﾝﾄﾘｰ票!$E$16:$Y$215,10,0)=\"\",\"\",VLOOKUP(B105,ｴﾝﾄﾘｰ票!$E$16:$Y$215,10,0)))","v":""},null,{"$f":"IF(B105=\"\",\"\",IF(VLOOKUP(B105,ｴﾝﾄﾘｰ票!$E$16:$Y$215,14,0)=\"\",\"\",VLOOKUP(B105,ｴﾝﾄﾘｰ票!$E$16:$Y$215,14,0)))","v":""},null,{"$f":"IF(B105=\"\",\"\",IF(VLOOKUP(B105,ｴﾝﾄﾘｰ票!$E$16:$Y$215,18,0)=\"\",\"\",VLOOKUP(B105,ｴﾝﾄﾘｰ票!$E$16:$Y$215,18,0)))","v":""},{"$f":"IF(B105=\"\",\"\",IF(ISERROR(VLOOKUP(B105,ｴﾝﾄﾘｰ票!$BD$16:$BE$205,1,0)),\"\",VLOOKUP(B105,ｴﾝﾄﾘｰ票!$BD$16:$BE$205,2,0)))","v":""},null,{"$f":"IF(B105=\"\",\"\",IF(ISERROR(VLOOKUP(B105,ｴﾝﾄﾘｰ票!$BJ$16:$BK$205,1,0)),\"\",VLOOKUP(B105,ｴﾝﾄﾘｰ票!$BJ$16:$BK$205,2,0)))","v":""}]
[65,{"$f":"IF(ISERROR(VLOOKUP(A106*10-9+6000,ｴﾝﾄﾘｰ票!C$15:AI$215,3,0)),\"\",VLOOKUP(A106*10-9+6000,ｴﾝﾄﾘｰ票!C$15:AI$215,3,0))","v":""},{"$f":"IF(B106=\"\",\"\",CONCATENATE(VLOOKUP(B106,ｴﾝﾄﾘｰ票!$E$16:$L$215,2,0),\"　\",VLOOKUP(B106,ｴﾝﾄﾘｰ票!$E$16:$L$215,3,0)))","v":""},null,null,null,null,{"$f":"IF(B106=\"\",\"\",VLOOKUP(B106,ｴﾝﾄﾘｰ票!$E$16:$L$215,6,0))","v":""},null,{"$f":"IF(B106=\"\",\"\",IF(VLOOKUP(B106,ｴﾝﾄﾘｰ票!$E$16:$Y$215,10,0)=\"\",\"\",VLOOKUP(B106,ｴﾝﾄﾘｰ票!$E$16:$Y$215,10,0)))","v":""},null,{"$f":"IF(B106=\"\",\"\",IF(VLOOKUP(B106,ｴﾝﾄﾘｰ票!$E$16:$Y$215,14,0)=\"\",\"\",VLOOKUP(B106,ｴﾝﾄﾘｰ票!$E$16:$Y$215,14,0)))","v":""},null,{"$f":"IF(B106=\"\",\"\",IF(VLOOKUP(B106,ｴﾝﾄﾘｰ票!$E$16:$Y$215,18,0)=\"\",\"\",VLOOKUP(B106,ｴﾝﾄﾘｰ票!$E$16:$Y$215,18,0)))","v":""},{"$f":"IF(B106=\"\",\"\",IF(ISERROR(VLOOKUP(B106,ｴﾝﾄﾘｰ票!$BD$16:$BE$205,1,0)),\"\",VLOOKUP(B106,ｴﾝﾄﾘｰ票!$BD$16:$BE$205,2,0)))","v":""},null,{"$f":"IF(B106=\"\",\"\",IF(ISERROR(VLOOKUP(B106,ｴﾝﾄﾘｰ票!$BJ$16:$BK$205,1,0)),\"\",VLOOKUP(B106,ｴﾝﾄﾘｰ票!$BJ$16:$BK$205,2,0)))","v":""}]
[66,{"$f":"IF(ISERROR(VLOOKUP(A107*10-9+6000,ｴﾝﾄﾘｰ票!C$15:AI$215,3,0)),\"\",VLOOKUP(A107*10-9+6000,ｴﾝﾄﾘｰ票!C$15:AI$215,3,0))","v":""},{"$f":"IF(B107=\"\",\"\",CONCATENATE(VLOOKUP(B107,ｴﾝﾄﾘｰ票!$E$16:$L$215,2,0),\"　\",VLOOKUP(B107,ｴﾝﾄﾘｰ票!$E$16:$L$215,3,0)))","v":""},null,null,null,null,{"$f":"IF(B107=\"\",\"\",VLOOKUP(B107,ｴﾝﾄﾘｰ票!$E$16:$L$215,6,0))","v":""},null,{"$f":"IF(B107=\"\",\"\",IF(VLOOKUP(B107,ｴﾝﾄﾘｰ票!$E$16:$Y$215,10,0)=\"\",\"\",VLOOKUP(B107,ｴﾝﾄﾘｰ票!$E$16:$Y$215,10,0)))","v":""},null,{"$f":"IF(B107=\"\",\"\",IF(VLOOKUP(B107,ｴﾝﾄﾘｰ票!$E$16:$Y$215,14,0)=\"\",\"\",VLOOKUP(B107,ｴﾝﾄﾘｰ票!$E$16:$Y$215,14,0)))","v":""},null,{"$f":"IF(B107=\"\",\"\",IF(VLOOKUP(B107,ｴﾝﾄﾘｰ票!$E$16:$Y$215,18,0)=\"\",\"\",VLOOKUP(B107,ｴﾝﾄﾘｰ票!$E$16:$Y$215,18,0)))","v":""},{"$f":"IF(B107=\"\",\"\",IF(ISERROR(VLOOKUP(B107,ｴﾝﾄﾘｰ票!$BD$16:$BE$205,1,0)),\"\",VLOOKUP(B107,ｴﾝﾄﾘｰ票!$BD$16:$BE$205,2,0)))","v":""},null,{"$f":"IF(B107=\"\",\"\",IF(ISERROR(VLOOKUP(B107,ｴﾝﾄﾘｰ票!$BJ$16:$BK$205,1,0)),\"\",VLOOKUP(B107,ｴﾝﾄﾘｰ票!$BJ$16:$BK$205,2,0)))","v":""}]
[67,{"$f":"IF(ISERROR(VLOOKUP(A108*10-9+6000,ｴﾝﾄﾘｰ票!C$15:AI$215,3,0)),\"\",VLOOKUP(A108*10-9+6000,ｴﾝﾄﾘｰ票!C$15:AI$215,3,0))","v":""},{"$f":"IF(B108=\"\",\"\",CONCATENATE(VLOOKUP(B108,ｴﾝﾄﾘｰ票!$E$16:$L$215,2,0),\"　\",VLOOKUP(B108,ｴﾝﾄﾘｰ票!$E$16:$L$215,3,0)))","v":""},null,null,null,null,{"$f":"IF(B108=\"\",\"\",VLOOKUP(B108,ｴﾝﾄﾘｰ票!$E$16:$L$215,6,0))","v":""},null,{"$f":"IF(B108=\"\",\"\",IF(VLOOKUP(B108,ｴﾝﾄﾘｰ票!$E$16:$Y$215,10,0)=\"\",\"\",VLOOKUP(B108,ｴﾝﾄﾘｰ票!$E$16:$Y$215,10,0)))","v":""},null,{"$f":"IF(B108=\"\",\"\",IF(VLOOKUP(B108,ｴﾝﾄﾘｰ票!$E$16:$Y$215,14,0)=\"\",\"\",VLOOKUP(B108,ｴﾝﾄﾘｰ票!$E$16:$Y$215,14,0)))","v":""},null,{"$f":"IF(B108=\"\",\"\",IF(VLOOKUP(B108,ｴﾝﾄﾘｰ票!$E$16:$Y$215,18,0)=\"\",\"\",VLOOKUP(B108,ｴﾝﾄﾘｰ票!$E$16:$Y$215,18,0)))","v":""},{"$f":"IF(B108=\"\",\"\",IF(ISERROR(VLOOKUP(B108,ｴﾝﾄﾘｰ票!$BD$16:$BE$205,1,0)),\"\",VLOOKUP(B108,ｴﾝﾄﾘｰ票!$BD$16:$BE$205,2,0)))","v":""},null,{"$f":"IF(B108=\"\",\"\",IF(ISERROR(VLOOKUP(B108,ｴﾝﾄﾘｰ票!$BJ$16:$BK$205,1,0)),\"\",VLOOKUP(B108,ｴﾝﾄﾘｰ票!$BJ$16:$BK$205,2,0)))","v":""}]
[68,{"$f":"IF(ISERROR(VLOOKUP(A109*10-9+6000,ｴﾝﾄﾘｰ票!C$15:AI$215,3,0)),\"\",VLOOKUP(A109*10-9+6000,ｴﾝﾄﾘｰ票!C$15:AI$215,3,0))","v":""},{"$f":"IF(B109=\"\",\"\",CONCATENATE(VLOOKUP(B109,ｴﾝﾄﾘｰ票!$E$16:$L$215,2,0),\"　\",VLOOKUP(B109,ｴﾝﾄﾘｰ票!$E$16:$L$215,3,0)))","v":""},null,null,null,null,{"$f":"IF(B109=\"\",\"\",VLOOKUP(B109,ｴﾝﾄﾘｰ票!$E$16:$L$215,6,0))","v":""},null,{"$f":"IF(B109=\"\",\"\",IF(VLOOKUP(B109,ｴﾝﾄﾘｰ票!$E$16:$Y$215,10,0)=\"\",\"\",VLOOKUP(B109,ｴﾝﾄﾘｰ票!$E$16:$Y$215,10,0)))","v":""},null,{"$f":"IF(B109=\"\",\"\",IF(VLOOKUP(B109,ｴﾝﾄﾘｰ票!$E$16:$Y$215,14,0)=\"\",\"\",VLOOKUP(B109,ｴﾝﾄﾘｰ票!$E$16:$Y$215,14,0)))","v":""},null,{"$f":"IF(B109=\"\",\"\",IF(VLOOKUP(B109,ｴﾝﾄﾘｰ票!$E$16:$Y$215,18,0)=\"\",\"\",VLOOKUP(B109,ｴﾝﾄﾘｰ票!$E$16:$Y$215,18,0)))","v":""},{"$f":"IF(B109=\"\",\"\",IF(ISERROR(VLOOKUP(B109,ｴﾝﾄﾘｰ票!$BD$16:$BE$205,1,0)),\"\",VLOOKUP(B109,ｴﾝﾄﾘｰ票!$BD$16:$BE$205,2,0)))","v":""},null,{"$f":"IF(B109=\"\",\"\",IF(ISERROR(VLOOKUP(B109,ｴﾝﾄﾘｰ票!$BJ$16:$BK$205,1,0)),\"\",VLOOKUP(B109,ｴﾝﾄﾘｰ票!$BJ$16:$BK$205,2,0)))","v":""}]
[69,{"$f":"IF(ISERROR(VLOOKUP(A110*10-9+6000,ｴﾝﾄﾘｰ票!C$15:AI$215,3,0)),\"\",VLOOKUP(A110*10-9+6000,ｴﾝﾄﾘｰ票!C$15:AI$215,3,0))","v":""},{"$f":"IF(B110=\"\",\"\",CONCATENATE(VLOOKUP(B110,ｴﾝﾄﾘｰ票!$E$16:$L$215,2,0),\"　\",VLOOKUP(B110,ｴﾝﾄﾘｰ票!$E$16:$L$215,3,0)))","v":""},null,null,null,null,{"$f":"IF(B110=\"\",\"\",VLOOKUP(B110,ｴﾝﾄﾘｰ票!$E$16:$L$215,6,0))","v":""},null,{"$f":"IF(B110=\"\",\"\",IF(VLOOKUP(B110,ｴﾝﾄﾘｰ票!$E$16:$Y$215,10,0)=\"\",\"\",VLOOKUP(B110,ｴﾝﾄﾘｰ票!$E$16:$Y$215,10,0)))","v":""},null,{"$f":"IF(B110=\"\",\"\",IF(VLOOKUP(B110,ｴﾝﾄﾘｰ票!$E$16:$Y$215,14,0)=\"\",\"\",VLOOKUP(B110,ｴﾝﾄﾘｰ票!$E$16:$Y$215,14,0)))","v":""},null,{"$f":"IF(B110=\"\",\"\",IF(VLOOKUP(B110,ｴﾝﾄﾘｰ票!$E$16:$Y$215,18,0)=\"\",\"\",VLOOKUP(B110,ｴﾝﾄﾘｰ票!$E$16:$Y$215,18,0)))","v":""},{"$f":"IF(B110=\"\",\"\",IF(ISERROR(VLOOKUP(B110,ｴﾝﾄﾘｰ票!$BD$16:$BE$205,1,0)),\"\",VLOOKUP(B110,ｴﾝﾄﾘｰ票!$BD$16:$BE$205,2,0)))","v":""},null,{"$f":"IF(B110=\"\",\"\",IF(ISERROR(VLOOKUP(B110,ｴﾝﾄﾘｰ票!$BJ$16:$BK$205,1,0)),\"\",VLOOKUP(B110,ｴﾝﾄﾘｰ票!$BJ$16:$BK$205,2,0)))","v":""}]
[70,{"$f":"IF(ISERROR(VLOOKUP(A111*10-9+6000,ｴﾝﾄﾘｰ票!C$15:AI$215,3,0)),\"\",VLOOKUP(A111*10-9+6000,ｴﾝﾄﾘｰ票!C$15:AI$215,3,0))","v":""},{"$f":"IF(B111=\"\",\"\",CONCATENATE(VLOOKUP(B111,ｴﾝﾄﾘｰ票!$E$16:$L$215,2,0),\"　\",VLOOKUP(B111,ｴﾝﾄﾘｰ票!$E$16:$L$215,3,0)))","v":""},null,null,null,null,{"$f":"IF(B111=\"\",\"\",VLOOKUP(B111,ｴﾝﾄﾘｰ票!$E$16:$L$215,6,0))","v":""},null,{"$f":"IF(B111=\"\",\"\",IF(VLOOKUP(B111,ｴﾝﾄﾘｰ票!$E$16:$Y$215,10,0)=\"\",\"\",VLOOKUP(B111,ｴﾝﾄﾘｰ票!$E$16:$Y$215,10,0)))","v":""},null,{"$f":"IF(B111=\"\",\"\",IF(VLOOKUP(B111,ｴﾝﾄﾘｰ票!$E$16:$Y$215,14,0)=\"\",\"\",VLOOKUP(B111,ｴﾝﾄﾘｰ票!$E$16:$Y$215,14,0)))","v":""},null,{"$f":"IF(B111=\"\",\"\",IF(VLOOKUP(B111,ｴﾝﾄﾘｰ票!$E$16:$Y$215,18,0)=\"\",\"\",VLOOKUP(B111,ｴﾝﾄﾘｰ票!$E$16:$Y$215,18,0)))","v":""},{"$f":"IF(B111=\"\",\"\",IF(ISERROR(VLOOKUP(B111,ｴﾝﾄﾘｰ票!$BD$16:$BE$205,1,0)),\"\",VLOOKUP(B111,ｴﾝﾄﾘｰ票!$BD$16:$BE$205,2,0)))","v":""},null,{"$f":"IF(B111=\"\",\"\",IF(ISERROR(VLOOKUP(B111,ｴﾝﾄﾘｰ票!$BJ$16:$BK$205,1,0)),\"\",VLOOKUP(B111,ｴﾝﾄﾘｰ票!$BJ$16:$BK$205,2,0)))","v":""}]
[71,{"$f":"IF(ISERROR(VLOOKUP(A112*10-9+6000,ｴﾝﾄﾘｰ票!C$15:AI$215,3,0)),\"\",VLOOKUP(A112*10-9+6000,ｴﾝﾄﾘｰ票!C$15:AI$215,3,0))","v":""},{"$f":"IF(B112=\"\",\"\",CONCATENATE(VLOOKUP(B112,ｴﾝﾄﾘｰ票!$E$16:$L$215,2,0),\"　\",VLOOKUP(B112,ｴﾝﾄﾘｰ票!$E$16:$L$215,3,0)))","v":""},null,null,null,null,{"$f":"IF(B112=\"\",\"\",VLOOKUP(B112,ｴﾝﾄﾘｰ票!$E$16:$L$215,6,0))","v":""},null,{"$f":"IF(B112=\"\",\"\",IF(VLOOKUP(B112,ｴﾝﾄﾘｰ票!$E$16:$Y$215,10,0)=\"\",\"\",VLOOKUP(B112,ｴﾝﾄﾘｰ票!$E$16:$Y$215,10,0)))","v":""},null,{"$f":"IF(B112=\"\",\"\",IF(VLOOKUP(B112,ｴﾝﾄﾘｰ票!$E$16:$Y$215,14,0)=\"\",\"\",VLOOKUP(B112,ｴﾝﾄﾘｰ票!$E$16:$Y$215,14,0)))","v":""},null,{"$f":"IF(B112=\"\",\"\",IF(VLOOKUP(B112,ｴﾝﾄﾘｰ票!$E$16:$Y$215,18,0)=\"\",\"\",VLOOKUP(B112,ｴﾝﾄﾘｰ票!$E$16:$Y$215,18,0)))","v":""},{"$f":"IF(B112=\"\",\"\",IF(ISERROR(VLOOKUP(B112,ｴﾝﾄﾘｰ票!$BD$16:$BE$205,1,0)),\"\",VLOOKUP(B112,ｴﾝﾄﾘｰ票!$BD$16:$BE$205,2,0)))","v":""},null,{"$f":"IF(B112=\"\",\"\",IF(ISERROR(VLOOKUP(B112,ｴﾝﾄﾘｰ票!$BJ$16:$BK$205,1,0)),\"\",VLOOKUP(B112,ｴﾝﾄﾘｰ票!$BJ$16:$BK$205,2,0)))","v":""}]
[72,{"$f":"IF(ISERROR(VLOOKUP(A113*10-9+6000,ｴﾝﾄﾘｰ票!C$15:AI$215,3,0)),\"\",VLOOKUP(A113*10-9+6000,ｴﾝﾄﾘｰ票!C$15:AI$215,3,0))","v":""},{"$f":"IF(B113=\"\",\"\",CONCATENATE(VLOOKUP(B113,ｴﾝﾄﾘｰ票!$E$16:$L$215,2,0),\"　\",VLOOKUP(B113,ｴﾝﾄﾘｰ票!$E$16:$L$215,3,0)))","v":""},null,null,null,null,{"$f":"IF(B113=\"\",\"\",VLOOKUP(B113,ｴﾝﾄﾘｰ票!$E$16:$L$215,6,0))","v":""},null,{"$f":"IF(B113=\"\",\"\",IF(VLOOKUP(B113,ｴﾝﾄﾘｰ票!$E$16:$Y$215,10,0)=\"\",\"\",VLOOKUP(B113,ｴﾝﾄﾘｰ票!$E$16:$Y$215,10,0)))","v":""},null,{"$f":"IF(B113=\"\",\"\",IF(VLOOKUP(B113,ｴﾝﾄﾘｰ票!$E$16:$Y$215,14,0)=\"\",\"\",VLOOKUP(B113,ｴﾝﾄﾘｰ票!$E$16:$Y$215,14,0)))","v":""},null,{"$f":"IF(B113=\"\",\"\",IF(VLOOKUP(B113,ｴﾝﾄﾘｰ票!$E$16:$Y$215,18,0)=\"\",\"\",VLOOKUP(B113,ｴﾝﾄﾘｰ票!$E$16:$Y$215,18,0)))","v":""},{"$f":"IF(B113=\"\",\"\",IF(ISERROR(VLOOKUP(B113,ｴﾝﾄﾘｰ票!$BD$16:$BE$205,1,0)),\"\",VLOOKUP(B113,ｴﾝﾄﾘｰ票!$BD$16:$BE$205,2,0)))","v":""},null,{"$f":"IF(B113=\"\",\"\",IF(ISERROR(VLOOKUP(B113,ｴﾝﾄﾘｰ票!$BJ$16:$BK$205,1,0)),\"\",VLOOKUP(B113,ｴﾝﾄﾘｰ票!$BJ$16:$BK$205,2,0)))","v":""}]
[73,{"$f":"IF(ISERROR(VLOOKUP(A114*10-9+6000,ｴﾝﾄﾘｰ票!C$15:AI$215,3,0)),\"\",VLOOKUP(A114*10-9+6000,ｴﾝﾄﾘｰ票!C$15:AI$215,3,0))","v":""},{"$f":"IF(B114=\"\",\"\",CONCATENATE(VLOOKUP(B114,ｴﾝﾄﾘｰ票!$E$16:$L$215,2,0),\"　\",VLOOKUP(B114,ｴﾝﾄﾘｰ票!$E$16:$L$215,3,0)))","v":""},null,null,null,null,{"$f":"IF(B114=\"\",\"\",VLOOKUP(B114,ｴﾝﾄﾘｰ票!$E$16:$L$215,6,0))","v":""},null,{"$f":"IF(B114=\"\",\"\",IF(VLOOKUP(B114,ｴﾝﾄﾘｰ票!$E$16:$Y$215,10,0)=\"\",\"\",VLOOKUP(B114,ｴﾝﾄﾘｰ票!$E$16:$Y$215,10,0)))","v":""},null,{"$f":"IF(B114=\"\",\"\",IF(VLOOKUP(B114,ｴﾝﾄﾘｰ票!$E$16:$Y$215,14,0)=\"\",\"\",VLOOKUP(B114,ｴﾝﾄﾘｰ票!$E$16:$Y$215,14,0)))","v":""},null,{"$f":"IF(B114=\"\",\"\",IF(VLOOKUP(B114,ｴﾝﾄﾘｰ票!$E$16:$Y$215,18,0)=\"\",\"\",VLOOKUP(B114,ｴﾝﾄﾘｰ票!$E$16:$Y$215,18,0)))","v":""},{"$f":"IF(B114=\"\",\"\",IF(ISERROR(VLOOKUP(B114,ｴﾝﾄﾘｰ票!$BD$16:$BE$205,1,0)),\"\",VLOOKUP(B114,ｴﾝﾄﾘｰ票!$BD$16:$BE$205,2,0)))","v":""},null,{"$f":"IF(B114=\"\",\"\",IF(ISERROR(VLOOKUP(B114,ｴﾝﾄﾘｰ票!$BJ$16:$BK$205,1,0)),\"\",VLOOKUP(B114,ｴﾝﾄﾘｰ票!$BJ$16:$BK$205,2,0)))","v":""}]
[74,{"$f":"IF(ISERROR(VLOOKUP(A115*10-9+6000,ｴﾝﾄﾘｰ票!C$15:AI$215,3,0)),\"\",VLOOKUP(A115*10-9+6000,ｴﾝﾄﾘｰ票!C$15:AI$215,3,0))","v":""},{"$f":"IF(B115=\"\",\"\",CONCATENATE(VLOOKUP(B115,ｴﾝﾄﾘｰ票!$E$16:$L$215,2,0),\"　\",VLOOKUP(B115,ｴﾝﾄﾘｰ票!$E$16:$L$215,3,0)))","v":""},null,null,null,null,{"$f":"IF(B115=\"\",\"\",VLOOKUP(B115,ｴﾝﾄﾘｰ票!$E$16:$L$215,6,0))","v":""},null,{"$f":"IF(B115=\"\",\"\",IF(VLOOKUP(B115,ｴﾝﾄﾘｰ票!$E$16:$Y$215,10,0)=\"\",\"\",VLOOKUP(B115,ｴﾝﾄﾘｰ票!$E$16:$Y$215,10,0)))","v":""},null,{"$f":"IF(B115=\"\",\"\",IF(VLOOKUP(B115,ｴﾝﾄﾘｰ票!$E$16:$Y$215,14,0)=\"\",\"\",VLOOKUP(B115,ｴﾝﾄﾘｰ票!$E$16:$Y$215,14,0)))","v":""},null,{"$f":"IF(B115=\"\",\"\",IF(VLOOKUP(B115,ｴﾝﾄﾘｰ票!$E$16:$Y$215,18,0)=\"\",\"\",VLOOKUP(B115,ｴﾝﾄﾘｰ票!$E$16:$Y$215,18,0)))","v":""},{"$f":"IF(B115=\"\",\"\",IF(ISERROR(VLOOKUP(B115,ｴﾝﾄﾘｰ票!$BD$16:$BE$205,1,0)),\"\",VLOOKUP(B115,ｴﾝﾄﾘｰ票!$BD$16:$BE$205,2,0)))","v":""},null,{"$f":"IF(B115=\"\",\"\",IF(ISERROR(VLOOKUP(B115,ｴﾝﾄﾘｰ票!$BJ$16:$BK$205,1,0)),\"\",VLOOKUP(B115,ｴﾝﾄﾘｰ票!$BJ$16:$BK$205,2,0)))","v":""}]
[75,{"$f":"IF(ISERROR(VLOOKUP(A116*10-9+6000,ｴﾝﾄﾘｰ票!C$15:AI$215,3,0)),\"\",VLOOKUP(A116*10-9+6000,ｴﾝﾄﾘｰ票!C$15:AI$215,3,0))","v":""},{"$f":"IF(B116=\"\",\"\",CONCATENATE(VLOOKUP(B116,ｴﾝﾄﾘｰ票!$E$16:$L$215,2,0),\"　\",VLOOKUP(B116,ｴﾝﾄﾘｰ票!$E$16:$L$215,3,0)))","v":""},null,null,null,null,{"$f":"IF(B116=\"\",\"\",VLOOKUP(B116,ｴﾝﾄﾘｰ票!$E$16:$L$215,6,0))","v":""},null,{"$f":"IF(B116=\"\",\"\",IF(VLOOKUP(B116,ｴﾝﾄﾘｰ票!$E$16:$Y$215,10,0)=\"\",\"\",VLOOKUP(B116,ｴﾝﾄﾘｰ票!$E$16:$Y$215,10,0)))","v":""},null,{"$f":"IF(B116=\"\",\"\",IF(VLOOKUP(B116,ｴﾝﾄﾘｰ票!$E$16:$Y$215,14,0)=\"\",\"\",VLOOKUP(B116,ｴﾝﾄﾘｰ票!$E$16:$Y$215,14,0)))","v":""},null,{"$f":"IF(B116=\"\",\"\",IF(VLOOKUP(B116,ｴﾝﾄﾘｰ票!$E$16:$Y$215,18,0)=\"\",\"\",VLOOKUP(B116,ｴﾝﾄﾘｰ票!$E$16:$Y$215,18,0)))","v":""},{"$f":"IF(B116=\"\",\"\",IF(ISERROR(VLOOKUP(B116,ｴﾝﾄﾘｰ票!$BD$16:$BE$205,1,0)),\"\",VLOOKUP(B116,ｴﾝﾄﾘｰ票!$BD$16:$BE$205,2,0)))","v":""},null,{"$f":"IF(B116=\"\",\"\",IF(ISERROR(VLOOKUP(B116,ｴﾝﾄﾘｰ票!$BJ$16:$BK$205,1,0)),\"\",VLOOKUP(B116,ｴﾝﾄﾘｰ票!$BJ$16:$BK$205,2,0)))","v":""}]
[76,{"$f":"IF(ISERROR(VLOOKUP(A117*10-9+6000,ｴﾝﾄﾘｰ票!C$15:AI$215,3,0)),\"\",VLOOKUP(A117*10-9+6000,ｴﾝﾄﾘｰ票!C$15:AI$215,3,0))","v":""},{"$f":"IF(B117=\"\",\"\",CONCATENATE(VLOOKUP(B117,ｴﾝﾄﾘｰ票!$E$16:$L$215,2,0),\"　\",VLOOKUP(B117,ｴﾝﾄﾘｰ票!$E$16:$L$215,3,0)))","v":""},null,null,null,null,{"$f":"IF(B117=\"\",\"\",VLOOKUP(B117,ｴﾝﾄﾘｰ票!$E$16:$L$215,6,0))","v":""},null,{"$f":"IF(B117=\"\",\"\",IF(VLOOKUP(B117,ｴﾝﾄﾘｰ票!$E$16:$Y$215,10,0)=\"\",\"\",VLOOKUP(B117,ｴﾝﾄﾘｰ票!$E$16:$Y$215,10,0)))","v":""},null,{"$f":"IF(B117=\"\",\"\",IF(VLOOKUP(B117,ｴﾝﾄﾘｰ票!$E$16:$Y$215,14,0)=\"\",\"\",VLOOKUP(B117,ｴﾝﾄﾘｰ票!$E$16:$Y$215,14,0)))","v":""},null,{"$f":"IF(B117=\"\",\"\",IF(VLOOKUP(B117,ｴﾝﾄﾘｰ票!$E$16:$Y$215,18,0)=\"\",\"\",VLOOKUP(B117,ｴﾝﾄﾘｰ票!$E$16:$Y$215,18,0)))","v":""},{"$f":"IF(B117=\"\",\"\",IF(ISERROR(VLOOKUP(B117,ｴﾝﾄﾘｰ票!$BD$16:$BE$205,1,0)),\"\",VLOOKUP(B117,ｴﾝﾄﾘｰ票!$BD$16:$BE$205,2,0)))","v":""},null,{"$f":"IF(B117=\"\",\"\",IF(ISERROR(VLOOKUP(B117,ｴﾝﾄﾘｰ票!$BJ$16:$BK$205,1,0)),\"\",VLOOKUP(B117,ｴﾝﾄﾘｰ票!$BJ$16:$BK$205,2,0)))","v":""}]
[77,{"$f":"IF(ISERROR(VLOOKUP(A118*10-9+6000,ｴﾝﾄﾘｰ票!C$15:AI$215,3,0)),\"\",VLOOKUP(A118*10-9+6000,ｴﾝﾄﾘｰ票!C$15:AI$215,3,0))","v":""},{"$f":"IF(B118=\"\",\"\",CONCATENATE(VLOOKUP(B118,ｴﾝﾄﾘｰ票!$E$16:$L$215,2,0),\"　\",VLOOKUP(B118,ｴﾝﾄﾘｰ票!$E$16:$L$215,3,0)))","v":""},null,null,null,null,{"$f":"IF(B118=\"\",\"\",VLOOKUP(B118,ｴﾝﾄﾘｰ票!$E$16:$L$215,6,0))","v":""},null,{"$f":"IF(B118=\"\",\"\",IF(VLOOKUP(B118,ｴﾝﾄﾘｰ票!$E$16:$Y$215,10,0)=\"\",\"\",VLOOKUP(B118,ｴﾝﾄﾘｰ票!$E$16:$Y$215,10,0)))","v":""},null,{"$f":"IF(B118=\"\",\"\",IF(VLOOKUP(B118,ｴﾝﾄﾘｰ票!$E$16:$Y$215,14,0)=\"\",\"\",VLOOKUP(B118,ｴﾝﾄﾘｰ票!$E$16:$Y$215,14,0)))","v":""},null,{"$f":"IF(B118=\"\",\"\",IF(VLOOKUP(B118,ｴﾝﾄﾘｰ票!$E$16:$Y$215,18,0)=\"\",\"\",VLOOKUP(B118,ｴﾝﾄﾘｰ票!$E$16:$Y$215,18,0)))","v":""},{"$f":"IF(B118=\"\",\"\",IF(ISERROR(VLOOKUP(B118,ｴﾝﾄﾘｰ票!$BD$16:$BE$205,1,0)),\"\",VLOOKUP(B118,ｴﾝﾄﾘｰ票!$BD$16:$BE$205,2,0)))","v":""},null,{"$f":"IF(B118=\"\",\"\",IF(ISERROR(VLOOKUP(B118,ｴﾝﾄﾘｰ票!$BJ$16:$BK$205,1,0)),\"\",VLOOKUP(B118,ｴﾝﾄﾘｰ票!$BJ$16:$BK$205,2,0)))","v":""}]
[78,{"$f":"IF(ISERROR(VLOOKUP(A119*10-9+6000,ｴﾝﾄﾘｰ票!C$15:AI$215,3,0)),\"\",VLOOKUP(A119*10-9+6000,ｴﾝﾄﾘｰ票!C$15:AI$215,3,0))","v":""},{"$f":"IF(B119=\"\",\"\",CONCATENATE(VLOOKUP(B119,ｴﾝﾄﾘｰ票!$E$16:$L$215,2,0),\"　\",VLOOKUP(B119,ｴﾝﾄﾘｰ票!$E$16:$L$215,3,0)))","v":""},null,null,null,null,{"$f":"IF(B119=\"\",\"\",VLOOKUP(B119,ｴﾝﾄﾘｰ票!$E$16:$L$215,6,0))","v":""},null,{"$f":"IF(B119=\"\",\"\",IF(VLOOKUP(B119,ｴﾝﾄﾘｰ票!$E$16:$Y$215,10,0)=\"\",\"\",VLOOKUP(B119,ｴﾝﾄﾘｰ票!$E$16:$Y$215,10,0)))","v":""},null,{"$f":"IF(B119=\"\",\"\",IF(VLOOKUP(B119,ｴﾝﾄﾘｰ票!$E$16:$Y$215,14,0)=\"\",\"\",VLOOKUP(B119,ｴﾝﾄﾘｰ票!$E$16:$Y$215,14,0)))","v":""},null,{"$f":"IF(B119=\"\",\"\",IF(VLOOKUP(B119,ｴﾝﾄﾘｰ票!$E$16:$Y$215,18,0)=\"\",\"\",VLOOKUP(B119,ｴﾝﾄﾘｰ票!$E$16:$Y$215,18,0)))","v":""},{"$f":"IF(B119=\"\",\"\",IF(ISERROR(VLOOKUP(B119,ｴﾝﾄﾘｰ票!$BD$16:$BE$205,1,0)),\"\",VLOOKUP(B119,ｴﾝﾄﾘｰ票!$BD$16:$BE$205,2,0)))","v":""},null,{"$f":"IF(B119=\"\",\"\",IF(ISERROR(VLOOKUP(B119,ｴﾝﾄﾘｰ票!$BJ$16:$BK$205,1,0)),\"\",VLOOKUP(B119,ｴﾝﾄﾘｰ票!$BJ$16:$BK$205,2,0)))","v":""}]
[79,{"$f":"IF(ISERROR(VLOOKUP(A120*10-9+6000,ｴﾝﾄﾘｰ票!C$15:AI$215,3,0)),\"\",VLOOKUP(A120*10-9+6000,ｴﾝﾄﾘｰ票!C$15:AI$215,3,0))","v":""},{"$f":"IF(B120=\"\",\"\",CONCATENATE(VLOOKUP(B120,ｴﾝﾄﾘｰ票!$E$16:$L$215,2,0),\"　\",VLOOKUP(B120,ｴﾝﾄﾘｰ票!$E$16:$L$215,3,0)))","v":""},null,null,null,null,{"$f":"IF(B120=\"\",\"\",VLOOKUP(B120,ｴﾝﾄﾘｰ票!$E$16:$L$215,6,0))","v":""},null,{"$f":"IF(B120=\"\",\"\",IF(VLOOKUP(B120,ｴﾝﾄﾘｰ票!$E$16:$Y$215,10,0)=\"\",\"\",VLOOKUP(B120,ｴﾝﾄﾘｰ票!$E$16:$Y$215,10,0)))","v":""},null,{"$f":"IF(B120=\"\",\"\",IF(VLOOKUP(B120,ｴﾝﾄﾘｰ票!$E$16:$Y$215,14,0)=\"\",\"\",VLOOKUP(B120,ｴﾝﾄﾘｰ票!$E$16:$Y$215,14,0)))","v":""},null,{"$f":"IF(B120=\"\",\"\",IF(VLOOKUP(B120,ｴﾝﾄﾘｰ票!$E$16:$Y$215,18,0)=\"\",\"\",VLOOKUP(B120,ｴﾝﾄﾘｰ票!$E$16:$Y$215,18,0)))","v":""},{"$f":"IF(B120=\"\",\"\",IF(ISERROR(VLOOKUP(B120,ｴﾝﾄﾘｰ票!$BD$16:$BE$205,1,0)),\"\",VLOOKUP(B120,ｴﾝﾄﾘｰ票!$BD$16:$BE$205,2,0)))","v":""},null,{"$f":"IF(B120=\"\",\"\",IF(ISERROR(VLOOKUP(B120,ｴﾝﾄﾘｰ票!$BJ$16:$BK$205,1,0)),\"\",VLOOKUP(B120,ｴﾝﾄﾘｰ票!$BJ$16:$BK$205,2,0)))","v":""}]
[80,{"$f":"IF(ISERROR(VLOOKUP(A121*10-9+6000,ｴﾝﾄﾘｰ票!C$15:AI$215,3,0)),\"\",VLOOKUP(A121*10-9+6000,ｴﾝﾄﾘｰ票!C$15:AI$215,3,0))","v":""},{"$f":"IF(B121=\"\",\"\",CONCATENATE(VLOOKUP(B121,ｴﾝﾄﾘｰ票!$E$16:$L$215,2,0),\"　\",VLOOKUP(B121,ｴﾝﾄﾘｰ票!$E$16:$L$215,3,0)))","v":""},null,null,null,null,{"$f":"IF(B121=\"\",\"\",VLOOKUP(B121,ｴﾝﾄﾘｰ票!$E$16:$L$215,6,0))","v":""},null,{"$f":"IF(B121=\"\",\"\",IF(VLOOKUP(B121,ｴﾝﾄﾘｰ票!$E$16:$Y$215,10,0)=\"\",\"\",VLOOKUP(B121,ｴﾝﾄﾘｰ票!$E$16:$Y$215,10,0)))","v":""},null,{"$f":"IF(B121=\"\",\"\",IF(VLOOKUP(B121,ｴﾝﾄﾘｰ票!$E$16:$Y$215,14,0)=\"\",\"\",VLOOKUP(B121,ｴﾝﾄﾘｰ票!$E$16:$Y$215,14,0)))","v":""},null,{"$f":"IF(B121=\"\",\"\",IF(VLOOKUP(B121,ｴﾝﾄﾘｰ票!$E$16:$Y$215,18,0)=\"\",\"\",VLOOKUP(B121,ｴﾝﾄﾘｰ票!$E$16:$Y$215,18,0)))","v":""},{"$f":"IF(B121=\"\",\"\",IF(ISERROR(VLOOKUP(B121,ｴﾝﾄﾘｰ票!$BD$16:$BE$205,1,0)),\"\",VLOOKUP(B121,ｴﾝﾄﾘｰ票!$BD$16:$BE$205,2,0)))","v":""},null,{"$f":"IF(B121=\"\",\"\",IF(ISERROR(VLOOKUP(B121,ｴﾝﾄﾘｰ票!$BJ$16:$BK$205,1,0)),\"\",VLOOKUP(B121,ｴﾝﾄﾘｰ票!$BJ$16:$BK$205,2,0)))","v":""}]
[null,{"$f":"ｴﾝﾄﾘｰ票!$G$1","v":"東京都高校新人陸上競技大会第４支部予選会"},null,null,null,null,null,null,null,null,null,null,null,null,null,null,null,null,null,null,null,null,null,null,null,"申込用紙(A票）"]
[{"$f":"A2","v":"平成30年度"},null,null,null,null,null,null,null,null,null,null,null,null,null,null,null,null,null,null,null,null,null,null,"女子",null,"Ｎｏ．５"]
["学校名",null,{"$f":"ｴﾝﾄﾘｰ票!$G$2","v":0},null,null,null,null,null,null,null,"学校所在地",null,{"$f":"ｴﾝﾄﾘｰ票!$G$5","v":0}]
[null,null,null,null,null,null,null,null,null,null,"電話",null,{"$f":"ｴﾝﾄﾘｰ票!$G$6","v":"00:00:00"},null,null,null,null,"ＦＡＸ",null,{"$f":"ｴﾝﾄﾘｰ票!$G$7","v":0}]
["学校長",null,{"$f":"ｴﾝﾄﾘｰ票!$G$4","v":0},null,null,null,null,null,null,"印","顧問氏名",null,{"$f":"ｴﾝﾄﾘｰ票!$G$8","v":0},null,null,null,"印"]
[null,null,null,null,null,null,null,null,null,null,"連絡先",null,{"$f":"ｴﾝﾄﾘｰ票!$G$9","v":0}]
[]
[null,null,null,null,null,null,null,null,null,null,null,null,null,"種目",null,null,null,null,null,null,null,"本大会種目"]
[null,"番号","出場者氏名",null,null,null,null,"学年",null,"個人",null,"個人",null,"個人","4×100",null,"4×400","個人",null,"個人",null,"個人",null,"4×100","4×400"]
[81,{"$f":"IF(ISERROR(VLOOKUP(A131*10-9+6000,ｴﾝﾄﾘｰ票!C$15:AI$215,3,0)),\"\",VLOOKUP(A131*10-9+6000,ｴﾝﾄﾘｰ票!C$15:AI$215,3,0))","v":""},{"$f":"IF(B131=\"\",\"\",CONCATENATE(VLOOKUP(B131,ｴﾝﾄﾘｰ票!$E$16:$L$215,2,0),\"　\",VLOOKUP(B131,ｴﾝﾄﾘｰ票!$E$16:$L$215,3,0)))","v":""},null,null,null,null,{"$f":"IF(B131=\"\",\"\",VLOOKUP(B131,ｴﾝﾄﾘｰ票!$E$16:$L$215,6,0))","v":""},null,{"$f":"IF(B131=\"\",\"\",IF(VLOOKUP(B131,ｴﾝﾄﾘｰ票!$E$16:$Y$215,10,0)=\"\",\"\",VLOOKUP(B131,ｴﾝﾄﾘｰ票!$E$16:$Y$215,10,0)))","v":""},null,{"$f":"IF(B131=\"\",\"\",IF(VLOOKUP(B131,ｴﾝﾄﾘｰ票!$E$16:$Y$215,14,0)=\"\",\"\",VLOOKUP(B131,ｴﾝﾄﾘｰ票!$E$16:$Y$215,14,0)))","v":""},null,{"$f":"IF(B131=\"\",\"\",IF(VLOOKUP(B131,ｴﾝﾄﾘｰ票!$E$16:$Y$215,18,0)=\"\",\"\",VLOOKUP(B131,ｴﾝﾄﾘｰ票!$E$16:$Y$215,18,0)))","v":""},{"$f":"IF(B131=\"\",\"\",IF(ISERROR(VLOOKUP(B131,ｴﾝﾄﾘｰ票!$BD$16:$BE$205,1,0)),\"\",VLOOKUP(B131,ｴﾝﾄﾘｰ票!$BD$16:$BE$205,2,0)))","v":""},null,{"$f":"IF(B131=\"\",\"\",IF(ISERROR(VLOOKUP(B131,ｴﾝﾄﾘｰ票!$BJ$16:$BK$205,1,0)),\"\",VLOOKUP(B131,ｴﾝﾄﾘｰ票!$BJ$16:$BK$205,2,0)))","v":""}]
[82,{"$f":"IF(ISERROR(VLOOKUP(A132*10-9+6000,ｴﾝﾄﾘｰ票!C$15:AI$215,3,0)),\"\",VLOOKUP(A132*10-9+6000,ｴﾝﾄﾘｰ票!C$15:AI$215,3,0))","v":""},{"$f":"IF(B132=\"\",\"\",CONCATENATE(VLOOKUP(B132,ｴﾝﾄﾘｰ票!$E$16:$L$215,2,0),\"　\",VLOOKUP(B132,ｴﾝﾄﾘｰ票!$E$16:$L$215,3,0)))","v":""},null,null,null,null,{"$f":"IF(B132=\"\",\"\",VLOOKUP(B132,ｴﾝﾄﾘｰ票!$E$16:$L$215,6,0))","v":""},null,{"$f":"IF(B132=\"\",\"\",IF(VLOOKUP(B132,ｴﾝﾄﾘｰ票!$E$16:$Y$215,10,0)=\"\",\"\",VLOOKUP(B132,ｴﾝﾄﾘｰ票!$E$16:$Y$215,10,0)))","v":""},null,{"$f":"IF(B132=\"\",\"\",IF(VLOOKUP(B132,ｴﾝﾄﾘｰ票!$E$16:$Y$215,14,0)=\"\",\"\",VLOOKUP(B132,ｴﾝﾄﾘｰ票!$E$16:$Y$215,14,0)))","v":""},null,{"$f":"IF(B132=\"\",\"\",IF(VLOOKUP(B132,ｴﾝﾄﾘｰ票!$E$16:$Y$215,18,0)=\"\",\"\",VLOOKUP(B132,ｴﾝﾄﾘｰ票!$E$16:$Y$215,18,0)))","v":""},{"$f":"IF(B132=\"\",\"\",IF(ISERROR(VLOOKUP(B132,ｴﾝﾄﾘｰ票!$BD$16:$BE$205,1,0)),\"\",VLOOKUP(B132,ｴﾝﾄﾘｰ票!$BD$16:$BE$205,2,0)))","v":""},null,{"$f":"IF(B132=\"\",\"\",IF(ISERROR(VLOOKUP(B132,ｴﾝﾄﾘｰ票!$BJ$16:$BK$205,1,0)),\"\",VLOOKUP(B132,ｴﾝﾄﾘｰ票!$BJ$16:$BK$205,2,0)))","v":""}]
[83,{"$f":"IF(ISERROR(VLOOKUP(A133*10-9+6000,ｴﾝﾄﾘｰ票!C$15:AI$215,3,0)),\"\",VLOOKUP(A133*10-9+6000,ｴﾝﾄﾘｰ票!C$15:AI$215,3,0))","v":""},{"$f":"IF(B133=\"\",\"\",CONCATENATE(VLOOKUP(B133,ｴﾝﾄﾘｰ票!$E$16:$L$215,2,0),\"　\",VLOOKUP(B133,ｴﾝﾄﾘｰ票!$E$16:$L$215,3,0)))","v":""},null,null,null,null,{"$f":"IF(B133=\"\",\"\",VLOOKUP(B133,ｴﾝﾄﾘｰ票!$E$16:$L$215,6,0))","v":""},null,{"$f":"IF(B133=\"\",\"\",IF(VLOOKUP(B133,ｴﾝﾄﾘｰ票!$E$16:$Y$215,10,0)=\"\",\"\",VLOOKUP(B133,ｴﾝﾄﾘｰ票!$E$16:$Y$215,10,0)))","v":""},null,{"$f":"IF(B133=\"\",\"\",IF(VLOOKUP(B133,ｴﾝﾄﾘｰ票!$E$16:$Y$215,14,0)=\"\",\"\",VLOOKUP(B133,ｴﾝﾄﾘｰ票!$E$16:$Y$215,14,0)))","v":""},null,{"$f":"IF(B133=\"\",\"\",IF(VLOOKUP(B133,ｴﾝﾄﾘｰ票!$E$16:$Y$215,18,0)=\"\",\"\",VLOOKUP(B133,ｴﾝﾄﾘｰ票!$E$16:$Y$215,18,0)))","v":""},{"$f":"IF(B133=\"\",\"\",IF(ISERROR(VLOOKUP(B133,ｴﾝﾄﾘｰ票!$BD$16:$BE$205,1,0)),\"\",VLOOKUP(B133,ｴﾝﾄﾘｰ票!$BD$16:$BE$205,2,0)))","v":""},null,{"$f":"IF(B133=\"\",\"\",IF(ISERROR(VLOOKUP(B133,ｴﾝﾄﾘｰ票!$BJ$16:$BK$205,1,0)),\"\",VLOOKUP(B133,ｴﾝﾄﾘｰ票!$BJ$16:$BK$205,2,0)))","v":""}]
[84,{"$f":"IF(ISERROR(VLOOKUP(A134*10-9+6000,ｴﾝﾄﾘｰ票!C$15:AI$215,3,0)),\"\",VLOOKUP(A134*10-9+6000,ｴﾝﾄﾘｰ票!C$15:AI$215,3,0))","v":""},{"$f":"IF(B134=\"\",\"\",CONCATENATE(VLOOKUP(B134,ｴﾝﾄﾘｰ票!$E$16:$L$215,2,0),\"　\",VLOOKUP(B134,ｴﾝﾄﾘｰ票!$E$16:$L$215,3,0)))","v":""},null,null,null,null,{"$f":"IF(B134=\"\",\"\",VLOOKUP(B134,ｴﾝﾄﾘｰ票!$E$16:$L$215,6,0))","v":""},null,{"$f":"IF(B134=\"\",\"\",IF(VLOOKUP(B134,ｴﾝﾄﾘｰ票!$E$16:$Y$215,10,0)=\"\",\"\",VLOOKUP(B134,ｴﾝﾄﾘｰ票!$E$16:$Y$215,10,0)))","v":""},null,{"$f":"IF(B134=\"\",\"\",IF(VLOOKUP(B134,ｴﾝﾄﾘｰ票!$E$16:$Y$215,14,0)=\"\",\"\",VLOOKUP(B134,ｴﾝﾄﾘｰ票!$E$16:$Y$215,14,0)))","v":""},null,{"$f":"IF(B134=\"\",\"\",IF(VLOOKUP(B134,ｴﾝﾄﾘｰ票!$E$16:$Y$215,18,0)=\"\",\"\",VLOOKUP(B134,ｴﾝﾄﾘｰ票!$E$16:$Y$215,18,0)))","v":""},{"$f":"IF(B134=\"\",\"\",IF(ISERROR(VLOOKUP(B134,ｴﾝﾄﾘｰ票!$BD$16:$BE$205,1,0)),\"\",VLOOKUP(B134,ｴﾝﾄﾘｰ票!$BD$16:$BE$205,2,0)))","v":""},null,{"$f":"IF(B134=\"\",\"\",IF(ISERROR(VLOOKUP(B134,ｴﾝﾄﾘｰ票!$BJ$16:$BK$205,1,0)),\"\",VLOOKUP(B134,ｴﾝﾄﾘｰ票!$BJ$16:$BK$205,2,0)))","v":""}]
[85,{"$f":"IF(ISERROR(VLOOKUP(A135*10-9+6000,ｴﾝﾄﾘｰ票!C$15:AI$215,3,0)),\"\",VLOOKUP(A135*10-9+6000,ｴﾝﾄﾘｰ票!C$15:AI$215,3,0))","v":""},{"$f":"IF(B135=\"\",\"\",CONCATENATE(VLOOKUP(B135,ｴﾝﾄﾘｰ票!$E$16:$L$215,2,0),\"　\",VLOOKUP(B135,ｴﾝﾄﾘｰ票!$E$16:$L$215,3,0)))","v":""},null,null,null,null,{"$f":"IF(B135=\"\",\"\",VLOOKUP(B135,ｴﾝﾄﾘｰ票!$E$16:$L$215,6,0))","v":""},null,{"$f":"IF(B135=\"\",\"\",IF(VLOOKUP(B135,ｴﾝﾄﾘｰ票!$E$16:$Y$215,10,0)=\"\",\"\",VLOOKUP(B135,ｴﾝﾄﾘｰ票!$E$16:$Y$215,10,0)))","v":""},null,{"$f":"IF(B135=\"\",\"\",IF(VLOOKUP(B135,ｴﾝﾄﾘｰ票!$E$16:$Y$215,14,0)=\"\",\"\",VLOOKUP(B135,ｴﾝﾄﾘｰ票!$E$16:$Y$215,14,0)))","v":""},null,{"$f":"IF(B135=\"\",\"\",IF(VLOOKUP(B135,ｴﾝﾄﾘｰ票!$E$16:$Y$215,18,0)=\"\",\"\",VLOOKUP(B135,ｴﾝﾄﾘｰ票!$E$16:$Y$215,18,0)))","v":""},{"$f":"IF(B135=\"\",\"\",IF(ISERROR(VLOOKUP(B135,ｴﾝﾄﾘｰ票!$BD$16:$BE$205,1,0)),\"\",VLOOKUP(B135,ｴﾝﾄﾘｰ票!$BD$16:$BE$205,2,0)))","v":""},null,{"$f":"IF(B135=\"\",\"\",IF(ISERROR(VLOOKUP(B135,ｴﾝﾄﾘｰ票!$BJ$16:$BK$205,1,0)),\"\",VLOOKUP(B135,ｴﾝﾄﾘｰ票!$BJ$16:$BK$205,2,0)))","v":""}]
[86,{"$f":"IF(ISERROR(VLOOKUP(A136*10-9+6000,ｴﾝﾄﾘｰ票!C$15:AI$215,3,0)),\"\",VLOOKUP(A136*10-9+6000,ｴﾝﾄﾘｰ票!C$15:AI$215,3,0))","v":""},{"$f":"IF(B136=\"\",\"\",CONCATENATE(VLOOKUP(B136,ｴﾝﾄﾘｰ票!$E$16:$L$215,2,0),\"　\",VLOOKUP(B136,ｴﾝﾄﾘｰ票!$E$16:$L$215,3,0)))","v":""},null,null,null,null,{"$f":"IF(B136=\"\",\"\",VLOOKUP(B136,ｴﾝﾄﾘｰ票!$E$16:$L$215,6,0))","v":""},null,{"$f":"IF(B136=\"\",\"\",IF(VLOOKUP(B136,ｴﾝﾄﾘｰ票!$E$16:$Y$215,10,0)=\"\",\"\",VLOOKUP(B136,ｴﾝﾄﾘｰ票!$E$16:$Y$215,10,0)))","v":""},null,{"$f":"IF(B136=\"\",\"\",IF(VLOOKUP(B136,ｴﾝﾄﾘｰ票!$E$16:$Y$215,14,0)=\"\",\"\",VLOOKUP(B136,ｴﾝﾄﾘｰ票!$E$16:$Y$215,14,0)))","v":""},null,{"$f":"IF(B136=\"\",\"\",IF(VLOOKUP(B136,ｴﾝﾄﾘｰ票!$E$16:$Y$215,18,0)=\"\",\"\",VLOOKUP(B136,ｴﾝﾄﾘｰ票!$E$16:$Y$215,18,0)))","v":""},{"$f":"IF(B136=\"\",\"\",IF(ISERROR(VLOOKUP(B136,ｴﾝﾄﾘｰ票!$BD$16:$BE$205,1,0)),\"\",VLOOKUP(B136,ｴﾝﾄﾘｰ票!$BD$16:$BE$205,2,0)))","v":""},null,{"$f":"IF(B136=\"\",\"\",IF(ISERROR(VLOOKUP(B136,ｴﾝﾄﾘｰ票!$BJ$16:$BK$205,1,0)),\"\",VLOOKUP(B136,ｴﾝﾄﾘｰ票!$BJ$16:$BK$205,2,0)))","v":""}]
[87,{"$f":"IF(ISERROR(VLOOKUP(A137*10-9+6000,ｴﾝﾄﾘｰ票!C$15:AI$215,3,0)),\"\",VLOOKUP(A137*10-9+6000,ｴﾝﾄﾘｰ票!C$15:AI$215,3,0))","v":""},{"$f":"IF(B137=\"\",\"\",CONCATENATE(VLOOKUP(B137,ｴﾝﾄﾘｰ票!$E$16:$L$215,2,0),\"　\",VLOOKUP(B137,ｴﾝﾄﾘｰ票!$E$16:$L$215,3,0)))","v":""},null,null,null,null,{"$f":"IF(B137=\"\",\"\",VLOOKUP(B137,ｴﾝﾄﾘｰ票!$E$16:$L$215,6,0))","v":""},null,{"$f":"IF(B137=\"\",\"\",IF(VLOOKUP(B137,ｴﾝﾄﾘｰ票!$E$16:$Y$215,10,0)=\"\",\"\",VLOOKUP(B137,ｴﾝﾄﾘｰ票!$E$16:$Y$215,10,0)))","v":""},null,{"$f":"IF(B137=\"\",\"\",IF(VLOOKUP(B137,ｴﾝﾄﾘｰ票!$E$16:$Y$215,14,0)=\"\",\"\",VLOOKUP(B137,ｴﾝﾄﾘｰ票!$E$16:$Y$215,14,0)))","v":""},null,{"$f":"IF(B137=\"\",\"\",IF(VLOOKUP(B137,ｴﾝﾄﾘｰ票!$E$16:$Y$215,18,0)=\"\",\"\",VLOOKUP(B137,ｴﾝﾄﾘｰ票!$E$16:$Y$215,18,0)))","v":""},{"$f":"IF(B137=\"\",\"\",IF(ISERROR(VLOOKUP(B137,ｴﾝﾄﾘｰ票!$BD$16:$BE$205,1,0)),\"\",VLOOKUP(B137,ｴﾝﾄﾘｰ票!$BD$16:$BE$205,2,0)))","v":""},null,{"$f":"IF(B137=\"\",\"\",IF(ISERROR(VLOOKUP(B137,ｴﾝﾄﾘｰ票!$BJ$16:$BK$205,1,0)),\"\",VLOOKUP(B137,ｴﾝﾄﾘｰ票!$BJ$16:$BK$205,2,0)))","v":""}]
[88,{"$f":"IF(ISERROR(VLOOKUP(A138*10-9+6000,ｴﾝﾄﾘｰ票!C$15:AI$215,3,0)),\"\",VLOOKUP(A138*10-9+6000,ｴﾝﾄﾘｰ票!C$15:AI$215,3,0))","v":""},{"$f":"IF(B138=\"\",\"\",CONCATENATE(VLOOKUP(B138,ｴﾝﾄﾘｰ票!$E$16:$L$215,2,0),\"　\",VLOOKUP(B138,ｴﾝﾄﾘｰ票!$E$16:$L$215,3,0)))","v":""},null,null,null,null,{"$f":"IF(B138=\"\",\"\",VLOOKUP(B138,ｴﾝﾄﾘｰ票!$E$16:$L$215,6,0))","v":""},null,{"$f":"IF(B138=\"\",\"\",IF(VLOOKUP(B138,ｴﾝﾄﾘｰ票!$E$16:$Y$215,10,0)=\"\",\"\",VLOOKUP(B138,ｴﾝﾄﾘｰ票!$E$16:$Y$215,10,0)))","v":""},null,{"$f":"IF(B138=\"\",\"\",IF(VLOOKUP(B138,ｴﾝﾄﾘｰ票!$E$16:$Y$215,14,0)=\"\",\"\",VLOOKUP(B138,ｴﾝﾄﾘｰ票!$E$16:$Y$215,14,0)))","v":""},null,{"$f":"IF(B138=\"\",\"\",IF(VLOOKUP(B138,ｴﾝﾄﾘｰ票!$E$16:$Y$215,18,0)=\"\",\"\",VLOOKUP(B138,ｴﾝﾄﾘｰ票!$E$16:$Y$215,18,0)))","v":""},{"$f":"IF(B138=\"\",\"\",IF(ISERROR(VLOOKUP(B138,ｴﾝﾄﾘｰ票!$BD$16:$BE$205,1,0)),\"\",VLOOKUP(B138,ｴﾝﾄﾘｰ票!$BD$16:$BE$205,2,0)))","v":""},null,{"$f":"IF(B138=\"\",\"\",IF(ISERROR(VLOOKUP(B138,ｴﾝﾄﾘｰ票!$BJ$16:$BK$205,1,0)),\"\",VLOOKUP(B138,ｴﾝﾄﾘｰ票!$BJ$16:$BK$205,2,0)))","v":""}]
[89,{"$f":"IF(ISERROR(VLOOKUP(A139*10-9+6000,ｴﾝﾄﾘｰ票!C$15:AI$215,3,0)),\"\",VLOOKUP(A139*10-9+6000,ｴﾝﾄﾘｰ票!C$15:AI$215,3,0))","v":""},{"$f":"IF(B139=\"\",\"\",CONCATENATE(VLOOKUP(B139,ｴﾝﾄﾘｰ票!$E$16:$L$215,2,0),\"　\",VLOOKUP(B139,ｴﾝﾄﾘｰ票!$E$16:$L$215,3,0)))","v":""},null,null,null,null,{"$f":"IF(B139=\"\",\"\",VLOOKUP(B139,ｴﾝﾄﾘｰ票!$E$16:$L$215,6,0))","v":""},null,{"$f":"IF(B139=\"\",\"\",IF(VLOOKUP(B139,ｴﾝﾄﾘｰ票!$E$16:$Y$215,10,0)=\"\",\"\",VLOOKUP(B139,ｴﾝﾄﾘｰ票!$E$16:$Y$215,10,0)))","v":""},null,{"$f":"IF(B139=\"\",\"\",IF(VLOOKUP(B139,ｴﾝﾄﾘｰ票!$E$16:$Y$215,14,0)=\"\",\"\",VLOOKUP(B139,ｴﾝﾄﾘｰ票!$E$16:$Y$215,14,0)))","v":""},null,{"$f":"IF(B139=\"\",\"\",IF(VLOOKUP(B139,ｴﾝﾄﾘｰ票!$E$16:$Y$215,18,0)=\"\",\"\",VLOOKUP(B139,ｴﾝﾄﾘｰ票!$E$16:$Y$215,18,0)))","v":""},{"$f":"IF(B139=\"\",\"\",IF(ISERROR(VLOOKUP(B139,ｴﾝﾄﾘｰ票!$BD$16:$BE$205,1,0)),\"\",VLOOKUP(B139,ｴﾝﾄﾘｰ票!$BD$16:$BE$205,2,0)))","v":""},null,{"$f":"IF(B139=\"\",\"\",IF(ISERROR(VLOOKUP(B139,ｴﾝﾄﾘｰ票!$BJ$16:$BK$205,1,0)),\"\",VLOOKUP(B139,ｴﾝﾄﾘｰ票!$BJ$16:$BK$205,2,0)))","v":""}]
[90,{"$f":"IF(ISERROR(VLOOKUP(A140*10-9+6000,ｴﾝﾄﾘｰ票!C$15:AI$215,3,0)),\"\",VLOOKUP(A140*10-9+6000,ｴﾝﾄﾘｰ票!C$15:AI$215,3,0))","v":""},{"$f":"IF(B140=\"\",\"\",CONCATENATE(VLOOKUP(B140,ｴﾝﾄﾘｰ票!$E$16:$L$215,2,0),\"　\",VLOOKUP(B140,ｴﾝﾄﾘｰ票!$E$16:$L$215,3,0)))","v":""},null,null,null,null,{"$f":"IF(B140=\"\",\"\",VLOOKUP(B140,ｴﾝﾄﾘｰ票!$E$16:$L$215,6,0))","v":""},null,{"$f":"IF(B140=\"\",\"\",IF(VLOOKUP(B140,ｴﾝﾄﾘｰ票!$E$16:$Y$215,10,0)=\"\",\"\",VLOOKUP(B140,ｴﾝﾄﾘｰ票!$E$16:$Y$215,10,0)))","v":""},null,{"$f":"IF(B140=\"\",\"\",IF(VLOOKUP(B140,ｴﾝﾄﾘｰ票!$E$16:$Y$215,14,0)=\"\",\"\",VLOOKUP(B140,ｴﾝﾄﾘｰ票!$E$16:$Y$215,14,0)))","v":""},null,{"$f":"IF(B140=\"\",\"\",IF(VLOOKUP(B140,ｴﾝﾄﾘｰ票!$E$16:$Y$215,18,0)=\"\",\"\",VLOOKUP(B140,ｴﾝﾄﾘｰ票!$E$16:$Y$215,18,0)))","v":""},{"$f":"IF(B140=\"\",\"\",IF(ISERROR(VLOOKUP(B140,ｴﾝﾄﾘｰ票!$BD$16:$BE$205,1,0)),\"\",VLOOKUP(B140,ｴﾝﾄﾘｰ票!$BD$16:$BE$205,2,0)))","v":""},null,{"$f":"IF(B140=\"\",\"\",IF(ISERROR(VLOOKUP(B140,ｴﾝﾄﾘｰ票!$BJ$16:$BK$205,1,0)),\"\",VLOOKUP(B140,ｴﾝﾄﾘｰ票!$BJ$16:$BK$205,2,0)))","v":""}]
[91,{"$f":"IF(ISERROR(VLOOKUP(A141*10-9+6000,ｴﾝﾄﾘｰ票!C$15:AI$215,3,0)),\"\",VLOOKUP(A141*10-9+6000,ｴﾝﾄﾘｰ票!C$15:AI$215,3,0))","v":""},{"$f":"IF(B141=\"\",\"\",CONCATENATE(VLOOKUP(B141,ｴﾝﾄﾘｰ票!$E$16:$L$215,2,0),\"　\",VLOOKUP(B141,ｴﾝﾄﾘｰ票!$E$16:$L$215,3,0)))","v":""},null,null,null,null,{"$f":"IF(B141=\"\",\"\",VLOOKUP(B141,ｴﾝﾄﾘｰ票!$E$16:$L$215,6,0))","v":""},null,{"$f":"IF(B141=\"\",\"\",IF(VLOOKUP(B141,ｴﾝﾄﾘｰ票!$E$16:$Y$215,10,0)=\"\",\"\",VLOOKUP(B141,ｴﾝﾄﾘｰ票!$E$16:$Y$215,10,0)))","v":""},null,{"$f":"IF(B141=\"\",\"\",IF(VLOOKUP(B141,ｴﾝﾄﾘｰ票!$E$16:$Y$215,14,0)=\"\",\"\",VLOOKUP(B141,ｴﾝﾄﾘｰ票!$E$16:$Y$215,14,0)))","v":""},null,{"$f":"IF(B141=\"\",\"\",IF(VLOOKUP(B141,ｴﾝﾄﾘｰ票!$E$16:$Y$215,18,0)=\"\",\"\",VLOOKUP(B141,ｴﾝﾄﾘｰ票!$E$16:$Y$215,18,0)))","v":""},{"$f":"IF(B141=\"\",\"\",IF(ISERROR(VLOOKUP(B141,ｴﾝﾄﾘｰ票!$BD$16:$BE$205,1,0)),\"\",VLOOKUP(B141,ｴﾝﾄﾘｰ票!$BD$16:$BE$205,2,0)))","v":""},null,{"$f":"IF(B141=\"\",\"\",IF(ISERROR(VLOOKUP(B141,ｴﾝﾄﾘｰ票!$BJ$16:$BK$205,1,0)),\"\",VLOOKUP(B141,ｴﾝﾄﾘｰ票!$BJ$16:$BK$205,2,0)))","v":""}]
[92,{"$f":"IF(ISERROR(VLOOKUP(A142*10-9+6000,ｴﾝﾄﾘｰ票!C$15:AI$215,3,0)),\"\",VLOOKUP(A142*10-9+6000,ｴﾝﾄﾘｰ票!C$15:AI$215,3,0))","v":""},{"$f":"IF(B142=\"\",\"\",CONCATENATE(VLOOKUP(B142,ｴﾝﾄﾘｰ票!$E$16:$L$215,2,0),\"　\",VLOOKUP(B142,ｴﾝﾄﾘｰ票!$E$16:$L$215,3,0)))","v":""},null,null,null,null,{"$f":"IF(B142=\"\",\"\",VLOOKUP(B142,ｴﾝﾄﾘｰ票!$E$16:$L$215,6,0))","v":""},null,{"$f":"IF(B142=\"\",\"\",IF(VLOOKUP(B142,ｴﾝﾄﾘｰ票!$E$16:$Y$215,10,0)=\"\",\"\",VLOOKUP(B142,ｴﾝﾄﾘｰ票!$E$16:$Y$215,10,0)))","v":""},null,{"$f":"IF(B142=\"\",\"\",IF(VLOOKUP(B142,ｴﾝﾄﾘｰ票!$E$16:$Y$215,14,0)=\"\",\"\",VLOOKUP(B142,ｴﾝﾄﾘｰ票!$E$16:$Y$215,14,0)))","v":""},null,{"$f":"IF(B142=\"\",\"\",IF(VLOOKUP(B142,ｴﾝﾄﾘｰ票!$E$16:$Y$215,18,0)=\"\",\"\",VLOOKUP(B142,ｴﾝﾄﾘｰ票!$E$16:$Y$215,18,0)))","v":""},{"$f":"IF(B142=\"\",\"\",IF(ISERROR(VLOOKUP(B142,ｴﾝﾄﾘｰ票!$BD$16:$BE$205,1,0)),\"\",VLOOKUP(B142,ｴﾝﾄﾘｰ票!$BD$16:$BE$205,2,0)))","v":""},null,{"$f":"IF(B142=\"\",\"\",IF(ISERROR(VLOOKUP(B142,ｴﾝﾄﾘｰ票!$BJ$16:$BK$205,1,0)),\"\",VLOOKUP(B142,ｴﾝﾄﾘｰ票!$BJ$16:$BK$205,2,0)))","v":""}]
[93,{"$f":"IF(ISERROR(VLOOKUP(A143*10-9+6000,ｴﾝﾄﾘｰ票!C$15:AI$215,3,0)),\"\",VLOOKUP(A143*10-9+6000,ｴﾝﾄﾘｰ票!C$15:AI$215,3,0))","v":""},{"$f":"IF(B143=\"\",\"\",CONCATENATE(VLOOKUP(B143,ｴﾝﾄﾘｰ票!$E$16:$L$215,2,0),\"　\",VLOOKUP(B143,ｴﾝﾄﾘｰ票!$E$16:$L$215,3,0)))","v":""},null,null,null,null,{"$f":"IF(B143=\"\",\"\",VLOOKUP(B143,ｴﾝﾄﾘｰ票!$E$16:$L$215,6,0))","v":""},null,{"$f":"IF(B143=\"\",\"\",IF(VLOOKUP(B143,ｴﾝﾄﾘｰ票!$E$16:$Y$215,10,0)=\"\",\"\",VLOOKUP(B143,ｴﾝﾄﾘｰ票!$E$16:$Y$215,10,0)))","v":""},null,{"$f":"IF(B143=\"\",\"\",IF(VLOOKUP(B143,ｴﾝﾄﾘｰ票!$E$16:$Y$215,14,0)=\"\",\"\",VLOOKUP(B143,ｴﾝﾄﾘｰ票!$E$16:$Y$215,14,0)))","v":""},null,{"$f":"IF(B143=\"\",\"\",IF(VLOOKUP(B143,ｴﾝﾄﾘｰ票!$E$16:$Y$215,18,0)=\"\",\"\",VLOOKUP(B143,ｴﾝﾄﾘｰ票!$E$16:$Y$215,18,0)))","v":""},{"$f":"IF(B143=\"\",\"\",IF(ISERROR(VLOOKUP(B143,ｴﾝﾄﾘｰ票!$BD$16:$BE$205,1,0)),\"\",VLOOKUP(B143,ｴﾝﾄﾘｰ票!$BD$16:$BE$205,2,0)))","v":""},null,{"$f":"IF(B143=\"\",\"\",IF(ISERROR(VLOOKUP(B143,ｴﾝﾄﾘｰ票!$BJ$16:$BK$205,1,0)),\"\",VLOOKUP(B143,ｴﾝﾄﾘｰ票!$BJ$16:$BK$205,2,0)))","v":""}]
[94,{"$f":"IF(ISERROR(VLOOKUP(A144*10-9+6000,ｴﾝﾄﾘｰ票!C$15:AI$215,3,0)),\"\",VLOOKUP(A144*10-9+6000,ｴﾝﾄﾘｰ票!C$15:AI$215,3,0))","v":""},{"$f":"IF(B144=\"\",\"\",CONCATENATE(VLOOKUP(B144,ｴﾝﾄﾘｰ票!$E$16:$L$215,2,0),\"　\",VLOOKUP(B144,ｴﾝﾄﾘｰ票!$E$16:$L$215,3,0)))","v":""},null,null,null,null,{"$f":"IF(B144=\"\",\"\",VLOOKUP(B144,ｴﾝﾄﾘｰ票!$E$16:$L$215,6,0))","v":""},null,{"$f":"IF(B144=\"\",\"\",IF(VLOOKUP(B144,ｴﾝﾄﾘｰ票!$E$16:$Y$215,10,0)=\"\",\"\",VLOOKUP(B144,ｴﾝﾄﾘｰ票!$E$16:$Y$215,10,0)))","v":""},null,{"$f":"IF(B144=\"\",\"\",IF(VLOOKUP(B144,ｴﾝﾄﾘｰ票!$E$16:$Y$215,14,0)=\"\",\"\",VLOOKUP(B144,ｴﾝﾄﾘｰ票!$E$16:$Y$215,14,0)))","v":""},null,{"$f":"IF(B144=\"\",\"\",IF(VLOOKUP(B144,ｴﾝﾄﾘｰ票!$E$16:$Y$215,18,0)=\"\",\"\",VLOOKUP(B144,ｴﾝﾄﾘｰ票!$E$16:$Y$215,18,0)))","v":""},{"$f":"IF(B144=\"\",\"\",IF(ISERROR(VLOOKUP(B144,ｴﾝﾄﾘｰ票!$BD$16:$BE$205,1,0)),\"\",VLOOKUP(B144,ｴﾝﾄﾘｰ票!$BD$16:$BE$205,2,0)))","v":""},null,{"$f":"IF(B144=\"\",\"\",IF(ISERROR(VLOOKUP(B144,ｴﾝﾄﾘｰ票!$BJ$16:$BK$205,1,0)),\"\",VLOOKUP(B144,ｴﾝﾄﾘｰ票!$BJ$16:$BK$205,2,0)))","v":""}]
[95,{"$f":"IF(ISERROR(VLOOKUP(A145*10-9+6000,ｴﾝﾄﾘｰ票!C$15:AI$215,3,0)),\"\",VLOOKUP(A145*10-9+6000,ｴﾝﾄﾘｰ票!C$15:AI$215,3,0))","v":""},{"$f":"IF(B145=\"\",\"\",CONCATENATE(VLOOKUP(B145,ｴﾝﾄﾘｰ票!$E$16:$L$215,2,0),\"　\",VLOOKUP(B145,ｴﾝﾄﾘｰ票!$E$16:$L$215,3,0)))","v":""},null,null,null,null,{"$f":"IF(B145=\"\",\"\",VLOOKUP(B145,ｴﾝﾄﾘｰ票!$E$16:$L$215,6,0))","v":""},null,{"$f":"IF(B145=\"\",\"\",IF(VLOOKUP(B145,ｴﾝﾄﾘｰ票!$E$16:$Y$215,10,0)=\"\",\"\",VLOOKUP(B145,ｴﾝﾄﾘｰ票!$E$16:$Y$215,10,0)))","v":""},null,{"$f":"IF(B145=\"\",\"\",IF(VLOOKUP(B145,ｴﾝﾄﾘｰ票!$E$16:$Y$215,14,0)=\"\",\"\",VLOOKUP(B145,ｴﾝﾄﾘｰ票!$E$16:$Y$215,14,0)))","v":""},null,{"$f":"IF(B145=\"\",\"\",IF(VLOOKUP(B145,ｴﾝﾄﾘｰ票!$E$16:$Y$215,18,0)=\"\",\"\",VLOOKUP(B145,ｴﾝﾄﾘｰ票!$E$16:$Y$215,18,0)))","v":""},{"$f":"IF(B145=\"\",\"\",IF(ISERROR(VLOOKUP(B145,ｴﾝﾄﾘｰ票!$BD$16:$BE$205,1,0)),\"\",VLOOKUP(B145,ｴﾝﾄﾘｰ票!$BD$16:$BE$205,2,0)))","v":""},null,{"$f":"IF(B145=\"\",\"\",IF(ISERROR(VLOOKUP(B145,ｴﾝﾄﾘｰ票!$BJ$16:$BK$205,1,0)),\"\",VLOOKUP(B145,ｴﾝﾄﾘｰ票!$BJ$16:$BK$205,2,0)))","v":""}]
[96,{"$f":"IF(ISERROR(VLOOKUP(A146*10-9+6000,ｴﾝﾄﾘｰ票!C$15:AI$215,3,0)),\"\",VLOOKUP(A146*10-9+6000,ｴﾝﾄﾘｰ票!C$15:AI$215,3,0))","v":""},{"$f":"IF(B146=\"\",\"\",CONCATENATE(VLOOKUP(B146,ｴﾝﾄﾘｰ票!$E$16:$L$215,2,0),\"　\",VLOOKUP(B146,ｴﾝﾄﾘｰ票!$E$16:$L$215,3,0)))","v":""},null,null,null,null,{"$f":"IF(B146=\"\",\"\",VLOOKUP(B146,ｴﾝﾄﾘｰ票!$E$16:$L$215,6,0))","v":""},null,{"$f":"IF(B146=\"\",\"\",IF(VLOOKUP(B146,ｴﾝﾄﾘｰ票!$E$16:$Y$215,10,0)=\"\",\"\",VLOOKUP(B146,ｴﾝﾄﾘｰ票!$E$16:$Y$215,10,0)))","v":""},null,{"$f":"IF(B146=\"\",\"\",IF(VLOOKUP(B146,ｴﾝﾄﾘｰ票!$E$16:$Y$215,14,0)=\"\",\"\",VLOOKUP(B146,ｴﾝﾄﾘｰ票!$E$16:$Y$215,14,0)))","v":""},null,{"$f":"IF(B146=\"\",\"\",IF(VLOOKUP(B146,ｴﾝﾄﾘｰ票!$E$16:$Y$215,18,0)=\"\",\"\",VLOOKUP(B146,ｴﾝﾄﾘｰ票!$E$16:$Y$215,18,0)))","v":""},{"$f":"IF(B146=\"\",\"\",IF(ISERROR(VLOOKUP(B146,ｴﾝﾄﾘｰ票!$BD$16:$BE$205,1,0)),\"\",VLOOKUP(B146,ｴﾝﾄﾘｰ票!$BD$16:$BE$205,2,0)))","v":""},null,{"$f":"IF(B146=\"\",\"\",IF(ISERROR(VLOOKUP(B146,ｴﾝﾄﾘｰ票!$BJ$16:$BK$205,1,0)),\"\",VLOOKUP(B146,ｴﾝﾄﾘｰ票!$BJ$16:$BK$205,2,0)))","v":""}]
[97,{"$f":"IF(ISERROR(VLOOKUP(A147*10-9+6000,ｴﾝﾄﾘｰ票!C$15:AI$215,3,0)),\"\",VLOOKUP(A147*10-9+6000,ｴﾝﾄﾘｰ票!C$15:AI$215,3,0))","v":""},{"$f":"IF(B147=\"\",\"\",CONCATENATE(VLOOKUP(B147,ｴﾝﾄﾘｰ票!$E$16:$L$215,2,0),\"　\",VLOOKUP(B147,ｴﾝﾄﾘｰ票!$E$16:$L$215,3,0)))","v":""},null,null,null,null,{"$f":"IF(B147=\"\",\"\",VLOOKUP(B147,ｴﾝﾄﾘｰ票!$E$16:$L$215,6,0))","v":""},null,{"$f":"IF(B147=\"\",\"\",IF(VLOOKUP(B147,ｴﾝﾄﾘｰ票!$E$16:$Y$215,10,0)=\"\",\"\",VLOOKUP(B147,ｴﾝﾄﾘｰ票!$E$16:$Y$215,10,0)))","v":""},null,{"$f":"IF(B147=\"\",\"\",IF(VLOOKUP(B147,ｴﾝﾄﾘｰ票!$E$16:$Y$215,14,0)=\"\",\"\",VLOOKUP(B147,ｴﾝﾄﾘｰ票!$E$16:$Y$215,14,0)))","v":""},null,{"$f":"IF(B147=\"\",\"\",IF(VLOOKUP(B147,ｴﾝﾄﾘｰ票!$E$16:$Y$215,18,0)=\"\",\"\",VLOOKUP(B147,ｴﾝﾄﾘｰ票!$E$16:$Y$215,18,0)))","v":""},{"$f":"IF(B147=\"\",\"\",IF(ISERROR(VLOOKUP(B147,ｴﾝﾄﾘｰ票!$BD$16:$BE$205,1,0)),\"\",VLOOKUP(B147,ｴﾝﾄﾘｰ票!$BD$16:$BE$205,2,0)))","v":""},null,{"$f":"IF(B147=\"\",\"\",IF(ISERROR(VLOOKUP(B147,ｴﾝﾄﾘｰ票!$BJ$16:$BK$205,1,0)),\"\",VLOOKUP(B147,ｴﾝﾄﾘｰ票!$BJ$16:$BK$205,2,0)))","v":""}]
[98,{"$f":"IF(ISERROR(VLOOKUP(A148*10-9+6000,ｴﾝﾄﾘｰ票!C$15:AI$215,3,0)),\"\",VLOOKUP(A148*10-9+6000,ｴﾝﾄﾘｰ票!C$15:AI$215,3,0))","v":""},{"$f":"IF(B148=\"\",\"\",CONCATENATE(VLOOKUP(B148,ｴﾝﾄﾘｰ票!$E$16:$L$215,2,0),\"　\",VLOOKUP(B148,ｴﾝﾄﾘｰ票!$E$16:$L$215,3,0)))","v":""},null,null,null,null,{"$f":"IF(B148=\"\",\"\",VLOOKUP(B148,ｴﾝﾄﾘｰ票!$E$16:$L$215,6,0))","v":""},null,{"$f":"IF(B148=\"\",\"\",IF(VLOOKUP(B148,ｴﾝﾄﾘｰ票!$E$16:$Y$215,10,0)=\"\",\"\",VLOOKUP(B148,ｴﾝﾄﾘｰ票!$E$16:$Y$215,10,0)))","v":""},null,{"$f":"IF(B148=\"\",\"\",IF(VLOOKUP(B148,ｴﾝﾄﾘｰ票!$E$16:$Y$215,14,0)=\"\",\"\",VLOOKUP(B148,ｴﾝﾄﾘｰ票!$E$16:$Y$215,14,0)))","v":""},null,{"$f":"IF(B148=\"\",\"\",IF(VLOOKUP(B148,ｴﾝﾄﾘｰ票!$E$16:$Y$215,18,0)=\"\",\"\",VLOOKUP(B148,ｴﾝﾄﾘｰ票!$E$16:$Y$215,18,0)))","v":""},{"$f":"IF(B148=\"\",\"\",IF(ISERROR(VLOOKUP(B148,ｴﾝﾄﾘｰ票!$BD$16:$BE$205,1,0)),\"\",VLOOKUP(B148,ｴﾝﾄﾘｰ票!$BD$16:$BE$205,2,0)))","v":""},null,{"$f":"IF(B148=\"\",\"\",IF(ISERROR(VLOOKUP(B148,ｴﾝﾄﾘｰ票!$BJ$16:$BK$205,1,0)),\"\",VLOOKUP(B148,ｴﾝﾄﾘｰ票!$BJ$16:$BK$205,2,0)))","v":""}]
[99,{"$f":"IF(ISERROR(VLOOKUP(A149*10-9+6000,ｴﾝﾄﾘｰ票!C$15:AI$215,3,0)),\"\",VLOOKUP(A149*10-9+6000,ｴﾝﾄﾘｰ票!C$15:AI$215,3,0))","v":""},{"$f":"IF(B149=\"\",\"\",CONCATENATE(VLOOKUP(B149,ｴﾝﾄﾘｰ票!$E$16:$L$215,2,0),\"　\",VLOOKUP(B149,ｴﾝﾄﾘｰ票!$E$16:$L$215,3,0)))","v":""},null,null,null,null,{"$f":"IF(B149=\"\",\"\",VLOOKUP(B149,ｴﾝﾄﾘｰ票!$E$16:$L$215,6,0))","v":""},null,{"$f":"IF(B149=\"\",\"\",IF(VLOOKUP(B149,ｴﾝﾄﾘｰ票!$E$16:$Y$215,10,0)=\"\",\"\",VLOOKUP(B149,ｴﾝﾄﾘｰ票!$E$16:$Y$215,10,0)))","v":""},null,{"$f":"IF(B149=\"\",\"\",IF(VLOOKUP(B149,ｴﾝﾄﾘｰ票!$E$16:$Y$215,14,0)=\"\",\"\",VLOOKUP(B149,ｴﾝﾄﾘｰ票!$E$16:$Y$215,14,0)))","v":""},null,{"$f":"IF(B149=\"\",\"\",IF(VLOOKUP(B149,ｴﾝﾄﾘｰ票!$E$16:$Y$215,18,0)=\"\",\"\",VLOOKUP(B149,ｴﾝﾄﾘｰ票!$E$16:$Y$215,18,0)))","v":""},{"$f":"IF(B149=\"\",\"\",IF(ISERROR(VLOOKUP(B149,ｴﾝﾄﾘｰ票!$BD$16:$BE$205,1,0)),\"\",VLOOKUP(B149,ｴﾝﾄﾘｰ票!$BD$16:$BE$205,2,0)))","v":""},null,{"$f":"IF(B149=\"\",\"\",IF(ISERROR(VLOOKUP(B149,ｴﾝﾄﾘｰ票!$BJ$16:$BK$205,1,0)),\"\",VLOOKUP(B149,ｴﾝﾄﾘｰ票!$BJ$16:$BK$205,2,0)))","v":""}]
[100,{"$f":"IF(ISERROR(VLOOKUP(A150*10-9+6000,ｴﾝﾄﾘｰ票!C$15:AI$215,3,0)),\"\",VLOOKUP(A150*10-9+6000,ｴﾝﾄﾘｰ票!C$15:AI$215,3,0))","v":""},{"$f":"IF(B150=\"\",\"\",CONCATENATE(VLOOKUP(B150,ｴﾝﾄﾘｰ票!$E$16:$L$215,2,0),\"　\",VLOOKUP(B150,ｴﾝﾄﾘｰ票!$E$16:$L$215,3,0)))","v":""},null,null,null,null,{"$f":"IF(B150=\"\",\"\",VLOOKUP(B150,ｴﾝﾄﾘｰ票!$E$16:$L$215,6,0))","v":""},null,{"$f":"IF(B150=\"\",\"\",IF(VLOOKUP(B150,ｴﾝﾄﾘｰ票!$E$16:$Y$215,10,0)=\"\",\"\",VLOOKUP(B150,ｴﾝﾄﾘｰ票!$E$16:$Y$215,10,0)))","v":""},null,{"$f":"IF(B150=\"\",\"\",IF(VLOOKUP(B150,ｴﾝﾄﾘｰ票!$E$16:$Y$215,14,0)=\"\",\"\",VLOOKUP(B150,ｴﾝﾄﾘｰ票!$E$16:$Y$215,14,0)))","v":""},null,{"$f":"IF(B150=\"\",\"\",IF(VLOOKUP(B150,ｴﾝﾄﾘｰ票!$E$16:$Y$215,18,0)=\"\",\"\",VLOOKUP(B150,ｴﾝﾄﾘｰ票!$E$16:$Y$215,18,0)))","v":""},{"$f":"IF(B150=\"\",\"\",IF(ISERROR(VLOOKUP(B150,ｴﾝﾄﾘｰ票!$BD$16:$BE$205,1,0)),\"\",VLOOKUP(B150,ｴﾝﾄﾘｰ票!$BD$16:$BE$205,2,0)))","v":""},null,{"$f":"IF(B150=\"\",\"\",IF(ISERROR(VLOOKUP(B150,ｴﾝﾄﾘｰ票!$BJ$16:$BK$205,1,0)),\"\",VLOOKUP(B150,ｴﾝﾄﾘｰ票!$BJ$16:$BK$205,2,0)))","v":""}]

{"sheet":"氏名ﾃﾞｰﾀ","index":7,"n_rows":1266,"n_cols":14,"rows_kept":1266,"cut":false,"hidden":true,"merged":[]}
[0,"氏名データ"]
[0]
[0,"５桁","姓","名","ﾌﾘｶﾞﾅ（姓）","ﾌﾘｶﾞﾅ（名）","性別",null,"学年",null,null,{"$f":"LEFT(H3,4)","v":""},{"$f":"MID(H3,5,2)","v":""},{"$f":"RIGHT(H3,2)","v":""}]
[1,40106,"小林","広人","ｺﾊﾞﾔｼ","ﾋﾛﾄ","男",null,3]
[2,40107,"田中","亮也","ﾀﾅｶ","ﾘｮｳﾔ","男",null,3]
[3,40108,"佐々木","薫","ｻｻｷ","ｶｵﾙ","男",null,3]
[4,40109,"中村","龍之介","ﾅｶﾑﾗ","ﾘｭｳﾉｽｹ","男",null,3]
[5,40110,"仲嶋","裕希","ﾅｶｼﾞﾏ","ﾋﾛｷ","男",null,3]
[6,40111,"金子","晃大","ｶﾈｺ","ｱｷﾋﾛ","男",null,3]
[7,40112,"恩田","健吾","ｵﾝﾀﾞ","ｹﾝｺﾞ","男",null,3]
[8,40113,"倪","啓源","ﾆｲ","ﾁｲｹﾞﾝ","男",null,3]
[9,40114,"浮谷","英典","ｳｷﾔ","ﾋﾃﾞﾉﾘ","男",null,3]
[10,40115,"高橋","涼","ﾀｶﾊｼ","ﾘｮｳ","男",null,3]
[11,40116,"野村","海斗","ﾉﾑﾗ","ｶｲﾄ","男",null,3]
[12,40117,"小松","俊介","ｺﾏﾂ","ｼｭﾝｽｹ","男",null,2]
[13,40118,"西原","隆大","ﾆｼﾊﾗ","ﾘｭｳﾀﾞｲ","男",null,2]
[14,40119,"奥田","大統","ｵｸﾀﾞ","ﾋﾛﾄ","男",null,2]
[15,40120,"増田","翼","ﾏｽﾀﾞ","ﾂﾊﾞｻ","男",null,2]
[16,40121,"小野田","吉兆","ｵﾉﾀﾞ","ｷﾖｼ","男",null,2]
[17,40122,"山﨑","貴之","ﾔﾏｻﾞｷ","ﾀｶﾕｷ","男",null,2]
[18,40123,"畠山","裕亮","ﾊﾀｹﾔﾏ","ﾕｳｽｹ","男",null,2]
[19,40124,"稲垣","怜","ｲﾅｶﾞｷ","ﾚｲ","男",null,2]
[20,40125,"欧張","沢世","ｵｳﾁｮｳ","ﾀｸﾖ","男",null,2]
[21,40126,"香山","怜太","ｶﾔﾏ","ﾘｮｳﾀ","男",null,2]
[22,40127,"種房","豪","ﾀﾈﾌｻ","ｺﾞｳ","男",null,3]
[23,40128,"丸田","将太郎","ﾏﾙﾀ","ｼｮｳﾀﾛｳ","男",null,3]
[24,40129,"上田","楽","ｳｴﾀﾞ","ｶﾞｸ","男",null,1]
[25,40130,"佐野","小次郎","ｻﾉ","ｺｼﾞﾛｳ","男",null,1]
[26,40131,"下出","大智","ｼﾓﾃﾞ","ﾀﾞｲﾁ","男",null,1]
[27,40132,"成田","楽","ﾅﾘﾀ","ｶﾞｸ","男",null,1]
[28,40201,"荻野","雄渡","ｵｷﾞﾉ","ﾕｳﾄ","男",null,1]
[29,40202,"岸田","拓馬","ｷｼﾀﾞ","ﾀｸﾏ","男",null,1]
[30,40203,"高橋","優希","ﾀｶﾊｼ","ﾕｳｷ","男",null,1]
[31,40237,"奥山","暢公","ｵｸﾔﾏ","ﾉﾌﾞｷ","男",null,3]
[32,40238,"佐藤","宏樹","ｻﾄｳ","ﾋﾛｷ","男",null,3]
[33,40241,"山本","将大","ﾔﾏﾓﾄ","ｼｮｳﾀ","男",null,3]
[34,40242,"青柳","俊吾","ｱｵﾔｷﾞ","ｼｭﾝｺﾞ","男",null,2]
[35,40243,"池端","諒治","ｲｹﾊﾞﾀ","ﾘｮｳｼﾞ","男",null,2]
[36,40245,"國分","裕介","ｺｸﾌﾞﾝ","ﾕｳｽｹ","男",null,2]
[37,40246,"近藤","智隆","ｺﾝﾄﾞｳ","ﾄﾓﾀｶ","男",null,2]
[38,40247,"佐藤","一也","ｻﾄｳ","ｲﾁﾔ","男",null,2]
[39,40248,"高山","兼輔","ﾀｶﾔﾏ","ｹﾝｽｹ","男",null,2]
[40,40250,"渡邊","英世","ﾜﾀﾅﾍﾞ","ﾋﾃﾞﾖ","男",null,2]
[41,40251,"居川","三美","ｲｶﾜ","ﾐﾐ","女",null,2]
[42,40252,"上田","笑鈴","ｳｴﾀﾞ","ｴﾐ","女",null,2]
[43,40253,"折方","結月","ｵﾘｶﾀ","ﾕﾂﾞｷ","女",null,2]
[44,40254,"渡辺","美月","ﾜﾀﾅﾍﾞ","ﾐﾂｷ","女",null,2]
[45,40255,"石澤","みの里","ｲｼｻﾞﾜ","ﾐﾉﾘ","女",null,1]
[46,40256,"松崎","花乃","ﾏﾂｻﾞｷ","ｶﾉ","女",null,1]
[47,40257,"川瀬","湖夏","ｶﾜｾ","ｺﾅﾂ","女",null,1]
[48,40294,"関口","真央","ｾｷｸﾞﾁ","ﾏｵ","女",null,3]
[49,40296,"内田","花凜","ｳﾁﾀﾞ","ｶﾘﾝ","女",null,3]
[50,40297,"倉林","ひかる","ｸﾗﾊﾞﾔｼ","ﾋｶﾙ","女",null,3]
[51,40501,"伊藤","基希","ｲﾄｳ","ﾓﾄｷ","男",null,1]
[52,40502,"遠藤","誠也","ｴﾝﾄﾞｳ","ｾｲﾔ","男",null,1]
[53,40503,"金子","陽空","ｶﾈｺ","ﾊﾙｸ","男",null,1]
[54,40504,"前場","直人","ﾏｴﾊﾞ","ﾅｵﾄ","男",null,1]
[55,40536,"西山","耕太","ﾆｼﾔﾏ","ｺｳﾀ","男",null,3]
[56,40537,"細田","光翼","ﾎｿﾀﾞ","ﾂﾊﾞｻ","男",null,3]
[57,40541,"石河","輝一","ｲｼｶﾜ","ｷｲﾁ","男",null,3]
[58,40545,"東","耀太","ﾋｶﾞｼ","ﾖｳﾀ","男",null,3]
[59,40546,"木所","大起","ｷﾄﾞｺﾛ","ﾀﾞｲｷ","男",null,2]
[60,40547,"菅田","雄大","ｽｹﾞﾀ","ﾕｳﾀﾞｲ","男",null,2]
[61,40548,"岸田","洵太","ｷｼﾀﾞ","ｼﾞｭﾝﾀ","男",null,2]
[62,40551,"小田","花乃","ｵﾀﾞ","ｶﾉ","女",null,3]
[63,40552,"森重","叶星","ﾓﾘｼｹﾞ","ｶﾅｾ","女",null,2]
[64,40553,"奥井","ゆりあ","ｵｸｲ","ﾕﾘｱ","女",null,1]
[65,40554,"高橋","凛","ﾀｶﾊｼ","ﾘﾝ","女",null,1]
[66,40555,"萩谷","萌梨","ﾊｷﾞﾔ","ﾓｴﾘ","女",null,1]
[67,40556,"吉田","真衣","ﾖｼﾀﾞ","ﾏｲ","女",null,3]
[68,40601,"大野","健太郎","ｵｵﾉ","ｹﾝﾀﾛｳ","男",null,1]
[69,40602,"工藤","広揮","ｸﾄﾞｳ","ﾋﾛｷ","男",null,1]
[70,40603,"本田","士英","ﾎﾝﾀﾞ","ｼﾞｪｲ","男",null,1]
[71,40604,"峯岸","太郎","ﾐﾈｷﾞｼ","ﾀﾛｳ","男",null,1]
[72,40605,"山口","蓮太","ﾔﾏｸﾞﾁ","ﾚﾝﾀ","男",null,1]
[73,40606,"横田","博貴","ﾖｺﾀ","ﾋﾛｷ","男",null,1]
[74,40610,"伊藤","大将","ｲﾄｳ","ﾀﾞｲｽｹ","男",null,3]
[75,40611,"吉野","雄太","ﾖｼﾉ","ﾕｳﾀ","男",null,3]
[76,40612,"山田","遥輝","ﾔﾏﾀﾞ","ﾊﾙｷ","男",null,3]
[77,40613,"山中","謙吾","ﾔﾏﾅｶ","ｹﾝｺﾞ","男",null,3]
[78,40614,"吉光寺","健介","ｷｯｺｳｼﾞ","ｹﾝｽｹ","男",null,3]
[79,40616,"狩俣","竜馬","ｶﾘﾏﾀ","ﾘｮｳﾏ","男",null,3]
[80,40621,"岩城","啓吾","ｲﾜｷ","ｹｲｺﾞ","男",null,2]
[81,40622,"中里","浩太","ﾅｶｻﾞﾄ","ｺｳﾀ","男",null,2]
[82,40623,"杉山","豪","ｽｷﾞﾔﾏ","ｺﾞｳ","男",null,2]
[83,40624,"五十嵐","伸","ｲｶﾞﾗｼ","ｼﾝ","男",null,2]
[84,40625,"吉永","湧也","ﾖｼﾅｶﾞ","ﾕｳﾔ","男",null,2]
[85,40626,"山本","康生","ﾔﾏﾓﾄ","ｺｳｾｲ","男",null,2]
[86,40627,"宮下","裕翔","ﾐﾔｼﾀ","ﾕｳｼｮｳ","男",null,2]
[87,40628,"福井","歩","ﾌｸｲ","ｱﾕﾑ","男",null,2]
[88,40629,"門馬","由翔","ﾓﾝﾏ","ﾕｲﾄ","男",null,2]
[89,40630,"國場","浩生","ｸﾆﾊﾞ","ｺｳｾｲ","男",null,2]
[90,40631,"池田","琉斗","ｲｹﾀﾞ","ﾘｭｳﾄ","男",null,2]
[91,40632,"郡司","卓磨","ｸﾞﾝｼﾞ","ﾀｸﾏ","男",null,2]
[92,40633,"高石","明良","ﾀｶｲｼ","ｱｷﾗ","男",null,2]
[93,40651,"大場","愛鈴","ｵｵﾊﾞ","ｱｲﾘﾝ","女",null,1]
[94,40670,"大根","汐菜","ｵｵﾈ","ｼｵﾅ","女",null,3]
[95,40671,"松橋","明里","ﾏﾂﾊｼ","ｱｶﾘ","女",null,3]
[96,40691,"瀬戸","やや","ｾﾄ","ﾔﾔ","女",null,2]
[97,40692,"氏家","彩優莉","ｳｼﾞｲｴ","ｱﾕﾘ","女",null,2]
[98,40693,"中西","杏梨","ﾅｶﾆｼ","ｱﾝﾘ","女",null,2]
[99,40910,"川口","琉聖","ｶﾜｸﾞﾁ","ﾘｭｳｾｲ","男",null,1]
[100,40911,"諏訪戸","皇","ｽﾜﾄ","ｱﾂｷ","男",null,1]
[101,40912,"計良","颯","ｹｲﾗ","ﾊﾔﾄ","男",null,1]
[102,40913,"藤原","心路","ﾌｼﾞﾜﾗ","ｺｺﾛ","男",null,1]
[103,40914,"深澤","怜","ﾌｶｻﾜ","ﾚｲ","男",null,1]
[104,40915,"和智","路博","ﾜﾁ","ﾐﾁﾋﾛ","男",null,1]
[105,40916,"永野","幸輝","ﾅｶﾞﾉ","ｺｳｷ","男",null,3]
[106,40920,"宮本","幹士","ﾐﾔﾓﾄ","ｶﾝﾄ","男",null,2]
[107,40921,"千葉","大寛","ﾁﾊﾞ","ﾄﾓﾋﾛ","男",null,2]
[108,40922,"藤野","悠斗","ﾌｼﾞﾉ","ﾕｳﾄ","男",null,2]
[109,40925,"太田","流空","ｵｵﾀ","ﾘｸ","男",null,2]
[110,40951,"穴吹","愛子","ｱﾅﾌﾞｷ","ｱｲｺ","女",null,1]
[111,40952,"武藤","碧輝","ﾑﾄｳ","ﾀﾏｷ","女",null,1]
[112,40955,"金田","珠莉","ｶﾈﾀﾞ","ｼﾞｭﾘ","女",null,3]
[113,41010,"小澤","隼也","ｵｻﾞﾜ","ｼﾞｭﾝﾔ","男",null,3]
[114,41012,"板倉","伶太","ｲﾀｸﾗ","ﾚｲﾀ","男",null,3]
[115,41013,"中谷","友亮","ﾅｶﾀﾆ","ﾕｳｽｹ","男",null,3]
[116,41014,"黒野","神太","ｸﾛﾉ","ｶﾝﾀ","男",null,3]
[117,41015,"井上","欣己","ｲﾉｳｴ","ﾖｼｷ","男",null,3]
[118,41016,"島田","翔","ｼﾏﾀﾞ","ｼｮｳ","男",null,3]
[119,41018,"小川","大輔","ｵｶﾞﾜ","ﾀﾞｲｽｹ","男",null,3]
[120,41019,"小林","隼也","ｺﾊﾞﾔｼ","ｼｭﾝﾔ","男",null,3]
[121,41020,"山田","啓翔","ﾔﾏﾀﾞ","ｹｲﾄ","男",null,2]
[122,41021,"足立","拓也","ｱﾀﾞﾁ","ﾀｸﾔ","男",null,2]
[123,41022,"大森","瑛樹","ｵｵﾓﾘ","ｴｲｼﾞｭ","男",null,2]
[124,41023,"原","福人","ﾊﾗ","ﾌｸﾄ","男",null,2]
[125,41024,"佐久間","共平","ｻｸﾏ","ｷｮｳﾍｲ","男",null,2]
[126,41025,"細野","眞平","ﾎｿﾉ","ｼﾝﾍﾟｲ","男",null,2]
[127,41026,"佐藤","桜典","ｻﾄｳ","ｵｳｽｹ","男",null,1]
[128,41027,"原","陽太","ﾊﾗ","ﾖｳﾀ","男",null,1]
[129,41028,"轟","歩巳","ﾄﾄﾞﾛｷ","ｱﾕﾐ","男",null,1]
[130,41029,"秋山","祥汰","ｱｷﾔﾏ","ｼｮｳﾀ","男",null,1]
[131,41030,"若槻","大翔","ﾜｶﾂｷ","ﾋﾛﾄ","男",null,1]
[132,41058,"浦野","珠緒","ｳﾗﾉ","ﾀﾏｵ","女",null,3]
[133,41059,"梅野","智子","ｳﾒﾉ","ｻﾄｺ","女",null,3]
[134,41060,"瀬畑","悠","ｾﾊﾞﾀ","ﾊﾙｶ","女",null,3]
[135,41061,"小牧","華","ｺﾏｷ","ﾊﾅ","女",null,3]
[136,41062,"石塚","碧","ｲｼﾂﾞｶ","ｱｵｲ","女",null,3]
[137,41063,"中川","万葉","ﾅｶｶﾞﾜ","ﾏﾖ","女",null,3]
[138,41064,"山田","ひろか","ﾔﾏﾀﾞ","ﾋﾛｶ","女",null,2]
[139,41065,"松田","涼花","ﾏﾂﾀﾞ","ｽｽﾞｶ","女",null,2]
[140,41066,"廣瀬","花","ﾋﾛｾ","ﾊﾅ","女",null,2]
[141,41067,"古賀","ゆりの","ｺｶﾞ","ﾕﾘﾉ","女",null,2]
[142,41068,"キッド","映恋","ｷｯﾄﾞ","ｴﾚﾝ","女",null,2]
[143,41069,"藤倉","由菜","ﾌｼﾞｸﾗ","ﾕﾅ","女",null,3]
[144,41070,"三浦","友","ﾐｳﾗ","ﾄﾓ","女",null,1]
[145,41071,"柳田","夏希","ﾔﾅｷﾞﾀﾞ","ﾅﾂｷ","女",null,1]
[146,41072,"小野田","美咲","ｵﾉﾀﾞ","ﾐｻｷ","女",null,1]
[147,41073,"泉","琴美","ｲｽﾞﾐ","ｺﾄﾐ","女",null,1]
[148,41074,"牟田","夏菜","ﾑﾀ","ｶﾅ","女",null,1]
[149,41075,"小路","真穂","ｺｳｼﾞ","ﾏﾎ","女",null,1]
[150,41076,"伊藤","凜","ｲﾄｳ","ﾘﾝ","女",null,1]
[151,41077,"小倉","樹音","ｵｸﾞﾗ","ｼﾞｭﾈ","女",null,1]
[152,41078,"坂本","香菜子","ｻｶﾓﾄ","ｶﾅｺ","女",null,1]
[153,41079,"石森","花奈","ｲｼﾓﾘ","ﾊﾅﾅ","女",null,1]
[154,41080,"遠藤","茉柚子","ｴﾝﾄﾞｳ","ﾏﾕｺ","女",null,1]
[155,41081,"岡本","明日香","ｵｶﾓﾄ","ｱｽｶ","女",null,1]
[156,41082,"野口","遥加","ﾉｸﾞﾁ","ﾊﾙｶ","女",null,1]
[157,41113,"森田","隼大","ﾓﾘﾀ","ﾊﾔﾄ","男",null,3]
[158,41114,"山田","聖樹","ﾔﾏﾀﾞ","ｾｲｼﾞｭ","男",null,3]
[159,41115,"浅野","智紀","ｱｻﾉ","ﾄﾓｷ","男",null,2]
[160,41117,"片桐","七海","ｶﾀｷﾞﾘ","ﾅﾅﾐ","男",null,2]
[161,41118,"白熊","大義","ｼﾗｸﾏ","ﾋﾛﾖｼ","男",null,2]
[162,41119,"髙木","賢","ﾀｶｷﾞ","ｹﾝ","男",null,2]
[163,41120,"古谷","祐太","ﾌﾙﾔ","ﾕｳﾀ","男",null,2]
[164,41121,"山村","翔","ﾔﾏﾑﾗ","ｼｮｳ","男",null,2]
[165,41122,"秋山","広樹","ｱｷﾔﾏ","ﾋﾛｷ","男",null,1]
[166,41123,"東","晃三","ｱｽﾞﾏ","ｺｳｿﾞｳ","男",null,1]
[167,41124,"小西","薫汰","ｺﾆｼ","ｸﾝﾀ","男",null,1]
[168,41125,"冨田","秀寿","ﾄﾐﾀ","ﾋﾃﾞﾄｼ","男",null,1]
[169,41166,"古川","優里","ﾌﾙｶﾜ","ﾕｳﾘ","女",null,3]
[170,41167,"坂倉","優実","ｻｶｸﾗ","ﾕｳﾐ","女",null,2]
[171,41168,"栗原","日向葵","ｸﾘﾊﾗ","ﾋﾅﾀ","女",null,1]
[172,41451,"小笠原","柚佳","ｵｶﾞｻﾜﾗ","ﾕｶ","女",null,1]
[173,41452,"崎村","美夢","ｻｷﾑﾗ","ﾐﾕ","女",null,1]
[174,41453,"荘司","多綺","ｼｮｳｼﾞ","ﾀｷ","女",null,1]
[175,41454,"戸松","沙英","ﾄﾏﾂ","ｻｴ","女",null,1]
[176,41455,"内藤","美歩","ﾅｲﾄｳ","ﾐﾎ","女",null,1]
[177,41456,"西山","茉帆香","ﾆｼﾔﾏ","ﾏﾎｶ","女",null,1]
[178,41457,"蜂須賀","優里","ﾊﾁｽｶ","ﾕｳﾘ","女",null,1]
[179,41458,"三木","はるか","ﾐｷ","ﾊﾙｶ","女",null,1]
[180,41481,"飯田","はるか","ｲｲﾀﾞ","ﾊﾙｶ","女",null,2]
[181,41482,"加藤","遥香","ｶﾄｳ","ﾊﾙｶ","女",null,2]
[182,41483,"河野","紋佳","ｶﾜﾉ","ｱﾔｶ","女",null,2]
[183,41484,"鬼頭","舞子","ｷﾄｳ","ﾏｺ","女",null,2]
[184,41485,"小杉","佳穂","ｺｽｷﾞ","ｶﾎ","女",null,2]
[185,41486,"小林","春奈","ｺﾊﾞﾔｼ","ﾊﾙﾅ","女",null,2]
[186,41488,"定山","愛梨","ｻﾀﾞﾔﾏ","ｱｲﾘ","女",null,2]
[187,41489,"鈴木","栄","ｽｽﾞｷ","ｻｶｴ","女",null,2]
[188,41490,"須田","わか子","ｽﾀﾞ","ﾜｶｺ","女",null,2]
[189,41491,"古橋","美玖","ﾌﾙﾊｼ","ﾐｸ","女",null,2]
[190,41492,"桃井","映美里","ﾓﾓｲ","ｴﾐﾘ","女",null,2]
[191,41501,"吾郷","宜哉","ｱｺﾞｳ","ﾖｼﾔ","男",null,3]
[192,41502,"市田","太一","ｲﾁﾀﾞ","ﾀｲﾁ","男",null,3]
[193,41503,"川村","龍馬","ｶﾜﾑﾗ","ﾘｮｳﾏ","男",null,3]
[194,41504,"水田","英吾","ﾐｽﾞﾀ","ｴｲｺﾞ","男",null,3]
[195,41505,"山本","健太","ﾔﾏﾓﾄ","ｹﾝﾀ","男",null,3]
[196,41506,"安宅","海生","ｱﾀｶ","ｶｲｾｲ","男",null,2]
[197,41507,"小池","光輝","ｺｲｹ","ｺｳｷ","男",null,2]
[198,41508,"武久","右京","ﾀｹﾋｻ","ｳｷｮｳ","男",null,2]
[199,41509,"山本","真輝","ﾔﾏﾓﾄ","ﾏｷ","男",null,2]
[200,41510,"五十嵐","悠宇","ｲｶﾞﾗｼ","ﾕｳ","男",null,1]
[201,41511,"石田","龍成","ｲｼﾀﾞ","ﾘｭｳｾｲ","男",null,1]
[202,41512,"木村","悠冴","ｷﾑﾗ","ﾕｳｺﾞ","男",null,1]
[203,41513,"熊本","健吾","ｸﾏﾓﾄ","ｹﾝｺﾞ","男",null,1]
[204,41514,"才藤","幸太","ｻｲﾄｳ","ｺｳﾀ","男",null,1]
[205,41515,"田中","暎義","ﾀﾅｶ","ﾋﾃﾞﾖｼ","男",null,1]
[206,41516,"西本","青空","ﾆｼﾓﾄ","ｿﾗ","男",null,1]
[207,41517,"増本","大樹","ﾏｽﾓﾄ","ﾀｲｷ","男",null,1]
[208,41518,"柳田","将汰","ﾔﾅｷﾞﾀﾞ","ｼｮｳﾀ","男",null,1]
[209,41751,"門田","奈津実","ｶﾄﾞﾀ","ﾅﾂﾐ","女",null,3]
[210,41752,"髙野","珠里","ﾀｶﾉ","ｼﾞｭﾘ","女",null,3]
[211,41753,"福井","優里香","ﾌｸｲ","ﾕﾘｶ","女",null,3]
[212,41754,"二岡","沙羅","ﾌﾀｵｶ","ｻﾗ","女",null,3]
[213,41755,"宮内","萌音","ﾐﾔｳﾁ","ﾓﾈ","女",null,3]
[214,41756,"渡辺","彩葉","ﾜﾀﾅﾍﾞ","ｱﾔﾊ","女",null,3]
[215,41757,"中戸川","沙理","ﾅｶﾄｶﾞﾜ","ｻﾘ","女",null,3]
[216,41758,"田村","優菜","ﾀﾑﾗ","ﾕｳﾅ","女",null,3]
[217,41759,"Matlok","Fiona","ﾏﾄﾙｯｸ","ﾌｨｵﾅ","女",null,2]
[218,41760,"荒井","雛子","ｱﾗｲ","ﾋﾅｺ","女",null,2]
[219,41762,"米田","希","ﾖﾈﾀ","ﾉｿﾞﾐ","女",null,2]
[220,41791,"高柳","萌","ﾀｶﾔﾅｷﾞ","ﾓｴ","女",null,1]
[221,41792,"石渡","都","ｲｼﾜﾀ","ﾐﾔｺ","女",null,1]
[222,41793,"岡垣","茉莉","ｵｶｶﾞｷ","ﾏﾘ","女",null,1]
[223,41794,"鈴木","涼香","ｽｽﾞｷ","ﾘｮｳｶ","女",null,1]
[224,41795,"草深","有理","ｸｻﾌｶ","ﾕﾘ","女",null,1]
[225,41796,"伊藤","花鈴","ｲﾄｳ","ｶﾘﾝ","女",null,1]
[226,41797,"丸山","真奈","ﾏﾙﾔﾏ","ﾏﾅ","女",null,1]
[227,41798,"堤","あかり","ﾂﾂﾐ","ｱｶﾘ","女",null,1]
[228,41863,"小原","千加","ｺﾊﾗ","ﾁｶ","女",null,3]
[229,41864,"土屋","穂香","ﾂﾁﾔ","ﾎﾉｶ","女",null,3]
[230,41865,"荒木","玲香","ｱﾗｷ","ﾚｲｶ","女",null,3]
[231,41866,"船曳","有彩","ｶﾅﾋﾞｷ","ｱﾘｻ","女",null,3]
[232,41867,"渡邊","亜美","ﾜﾀﾅﾍﾞ","ｱﾐ","女",null,3]
[233,41868,"髙橋","さつき","ﾀｶﾊｼ","ｻﾂｷ","女",null,2]
[234,41869,"秋山","千種","ｱｷﾔﾏ","ﾁｸﾞｻ","女",null,2]
[235,41870,"加藤","美海","ｶﾄｳ","ｳﾐ","女",null,2]
[236,41871,"川原","南美","ｶﾜﾊﾗ","ﾐﾅﾐ","女",null,2]
[237,41872,"北原","綾","ｷﾀﾊﾗ","ﾘｮｳ","女",null,2]
[238,41961,"赤坂","ひのき","ｱｶｻｶ","ﾋﾉｷ","女",null,2]
[239,41962,"栗岡","章代","ｸﾘｵｶ","ｱｷﾖ","女",null,2]
[240,41963,"中山","穂春","ﾅｶﾔﾏ","ﾎﾊﾙ","女",null,2]
[241,41964,"保坂","亜希","ﾎｻｶ","ｱｷ","女",null,2]
[242,41965,"奥","南々帆","ｵｸ","ﾅﾅﾎ","女",null,1]
[243,41966,"小林","柚希","ｺﾊﾞﾔｼ","ﾕｽﾞｷ","女",null,1]
[244,41967,"宮尾","幸乃","ﾐﾔｵ","ﾕｷﾉ","女",null,1]
[245,42001,"安藤","広海","ｱﾝﾄﾞｳ","ﾋﾛﾐ","男",null,2]
[246,42002,"若林","樹","ﾜｶﾊﾞﾔｼ","ｲﾂｷ","男",null,2]
[247,42003,"岩本","景星","ｲﾜﾓﾄ","ｹｲｾｲ","男",null,1]
[248,42004,"古田島","直希","ｺﾀｼﾞﾏ","ﾅｵｷ","男",null,2]
[249,42005,"田中","友喜","ﾀﾅｶ","ﾕｳｷ","男",null,2]
[250,42006,"内田","賢利","ｳﾁﾀﾞ","ｹﾝﾄ","男",null,2]
[251,42007,"江澤","幸紀","ｴｻﾞﾜ","ﾕｷﾉﾘ","男",null,2]
[252,42008,"西山","哲平","ﾆｼﾔﾏ","ﾃｯﾍﾟｲ","男",null,2]
[253,42009,"大橋","陸","ｵｵﾊｼ","ﾘｸ","男",null,2]
[254,42010,"片渕","良太","ｶﾀﾌﾞﾁ","ﾘｮｳﾀ","男",null,2]
[255,42011,"北村","陽音","ｷﾀﾑﾗ","ﾊﾙﾄ","男",null,2]
[256,42012,"佐藤","勇介","ｻﾄｳ","ﾕｳｽｹ","男",null,2]
[257,42013,"澤田","和也","ｻﾜﾀﾞ","ｶｽﾞﾔ","男",null,2]
[258,42014,"小山","颯太","ｺﾔﾏ","ｿｳﾀ","男",null,1]
[259,42015,"太田","智輝","ｵｵﾀ","ﾄﾓｷ","男",null,2]
[260,42017,"山﨑","浩作","ﾔﾏｻﾞｷ","ｺｳｻｸ","男",null,2]
[261,42018,"潮田","大晟","ｳｼｵﾀﾞ","ﾀｲｾｲ","男",null,2]
[262,42019,"松島","健留","ﾏﾂｼﾏ","ﾀｹﾙ","男",null,2]
[263,42020,"田村","諒","ﾀﾑﾗ","ﾘｮｳ","男",null,1]
[264,42021,"田丸","颯","ﾀﾏﾙ","ｿｳ","男",null,1]
[265,42022,"金谷","紘大","ｶﾅﾔ","ｺｳﾀ","男",null,1]
[266,42023,"根本","勇紀","ﾈﾓﾄ","ﾕｳｷ","男",null,1]
[267,42024,"鎌谷","翔太","ｶﾏﾀﾆ","ｼｮｳﾀ","男",null,1]
[268,42025,"浅井","諒","ｱｻｲ","ﾘｮｳ","男",null,1]
[269,42026,"齋藤","薫","ｻｲﾄｳ","ｶｵﾙ","男",null,1]
[270,42027,"與古田","葵京","ﾖｺﾀ","ｷｷｮｳ","男",null,1]
[271,42028,"柴田","賢吾","ｼﾊﾞﾀ","ｹﾝｺﾞ","男",null,3]
[272,42029,"間壁","之英瑠","ﾏｶﾍﾞ","ﾉｴﾙ","男",null,3]
[273,42030,"川野","秀虎","ｶﾜﾉ","ﾋﾃﾞﾄﾗ","男",null,3]
[274,42031,"梅舘","壮真","ｳﾒﾀﾞﾃ","ｿｳﾏ","男",null,3]
[275,42032,"肥田","圭太","ﾋﾀﾞ","ｹｲﾀ","男",null,1]
[276,42033,"皆木","晴","ﾐﾅｷ","ﾊﾙ","男",null,3]
[277,42034,"吉永","澪希","ﾖｼﾅｶﾞ","ﾚｷ","男",null,3]
[278,42035,"鳴海","友哉","ﾅﾙﾐ","ﾄﾓﾔ","男",null,3]
[279,42036,"市來","太勢","ｲﾁｷ","ﾀｲｾｲ","男",null,3]
[280,42037,"大田","滉貴","ｵｵﾀ","ｺｳｷ","男",null,1]
[281,42038,"粕谷","豪","ｶｽﾔ","ｺﾞｳ","男",null,3]
[282,42039,"権守","凌","ｺﾞﾝﾓﾘ","ﾘｮｳ","男",null,3]
[283,42040,"田畑","功之介","ﾀﾊﾞﾀ","ｺｳﾉｽｹ","男",null,3]
[284,42041,"尾形","俊介","ｵｶﾞﾀ","ｼｭﾝｽｹ","男",null,3]
[285,42042,"小島","楓","ｺｼﾞﾏ","ｶｴﾃﾞ","男",null,1]
[286,42043,"松田","龍之介","ﾏﾂﾀﾞ","ﾘｭｳﾉｽｹ","男",null,1]
[287,42044,"内田","智也","ｳﾁﾀﾞ","ﾄﾓﾔ","男",null,3]
[288,42045,"石松","大輝","ｲｼﾏﾂ","ﾀﾞｲｷ","男",null,1]
[289,42046,"小野","貴海","ｵﾉ","ｱﾂﾐ","男",null,1]
[290,42047,"加藤","蒼麻","ｶﾄｳ","ｿｳﾏ","男",null,1]
[291,42048,"大関","杏慈","ｵｵｾﾞｷ","ｱﾝｼﾞ","男",null,1]
[292,42049,"佐野","慎之介","ｻﾉ","ｼﾝﾉｽｹ","男",null,1]
[293,42057,"井坂","友香","ｲｻｶ","ﾕｶ","女",null,3]
[294,42058,"佐竹","知夏","ｻﾀｹ","ﾁﾅﾂ","女",null,3]
[295,42059,"田口","茉弥","ﾀｸﾞﾁ","ﾏﾔ","女",null,3]
[296,42060,"大塚","琳","ｵｵﾂｶ","ﾘﾝ","女",null,3]
[297,42061,"渡邉","友梨","ﾜﾀﾅﾍﾞ","ﾕｳﾘ","女",null,3]
[298,42062,"蕪木","沙耶","ｶﾌﾞﾗｷﾞ","ｻﾔ","女",null,3]
[299,42063,"渡邊","麻友子","ﾜﾀﾅﾍﾞ","ﾏﾕｺ","女",null,3]
[300,42064,"北澤","遥香","ｷﾀｻﾞﾜ","ﾊﾙｶ","女",null,3]
[301,42067,"中野","なみち","ﾅｶﾉ","ﾅﾐﾁ","女",null,2]
[302,42068,"笹岡","未咲","ｻｻｵｶ","ﾐｻｷ","女",null,2]
[303,42069,"村","朋香","ﾑﾗ","ﾄﾓｶ","女",null,2]
[304,42070,"渡邉","帆南","ﾜﾀﾅﾍﾞ","ﾎﾅﾐ","女",null,2]
[305,42072,"須藤","櫻","ｽﾄﾞｳ","ｻｸﾗ","女",null,2]
[306,42073,"深澤","実鈴","ﾌｶｻﾜ","ﾐｽｽﾞ","女",null,2]
[307,42074,"浅香","夏央","ｱｻｶ","ﾅｵ","女",null,2]
[308,42076,"根岸","舞佳","ﾈｷﾞｼ","ﾏｲｶ","女",null,1]
[309,42077,"篠山","結夏","ｼﾉﾔﾏ","ﾕﾅ","女",null,1]
[310,42078,"府川","未来","ﾌｶﾜ","ﾐｸ","女",null,1]
[311,42079,"北澤","彩香","ｷﾀｻﾞﾜ","ｱﾔｶ","女",null,1]
[312,42080,"平野","渚","ﾋﾗﾉ","ﾅｷﾞｻ","女",null,1]
[313,42081,"小寺","和華","ｺﾃﾞﾗ","ﾜｶ","女",null,1]
[314,42082,"渡部","春雅","ﾜﾀﾍﾞ","ｶｽｶﾞ","女",null,1]
[315,42083,"杉山","藍","ｽｷﾞﾔﾏ","ｱｲ","女",null,1]
[316,42084,"賀川","瑛梨","ｶｶﾞﾜ","ｴﾘ","女",null,1]
[317,42086,"阿部","恵梨沙","ｱﾍﾞ","ｴﾘｻ","女",null,1]
[318,42087,"阿部","百花","ｱﾍﾞ","ﾓﾓｶ","女",null,1]
[319,42088,"武井","真子","ﾀｹｲ","ﾏｺ","女",null,1]
[320,42128,"清水","功市","ｼﾐｽﾞ","ｺｳｲﾁ","男",null,3]
[321,42129,"西崎","礼胤","ﾆｼｻﾞｷ","ﾚｲ","男",null,3]
[322,42130,"宮田","瑞樹","ﾐﾔﾀ","ﾐｽﾞｷ","男",null,3]
[323,42131,"浅川","峻太朗","ｱｻｶﾜ","ｼｭﾝﾀﾛｳ","男",null,2]
[324,42132,"阿部","隼士","ｱﾍﾞ","ｼｭﾝｼ","男",null,2]
[325,42133,"石川","洸太","ｲｼｶﾜ","ｺｳﾀ","男",null,2]
[326,42134,"恩田","大地","ｵﾝﾀﾞ","ﾀﾞｲﾁ","男",null,2]
[327,42135,"佐藤","舞音","ｻﾄｳ","ﾏｵ","男",null,2]
[328,42138,"雨宮","亮","ｱﾒﾐﾔ","ﾘｮｳ","男",null,2]
[329,42139,"岩﨑","優貴","ｲﾜｻｷ","ﾕｳｷ","男",null,1]
[330,42140,"伊藤","碧透","ｲﾄｳ","ｱｵﾄ","男",null,2]
[331,42141,"小野木","秀","ｵﾉｷﾞ","ｼｭｳ","男",null,2]
[332,42163,"内間","千晴","ｳﾁﾏ","ﾁﾊﾙ","女",null,3]
[333,42164,"小野塚","水希","ｵﾉﾂﾞｶ","ﾐｽﾞｷ","女",null,3]
[334,42166,"新開","梨絵","ｼﾝｶｲ","ﾘｴ","女",null,3]
[335,42167,"今井","歩美","ｲﾏｲ","ｱﾕﾐ","女",null,3]
[336,42168,"梅原","瑞生","ｳﾒﾊﾗ","ﾐｽﾞｷ","女",null,3]
[337,42171,"佐藤","眞衣子","ｻﾄｳ","ﾏｲｺ","女",null,2]
[338,42172,"中島","透子","ﾅｶｼﾞﾏ","ﾄｳｺ","女",null,2]
[339,42173,"赤峰","実栞","ｱｶﾐﾈ","ﾐｶﾝ","女",null,1]
[340,42174,"髙木","咲希","ﾀｶｷﾞ","ｻｷ","女",null,1]
[341,42175,"村山","モモ","ﾑﾗﾔﾏ","ﾓﾓ","女",null,1]
[342,42176,"川原","里穂","ｶﾜﾊﾗ","ﾘﾎ","女",null,1]
[343,42206,"山崎","皇司郎","ﾔﾏｻｷ","ｺｳｼﾛｳ","男",null,3]
[344,42207,"岩本","匡史","ｲﾜﾓﾄ","ﾏｻｼ","男",null,3]
[345,42211,"中平","葵","ﾅｶﾋﾗ","ﾏﾓﾙ","男",null,3]
[346,42214,"赤坂","恵祐","ｱｶｻｶ","ｹｲｽｹ","男",null,2]
[347,42215,"天野","修吾","ｱﾏﾉ","ｼｭｳｺﾞ","男",null,2]
[348,42216,"石田","慶","ｲｼﾀﾞ","ｹｲ","男",null,2]
[349,42217,"井原","健太","ｲﾊﾗ","ｹﾝﾀ","男",null,2]
[350,42218,"生方","涼太","ｳﾌﾞｶﾀ","ﾘｮｳﾀ","男",null,2]
[351,42219,"岡部","逸巳","ｵｶﾍﾞ","ｲﾂﾞﾐ","男",null,2]
[352,42220,"小高","拓巳","ｵﾀﾞｶ","ﾀｸﾐ","男",null,2]
[353,42221,"川久保","樹","ｶﾜｸﾎﾞ","ｲﾂｷ","男",null,2]
[354,42222,"津村","恵太郎","ﾂﾑﾗ","ｹｲﾀﾛｳ","男",null,2]
[355,42223,"徳永","海土","ﾄｸﾅｶﾞ","ｶｲﾄ","男",null,2]
[356,42224,"豊田","優喜","ﾄﾖﾀﾞ","ﾕｳｷ","男",null,2]
[357,42225,"平松","泰樹","ﾋﾗﾏﾂ","ﾀｲｷ","男",null,2]
[358,42226,"松本","隆太郎","ﾏﾂﾓﾄ","ﾘｭｳﾀﾛｳ","男",null,2]
[359,42227,"若林","直季","ﾜｶﾊﾞﾔｼ","ﾅｵｷ","男",null,2]
[360,42228,"江尾","祐哉","ｴﾋﾞ","ﾕｳﾔ","男",null,1]
[361,42229,"大川","虎之介","ｵｵｶﾜ","ﾄﾗﾉｽｹ","男",null,1]
[362,42230,"川原","慧也","ｶﾜﾊﾗ","ｹｲﾔ","男",null,1]
[363,42231,"久保","洸太朗","ｸﾎﾞ","ｺｳﾀﾛｳ","男",null,1]
[364,42232,"須磨","健太郎","ｽﾏ","ｹﾝﾀﾛｳ","男",null,1]
[365,42233,"高橋","温人","ﾀｶﾊｼ","ﾊﾙﾄ","男",null,1]
[366,42234,"高見","勇希","ﾀｶﾐ","ﾕｳｷ","男",null,1]
[367,42235,"竹下","寛人","ﾀｹｼﾀ","ﾋﾛﾄ","男",null,1]
[368,42236,"田辺","航輝","ﾀﾅﾍﾞ","ｺｳｷ","男",null,1]
[369,42237,"舟木","大地","ﾌﾅｷ","ﾀﾞｲﾁ","男",null,1]
[370,42238,"松本","将太","ﾏﾂﾓﾄ","ｼｮｳﾀ","男",null,1]
[371,42486,"沖田","佳穗","ｵｷﾀ","ｶﾎ","女",null,3]
[372,42488,"富永","真央","ﾄﾐﾅｶﾞ","ﾏｵ","女",null,3]
[373,42490,"丸山","香菜子","ﾏﾙﾔﾏ","ｶﾅｺ","女",null,3]
[374,42491,"山下","葵","ﾔﾏｼﾀ","ｱｵｲ","女",null,3]
[375,42492,"荒木","那月","ｱﾗｷ","ﾅﾂｷ","女",null,2]
[376,42493,"石山","友衣","ｲｼﾔﾏ","ﾕｲ","女",null,2]
[377,42494,"髙橋","紀子","ﾀｶﾊｼ","ﾉﾘｺ","女",null,2]
[378,42495,"鳥越","瑞生","ﾄﾘｺﾞｴ","ﾐｽﾞｷ","女",null,2]
[379,42496,"矢野","梨織","ﾔﾉ","ﾘｵ","女",null,2]
[380,42497,"田崎","澪","ﾀｻｷ","ﾚｲ","女",null,1]
[381,42498,"西田","雪花","ﾆｼﾀﾞ","ﾕｷｶ","女",null,1]
[382,42499,"橋本","莉奈","ﾊｼﾓﾄ","ﾘﾅ","女",null,1]
[383,42501,"青木","心海","ｱｵｷ","ﾐｳ","男",null,2]
[384,42502,"合田","篤慶","ｺﾞｳﾀﾞ","ｱﾂﾉﾘ","男",null,2]
[385,42503,"関口","遥希","ｾｷｸﾞﾁ","ﾊﾙｷ","男",null,2]
[386,42504,"冨永","響樹","ﾄﾐﾅｶﾞ","ﾋﾋﾞｷ","男",null,2]
[387,42510,"白澤","隼祐","ｼﾗｻﾜ","ｼｭﾝｽｹ","男",null,3]
[388,42520,"相澤","侑我","ｱｲｻﾞﾜ","ﾕｳｶﾞ","男",null,1]
[389,42521,"赤久保","晴樹","ｱｶｸﾎﾞ","ﾊﾙｷ","男",null,1]
[390,42522,"岩垂","樹","ｲﾜﾀﾞﾚ","ﾀﾂｷ","男",null,1]
[391,42523,"金井","蒼汰","ｶﾅｲ","ｿｳﾀ","男",null,1]
[392,42524,"田中","陽尊","ﾀﾅｶ","ﾊﾙﾀｶ","男",null,1]
[393,42525,"成田","良道","ﾅﾘﾀ","ﾖｼﾐﾁ","男",null,1]
[394,42526,"大久保","利宏","ｵｵｸﾎﾞ","ﾄｼﾋﾛ","男",null,1]
[395,42550,"髙田","里々子","ﾀｶﾀﾞ","ﾘﾘｺ","女",null,1]
[396,42551,"外山","純麗","ﾄﾔﾏ","ｽﾐﾚ","女",null,1]
[397,42552,"日向","万由子","ﾋﾅﾀ","ﾏﾕｺ","女",null,1]
[398,42553,"村田","里美","ﾑﾗﾀ","ｻﾄﾐ","女",null,1]
[399,42554,"佐藤","麻里亜","ｻﾄｳ","ﾏﾘｱ","女",null,1]
[400,42560,"高田","夏子","ﾀｶﾀ","ﾅﾂｺ","女",null,3]
[401,42561,"丸岡","由莉絵","ﾏﾙｵｶ","ﾕﾘｴ","女",null,3]
[402,42564,"泰樂","千紘","ﾀｲﾗｸ","ﾁﾋﾛ","女",null,3]
[403,42570,"野田","一華","ﾉﾀﾞ","ｲﾁｶ","女",null,2]
[404,42816,"蒔田","翔吾","ﾏｷﾀ","ｼｮｳｺﾞ","男",null,3]
[405,42824,"片山","健","ｶﾀﾔﾏ","ﾀｹﾙ","男",null,3]
[406,42825,"柴田","拓馬","ｼﾊﾞﾀ","ﾀｸﾏ","男",null,2]
[407,42826,"笠原","晴輝","ｶｻﾊﾗ","ﾊﾙｷ","男",null,2]
[408,42827,"上路","達也","ｳｴｼﾞ","ﾀﾂﾔ","男",null,2]
[409,42828,"鳴嶋","大朗","ﾅﾙｼﾏ","ﾀﾛｳ","男",null,2]
[410,42829,"小島","知大","ｺｼﾞﾏ","ﾄﾓﾋﾛ","男",null,2]
[411,42830,"上田","礼一","ｳｴﾀﾞ","ﾚｲｲﾁ","男",null,2]
[412,42831,"松井","大悟","ﾏﾂｲ","ﾀﾞｲｺﾞ","男",null,2]
[413,42832,"佐藤","駿ノ佑","ｻﾄｳ","ｼｭﾝﾉｽｹ","男",null,2]
[414,42833,"矢田部","祐爾","ﾔﾀﾍﾞ","ﾕｳｼﾞ","男",null,1]
[415,42834,"川畑","陽平","ｶﾜﾊﾞﾀ","ﾖｳﾍｲ","男",null,1]
[416,42835,"谷口","隼太","ﾀﾆｸﾞﾁ","ﾊﾔﾀ","男",null,1]
[417,42836,"毛利","丈瑠","ﾓｳﾘ","ﾀｹﾙ","男",null,1]
[418,42837,"一瀬","敦大","ｲﾁﾉｾ","ｱﾂﾋﾛ","男",null,1]
[419,42838,"小林","紳一","ｺﾊﾞﾔｼ","ｼﾝｲﾁ","男",null,1]
[420,42839,"吉岡","達哉","ﾖｼｵｶ","ﾀﾂﾔ","男",null,1]
[421,42840,"能勢","英伸","ﾉｾ","ﾋﾃﾞﾉﾌﾞ","男",null,1]
[422,42841,"片岡","祐貴","ｶﾀｵｶ","ﾕｳｷ","男",null,1]
[423,42842,"永田","柊弥","ﾅｶﾞﾀ","ﾖｳﾔ","男",null,1]
[424,43001,"遠藤","雅也","ｴﾝﾄﾞｳ","ﾏｻﾔ","男",null,3]
[425,43002,"平田","瑶","ﾋﾗﾀ","ﾖｳ","男",null,3]
[426,43003,"上海","誠志","ｼﾞｮｳｶｲ","ｾｲｼﾞ","男",null,3]
[427,43005,"捧","幸一郎","ｻｻｹﾞ","ｺｳｲﾁﾛｳ","男",null,3]
[428,43006,"西山","鷹二","ﾆｼﾔﾏ","ﾖｳｼﾞ","男",null,3]
[429,43007,"サカラ","ダリソ","ｻｶﾗ","ﾀﾞﾘｿ","男",null,3]
[430,43008,"藤尾","高寛","ﾌｼﾞｵ","ﾀｶﾋﾛ","男",null,3]
[431,43010,"菊池","浩平","ｷｸﾁ","ｺｳﾍｲ","男",null,2]
[432,43011,"持田","真希","ﾓﾁﾀﾞ","ﾏｻｷ","男",null,2]
[433,43012,"後藤","潤","ｺﾞﾄｳ","ｼﾞｭﾝ","男",null,1]
[434,43013,"瀬川","隼悠","ｾｶﾞﾜ","ﾊﾔﾕｷ","男",null,1]
[435,43201,"松本","共喜","ﾏﾂﾓﾄ","ﾄﾓｷ","男",null,3]
[436,43202,"青柳","駿之介","ｱｵﾔｷﾞ","ｼｭﾝﾉｽｹ","男",null,3]
[437,43203,"秋葉","晃佑","ｱｷﾊﾞ","ｺｳｽｹ","男",null,1]
[438,43255,"正野","りえ","ﾏｻﾉ","ﾘｴ","女",null,3]
[439,43258,"森山","華桜","ﾓﾘﾔﾏ","ｶｵｳ","女",null,1]
[440,43259,"梶原","莉子","ｶｼﾞﾜﾗ","ﾘｺ","女",null,1]
[441,43301,"數野","大樹","ｶｽﾞﾉ","ﾋﾛｷ","男",null,2]
[442,43302,"直井","優弥","ﾅｵｲ","ﾕｳﾔ","男",null,2]
[443,43303,"関","和貴","ｾｷ","ｶｽﾞｷ","男",null,2]
[444,43304,"足達","栄信","ｱﾀﾞﾁ","ｼｹﾞﾉﾌﾞ","男",null,2]
[445,43305,"石塚","理暉","ｲｼﾂﾞｶ","ﾘｷ","男",null,2]
[446,43306,"土屋","鼓太郎","ﾂﾁﾔ","ｺﾀﾛｳ","男",null,2]
[447,43307,"伊藤","誠真","ｲﾄｳ","ｾｲﾏ","男",null,2]
[448,43309,"下田","真生","ｼﾓﾀﾞ","ﾏｵ","男",null,1]
[449,43309,"高柳","直温","ﾀｶﾔﾅｷﾞ","ﾅｵﾏｻ","男",null,2]
[450,43310,"滝上","知大","ﾀｷｶﾞﾐ","ﾄﾓﾋﾛ","男",null,1]
[451,43311,"守安","勇人","ﾓﾘﾔｽ","ﾊﾔﾄ","男",null,1]
[452,43312,"高橋","悠馬","ﾀｶﾊｼ","ﾕｳﾏ","男",null,1]
[453,43313,"小林","秀彰","ｺﾊﾞﾔｼ","ﾋﾃﾞｱｷ","男",null,1]
[454,43314,"小西","璃空","ｺﾆｼ","ﾘｸ","男",null,1]
[455,43318,"橋川","颯","ﾊｼｶﾜ","ｿｳ","男",null,1]
[456,43319,"松島","幸平","ﾏﾂｼﾏ","ｺｳﾍｲ","男",null,1]
[457,43320,"久保田","結都","ｸﾎﾞﾀ","ﾕｲﾄ","男",null,1]
[458,43321,"篠原","慧","ｼﾉﾊﾗ","ｻﾄｼ","男",null,1]
[459,43333,"辻","邦雄","ﾂｼﾞ","ｸﾆｵ","男",null,3]
[460,43334,"三輪","友誠","ﾐﾜ","ﾕｳｾｲ","男",null,3]
[461,43335,"佐川","涼哉","ｻｶﾞﾜ","ﾘｮｳﾔ","男",null,3]
[462,43336,"山辺","太嗣","ﾔﾏﾍﾞ","ﾀｲｼ","男",null,3]
[463,43337,"花澤","松之輔","ﾊﾅｻﾞﾜ","ｼｮｳﾉｽｹ","男",null,3]
[464,43338,"荻野","友也","ｵｷﾞﾉ","ﾄﾓﾔ","男",null,3]
[465,43339,"野田","理央","ﾉﾀﾞ","ﾘｵ","男",null,3]
[466,43340,"平沢","竜介","ﾋﾗｻﾜ","ﾘｭｳｽｹ","男",null,3]
[467,43341,"本間","光","ﾎﾝﾏ","ﾋｶﾙ","男",null,3]
[468,43343,"山本","雄貴","ﾔﾏﾓﾄ","ﾕｳｷ","男",null,3]
[469,43344,"村尾","優介","ﾑﾗｵ","ﾕｳｽｹ","男",null,3]
[470,43363,"木下","彩花","ｷﾉｼﾀ","ｱﾔｶ","女",null,3]
[471,43364,"篠﨑","夕記望","ｼﾉｻﾞｷ","ﾕｷﾐ","女",null,3]
[472,43366,"長谷川","彩佳","ﾊｾｶﾞﾜ","ｱﾔｶ","女",null,2]
[473,43367,"大川戸","香織","ｵｵｶﾜﾄﾞ","ｶｵﾘ","女",null,2]
[474,43368,"東浦","芽以","ﾋｶﾞｼｳﾗ","ﾒｲ","女",null,2]
[475,43369,"松永","萌子","ﾏﾂﾅｶﾞ","ﾓｴｺ","女",null,2]
[476,43370,"大原","和奏","ｵｵﾊﾗ","ﾜｶﾅ","女",null,2]
[477,43371,"田村","花奈","ﾀﾑﾗ","ｶﾅ","女",null,1]
[478,43372,"枝元","彩花","ｴﾀﾞﾓﾄ","ｱﾔｶ","女",null,1]
[479,43373,"根本","聖唯佳","ﾈﾓﾄ","ｾｲｶ","女",null,1]
[480,43374,"野口","日菜多","ﾉｸﾞﾁ","ﾋﾅﾀ","女",null,1]
[481,43375,"永島","未晴","ﾅｶﾞｼﾏ","ﾐﾊﾙ","女",null,1]
[482,43376,"吉川","穂香","ｷｯｶﾜ","ﾎﾉｶ","女",null,1]
[483,43415,"重岡","周","ｼｹﾞｵｶ","ｼｭｳ","男",null,3]
[484,43416,"柴田","優太郎","ｼﾊﾞﾀ","ﾕｳﾀﾛｳ","男",null,3]
[485,43417,"高橋","滉利","ﾀｶﾊｼ","ｱｷﾄ","男",null,3]
[486,43418,"平田","拓輝","ﾋﾗﾀ","ﾀｸｷ","男",null,3]
[487,43419,"久保","法揮","ｸﾎﾞ","ﾉﾘｷ","男",null,3]
[488,43421,"根岸","航汰","ﾈｷﾞｼ","ｺｳﾀ","男",null,3]
[489,43422,"堀江","優太郎","ﾎﾘｴ","ﾕｳﾀﾛｳ","男",null,3]
[490,43424,"池永","海","ｲｹﾅｶﾞ","ｶｲ","男",null,3]
[491,43426,"東田","啓汰","ﾋｶﾞｼﾀﾞ","ｹｲﾀ","男",null,1]
[492,43427,"富塚","健太","ﾄﾐﾂﾞｶ","ｹﾝﾀ","男",null,1]
[493,43428,"中西","仁","ﾅｶﾆｼ","ｼﾞﾝ","男",null,1]
[494,43429,"増田","優斗","ﾏｽﾀﾞ","ﾕｳﾄ","男",null,1]
[495,43430,"宗田","佳典","ﾑﾈﾀ","ﾖｼﾉﾘ","男",null,1]
[496,43451,"神田","葵子","ｶﾝﾀﾞ","ｱｵｲｺ","女",null,1]
[497,43452,"澤井","怜音","ｻﾜｲ","ﾚｵﾝ","女",null,1]
[498,43453,"松浦","愛莉","ﾏﾂｳﾗ","ｱｲﾘ","女",null,1]
[499,43551,"河田","早織","ｶﾜﾀ","ｻｵﾘ","女",null,3]
[500,43552,"北山","奈々夏","ｷﾀﾔﾏ","ﾅﾅｶ","女",null,3]
[501,43553,"名倉","真美","ﾅｸﾞﾗ","ﾏﾐ","女",null,3]
[502,43554,"西野","もゆる","ﾆｼﾉ","ﾓﾕﾙ","女",null,3]
[503,43555,"熊谷","遥未","ｸﾏｶﾞｴ","ﾊﾙﾐ","女",null,2]
[504,43556,"合田","佳乃","ｺﾞｳﾀﾞ","ｶﾉ","女",null,2]
[505,43557,"原","彩実","ﾊﾗ","ｱﾔﾐ","女",null,2]
[506,43558,"佐藤","心実","ｻﾄｳ","ﾐﾉﾘ","女",null,1]
[507,43651,"渡邉","こはく","ﾜﾀﾅﾍﾞ","ｺﾊｸ","女",null,1]
[508,43685,"篠原","瑞季","ｼﾉﾊﾗ","ﾐｽﾞｷ","女",null,3]
[509,43686,"信時","史佳","ﾉﾌﾞﾄｷ","ﾌﾐｶ","女",null,3]
[510,43687,"阿部","月姫","ｱﾍﾞ","ﾂｷﾒ","女",null,2]
[511,43688,"上原","夕季","ｳｴﾊﾗ","ﾕｷ","女",null,2]
[512,43689,"浦野","美和","ｳﾗﾉ","ﾐﾜ","女",null,2]
[513,43690,"佐藤","涼香","ｻﾄｳ","ｽｽﾞｶ","女",null,2]
[514,43691,"久島","美代子","ﾋｻｼﾞﾏ","ﾐﾖｺ","女",null,2]
[515,43694,"小林","花恋","ｺﾊﾞﾔｼ","ｶﾚﾝ","女",null,2]
[516,43695,"鈴木","紗奈","ｽｽﾞｷ","ｻﾅ","女",null,1]
[517,43696,"大久保","瀬奈","ｵｵｸﾎﾞ","ｾﾅ","女",null,1]
[518,43697,"空閑","ななみ","ｸｶﾞ","ﾅﾅﾐ","女",null,1]
[519,43698,"細野","あいり","ﾎｿﾉ","ｱｲﾘ","女",null,1]
[520,43699,"武藤","萌果","ﾑﾄｳ","ﾓｶ","女",null,1]
[521,43702,"岩田","拓樹","ｲﾜﾀ","ﾋﾛｷ","男",null,3]
[522,43704,"山﨑","大史","ﾔﾏｻｷ","ﾀｲｼ","男",null,3]
[523,43705,"仲眞","慈晏","ﾅｶﾏ","ｼﾞｱﾝ","男",null,3]
[524,43706,"大賀","グレゴリードーネル","ｵｵｶﾞ","ｸﾞﾚｺﾞﾘｰﾄﾞｰﾈﾙ","男",null,3]
[525,43707,"阿部","秀友希","ｱﾍﾞ","ﾋﾃﾞﾕｷ","男",null,3]
[526,43708,"小池","太一","ｺｲｹ","ﾀｲﾁ","男",null,3]
[527,43710,"北島","翔","ｷﾀｼﾞﾏ","ｶｹﾙ","男",null,3]
[528,43711,"沼田","直宏","ﾇﾏﾀ","ﾅｵﾋﾛ","男",null,3]
[529,43712,"杉山","友祥","ｽｷﾞﾔﾏ","ﾄﾓﾖｼ","男",null,3]
[530,43719,"本木","颯人","ﾓﾄｷ","ﾊﾔﾄ","男",null,1]
[531,43720,"田中","真偉人","ﾀﾅｶ","ﾏｲﾄ","男",null,1]
[532,43721,"塚田","濯","ﾂｶﾀﾞ","ｱﾛｳ","男",null,1]
[533,43801,"河野","真輝","ｺｳﾉ","ﾏｻｷ","男",null,1]
[534,43802,"飯塚","亮太","ｲｲﾂﾞｶ","ﾘｮｳﾀ","男",null,1]
[535,43818,"平山","和樹","ﾋﾗﾔﾏ","ｶｽﾞｷ","男",null,3]
[536,43819,"隈本","主計","ｸﾏﾓﾄ","ｶｽﾞｴ","男",null,3]
[537,43820,"宮川","悠汰","ﾐﾔｶﾞﾜ","ﾕｳﾀ","男",null,3]
[538,43821,"小代","智央","ｵｼﾞﾛ","ﾄﾓﾋﾛ","男",null,3]
[539,43822,"飯野","律希","ｲｲﾉ","ﾘﾂｷ","男",null,3]
[540,43824,"折田","大和","ｵﾘﾀ","ﾋﾛｶｽﾞ","男",null,3]
[541,43826,"丹羽","純平","ﾆﾜ","ｼﾞｭﾝﾍﾟｲ","男",null,3]
[542,43827,"今野","陽太","ｺﾝﾉ","ﾖｳﾀ","男",null,2]
[543,43828,"米澤","快人","ﾖﾈｻﾞﾜ","ｶｲﾄ","男",null,2]
[544,43829,"浅井","駿来","ｱｻｲ","ｶｹﾙ","男",null,2]
[545,43830,"小板橋","拳介","ｺｲﾀﾊﾞｼ","ｹﾝｽｹ","男",null,2]
[546,43831,"東","海斗","ﾋｶﾞｼ","ｶｲﾄ","男",null,2]
[547,43832,"小島","圭悟","ｺｼﾞﾏ","ｹｲｺﾞ","男",null,2]
[548,43833,"増田","功太郎","ﾏｽﾀﾞ","ｺｳﾀﾛｳ","男",null,2]
[549,43834,"松井","琢巳","ﾏﾂｲ","ﾀｸﾐ","男",null,2]
[550,43836,"吉澤","采佑","ﾖｼｻﾞﾜ","ｻｽｹ","男",null,2]
[551,43838,"野口","透","ﾉｸﾞﾁ","ﾄｵﾙ","男",null,2]
[552,43839,"伊藤","英助","ｲﾄｳ","ｴｲｽｹ","男",null,2]
[553,43841,"青木","智哉","ｱｵｷ","ﾄﾓﾔ","男",null,2]
[554,43842,"金本","昌樹","ｶﾈﾓﾄ","ﾏｻｷ","男",null,1]
[555,43843,"政田","幸輝","ﾏｻﾀﾞ","ｺｳｷ","男",null,1]
[556,43844,"和田","知樹","ﾜﾀﾞ","ﾄﾓｷ","男",null,1]
[557,43845,"上田","真基人","ｳｴﾀﾞ","ﾏｷﾄ","男",null,1]
[558,43846,"澤永","直毅","ｻﾜﾅｶﾞ","ﾅｵｷ","男",null,1]
[559,43847,"下田","礼稀","ｼﾓﾀﾞ","ﾗｲｷ","男",null,1]
[560,43848,"宮川","航","ﾐﾔｶﾞﾜ","ﾜﾀﾙ","男",null,1]
[561,43849,"芦川","魁星","ｱｼｶﾜ","ｶｲｾｲ","男",null,1]
[562,43850,"菅谷","雄大","ｽｶﾞﾔ","ﾕｳﾀﾞｲ","男",null,1]
[563,43873,"加藤","ゆらら","ｶﾄｳ","ﾕﾗﾗ","女",null,3]
[564,43875,"佐田","百子","ｻﾀﾞ","ﾓﾓｺ","女",null,3]
[565,43876,"中田","佳菜美","ﾅｶﾀ","ｶﾅﾐ","女",null,3]
[566,43877,"竹内","優絵","ﾀｹｳﾁ","ﾕｴ","女",null,3]
[567,43879,"井澤","弥紀","ｲｻﾜ","ﾐﾉﾘ","女",null,3]
[568,43880,"並木","理紗","ﾅﾐｷ","ﾘｻ","女",null,3]
[569,43881,"川村","優佳","ｶﾜﾑﾗ","ﾕｳｶ","女",null,2]
[570,43882,"君塚","早","ｷﾐﾂﾞｶ","ｻｷ","女",null,2]
[571,43883,"山嵜","素音","ﾔﾏｻﾞｷ","ﾓﾈ","女",null,2]
[572,43884,"片岡","千咲","ｶﾀｵｶ","ﾁｻｷ","女",null,2]
[573,43885,"栗谷","佳奈","ｸﾘﾀﾆ","ｶﾅ","女",null,2]
[574,43887,"浅井","理紗子","ｱｻｲ","ﾘｻｺ","女",null,2]
[575,43888,"山﨑","真美","ﾔﾏｻﾞｷ","ﾏﾐ","女",null,1]
[576,43889,"石田","夏帆","ｲｼﾀﾞ","ｶﾎ","女",null,1]
[577,43890,"上野","楓","ｳｴﾉ","ｶｴﾃﾞ","女",null,1]
[578,43891,"和知","美郷","ﾜﾁ","ﾐｻﾄ","女",null,1]
[579,43892,"吉澤","りち","ﾖｼｻﾞﾜ","ﾘﾁ","女",null,1]
[580,43893,"杉山","日菜","ｽｷﾞﾔﾏ","ﾋﾅ","女",null,1]
[581,43894,"新谷","舞子","ﾆｲﾔ","ﾏｲｺ","女",null,1]
[582,43895,"渡辺","祐衣","ﾜﾀﾅﾍﾞ","ﾕｲ","女",null,1]
[583,43896,"土倉","凜々","ﾄｸﾗ","ﾘﾘ","女",null,1]
[584,43922,"野口","悠人","ﾉｸﾞﾁ","ﾕｳﾄ","男",null,3]
[585,43926,"西村","友汰","ﾆｼﾑﾗ","ﾕｳﾀ","男",null,3]
[586,43928,"荒川","弘己","ｱﾗｶﾜ","ﾋﾛｷ","男",null,1]
[587,43930,"大野","航輝","ｵｵﾉ","ｺｳｷ","男",null,2]
[588,43932,"薩摩","定士","ｻﾂﾏ","ｻﾀﾞﾋﾄ","男",null,2]
[589,43933,"中尾","亮介","ﾅｶｵ","ﾘｮｳｽｹ","男",null,2]
[590,43934,"森口","遼太","ﾓﾘｸﾞﾁ","ﾘｮｳﾀ","男",null,2]
[591,43936,"瓜生","慶登","ｳﾘｳ","ｹｲﾄ","男",null,1]
[592,43937,"榎島","直毅","ｴﾉｼﾏ","ﾅｵｷ","男",null,1]
[593,43938,"狩野","晃寿","ｶﾉｳ","ﾃﾙﾄｼ","男",null,1]
[594,43939,"神田","笙吾","ｶﾝﾀﾞ","ｼｮｳｺﾞ","男",null,1]
[595,43940,"伊藤","大翔","ｲﾄｳ","ﾋﾛﾄ","男",null,1]
[596,43941,"中山","英寿","ﾅｶﾔﾏ","ﾋﾃﾞﾄｼ","男",null,1]
[597,43942,"嶺井","俊","ﾐﾈｲ","ｼｭﾝ","男",null,1]
[598,43943,"磯部","陸","ｲｿﾍﾞ","ﾘｸ","男",null,1]
[599,43944,"大沼","朋樹","ｵｵﾇﾏ","ﾄﾓｷ","男",null,1]
[600,43945,"田辺","英寿","ﾀﾅﾍﾞ","ﾋﾃﾞﾄｼ","男",null,1]
[601,43946,"藤井","大海","ﾌｼﾞｲ","ﾋﾛﾐ","男",null,1]
[602,44116,"片岡","寿憲","ｶﾀｵｶ","ﾋｻﾄｼ","男",null,3]
[603,44117,"甲木","彪太郎","ｶﾂｷ","ﾄﾗﾀﾛｳ","男",null,3]
[604,44118,"甲木","悠太郎","ｶﾂｷ","ﾕｳﾀﾛｳ","男",null,3]
[605,44120,"田中","陽星","ﾀﾅｶ","ﾖｳｾｲ","男",null,3]
[606,44122,"室山","怜太","ﾑﾛﾔﾏ","ﾘｮｳﾀ","男",null,3]
[607,44124,"佐藤","壮多","ｻﾄｳ","ｿｳﾀ","男",null,2]
[608,44125,"髙柳","勲平","ﾀｶﾔﾅｷﾞ","ｸﾝﾍﾟｲ","男",null,2]
[609,44126,"谷口","南月","ﾀﾆｸﾞﾁ","ﾅﾂｷ","男",null,2]
[610,44128,"菊池","光祐","ｷｸﾁ","ｺｳｽｹ","男",null,1]
[611,44151,"石黒","利奈","ｲｼｸﾞﾛ","ﾘﾅ","女",null,2]
[612,44152,"木暮","知佳","ｺｸﾞﾚ","ﾁｶ","女",null,2]
[613,44153,"永島","沙羅","ﾅｶﾞｼﾏ","ｻﾗ","女",null,2]
[614,44154,"山田","樹里","ﾔﾏﾀﾞ","ｼﾞｭﾘ","女",null,2]
[615,44155,"木村","真実","ｷﾑﾗ","ﾏﾐ","女",null,2]
[616,44156,"大原","せい","ｵｵﾊﾗ","ｾｲ","女",null,2]
[617,44158,"岩本","鈴音","ｲﾜﾓﾄ","ﾘﾝ","女",null,1]
[618,44159,"大井川","和心","ｵｵｲｶﾞﾜ","ﾋﾄﾐ","女",null,1]
[619,44160,"加藤","多笑","ｶﾄｳ","ﾀｴ","女",null,1]
[620,44161,"栗原","唯","ｸﾘﾊﾗ","ﾕｲ","女",null,1]
[621,44162,"杉﨑","千亜希","ｽｷﾞｻﾞｷ","ﾁｱｷ","女",null,1]
[622,44163,"日改","理加","ﾋｶﾞｲ","ﾘｶ","女",null,1]
[623,44164,"山田","千尋","ﾔﾏﾀﾞ","ﾁﾋﾛ","女",null,1]
[624,44196,"大澤","実紗","ｵｵｻﾜ","ﾐｻ","女",null,3]
[625,44197,"小熊","純月","ｵｸﾞﾏ","ｼﾂﾞｷ","女",null,3]
[626,44198,"田島","史織","ﾀｼﾞﾏ","ｼｵﾘ","女",null,3]
[627,44351,"宮本","愛美","ﾐﾔﾓﾄ","ﾏﾅﾐ","女",null,2]
[628,44404,"岡部","弘祐","ｵｶﾍﾞ","ｺｳｽｹ","男",null,3]
[629,44405,"吉澤","一馬","ﾖｼｻﾞﾜ","ｶｽﾞﾏ","男",null,2]
[630,44406,"土岐","建介","ﾄｷ","ｹﾝｽｹ","男",null,3]
[631,44407,"坂木","幹","ｻｶｷ","ﾐｷ","男",null,3]
[632,44408,"江川","国男","ｴｶﾞﾜ","ｸﾆｵ","男",null,3]
[633,44409,"小楠","陸斗","ｵｸﾞｽ","ﾘｸﾄ","男",null,3]
[634,44410,"田口","利希","ﾀｸﾞﾁ","ﾘｷ","男",null,2]
[635,44411,"駒野","祐大","ｺﾏﾉ","ﾕｳﾀﾞｲ","男",null,2]
[636,44412,"土屋","瑛輝","ﾂﾁﾔ","ｴｲｷ","男",null,2]
[637,44413,"鈴木","朴哉","ｽｽﾞｷ","ﾅｵﾔ","男",null,1]
[638,44414,"浅井","竜也","ｱｻｲ","ﾀﾂﾔ","男",null,1]
[639,44415,"藤嶋","凌大","ﾌｼﾞｼﾏ","ﾘｮｳﾀ","男",null,1]
[640,44449,"長谷川","智一","ﾊｾｶﾞﾜ","ﾄﾓｶｽﾞ","男",null,2]
[641,44450,"堀口","大輔","ﾎﾘｸﾞﾁ","ﾀﾞｲｽｹ","男",null,2]
[642,44451,"梅沢","萌々香","ｳﾒｻﾞﾜ","ﾓﾓｶ","女",null,1]
[643,44452,"下村","倫子","ｼﾓﾑﾗ","ﾘﾝｺ","女",null,1]
[644,44453,"大塚","悠歌","ｵｵﾂｶ","ﾊﾙｶ","女",null,1]
[645,44454,"後藤","真渚","ｺﾞﾄｳ","ﾏﾅ","女",null,1]
[646,44455,"吉島","さくら","ﾖｼｼﾞﾏ","ｻｸﾗ","女",null,1]
[647,44456,"島田","彩希","ｼﾏﾀﾞ","ｻｷ","女",null,1]
[648,44483,"山本","涼乃","ﾔﾏﾓﾄ","ｽｽﾞﾉ","女",null,3]
[649,44484,"丹羽","祐美子","ﾆﾜ","ﾕﾐｺ","女",null,3]
[650,44485,"山崎","莉歩","ﾔﾏｻﾞｷ","ﾘﾎ","女",null,3]
[651,44486,"小池","千加奈","ｺｲｹ","ﾁｶﾅ","女",null,3]
[652,44487,"石垣","亜由美","ｲｼｶﾞｷ","ｱﾕﾐ","女",null,3]
[653,44488,"井上","海南子","ｲﾉｳｴ","ﾐﾅｺ","女",null,3]
[654,44490,"鈴木","慧","ｽｽﾞｷ","ｹｲ","女",null,3]
[655,44491,"大久保","綺更","ｵｵｸﾎﾞ","ｷｻﾗ","女",null,2]
[656,44492,"渡辺","里美","ﾜﾀﾅﾍﾞ","ﾘﾐ","女",null,2]
[657,44493,"大和田","泉","ｵｵﾜﾀﾞ","ｲｽﾞﾐ","女",null,2]
[658,44494,"村上","芽依","ﾑﾗｶﾐ","ﾒｲ","女",null,2]
[659,44495,"藤原","愛佳","ﾌｼﾞﾜﾗ","ｱｲｶ","女",null,2]
[660,44496,"佐田","陽菜","ｻﾀﾞ","ﾋﾅ","女",null,2]
[661,44497,"中野","治香","ﾅｶﾉ","ﾊﾙｶ","女",null,2]
[662,44498,"伊藤","楓","ｲﾄｳ","ｶｴﾃﾞ","女",null,1]
[663,44499,"中山","花月","ﾅｶﾔﾏ","ﾊﾅﾂｷ","女",null,1]
[664,44501,"石曽根","亮","ｲｼｿﾞﾈ","ﾘｮｳ","男",null,3]
[665,44502,"榎本","翼","ｴﾉﾓﾄ","ﾂﾊﾞｻ","男",null,3]
[666,44503,"小野","健太郎","ｵﾉ","ｹﾝﾀﾛｳ","男",null,3]
[667,44504,"澁川","凌","ｼﾌﾞｶﾜ","ﾘｮｳ","男",null,3]
[668,44506,"野木","幸輔","ﾉｷﾞ","ｺｳｽｹ","男",null,3]
[669,44507,"布留川","竜矢","ﾌﾙｶﾜ","ﾘｭｳﾔ","男",null,3]
[670,44508,"浅井","拓途","ｱｻｲ","ﾀｸﾄ","男",null,3]
[671,44509,"梅田","優真","ｳﾒﾀﾞ","ﾕｳﾏ","男",null,2]
[672,44510,"後藤","裕一郎","ｺﾞﾄｳ","ﾕｳｲﾁﾛｳ","男",null,2]
[673,44511,"酒井","恒介","ｻｶｲ","ｺｳｽｹ","男",null,2]
[674,44512,"田浪","悠芽","ﾀﾅﾐ","ﾕｳｶﾞ","男",null,2]
[675,44513,"中村","勝","ﾅｶﾑﾗ","ﾏｻﾙ","男",null,2]
[676,44514,"吉野","吏雄","ﾖｼﾉ","ﾘｵﾝ","男",null,2]
[677,44515,"井村","響","ｲﾑﾗ","ｷｮｳ","男",null,1]
[678,44516,"勝見","颯人","ｶﾂﾐ","ﾊﾔﾄ","男",null,1]
[679,44517,"大塚","一馬","ｵｵﾂｶ","ｶｽﾞﾏ","男",null,1]
[680,44518,"宇井","大晴","ｳｲ","ﾋﾛﾊﾙ","男",null,1]
[681,44571,"鈴木","華奈","ｽｽﾞｷ","ﾊﾙﾅ","女",null,3]
[682,44572,"西田","理紗","ﾆｼﾀﾞ","ﾘｻ","女",null,2]
[683,44573,"後藤","未来","ｺﾞﾄｳ","ﾐﾗｲ","女",null,1]
[684,44805,"徳田","幹瑠","ﾄｸﾀﾞ","ﾐｷﾙ","男",null,3]
[685,44806,"蓮見","海人","ﾊｽﾐ","ｶｲﾄ","男",null,3]
[686,44811,"田中","航太","ﾀﾅｶ","ｺｳﾀ","男",null,3]
[687,44813,"永野","風雅","ﾅｶﾞﾉ","ﾌｳｶﾞ","男",null,3]
[688,44819,"内藤","優","ﾅｲﾄｳ","ﾕｳ","男",null,3]
[689,44821,"石井","大夢","ｲｼｲ","ﾋﾛﾑ","男",null,2]
[690,44822,"小川","慧士","ｵｶﾞﾜ","ｹｲｼ","男",null,2]
[691,44823,"鈴木","倭","ｽｽﾞｷ","ﾔﾏﾄ","男",null,2]
[692,44824,"香西","秀昭","ｺｳｻﾞｲ","ﾋﾃﾞｱｷ","男",null,2]
[693,44825,"本橋","太郎","ﾓﾄﾊｼ","ﾀﾛｳ","男",null,2]
[694,44826,"米澤","颯斗","ﾖﾈｻﾞﾜ","ﾊﾔﾄ","男",null,2]
[695,44827,"一色","諒真","ｲｯｼｷ","ﾘｮｳﾏ","男",null,2]
[696,44829,"和田","直也","ﾜﾀﾞ","ﾅｵﾔ","男",null,2]
[697,44830,"鈴木","智哉","ｽｽﾞｷ","ﾄﾓﾔ","男",null,2]
[698,44831,"小紫","嘉己","ｺﾑﾗｻｷ","ﾋﾛｷ","男",null,2]
[699,44832,"坂東","央真","ﾊﾞﾝﾄﾞｳ","ｵｵﾏ","男",null,2]
[700,44833,"加納","泰陽","ｶﾉｳ","ﾀｲﾖｳ","男",null,1]
[701,44834,"松村","優大","ﾏﾂﾑﾗ","ﾕｳﾀﾞｲ","男",null,1]
[702,44835,"高橋","優斗","ﾀｶﾊｼ","ﾕｳﾄ","男",null,1]
[703,44836,"鍛","将太","ｷﾀｲ","ｼｮｳﾀ","男",null,1]
[704,44837,"瀬戸","航太","ｾﾄ","ｺｳﾀ","男",null,1]
[705,44838,"山口","拓海","ﾔﾏｸﾞﾁ","ﾀｸﾐ","男",null,1]
[706,44839,"金内","海斗","ｶﾈｳﾁ","ｶｲﾄ","男",null,1]
[707,44840,"金田","岳斗","ｶﾈﾀﾞ","ﾔﾏﾄ","男",null,1]
[708,44841,"近郷","功次朗","ｷﾝｺﾞｳ","ｺｳｼﾞﾛｳ","男",null,1]
[709,44842,"佐々木","柊弥","ｻｻｷ","ｼｭｳﾔ","男",null,1]
[710,44843,"塚田","了仁","ﾂｶﾀﾞ","ｱｷﾋﾄ","男",null,1]
[711,44844,"山下","遼","ﾔﾏｼﾀ","ﾘｮｳ","男",null,1]
[712,44845,"鶴岡","勇輔","ﾂﾙｵｶ","ﾕｳｽｹ","男",null,1]
[713,44846,"手塚","崚","ﾃﾂﾞｶ","ﾘｮｳ","男",null,1]
[714,44869,"清水","佑奈","ｼﾐｽﾞ","ﾕｳﾅ","女",null,2]
[715,44870,"根津","佑奈","ﾈｽﾞ","ﾕｳﾅ","女",null,2]
[716,44871,"橋本","芽依","ﾊｼﾓﾄ","ﾒｲ","女",null,2]
[717,44873,"上野","桃世","ｳｴﾉ","ﾓﾓﾖ","女",null,2]
[718,44874,"中山","友希","ﾅｶﾔﾏ","ﾕｳｷ","女",null,2]
[719,44875,"藤原","帆乃香","ﾌｼﾞﾜﾗ","ﾎﾉｶ","女",null,1]
[720,44876,"安藤","秋音","ｱﾝﾄﾞｳ","ｱｶﾈ","女",null,1]
[721,44877,"吉野","まほら","ﾖｼﾉ","ﾏﾎﾗ","女",null,1]
[722,44878,"飯嶋","柚葵","ｲｲｼﾞﾏ","ﾕｷ","女",null,1]
[723,44879,"武田","若菜","ﾀｹﾀﾞ","ﾜｶﾅ","女",null,1]
[724,44902,"今泉","文冶","ｲﾏｲｽﾞﾐ","ﾌﾐﾔ","男",null,3]
[725,44903,"丸山","陽光","ﾏﾙﾔﾏ","ﾊﾙﾋ","男",null,3]
[726,44906,"小林","隼斗","ｺﾊﾞﾔｼ","ﾊﾔﾄ","男",null,3]
[727,44909,"山口","遥己","ﾔﾏｸﾞﾁ","ﾊﾙｷ","男",null,3]
[728,44910,"石井","和慶","ｲｼｲ","ｶｽﾞﾖｼ","男",null,2]
[729,44911,"伊藤","卓真","ｲﾄｳ","ﾀｸﾏ","男",null,3]
[730,44912,"平林","意織","ﾋﾗﾊﾞﾔｼ","ｲｵﾘ","男",null,2]
[731,44913,"足澤","弘哉","ﾀﾙｻﾜ","ﾋﾛﾔ","男",null,2]
[732,44914,"伊藤","諒河","ｲﾄｳ","ﾘｮｳｶﾞ","男",null,2]
[733,44915,"門倉","承音","ｶﾄﾞｸﾗ","ｼｮｳｲﾝ","男",null,2]
[734,44916,"東海","和真","ﾄｳｶｲ","ｶｽﾞﾏ","男",null,2]
[735,44917,"吉田","篤矢","ﾖｼﾀﾞ","ｱﾂﾔ","男",null,2]
[736,44918,"亀田","航生","ｶﾒﾀﾞ","ｺｳｷ","男",null,2]
[737,44919,"前川","優太郎","ﾏｴｶﾜ","ﾕｳﾀﾛｳ","男",null,3]
[738,44921,"今野","祐吾","ｺﾝﾉ","ﾕｳｺﾞ","男",null,2]
[739,44922,"天野","瑠人","ｱﾏﾉ","ﾘｭｳﾄ","男",null,1]
[740,44923,"谷口","俊輔","ﾀﾆｸﾞﾁ","ｼｭﾝｽｹ","男",null,1]
[741,44924,"西川","翔","ﾆｼｶﾜ","ｼｮｳ","男",null,1]
[742,44925,"佐藤","心","ｻﾄｳ","ｼﾝ","男",null,1]
[743,44926,"横田","将也","ﾖｺﾀ","ｼｮｳﾔ","男",null,1]
[744,44927,"前田","和輝","ﾏｴﾀﾞ","ｶｽﾞｷ","男",null,1]
[745,44928,"神田","大輝","ｶﾝﾀﾞ","ﾀﾞｲｷ","男",null,1]
[746,44929,"渡邉","健介","ﾜﾀﾅﾍﾞ","ｹﾝｽｹ","男",null,1]
[747,44930,"山代屋","敦","ﾔﾏｼﾛﾔ","ｱﾂｼ","男",null,1]
[748,44931,"岡田","直人","ｵｶﾀﾞ","ﾅｵﾄ","男",null,1]
[749,44932,"時任","翼","ﾄｷﾄｳ","ﾂﾊﾞｻ","男",null,1]
[750,44947,"藤井","辰朗","ﾌｼﾞｲ","ﾀﾂﾛｳ","男",null,3]
[751,44948,"菊池","亮太","ｷｸﾁ","ﾘｮｳﾀ","男",null,3]
[752,44951,"藤屋","杏奈","ﾌｼﾞﾔ","ｱﾝﾅ","女",null,1]
[753,44952,"伊藤","和佳奈","ｲﾄｳ","ﾜｶﾅ","女",null,1]
[754,44990,"須永","夏海","ｽﾅｶﾞ","ﾅﾂﾐ","女",null,3]
[755,44991,"横山","実佳","ﾖｺﾔﾏ","ﾐｶ","女",null,3]
[756,44993,"佐藤","奈々子","ｻﾄｳ","ﾅﾅｺ","女",null,3]
[757,44994,"清水","飛鳥","ｼﾐｽﾞ","ｱｽｶ","女",null,2]
[758,44995,"松村","瑞希","ﾏﾂﾑﾗ","ﾐｽﾞｷ","女",null,2]
[759,44996,"本間","陽衣","ﾎﾝﾏ","ﾋﾖﾘ","女",null,2]
[760,44997,"駒木","桃子","ｺﾏｷ","ﾓﾓｺ","女",null,1]
[761,44998,"宮所","さち","ﾐﾔﾄﾞｺﾛ","ｻﾁ","女",null,1]
[762,44999,"白川","凛","ｼﾗｶﾜ","ﾘﾝ","女",null,1]
[763,45134,"柴田","瑞貴","ｼﾊﾞﾀ","ﾐｽﾞｷ","男",null,3]
[764,45135,"板津","康太郎","ｲﾀﾂ","ｺｳﾀﾛｳ","男",null,2]
[765,45136,"北村","嘉都","ｷﾀﾑﾗ","ﾋﾛｻﾄ","男",null,2]
[766,45137,"八田","怜央","ﾊｯﾀ","ﾚｵ","男",null,2]
[767,45138,"大橋","夏生","ｵｵﾊｼ","ﾅﾂｷ","男",null,2]
[768,45139,"渡邊","彬人","ﾜﾀﾅﾍﾞ","ｱｷﾄ","男",null,2]
[769,45140,"阿部","亮太","ｱﾍﾞ","ﾘｮｳﾀ","男",null,1]
[770,45141,"菅原","圭悟","ｽｶﾞﾜﾗ","ｹｲｺﾞ","男",null,1]
[771,45142,"河津","壮哉","ｶﾜﾂﾞ","ｿｳﾔ","男",null,1]
[772,45143,"金原","郁弥","ｷﾝﾊﾟﾗ","ｲｸﾐ","男",null,1]
[773,45144,"中塚","嵩","ﾅｶﾂｶ","ｼｭｳ","男",null,1]
[774,45145,"横山","大起","ﾖｺﾔﾏ","ﾀﾞｲｷ","男",null,1]
[775,45146,"李","哲明","ﾘ","ﾃﾂｱｷ","男",null,1]
[776,45185,"風見","真梨依","ｶｻﾞﾐ","ﾏﾘｲ","女",null,2]
[777,45186,"三橋","和華","ﾐﾂﾊｼ","ﾜｶ","女",null,1]
[778,45187,"古田","ゆめ","ﾌﾙﾀ","ﾕﾒ","女",null,1]
[779,45188,"程塚","理菜","ﾎﾄﾞﾂﾞｶ","ﾘﾅ","女",null,1]
[780,45189,"松本","和","ﾏﾂﾓﾄ","ﾔﾏﾄ","女",null,1]
[781,45190,"丹野","響子","ﾀﾝﾉ","ｷｮｳｺ","女",null,1]
[782,45201,"本橋","大地","ﾓﾄﾊｼ","ﾀﾞｲﾁ","男",null,2]
[783,45202,"上杉","丞","ｳｴｽｷﾞ","ｼｮｳ","男",null,2]
[784,45203,"勝倉","泰輝","ｶﾂｸﾗ","ﾀｲｷ","男",null,2]
[785,45204,"青木","里空","ｱｵｷ","ﾘｸ","男",null,2]
[786,45205,"土方","祐人","ﾋｼﾞｶﾀ","ﾕｳﾄ","男",null,2]
[787,45206,"下司","浩大","ｹﾞｼ","ｺｳﾀ","男",null,2]
[788,45207,"黒川","知哉","ｸﾛｶﾜ","ﾄﾓﾔ","男",null,2]
[789,45208,"蒲田","純也","ｶﾏﾀ","ｼﾞｭﾝﾔ","男",null,1]
[790,45209,"川合","唯翔","ｶﾜｲ","ﾕｲﾄ","男",null,1]
[791,45210,"川本","敬祐","ｶﾜﾓﾄ","ｹｲｽｹ","男",null,1]
[792,45211,"小島","大ポール","ｺｼﾞﾏ","ﾀﾞｲﾎﾟｰﾙ","男",null,1]
[793,45212,"田中","祐希","ﾀﾅｶ","ﾕｳｷ","男",null,1]
[794,45213,"中村","拓海","ﾅｶﾑﾗ","ﾀｸﾐ","男",null,1]
[795,45214,"仁宮","陸","ﾆﾉﾐﾔ","ﾘｸ","男",null,1]
[796,45215,"松﨑","善輝","ﾏﾂｻﾞｷ","ﾖｼｷ","男",null,1]
[797,45216,"並木","力也","ﾅﾐｷ","ﾘｷﾔ","男",null,1]
[798,45218,"鶴岡","慧","ﾂﾙｵｶ","ｹｲ","男",null,3]
[799,45219,"吉田","寛汰","ﾖｼﾀﾞ","ｶﾝﾀ","男",null,3]
[800,45220,"福島","遼介","ﾌｸｼﾏ","ﾘｮｳｽｹ","男",null,3]
[801,45221,"安部","和希","ｱﾍﾞ","ｶｽﾞｷ","男",null,3]
[802,45222,"岡村","将吾","ｵｶﾑﾗ","ｼｮｳｺﾞ","男",null,3]
[803,45223,"山﨑","大輝","ﾔﾏｻﾞｷ","ﾀﾞｲｷ","男",null,3]
[804,45224,"飯塚","一平","ｲｲﾂﾞｶ","ｲｯﾍﾟｲ","男",null,3]
[805,45225,"村上","翔","ﾑﾗｶﾐ","ｼｮｳ","男",null,2]
[806,45251,"内山","夢叶","ｳﾁﾔﾏ","ﾕｶ","女",null,3]
[807,45252,"吉川","綾香","ﾖｼｶﾜ","ｱﾔｶ","女",null,1]
[808,45301,"蒲生","晟也","ｶﾞﾓｳ","ｾｲﾔ","男",null,3]
[809,45303,"相澤","日向","ｱｲｻﾞﾜ","ﾋｭｳｶﾞ","男",null,3]
[810,45305,"茂木","文哉","ﾓｷﾞ","ﾌﾐﾔ","男",null,3]
[811,45307,"伊藤","諒人","ｲﾄｳ","ｱｷﾄ","男",null,3]
[812,45309,"齋藤","篤志","ｻｲﾄｳ","ｱﾂｼ","男",null,3]
[813,45310,"渡邊","颯一郎","ﾜﾀﾅﾍﾞ","ｿｳｲﾁﾛｳ","男",null,3]
[814,45311,"岡田","学時","ｵｶﾀﾞ","ｶﾞｸｼﾞ","男",null,3]
[815,45312,"今給黎","知弥","ｲﾏｷｲﾚ","ﾄﾓﾔ","男",null,3]
[816,45314,"坂本","光汰朗","ｻｶﾓﾄ","ｺｳﾀﾛｳ","男",null,3]
[817,45325,"古川","和晶","ﾌﾙｶﾜ","ｶｽﾞｱｷ","男",null,3]
[818,45327,"東","幸河","ﾋｶﾞｼ","ｺｳｶﾞ","男",null,1]
[819,45329,"大津","祐介","ｵｵﾂ","ﾕｳｽｹ","男",null,1]
[820,45330,"石原","康太","ｲｼﾊﾗ","ｺｳﾀ","男",null,2]
[821,45331,"風祭","直仁","ｶｻﾞﾏﾂﾘ","ﾅｵﾄ","男",null,2]
[822,45332,"板倉","弘明","ｲﾀｸﾗ","ﾋﾛｱｷ","男",null,2]
[823,45333,"鏑木","尭","ｶﾌﾞﾗｷﾞ","ﾀｶｼ","男",null,2]
[824,45334,"奥山","裕介","ｵｸﾔﾏ","ﾕｳｽｹ","男",null,2]
[825,45335,"生田","悠貴","ｲｸﾀ","ﾕｳｷ","男",null,2]
[826,45336,"石橋","弦","ｲｼﾊﾞｼ","ｹﾞﾝ","男",null,2]
[827,45337,"藤谷","海","ﾌｼﾞﾔ","ｶｲ","男",null,2]
[828,45338,"原田","学","ﾊﾗﾀﾞ","ﾏﾅﾌﾞ","男",null,2]
[829,45339,"小野","翔生","ｵﾉ","ｼｮｳｾｲ","男",null,2]
[830,45340,"安河","伊織","ﾔｽｶﾜ","ｲｵﾘ","男",null,1]
[831,45341,"下山","拳汰","ｼﾓﾔﾏ","ｹﾝﾀ","男",null,1]
[832,45342,"石本","朋也","ｲｼﾓﾄ","ﾄﾓﾔ","男",null,1]
[833,45343,"田邉","陽哉","ﾀﾅﾍﾞ","ﾊﾙﾔ","男",null,1]
[834,45344,"大坪","京史","ｵｵﾂﾎﾞ","ｱﾂｼ","男",null,1]
[835,45345,"北隅","優汰","ｷﾀｽﾞﾐ","ﾕｳﾀ","男",null,1]
[836,45346,"小椋","翔","ｵｸﾞﾗ","ｼｮｳ","男",null,1]
[837,45348,"梶川","俊太郎","ｶｼﾞｶﾜ","ｼｭﾝﾀﾛｳ","男",null,1]
[838,45349,"清松","怜央","ｷﾖﾏﾂ","ﾚｵ","男",null,1]
[839,45402,"河野","孝光","ｺｳﾉ","ﾀｶﾐﾂ","男",null,3]
[840,45403,"佐藤","綜二","ｻﾄｳ","ｿｳｼﾞ","男",null,3]
[841,45404,"岩本","凛玖","ｲﾜﾓﾄ","ﾘﾝｸ","男",null,3]
[842,45405,"西川","眞矢","ﾆｼｶﾜ","ｼﾝﾔ","男",null,3]
[843,45406,"宮野","楓真","ﾐﾔﾉ","ﾌｳﾏ","男",null,3]
[844,45410,"沖野","諒","ｵｷﾉ","ﾘｮｳ","男",null,3]
[845,45411,"杉田","宇宙","ｽｷﾞﾀ","ｿﾗ","男",null,3]
[846,45412,"程内","太心","ﾎﾄﾞｳﾁ","ﾀｲｼﾝ","男",null,2]
[847,45413,"田島","知希","ﾀｼﾞﾏ","ﾄﾓｷ","男",null,2]
[848,45414,"岩瀬","晃太郎","ｲﾜｾ","ｺｳﾀﾛｳ","男",null,2]
[849,45415,"千田","諒","ﾁﾀﾞ","ﾘｮｳ","男",null,2]
[850,45416,"古森","典明","ｺﾓﾘ","ﾉﾘｱｷ","男",null,3]
[851,45417,"大塚","玲於","ｵｵﾂｶ","ﾚｵ","男",null,2]
[852,45418,"佐竹","洸紀","ｻﾀｹ","ﾋﾛｷ","男",null,2]
[853,45419,"土方","起樹","ﾋｼﾞｶﾀ","ﾀﾂｷ","男",null,2]
[854,45451,"小島","渉","ｺｼﾞﾏ","ｱﾕﾐ","女",null,3]
[855,45452,"高橋","幸恵","ﾀｶﾊｼ","ｻﾁｴ","女",null,3]
[856,45453,"菊池","楓","ｷｸﾁ","ｶｴﾃﾞ","女",null,3]
[857,45455,"小林","未来","ｺﾊﾞﾔｼ","ﾐﾗｲ","女",null,2]
[858,45456,"鹿島田","虹美","ｶｼﾏﾀﾞ","ﾅﾅﾐ","女",null,2]
[859,45457,"五十嵐","純果","ｲｶﾞﾗｼ","ｼﾞｭﾝｶ","女",null,2]
[860,45622,"小泉","遥王","ｺｲｽﾞﾐ","ﾊﾙｷ","男",null,3]
[861,45623,"小沼","耕太","ｺﾇﾏ","ｺｳﾀ","男",null,3]
[862,45624,"清水","純汰","ｼﾐｽﾞ","ｼﾞｭﾝﾀ","男",null,3]
[863,45625,"寺田","優輝","ﾃﾗﾀﾞ","ﾕｳｷ","男",null,3]
[864,45628,"中川","琥太郎","ﾅｶｶﾞﾜ","ｺﾀﾛｳ","男",null,1]
[865,45680,"石川","瑠花","ｲｼｶﾜ","ﾙｶ","女",null,2]
[866,45683,"渡邊","月美","ﾜﾀﾅﾍﾞ","ﾂｸﾐ","女",null,2]
[867,45684,"中澤","愛","ﾅｶｻﾞﾜ","ｱｲ","女",null,1]
[868,45685,"松永","怜","ﾏﾂﾅｶﾞ","ﾚｲ","女",null,1]
[869,45722,"塚本","駿介","ﾂｶﾓﾄ","ｼｭﾝｽｹ","男",null,3]
[870,45723,"広末","玲樹","ﾋﾛｽｴ","ﾚｲｼﾞｭ","男",null,3]
[871,45725,"早乙女","誠","ｻｵﾄﾒ","ﾏｺﾄ","男",null,3]
[872,45727,"佐藤","裕一","ｻﾄｳ","ﾕｳｲﾁ","男",null,2]
[873,45728,"上西","凌平","ｼﾞｮｳﾆｼ","ﾘｮｳﾍｲ","男",null,2]
[874,45729,"城田","庸樹","ｼﾛﾀ","ﾕｳｷ","男",null,2]
[875,45730,"牧野","駿斗","ﾏｷﾉ","ﾊﾔﾄ","男",null,2]
[876,45731,"宮川","晟","ﾐﾔｶﾞﾜ","ｾｲ","男",null,2]
[877,45732,"若林","茂道","ﾜｶﾊﾞﾔｼ","ｼｹﾞﾐﾁ","男",null,2]
[878,45733,"大友","千宙","ｵｵﾄﾓ","ﾁﾋﾛ","男",null,2]
[879,45735,"森田","律","ﾓﾘﾀ","ﾘﾂ","男",null,1]
[880,45736,"山下","颯馬","ﾔﾏｼﾀ","ｿｳﾏ","男",null,1]
[881,45737,"島木","涼太","ｼﾏｷ","ﾘｮｳﾀ","男",null,1]
[882,45738,"白澤","唯斗","ｼﾗｻﾜ","ﾕｲﾄ","男",null,1]
[883,45739,"伴","拓音","ﾊﾞﾝ","ﾀｸﾄ","男",null,1]
[884,45755,"片桐","汐莉","ｶﾀｷﾞﾘ","ｼｵﾘ","女",null,2]
[885,45766,"戸田","季希","ﾄﾀﾞ","ｷｷ","女",null,2]
[886,45773,"田島","菜穂","ﾀｼﾞﾏ","ﾅﾎ","女",null,3]
[887,45774,"佐藤","楓花","ｻﾄｳ","ﾌｳｶ","女",null,3]
[888,45775,"菅野","麻佳","ｶﾝﾉ","ｱｻｶ","女",null,1]
[889,45776,"吉村","美秋","ﾖｼﾑﾗ","ﾐｱｷ","女",null,1]
[890,45777,"五十嵐","理沙","ｲｶﾞﾗｼ","ﾘｻ","女",null,1]
[891,45801,"梶原","悠希","ｶｼﾞﾜﾗ","ﾊﾙｷ","男",null,1]
[892,45802,"鈴木","磊","ｽｽﾞｷ","ﾗｲ","男",null,1]
[893,45803,"辻","那槻","ﾂｼﾞ","ﾅﾂｷ","男",null,1]
[894,45824,"笹子","浩貴","ｻｻｺ","ﾋﾛｷ","男",null,2]
[895,45825,"米倉","滉人","ﾖﾈｸﾗ","ｱｷﾄ","男",null,2]
[896,45826,"髙草木","希","ﾀｶｸｻｷ","ﾉｿﾞﾑ","男",null,2]
[897,45901,"濱","智怜","ﾊﾏ","ﾁｻﾄ","男",null,2]
[898,45902,"高月","基","ﾀｶﾂｷ","ﾊｼﾞﾒ","男",null,2]
[899,45903,"市川","輝","ｲﾁｶﾜ","ﾋｶﾙ","男",null,1]
[900,45904,"菅原","輝","ｽｶﾞﾊﾗ","ﾋｶﾙ","男",null,1]
[901,45905,"谷口","哲也","ﾀﾆｸﾞﾁ","ﾃﾂﾔ","男",null,1]
[902,45906,"俵木","聖弥","ﾋｮｳｷ","ｾｲﾔ","男",null,1]
[903,45907,"渡部","拓馬","ﾜﾀﾅﾍﾞ","ﾀｸﾏ","男",null,1]
[904,45908,"豊川","椋平","ﾄﾖｶﾜ","ﾘｮｳﾍｲ","男",null,1]
[905,45909,"谷内田","望夢","ﾔﾁﾀﾞ","ﾉｿﾞﾑ","男",null,1]
[906,45910,"古谷","一輝","ﾌﾙﾔ","ｶｽﾞｷ","男",null,1]
[907,45911,"河村","凌雅","ｶﾜﾑﾗ","ﾘｮｳｶﾞ","男",null,1]
[908,45912,"山西","望夢","ﾔﾏﾆｼ","ﾉｿﾞﾑ","男",null,1]
[909,45938,"中川","俊成","ﾅｶｶﾞﾜ","ﾄｼﾅﾘ","男",null,3]
[910,45939,"山本","陽一朗","ﾔﾏﾓﾄ","ﾖｳｲﾁﾛｳ","男",null,3]
[911,45941,"中村","文哉","ﾅｶﾑﾗ","ﾌﾐﾔ","男",null,3]
[912,45942,"佐々木","温","ｻｻｷ","ｱﾂｼ","男",null,3]
[null,45944,"野村","絃太","ﾉﾑﾗ","ｹﾞﾝﾀ","男",null,3]
[null,45945,"大森","太陽","ｵｵﾓﾘ","ﾀｲﾖｳ","男",null,3]
[null,45946,"福島","龍聖","ﾌｸｼﾏ","ﾘｭｳｾｲ","男",null,3]
[null,45947,"松原","和馬","ﾏﾂﾊﾞﾗ","ｶｽﾞﾏ","男",null,3]
[null,45948,"鶴見","光基","ﾂﾙﾐ","ｺｳｷ","男",null,2]
[null,45949,"伊藤","良太","ｲﾄｳ","ﾘｮｳﾀ","男",null,2]
[null,45950,"佐藤","凌","ｻﾄｳ","ﾘｮｳ","男",null,2]
[null,45974,"市川","花","ｲﾁｶﾜ","ﾊﾅ","女",null,3]
[null,45975,"廣井","桃子","ﾋﾛｲ","ﾓﾓｺ","女",null,3]
[null,45976,"玉手","佳那子","ﾀﾏﾃ","ｶﾅｺ","女",null,3]
[null,45977,"菅井","夏月","ｽｶﾞｲ","ﾅﾂｷ","女",null,3]
[null,45980,"安本","佳乃子","ﾔｽﾓﾄ","ｶﾉｺ","女",null,2]
[null,45981,"上原","嘉乃","ｳｴﾊﾗ","ｶﾉ","女",null,2]
[null,45983,"青木","ちひろ","ｱｵｷ","ﾁﾋﾛ","女",null,1]
[null,45984,"藤郷","雪乃","ﾄｳｺﾞｳ","ﾕｷﾉ","女",null,1]
[null,45985,"吉原","志乃沙","ﾖｼﾊﾗ","ｼﾉｱ","女",null,1]
[null,45986,"岡田","未夢","ｵｶﾀﾞ","ﾐﾕ","女",null,1]
[null,45987,"岡嵜","香奈子","ｵｶｻﾞｷ","ｶﾅｺ","女",null,1]
[null,46026,"原","賢人","ﾊﾗ","ｹﾝﾄ","男",null,3]
[null,46027,"山田","健人","ﾔﾏﾀﾞ","ｹﾝﾄ","男",null,3]
[null,46028,"西牟田","潤","ﾆｼﾑﾀ","ｼﾞｭﾝ","男",null,3]
[null,46029,"吉岡","一靖","ﾖｼｵｶ","ｲｯｾｲ","男",null,3]
[null,46030,"丸山","慧之","ﾏﾙﾔﾏ","ｻﾄｼ","男",null,3]
[null,46031,"飯淵","尚哉","ｲｲﾌﾞﾁ","ﾅｵﾔ","男",null,3]
[null,46032,"鈴木","智也","ｽｽﾞｷ","ﾄﾓﾔ","男",null,3]
[null,46033,"荻原","俊介","ｵｷﾞﾊﾗ","ｼｭﾝｽｹ","男",null,3]
[null,46035,"安東","芳高","ｱﾝﾄﾞｳ","ﾖｼﾀｶ","男",null,3]
[null,46037,"馬越","智也","ｳﾏｺｼ","ﾄﾓﾔ","男",null,2]
[null,46038,"河本","航志","ｶﾜﾓﾄ","ｺｳｼﾞ","男",null,2]
[null,46039,"安藤","太郎","ｱﾝﾄﾞｳ","ﾀﾛｳ","男",null,2]
[null,46040,"蓮見","慎","ﾊｽﾐ","ｼﾝ","男",null,2]
[null,46041,"箱崎","太一","ﾊｺｻﾞｷ","ﾀｲﾁ","男",null,2]
[null,46042,"中村","宏平","ﾅｶﾑﾗ","ｺｳﾍｲ","男",null,2]
[null,46043,"横田","陸","ﾖｺﾀ","ﾘｸ","男",null,2]
[null,46045,"小田","昴次朗","ｵﾀﾞ","ｺｳｼﾞﾛｳ","男",null,2]
[null,46046,"鈴木","詢將","ｽｽﾞｷ","ｼｭﾝﾄ","男",null,1]
[null,46047,"岡本","直己","ｵｶﾓﾄ","ﾅｵｷ","男",null,1]
[null,46048,"加藤","雅也","ｶﾄｳ","ﾏｻﾔ","男",null,1]
[null,46049,"齋藤","遼","ｻｲﾄｳ","ﾘｮｳ","男",null,1]
[null,46050,"豊田","凌平","ﾄﾖﾀﾞ","ﾘｮｳﾍｲ","男",null,1]
[null,46076,"有馬","早紀","ｱﾘﾏ","ｻｷ","女",null,3]
[null,46078,"柳内","友里","ﾔﾅｲ","ﾕﾘ","女",null,3]
[null,46080,"矢﨑","あかり","ﾔｻﾞｷ","ｱｶﾘ","女",null,2]
[null,46081,"恩田","はな","ｵﾝﾀﾞ","ﾊﾅ","女",null,2]
[null,46082,"花村","美咲","ﾊﾅﾑﾗ","ﾐｻｷ","女",null,2]
[null,46083,"鈴木","七星","ｽｽﾞｷ","ﾅﾅｾ","女",null,2]
[null,46084,"水内","彩心","ﾐｽﾞｳﾁ","ｲﾛﾊ","女",null,1]
[null,46085,"髙橋","莉央","ﾀｶﾊｼ","ﾘｵ","女",null,1]
[null,46086,"菊池","愛","ｷｸﾁ","ｲﾄ","女",null,1]
[null,46087,"福海","千紘","ﾌｸｳﾐ","ﾁﾋﾛ","女",null,1]
[null,46088,"中島","朝子","ﾅｶｼﾞﾏ","ｱｻｺ","女",null,1]
[null,46089,"青栁","侑寿","ｱｵﾔｷﾞ","ﾕｽﾞ","女",null,1]
[null,46121,"石井","大貴","ｲｼｲ","ﾀﾞｲｷ","男",null,3]
[null,46122,"清水","竜哉","ｼﾐｽﾞ","ﾘｭｳﾔ","男",null,3]
[null,46123,"古山","海輝","ﾌﾙﾔﾏ","ｶｲｷ","男",null,3]
[null,46124,"川上","海斗","ｶﾜｶﾐ","ｶｲﾄ","男",null,3]
[null,46126,"田好","基生","ﾀﾖｼ","ｷｵ","男",null,2]
[null,46127,"平野","孝拓","ﾋﾗﾉ","ｺｳﾀｸ","男",null,2]
[null,46128,"福元","鴻之介","ﾌｸﾓﾄ","ｺｳﾉｽｹ","男",null,3]
[null,46401,"栗本","士","ｸﾘﾓﾄ","ﾂｶｻ","男",null,1]
[null,46402,"青盛","倭也","ｱｵﾓﾘ","ｼｽﾞﾅﾘ","男",null,1]
[null,46403,"野々口","卓矢","ﾉﾉｸﾞﾁ","ﾀｸﾔ","男",null,1]
[null,46404,"西山","智陽","ﾆｼﾔﾏ","ﾄﾓﾊﾙ","男",null,1]
[null,46438,"田中","準也","ﾀﾅｶ","ｼﾞｭﾝﾔ","男",null,3]
[null,46439,"荘司","和輝","ｼｮｳｼﾞ","ｶｽﾞｷ","男",null,3]
[null,46440,"澤口","隆生","ｻﾜｸﾞﾁ","ﾘｭｳｾｲ","男",null,3]
[null,46441,"星野","海比古","ﾎｼﾉ","ｳﾐﾋｺ","男",null,3]
[null,46442,"弓削","直暉","ﾕｹﾞ","ﾅｵｷ","男",null,3]
[null,46443,"佐々木","龍之介","ｻｻｷ","ﾘｭｳﾉｽｹ","男",null,3]
[null,46444,"鈴木","達也","ｽｽﾞｷ","ﾀﾂﾔ","男",null,3]
[null,46446,"小林","義和","ｺﾊﾞﾔｼ","ﾖｼｶｽﾞ","男",null,3]
[null,46448,"遠藤","祐輝","ｴﾝﾄﾞｳ","ﾕｳｷ","男",null,2]
[null,46449,"高林","克光","ﾀｶﾊﾞﾔｼ","ｶﾂﾐ","男",null,1]
[null,46450,"野田","哲平","ﾉﾀﾞ","ﾃｯﾍﾟｲ","男",null,1]
[null,46501,"阿部","優樹","ｱﾍﾞ","ﾕｳｷ","男",null,2]
[null,46502,"大芝","健人","ｵｵｼﾊﾞ","ﾀｹﾄ","男",null,3]
[null,46503,"圓谷","光佑","ﾂﾌﾞﾗﾔ","ｺｳｽｹ","男",null,3]
[null,46504,"伊東","大翔","ｲﾄｳ","ﾋﾛﾄ","男",null,2]
[null,46505,"安部","柚作","ｱﾍﾞ","ﾕｳｻｸ","男",null,2]
[null,46506,"関口","絢太","ｾｷｸﾞﾁ","ｹﾝﾀ","男",null,2]
[null,46507,"丸山","知己","ﾏﾙﾔﾏ","ﾄﾓｷ","男",null,3]
[null,46508,"菅原","梨矩","ｽｶﾞﾜﾗ","ﾘｸ","男",null,2]
[null,46509,"宮澤","徹","ﾐﾔｻﾞﾜ","ﾄｵﾙ","男",null,2]
[null,46510,"村野","裕次郎","ﾑﾗﾉ","ﾕｳｼﾞﾛｳ","男",null,3]
[null,46511,"中野","大地","ﾅｶﾉ","ﾀﾞｲﾁ","男",null,3]
[null,46512,"後藤","瞭太","ｺﾞﾄｳ","ﾘｮｳﾀ","男",null,3]
[null,46513,"浅川","恵司","ｱｻｶﾜ","ｹｲｼﾞ","男",null,2]
[null,46514,"大澤","太我","ｵｵｻﾜ","ﾀｲｶﾞ","男",null,3]
[null,46515,"荻野","新","ｵｷﾞﾉ","ｼﾝ","男",null,3]
[null,46516,"小野","鼓太郎","ｵﾉ","ｺﾀﾛｳ","男",null,3]
[null,46517,"久松","啓真","ﾋｻﾏﾂ","ｹｲﾏ","男",null,3]
[null,46518,"林","遼太郎","ﾊﾔｼ","ﾘｮｳﾀﾛｳ","男",null,3]
[null,46519,"吉野","光太朗","ﾖｼﾉ","ｺｳﾀﾛｳ","男",null,3]
[null,46520,"中西","洸貴","ﾅｶﾆｼ","ｺｳｷ","男",null,1]
[null,46521,"浦田","優斗","ｳﾗﾀ","ﾕｳﾄ","男",null,1]
[null,46522,"内田","杜和","ｳﾁﾀﾞ","ﾄﾜ","男",null,1]
[null,46523,"茅野","友翔","ｶﾔﾉ","ﾕｳﾄ","男",null,1]
[null,46524,"沼井","優斗","ﾇﾏｲ","ﾕｳﾄ","男",null,1]
[null,46525,"新井","俊祐","ｱﾗｲ","ｼｭﾝｽｹ","男",null,2]
[null,46526,"富田","翔","ﾄﾐﾀ","ｼｮｳ","男",null,1]
[null,46527,"村瀬","広晃","ﾑﾗｾ","ﾋﾛｱｷ","男",null,1]
[null,46529,"星野","圭吾","ﾎｼﾉ","ｹｲｺﾞ","男",null,2]
[null,46530,"佐野","眞斗","ｻﾉ","ﾏﾅﾄ","男",null,1]
[null,46531,"小泉","樹","ｺｲｽﾞﾐ","ｲﾂｷ","男",null,1]
[null,46534,"玉井","遼太","ﾀﾏｲ","ﾘｮｳﾀ","男",null,2]
[null,46535,"蜂巣","翔陽","ﾊﾁｽ","ｼｮｳﾖｳ","男",null,2]
[null,46536,"伊藤","開","ｲﾄｳ","ｶｲ","男",null,1]
[null,46537,"新井","晴文","ｱﾗｲ","ﾊﾙﾌﾐ","男",null,1]
[null,46538,"和田","朋之","ﾜﾀﾞ","ﾄﾓﾕｷ","男",null,2]
[null,46539,"橋本","章央","ﾊｼﾓﾄ","ｱｷｵ","男",null,2]
[null,46540,"伊勢","侑一郎","ｲｾ","ﾕｳｲﾁﾛｳ","男",null,1]
[null,46541,"久保木","廉","ｸﾎﾞｷ","ﾚﾝ","男",null,1]
[null,46542,"村上","大洋","ﾑﾗｶﾐ","ﾀｲﾖｳ","男",null,1]
[null,46543,"松本","創紀","ﾏﾂﾓﾄ","ｿｳｷ","男",null,2]
[null,46544,"古川","達基","ﾌﾙｶﾜ","ﾀﾂｷ","男",null,1]
[null,46545,"北山","雅之","ｷﾀﾔﾏ","ﾏｻﾕｷ","男",null,3]
[null,46546,"尾﨑","凌斗","ｵｻﾞｷ","ﾘｮｳﾄ","男",null,3]
[null,46547,"野村","健太","ﾉﾑﾗ","ｹﾝﾀ","男",null,3]
[null,46548,"原","壮多","ﾊﾗ","ｿｳﾀ","男",null,3]
[null,46549,"山﨑","一輝","ﾔﾏｻﾞｷ","ｶｽﾞｷ","男",null,3]
[null,46550,"宮﨑","瑠安","ﾐﾔｻﾞｷ","ﾙｱﾝ","男",null,2]
[null,46551,"小林","葵","ｺﾊﾞﾔｼ","ｱｵｲ","女",null,2]
[null,46552,"土屋","優芽","ﾂﾁﾔ","ﾕﾒ","女",null,2]
[null,46553,"藤田","咲季","ﾌｼﾞﾀ","ｻｷ","女",null,2]
[null,46554,"坂井","伶名","ｻｶｲ","ﾚｲﾅ","女",null,1]
[null,46555,"底","花音","ｿｺ","ｶﾉﾝ","女",null,2]
[null,46556,"大谷","晴香","ｵｵﾀﾆ","ﾊﾙｶ","女",null,3]
[null,46557,"堀","ひかる","ﾎﾘ","ﾋｶﾙ","女",null,3]
[null,46558,"松本","希美","ﾏﾂﾓﾄ","ﾉｿﾞﾐ","女",null,3]
[null,46559,"古賀","環","ｺｶﾞ","ﾀﾏｷ","女",null,1]
[null,46561,"佐藤","来夢","ｻﾄｳ","ﾗｲﾑ","女",null,3]
[null,46562,"桒垣","匠","ｸﾜｶﾞｷ","ﾀｸﾐ","男",null,2]
[null,46563,"岡島","未奈","ｵｶｼﾞﾏ","ﾐﾅ","女",null,1]
[null,46564,"北岡","怜実","ｷﾀｵｶ","ﾚﾐ","女",null,1]
[null,46565,"川口","由貴","ｶﾜｸﾞﾁ","ﾕｷ","女",null,1]
[null,46566,"太田","賀子","ｵｵﾀ","ｶｺ","女",null,1]
[null,46567,"岡田","拓","ｵｶﾀﾞ","ﾀｸ","男",null,2]
[null,46568,"森下","紹里","ﾓﾘｼﾀ","ﾂｸﾞﾘ","女",null,2]
[null,46569,"内田","朋花","ｳﾁﾀﾞ","ﾄﾓｶ","女",null,1]
[null,46572,"秋山","ヒカル","ｱｷﾔﾏ","ﾋｶﾙ","女",null,1]
[null,46573,"小平","苑子","ｺﾀﾞｲﾗ","ｿﾉｺ","女",null,2]
[null,46575,"徳富","優太","ﾄｸﾄﾐ","ﾕｳﾀ","男",null,3]
[null,46576,"平岩","佳夏","ﾋﾗｲﾜ","ｶﾅ","女",null,2]
[null,46577,"白土","桃子","ｼﾗﾄ","ﾓﾓｺ","女",null,1]
[null,46578,"板東","萌","ﾊﾞﾝﾄﾞｳ","ﾓｴ","女",null,1]
[null,46579,"藤本","真帆","ﾌｼﾞﾓﾄ","ﾏﾎ","女",null,1]
[null,46580,"井指","晴貴","ｲｻｼ","ﾊﾙｷ","男",null,1]
[null,46581,"横田","龍之助","ﾖｺﾀ","ﾘｭｳﾉｽｹ","男",null,1]
[null,46701,"中山","海晴","ﾅｶﾔﾏ","ｶｲｾｲ","男",null,1]
[null,46702,"根本","光","ﾈﾓﾄ","ﾋｶﾙ","男",null,1]
[null,46721,"上原","諒","ｳｴﾊﾗ","ﾘｮｳ","男",null,3]
[null,46722,"小池","悠太","ｺｲｹ","ﾕｳﾀ","男",null,3]
[null,46723,"佐藤","健登","ｻﾄｳ","ｹﾝﾄ","男",null,3]
[null,46724,"田川","竜ノ介","ﾀｶﾞﾜ","ﾘｭｳﾉｽｹ","男",null,3]
[null,46725,"山田","拓海","ﾔﾏﾀﾞ","ﾀｸﾐ","男",null,3]
[null,46726,"金子","明日翔","ｶﾈｺ","ｱｽｶ","男",null,2]
[null,46727,"京墓","凌","ｷｮｳﾂﾞｶ","ﾘｮｳ","男",null,2]
[null,46728,"佐藤","蓮","ｻﾄｳ","ﾚﾝ","男",null,2]
[null,46729,"下田","倖輝","ｼﾓﾀﾞ","ｺｳｷ","男",null,2]
[null,46730,"鈴木","康世","ｽｽﾞｷ","ｺｳｾｲ","男",null,2]
[null,46731,"鈴木","雄貴","ｽｽﾞｷ","ﾕｳｷ","男",null,2]
[null,46732,"髙城","優輝","ﾀｶｷﾞ","ﾕｳｷ","男",null,2]
[null,46733,"高田","峻輔","ﾀｶﾀﾞ","ｼｭﾝｽｹ","男",null,2]
[null,46734,"高田","尚貴","ﾀｶﾀﾞ","ﾅｵｷ","男",null,2]
[null,46735,"船津","拓斗","ﾌﾅﾂ","ﾀｸﾄ","男",null,2]
[null,46736,"星野","航汰","ﾎｼﾉ","ｺｳﾀ","男",null,2]
[null,46737,"水落","浩人","ﾐｽﾞｵﾁ","ﾋﾛﾄ","男",null,2]
[null,46738,"宮澤","将人","ﾐﾔｻﾞﾜ","ﾏｻﾄ","男",null,2]
[null,46739,"山田","健太","ﾔﾏﾀﾞ","ｹﾝﾀ","男",null,2]
[null,46740,"井口","真之介","ｲｸﾞﾁ","ｼﾝﾉｽｹ","男",null,1]
[null,46741,"金井","輝","ｶﾅｲ","ﾋｶﾙ","男",null,1]
[null,46742,"細谷","柊真","ﾎｿﾔ","ｼｭｳﾏ","男",null,1]
[null,46743,"阿藤","宏朗","ｱﾄｳ","ﾋﾛｱｷ","男",null,1]
[null,46744,"市村","優太","ｲﾁﾑﾗ","ﾕｳﾀ","男",null,1]
[null,46745,"岩下","勇輝","ｲﾜｼﾀ","ﾕｳｷ","男",null,1]
[null,46746,"河原","悠馬","ｶﾜﾊﾗ","ﾕｳﾏ","男",null,1]
[null,46747,"末吉","裕","ｽｴﾖｼ","ﾕｳ","男",null,1]
[null,46748,"髙橋","龍之介","ﾀｶﾊｼ","ﾘｭｳﾉｽｹ","男",null,1]
[null,46749,"寺田","康太","ﾃﾗﾀﾞ","ｺｳﾀ","男",null,1]
[null,46750,"中村","秀敏","ﾅｶﾑﾗ","ﾋﾃﾞﾄｼ","男",null,1]
[null,46775,"宮下","理那","ﾐﾔｼﾀ","ﾘﾅ","女",null,3]
[null,46777,"小坂","清楓","ｺｻｶ","ｻﾔｶ","女",null,3]
[null,46778,"小林","さくら","ｺﾊﾞﾔｼ","ｻｸﾗ","女",null,3]
[null,46779,"瀧口","真代","ﾀｷｸﾞﾁ","ﾏｼﾛ","女",null,3]
[null,46780,"能勢","七海","ﾉｾ","ﾅﾅﾐ","女",null,3]
[null,46781,"平野","唯香","ﾋﾗﾉ","ﾕｲｶ","女",null,3]
[null,46782,"宮城","佳歩","ﾐﾔｷﾞ","ｶﾎ","女",null,3]
[null,46784,"渡辺","宣子","ﾜﾀﾅﾍﾞ","ﾉﾘｺ","女",null,3]
[null,46785,"田上","珠里","ﾀﾉｳｴ","ｼﾞｭﾘ","女",null,2]
[null,46786,"田島","くるみ","ﾀｼﾞﾏ","ｸﾙﾐ","女",null,2]
[null,46787,"佐藤","未歩","ｻﾄｳ","ﾐﾎ","女",null,3]
[null,46791,"細田","優希","ﾎｿﾀﾞ","ﾕｳｷ","女",null,2]
[null,46792,"松本","実夏","ﾏﾂﾓﾄ","ﾐｶ","女",null,2]
[null,46793,"横田","果歩","ﾖｺﾀ","ｶﾎ","女",null,2]
[null,46794,"野口","香乃","ﾉｸﾞﾁ","ｶﾉ","女",null,1]
[null,46795,"恩田","希美","ｵﾝﾀﾞ","ﾉｿﾞﾐ","女",null,1]
[null,46796,"黒川","緋乃","ｸﾛｶﾜ","ﾋﾅ","女",null,1]
[null,46813,"岩見","良祐","ｲﾜﾐ","ﾘｮｳｽｹ","男",null,3]
[null,46814,"楠見","燎平","ｸｽﾐ","ﾘｮｳﾍｲ","男",null,3]
[null,46815,"佐藤","快哉","ｻﾄｳ","ｶｲﾔ","男",null,3]
[null,46816,"高橋","渚","ﾀｶﾊｼ","ﾅｷﾞｻ","男",null,3]
[null,46817,"松沢","和樹","ﾏﾂｻﾞﾜ","ｶｽﾞｷ","男",null,3]
[null,46818,"山澤","佳季","ﾔﾏｻﾞﾜ","ﾖｼｷ","男",null,3]
[null,46820,"大塚","晃誠","ｵｵﾂｶ","ｺｳｾｲ","男",null,2]
[null,46821,"須藤","廉生","ｽﾄｳ","ﾚﾝｾｲ","男",null,2]
[null,46822,"山本","慎太朗","ﾔﾏﾓﾄ","ｼﾝﾀﾛｳ","男",null,2]
[null,46823,"上野","駿介","ｳｴﾉ","ｼｭﾝｽｹ","男",null,1]
[null,46824,"浦田","蓮太郎","ｳﾗﾀ","ﾚﾝﾀﾛｳ","男",null,1]
[null,46825,"内海","元希","ｳﾂﾐ","ﾓﾄｷ","男",null,1]
[null,46826,"奥冨","竜也","ｵｸﾄﾐ","ﾀﾂﾔ","男",null,1]
[null,46828,"佐久間","竜聖","ｻｸﾏ","ﾘｭｳｾｲ","男",null,1]
[null,46829,"南部","颯太","ﾅﾝﾌﾞ","ｿｳﾀ","男",null,1]
[null,46830,"林","健太","ﾊﾔｼ","ｹﾝﾀ","男",null,1]
[null,46831,"林","耕佐","ﾊﾔｼ","ｺｳｽｹ","男",null,1]
[null,46832,"藤原","太一","ﾌｼﾞﾜﾗ","ﾀｲﾁ","男",null,1]
[null,46833,"松崎","壮也","ﾏﾂｻﾞｷ","ｿｳﾔ","男",null,1]
[null,46834,"宮本","秀人","ﾐﾔﾓﾄ","ｼｭｳﾄ","男",null,1]
[null,46873,"小栁","友里","ｺﾔﾅｷﾞ","ﾕｳﾘ","女",null,3]
[null,46874,"石坂","明日香","ｲｼｻﾞｶ","ｱｽｶ","女",null,2]
[null,46875,"池原","唯純","ｲｹﾊﾗ","ｲｽﾞﾐ","女",null,2]
[null,46878,"鈴木","南都子","ｽｽﾞｷ","ﾅﾂｺ","女",null,1]
[null,46879,"渕上","倭圭","ﾌﾁｶﾞﾐ","ﾜｶ","女",null,1]
[null,46880,"水庭","夕香子","ﾐｽﾞﾆﾜ","ﾕｶｺ","女",null,1]
[null,46901,"五味","大樹","ｺﾞﾐ","ﾀｲｷ","男",null,2]
[null,46902,"北折","駿之祐","ｷﾀｵﾘ","ｼｭﾝﾉｽｹ","男",null,2]
[null,46903,"斎藤","晃央","ｻｲﾄｳ","ｺｵ","男",null,2]
[null,46904,"堀井","亮成","ﾎﾘｲ","ﾘｮｳｾｲ","男",null,2]
[null,46905,"菅野","耕作","ｽｶﾞﾉ","ｺｳｻｸ","男",null,2]
[null,46906,"桂","一晴","ｶﾂﾗ","ｲｯｾｲ","男",null,1]
[null,46907,"宇田川","康平","ｳﾀﾞｶﾞﾜ","ｺｳﾍｲ","男",null,2]
[null,46936,"青山","直史","ｱｵﾔﾏ","ﾅｵﾌﾐ","男",null,3]
[null,46939,"辻","悠斗","ﾂｼﾞ","ﾕｳﾄ","男",null,3]
[null,46940,"大出","裕士","ｵｵﾃﾞ","ﾋﾛｼ","男",null,3]
[null,46941,"山本","将大","ﾔﾏﾓﾄ","ﾏｻﾋﾛ","男",null,3]
[null,46942,"小倉","泰海","ｵｸﾞﾗ","ﾀｲｶﾞ","男",null,3]
[null,46943,"中島","秀斗","ﾅｶｼﾞﾏ","ｼｭｳﾄ","男",null,3]
[null,46944,"渡部","祥司朗","ﾜﾀﾍﾞ","ｼｮｳｼﾞﾛｳ","男",null,3]
[null,46945,"田代","駿之真","ﾀｼﾛ","ｼｭﾝﾉｼﾝ","男",null,2]
[null,46946,"三木","啓太","ﾐｷ","ｹｲﾀ","男",null,2]
[null,46947,"平野","岳","ﾋﾗﾉ","ｶﾞｸ","男",null,2]
[null,46948,"伊藤","雄大","ｲﾄｳ","ﾕｳﾀﾞｲ","男",null,2]
[null,46949,"菊地","慧","ｷｸﾁ","ｹｲ","男",null,2]
[null,46950,"大澤","颯太","ｵｵｻﾜ","ｿｳﾀ","男",null,2]
[null,46966,"大嶋","里菜","ｵｵｼﾏ","ﾘﾅ","女",null,3]
[null,46968,"笠原","未遥","ｶｻﾊﾗ","ﾐﾊﾙ","女",null,3]
[null,46969,"鳥居","奈々","ﾄﾘｲ","ﾅﾅ","女",null,3]
[null,46970,"小杉","茉由","ｺｽｷﾞ","ﾏﾕ","女",null,1]
[null,46971,"深澤","美南","ﾌｶｻﾞﾜ","ﾐﾅﾐ","女",null,1]
[null,47013,"原","彰吾","ﾊﾗ","ｼｮｳｺﾞ","男",null,3]
[null,47014,"藤田","仁","ﾌｼﾞﾀ","ｼﾞﾝ","男",null,3]
[null,47015,"齋藤","辰弥","ｻｲﾄｳ","ﾀﾂﾔ","男",null,3]
[null,47016,"小野寺","恒","ｵﾉﾃﾞﾗ","ﾋｻｼ","男",null,3]
[null,47017,"黒木","颯平","ｸﾛｷ","ｿｳﾍｲ","男",null,3]
[null,47018,"千葉","貴裕","ﾁﾊﾞ","ﾀｶﾋﾛ","男",null,3]
[null,47020,"藤森","俊也","ﾌｼﾞﾓﾘ","ｼｭﾝﾔ","男",null,3]
[null,47021,"飯塚","仁希太","ｲｲﾂﾞｶ","ﾆｷﾀ","男",null,2]
[null,47022,"香山","竜之介","ｶﾔﾏ","ﾘｭｳﾉｽｹ","男",null,2]
[null,47023,"川崎","奨央","ｶﾜｻｷ","ｼｮｳｵｳ","男",null,2]
[null,47024,"高倉","悠伸","ﾀｶｸﾗ","ﾕｳｼﾝ","男",null,2]
[null,47025,"小野寺","優朗","ｵﾉﾃﾞﾗ","ﾏｻｱｷ","男",null,2]
[null,47026,"中野","俊","ﾅｶﾉ","ｼｭﾝ","男",null,2]
[null,47027,"三枝","将人","ｻｴｸﾞｻ","ﾏｻﾄ","男",null,2]
[null,47028,"後藤","伊央利","ｺﾞﾄｳ","ｲｵﾘ","男",null,1]
[null,47029,"新川","翔貴","ｼﾝｶﾜ","ｼｮｳｷ","男",null,1]
[null,47030,"今村","恵祐","ｲﾏﾑﾗ","ｹｲｽｹ","男",null,1]
[null,47031,"片野","里駆","ｶﾀﾉ","ﾘｸ","男",null,1]
[null,47032,"山口","陸斗","ﾔﾏｸﾞﾁ","ﾘｸﾄ","男",null,1]
[null,47033,"蒲","龍樹","ｶﾊﾞ","ﾘｭｳｼﾞｭ","男",null,1]
[null,47034,"古田","蓮武","ﾌﾙﾀ","ﾚﾝ","男",null,1]
[null,47035,"松岡","蒼透","ﾏﾂｵｶ","ｱｵﾄ","男",null,1]
[null,47036,"金岡","一樹","ｶﾅｵｶ","ｶｽﾞｷ","男",null,1]
[null,47037,"竹内","大和","ﾀｹｳﾁ","ﾔﾏﾄ","男",null,1]
[null,47069,"秋山","鈴奈","ｱｷﾔﾏ","ﾚｲﾅ","女",null,3]
[null,47070,"天野","景衣","ｱﾏﾉ","ｹｲ","女",null,3]
[null,47071,"大濵","百花","ｵｵﾊﾏ","ﾓﾓｶ","女",null,3]
[null,47072,"香取","由真","ｶﾄﾘ","ﾕﾏ","女",null,3]
[null,47073,"間渕","桃奈","ﾏﾌﾞﾁ","ﾓﾓﾅ","女",null,3]
[null,47074,"山﨑","円香","ﾔﾏｻﾞｷ","ﾏﾄﾞｶ","女",null,3]
[null,47075,"吉岡","なな","ﾖｼｵｶ","ﾅﾅ","女",null,3]
[null,47076,"長谷川","吉子","ﾊｾｶﾞﾜ","ｻﾁｺ","女",null,3]
[null,47077,"木澤","七海","ｷｻﾞﾜ","ﾅﾅﾐ","女",null,3]
[null,47078,"清水","優美花","ｼﾐｽﾞ","ﾕﾐｶ","女",null,3]
[null,47079,"大塚","怜音","ｵｵﾂｶ","ﾚｵﾝ","女",null,3]
[null,47081,"小栗","愛海","ｵｸﾞﾘ","ﾏﾅﾐ","女",null,2]
[null,47082,"小松","遥","ｺﾏﾂ","ﾊﾙｶ","女",null,2]
[null,47083,"山口","明日香","ﾔﾏｸﾞﾁ","ｱｽｶ","女",null,2]
[null,47084,"藤原","ゆうか","ﾌｼﾞﾜﾗ","ﾕｳｶ","女",null,2]
[null,47085,"堀井","颯空","ﾎﾘｲ","ｿﾗ","女",null,2]
[null,47086,"本橋","夏希","ﾓﾄﾊｼ","ﾅﾂｷ","女",null,2]
[null,47087,"竹内","栞萌","ﾀｹｳﾁ","ｶﾎ","女",null,1]
[null,47088,"山本","菜奈葉","ﾔﾏﾓﾄ","ﾅﾅﾊ","女",null,1]
[null,47089,"虻川","瑞希","ｱﾌﾞｶﾜ","ﾐｽﾞｷ","女",null,1]
[null,47090,"柴沼","夏奈","ｼﾊﾞﾇﾏ","ｶﾅ","女",null,1]
[null,47091,"宮","三怜","ﾐﾔ","ﾐﾚｲ","女",null,1]
[null,47092,"四郎丸","幸海","ｼﾛｳﾏﾙ","ﾕｷﾐ","女",null,1]
[null,47093,"久保田","京花","ｸﾎﾞﾀ","ｷｮｳｶ","女",null,1]
[null,47094,"落合","理名","ｵﾁｱｲ","ﾘﾅ","女",null,1]
[null,47095,"桑田","夏帆","ｸﾜﾀ","ｶﾎ","女",null,1]
[null,47096,"堤","麻柚子","ﾂﾂﾐ","ﾏﾕｺ","女",null,1]
[null,47113,"池濱","翼","ｲｹﾊﾏ","ﾂﾊﾞｻ","男",null,3]
[null,47116,"小川","晃生","ｵｶﾞﾜ","ｺｳｷ","男",null,2]
[null,47117,"久保田","瑶生","ｸﾎﾞﾀ","ﾖｳｾｲ","男",null,2]
[null,47118,"長谷川","由","ﾊｾｶﾞﾜ","ﾕｳ","男",null,2]
[null,47119,"阿出川","嵩","ｱﾃﾞｶﾞﾜ","ｼｭｳ","男",null,2]
[null,47120,"大高","尚輝","ｵｵﾀｶ","ﾅｵｷ","男",null,2]
[null,47121,"髙橋","陽南","ﾀｶﾊｼ","ﾋﾅﾀ","男",null,2]
[null,47123,"礒津","良太","ｲｿﾂﾞ","ﾘｮｳﾀ","男",null,1]
[null,47124,"内田","颯一郎","ｳﾁﾀﾞ","ｿｳｲﾁﾛｳ","男",null,1]
[null,47125,"櫻井","晴","ｻｸﾗｲ","ﾊﾙ","男",null,1]
[null,47126,"辻井","亮羽","ﾂｼﾞｲ","ﾘｮｳ","男",null,1]
[null,47127,"長澤","壮大","ﾅｶﾞｻﾜ","ｿｳﾀ","男",null,1]
[null,47128,"野澤","雅治","ﾉｻﾞﾜ","ﾏｻﾊﾙ","男",null,1]
[null,47152,"野中","かおり","ﾉﾅｶ","ｶｵﾘ","女",null,2]
[null,47155,"阿部","百花","ｱﾍﾞ","ﾓﾓｶ","女",null,1]
[null,47156,"川住","伊代","ｶﾜｽﾐ","ｲﾖ","女",null,1]
[null,47157,"宮澤","希々","ﾐﾔｻﾞﾜ","ﾈﾈ","女",null,1]
[null,47158,"矢部","恵子","ﾔﾍﾞ","ｹｲｺ","女",null,1]
[null,47188,"井上","京香","ｲﾉｳｴ","ｷｮｳｶ","女",null,3]
[null,47189,"久保田","凪沙","ｸﾎﾞﾀ","ﾅｷﾞｻ","女",null,3]
[null,47190,"若杉","栞南","ﾜｶｽｷﾞ","ｶﾝﾅ","女",null,3]
[null,47191,"宇田川","真優","ｳﾀﾞｶﾞﾜ","ﾏﾕ","女",null,3]
[null,47192,"佐藤","緑彩","ｻﾄｳ","ﾂｶｻ","女",null,3]
[null,47193,"常山","ほのか","ﾂﾈﾔﾏ","ﾎﾉｶ","女",null,3]
[null,47194,"河邊","咲","ｶﾜﾍﾞ","ｻｷ","女",null,2]
[null,47195,"髙橋","怜","ﾀｶﾊｼ","ﾚｲ","女",null,2]
[null,47199,"吉野","萌","ﾖｼﾉ","ﾓｴ","女",null,2]
[null,47252,"西田","あすか","ﾆｼﾀﾞ","ｱｽｶ","女",null,3]
[null,47254,"西貝","美羽","ﾆｼｶﾞｲ","ﾐﾊ","女",null,3]
[null,47255,"本名","未歩","ﾎﾝﾅ","ﾐﾎ","女",null,3]
[null,47256,"小八重","結香","ｺﾔｴ","ﾕｲｶ","女",null,2]
[null,47259,"石田","絵莉","ｲｼﾀﾞ","ｴﾘ","女",null,2]
[null,47260,"大坪","碧良","ｵｵﾂﾎﾞ","ｿﾗ","女",null,1]
[null,47261,"内藤","凜乃","ﾅｲﾄｳ","ﾘﾝﾉ","女",null,1]
[null,47262,"渡辺","春乃","ﾜﾀﾅﾍﾞ","ﾊﾙﾉ","女",null,1]
[null,47373,"後藤","遥希","ｺﾞﾄｳ","ﾊﾙｷ","女",null,2]
[null,47374,"谷","愛央","ﾀﾆ","ﾏﾅｵ","女",null,2]
[null,47375,"寺田","彩夏","ﾃﾗﾀﾞ","ｱﾔｶ","女",null,2]
[null,47378,"村田","桃萌","ﾑﾗﾀ","ﾓﾓｴ","女",null,2]
[null,47379,"山越","采佳","ﾔﾏｺﾞｼ","ｱﾔｶ","女",null,2]
[null,47380,"酒井","萌花","ｻｶｲ","ﾓｶ","女",null,1]
[null,47381,"丹野","咲羽子","ﾀﾝﾉ","ｻﾜｺ","女",null,1]
[null,47382,"加藤","未宇","ｶﾄｳ","ﾐｳ","女",null,1]
[null,47383,"田口","真理子","ﾀｸﾞﾁ","ﾏﾘｺ","女",null,1]
[null,47384,"壬生","まほ","ﾐﾌﾞ","ﾏﾎ","女",null,1]
[null,47385,"八木","沙和","ﾔｷﾞ","ｻﾜ","女",null,1]
[null,47514,"望月","拓朗","ﾓﾁﾂﾞｷ","ﾀｸﾛｳ","男",null,3]
[null,47516,"田中","快治","ﾀﾅｶ","ﾖｼﾊﾙ","男",null,1]
[null,47517,"原","英司","ﾊﾗ","ｴｲｼﾞ","男",null,1]
[null,47567,"田村","彩七","ﾀﾑﾗ","ｱﾔﾅ","女",null,3]
[null,47568,"畠山","貴圭","ﾊﾀｹﾔﾏ","ｱﾂｶ","女",null,3]
[null,47569,"濵島","祐貴子","ﾊﾏｼﾏ","ﾕｷｺ","女",null,2]

{"sheet":"ﾃﾞｰﾀ","index":8,"n_rows":62,"n_cols":17,"rows_kept":62,"cut":false,"hidden":true,"merged":[]}
[null,"ｺｰﾄﾞ",null,null,null,"ﾘﾚｰ","男",null,"女",null,null,null,"元"]
["種目","男","女",null,null,null,"4×100","4×400","4×100","4×400",null,"種目","男","女"]
["100m",1001,2001,1,null,"A1",11,111,211,311,null,"100m",1001,2001,1,null,"○"]
["200m",1002,2002,2,null,"A2",12,112,212,312,null,"200m",1002,2002,2]
["400m",1004,2004,3,null,"A3",13,113,213,313,null,"400m",1004,2004,3]
["800m",1008,2008,4,null,"A4",14,114,214,314,null,"800m",1008,2008,4]
["1500m",1015,2015,5,null,"A5",15,115,215,315,null,"1500m",1015,2015,5]
["5000m",1050,2050,7,null,"A6",16,116,216,316,null,"3000m",1030,2030,6]
["110mH",1201,null,9,null,"B1",21,121,221,321,null,"5000m",1050,2050,7]
["400mH",1204,2204,10,null,"B2",22,122,222,322,null,"100mH",null,2201,8]
["走高跳",1801,2801,13,null,"B3",23,123,223,323,null,"110mH",1201,null,9]
["棒高跳",1802,2802,14,null,"B4",24,124,224,324,null,"400mH",1204,2204,10]
["走幅跳",1803,2803,15,null,"B5",25,125,225,325,null,"3000mSC",1230,null,11]
["三段跳",1804,2804,16,null,"B6",26,126,226,326,null,"5000mW",1250,1250,12]
["砲丸投",1901,2901,17,null,"C1",31,131,231,331,null,"走高跳",1801,2801,13]
["円盤投",1902,2902,20,null,"C2",32,132,232,332,null,"棒高跳",1802,2802,14]
["やり投",1904,2904,22,null,"C3",33,133,233,333,null,"走幅跳",1803,2803,15]
["100m",1001,2001,1,null,"C4",34,134,234,334,null,"三段跳",1804,2804,16]
["200m",1002,2002,2,null,"C5",35,135,235,335,null,"砲丸投",1901,2901,17]
["400m",1004,2004,3,null,"C6",36,136,236,336,null,"円盤投",1902,2902,20]
["800m",1008,2008,4,null,"D1",41,141,241,341,null,"ﾊﾝﾏｰ投",1903,2903,21]
["1500m",1015,2015,5,null,"D2",42,142,242,342,null,"やり投",1904,2904,22]
["3000m",1030,2030,6,null,"D3",43,143,243,343,null,"男4×100",1400,null,21]
["100mH",null,2201,8,null,"D4",44,144,244,344,null,"男4×400",1600,null,22]
["400mH",1204,2204,10,null,"D5",45,145,245,345,null,"100m",1001,2001,1]
["走高跳",1801,2801,13,null,"D6",46,146,246,346,null,"200m",1002,2002,2]
["棒高跳",1802,2802,14,null,"E1",51,151,251,351,null,"400m",1004,2004,3]
["走幅跳",1803,2803,15,null,"E2",52,152,252,352,null,"800m",1008,2008,4]
["三段跳",1804,2804,16,null,"E3",53,153,253,353,null,"1500m",1015,2015,5]
["砲丸投",1901,2901,17,null,"E4",54,154,254,354,null,"3000m",1030,2030,6]
["円盤投",1902,2902,20,null,"E5",55,155,255,355,null,"5000m",1050,2050,7]
["やり投",1904,2904,22,null,"E6",56,156,256,356,null,"100mH",null,2201,8]
[null,null,null,null,null,"F1",61,161,261,361,null,"110mH",1201,null,9]
[null,null,null,null,null,"F2",62,162,262,362,null,"400mH",1204,2204,10]
[null,null,null,null,null,"F3",63,163,263,363,null,"3000mSC",1230,null,11]
[null,null,null,null,null,"F4",64,164,264,364,null,"5000mW",1250,1250,12]
[null,null,null,null,null,"F5",65,165,265,365,null,"走高跳",1801,2801,13]
[null,null,null,null,null,"F6",66,166,266,366,null,"棒高跳",1802,2802,14]
[null,null,null,null,null,"G1",71,171,271,371,null,"走幅跳",1803,2803,15]
[null,null,null,null,null,"G2",72,172,272,372,null,"三段跳",1804,2804,16]
[null,null,null,null,null,"G3",73,173,273,373,null,"砲丸投",1901,2901,17]
[null,null,null,null,null,"G4",74,174,274,374,null,"円盤投",1902,2902,20]
[null,null,null,null,null,"G5",75,175,275,375,null,"ﾊﾝﾏｰ投",1903,2903,21]
[null,null,null,null,null,"G6",76,176,276,376,null,"やり投",1904,2904,22]
[null,null,null,null,null,"H1",81,181,281,381,null,"女4×100",null,2400]
[null,null,null,null,null,"H2",82,182,282,382,null,"女4×400",null,2600]
[null,null,null,null,null,"H3",83,183,283,383,null,"男中学砲丸投",5901,5902,18]
[null,null,null,null,null,"H4",84,184,284,384,null,"女中学砲丸投",5902,5902,19]
[null,null,null,null,null,"H5",85,185,285,385]
[null,null,null,null,null,"H6",86,186,286,386]
[null,null,null,null,null,"I1",91,191,291,391]
[null,null,null,null,null,"I2",92,192,292,392]
[null,null,null,null,null,"I3",93,193,293,393]
[null,null,null,null,null,"I4",94,194,294,394]
[null,null,null,null,null,"I5",95,195,295,395]
[null,null,null,null,null,"I6",96,196,296,396]
[null,null,null,null,null,"J1",101,201,301,401]
[null,null,null,null,null,"J2",102,202,302,402]
[null,null,null,null,null,"J3",103,203,303,403]
[null,null,null,null,null,"J4",104,204,304,404]
[null,null,null,null,null,"J5",105,205,305,405]
[null,null,null,null,null,"J6",106,206,306,406]